{"text_format":"1","workbook":"xlsx","n_sheets":64,"sheets":["Menu","Info","Info_2","ARiMR_Pozostałe","Nr_stad","Lochy","Tuczniki","Swinie_inne(P)","Swinie_inne(T)","Krowy_MLECZNE_powierzch","Bydlo_mlecz_inn","Krowy_MIĘSNE_powierzch","Krowy_MIĘSNE_zewn","Opasy_pow","Opasy_pow_2","Opasy_pow_wyb","N_W_1_1","N_W_1_2","N_W_1_1_in","N_IN_SW","B_ML_N","N_W_2_2","N_W_2_3","Owce_info","Owce_pow (1)","Owce_pow (2)","Owce_pow (3)","Owce_pow (4)","Owce_pow (5)","Owce_N","Kury_nioski_pow","Kury_nioski","Brojlery_kur_pow","Brojlery_kur","Brojlery_ind_pow","Brojlery_ind","Opasy","Konie_byt","Konie_otw","Konie","Konie_ogiery","Kozy_info","Kozy_pow (1)","Kozy_N","Kozy","Kozy_pow (2)","Kozy_pow (3)","ARiMR_Lochy","ARiMR_Pozostałe (2)","1_Wymogi_LOCHY_rozgęszczenie","1_Lochy_2","2_Wymogi_TUCZNIKI_rozgęszcz","4_Wymogi_MLECZNE_rozgęszcz","5_Wymogi_MIĘSNE_rozgęszcz","6_Wymogi_OWCE_rozgeszcz","7_Wym_kur_nios","8_Wym_broj_kur","9_Wym_indyk","10_Wym_opas_b","11_Wym_opas_b_pas","12_Wym_konie_b","13_Wym_konie_ot","14_Wym_kozy","Stawki"],"not_rendered":{"charts":0,"images":11,"macros":1,"external_links":0,"defined_names":87,"comments":20,"pivot_tables":0},"unopened":[],"bounds":{"document_bytes":16777216,"sheet_cells":100000,"rows_first":2000,"rows_last":500,"rows_between":2000,"halvings":0,"cell_chars":16384,"cell_head_chars":4096},"cells_cut":0,"cells_raw":0,"read":"whole","date_system":"1900"}

{"sheet":"Menu","index":0,"n_rows":40,"n_cols":10,"rows_kept":40,"cut":false,"hidden":false,"merged":[]}
[]
[null,"Wersja 2.1\n25 kwietnia 2024 roku\nPLAN POPRAWY DOBROSTANU ZWIERZĄT",null,null,null,null,null,null,null,"Uwagi"]
[]
[null,"Dane rolnika realizującego dobrostan "]
[null,"Wykaz wariantów"]
[null,"1. Dobrostan loch",null,null,null,null,null,{"$f":"Info_2!R8","v":false}]
[null,"2. Dobrostan tuczników",null,null,null,null,null,{"$f":"Info_2!R9","v":false}]
[null,"3. Dobrostan krów mlecznych",null,null,null,null,null,{"$f":"Info_2!R10","v":false}]
[null,null,null,null,null,null,null,{"$f":"FALSE()","v":false}]
[null,"4. Dobrostan krów mamek utrzymywanych w pomieszczeniach lub w budynkach",null,null,null,null,null,{"$f":"Info_2!R11","v":false}]
[null,"5. Dobrostan krów mamek utrzymywanych w systemie otwartym",null,null,null,null,null,{"$f":"Info_2!R12","v":false}]
[null,"6. Dobrostan opasów",null,null,null,null,null,{"$f":"Info_2!R13","v":false},null,{"$f":"IF(AND(Info_2!$R$11,Info_2!$R$13),FALSE,Info_2!$R$13)","v":false}]
[null,"7. Dobrostan owiec ",null,null,null,null,null,{"$f":"Info_2!R14","v":false}]
[null,"8. Dobrostan kur niosek",null,null,null,null,null,{"$f":"Info_2!R15","v":false}]
[null,"9. Dobrostan kurcząt brojlerów",null,null,null,null,null,{"$f":"Info_2!R16","v":false}]
[null,"10. Dobrostan indyków utrzymywanych z przeznaczeniem do produkcji mięsa",null,null,null,null,null,{"$f":"Info_2!R17","v":false}]
[null,"11. Dobrostan koni utrzymywanych w pomieszczeniach lub w budynkach",null,null,null,null,null,{"$f":"Info_2!R18","v":false}]
[null,"12. Dobrostan koni utrzymywanych w systemie otwartym",null,null,null,null,null,{"$f":"Info_2!R19","v":false}]
[null,"13. Dobrostan kóz",null,null,null,null,null,{"$f":"Info_2!R20","v":false}]
[null,"Świnie nieobjęte podwyższonymi wymogami Wariantu 1. lub 2.:",null,null,null,null,null,{"$f":"OR(H21,H22)","v":false}]
[null,"Świnie stada podstawowego i remontowe (hodowlane)",null,null,null,null,null,{"$f":"IF(OR(H6=TRUE,H7=TRUE),TRUE,FALSE)","v":false}]
[null,"Warchlaki i tuczniki",null,null,null,null,null,{"$f":"IF(AND(H7=FALSE,H6=TRUE),TRUE,FALSE)","v":false}]
[null,"Bydło nieobjęte podwyższonymi wymogami wariantu 3. Dobrostan krów mlecznych,  wariantu 4. Dobrostan krów mamek utrzymywanych w pomieszczeniach lub w budynkach oraz wariantu 6. Dobrostan opasów:",null,null,null,null,null,{"$f":"H24","v":false}]
[null,"Bydło nieobjęte ekoschematem dobrostan zwierząt",null,null,null,null,null,{"$f":"OR(H8,H10,H12)","v":false}]
[null,null,null,null,null,null,null,{"$f":"H26","v":true}]
[null,"Informacje z Planu poprawy dobrostanu zwierząt",null,null,null,null,null,{"$f":"TRUE","v":true}]
[null,null,null,null,null,null,null,{"$f":"OR(H28,H29)","v":false}]
[null,"WYBRANE WYMOGI:",null,null,null,null,null,{"$f":"H6","v":false}]
[null,"1. Dobrostan loch",null,null,null,null,null,{"$f":"H7","v":false}]
[null,"2. Dobrostan tuczników"]
[null,"3. Dobrostan krów mlecznych",null,null,null,null,null,{"$f":"H6","v":false}]
[null,"4. Dobrostan krów mamek",null,null,null,null,null,{"$f":"H7","v":false}]
[null,"5. Dobrostan opasów",null,null,null,null,null,{"$f":"H23","v":false}]
[null,"6. Dobrostan owiec ",null,null,null,null,null,{"$f":"H24","v":false}]
[null,"7. Dobrostan kur niosek"]
[null,"8. Dobrostan kurcząt brojlerów"]
[null,"9. Dobrostan indyków utrzymywanych z przeznaczeniem na produkcję mięsa"]
[null,"10. Dobrostan koni – zwiększona powierzchnia bytowa"]
[null,"11. Dobrostan koni – system otwarty"]
[null,"12. Dobrostan kóz"]

{"sheet":"Info","index":1,"n_rows":39,"n_cols":20,"rows_kept":39,"cut":false,"hidden":false,"merged":[[10,5,10,7],[38,5,38,7],[38,8,38,10],[33,3,33,4],[33,5,33,7],[33,8,33,10],[34,4,34,6],[36,3,36,4],[37,3,37,4],[38,3,38,4],[23,5,23,7],[23,8,23,10],[22,3,22,4],[22,5,22,7],[22,8,22,10],[35,7,35,10],[3,2,3,12],[5,2,5,12],[8,3,8,12],[13,3,13,8],[19,4,19,6],[19,7,19,10],[9,5,9,7],[17,5,17,7],[16,5,16,7],[17,8,17,10],[16,8,16,10],[18,4,18,6],[4,2,4,12],[14,3,14,8],[16,3,16,4],[17,3,17,4],[39,3,39,4],[39,5,39,7],[39,8,39,10],[9,9,9,11],[40,3,40,11],[25,3,25,11],[32,8,32,10],[26,3,26,10],[23,3,23,4],[20,3,20,4],[18,7,18,10],[21,3,21,4],[27,3,27,6],[27,7,27,10],[28,7,28,10],[35,4,35,6],[29,7,29,10],[30,7,30,10],[28,3,30,6],[34,7,34,10],[32,3,32,4],[32,5,32,7],[31,3,31,10]]}
[null,null,"Uwaga !!! Po wydrukowaniu uzupełnić ręcznie Oświadczenie i czytelnie podpisać",null,null,null,null,null,null,null,null,"POWRÓT",null,null,null,null,null,null,null,"Uwagi"]
[]
[]
[null,null,"Ekoschemat – Dobrostan zwierząt "]
[null,null,"PLAN POPRAWY DOBROSTANU ZWIERZĄT"]
[null,null,"I. Część ogólna "]
[null,null,"I.1.","Cel "]
[null,null,null,{"$f":"IF($R$8=1,$S$8,S9)","v":"☒"},"Złożenie planu",null,null,{"$f":"IF($R$8=2,$S$8,S9)","v":"☐"},"Zmiana planu",null,null,null,null,null,null,null,null,1,"☒"]
[null,null,"I.2.","Dane rolnika realizującego dobrostan ",null,null,null,null,null,null,null,null,null,null,null,null,null,null,"☐"]
[null,null,"I.2.1","Numer identyfikacyjny - PL",null,null,null,null,null,null,null,null,null,null,null,null,null,null,null,"Uzgodnienia z MRiRW w dniu 14.03.23"]
[null,null,null,"Numer weterynaryjny)* - PL"]
[null,null,null,")*  dotyczy drobiu"]
[null,null,"I.2.2","Rolnik realizujący dobrostan "]
[null,null,null,"Nazwisko i imię rolnika / nazwa "]
[]
[null,null,"I.2.3","Adres rolnika realizującego dobrostan "]
[null,null,null," Województwo",null,"Powiat",null,null,"Gmina"]
[]
[null,null,null," Kod pocztowy","Poczta",null,null,"Miejscowość"]
[]
[null,null,null,"Ulica",null,"Nr domu"," Nr lokalu"]
[]
[null,null,null,"Telefon komórkowy",null,"Telefon stacjonarny",null,null,"E-mail"]
[]
[]
[null,null,"I.3.","Dane podmiotu doradczego i doradcy rolniczego, przy udziale którego został sporządzony plan poprawy dobrostanu zwierząt"]
[null,null,"I.3.1","Podmiot doradczy i doradca rolniczy"]
[null,null,null,"Nazwa podmiotu doradczego",null,null,null,"Nazwisko i imię doradcy"]
[]
[null,null,null,null,null,null,null,"Numer uprawnień"]
[]
[null,null,"I.3.2","Adres doradcy rolniczego"]
[null,null,null," Województwo",null,"Powiat",null,null,"Gmina"]
[]
[null,null,null," Kod pocztowy","Poczta",null,null,"Miejscowość"]
[]
[null,null,null,"Ulica",null,"Nr domu"," Nr lokalu"]
[]
[null,null,null,"Telefon komórkowy",null,"Telefon stacjonarny",null,null,"E-mail"]

{"sheet":"Info_2","index":2,"n_rows":40,"n_cols":20,"rows_kept":40,"cut":false,"hidden":false,"merged":[[27,10,27,11],[31,3,31,11],[32,3,32,11],[29,3,29,10],[37,3,37,6],[37,8,37,11],[33,3,33,6],[33,8,33,11],[34,3,34,6],[34,8,34,11],[35,3,35,11],[27,3,27,4],[27,6,27,8],[39,8,39,11],[36,3,36,6],[36,8,36,11],[38,9,38,11],[38,6,38,7],[39,6,39,7],[39,3,39,4],[38,3,38,4],[21,3,21,10],[20,3,20,11],[22,3,22,11],[23,4,23,10],[25,3,25,4],[25,6,25,8],[25,10,25,11],[24,3,24,6],[8,4,8,11],[9,4,9,11],[12,4,12,11],[13,4,13,11],[10,4,10,11],[11,4,11,11],[3,2,3,12],[4,2,4,12],[5,3,5,10],[6,4,6,10],[7,4,7,11],[19,4,19,11],[14,4,14,11],[15,4,15,11],[16,4,16,11],[17,4,17,11],[18,4,18,11]]}
[null,null,"Uwaga !!! Po wydrukowaniu uzupełnić ręcznie Oświadczenie i czytelnie podpisać",null,null,null,null,null,null,null,null,"POWRÓT",null,null,null,null,null,null,null,"Uwagi"]
[]
[]
[]
[null,null,"I. Część ogólna (cd.)"]
[null,null,"I.4.1.","Wykaz wariantów, realizowanych w ramach dobrostanu"]
[null,null,null,null,null,null,null,null,null,null,null,null,null,null,null,null,null,null,"☒"]
[null,null,null,{"$f":"IF(R8=TRUE,$S$7,$S$8)","v":"☐"},"1. Dobrostan loch",null,null,null,null,null,null,null,null,null,null,null,null,false,"☐"]
[null,null,null,{"$f":"IF(R9=TRUE,$S$7,$S$8)","v":"☐"},"2. Dobrostan tuczników",null,null,null,null,null,null,null,null,null,null,null,null,false]
[null,null,null,"☐","3. Dobrostan krów mlecznych",null,null,null,null,null,null,null,null,null,null,null,null,false]
[null,null,null,{"$f":"IF(R11=TRUE,$S$7,$S$8)","v":"☐"},"4. Dobrostan krów mamek utrzymywanych w pomieszczeniach lub w budynkach",null,null,null,null,null,null,null,null,null,null,null,null,false]
[null,null,null,{"$f":"IF(R12=TRUE,$S$7,$S$8)","v":"☐"},"5. Dobrostan krów mamek utrzymywanych w systemie otwartym",null,null,null,null,null,null,null,null,null,null,null,null,false]
[null,null,null,"☐","6. Dobrostan opasów",null,null,null,null,null,null,null,null,null,null,null,null,false]
[null,null,null,"☐","7. Dobrostan owiec ",null,null,null,null,null,null,null,null,null,null,null,null,false]
[null,null,null,"☐","8. Dobrostan kur niosek",null,null,null,null,null,null,null,null,null,null,null,null,false]
[null,null,null,"☐","9. Dobrostan kurcząt brojlerów",null,null,null,null,null,null,null,null,null,null,null,null,false]
[null,null,null,"☐","10. Dobrostan indyków utrzymywanych z przeznaczeniem do produkcji mięsa",null,null,null,null,null,null,null,null,null,null,null,null,false]
[null,null,null,"☐","11. Dobrostan koni utrzymywanych w pomieszczeniach lub w budynkach",null,null,null,null,null,null,null,null,null,null,null,null,false]
[null,null,null,"☐","12. Dobrostan koni utrzymywanych w systemie otwartym",null,null,null,null,null,null,null,null,null,null,null,null,false]
[null,null,null,"☐","13. Dobrostan kóz",null,null,null,null,null,null,null,null,null,null,null,null,false]
[null,null,null,"Informacja o konieczności przerejestrowania w rejestrze zwierząt"]
[null,null,null,"Rolnik został poinformowany przez doradcę rolniczego o konieczności dokonania zgłoszenia w komputerowej bazie danych o której mowa w przepisach o systemie identyfikacji i rejestracji zwierząt, odpowiednio zmiany typu użytkowego kombinowanego krów na typ użytkowy mleczny lub typ użytkowy mięsny lub zgłoszenia mlecznego lub mięsnego kierunku ich użytkowania, a w przypadku wariantu Dobrostan krów mamek utrzymywanych w pomieszczeniach lub budynkach lub wariantu Dobrostan krów mamek utrzymywanych w systemie otwartym – dodatkowo o konieczności dokonania zgłoszenia – również zmiany typu użytkowego kombinowanego cieląt, jałówek i bydła opasowego o masie ciała do 300 kg na typ użytkowy mleczny lub typ użytkowy mięsny lub zgłoszenia mlecznego lub mięsnego kierunku ich użytkowania.\nDodatkowo rolnik został poinformowany przez doradcę rolniczego o konieczności dokonania zgłoszenia w komputerowej bazie danych o przeznaczeniu bydła do opasu dla wariantu Dobrostan opasów.",null,null,null,null,null,null,null,{"$f":"IF(R22=TRUE,\"TAK\",\"NIE\")","v":"TAK"},null,null,null,null,null,true,null,"Uzgodnienia z MRiRW w dniu 14.03.23"]
[null,null,"I.4.2.","Dane siedzib stad innych posiadaczy "]
[null,null,null,null,"Moje zwierzęta przebywają w budynku ze zwierzętami innego posiadacza",null,null,null,null,null,null,{"$f":"IF(R24=TRUE,\"TAK\",\"NIE\")","v":"NIE"},null,null,null,null,null,false]
[null,null,null,"Numery siedzib stad innych posiadaczy:"]
[]
[]
[null,null,null,null,null,null,null,null,null,null,null,null,null,null,null,null,{"$f":"COUNTA(D26,G26,K26,D28,G28,K28)","v":0}]
[]
[null,null,null,"W przypadku pomieszczeń inwentarskich współdzielonych z innymi posiadaczami są wydzielone sekcje dla zwierząt innych posiadaczy",null,null,null,null,null,null,null,"NIE",null,null,null,null,"TAK"]
[null,null,null,null,null,null,null,null,null,null,null,null,null,null,null,null,"NIE"]
[null,null,"I.5.","Oświadczenie rolnika o przekazaniu pełnych i prawdziwych danych niezbędnych do sporządzenia planu poprawy dobrostanu zwierząt"]
[null,null,null,"Oświadczam, że dane przekazane do sporządzenia planu  poprawy dobrostanu zwierząt  są pełne i prawdziwe."]
[]
[null,null,null,"(miejscowość i data)",null,null,null,null,"(czytelny podpis rolnika)"]
[null,null,"I.6.","Podpisy i data sporządzenia planu poprawy dobrostanu zwierząt"]
[]
[null,null,null,"(miejscowość)",null,null,null,null,"(data sporządzenia/zmiany planu)"]
[]
[null,null,null,"(miejscowość i data)",null,null,"(czytelny podpis doradcy)",null,"(czytelny podpis rolnika)"]

{"sheet":"ARiMR_Pozostałe","index":3,"n_rows":75,"n_cols":19,"rows_kept":75,"cut":false,"hidden":false,"merged":[[74,3,74,10],[74,11,74,12],[47,3,47,10],[72,3,72,10],[67,3,67,4],[67,5,67,7],[68,3,68,10],[69,3,69,10],[59,3,59,10],[58,3,58,13],[66,11,66,12],[62,3,62,13],[60,11,60,12],[73,3,73,10],[56,3,56,10],[61,3,61,13],[2,2,3,13],[31,3,31,4],[31,5,31,7],[34,3,34,4],[34,5,34,7],[20,3,20,10],[13,3,13,10],[14,3,14,10],[17,3,17,10],[18,3,18,10],[15,3,15,10],[5,3,5,8],[6,3,6,10],[28,3,28,10],[7,3,7,10],[8,3,8,10],[9,3,9,10],[60,3,60,10],[55,3,55,13],[40,5,40,7],[41,3,41,10],[37,3,37,4],[37,5,37,7],[43,3,43,4],[23,3,23,10],[38,3,38,10],[40,3,40,4],[32,3,32,10],[11,10,11,11],[12,3,12,10],[16,3,16,8],[16,10,16,11],[63,3,63,4],[63,5,63,7],[66,3,66,10],[35,3,35,10],[11,3,11,8],[53,3,53,10],[43,5,43,7],[49,3,49,11],[50,3,50,10],[44,3,44,10],[52,3,52,13],[70,3,70,10],[70,11,70,12],[71,3,71,4],[71,5,71,7],[64,3,64,10],[65,3,65,10]]}
[null,null,null,null,null,null,null,null,null,null,null,null,null,null,null,"POWRÓT"]
[]
[null,null,"Dodatkowy dokument dla ARiMR"]
[]
[null,null,"Informacje z Planu poprawy dobrostanu zwierząt:"]
[null,null,"II.1.","Dobrostan loch ",null,null,null,null,null,null,null,null,null,null,null,null,null,{"$f":"Info_2!R8","v":false}]
[null,null,null,"Posiadane powierzchnie bytowe w pomieszczeniach lub w budynkach przeznaczonych dla loch i loszek po pokryciu",null,null,null,null,null,null,null,{"$f":"Lochy!L128","v":0},"m2",null,null,null,null,{"$f":"R6","v":false}]
[null,null,null,"Posiadane powierzchnie bytowe w pomieszczeniach lub w budynkach przeznaczonych  dla świń (bez prosiąt nieodsadzonych)",null,null,null,null,null,null,null,{"$f":"Tuczniki!M122+'Swinie_inne(P)'!L123+'Swinie_inne(T)'!M122","v":0},"m2",null,null,null,null,{"$f":"R7","v":false}]
[null,null,null,"Maksymalna liczba loch i loszek po pokryciu, które ze względu na wymogi wariantu mogą być utrzymywane jednocześnie w danym gospodarstwie",null,null,null,null,null,null,null,{"$f":"Lochy!S128","v":0},"szt.",null,null,null,null,false]
[null,null,null,"Maksymalna liczba świń (bez prosiąt nieodsadzonych), które ze względu na wymogi wariantu mogą być utrzymywane jednocześnie w danym gospodarstwie",null,null,null,null,null,null,null,{"$f":"Tuczniki!O127+'Swinie_inne(P)'!S123+'Swinie_inne(T)'!O127+Lochy!S128","v":0},"szt.",null,null,null,null,false]
[null,null,null,null,null,null,null,null,null,null,null,null,null,null,null,null,null,false]
[null,null,"II.2.","Dobrostan tuczników",null,null,null,null,null,null,null,null,null,null,null,null,null,{"$f":"Info_2!R9","v":false}]
[null,null,null,"Posiadane powierzchnie bytowe w pomieszczeniach lub w budynkach przeznaczonych dla warchlaków i tuczników ",null,null,null,null,null,null,null,{"$f":"Tuczniki!M122","v":0},"m2",null,null,null,null,{"$f":"R12","v":false}]
[null,null,null,"Posiadane powierzchnie bytowe w pomieszczeniach lub w budynkach przeznaczonych  dla świń (bez prosiąt nieodsadzonych)",null,null,null,null,null,null,null,{"$f":"Lochy!L128+'Swinie_inne(P)'!L123+'Swinie_inne(T)'!M122","v":0},"m2",null,null,null,null,{"$f":"R13","v":false}]
[null,null,null,"Maksymalna liczba warchlaków i tuczników, które ze względu na wymogi wariantu mogą być utrzymywane jednocześnie w danym gospodarstwie",null,null,null,null,null,null,null,{"$f":"Tuczniki!O127","v":0},"szt.",null,null,null,null,false]
[null,null,null,"Maksymalna liczba świń (bez prosiąt nieodsadzonych), które ze względu na wymogi wariantu mogą być utrzymywane jednocześnie w danym gospodarstwie",null,null,null,null,null,null,null,{"$f":"Tuczniki!O127+'Swinie_inne(P)'!S123+'Swinie_inne(T)'!O127+Lochy!S128","v":0},"szt.",null,null,null,null,false]
[null,null,"II.3.","Dobrostan krów mlecznych",null,null,null,null,null,null,null,null,null,null,null,null,null,{"$f":"Info_2!R10","v":false}]
[null,null,null,"Dopuszczalna maksymalna liczba krów mlecznych, które ze względu na wymogi wariantu, mogą przebywać jednocześnie w gospodarstwie rolnym wynosi",null,null,null,null,null,null,null,{"$f":"Krowy_MLECZNE_powierzch!L125+Krowy_MLECZNE_powierzch!J187","v":0},"szt",null,null,null,null,{"$f":"R17","v":false}]
[null,null,null,null,null,null,null,null,null,null,null,null,null,null,null,null,null,{"$f":"R18","v":false}]
[null,null,"II.4.","Dobrostan krów mamek utrzymywanych w pomieszczeniach lub w budynkach",null,null,null,null,null,null,null,null,null,null,null,null,null,{"$f":"Info_2!R11","v":false}]
[null,null,null,"Wielkość posiadanej powierzchni bytowej w pomieszczeniach lub w budynkach przeznaczonych dla krów mamek, cieląt, jałówek i opasów typu użytkowego mięsnego lub typu użytkowego kombinowanego o mięsnym kierunku ich użytkowania",null,null,null,null,null,null,null,{"$f":"Krowy_MIĘSNE_powierzch!L29","v":0},"m2",null,null,null,null,{"$f":"R20","v":false}]
[null,null,null,null,null,null,null,null,null,null,null,null,null,null,null,null,null,{"$f":"R21","v":false}]
[null,null,"II.5.","Dobrostan krów mamek utrzymywanych w systemie otwartym",null,null,null,null,null,null,null,null,null,null,null,null,null,{"$f":"Info_2!R12","v":false}]
[null,null,null,"Wielkość posiadanej zewnętrznej powierzchni bytowej",null,null,null,null,null,null,null,{"$f":"Krowy_MIĘSNE_zewn!H88","v":0},"m2",null,null,null,null,{"$f":"R23","v":false}]
[null,null,null,null,null,null,null,null,null,null,null,null,null,null,null,null,null,{"$f":"R24","v":false}]
[null,null,null,null,null,null,null,null,null,null,null,null,null,null,null,null,null,false]
[null,null,null,null,null,null,null,null,null,null,null,null,null,null,null,null,null,false]
[null,null,"II.6."," Dobrostan opasów",null,null,null,null,null,null,null,null,null,null,null,null,null,{"$f":"Info_2!R13","v":false}]
[null,null,null,"Wielkość posiadanej powierzchni bytowej w pomieszczeniach lub w budynkach przeznaczonych dla opasów",null,null,null,null,null,null,null,{"$f":"Opasy_pow!K139","v":0},"m2",null,null,null,null,{"$f":"R28","v":false}]
[null,null,null,null,null,null,null,null,null,null,null,null,null,null,null,null,null,{"$f":"R29","v":false}]
[null,null,"II.7.","Dobrostan owiec ",null,null,null,null,null,null,null,null,null,null,null,null,null,{"$f":"Info_2!R14","v":false}]
[null,null,null,"1) Numer siedziby stada:",null,{"$f":"'Owce_pow (1)'!F8","v":0},null,null,null,null,null,null,null,null,null,null,null,{"$f":"S32","v":false},{"$f":"IF(F32<1,FALSE,TRUE)","v":false}]
[null,null,null,"Wielkość posiadanej powierzchni bytowej w pomieszczeniach lub w budynkach przeznaczonych dla zwierząt z gatunku owca domowa ",null,null,null,null,null,null,null,{"$f":"'Owce_pow (1)'!J10","v":0},"m2",null,null,null,null,{"$f":"S33","v":false},{"$f":"S32","v":false}]
[null,null,null,null,null,null,null,null,null,null,null,null,null,null,null,null,null,{"$f":"S34","v":false},{"$f":"S33","v":false}]
[null,null,null,"2) Numer siedziby stada:",null,{"$f":"'Owce_pow (2)'!$F$8","v":0},null,null,null,null,null,null,null,null,null,null,null,{"$f":"S35","v":false},{"$f":"IF(F35<1,FALSE,TRUE)","v":false}]
[null,null,null,"Wielkość posiadanej powierzchni bytowej w pomieszczeniach lub w budynkach przeznaczonych dla zwierząt z gatunku owca domowa ",null,null,null,null,null,null,null,{"$f":"'Owce_pow (2)'!J10","v":0},"m2",null,null,null,null,false,{"$f":"S35","v":false}]
[null,null,null,null,null,null,null,null,null,null,null,null,null,null,null,null,null,false,{"$f":"S36","v":false}]
[null,null,null,"3) Numer siedziby stada:",null,{"$f":"'Owce_pow (3)'!$F$8","v":0},null,null,null,null,null,null,null,null,null,null,null,false,{"$f":"IF(F38<1,FALSE,TRUE)","v":false}]
[null,null,null,"Wielkość posiadanej powierzchni bytowej w pomieszczeniach lub w budynkach przeznaczonych dla zwierząt z gatunku owca domowa ",null,null,null,null,null,null,null,{"$f":"'Owce_pow (3)'!J10","v":0},"m2",null,null,null,null,false,{"$f":"S38","v":false}]
[null,null,null,null,null,null,null,null,null,null,null,null,null,null,null,null,null,false,{"$f":"S39","v":false}]
[null,null,null,"4) Numer siedziby stada:",null,{"$f":"'Owce_pow (4)'!$F$8","v":0},null,null,null,null,null,null,null,null,null,null,null,false,{"$f":"IF(F41<1,FALSE,TRUE)","v":false}]
[null,null,null,"Wielkość posiadanej powierzchni bytowej w pomieszczeniach lub w budynkach przeznaczonych dla zwierząt z gatunku owca domowa ",null,null,null,null,null,null,null,{"$f":"'Owce_pow (4)'!J10","v":0},"m2",null,null,null,null,false,{"$f":"S41","v":false}]
[null,null,null,null,null,null,null,null,null,null,null,null,null,null,null,null,null,false,{"$f":"S42","v":false}]
[null,null,null,"5) Numer siedziby stada:",null,{"$f":"'Owce_pow (5)'!$F$8","v":0},null,null,null,null,null,null,null,null,null,null,null,false,{"$f":"IF(F44<1,FALSE,TRUE)","v":false}]
[null,null,null,"Wielkość posiadanej powierzchni bytowej w pomieszczeniach lub w budynkach przeznaczonych dla zwierząt z gatunku owca domowa ",null,null,null,null,null,null,null,{"$f":"'Owce_pow (5)'!J10","v":0},"m2",null,null,null,null,false,{"$f":"S44","v":false}]
[null,null,null,null,null,null,null,null,null,null,null,null,null,null,null,null,null,false,{"$f":"S45","v":false}]
[null,null,"II.8.","Dobrostan kur niosek",null,null,null,null,null,null,null,null,null,null,null,null,null,false,{"$f":"Info_2!R15","v":false}]
[null,null,null,"Dopuszczalna maksymalna liczba kur niosek, które ze względu na wymogi wariantu, mogą przebywać jednocześnie w gospodarstwie rolnym wynosi:",null,null,null,null,null,null,null,{"$f":"Kury_nioski_pow!O120","v":0},"szt",null,null,null,null,{"$f":"R47","v":false}]
[null,null,null,null,null,null,null,null,null,null,null,null,null,null,null,null,null,{"$f":"R48","v":false}]
[null,null,"II.9.","Dobrostan kurcząt brojlerów",null,null,null,null,null,null,null,null,null,null,null,null,null,{"$f":"S50","v":false},{"$f":"Info_2!R16","v":false}]
[null,null,null,"Dopuszczalna maksymalna liczba kurcząt brojlerów, które ze względu na wymogi wariantu, mogą przebywać jednocześnie w gospodarstwie rolnym wynosi:",null,null,null,null,null,null,null,{"$f":"Brojlery_kur_pow!$Y$120","v":0},"szt",null,null,null,null,{"$f":"R50","v":false}]
[null,null,null,null,null,null,null,null,null,null,null,null,null,null,null,null,null,{"$f":"R51","v":false}]
[null,null,"II.10.","Dobrostan indyków utrzymywanych z przeznaczeniem do produkcji mięsa",null,null,null,null,null,null,null,null,null,null,null,null,null,false,{"$f":"Info_2!R17","v":false}]
[null,null,null,"Dopuszczalna maksymalna liczba indyków utrzymywanych z przeznaczeniem do produkcji mięsa, które ze względu na wymogi wariantu, mogą przebywać jednocześnie w gospodarstwie rolnym wynosi:",null,null,null,null,null,null,null,{"$f":"Brojlery_ind_pow!$Y$120","v":0},"szt",null,null,null,null,{"$f":"R53","v":false}]
[null,null,null,null,null,null,null,null,null,null,null,null,null,null,null,null,null,{"$f":"R54","v":false}]
[null,null,"II.11.","Dobrostan koni utrzymywanych w pomieszczeniach lub w budynkach",null,null,null,null,null,null,null,null,null,null,null,null,null,false,{"$f":"Info_2!R18","v":false}]
[null,null,null,"Wielkość posiadanej powierzchni bytowej w pomieszczeniach lub w budynkach przeznaczonych dla zwierząt z gatunku koń domowy",null,null,null,null,null,null,null,{"$f":"Konie_byt!M20","v":600},"m2",null,null,null,null,{"$f":"R56","v":false}]
[null,null,null,null,null,null,null,null,null,null,null,null,null,null,null,null,null,{"$f":"R57","v":false}]
[null,null,"II.12."," Dobrostan koni utrzymywanych w systemie otwartym",null,null,null,null,null,null,null,null,null,null,null,null,null,false,{"$f":"Info_2!R19","v":false}]
[null,null,null,"Wielkość posiadanych zewnętrznych powierzchni bytowych, w tym zadaszonych, przeznaczonych dla wszystkich zwierząt z gatunku koń domowy w gospodarstwie",null,null,null,null,null,null,null,{"$f":"Konie_otw!G127*10000","v":0},"m2",null,null,null,null,{"$f":"R59","v":false}]
[null,null,null,"Terminy wykorzystania posiadanych zewnętrznych powierzchni bytowych, w tym zadaszonych, przeznaczonych dla wszystkich zwierząt z gatunku koń domowy w gospodarstwie,",null,null,null,null,null,null,null,{"$f":"Konie_otw!O9","v":0},null,null,null,null,null,{"$f":"R60","v":false}]
[null,null,null,null,null,null,null,null,null,null,null,null,null,null,null,null,null,false]
[null,null,"II.13.","Dobrostan kóz",null,null,null,null,null,null,null,null,null,null,null,null,null,{"$f":"Info_2!R20","v":false}]
[null,null,null,"1) Numer siedziby stada:",null,{"$f":"'Kozy_pow (1)'!F8","v":0},null,null,null,null,null,null,null,null,null,null,null,{"$f":"S64","v":false},{"$f":"IF(F64<1,FALSE,TRUE)","v":false}]
[null,null,null,"Wielkość posiadanej powierzchni bytowej w pomieszczeniach lub w budynkach przeznaczonych dla zwierząt z gatunku koza domowa,",null,null,null,null,null,null,null,{"$f":"'Kozy_pow (1)'!J10","v":0},"m2",null,null,null,null,{"$f":"S65","v":false},{"$f":"S64","v":false}]
[null,null,null,"Wielkość posiadanych zewnętrznych powierzchni bytowych (wybiegów) przeznaczonych dla wszystkich zwierząt z gatunku koza domowa oraz sposobu realizacji wymogu",null,null,null,null,null,null,null,{"$f":"'Kozy_pow (1)'!F52","v":0},"m2",null,null,null,null,{"$f":"S66","v":false},{"$f":"S65","v":false}]
[null,null,null,"Terminy wykorzystania posiadanych zewnętrznych powierzchni bytowych przeznaczonych dla wszystkich zwierząt z gatunku koza domowa ",null,null,null,null,null,null,null,{"$f":"'Kozy_pow (1)'!J13","v":0},null,null,null,null,null,false,{"$f":"S66","v":false}]
[null,null,null,"2) Numer siedziby stada:",null,{"$f":"'Kozy_pow (2)'!F8","v":0},null,null,null,null,null,null,null,null,null,null,null,{"$f":"S68","v":false},{"$f":"IF(F68<1,FALSE,TRUE)","v":false}]
[null,null,null,"Wielkość posiadanej powierzchni bytowej w pomieszczeniach lub w budynkach przeznaczonych dla zwierząt z gatunku koza domowa,",null,null,null,null,null,null,null,{"$f":"'Kozy_pow (2)'!J10","v":0},"m2",null,null,null,null,{"$f":"S69","v":false},{"$f":"S68","v":false}]
[null,null,null,"Wielkość posiadanych zewnętrznych powierzchni bytowych przeznaczonych dla wszystkich zwierząt z gatunku koza domowa oraz sposobu realizacji wymogu",null,null,null,null,null,null,null,{"$f":"'Kozy_pow (2)'!F52","v":0},"m2",null,null,null,null,{"$f":"S70","v":false},{"$f":"S69","v":false}]
[null,null,null,"Terminy wykorzystania posiadanych zewnętrznych powierzchni bytowych przeznaczonych dla wszystkich zwierząt z gatunku koza domowa ",null,null,null,null,null,null,null,{"$f":"'Kozy_pow (2)'!J13","v":0},null,null,null,null,null,false,{"$f":"S70","v":false}]
[null,null,null,"3) Numer siedziby stada:",null,{"$f":"'Kozy_pow (3)'!F8","v":0},null,null,null,null,null,null,null,null,null,null,null,{"$f":"S72","v":false},{"$f":"IF(F72<1,FALSE,TRUE)","v":false}]
[null,null,null,"Wielkość posiadanej powierzchni bytowej w pomieszczeniach lub w budynkach przeznaczonych dla zwierząt z gatunku koza domowa,",null,null,null,null,null,null,null,{"$f":"'Kozy_pow (3)'!J10","v":0},"m2",null,null,null,null,{"$f":"S73","v":false},{"$f":"S72","v":false}]
[null,null,null,"Wielkość posiadanych zewnętrznych powierzchni bytowych przeznaczonych dla wszystkich zwierząt z gatunku koza domowa oraz sposobu realizacji wymogu",null,null,null,null,null,null,null,{"$f":"'Kozy_pow (3)'!F52","v":0},"m2",null,null,null,null,{"$f":"S74","v":false},{"$f":"S73","v":false}]
[null,null,null,"Terminy wykorzystania posiadanych zewnętrznych powierzchni bytowych przeznaczonych dla wszystkich zwierząt z gatunku koza domowa ",null,null,null,null,null,null,null,{"$f":"'Kozy_pow (3)'!F52","v":0},null,null,null,null,null,false,{"$f":"S74","v":false}]

{"sheet":"Nr_stad","index":4,"n_rows":60,"n_cols":21,"rows_kept":60,"cut":false,"hidden":false,"merged":[[5,5,5,13],[1,12,1,14],[5,3,5,4],[4,3,4,4],[1,1,1,4]]}
[]
[null,"Powrót do \"Dane o gospodarstwie\""]
[]
[]
[null,null,null,"Numery działalności"]
[null,null,null,"Numer siedziby stada/\nnumer zakładu drobiu",null,"Adres"]
[null,null,null,"Numer producenta","stado/\nzakład drobiu"," Województwo","Powiat","Gmina"," Kod pocztowy","Poczta","Miejscowość","Ulica","Nr domu"," Nr lokalu"]
[null,null,null,{"$f":"Info!$F$10","v":0},null,null,null,null,null,null,null,null,null,null,null,null,null,null,null,null,{"$f":"IF(E8=0,\" \",\"PL \"&TEXT(D8,\"000000000\")&\"-\"&TEXT(E8,\"000\"))","v":" "}]
[null,null,null,{"$f":"IF(E8>0,Info!$F$10,\"\")","v":""},null,null,null,null,null,null,null,null,null,null,null,null,null,null,null,null,{"$f":"IF(E9=0,\" \",\"PL \"&TEXT(D9,\"000000000\")&\"-\"&TEXT(E9,\"000\"))","v":" "}]
[null,null,null,{"$f":"IF(E9>0,Info!$F$10,\"\")","v":""},null,null,null,null,null,null,null,null,null,null,null,null,null,null,null,null," "]
[null,null,null,{"$f":"IF(E10>0,Info!$F$10,\"\")","v":""},null,null,null,null,null,null,null,null,null,null,null,null,null,null,null,null," "]
[null,null,null,{"$f":"IF(E11>0,Info!$F$10,\"\")","v":""},null,null,null,null,null,null,null,null,null,null,null,null,null,null,null,null," "]
[null,null,null,{"$f":"IF(E12>0,Info!$F$10,\"\")","v":""},null,null,null,null,null,null,null,null,null,null,null,null,null,null,null,null," "]
[null,null,null,{"$f":"IF(E13>0,Info!$F$10,\"\")","v":""},null,null,null,null,null,null,null,null,null,null,null,null,null,null,null,null," "]
[null,null,null,{"$f":"IF(E14>0,Info!$F$10,\"\")","v":""},null,null,null,null,null,null,null,null,null,null,null,null,null,null,null,null," "]
[null,null,null,{"$f":"IF(E15>0,Info!$F$10,\"\")","v":""},null,null,null,null,null,null,null,null,null,null,null,null,null,null,null,null," "]
[null,null,null,{"$f":"IF(E16>0,Info!$F$10,\"\")","v":""},null,null,null,null,null,null,null,null,null,null,null,null,null,null,null,null," "]
[null,null,null,{"$f":"IF(E17>0,Info!$F$10,\"\")","v":""},null,null,null,null,null,null,null,null,null,null,null,null,null,null,null,null," "]
[null,null,null,{"$f":"IF(E18>0,Info!$F$10,\"\")","v":""},null,null,null,null,null,null,null,null,null,null,null,null,null,null,null,null," "]
[null,null,null,{"$f":"IF(E19>0,Info!$F$10,\"\")","v":""},null,null,null,null,null,null,null,null,null,null,null,null,null,null,null,null," "]
[null,null,null,{"$f":"IF(E20>0,Info!$F$10,\"\")","v":""},null,null,null,null,null,null,null,null,null,null,null,null,null,null,null,null," "]
[null,null,null,{"$f":"IF(E21>0,Info!$F$10,\"\")","v":""},null,null,null,null,null,null,null,null,null,null,null,null,null,null,null,null," "]
[null,null,null,{"$f":"IF(E22>0,Info!$F$10,\"\")","v":""},null,null,null,null,null,null,null,null,null,null,null,null,null,null,null,null," "]
[null,null,null,{"$f":"IF(E23>0,Info!$F$10,\"\")","v":""},null,null,null,null,null,null,null,null,null,null,null,null,null,null,null,null," "]
[null,null,null,{"$f":"IF(E24>0,Info!$F$10,\"\")","v":""},null,null,null,null,null,null,null,null,null,null,null,null,null,null,null,null," "]
[null,null,null,{"$f":"IF(E25>0,Info!$F$10,\"\")","v":""},null,null,null,null,null,null,null,null,null,null,null,null,null,null,null,null," "]
[null,null,null,{"$f":"IF(E26>0,Info!$F$10,\"\")","v":""},null,null,null,null,null,null,null,null,null,null,null,null,null,null,null,null," "]
[null,null,null,{"$f":"IF(E27>0,Info!$F$10,\"\")","v":""},null,null,null,null,null,null,null,null,null,null,null,null,null,null,null,null," "]
[null,null,null,{"$f":"IF(E28>0,Info!$F$10,\"\")","v":""},null,null,null,null,null,null,null,null,null,null,null,null,null,null,null,null," "]
[null,null,null,{"$f":"IF(E29>0,Info!$F$10,\"\")","v":""},null,null,null,null,null,null,null,null,null,null,null,null,null,null,null,null," "]
[null,null,null,{"$f":"IF(E30>0,Info!$F$10,\"\")","v":""},null,null,null,null,null,null,null,null,null,null,null,null,null,null,null,null," "]
[null,null,null,{"$f":"IF(E31>0,Info!$F$10,\"\")","v":""},null,null,null,null,null,null,null,null,null,null,null,null,null,null,null,null," "]
[null,null,null,{"$f":"IF(E32>0,Info!$F$10,\"\")","v":""},null,null,null,null,null,null,null,null,null,null,null,null,null,null,null,null," "]
[null,null,null,{"$f":"IF(E33>0,Info!$F$10,\"\")","v":""},null,null,null,null,null,null,null,null,null,null,null,null,null,null,null,null," "]
[null,null,null,{"$f":"IF(E34>0,Info!$F$10,\"\")","v":""},null,null,null,null,null,null,null,null,null,null,null,null,null,null,null,null," "]
[null,null,null,{"$f":"IF(E35>0,Info!$F$10,\"\")","v":""},null,null,null,null,null,null,null,null,null,null,null,null,null,null,null,null," "]
[null,null,null,{"$f":"IF(E36>0,Info!$F$10,\"\")","v":""},null,null,null,null,null,null,null,null,null,null,null,null,null,null,null,null," "]
[null,null,null,{"$f":"IF(E37>0,Info!$F$10,\"\")","v":""},null,null,null,null,null,null,null,null,null,null,null,null,null,null,null,null," "]
[null,null,null,{"$f":"IF(E38>0,Info!$F$10,\"\")","v":""},null,null,null,null,null,null,null,null,null,null,null,null,null,null,null,null," "]
[null,null,null,{"$f":"IF(E39>0,Info!$F$10,\"\")","v":""},null,null,null,null,null,null,null,null,null,null,null,null,null,null,null,null," "]
[null,null,null,{"$f":"IF(E40>0,Info!$F$10,\"\")","v":""},null,null,null,null,null,null,null,null,null,null,null,null,null,null,null,null," "]
[null,null,null,{"$f":"IF(E41>0,Info!$F$10,\"\")","v":""},null,null,null,null,null,null,null,null,null,null,null,null,null,null,null,null," "]
[null,null,null,{"$f":"IF(E42>0,Info!$F$10,\"\")","v":""},null,null,null,null,null,null,null,null,null,null,null,null,null,null,null,null," "]
[null,null,null,{"$f":"IF(E43>0,Info!$F$10,\"\")","v":""},null,null,null,null,null,null,null,null,null,null,null,null,null,null,null,null," "]
[null,null,null,{"$f":"IF(E44>0,Info!$F$10,\"\")","v":""},null,null,null,null,null,null,null,null,null,null,null,null,null,null,null,null," "]
[null,null,null,{"$f":"IF(E45>0,Info!$F$10,\"\")","v":""},null,null,null,null,null,null,null,null,null,null,null,null,null,null,null,null," "]
[null,null,null,{"$f":"IF(E46>0,Info!$F$10,\"\")","v":""},null,null,null,null,null,null,null,null,null,null,null,null,null,null,null,null," "]
[null,null,null,{"$f":"IF(E47>0,Info!$F$10,\"\")","v":""},null,null,null,null,null,null,null,null,null,null,null,null,null,null,null,null," "]
[null,null,null,{"$f":"IF(E48>0,Info!$F$10,\"\")","v":""},null,null,null,null,null,null,null,null,null,null,null,null,null,null,null,null," "]
[null,null,null,{"$f":"IF(E49>0,Info!$F$10,\"\")","v":""},null,null,null,null,null,null,null,null,null,null,null,null,null,null,null,null," "]
[null,null,null,{"$f":"IF(E50>0,Info!$F$10,\"\")","v":""},null,null,null,null,null,null,null,null,null,null,null,null,null,null,null,null," "]
[null,null,null,{"$f":"IF(E51>0,Info!$F$10,\"\")","v":""},null,null,null,null,null,null,null,null,null,null,null,null,null,null,null,null," "]
[null,null,null,{"$f":"IF(E52>0,Info!$F$10,\"\")","v":""},null,null,null,null,null,null,null,null,null,null,null,null,null,null,null,null," "]
[null,null,null,{"$f":"IF(E53>0,Info!$F$10,\"\")","v":""},null,null,null,null,null,null,null,null,null,null,null,null,null,null,null,null," "]
[null,null,null,{"$f":"IF(E54>0,Info!$F$10,\"\")","v":""},null,null,null,null,null,null,null,null,null,null,null,null,null,null,null,null," "]
[null,null,null,{"$f":"IF(E55>0,Info!$F$10,\"\")","v":""},null,null,null,null,null,null,null,null,null,null,null,null,null,null,null,null," "]
[null,null,null,{"$f":"IF(E56>0,Info!$F$10,\"\")","v":""},null,null,null,null,null,null,null,null,null,null,null,null,null,null,null,null," "]
[null,null,null,{"$f":"IF(E57>0,Info!$F$10,\"\")","v":""},null,null,null,null,null,null,null,null,null,null,null,null,null,null,null,null," "]
[null,null,null,{"$f":"IF(E58>0,Info!$F$10,\"\")","v":""},null,null,null,null,null,null,null,null,null,null,null,null,null,null,null,null," "]
[null,null,null,"Liczba siedzib:",{"$f":"COUNTA(E8:E59)","v":0},null,null,null,null,null,null,null,null,null,null,null,null,null,null,null," "]

{"sheet":"Lochy","index":5,"n_rows":130,"n_cols":47,"rows_kept":130,"cut":false,"hidden":false,"merged":[[6,4,6,18],[3,2,3,19],[19,3,19,10],[23,12,23,14],[23,15,23,16],[21,4,21,8],[18,3,18,5],[18,7,18,10],[18,12,18,15],[23,3,25,6],[15,4,15,17],[7,4,7,10],[8,4,8,17],[14,4,14,17],[4,3,4,8],[12,4,12,18],[13,4,13,18],[16,3,16,18],[5,3,5,7],[63,3,63,6],[52,3,52,6],[65,3,65,6],[39,3,39,6],[40,3,40,6],[17,3,17,18],[21,13,21,18],[19,13,19,16],[22,3,22,13],[23,9,23,11],[23,7,23,8],[26,3,26,6],[31,3,31,6],[32,3,32,6],[33,3,33,6],[34,3,34,6],[35,3,35,6],[36,3,36,6],[24,37,24,40],[128,12,128,17],[127,3,127,10],[127,12,127,17],[27,3,27,6],[28,3,28,6],[29,3,29,6],[30,3,30,6],[107,3,107,6],[108,3,108,6],[109,3,109,6],[110,3,110,6],[111,3,111,6],[112,3,112,6],[113,3,113,6],[114,3,114,6],[115,3,115,6],[116,3,116,6],[96,3,96,6],[72,3,72,6],[73,3,73,6],[74,3,74,6],[75,3,75,6],[24,34,24,36],[103,3,103,6],[90,3,90,6],[91,3,91,6],[104,3,104,6],[89,3,89,6],[86,3,86,6],[67,3,67,6],[126,3,126,6],[117,3,117,6],[118,3,118,6],[119,3,119,6],[120,3,120,6],[121,3,121,6],[122,3,122,6],[123,3,123,6],[124,3,124,6],[125,3,125,6],[105,3,105,6],[106,3,106,6],[81,3,81,6],[98,3,98,6],[99,3,99,6],[100,3,100,6],[101,3,101,6],[102,3,102,6],[71,3,71,6],[53,3,53,6],[54,3,54,6],[97,3,97,6],[82,3,82,6],[83,3,83,6],[85,3,85,6],[92,3,92,6],[93,3,93,6],[94,3,94,6],[95,3,95,6],[84,3,84,6],[87,3,87,6],[88,3,88,6],[66,3,66,6],[55,3,55,6],[56,3,56,6],[57,3,57,6],[58,3,58,6],[59,3,59,6],[60,3,60,6],[61,3,61,6],[62,3,62,6],[128,3,128,10],[24,31,24,33],[68,3,68,6],[69,3,69,6],[64,3,64,6],[76,3,76,6],[77,3,77,6],[78,3,78,6],[79,3,79,6],[80,3,80,6],[37,3,37,6],[38,3,38,6],[42,3,42,6],[43,3,43,6],[44,3,44,6],[45,3,45,6],[70,3,70,6],[46,3,46,6],[47,3,47,6],[48,3,48,6],[49,3,49,6],[50,3,50,6],[51,3,51,6],[41,3,41,6]]}
[null,null,"Uwaga !!! Po wydrukowaniu uzupełnić ręcznie Oświadczenie i czytelnie podpisać",null,null,null,null,null,null,null,null,null,null,null,null,null,null,null,"POWRÓT",null,null,null,null,null,null,null,null,null,null,null,null,null,null,null,null,null,null,null,null,null,null,null,null,null,null,null,"UWAGI"]
[null,null,null,null,null,null,null,null,null,null,null,null,null,null,null,null,null,null,null,null,null,null,null,null,null,null,null,null,null,null,null,null,null,null,null,null,null,null,null,null,null,null,null,null,null,null,"Uwagi"]
[]
[null,null,"II. Część szczegółowa  "]
[null,null,"II.1.","Dobrostan loch "]
[null,null,"II.1.1.","System produkcji w gospodarstwie "]
[null,null,null,{"$f":"IF(AD7=TRUE,AE7,AF7)","v":"☐"},"Przeciwdziałanie wzajemnemu obgryzaniu ogonów i ograniczenie potrzeby ich przycinania:\nŚwiniom zapewnia się stały dostęp do wystarczającej ilości materiałów, takich jak słoma, siano, drewno, trociny, kompost grzybniowy, torf lub mieszanki tych materiałów, lub przedmiotów absorbujących ich uwagę, przy czym te materiały lub te przedmioty powinny być bezpieczne oraz powinny być jadalne lub nadawać się do żucia lub manipulacji, a także świniom zapewnia się taką ilość różnych materiałów lub przedmiotów, które same lub w połączeniu z innymi materiałami lub przedmiotami będą zaspokajały potrzebę poznawania otoczenia i poszukiwania paszy.",null,null,null,null,null,null,null,null,null,null,null,null,null,null,null,null,null,null,null,null,null,null,null,null,false,"☒","☐"]
[null,null,null,{"$f":"IF(AD8=1,AE8,AF8)","v":"☐"},"Nieutrzymywanie loch  w systemie jarzmowym",null,null,null,null,null,null,null,null,null,null,null,null,null,null,null,null,null,null,null,null,null,null,null,null,2,"☒","☐"]
[null,null,null,{"$f":"IF(AD8=2,AE8,AF8)","v":"☒"},"Utrzymywanie loch w systemie jarzmowym przez okres nie dłuższy niż 14 dni w okresie okołoporodowym "]
[null,null,null,null,"Lochom zapewnia się zwiększoną o co najmniej:",null,null,null,null,null,null,null,null,null,null,null,null,null,null,null,null,null,null,null,null,null,null,null,null,1,"☒","☐"]
[null,null,null,{"$f":"IF($AD$10=1,$AE$8,$AF$8)","v":"☒"},"20% powierzchnię bytową w pomieszczeniach/budynkach "]
[null,null,null,{"$f":"IF($AD$10=2,$AE$8,$AF$8)","v":"☐"},"50% powierzchnię bytową w pomieszczeniach/budynkach ",null,null,null,null,null,null,null,null,null,null,null,null,null,null,null,null,null,null,null,null,null,null,null,null,{"$f":"IF(AD10=2,10,0)","v":0}]
[null,null,null,{"$f":"IF(AD13=TRUE,AE13,AF13)","v":"☐"},"Ściółka:\nBudynek/pomieszczenie dostosowane do stosowania ściółki",null,null,null,null,null,null,null,null,null,null,null,null,null,null,null,null,null,null,null,null,null,null,null,null,false,"☒","☐"]
[null,null,null,{"$f":"IF(AD14=TRUE,AE14,AF14)","v":"☐"},"Odsadzanie prosiąt: \nprosięta odsadza się nie wcześniej niż w 35. dniu od dnia ich urodzenia.\nRolnik który ubiega się o przyznanie płatności za późniejsze odsadzanie prosiąt od loch składa do ARiMR, na formularzu udostępnionym na stronie internetowej ARiMR rejestr terminów odsadzenia, w którym wskazuje wszystkie lochy oraz terminy urodzenia i odsadzenia wszystkich prosiąt pochodzących od tych loch.",null,null,null,null,null,null,null,null,null,null,null,null,null,null,null,null,null,null,null,null,null,null,null,null,false,"☒","☐"]
[null,null,null,{"$f":"IF(AD15=TRUE,AE15,AF15)","v":"☐"},"Prowadzenie na formularzu udostępnionym przez Agencję rejestru sposobu utrzymywania loch w okresie okołoporodowym, jeżeli w planie poprawy dobrostanu zwierząt lub w oświadczeniu, potwierdzono, że lochy są utrzymywane w takim systemie w okresie okołoporodowym; w rejestrze tym wskazuje się wszystkie lochy, a w odniesieniu do lochy, która była utrzymywana w takim systemie w okresie okołoporodowym, wskazuje się terminy utrzymywania tej lochy w takim systemie.",null,null,null,null,null,null,null,null,null,null,null,null,null,null,null,null,null,null,null,null,null,null,null,null,false,"☒","☐"]
[null,null,null,{"$f":"IF(AD16=TRUE,AE16,AF16)","v":"☐"},"Do planu poprawy dobrostanu zwierząt dołączono szkic obiektów ze wskazanymi kojcami, w których utrzymywane są lochy i loszki od 4. tygodnia po pokryciu ze wskazaniem powierzchni, na których utrzymywane są zwierzęta kilku rolników.",null,null,null,null,null,null,null,null,null,null,null,null,null,null,null,null,null,null,null,null,null,null,null,null,false,"☒","☐"]
[null,null,null,"System utrzymywania loch i loszek po pokryciu i model produkcji w gospodarstwie jest zgodny z klasyfikacją przyjętą w rozporządzeniu Ministra Rolnictwa i Rozwoju Wsi z dnia 23 grudnia 2022 r. w sprawie szczegółowego zakresu informacji zawartych w komputerowej bazie danych (Dz.U. z 2023 r. poz. 15), z zaznaczeniem utrzymywania tych zwierząt na ściółce.",null,null,null,null,null,null,null,null,null,null,null,null,null,null,null,null,null,null,null,null,null,null,null,null,null,null,null,null,null,null,null,null,null,null,null,null,null,null,null,null,null,null,"Uzgodnienia z MRiRW w dniu 14.03.23"]
[null,null,null,"Informacja o spełnianiu odpowiednich minimalnych wymogów:\nPowierzchnia bytowa w pomieszczeniach lub w budynkach, w których utrzymywane są świnie inne niż lochy i loszki po pokryciu jest zgodna z odpowiednimi minimalnymi wymogami dotyczącymi dobrostanu zwierząt, o których mowa w art. 31 ust. 5 lit. b rozporządzenia 2021/2115, określonymi w rozporządzeniu Ministra Rolnictwa i Rozwoju Wsi z dnia 15 lutego 2010 r. w sprawie wymagań i sposobu postępowania przy utrzymywaniu gatunków zwierząt gospodarskich, dla których normy ochrony zostały określone w przepisach Unii Europejskiej."]
[null,null,null,"(miejscowość i data)",null,null,null,"(czytelny podpis rolnika)",null,null,null,null,"(czytelny podpis doradcy)"]
[null,null,null,"Liczba loch i loszek  od 4. tygodnia po pokryciu do tygodnia przed przewidywanym terminem proszenia na dzień sporządzenia planu poprawy dobrostanu zwierząt",null,null,null,null,null,null,null,null,null,"Informacja w jakim wieku odsadzane są prosięta",null,null,null,null,null,null,null,null,null,null,null,null,null,null,null,false,{"$f":"AND(AD22=1,L20>9)","v":false},{"$f":"L20<10","v":true},null,null,null,null,null,null,null,null,null,null,null,null,null,null,"Uzgodnienia z MRiRW w dniu 14.03.23"]
[null,null,null,"Lochy i loszki po pokryciu utrzymywane są:",null,null,null,null,null,null,null,null,null,null,null,null,null,null,null,null,null,null,null,null,null,null,null,null,null,"poj/grup"]
[null,null,null,{"$f":"IF(AD22=1,AE22,AF22)","v":"☐"},"pojedynczo albo pojedynczo i grupowo",null,null,null,null,null,{"$f":"IF(AD22=2,AE22,AF22)","v":"☒"},"grupowo",null,{"$f":"IF(AND(AD22=1,L20>9),\"Pojedynczo wolno utrzymywać tylko do 9 loch i loszek od 4. tygodnia po pokryciu do tygodnia przed przewidywanym terminem proszenia !\",\"\")","v":""},null,null,null,null,null,null,null,null,null,null,null,null,null,null,null,2,"☒","☐"]
[null,null,"II.1.2.","Dopuszczalna maksymalna liczba loch i loszek, które mogą przebywać jednocześnie w gospodarstwie z uwzględnieniem wymogów zwiększenia pow. o co najmniej ",null,null,null,null,null,null,null,null,null,null,{"$f":"IF(AD10=1,0.2,0.5)","v":0.2}]
[null,null,null,"Numer siedziby stada albo \nGrupa zwierząt",null,null,null,"Obiekt",null,"Powierzchnia bytowa kojca ",null,null,"w tym stałe podłoże ",null,null,"  Powierzchnia minimalna",null,"Powierzchnia maksymalna","Maksymalna liczba"]
[null,null,null,null,null,null,null,"Nazwa obiektu","Nr kojca","Dł.","Szer.","Pow.","Dł.","Szer.","Pow.","Bytowa ","Podł. stałe ","Otwory odpływowe","loch/\nloszek",null,null,null,null,null,null,null,null,null,"Nr stad","grupy",null,"norma(20% lub 50%)",null,null,"liczba",null,null,"warunek",null,null,null,"Suma loch","grup min","dl","szer"]
[null,null,null,null,null,null,null,null,null,"m","m","m2","m","m","m2","m2/szt","m2/szt","m2","szt",null,null,null,null,null,null,null,null,null,null,null,"poz","I","II","II","I","II","II","I","II","II","wybr","L"]
[null,null,null,null,null,null,null,null,null,null,null,{"$f":"J27*K27","v":0},null,null,{"$f":"M27*N27","v":0},{"$f":"IFERROR(OFFSET(AE27,0,AO27),\"-\")","v":"-"},{"$f":"IFERROR(OFFSET(N_W_1_1!$P$5,AE27,0),\"-\")","v":"-"},{"$f":"IF(Q27=\"-\",\"-\",O27*0.15)","v":"-"},{"$f":"IFERROR(TRUNC(IF(L27/P27>=1,IF(OR(AE27<=2,AE27=6),1,L27/P27),\"-\")*AQ27),\"-\")","v":"-"},null,null,null,null,null,null,null,null,null,{"$f":"IFERROR(MATCH(D27,Nr_stad!$U$8:$U$60,0),0)","v":0},{"$f":"SUM(I27:S27)+AC27","v":0},{"$f":"IF(D27=\"\",\"-\",MATCH(D27,N_W_1_1!$K$6:$K$12,0))","v":"-"},{"$f":"OFFSET(N_W_1_1!$L$5,AE27,1+$AD$12)","v":{"$error":"#VALUE!"}},{"$f":"OFFSET(N_W_1_1!$L$5,AE27,2+$AD$12)","v":{"$error":"#VALUE!"}},{"$f":"OFFSET(N_W_1_1!$L$5,AE27,3+$AD$12)","v":{"$error":"#VALUE!"}},{"$f":"TRUNC(L27/AF27)","v":{"$error":"#VALUE!"}},{"$f":"TRUNC(L27/AG27)","v":{"$error":"#VALUE!"}},{"$f":"TRUNC(L27/AH27)","v":{"$error":"#VALUE!"}},{"$f":"IF(AI27<6,1,0)","v":{"$error":"#VALUE!"}},{"$f":"IF(AND(AJ27>5,AJ27<40,AN27=0),2,0)","v":{"$error":"#VALUE!"}},{"$f":"IF(AK27>39,3,0)","v":{"$error":"#VALUE!"}},{"$f":"MAX(AL27:AN27)","v":{"$error":"#VALUE!"}},{"$f":"IFERROR(OFFSET(N_W_1_1!$L$5,AE27,0),\"\")","v":""},{"$f":"IF(AND(AE27>2,AE27<>6,AI27<2),0,1)","v":{"$error":"#VALUE!"}},{"$f":"IFERROR(OFFSET(N_W_1_1!$P$5,AE27,2),0)","v":0},{"$f":"IFERROR(IF(S27>5,OFFSET(N_W_1_1!$P$5,AE27,4),OFFSET(N_W_1_1!$P$5,AE27,3)),0)","v":0}]
[null,null,null,null,null,null,null,null,null,null,null,0,null,null,0,{"$f":"IFERROR(OFFSET(AE28,0,AO28),\"-\")","v":"-"},{"$f":"IFERROR(OFFSET(N_W_1_1!$P$5,AE28,0),\"-\")","v":"-"},{"$f":"IF(Q28=\"-\",\"-\",O28*0.15)","v":"-"},"-",null,null,null,null,null,null,null,null,null,{"$f":"IFERROR(MATCH(D28,Nr_stad!$U$8:$U$60,0),0)","v":0},{"$f":"SUM(I28:S28)+AC28","v":0},{"$f":"IF(D28=\"\",\"-\",MATCH(D28,N_W_1_1!$K$6:$K$12,0))","v":"-"},{"$f":"OFFSET(N_W_1_1!$L$5,AE28,1+$AD$12)","v":{"$error":"#VALUE!"}},{"$f":"OFFSET(N_W_1_1!$L$5,AE28,2+$AD$12)","v":{"$error":"#VALUE!"}},{"$f":"OFFSET(N_W_1_1!$L$5,AE28,3+$AD$12)","v":{"$error":"#VALUE!"}},{"$f":"TRUNC(L28/AF28)","v":{"$error":"#VALUE!"}},{"$f":"TRUNC(L28/AG28)","v":{"$error":"#VALUE!"}},{"$f":"TRUNC(L28/AH28)","v":{"$error":"#VALUE!"}},{"$f":"IF(AI28<6,1,0)","v":{"$error":"#VALUE!"}},{"$f":"IF(AND(AJ28>5,AJ28<40,AN28=0),2,0)","v":{"$error":"#VALUE!"}},{"$f":"IF(AK28>39,3,0)","v":{"$error":"#VALUE!"}},{"$f":"MAX(AL28:AN28)","v":{"$error":"#VALUE!"}},{"$f":"IFERROR(OFFSET(N_W_1_1!$L$5,AE28,0),\"\")","v":""},{"$f":"IF(AND(AE28>2,AE28<>6,AI28<2),0,1)","v":{"$error":"#VALUE!"}},{"$f":"IFERROR(OFFSET(N_W_1_1!$P$5,AE28,2),0)","v":0},{"$f":"IFERROR(IF(S28>5,OFFSET(N_W_1_1!$P$5,AE28,4),OFFSET(N_W_1_1!$P$5,AE28,3)),0)","v":0}]
[null,null,null,null,null,null,null,null,null,null,null,0,null,null,0,"-",{"$f":"IFERROR(OFFSET(N_W_1_1!$P$5,AE29,0),\"-\")","v":"-"},"-","-",null,null,null,null,null,null,null,null,null,{"$f":"IFERROR(MATCH(D29,Nr_stad!$U$8:$U$60,0),0)","v":0},0,{"$f":"IF(D29=\"\",\"-\",MATCH(D29,N_W_1_1!$K$6:$K$12,0))","v":"-"},{"$f":"OFFSET(N_W_1_1!$L$5,AE29,1+$AD$12)","v":{"$error":"#VALUE!"}},{"$f":"OFFSET(N_W_1_1!$L$5,AE29,2+$AD$12)","v":{"$error":"#VALUE!"}},{"$f":"OFFSET(N_W_1_1!$L$5,AE29,3+$AD$12)","v":{"$error":"#VALUE!"}},{"$error":"#VALUE!"},{"$error":"#VALUE!"},{"$error":"#VALUE!"},{"$error":"#VALUE!"},{"$error":"#VALUE!"},{"$error":"#VALUE!"},{"$error":"#VALUE!"},{"$f":"IFERROR(OFFSET(N_W_1_1!$L$5,AE29,0),\"\")","v":""},{"$error":"#VALUE!"},{"$f":"IFERROR(OFFSET(N_W_1_1!$P$5,AE29,2),0)","v":0},{"$f":"IFERROR(IF(S29>5,OFFSET(N_W_1_1!$P$5,AE29,4),OFFSET(N_W_1_1!$P$5,AE29,3)),0)","v":0}]
[null,null,null,null,null,null,null,null,null,null,null,0,null,null,0,"-",{"$f":"IFERROR(OFFSET(N_W_1_1!$P$5,AE30,0),\"-\")","v":"-"},"-","-",null,null,null,null,null,null,null,null,null,{"$f":"IFERROR(MATCH(D30,Nr_stad!$U$8:$U$60,0),0)","v":0},0,{"$f":"IF(D30=\"\",\"-\",MATCH(D30,N_W_1_1!$K$6:$K$12,0))","v":"-"},{"$f":"OFFSET(N_W_1_1!$L$5,AE30,1+$AD$12)","v":{"$error":"#VALUE!"}},{"$f":"OFFSET(N_W_1_1!$L$5,AE30,2+$AD$12)","v":{"$error":"#VALUE!"}},{"$f":"OFFSET(N_W_1_1!$L$5,AE30,3+$AD$12)","v":{"$error":"#VALUE!"}},{"$error":"#VALUE!"},{"$error":"#VALUE!"},{"$error":"#VALUE!"},{"$error":"#VALUE!"},{"$error":"#VALUE!"},{"$error":"#VALUE!"},{"$error":"#VALUE!"},{"$f":"IFERROR(OFFSET(N_W_1_1!$L$5,AE30,0),\"\")","v":""},{"$error":"#VALUE!"},{"$f":"IFERROR(OFFSET(N_W_1_1!$P$5,AE30,2),0)","v":0},{"$f":"IFERROR(IF(S30>5,OFFSET(N_W_1_1!$P$5,AE30,4),OFFSET(N_W_1_1!$P$5,AE30,3)),0)","v":0}]
[null,null,null,null,null,null,null,null,null,null,null,0,null,null,0,"-",{"$f":"IFERROR(OFFSET(N_W_1_1!$P$5,AE31,0),\"-\")","v":"-"},"-","-",null,null,null,null,null,null,null,null,null,{"$f":"IFERROR(MATCH(D31,Nr_stad!$U$8:$U$60,0),0)","v":0},0,{"$f":"IF(D31=\"\",\"-\",MATCH(D31,N_W_1_1!$K$6:$K$12,0))","v":"-"},{"$f":"OFFSET(N_W_1_1!$L$5,AE31,1+$AD$12)","v":{"$error":"#VALUE!"}},{"$f":"OFFSET(N_W_1_1!$L$5,AE31,2+$AD$12)","v":{"$error":"#VALUE!"}},{"$f":"OFFSET(N_W_1_1!$L$5,AE31,3+$AD$12)","v":{"$error":"#VALUE!"}},{"$error":"#VALUE!"},{"$error":"#VALUE!"},{"$error":"#VALUE!"},{"$error":"#VALUE!"},{"$error":"#VALUE!"},{"$error":"#VALUE!"},{"$error":"#VALUE!"},{"$f":"IFERROR(OFFSET(N_W_1_1!$L$5,AE31,0),\"\")","v":""},{"$error":"#VALUE!"},{"$f":"IFERROR(OFFSET(N_W_1_1!$P$5,AE31,2),0)","v":0},{"$f":"IFERROR(IF(S31>5,OFFSET(N_W_1_1!$P$5,AE31,4),OFFSET(N_W_1_1!$P$5,AE31,3)),0)","v":0}]
[null,null,null,null,null,null,null,null,null,null,null,0,null,null,0,"-",{"$f":"IFERROR(OFFSET(N_W_1_1!$P$5,AE32,0),\"-\")","v":"-"},"-","-",null,null,null,null,null,null,null,null,null,{"$f":"IFERROR(MATCH(D32,Nr_stad!$U$8:$U$60,0),0)","v":0},0,{"$f":"IF(D32=\"\",\"-\",MATCH(D32,N_W_1_1!$K$6:$K$12,0))","v":"-"},{"$f":"OFFSET(N_W_1_1!$L$5,AE32,1+$AD$12)","v":{"$error":"#VALUE!"}},{"$f":"OFFSET(N_W_1_1!$L$5,AE32,2+$AD$12)","v":{"$error":"#VALUE!"}},{"$f":"OFFSET(N_W_1_1!$L$5,AE32,3+$AD$12)","v":{"$error":"#VALUE!"}},{"$error":"#VALUE!"},{"$error":"#VALUE!"},{"$error":"#VALUE!"},{"$error":"#VALUE!"},{"$error":"#VALUE!"},{"$error":"#VALUE!"},{"$error":"#VALUE!"},{"$f":"IFERROR(OFFSET(N_W_1_1!$L$5,AE32,0),\"\")","v":""},{"$error":"#VALUE!"},{"$f":"IFERROR(OFFSET(N_W_1_1!$P$5,AE32,2),0)","v":0},{"$f":"IFERROR(IF(S32>5,OFFSET(N_W_1_1!$P$5,AE32,4),OFFSET(N_W_1_1!$P$5,AE32,3)),0)","v":0}]
[null,null,null,null,null,null,null,null,null,null,null,0,null,null,0,"-",{"$f":"IFERROR(OFFSET(N_W_1_1!$P$5,AE33,0),\"-\")","v":"-"},"-","-",null,null,null,null,null,null,null,null,null,{"$f":"IFERROR(MATCH(D33,Nr_stad!$U$8:$U$60,0),0)","v":0},0,{"$f":"IF(D33=\"\",\"-\",MATCH(D33,N_W_1_1!$K$6:$K$12,0))","v":"-"},{"$f":"OFFSET(N_W_1_1!$L$5,AE33,1+$AD$12)","v":{"$error":"#VALUE!"}},{"$f":"OFFSET(N_W_1_1!$L$5,AE33,2+$AD$12)","v":{"$error":"#VALUE!"}},{"$f":"OFFSET(N_W_1_1!$L$5,AE33,3+$AD$12)","v":{"$error":"#VALUE!"}},{"$error":"#VALUE!"},{"$error":"#VALUE!"},{"$error":"#VALUE!"},{"$error":"#VALUE!"},{"$error":"#VALUE!"},{"$error":"#VALUE!"},{"$error":"#VALUE!"},{"$f":"IFERROR(OFFSET(N_W_1_1!$L$5,AE33,0),\"\")","v":""},{"$error":"#VALUE!"},{"$f":"IFERROR(OFFSET(N_W_1_1!$P$5,AE33,2),0)","v":0},{"$f":"IFERROR(IF(S33>5,OFFSET(N_W_1_1!$P$5,AE33,4),OFFSET(N_W_1_1!$P$5,AE33,3)),0)","v":0}]
[null,null,null,null,null,null,null,null,null,null,null,0,null,null,0,"-",{"$f":"IFERROR(OFFSET(N_W_1_1!$P$5,AE34,0),\"-\")","v":"-"},"-","-",null,null,null,null,null,null,null,null,null,{"$f":"IFERROR(MATCH(D34,Nr_stad!$U$8:$U$60,0),0)","v":0},0,{"$f":"IF(D34=\"\",\"-\",MATCH(D34,N_W_1_1!$K$6:$K$12,0))","v":"-"},{"$f":"OFFSET(N_W_1_1!$L$5,AE34,1+$AD$12)","v":{"$error":"#VALUE!"}},{"$f":"OFFSET(N_W_1_1!$L$5,AE34,2+$AD$12)","v":{"$error":"#VALUE!"}},{"$f":"OFFSET(N_W_1_1!$L$5,AE34,3+$AD$12)","v":{"$error":"#VALUE!"}},{"$error":"#VALUE!"},{"$error":"#VALUE!"},{"$error":"#VALUE!"},{"$error":"#VALUE!"},{"$error":"#VALUE!"},{"$error":"#VALUE!"},{"$error":"#VALUE!"},{"$f":"IFERROR(OFFSET(N_W_1_1!$L$5,AE34,0),\"\")","v":""},{"$error":"#VALUE!"},{"$f":"IFERROR(OFFSET(N_W_1_1!$P$5,AE34,2),0)","v":0},{"$f":"IFERROR(IF(S34>5,OFFSET(N_W_1_1!$P$5,AE34,4),OFFSET(N_W_1_1!$P$5,AE34,3)),0)","v":0}]
[null,null,null,null,null,null,null,null,null,null,null,0,null,null,0,"-",{"$f":"IFERROR(OFFSET(N_W_1_1!$P$5,AE35,0),\"-\")","v":"-"},"-","-",null,null,null,null,null,null,null,null,null,{"$f":"IFERROR(MATCH(D35,Nr_stad!$U$8:$U$60,0),0)","v":0},0,{"$f":"IF(D35=\"\",\"-\",MATCH(D35,N_W_1_1!$K$6:$K$12,0))","v":"-"},{"$f":"OFFSET(N_W_1_1!$L$5,AE35,1+$AD$12)","v":{"$error":"#VALUE!"}},{"$f":"OFFSET(N_W_1_1!$L$5,AE35,2+$AD$12)","v":{"$error":"#VALUE!"}},{"$f":"OFFSET(N_W_1_1!$L$5,AE35,3+$AD$12)","v":{"$error":"#VALUE!"}},{"$error":"#VALUE!"},{"$error":"#VALUE!"},{"$error":"#VALUE!"},{"$error":"#VALUE!"},{"$error":"#VALUE!"},{"$error":"#VALUE!"},{"$error":"#VALUE!"},{"$f":"IFERROR(OFFSET(N_W_1_1!$L$5,AE35,0),\"\")","v":""},{"$error":"#VALUE!"},{"$f":"IFERROR(OFFSET(N_W_1_1!$P$5,AE35,2),0)","v":0},{"$f":"IFERROR(IF(S35>5,OFFSET(N_W_1_1!$P$5,AE35,4),OFFSET(N_W_1_1!$P$5,AE35,3)),0)","v":0}]
[null,null,null,null,null,null,null,null,null,null,null,0,null,null,0,"-",{"$f":"IFERROR(OFFSET(N_W_1_1!$P$5,AE36,0),\"-\")","v":"-"},"-","-",null,null,null,null,null,null,null,null,null,{"$f":"IFERROR(MATCH(D36,Nr_stad!$U$8:$U$60,0),0)","v":0},0,{"$f":"IF(D36=\"\",\"-\",MATCH(D36,N_W_1_1!$K$6:$K$12,0))","v":"-"},{"$f":"OFFSET(N_W_1_1!$L$5,AE36,1+$AD$12)","v":{"$error":"#VALUE!"}},{"$f":"OFFSET(N_W_1_1!$L$5,AE36,2+$AD$12)","v":{"$error":"#VALUE!"}},{"$f":"OFFSET(N_W_1_1!$L$5,AE36,3+$AD$12)","v":{"$error":"#VALUE!"}},{"$error":"#VALUE!"},{"$error":"#VALUE!"},{"$error":"#VALUE!"},{"$error":"#VALUE!"},{"$error":"#VALUE!"},{"$error":"#VALUE!"},{"$error":"#VALUE!"},{"$f":"IFERROR(OFFSET(N_W_1_1!$L$5,AE36,0),\"\")","v":""},{"$error":"#VALUE!"},{"$f":"IFERROR(OFFSET(N_W_1_1!$P$5,AE36,2),0)","v":0},{"$f":"IFERROR(IF(S36>5,OFFSET(N_W_1_1!$P$5,AE36,4),OFFSET(N_W_1_1!$P$5,AE36,3)),0)","v":0}]
[null,null,null,null,null,null,null,null,null,null,null,0,null,null,0,"-",{"$f":"IFERROR(OFFSET(N_W_1_1!$P$5,AE37,0),\"-\")","v":"-"},"-","-",null,null,null,null,null,null,null,null,null,{"$f":"IFERROR(MATCH(D37,Nr_stad!$U$8:$U$60,0),0)","v":0},0,{"$f":"IF(D37=\"\",\"-\",MATCH(D37,N_W_1_1!$K$6:$K$12,0))","v":"-"},{"$f":"OFFSET(N_W_1_1!$L$5,AE37,1+$AD$12)","v":{"$error":"#VALUE!"}},{"$f":"OFFSET(N_W_1_1!$L$5,AE37,2+$AD$12)","v":{"$error":"#VALUE!"}},{"$f":"OFFSET(N_W_1_1!$L$5,AE37,3+$AD$12)","v":{"$error":"#VALUE!"}},{"$error":"#VALUE!"},{"$error":"#VALUE!"},{"$error":"#VALUE!"},{"$error":"#VALUE!"},{"$error":"#VALUE!"},{"$error":"#VALUE!"},{"$error":"#VALUE!"},{"$f":"IFERROR(OFFSET(N_W_1_1!$L$5,AE37,0),\"\")","v":""},{"$error":"#VALUE!"},{"$f":"IFERROR(OFFSET(N_W_1_1!$P$5,AE37,2),0)","v":0},{"$f":"IFERROR(IF(S37>5,OFFSET(N_W_1_1!$P$5,AE37,4),OFFSET(N_W_1_1!$P$5,AE37,3)),0)","v":0}]
[null,null,null,null,null,null,null,null,null,null,null,0,null,null,0,"-",{"$f":"IFERROR(OFFSET(N_W_1_1!$P$5,AE38,0),\"-\")","v":"-"},"-","-",null,null,null,null,null,null,null,null,null,{"$f":"IFERROR(MATCH(D38,Nr_stad!$U$8:$U$60,0),0)","v":0},0,{"$f":"IF(D38=\"\",\"-\",MATCH(D38,N_W_1_1!$K$6:$K$12,0))","v":"-"},{"$f":"OFFSET(N_W_1_1!$L$5,AE38,1+$AD$12)","v":{"$error":"#VALUE!"}},{"$f":"OFFSET(N_W_1_1!$L$5,AE38,2+$AD$12)","v":{"$error":"#VALUE!"}},{"$f":"OFFSET(N_W_1_1!$L$5,AE38,3+$AD$12)","v":{"$error":"#VALUE!"}},{"$error":"#VALUE!"},{"$error":"#VALUE!"},{"$error":"#VALUE!"},{"$error":"#VALUE!"},{"$error":"#VALUE!"},{"$error":"#VALUE!"},{"$error":"#VALUE!"},{"$f":"IFERROR(OFFSET(N_W_1_1!$L$5,AE38,0),\"\")","v":""},{"$error":"#VALUE!"},{"$f":"IFERROR(OFFSET(N_W_1_1!$P$5,AE38,2),0)","v":0},{"$f":"IFERROR(IF(S38>5,OFFSET(N_W_1_1!$P$5,AE38,4),OFFSET(N_W_1_1!$P$5,AE38,3)),0)","v":0}]
[null,null,null,null,null,null,null,null,null,null,null,0,null,null,0,"-",{"$f":"IFERROR(OFFSET(N_W_1_1!$P$5,AE39,0),\"-\")","v":"-"},"-","-",null,null,null,null,null,null,null,null,null,{"$f":"IFERROR(MATCH(D39,Nr_stad!$U$8:$U$60,0),0)","v":0},0,{"$f":"IF(D39=\"\",\"-\",MATCH(D39,N_W_1_1!$K$6:$K$12,0))","v":"-"},{"$f":"OFFSET(N_W_1_1!$L$5,AE39,1+$AD$12)","v":{"$error":"#VALUE!"}},{"$f":"OFFSET(N_W_1_1!$L$5,AE39,2+$AD$12)","v":{"$error":"#VALUE!"}},{"$f":"OFFSET(N_W_1_1!$L$5,AE39,3+$AD$12)","v":{"$error":"#VALUE!"}},{"$error":"#VALUE!"},{"$error":"#VALUE!"},{"$error":"#VALUE!"},{"$error":"#VALUE!"},{"$error":"#VALUE!"},{"$error":"#VALUE!"},{"$error":"#VALUE!"},{"$f":"IFERROR(OFFSET(N_W_1_1!$L$5,AE39,0),\"\")","v":""},{"$error":"#VALUE!"},{"$f":"IFERROR(OFFSET(N_W_1_1!$P$5,AE39,2),0)","v":0},{"$f":"IFERROR(IF(S39>5,OFFSET(N_W_1_1!$P$5,AE39,4),OFFSET(N_W_1_1!$P$5,AE39,3)),0)","v":0}]
[null,null,null,null,null,null,null,null,null,null,null,0,null,null,0,"-",{"$f":"IFERROR(OFFSET(N_W_1_1!$P$5,AE40,0),\"-\")","v":"-"},"-","-",null,null,null,null,null,null,null,null,null,{"$f":"IFERROR(MATCH(D40,Nr_stad!$U$8:$U$60,0),0)","v":0},0,{"$f":"IF(D40=\"\",\"-\",MATCH(D40,N_W_1_1!$K$6:$K$12,0))","v":"-"},{"$f":"OFFSET(N_W_1_1!$L$5,AE40,1+$AD$12)","v":{"$error":"#VALUE!"}},{"$f":"OFFSET(N_W_1_1!$L$5,AE40,2+$AD$12)","v":{"$error":"#VALUE!"}},{"$f":"OFFSET(N_W_1_1!$L$5,AE40,3+$AD$12)","v":{"$error":"#VALUE!"}},{"$error":"#VALUE!"},{"$error":"#VALUE!"},{"$error":"#VALUE!"},{"$error":"#VALUE!"},{"$error":"#VALUE!"},{"$error":"#VALUE!"},{"$error":"#VALUE!"},{"$f":"IFERROR(OFFSET(N_W_1_1!$L$5,AE40,0),\"\")","v":""},{"$error":"#VALUE!"},{"$f":"IFERROR(OFFSET(N_W_1_1!$P$5,AE40,2),0)","v":0},{"$f":"IFERROR(IF(S40>5,OFFSET(N_W_1_1!$P$5,AE40,4),OFFSET(N_W_1_1!$P$5,AE40,3)),0)","v":0}]
[null,null,null,null,null,null,null,null,null,null,null,0,null,null,0,"-",{"$f":"IFERROR(OFFSET(N_W_1_1!$P$5,AE41,0),\"-\")","v":"-"},"-","-",null,null,null,null,null,null,null,null,null,{"$f":"IFERROR(MATCH(D41,Nr_stad!$U$8:$U$60,0),0)","v":0},0,{"$f":"IF(D41=\"\",\"-\",MATCH(D41,N_W_1_1!$K$6:$K$12,0))","v":"-"},{"$f":"OFFSET(N_W_1_1!$L$5,AE41,1+$AD$12)","v":{"$error":"#VALUE!"}},{"$f":"OFFSET(N_W_1_1!$L$5,AE41,2+$AD$12)","v":{"$error":"#VALUE!"}},{"$f":"OFFSET(N_W_1_1!$L$5,AE41,3+$AD$12)","v":{"$error":"#VALUE!"}},{"$error":"#VALUE!"},{"$error":"#VALUE!"},{"$error":"#VALUE!"},{"$error":"#VALUE!"},{"$error":"#VALUE!"},{"$error":"#VALUE!"},{"$error":"#VALUE!"},{"$f":"IFERROR(OFFSET(N_W_1_1!$L$5,AE41,0),\"\")","v":""},{"$error":"#VALUE!"},{"$f":"IFERROR(OFFSET(N_W_1_1!$P$5,AE41,2),0)","v":0},{"$f":"IFERROR(IF(S41>5,OFFSET(N_W_1_1!$P$5,AE41,4),OFFSET(N_W_1_1!$P$5,AE41,3)),0)","v":0}]
[null,null,null,null,null,null,null,null,null,null,null,0,null,null,0,"-",{"$f":"IFERROR(OFFSET(N_W_1_1!$P$5,AE42,0),\"-\")","v":"-"},"-","-",null,null,null,null,null,null,null,null,null,{"$f":"IFERROR(MATCH(D42,Nr_stad!$U$8:$U$60,0),0)","v":0},0,{"$f":"IF(D42=\"\",\"-\",MATCH(D42,N_W_1_1!$K$6:$K$12,0))","v":"-"},{"$f":"OFFSET(N_W_1_1!$L$5,AE42,1+$AD$12)","v":{"$error":"#VALUE!"}},{"$f":"OFFSET(N_W_1_1!$L$5,AE42,2+$AD$12)","v":{"$error":"#VALUE!"}},{"$f":"OFFSET(N_W_1_1!$L$5,AE42,3+$AD$12)","v":{"$error":"#VALUE!"}},{"$error":"#VALUE!"},{"$error":"#VALUE!"},{"$error":"#VALUE!"},{"$error":"#VALUE!"},{"$error":"#VALUE!"},{"$error":"#VALUE!"},{"$error":"#VALUE!"},{"$f":"IFERROR(OFFSET(N_W_1_1!$L$5,AE42,0),\"\")","v":""},{"$error":"#VALUE!"},{"$f":"IFERROR(OFFSET(N_W_1_1!$P$5,AE42,2),0)","v":0},{"$f":"IFERROR(IF(S42>5,OFFSET(N_W_1_1!$P$5,AE42,4),OFFSET(N_W_1_1!$P$5,AE42,3)),0)","v":0}]
[null,null,null,null,null,null,null,null,null,null,null,0,null,null,0,"-",{"$f":"IFERROR(OFFSET(N_W_1_1!$P$5,AE43,0),\"-\")","v":"-"},"-","-",null,null,null,null,null,null,null,null,null,{"$f":"IFERROR(MATCH(D43,Nr_stad!$U$8:$U$60,0),0)","v":0},0,{"$f":"IF(D43=\"\",\"-\",MATCH(D43,N_W_1_1!$K$6:$K$12,0))","v":"-"},{"$f":"OFFSET(N_W_1_1!$L$5,AE43,1+$AD$12)","v":{"$error":"#VALUE!"}},{"$f":"OFFSET(N_W_1_1!$L$5,AE43,2+$AD$12)","v":{"$error":"#VALUE!"}},{"$f":"OFFSET(N_W_1_1!$L$5,AE43,3+$AD$12)","v":{"$error":"#VALUE!"}},{"$error":"#VALUE!"},{"$error":"#VALUE!"},{"$error":"#VALUE!"},{"$error":"#VALUE!"},{"$error":"#VALUE!"},{"$error":"#VALUE!"},{"$error":"#VALUE!"},{"$f":"IFERROR(OFFSET(N_W_1_1!$L$5,AE43,0),\"\")","v":""},{"$error":"#VALUE!"},{"$f":"IFERROR(OFFSET(N_W_1_1!$P$5,AE43,2),0)","v":0},{"$f":"IFERROR(IF(S43>5,OFFSET(N_W_1_1!$P$5,AE43,4),OFFSET(N_W_1_1!$P$5,AE43,3)),0)","v":0}]
[null,null,null,null,null,null,null,null,null,null,null,0,null,null,0,"-",{"$f":"IFERROR(OFFSET(N_W_1_1!$P$5,AE44,0),\"-\")","v":"-"},"-","-",null,null,null,null,null,null,null,null,null,{"$f":"IFERROR(MATCH(D44,Nr_stad!$U$8:$U$60,0),0)","v":0},0,{"$f":"IF(D44=\"\",\"-\",MATCH(D44,N_W_1_1!$K$6:$K$12,0))","v":"-"},{"$f":"OFFSET(N_W_1_1!$L$5,AE44,1+$AD$12)","v":{"$error":"#VALUE!"}},{"$f":"OFFSET(N_W_1_1!$L$5,AE44,2+$AD$12)","v":{"$error":"#VALUE!"}},{"$f":"OFFSET(N_W_1_1!$L$5,AE44,3+$AD$12)","v":{"$error":"#VALUE!"}},{"$error":"#VALUE!"},{"$error":"#VALUE!"},{"$error":"#VALUE!"},{"$error":"#VALUE!"},{"$error":"#VALUE!"},{"$error":"#VALUE!"},{"$error":"#VALUE!"},{"$f":"IFERROR(OFFSET(N_W_1_1!$L$5,AE44,0),\"\")","v":""},{"$error":"#VALUE!"},{"$f":"IFERROR(OFFSET(N_W_1_1!$P$5,AE44,2),0)","v":0},{"$f":"IFERROR(IF(S44>5,OFFSET(N_W_1_1!$P$5,AE44,4),OFFSET(N_W_1_1!$P$5,AE44,3)),0)","v":0}]
[null,null,null,null,null,null,null,null,null,null,null,0,null,null,0,"-",{"$f":"IFERROR(OFFSET(N_W_1_1!$P$5,AE45,0),\"-\")","v":"-"},"-","-",null,null,null,null,null,null,null,null,null,{"$f":"IFERROR(MATCH(D45,Nr_stad!$U$8:$U$60,0),0)","v":0},0,{"$f":"IF(D45=\"\",\"-\",MATCH(D45,N_W_1_1!$K$6:$K$12,0))","v":"-"},{"$f":"OFFSET(N_W_1_1!$L$5,AE45,1+$AD$12)","v":{"$error":"#VALUE!"}},{"$f":"OFFSET(N_W_1_1!$L$5,AE45,2+$AD$12)","v":{"$error":"#VALUE!"}},{"$f":"OFFSET(N_W_1_1!$L$5,AE45,3+$AD$12)","v":{"$error":"#VALUE!"}},{"$error":"#VALUE!"},{"$error":"#VALUE!"},{"$error":"#VALUE!"},{"$error":"#VALUE!"},{"$error":"#VALUE!"},{"$error":"#VALUE!"},{"$error":"#VALUE!"},{"$f":"IFERROR(OFFSET(N_W_1_1!$L$5,AE45,0),\"\")","v":""},{"$error":"#VALUE!"},{"$f":"IFERROR(OFFSET(N_W_1_1!$P$5,AE45,2),0)","v":0},{"$f":"IFERROR(IF(S45>5,OFFSET(N_W_1_1!$P$5,AE45,4),OFFSET(N_W_1_1!$P$5,AE45,3)),0)","v":0}]
[null,null,null,null,null,null,null,null,null,null,null,0,null,null,0,"-",{"$f":"IFERROR(OFFSET(N_W_1_1!$P$5,AE46,0),\"-\")","v":"-"},"-","-",null,null,null,null,null,null,null,null,null,{"$f":"IFERROR(MATCH(D46,Nr_stad!$U$8:$U$60,0),0)","v":0},0,{"$f":"IF(D46=\"\",\"-\",MATCH(D46,N_W_1_1!$K$6:$K$12,0))","v":"-"},{"$f":"OFFSET(N_W_1_1!$L$5,AE46,1+$AD$12)","v":{"$error":"#VALUE!"}},{"$f":"OFFSET(N_W_1_1!$L$5,AE46,2+$AD$12)","v":{"$error":"#VALUE!"}},{"$f":"OFFSET(N_W_1_1!$L$5,AE46,3+$AD$12)","v":{"$error":"#VALUE!"}},{"$error":"#VALUE!"},{"$error":"#VALUE!"},{"$error":"#VALUE!"},{"$error":"#VALUE!"},{"$error":"#VALUE!"},{"$error":"#VALUE!"},{"$error":"#VALUE!"},{"$f":"IFERROR(OFFSET(N_W_1_1!$L$5,AE46,0),\"\")","v":""},{"$error":"#VALUE!"},{"$f":"IFERROR(OFFSET(N_W_1_1!$P$5,AE46,2),0)","v":0},{"$f":"IFERROR(IF(S46>5,OFFSET(N_W_1_1!$P$5,AE46,4),OFFSET(N_W_1_1!$P$5,AE46,3)),0)","v":0}]
[null,null,null,null,null,null,null,null,null,null,null,0,null,null,0,"-",{"$f":"IFERROR(OFFSET(N_W_1_1!$P$5,AE47,0),\"-\")","v":"-"},"-","-",null,null,null,null,null,null,null,null,null,{"$f":"IFERROR(MATCH(D47,Nr_stad!$U$8:$U$60,0),0)","v":0},0,{"$f":"IF(D47=\"\",\"-\",MATCH(D47,N_W_1_1!$K$6:$K$12,0))","v":"-"},{"$f":"OFFSET(N_W_1_1!$L$5,AE47,1+$AD$12)","v":{"$error":"#VALUE!"}},{"$f":"OFFSET(N_W_1_1!$L$5,AE47,2+$AD$12)","v":{"$error":"#VALUE!"}},{"$f":"OFFSET(N_W_1_1!$L$5,AE47,3+$AD$12)","v":{"$error":"#VALUE!"}},{"$error":"#VALUE!"},{"$error":"#VALUE!"},{"$error":"#VALUE!"},{"$error":"#VALUE!"},{"$error":"#VALUE!"},{"$error":"#VALUE!"},{"$error":"#VALUE!"},{"$f":"IFERROR(OFFSET(N_W_1_1!$L$5,AE47,0),\"\")","v":""},{"$error":"#VALUE!"},{"$f":"IFERROR(OFFSET(N_W_1_1!$P$5,AE47,2),0)","v":0},{"$f":"IFERROR(IF(S47>5,OFFSET(N_W_1_1!$P$5,AE47,4),OFFSET(N_W_1_1!$P$5,AE47,3)),0)","v":0}]
[null,null,null,null,null,null,null,null,null,null,null,0,null,null,0,"-",{"$f":"IFERROR(OFFSET(N_W_1_1!$P$5,AE48,0),\"-\")","v":"-"},"-","-",null,null,null,null,null,null,null,null,null,{"$f":"IFERROR(MATCH(D48,Nr_stad!$U$8:$U$60,0),0)","v":0},0,{"$f":"IF(D48=\"\",\"-\",MATCH(D48,N_W_1_1!$K$6:$K$12,0))","v":"-"},{"$f":"OFFSET(N_W_1_1!$L$5,AE48,1+$AD$12)","v":{"$error":"#VALUE!"}},{"$f":"OFFSET(N_W_1_1!$L$5,AE48,2+$AD$12)","v":{"$error":"#VALUE!"}},{"$f":"OFFSET(N_W_1_1!$L$5,AE48,3+$AD$12)","v":{"$error":"#VALUE!"}},{"$error":"#VALUE!"},{"$error":"#VALUE!"},{"$error":"#VALUE!"},{"$error":"#VALUE!"},{"$error":"#VALUE!"},{"$error":"#VALUE!"},{"$error":"#VALUE!"},{"$f":"IFERROR(OFFSET(N_W_1_1!$L$5,AE48,0),\"\")","v":""},{"$error":"#VALUE!"},{"$f":"IFERROR(OFFSET(N_W_1_1!$P$5,AE48,2),0)","v":0},{"$f":"IFERROR(IF(S48>5,OFFSET(N_W_1_1!$P$5,AE48,4),OFFSET(N_W_1_1!$P$5,AE48,3)),0)","v":0}]
[null,null,null,null,null,null,null,null,null,null,null,0,null,null,0,"-",{"$f":"IFERROR(OFFSET(N_W_1_1!$P$5,AE49,0),\"-\")","v":"-"},"-","-",null,null,null,null,null,null,null,null,null,{"$f":"IFERROR(MATCH(D49,Nr_stad!$U$8:$U$60,0),0)","v":0},0,{"$f":"IF(D49=\"\",\"-\",MATCH(D49,N_W_1_1!$K$6:$K$12,0))","v":"-"},{"$f":"OFFSET(N_W_1_1!$L$5,AE49,1+$AD$12)","v":{"$error":"#VALUE!"}},{"$f":"OFFSET(N_W_1_1!$L$5,AE49,2+$AD$12)","v":{"$error":"#VALUE!"}},{"$f":"OFFSET(N_W_1_1!$L$5,AE49,3+$AD$12)","v":{"$error":"#VALUE!"}},{"$error":"#VALUE!"},{"$error":"#VALUE!"},{"$error":"#VALUE!"},{"$error":"#VALUE!"},{"$error":"#VALUE!"},{"$error":"#VALUE!"},{"$error":"#VALUE!"},{"$f":"IFERROR(OFFSET(N_W_1_1!$L$5,AE49,0),\"\")","v":""},{"$error":"#VALUE!"},{"$f":"IFERROR(OFFSET(N_W_1_1!$P$5,AE49,2),0)","v":0},{"$f":"IFERROR(IF(S49>5,OFFSET(N_W_1_1!$P$5,AE49,4),OFFSET(N_W_1_1!$P$5,AE49,3)),0)","v":0}]
[null,null,null,null,null,null,null,null,null,null,null,0,null,null,0,"-",{"$f":"IFERROR(OFFSET(N_W_1_1!$P$5,AE50,0),\"-\")","v":"-"},"-","-",null,null,null,null,null,null,null,null,null,{"$f":"IFERROR(MATCH(D50,Nr_stad!$U$8:$U$60,0),0)","v":0},0,{"$f":"IF(D50=\"\",\"-\",MATCH(D50,N_W_1_1!$K$6:$K$12,0))","v":"-"},{"$f":"OFFSET(N_W_1_1!$L$5,AE50,1+$AD$12)","v":{"$error":"#VALUE!"}},{"$f":"OFFSET(N_W_1_1!$L$5,AE50,2+$AD$12)","v":{"$error":"#VALUE!"}},{"$f":"OFFSET(N_W_1_1!$L$5,AE50,3+$AD$12)","v":{"$error":"#VALUE!"}},{"$error":"#VALUE!"},{"$error":"#VALUE!"},{"$error":"#VALUE!"},{"$error":"#VALUE!"},{"$error":"#VALUE!"},{"$error":"#VALUE!"},{"$error":"#VALUE!"},{"$f":"IFERROR(OFFSET(N_W_1_1!$L$5,AE50,0),\"\")","v":""},{"$error":"#VALUE!"},{"$f":"IFERROR(OFFSET(N_W_1_1!$P$5,AE50,2),0)","v":0},{"$f":"IFERROR(IF(S50>5,OFFSET(N_W_1_1!$P$5,AE50,4),OFFSET(N_W_1_1!$P$5,AE50,3)),0)","v":0}]
[null,null,null,null,null,null,null,null,null,null,null,0,null,null,0,"-",{"$f":"IFERROR(OFFSET(N_W_1_1!$P$5,AE51,0),\"-\")","v":"-"},"-","-",null,null,null,null,null,null,null,null,null,{"$f":"IFERROR(MATCH(D51,Nr_stad!$U$8:$U$60,0),0)","v":0},0,{"$f":"IF(D51=\"\",\"-\",MATCH(D51,N_W_1_1!$K$6:$K$12,0))","v":"-"},{"$f":"OFFSET(N_W_1_1!$L$5,AE51,1+$AD$12)","v":{"$error":"#VALUE!"}},{"$f":"OFFSET(N_W_1_1!$L$5,AE51,2+$AD$12)","v":{"$error":"#VALUE!"}},{"$f":"OFFSET(N_W_1_1!$L$5,AE51,3+$AD$12)","v":{"$error":"#VALUE!"}},{"$error":"#VALUE!"},{"$error":"#VALUE!"},{"$error":"#VALUE!"},{"$error":"#VALUE!"},{"$error":"#VALUE!"},{"$error":"#VALUE!"},{"$error":"#VALUE!"},{"$f":"IFERROR(OFFSET(N_W_1_1!$L$5,AE51,0),\"\")","v":""},{"$error":"#VALUE!"},{"$f":"IFERROR(OFFSET(N_W_1_1!$P$5,AE51,2),0)","v":0},{"$f":"IFERROR(IF(S51>5,OFFSET(N_W_1_1!$P$5,AE51,4),OFFSET(N_W_1_1!$P$5,AE51,3)),0)","v":0}]
[null,null,null,null,null,null,null,null,null,null,null,0,null,null,0,"-",{"$f":"IFERROR(OFFSET(N_W_1_1!$P$5,AE52,0),\"-\")","v":"-"},"-","-",null,null,null,null,null,null,null,null,null,{"$f":"IFERROR(MATCH(D52,Nr_stad!$U$8:$U$60,0),0)","v":0},0,{"$f":"IF(D52=\"\",\"-\",MATCH(D52,N_W_1_1!$K$6:$K$12,0))","v":"-"},{"$f":"OFFSET(N_W_1_1!$L$5,AE52,1+$AD$12)","v":{"$error":"#VALUE!"}},{"$f":"OFFSET(N_W_1_1!$L$5,AE52,2+$AD$12)","v":{"$error":"#VALUE!"}},{"$f":"OFFSET(N_W_1_1!$L$5,AE52,3+$AD$12)","v":{"$error":"#VALUE!"}},{"$error":"#VALUE!"},{"$error":"#VALUE!"},{"$error":"#VALUE!"},{"$error":"#VALUE!"},{"$error":"#VALUE!"},{"$error":"#VALUE!"},{"$error":"#VALUE!"},{"$f":"IFERROR(OFFSET(N_W_1_1!$L$5,AE52,0),\"\")","v":""},{"$error":"#VALUE!"},{"$f":"IFERROR(OFFSET(N_W_1_1!$P$5,AE52,2),0)","v":0},{"$f":"IFERROR(IF(S52>5,OFFSET(N_W_1_1!$P$5,AE52,4),OFFSET(N_W_1_1!$P$5,AE52,3)),0)","v":0}]
[null,null,null,null,null,null,null,null,null,null,null,0,null,null,0,"-",{"$f":"IFERROR(OFFSET(N_W_1_1!$P$5,AE53,0),\"-\")","v":"-"},"-","-",null,null,null,null,null,null,null,null,null,{"$f":"IFERROR(MATCH(D53,Nr_stad!$U$8:$U$60,0),0)","v":0},0,{"$f":"IF(D53=\"\",\"-\",MATCH(D53,N_W_1_1!$K$6:$K$12,0))","v":"-"},{"$f":"OFFSET(N_W_1_1!$L$5,AE53,1+$AD$12)","v":{"$error":"#VALUE!"}},{"$f":"OFFSET(N_W_1_1!$L$5,AE53,2+$AD$12)","v":{"$error":"#VALUE!"}},{"$f":"OFFSET(N_W_1_1!$L$5,AE53,3+$AD$12)","v":{"$error":"#VALUE!"}},{"$error":"#VALUE!"},{"$error":"#VALUE!"},{"$error":"#VALUE!"},{"$error":"#VALUE!"},{"$error":"#VALUE!"},{"$error":"#VALUE!"},{"$error":"#VALUE!"},{"$f":"IFERROR(OFFSET(N_W_1_1!$L$5,AE53,0),\"\")","v":""},{"$error":"#VALUE!"},{"$f":"IFERROR(OFFSET(N_W_1_1!$P$5,AE53,2),0)","v":0},{"$f":"IFERROR(IF(S53>5,OFFSET(N_W_1_1!$P$5,AE53,4),OFFSET(N_W_1_1!$P$5,AE53,3)),0)","v":0}]
[null,null,null,null,null,null,null,null,null,null,null,0,null,null,0,"-",{"$f":"IFERROR(OFFSET(N_W_1_1!$P$5,AE54,0),\"-\")","v":"-"},"-","-",null,null,null,null,null,null,null,null,null,{"$f":"IFERROR(MATCH(D54,Nr_stad!$U$8:$U$60,0),0)","v":0},0,{"$f":"IF(D54=\"\",\"-\",MATCH(D54,N_W_1_1!$K$6:$K$12,0))","v":"-"},{"$f":"OFFSET(N_W_1_1!$L$5,AE54,1+$AD$12)","v":{"$error":"#VALUE!"}},{"$f":"OFFSET(N_W_1_1!$L$5,AE54,2+$AD$12)","v":{"$error":"#VALUE!"}},{"$f":"OFFSET(N_W_1_1!$L$5,AE54,3+$AD$12)","v":{"$error":"#VALUE!"}},{"$error":"#VALUE!"},{"$error":"#VALUE!"},{"$error":"#VALUE!"},{"$error":"#VALUE!"},{"$error":"#VALUE!"},{"$error":"#VALUE!"},{"$error":"#VALUE!"},{"$f":"IFERROR(OFFSET(N_W_1_1!$L$5,AE54,0),\"\")","v":""},{"$error":"#VALUE!"},{"$f":"IFERROR(OFFSET(N_W_1_1!$P$5,AE54,2),0)","v":0},{"$f":"IFERROR(IF(S54>5,OFFSET(N_W_1_1!$P$5,AE54,4),OFFSET(N_W_1_1!$P$5,AE54,3)),0)","v":0}]
[null,null,null,null,null,null,null,null,null,null,null,0,null,null,0,"-",{"$f":"IFERROR(OFFSET(N_W_1_1!$P$5,AE55,0),\"-\")","v":"-"},"-","-",null,null,null,null,null,null,null,null,null,{"$f":"IFERROR(MATCH(D55,Nr_stad!$U$8:$U$60,0),0)","v":0},0,{"$f":"IF(D55=\"\",\"-\",MATCH(D55,N_W_1_1!$K$6:$K$12,0))","v":"-"},{"$f":"OFFSET(N_W_1_1!$L$5,AE55,1+$AD$12)","v":{"$error":"#VALUE!"}},{"$f":"OFFSET(N_W_1_1!$L$5,AE55,2+$AD$12)","v":{"$error":"#VALUE!"}},{"$f":"OFFSET(N_W_1_1!$L$5,AE55,3+$AD$12)","v":{"$error":"#VALUE!"}},{"$error":"#VALUE!"},{"$error":"#VALUE!"},{"$error":"#VALUE!"},{"$error":"#VALUE!"},{"$error":"#VALUE!"},{"$error":"#VALUE!"},{"$error":"#VALUE!"},{"$f":"IFERROR(OFFSET(N_W_1_1!$L$5,AE55,0),\"\")","v":""},{"$error":"#VALUE!"},{"$f":"IFERROR(OFFSET(N_W_1_1!$P$5,AE55,2),0)","v":0},{"$f":"IFERROR(IF(S55>5,OFFSET(N_W_1_1!$P$5,AE55,4),OFFSET(N_W_1_1!$P$5,AE55,3)),0)","v":0}]
[null,null,null,null,null,null,null,null,null,null,null,0,null,null,0,"-",{"$f":"IFERROR(OFFSET(N_W_1_1!$P$5,AE56,0),\"-\")","v":"-"},"-","-",null,null,null,null,null,null,null,null,null,{"$f":"IFERROR(MATCH(D56,Nr_stad!$U$8:$U$60,0),0)","v":0},0,{"$f":"IF(D56=\"\",\"-\",MATCH(D56,N_W_1_1!$K$6:$K$12,0))","v":"-"},{"$f":"OFFSET(N_W_1_1!$L$5,AE56,1+$AD$12)","v":{"$error":"#VALUE!"}},{"$f":"OFFSET(N_W_1_1!$L$5,AE56,2+$AD$12)","v":{"$error":"#VALUE!"}},{"$f":"OFFSET(N_W_1_1!$L$5,AE56,3+$AD$12)","v":{"$error":"#VALUE!"}},{"$error":"#VALUE!"},{"$error":"#VALUE!"},{"$error":"#VALUE!"},{"$error":"#VALUE!"},{"$error":"#VALUE!"},{"$error":"#VALUE!"},{"$error":"#VALUE!"},{"$f":"IFERROR(OFFSET(N_W_1_1!$L$5,AE56,0),\"\")","v":""},{"$error":"#VALUE!"},{"$f":"IFERROR(OFFSET(N_W_1_1!$P$5,AE56,2),0)","v":0},{"$f":"IFERROR(IF(S56>5,OFFSET(N_W_1_1!$P$5,AE56,4),OFFSET(N_W_1_1!$P$5,AE56,3)),0)","v":0}]
[null,null,null,null,null,null,null,null,null,null,null,0,null,null,0,"-",{"$f":"IFERROR(OFFSET(N_W_1_1!$P$5,AE57,0),\"-\")","v":"-"},"-","-",null,null,null,null,null,null,null,null,null,{"$f":"IFERROR(MATCH(D57,Nr_stad!$U$8:$U$60,0),0)","v":0},0,{"$f":"IF(D57=\"\",\"-\",MATCH(D57,N_W_1_1!$K$6:$K$12,0))","v":"-"},{"$f":"OFFSET(N_W_1_1!$L$5,AE57,1+$AD$12)","v":{"$error":"#VALUE!"}},{"$f":"OFFSET(N_W_1_1!$L$5,AE57,2+$AD$12)","v":{"$error":"#VALUE!"}},{"$f":"OFFSET(N_W_1_1!$L$5,AE57,3+$AD$12)","v":{"$error":"#VALUE!"}},{"$error":"#VALUE!"},{"$error":"#VALUE!"},{"$error":"#VALUE!"},{"$error":"#VALUE!"},{"$error":"#VALUE!"},{"$error":"#VALUE!"},{"$error":"#VALUE!"},{"$f":"IFERROR(OFFSET(N_W_1_1!$L$5,AE57,0),\"\")","v":""},{"$error":"#VALUE!"},{"$f":"IFERROR(OFFSET(N_W_1_1!$P$5,AE57,2),0)","v":0},{"$f":"IFERROR(IF(S57>5,OFFSET(N_W_1_1!$P$5,AE57,4),OFFSET(N_W_1_1!$P$5,AE57,3)),0)","v":0}]
[null,null,null,null,null,null,null,null,null,null,null,0,null,null,0,"-",{"$f":"IFERROR(OFFSET(N_W_1_1!$P$5,AE58,0),\"-\")","v":"-"},"-","-",null,null,null,null,null,null,null,null,null,{"$f":"IFERROR(MATCH(D58,Nr_stad!$U$8:$U$60,0),0)","v":0},0,{"$f":"IF(D58=\"\",\"-\",MATCH(D58,N_W_1_1!$K$6:$K$12,0))","v":"-"},{"$f":"OFFSET(N_W_1_1!$L$5,AE58,1+$AD$12)","v":{"$error":"#VALUE!"}},{"$f":"OFFSET(N_W_1_1!$L$5,AE58,2+$AD$12)","v":{"$error":"#VALUE!"}},{"$f":"OFFSET(N_W_1_1!$L$5,AE58,3+$AD$12)","v":{"$error":"#VALUE!"}},{"$error":"#VALUE!"},{"$error":"#VALUE!"},{"$error":"#VALUE!"},{"$error":"#VALUE!"},{"$error":"#VALUE!"},{"$error":"#VALUE!"},{"$error":"#VALUE!"},{"$f":"IFERROR(OFFSET(N_W_1_1!$L$5,AE58,0),\"\")","v":""},{"$error":"#VALUE!"},{"$f":"IFERROR(OFFSET(N_W_1_1!$P$5,AE58,2),0)","v":0},{"$f":"IFERROR(IF(S58>5,OFFSET(N_W_1_1!$P$5,AE58,4),OFFSET(N_W_1_1!$P$5,AE58,3)),0)","v":0}]
[null,null,null,null,null,null,null,null,null,null,null,0,null,null,0,"-",{"$f":"IFERROR(OFFSET(N_W_1_1!$P$5,AE59,0),\"-\")","v":"-"},"-","-",null,null,null,null,null,null,null,null,null,{"$f":"IFERROR(MATCH(D59,Nr_stad!$U$8:$U$60,0),0)","v":0},0,{"$f":"IF(D59=\"\",\"-\",MATCH(D59,N_W_1_1!$K$6:$K$12,0))","v":"-"},{"$f":"OFFSET(N_W_1_1!$L$5,AE59,1+$AD$12)","v":{"$error":"#VALUE!"}},{"$f":"OFFSET(N_W_1_1!$L$5,AE59,2+$AD$12)","v":{"$error":"#VALUE!"}},{"$f":"OFFSET(N_W_1_1!$L$5,AE59,3+$AD$12)","v":{"$error":"#VALUE!"}},{"$error":"#VALUE!"},{"$error":"#VALUE!"},{"$error":"#VALUE!"},{"$error":"#VALUE!"},{"$error":"#VALUE!"},{"$error":"#VALUE!"},{"$error":"#VALUE!"},{"$f":"IFERROR(OFFSET(N_W_1_1!$L$5,AE59,0),\"\")","v":""},{"$error":"#VALUE!"},{"$f":"IFERROR(OFFSET(N_W_1_1!$P$5,AE59,2),0)","v":0},{"$f":"IFERROR(IF(S59>5,OFFSET(N_W_1_1!$P$5,AE59,4),OFFSET(N_W_1_1!$P$5,AE59,3)),0)","v":0}]
[null,null,null,null,null,null,null,null,null,null,null,0,null,null,0,"-",{"$f":"IFERROR(OFFSET(N_W_1_1!$P$5,AE60,0),\"-\")","v":"-"},"-","-",null,null,null,null,null,null,null,null,null,{"$f":"IFERROR(MATCH(D60,Nr_stad!$U$8:$U$60,0),0)","v":0},0,{"$f":"IF(D60=\"\",\"-\",MATCH(D60,N_W_1_1!$K$6:$K$12,0))","v":"-"},{"$f":"OFFSET(N_W_1_1!$L$5,AE60,1+$AD$12)","v":{"$error":"#VALUE!"}},{"$f":"OFFSET(N_W_1_1!$L$5,AE60,2+$AD$12)","v":{"$error":"#VALUE!"}},{"$f":"OFFSET(N_W_1_1!$L$5,AE60,3+$AD$12)","v":{"$error":"#VALUE!"}},{"$error":"#VALUE!"},{"$error":"#VALUE!"},{"$error":"#VALUE!"},{"$error":"#VALUE!"},{"$error":"#VALUE!"},{"$error":"#VALUE!"},{"$error":"#VALUE!"},{"$f":"IFERROR(OFFSET(N_W_1_1!$L$5,AE60,0),\"\")","v":""},{"$error":"#VALUE!"},{"$f":"IFERROR(OFFSET(N_W_1_1!$P$5,AE60,2),0)","v":0},{"$f":"IFERROR(IF(S60>5,OFFSET(N_W_1_1!$P$5,AE60,4),OFFSET(N_W_1_1!$P$5,AE60,3)),0)","v":0}]
[null,null,null,null,null,null,null,null,null,null,null,0,null,null,0,"-",{"$f":"IFERROR(OFFSET(N_W_1_1!$P$5,AE61,0),\"-\")","v":"-"},"-","-",null,null,null,null,null,null,null,null,null,{"$f":"IFERROR(MATCH(D61,Nr_stad!$U$8:$U$60,0),0)","v":0},0,{"$f":"IF(D61=\"\",\"-\",MATCH(D61,N_W_1_1!$K$6:$K$12,0))","v":"-"},{"$f":"OFFSET(N_W_1_1!$L$5,AE61,1+$AD$12)","v":{"$error":"#VALUE!"}},{"$f":"OFFSET(N_W_1_1!$L$5,AE61,2+$AD$12)","v":{"$error":"#VALUE!"}},{"$f":"OFFSET(N_W_1_1!$L$5,AE61,3+$AD$12)","v":{"$error":"#VALUE!"}},{"$error":"#VALUE!"},{"$error":"#VALUE!"},{"$error":"#VALUE!"},{"$error":"#VALUE!"},{"$error":"#VALUE!"},{"$error":"#VALUE!"},{"$error":"#VALUE!"},{"$f":"IFERROR(OFFSET(N_W_1_1!$L$5,AE61,0),\"\")","v":""},{"$error":"#VALUE!"},{"$f":"IFERROR(OFFSET(N_W_1_1!$P$5,AE61,2),0)","v":0},{"$f":"IFERROR(IF(S61>5,OFFSET(N_W_1_1!$P$5,AE61,4),OFFSET(N_W_1_1!$P$5,AE61,3)),0)","v":0}]
[null,null,null,null,null,null,null,null,null,null,null,0,null,null,0,"-",{"$f":"IFERROR(OFFSET(N_W_1_1!$P$5,AE62,0),\"-\")","v":"-"},"-","-",null,null,null,null,null,null,null,null,null,{"$f":"IFERROR(MATCH(D62,Nr_stad!$U$8:$U$60,0),0)","v":0},0,{"$f":"IF(D62=\"\",\"-\",MATCH(D62,N_W_1_1!$K$6:$K$12,0))","v":"-"},{"$f":"OFFSET(N_W_1_1!$L$5,AE62,1+$AD$12)","v":{"$error":"#VALUE!"}},{"$f":"OFFSET(N_W_1_1!$L$5,AE62,2+$AD$12)","v":{"$error":"#VALUE!"}},{"$f":"OFFSET(N_W_1_1!$L$5,AE62,3+$AD$12)","v":{"$error":"#VALUE!"}},{"$error":"#VALUE!"},{"$error":"#VALUE!"},{"$error":"#VALUE!"},{"$error":"#VALUE!"},{"$error":"#VALUE!"},{"$error":"#VALUE!"},{"$error":"#VALUE!"},{"$f":"IFERROR(OFFSET(N_W_1_1!$L$5,AE62,0),\"\")","v":""},{"$error":"#VALUE!"},{"$f":"IFERROR(OFFSET(N_W_1_1!$P$5,AE62,2),0)","v":0},{"$f":"IFERROR(IF(S62>5,OFFSET(N_W_1_1!$P$5,AE62,4),OFFSET(N_W_1_1!$P$5,AE62,3)),0)","v":0}]
[null,null,null,null,null,null,null,null,null,null,null,0,null,null,0,"-",{"$f":"IFERROR(OFFSET(N_W_1_1!$P$5,AE63,0),\"-\")","v":"-"},"-","-",null,null,null,null,null,null,null,null,null,{"$f":"IFERROR(MATCH(D63,Nr_stad!$U$8:$U$60,0),0)","v":0},0,{"$f":"IF(D63=\"\",\"-\",MATCH(D63,N_W_1_1!$K$6:$K$12,0))","v":"-"},{"$f":"OFFSET(N_W_1_1!$L$5,AE63,1+$AD$12)","v":{"$error":"#VALUE!"}},{"$f":"OFFSET(N_W_1_1!$L$5,AE63,2+$AD$12)","v":{"$error":"#VALUE!"}},{"$f":"OFFSET(N_W_1_1!$L$5,AE63,3+$AD$12)","v":{"$error":"#VALUE!"}},{"$error":"#VALUE!"},{"$error":"#VALUE!"},{"$error":"#VALUE!"},{"$error":"#VALUE!"},{"$error":"#VALUE!"},{"$error":"#VALUE!"},{"$error":"#VALUE!"},{"$f":"IFERROR(OFFSET(N_W_1_1!$L$5,AE63,0),\"\")","v":""},{"$error":"#VALUE!"},{"$f":"IFERROR(OFFSET(N_W_1_1!$P$5,AE63,2),0)","v":0},{"$f":"IFERROR(IF(S63>5,OFFSET(N_W_1_1!$P$5,AE63,4),OFFSET(N_W_1_1!$P$5,AE63,3)),0)","v":0}]
[null,null,null,null,null,null,null,null,null,null,null,0,null,null,0,"-",{"$f":"IFERROR(OFFSET(N_W_1_1!$P$5,AE64,0),\"-\")","v":"-"},"-","-",null,null,null,null,null,null,null,null,null,{"$f":"IFERROR(MATCH(D64,Nr_stad!$U$8:$U$60,0),0)","v":0},0,{"$f":"IF(D64=\"\",\"-\",MATCH(D64,N_W_1_1!$K$6:$K$12,0))","v":"-"},{"$f":"OFFSET(N_W_1_1!$L$5,AE64,1+$AD$12)","v":{"$error":"#VALUE!"}},{"$f":"OFFSET(N_W_1_1!$L$5,AE64,2+$AD$12)","v":{"$error":"#VALUE!"}},{"$f":"OFFSET(N_W_1_1!$L$5,AE64,3+$AD$12)","v":{"$error":"#VALUE!"}},{"$error":"#VALUE!"},{"$error":"#VALUE!"},{"$error":"#VALUE!"},{"$error":"#VALUE!"},{"$error":"#VALUE!"},{"$error":"#VALUE!"},{"$error":"#VALUE!"},{"$f":"IFERROR(OFFSET(N_W_1_1!$L$5,AE64,0),\"\")","v":""},{"$error":"#VALUE!"},{"$f":"IFERROR(OFFSET(N_W_1_1!$P$5,AE64,2),0)","v":0},{"$f":"IFERROR(IF(S64>5,OFFSET(N_W_1_1!$P$5,AE64,4),OFFSET(N_W_1_1!$P$5,AE64,3)),0)","v":0}]
[null,null,null,null,null,null,null,null,null,null,null,0,null,null,0,"-",{"$f":"IFERROR(OFFSET(N_W_1_1!$P$5,AE65,0),\"-\")","v":"-"},"-","-",null,null,null,null,null,null,null,null,null,{"$f":"IFERROR(MATCH(D65,Nr_stad!$U$8:$U$60,0),0)","v":0},0,{"$f":"IF(D65=\"\",\"-\",MATCH(D65,N_W_1_1!$K$6:$K$12,0))","v":"-"},{"$f":"OFFSET(N_W_1_1!$L$5,AE65,1+$AD$12)","v":{"$error":"#VALUE!"}},{"$f":"OFFSET(N_W_1_1!$L$5,AE65,2+$AD$12)","v":{"$error":"#VALUE!"}},{"$f":"OFFSET(N_W_1_1!$L$5,AE65,3+$AD$12)","v":{"$error":"#VALUE!"}},{"$error":"#VALUE!"},{"$error":"#VALUE!"},{"$error":"#VALUE!"},{"$error":"#VALUE!"},{"$error":"#VALUE!"},{"$error":"#VALUE!"},{"$error":"#VALUE!"},{"$f":"IFERROR(OFFSET(N_W_1_1!$L$5,AE65,0),\"\")","v":""},{"$error":"#VALUE!"},{"$f":"IFERROR(OFFSET(N_W_1_1!$P$5,AE65,2),0)","v":0},{"$f":"IFERROR(IF(S65>5,OFFSET(N_W_1_1!$P$5,AE65,4),OFFSET(N_W_1_1!$P$5,AE65,3)),0)","v":0}]
[null,null,null,null,null,null,null,null,null,null,null,0,null,null,0,"-",{"$f":"IFERROR(OFFSET(N_W_1_1!$P$5,AE66,0),\"-\")","v":"-"},"-","-",null,null,null,null,null,null,null,null,null,{"$f":"IFERROR(MATCH(D66,Nr_stad!$U$8:$U$60,0),0)","v":0},0,{"$f":"IF(D66=\"\",\"-\",MATCH(D66,N_W_1_1!$K$6:$K$12,0))","v":"-"},{"$f":"OFFSET(N_W_1_1!$L$5,AE66,1+$AD$12)","v":{"$error":"#VALUE!"}},{"$f":"OFFSET(N_W_1_1!$L$5,AE66,2+$AD$12)","v":{"$error":"#VALUE!"}},{"$f":"OFFSET(N_W_1_1!$L$5,AE66,3+$AD$12)","v":{"$error":"#VALUE!"}},{"$error":"#VALUE!"},{"$error":"#VALUE!"},{"$error":"#VALUE!"},{"$error":"#VALUE!"},{"$error":"#VALUE!"},{"$error":"#VALUE!"},{"$error":"#VALUE!"},{"$f":"IFERROR(OFFSET(N_W_1_1!$L$5,AE66,0),\"\")","v":""},{"$error":"#VALUE!"},{"$f":"IFERROR(OFFSET(N_W_1_1!$P$5,AE66,2),0)","v":0},{"$f":"IFERROR(IF(S66>5,OFFSET(N_W_1_1!$P$5,AE66,4),OFFSET(N_W_1_1!$P$5,AE66,3)),0)","v":0}]
[null,null,null,null,null,null,null,null,null,null,null,0,null,null,0,"-",{"$f":"IFERROR(OFFSET(N_W_1_1!$P$5,AE67,0),\"-\")","v":"-"},"-","-",null,null,null,null,null,null,null,null,null,{"$f":"IFERROR(MATCH(D67,Nr_stad!$U$8:$U$60,0),0)","v":0},0,{"$f":"IF(D67=\"\",\"-\",MATCH(D67,N_W_1_1!$K$6:$K$12,0))","v":"-"},{"$f":"OFFSET(N_W_1_1!$L$5,AE67,1+$AD$12)","v":{"$error":"#VALUE!"}},{"$f":"OFFSET(N_W_1_1!$L$5,AE67,2+$AD$12)","v":{"$error":"#VALUE!"}},{"$f":"OFFSET(N_W_1_1!$L$5,AE67,3+$AD$12)","v":{"$error":"#VALUE!"}},{"$error":"#VALUE!"},{"$error":"#VALUE!"},{"$error":"#VALUE!"},{"$error":"#VALUE!"},{"$error":"#VALUE!"},{"$error":"#VALUE!"},{"$error":"#VALUE!"},{"$f":"IFERROR(OFFSET(N_W_1_1!$L$5,AE67,0),\"\")","v":""},{"$error":"#VALUE!"},{"$f":"IFERROR(OFFSET(N_W_1_1!$P$5,AE67,2),0)","v":0},{"$f":"IFERROR(IF(S67>5,OFFSET(N_W_1_1!$P$5,AE67,4),OFFSET(N_W_1_1!$P$5,AE67,3)),0)","v":0}]
[null,null,null,null,null,null,null,null,null,null,null,0,null,null,0,"-",{"$f":"IFERROR(OFFSET(N_W_1_1!$P$5,AE68,0),\"-\")","v":"-"},"-","-",null,null,null,null,null,null,null,null,null,{"$f":"IFERROR(MATCH(D68,Nr_stad!$U$8:$U$60,0),0)","v":0},0,{"$f":"IF(D68=\"\",\"-\",MATCH(D68,N_W_1_1!$K$6:$K$12,0))","v":"-"},{"$f":"OFFSET(N_W_1_1!$L$5,AE68,1+$AD$12)","v":{"$error":"#VALUE!"}},{"$f":"OFFSET(N_W_1_1!$L$5,AE68,2+$AD$12)","v":{"$error":"#VALUE!"}},{"$f":"OFFSET(N_W_1_1!$L$5,AE68,3+$AD$12)","v":{"$error":"#VALUE!"}},{"$error":"#VALUE!"},{"$error":"#VALUE!"},{"$error":"#VALUE!"},{"$error":"#VALUE!"},{"$error":"#VALUE!"},{"$error":"#VALUE!"},{"$error":"#VALUE!"},{"$f":"IFERROR(OFFSET(N_W_1_1!$L$5,AE68,0),\"\")","v":""},{"$error":"#VALUE!"},{"$f":"IFERROR(OFFSET(N_W_1_1!$P$5,AE68,2),0)","v":0},{"$f":"IFERROR(IF(S68>5,OFFSET(N_W_1_1!$P$5,AE68,4),OFFSET(N_W_1_1!$P$5,AE68,3)),0)","v":0}]
[null,null,null,null,null,null,null,null,null,null,null,0,null,null,0,"-",{"$f":"IFERROR(OFFSET(N_W_1_1!$P$5,AE69,0),\"-\")","v":"-"},"-","-",null,null,null,null,null,null,null,null,null,{"$f":"IFERROR(MATCH(D69,Nr_stad!$U$8:$U$60,0),0)","v":0},0,{"$f":"IF(D69=\"\",\"-\",MATCH(D69,N_W_1_1!$K$6:$K$12,0))","v":"-"},{"$f":"OFFSET(N_W_1_1!$L$5,AE69,1+$AD$12)","v":{"$error":"#VALUE!"}},{"$f":"OFFSET(N_W_1_1!$L$5,AE69,2+$AD$12)","v":{"$error":"#VALUE!"}},{"$f":"OFFSET(N_W_1_1!$L$5,AE69,3+$AD$12)","v":{"$error":"#VALUE!"}},{"$error":"#VALUE!"},{"$error":"#VALUE!"},{"$error":"#VALUE!"},{"$error":"#VALUE!"},{"$error":"#VALUE!"},{"$error":"#VALUE!"},{"$error":"#VALUE!"},{"$f":"IFERROR(OFFSET(N_W_1_1!$L$5,AE69,0),\"\")","v":""},{"$error":"#VALUE!"},{"$f":"IFERROR(OFFSET(N_W_1_1!$P$5,AE69,2),0)","v":0},{"$f":"IFERROR(IF(S69>5,OFFSET(N_W_1_1!$P$5,AE69,4),OFFSET(N_W_1_1!$P$5,AE69,3)),0)","v":0}]
[null,null,null,null,null,null,null,null,null,null,null,0,null,null,0,"-",{"$f":"IFERROR(OFFSET(N_W_1_1!$P$5,AE70,0),\"-\")","v":"-"},"-","-",null,null,null,null,null,null,null,null,null,{"$f":"IFERROR(MATCH(D70,Nr_stad!$U$8:$U$60,0),0)","v":0},0,{"$f":"IF(D70=\"\",\"-\",MATCH(D70,N_W_1_1!$K$6:$K$12,0))","v":"-"},{"$f":"OFFSET(N_W_1_1!$L$5,AE70,1+$AD$12)","v":{"$error":"#VALUE!"}},{"$f":"OFFSET(N_W_1_1!$L$5,AE70,2+$AD$12)","v":{"$error":"#VALUE!"}},{"$f":"OFFSET(N_W_1_1!$L$5,AE70,3+$AD$12)","v":{"$error":"#VALUE!"}},{"$error":"#VALUE!"},{"$error":"#VALUE!"},{"$error":"#VALUE!"},{"$error":"#VALUE!"},{"$error":"#VALUE!"},{"$error":"#VALUE!"},{"$error":"#VALUE!"},{"$f":"IFERROR(OFFSET(N_W_1_1!$L$5,AE70,0),\"\")","v":""},{"$error":"#VALUE!"},{"$f":"IFERROR(OFFSET(N_W_1_1!$P$5,AE70,2),0)","v":0},{"$f":"IFERROR(IF(S70>5,OFFSET(N_W_1_1!$P$5,AE70,4),OFFSET(N_W_1_1!$P$5,AE70,3)),0)","v":0}]
[null,null,null,null,null,null,null,null,null,null,null,0,null,null,0,"-",{"$f":"IFERROR(OFFSET(N_W_1_1!$P$5,AE71,0),\"-\")","v":"-"},"-","-",null,null,null,null,null,null,null,null,null,{"$f":"IFERROR(MATCH(D71,Nr_stad!$U$8:$U$60,0),0)","v":0},0,{"$f":"IF(D71=\"\",\"-\",MATCH(D71,N_W_1_1!$K$6:$K$12,0))","v":"-"},{"$f":"OFFSET(N_W_1_1!$L$5,AE71,1+$AD$12)","v":{"$error":"#VALUE!"}},{"$f":"OFFSET(N_W_1_1!$L$5,AE71,2+$AD$12)","v":{"$error":"#VALUE!"}},{"$f":"OFFSET(N_W_1_1!$L$5,AE71,3+$AD$12)","v":{"$error":"#VALUE!"}},{"$error":"#VALUE!"},{"$error":"#VALUE!"},{"$error":"#VALUE!"},{"$error":"#VALUE!"},{"$error":"#VALUE!"},{"$error":"#VALUE!"},{"$error":"#VALUE!"},{"$f":"IFERROR(OFFSET(N_W_1_1!$L$5,AE71,0),\"\")","v":""},{"$error":"#VALUE!"},{"$f":"IFERROR(OFFSET(N_W_1_1!$P$5,AE71,2),0)","v":0},{"$f":"IFERROR(IF(S71>5,OFFSET(N_W_1_1!$P$5,AE71,4),OFFSET(N_W_1_1!$P$5,AE71,3)),0)","v":0}]
[null,null,null,null,null,null,null,null,null,null,null,0,null,null,0,"-",{"$f":"IFERROR(OFFSET(N_W_1_1!$P$5,AE72,0),\"-\")","v":"-"},"-","-",null,null,null,null,null,null,null,null,null,{"$f":"IFERROR(MATCH(D72,Nr_stad!$U$8:$U$60,0),0)","v":0},0,{"$f":"IF(D72=\"\",\"-\",MATCH(D72,N_W_1_1!$K$6:$K$12,0))","v":"-"},{"$f":"OFFSET(N_W_1_1!$L$5,AE72,1+$AD$12)","v":{"$error":"#VALUE!"}},{"$f":"OFFSET(N_W_1_1!$L$5,AE72,2+$AD$12)","v":{"$error":"#VALUE!"}},{"$f":"OFFSET(N_W_1_1!$L$5,AE72,3+$AD$12)","v":{"$error":"#VALUE!"}},{"$error":"#VALUE!"},{"$error":"#VALUE!"},{"$error":"#VALUE!"},{"$error":"#VALUE!"},{"$error":"#VALUE!"},{"$error":"#VALUE!"},{"$error":"#VALUE!"},{"$f":"IFERROR(OFFSET(N_W_1_1!$L$5,AE72,0),\"\")","v":""},{"$error":"#VALUE!"},{"$f":"IFERROR(OFFSET(N_W_1_1!$P$5,AE72,2),0)","v":0},{"$f":"IFERROR(IF(S72>5,OFFSET(N_W_1_1!$P$5,AE72,4),OFFSET(N_W_1_1!$P$5,AE72,3)),0)","v":0}]
[null,null,null,null,null,null,null,null,null,null,null,0,null,null,0,"-",{"$f":"IFERROR(OFFSET(N_W_1_1!$P$5,AE73,0),\"-\")","v":"-"},"-","-",null,null,null,null,null,null,null,null,null,{"$f":"IFERROR(MATCH(D73,Nr_stad!$U$8:$U$60,0),0)","v":0},0,{"$f":"IF(D73=\"\",\"-\",MATCH(D73,N_W_1_1!$K$6:$K$12,0))","v":"-"},{"$f":"OFFSET(N_W_1_1!$L$5,AE73,1+$AD$12)","v":{"$error":"#VALUE!"}},{"$f":"OFFSET(N_W_1_1!$L$5,AE73,2+$AD$12)","v":{"$error":"#VALUE!"}},{"$f":"OFFSET(N_W_1_1!$L$5,AE73,3+$AD$12)","v":{"$error":"#VALUE!"}},{"$error":"#VALUE!"},{"$error":"#VALUE!"},{"$error":"#VALUE!"},{"$error":"#VALUE!"},{"$error":"#VALUE!"},{"$error":"#VALUE!"},{"$error":"#VALUE!"},{"$f":"IFERROR(OFFSET(N_W_1_1!$L$5,AE73,0),\"\")","v":""},{"$error":"#VALUE!"},{"$f":"IFERROR(OFFSET(N_W_1_1!$P$5,AE73,2),0)","v":0},{"$f":"IFERROR(IF(S73>5,OFFSET(N_W_1_1!$P$5,AE73,4),OFFSET(N_W_1_1!$P$5,AE73,3)),0)","v":0}]
[null,null,null,null,null,null,null,null,null,null,null,0,null,null,0,"-",{"$f":"IFERROR(OFFSET(N_W_1_1!$P$5,AE74,0),\"-\")","v":"-"},"-","-",null,null,null,null,null,null,null,null,null,{"$f":"IFERROR(MATCH(D74,Nr_stad!$U$8:$U$60,0),0)","v":0},0,{"$f":"IF(D74=\"\",\"-\",MATCH(D74,N_W_1_1!$K$6:$K$12,0))","v":"-"},{"$f":"OFFSET(N_W_1_1!$L$5,AE74,1+$AD$12)","v":{"$error":"#VALUE!"}},{"$f":"OFFSET(N_W_1_1!$L$5,AE74,2+$AD$12)","v":{"$error":"#VALUE!"}},{"$f":"OFFSET(N_W_1_1!$L$5,AE74,3+$AD$12)","v":{"$error":"#VALUE!"}},{"$error":"#VALUE!"},{"$error":"#VALUE!"},{"$error":"#VALUE!"},{"$error":"#VALUE!"},{"$error":"#VALUE!"},{"$error":"#VALUE!"},{"$error":"#VALUE!"},{"$f":"IFERROR(OFFSET(N_W_1_1!$L$5,AE74,0),\"\")","v":""},{"$error":"#VALUE!"},{"$f":"IFERROR(OFFSET(N_W_1_1!$P$5,AE74,2),0)","v":0},{"$f":"IFERROR(IF(S74>5,OFFSET(N_W_1_1!$P$5,AE74,4),OFFSET(N_W_1_1!$P$5,AE74,3)),0)","v":0}]
[null,null,null,null,null,null,null,null,null,null,null,0,null,null,0,"-",{"$f":"IFERROR(OFFSET(N_W_1_1!$P$5,AE75,0),\"-\")","v":"-"},"-","-",null,null,null,null,null,null,null,null,null,{"$f":"IFERROR(MATCH(D75,Nr_stad!$U$8:$U$60,0),0)","v":0},0,{"$f":"IF(D75=\"\",\"-\",MATCH(D75,N_W_1_1!$K$6:$K$12,0))","v":"-"},{"$f":"OFFSET(N_W_1_1!$L$5,AE75,1+$AD$12)","v":{"$error":"#VALUE!"}},{"$f":"OFFSET(N_W_1_1!$L$5,AE75,2+$AD$12)","v":{"$error":"#VALUE!"}},{"$f":"OFFSET(N_W_1_1!$L$5,AE75,3+$AD$12)","v":{"$error":"#VALUE!"}},{"$error":"#VALUE!"},{"$error":"#VALUE!"},{"$error":"#VALUE!"},{"$error":"#VALUE!"},{"$error":"#VALUE!"},{"$error":"#VALUE!"},{"$error":"#VALUE!"},{"$f":"IFERROR(OFFSET(N_W_1_1!$L$5,AE75,0),\"\")","v":""},{"$error":"#VALUE!"},{"$f":"IFERROR(OFFSET(N_W_1_1!$P$5,AE75,2),0)","v":0},{"$f":"IFERROR(IF(S75>5,OFFSET(N_W_1_1!$P$5,AE75,4),OFFSET(N_W_1_1!$P$5,AE75,3)),0)","v":0}]
[null,null,null,null,null,null,null,null,null,null,null,0,null,null,0,"-",{"$f":"IFERROR(OFFSET(N_W_1_1!$P$5,AE76,0),\"-\")","v":"-"},"-","-",null,null,null,null,null,null,null,null,null,{"$f":"IFERROR(MATCH(D76,Nr_stad!$U$8:$U$60,0),0)","v":0},0,{"$f":"IF(D76=\"\",\"-\",MATCH(D76,N_W_1_1!$K$6:$K$12,0))","v":"-"},{"$f":"OFFSET(N_W_1_1!$L$5,AE76,1+$AD$12)","v":{"$error":"#VALUE!"}},{"$f":"OFFSET(N_W_1_1!$L$5,AE76,2+$AD$12)","v":{"$error":"#VALUE!"}},{"$f":"OFFSET(N_W_1_1!$L$5,AE76,3+$AD$12)","v":{"$error":"#VALUE!"}},{"$error":"#VALUE!"},{"$error":"#VALUE!"},{"$error":"#VALUE!"},{"$error":"#VALUE!"},{"$error":"#VALUE!"},{"$error":"#VALUE!"},{"$error":"#VALUE!"},{"$f":"IFERROR(OFFSET(N_W_1_1!$L$5,AE76,0),\"\")","v":""},{"$error":"#VALUE!"},{"$f":"IFERROR(OFFSET(N_W_1_1!$P$5,AE76,2),0)","v":0},{"$f":"IFERROR(IF(S76>5,OFFSET(N_W_1_1!$P$5,AE76,4),OFFSET(N_W_1_1!$P$5,AE76,3)),0)","v":0}]
[null,null,null,null,null,null,null,null,null,null,null,0,null,null,0,"-",{"$f":"IFERROR(OFFSET(N_W_1_1!$P$5,AE77,0),\"-\")","v":"-"},"-","-",null,null,null,null,null,null,null,null,null,{"$f":"IFERROR(MATCH(D77,Nr_stad!$U$8:$U$60,0),0)","v":0},0,{"$f":"IF(D77=\"\",\"-\",MATCH(D77,N_W_1_1!$K$6:$K$12,0))","v":"-"},{"$f":"OFFSET(N_W_1_1!$L$5,AE77,1+$AD$12)","v":{"$error":"#VALUE!"}},{"$f":"OFFSET(N_W_1_1!$L$5,AE77,2+$AD$12)","v":{"$error":"#VALUE!"}},{"$f":"OFFSET(N_W_1_1!$L$5,AE77,3+$AD$12)","v":{"$error":"#VALUE!"}},{"$error":"#VALUE!"},{"$error":"#VALUE!"},{"$error":"#VALUE!"},{"$error":"#VALUE!"},{"$error":"#VALUE!"},{"$error":"#VALUE!"},{"$error":"#VALUE!"},{"$f":"IFERROR(OFFSET(N_W_1_1!$L$5,AE77,0),\"\")","v":""},{"$error":"#VALUE!"},{"$f":"IFERROR(OFFSET(N_W_1_1!$P$5,AE77,2),0)","v":0},{"$f":"IFERROR(IF(S77>5,OFFSET(N_W_1_1!$P$5,AE77,4),OFFSET(N_W_1_1!$P$5,AE77,3)),0)","v":0}]
[null,null,null,null,null,null,null,null,null,null,null,0,null,null,0,"-",{"$f":"IFERROR(OFFSET(N_W_1_1!$P$5,AE78,0),\"-\")","v":"-"},"-","-",null,null,null,null,null,null,null,null,null,{"$f":"IFERROR(MATCH(D78,Nr_stad!$U$8:$U$60,0),0)","v":0},0,{"$f":"IF(D78=\"\",\"-\",MATCH(D78,N_W_1_1!$K$6:$K$12,0))","v":"-"},{"$f":"OFFSET(N_W_1_1!$L$5,AE78,1+$AD$12)","v":{"$error":"#VALUE!"}},{"$f":"OFFSET(N_W_1_1!$L$5,AE78,2+$AD$12)","v":{"$error":"#VALUE!"}},{"$f":"OFFSET(N_W_1_1!$L$5,AE78,3+$AD$12)","v":{"$error":"#VALUE!"}},{"$error":"#VALUE!"},{"$error":"#VALUE!"},{"$error":"#VALUE!"},{"$error":"#VALUE!"},{"$error":"#VALUE!"},{"$error":"#VALUE!"},{"$error":"#VALUE!"},{"$f":"IFERROR(OFFSET(N_W_1_1!$L$5,AE78,0),\"\")","v":""},{"$error":"#VALUE!"},{"$f":"IFERROR(OFFSET(N_W_1_1!$P$5,AE78,2),0)","v":0},{"$f":"IFERROR(IF(S78>5,OFFSET(N_W_1_1!$P$5,AE78,4),OFFSET(N_W_1_1!$P$5,AE78,3)),0)","v":0}]
[null,null,null,null,null,null,null,null,null,null,null,0,null,null,0,"-",{"$f":"IFERROR(OFFSET(N_W_1_1!$P$5,AE79,0),\"-\")","v":"-"},"-","-",null,null,null,null,null,null,null,null,null,{"$f":"IFERROR(MATCH(D79,Nr_stad!$U$8:$U$60,0),0)","v":0},0,{"$f":"IF(D79=\"\",\"-\",MATCH(D79,N_W_1_1!$K$6:$K$12,0))","v":"-"},{"$f":"OFFSET(N_W_1_1!$L$5,AE79,1+$AD$12)","v":{"$error":"#VALUE!"}},{"$f":"OFFSET(N_W_1_1!$L$5,AE79,2+$AD$12)","v":{"$error":"#VALUE!"}},{"$f":"OFFSET(N_W_1_1!$L$5,AE79,3+$AD$12)","v":{"$error":"#VALUE!"}},{"$error":"#VALUE!"},{"$error":"#VALUE!"},{"$error":"#VALUE!"},{"$error":"#VALUE!"},{"$error":"#VALUE!"},{"$error":"#VALUE!"},{"$error":"#VALUE!"},{"$f":"IFERROR(OFFSET(N_W_1_1!$L$5,AE79,0),\"\")","v":""},{"$error":"#VALUE!"},{"$f":"IFERROR(OFFSET(N_W_1_1!$P$5,AE79,2),0)","v":0},{"$f":"IFERROR(IF(S79>5,OFFSET(N_W_1_1!$P$5,AE79,4),OFFSET(N_W_1_1!$P$5,AE79,3)),0)","v":0}]
[null,null,null,null,null,null,null,null,null,null,null,0,null,null,0,"-",{"$f":"IFERROR(OFFSET(N_W_1_1!$P$5,AE80,0),\"-\")","v":"-"},"-","-",null,null,null,null,null,null,null,null,null,{"$f":"IFERROR(MATCH(D80,Nr_stad!$U$8:$U$60,0),0)","v":0},0,{"$f":"IF(D80=\"\",\"-\",MATCH(D80,N_W_1_1!$K$6:$K$12,0))","v":"-"},{"$f":"OFFSET(N_W_1_1!$L$5,AE80,1+$AD$12)","v":{"$error":"#VALUE!"}},{"$f":"OFFSET(N_W_1_1!$L$5,AE80,2+$AD$12)","v":{"$error":"#VALUE!"}},{"$f":"OFFSET(N_W_1_1!$L$5,AE80,3+$AD$12)","v":{"$error":"#VALUE!"}},{"$error":"#VALUE!"},{"$error":"#VALUE!"},{"$error":"#VALUE!"},{"$error":"#VALUE!"},{"$error":"#VALUE!"},{"$error":"#VALUE!"},{"$error":"#VALUE!"},{"$f":"IFERROR(OFFSET(N_W_1_1!$L$5,AE80,0),\"\")","v":""},{"$error":"#VALUE!"},{"$f":"IFERROR(OFFSET(N_W_1_1!$P$5,AE80,2),0)","v":0},{"$f":"IFERROR(IF(S80>5,OFFSET(N_W_1_1!$P$5,AE80,4),OFFSET(N_W_1_1!$P$5,AE80,3)),0)","v":0}]
[null,null,null,null,null,null,null,null,null,null,null,0,null,null,0,"-",{"$f":"IFERROR(OFFSET(N_W_1_1!$P$5,AE81,0),\"-\")","v":"-"},"-","-",null,null,null,null,null,null,null,null,null,{"$f":"IFERROR(MATCH(D81,Nr_stad!$U$8:$U$60,0),0)","v":0},0,{"$f":"IF(D81=\"\",\"-\",MATCH(D81,N_W_1_1!$K$6:$K$12,0))","v":"-"},{"$f":"OFFSET(N_W_1_1!$L$5,AE81,1+$AD$12)","v":{"$error":"#VALUE!"}},{"$f":"OFFSET(N_W_1_1!$L$5,AE81,2+$AD$12)","v":{"$error":"#VALUE!"}},{"$f":"OFFSET(N_W_1_1!$L$5,AE81,3+$AD$12)","v":{"$error":"#VALUE!"}},{"$error":"#VALUE!"},{"$error":"#VALUE!"},{"$error":"#VALUE!"},{"$error":"#VALUE!"},{"$error":"#VALUE!"},{"$error":"#VALUE!"},{"$error":"#VALUE!"},{"$f":"IFERROR(OFFSET(N_W_1_1!$L$5,AE81,0),\"\")","v":""},{"$error":"#VALUE!"},{"$f":"IFERROR(OFFSET(N_W_1_1!$P$5,AE81,2),0)","v":0},{"$f":"IFERROR(IF(S81>5,OFFSET(N_W_1_1!$P$5,AE81,4),OFFSET(N_W_1_1!$P$5,AE81,3)),0)","v":0}]
[null,null,null,null,null,null,null,null,null,null,null,0,null,null,0,"-",{"$f":"IFERROR(OFFSET(N_W_1_1!$P$5,AE82,0),\"-\")","v":"-"},"-","-",null,null,null,null,null,null,null,null,null,{"$f":"IFERROR(MATCH(D82,Nr_stad!$U$8:$U$60,0),0)","v":0},0,{"$f":"IF(D82=\"\",\"-\",MATCH(D82,N_W_1_1!$K$6:$K$12,0))","v":"-"},{"$f":"OFFSET(N_W_1_1!$L$5,AE82,1+$AD$12)","v":{"$error":"#VALUE!"}},{"$f":"OFFSET(N_W_1_1!$L$5,AE82,2+$AD$12)","v":{"$error":"#VALUE!"}},{"$f":"OFFSET(N_W_1_1!$L$5,AE82,3+$AD$12)","v":{"$error":"#VALUE!"}},{"$error":"#VALUE!"},{"$error":"#VALUE!"},{"$error":"#VALUE!"},{"$error":"#VALUE!"},{"$error":"#VALUE!"},{"$error":"#VALUE!"},{"$error":"#VALUE!"},{"$f":"IFERROR(OFFSET(N_W_1_1!$L$5,AE82,0),\"\")","v":""},{"$error":"#VALUE!"},{"$f":"IFERROR(OFFSET(N_W_1_1!$P$5,AE82,2),0)","v":0},{"$f":"IFERROR(IF(S82>5,OFFSET(N_W_1_1!$P$5,AE82,4),OFFSET(N_W_1_1!$P$5,AE82,3)),0)","v":0}]
[null,null,null,null,null,null,null,null,null,null,null,0,null,null,0,"-",{"$f":"IFERROR(OFFSET(N_W_1_1!$P$5,AE83,0),\"-\")","v":"-"},"-","-",null,null,null,null,null,null,null,null,null,{"$f":"IFERROR(MATCH(D83,Nr_stad!$U$8:$U$60,0),0)","v":0},0,{"$f":"IF(D83=\"\",\"-\",MATCH(D83,N_W_1_1!$K$6:$K$12,0))","v":"-"},{"$f":"OFFSET(N_W_1_1!$L$5,AE83,1+$AD$12)","v":{"$error":"#VALUE!"}},{"$f":"OFFSET(N_W_1_1!$L$5,AE83,2+$AD$12)","v":{"$error":"#VALUE!"}},{"$f":"OFFSET(N_W_1_1!$L$5,AE83,3+$AD$12)","v":{"$error":"#VALUE!"}},{"$error":"#VALUE!"},{"$error":"#VALUE!"},{"$error":"#VALUE!"},{"$error":"#VALUE!"},{"$error":"#VALUE!"},{"$error":"#VALUE!"},{"$error":"#VALUE!"},{"$f":"IFERROR(OFFSET(N_W_1_1!$L$5,AE83,0),\"\")","v":""},{"$error":"#VALUE!"},{"$f":"IFERROR(OFFSET(N_W_1_1!$P$5,AE83,2),0)","v":0},{"$f":"IFERROR(IF(S83>5,OFFSET(N_W_1_1!$P$5,AE83,4),OFFSET(N_W_1_1!$P$5,AE83,3)),0)","v":0}]
[null,null,null,null,null,null,null,null,null,null,null,0,null,null,0,"-",{"$f":"IFERROR(OFFSET(N_W_1_1!$P$5,AE84,0),\"-\")","v":"-"},"-","-",null,null,null,null,null,null,null,null,null,{"$f":"IFERROR(MATCH(D84,Nr_stad!$U$8:$U$60,0),0)","v":0},0,{"$f":"IF(D84=\"\",\"-\",MATCH(D84,N_W_1_1!$K$6:$K$12,0))","v":"-"},{"$f":"OFFSET(N_W_1_1!$L$5,AE84,1+$AD$12)","v":{"$error":"#VALUE!"}},{"$f":"OFFSET(N_W_1_1!$L$5,AE84,2+$AD$12)","v":{"$error":"#VALUE!"}},{"$f":"OFFSET(N_W_1_1!$L$5,AE84,3+$AD$12)","v":{"$error":"#VALUE!"}},{"$error":"#VALUE!"},{"$error":"#VALUE!"},{"$error":"#VALUE!"},{"$error":"#VALUE!"},{"$error":"#VALUE!"},{"$error":"#VALUE!"},{"$error":"#VALUE!"},{"$f":"IFERROR(OFFSET(N_W_1_1!$L$5,AE84,0),\"\")","v":""},{"$error":"#VALUE!"},{"$f":"IFERROR(OFFSET(N_W_1_1!$P$5,AE84,2),0)","v":0},{"$f":"IFERROR(IF(S84>5,OFFSET(N_W_1_1!$P$5,AE84,4),OFFSET(N_W_1_1!$P$5,AE84,3)),0)","v":0}]
[null,null,null,null,null,null,null,null,null,null,null,0,null,null,0,"-",{"$f":"IFERROR(OFFSET(N_W_1_1!$P$5,AE85,0),\"-\")","v":"-"},"-","-",null,null,null,null,null,null,null,null,null,{"$f":"IFERROR(MATCH(D85,Nr_stad!$U$8:$U$60,0),0)","v":0},0,{"$f":"IF(D85=\"\",\"-\",MATCH(D85,N_W_1_1!$K$6:$K$12,0))","v":"-"},{"$f":"OFFSET(N_W_1_1!$L$5,AE85,1+$AD$12)","v":{"$error":"#VALUE!"}},{"$f":"OFFSET(N_W_1_1!$L$5,AE85,2+$AD$12)","v":{"$error":"#VALUE!"}},{"$f":"OFFSET(N_W_1_1!$L$5,AE85,3+$AD$12)","v":{"$error":"#VALUE!"}},{"$error":"#VALUE!"},{"$error":"#VALUE!"},{"$error":"#VALUE!"},{"$error":"#VALUE!"},{"$error":"#VALUE!"},{"$error":"#VALUE!"},{"$error":"#VALUE!"},{"$f":"IFERROR(OFFSET(N_W_1_1!$L$5,AE85,0),\"\")","v":""},{"$error":"#VALUE!"},{"$f":"IFERROR(OFFSET(N_W_1_1!$P$5,AE85,2),0)","v":0},{"$f":"IFERROR(IF(S85>5,OFFSET(N_W_1_1!$P$5,AE85,4),OFFSET(N_W_1_1!$P$5,AE85,3)),0)","v":0}]
[null,null,null,null,null,null,null,null,null,null,null,0,null,null,0,"-",{"$f":"IFERROR(OFFSET(N_W_1_1!$P$5,AE86,0),\"-\")","v":"-"},"-","-",null,null,null,null,null,null,null,null,null,{"$f":"IFERROR(MATCH(D86,Nr_stad!$U$8:$U$60,0),0)","v":0},0,{"$f":"IF(D86=\"\",\"-\",MATCH(D86,N_W_1_1!$K$6:$K$12,0))","v":"-"},{"$f":"OFFSET(N_W_1_1!$L$5,AE86,1+$AD$12)","v":{"$error":"#VALUE!"}},{"$f":"OFFSET(N_W_1_1!$L$5,AE86,2+$AD$12)","v":{"$error":"#VALUE!"}},{"$f":"OFFSET(N_W_1_1!$L$5,AE86,3+$AD$12)","v":{"$error":"#VALUE!"}},{"$error":"#VALUE!"},{"$error":"#VALUE!"},{"$error":"#VALUE!"},{"$error":"#VALUE!"},{"$error":"#VALUE!"},{"$error":"#VALUE!"},{"$error":"#VALUE!"},{"$f":"IFERROR(OFFSET(N_W_1_1!$L$5,AE86,0),\"\")","v":""},{"$error":"#VALUE!"},{"$f":"IFERROR(OFFSET(N_W_1_1!$P$5,AE86,2),0)","v":0},{"$f":"IFERROR(IF(S86>5,OFFSET(N_W_1_1!$P$5,AE86,4),OFFSET(N_W_1_1!$P$5,AE86,3)),0)","v":0}]
[null,null,null,null,null,null,null,null,null,null,null,0,null,null,0,"-",{"$f":"IFERROR(OFFSET(N_W_1_1!$P$5,AE87,0),\"-\")","v":"-"},"-","-",null,null,null,null,null,null,null,null,null,{"$f":"IFERROR(MATCH(D87,Nr_stad!$U$8:$U$60,0),0)","v":0},0,{"$f":"IF(D87=\"\",\"-\",MATCH(D87,N_W_1_1!$K$6:$K$12,0))","v":"-"},{"$f":"OFFSET(N_W_1_1!$L$5,AE87,1+$AD$12)","v":{"$error":"#VALUE!"}},{"$f":"OFFSET(N_W_1_1!$L$5,AE87,2+$AD$12)","v":{"$error":"#VALUE!"}},{"$f":"OFFSET(N_W_1_1!$L$5,AE87,3+$AD$12)","v":{"$error":"#VALUE!"}},{"$error":"#VALUE!"},{"$error":"#VALUE!"},{"$error":"#VALUE!"},{"$error":"#VALUE!"},{"$error":"#VALUE!"},{"$error":"#VALUE!"},{"$error":"#VALUE!"},{"$f":"IFERROR(OFFSET(N_W_1_1!$L$5,AE87,0),\"\")","v":""},{"$error":"#VALUE!"},{"$f":"IFERROR(OFFSET(N_W_1_1!$P$5,AE87,2),0)","v":0},{"$f":"IFERROR(IF(S87>5,OFFSET(N_W_1_1!$P$5,AE87,4),OFFSET(N_W_1_1!$P$5,AE87,3)),0)","v":0}]
[null,null,null,null,null,null,null,null,null,null,null,0,null,null,0,"-",{"$f":"IFERROR(OFFSET(N_W_1_1!$P$5,AE88,0),\"-\")","v":"-"},"-","-",null,null,null,null,null,null,null,null,null,{"$f":"IFERROR(MATCH(D88,Nr_stad!$U$8:$U$60,0),0)","v":0},0,{"$f":"IF(D88=\"\",\"-\",MATCH(D88,N_W_1_1!$K$6:$K$12,0))","v":"-"},{"$f":"OFFSET(N_W_1_1!$L$5,AE88,1+$AD$12)","v":{"$error":"#VALUE!"}},{"$f":"OFFSET(N_W_1_1!$L$5,AE88,2+$AD$12)","v":{"$error":"#VALUE!"}},{"$f":"OFFSET(N_W_1_1!$L$5,AE88,3+$AD$12)","v":{"$error":"#VALUE!"}},{"$error":"#VALUE!"},{"$error":"#VALUE!"},{"$error":"#VALUE!"},{"$error":"#VALUE!"},{"$error":"#VALUE!"},{"$error":"#VALUE!"},{"$error":"#VALUE!"},{"$f":"IFERROR(OFFSET(N_W_1_1!$L$5,AE88,0),\"\")","v":""},{"$error":"#VALUE!"},{"$f":"IFERROR(OFFSET(N_W_1_1!$P$5,AE88,2),0)","v":0},{"$f":"IFERROR(IF(S88>5,OFFSET(N_W_1_1!$P$5,AE88,4),OFFSET(N_W_1_1!$P$5,AE88,3)),0)","v":0}]
[null,null,null,null,null,null,null,null,null,null,null,0,null,null,0,"-",{"$f":"IFERROR(OFFSET(N_W_1_1!$P$5,AE89,0),\"-\")","v":"-"},"-","-",null,null,null,null,null,null,null,null,null,{"$f":"IFERROR(MATCH(D89,Nr_stad!$U$8:$U$60,0),0)","v":0},0,{"$f":"IF(D89=\"\",\"-\",MATCH(D89,N_W_1_1!$K$6:$K$12,0))","v":"-"},{"$f":"OFFSET(N_W_1_1!$L$5,AE89,1+$AD$12)","v":{"$error":"#VALUE!"}},{"$f":"OFFSET(N_W_1_1!$L$5,AE89,2+$AD$12)","v":{"$error":"#VALUE!"}},{"$f":"OFFSET(N_W_1_1!$L$5,AE89,3+$AD$12)","v":{"$error":"#VALUE!"}},{"$error":"#VALUE!"},{"$error":"#VALUE!"},{"$error":"#VALUE!"},{"$error":"#VALUE!"},{"$error":"#VALUE!"},{"$error":"#VALUE!"},{"$error":"#VALUE!"},{"$f":"IFERROR(OFFSET(N_W_1_1!$L$5,AE89,0),\"\")","v":""},{"$error":"#VALUE!"},{"$f":"IFERROR(OFFSET(N_W_1_1!$P$5,AE89,2),0)","v":0},{"$f":"IFERROR(IF(S89>5,OFFSET(N_W_1_1!$P$5,AE89,4),OFFSET(N_W_1_1!$P$5,AE89,3)),0)","v":0}]
[null,null,null,null,null,null,null,null,null,null,null,0,null,null,0,"-",{"$f":"IFERROR(OFFSET(N_W_1_1!$P$5,AE90,0),\"-\")","v":"-"},"-","-",null,null,null,null,null,null,null,null,null,{"$f":"IFERROR(MATCH(D90,Nr_stad!$U$8:$U$60,0),0)","v":0},0,{"$f":"IF(D90=\"\",\"-\",MATCH(D90,N_W_1_1!$K$6:$K$12,0))","v":"-"},{"$f":"OFFSET(N_W_1_1!$L$5,AE90,1+$AD$12)","v":{"$error":"#VALUE!"}},{"$f":"OFFSET(N_W_1_1!$L$5,AE90,2+$AD$12)","v":{"$error":"#VALUE!"}},{"$f":"OFFSET(N_W_1_1!$L$5,AE90,3+$AD$12)","v":{"$error":"#VALUE!"}},{"$error":"#VALUE!"},{"$error":"#VALUE!"},{"$error":"#VALUE!"},{"$error":"#VALUE!"},{"$error":"#VALUE!"},{"$error":"#VALUE!"},{"$error":"#VALUE!"},{"$f":"IFERROR(OFFSET(N_W_1_1!$L$5,AE90,0),\"\")","v":""},{"$error":"#VALUE!"},{"$f":"IFERROR(OFFSET(N_W_1_1!$P$5,AE90,2),0)","v":0},{"$f":"IFERROR(IF(S90>5,OFFSET(N_W_1_1!$P$5,AE90,4),OFFSET(N_W_1_1!$P$5,AE90,3)),0)","v":0}]
[null,null,null,null,null,null,null,null,null,null,null,0,null,null,0,"-",{"$f":"IFERROR(OFFSET(N_W_1_1!$P$5,AE91,0),\"-\")","v":"-"},"-","-",null,null,null,null,null,null,null,null,null,{"$f":"IFERROR(MATCH(D91,Nr_stad!$U$8:$U$60,0),0)","v":0},0,{"$f":"IF(D91=\"\",\"-\",MATCH(D91,N_W_1_1!$K$6:$K$12,0))","v":"-"},{"$f":"OFFSET(N_W_1_1!$L$5,AE91,1+$AD$12)","v":{"$error":"#VALUE!"}},{"$f":"OFFSET(N_W_1_1!$L$5,AE91,2+$AD$12)","v":{"$error":"#VALUE!"}},{"$f":"OFFSET(N_W_1_1!$L$5,AE91,3+$AD$12)","v":{"$error":"#VALUE!"}},{"$error":"#VALUE!"},{"$error":"#VALUE!"},{"$error":"#VALUE!"},{"$error":"#VALUE!"},{"$error":"#VALUE!"},{"$error":"#VALUE!"},{"$error":"#VALUE!"},{"$f":"IFERROR(OFFSET(N_W_1_1!$L$5,AE91,0),\"\")","v":""},{"$error":"#VALUE!"},{"$f":"IFERROR(OFFSET(N_W_1_1!$P$5,AE91,2),0)","v":0},{"$f":"IFERROR(IF(S91>5,OFFSET(N_W_1_1!$P$5,AE91,4),OFFSET(N_W_1_1!$P$5,AE91,3)),0)","v":0}]
[null,null,null,null,null,null,null,null,null,null,null,{"$f":"J92*K92","v":0},null,null,{"$f":"M92*N92","v":0},{"$f":"IFERROR(OFFSET(AE92,0,AO92),\"-\")","v":"-"},{"$f":"IFERROR(OFFSET(N_W_1_1!$P$5,AE92,0),\"-\")","v":"-"},{"$f":"IF(Q92=\"-\",\"-\",O92*0.15)","v":"-"},{"$f":"IFERROR(TRUNC(IF(L92/P92>=1,IF(OR(AE92<=2,AE92=6),1,L92/P92),\"-\")*AQ92),\"-\")","v":"-"},null,null,null,null,null,null,null,null,null,{"$f":"IFERROR(MATCH(D92,Nr_stad!$U$8:$U$60,0),0)","v":0},{"$f":"SUM(I92:S92)+AC92","v":0},{"$f":"IF(D92=\"\",\"-\",MATCH(D92,N_W_1_1!$K$6:$K$12,0))","v":"-"},{"$f":"OFFSET(N_W_1_1!$L$5,AE92,1+$AD$12)","v":{"$error":"#VALUE!"}},{"$f":"OFFSET(N_W_1_1!$L$5,AE92,2+$AD$12)","v":{"$error":"#VALUE!"}},{"$f":"OFFSET(N_W_1_1!$L$5,AE92,3+$AD$12)","v":{"$error":"#VALUE!"}},{"$f":"TRUNC(L92/AF92)","v":{"$error":"#VALUE!"}},{"$f":"TRUNC(L92/AG92)","v":{"$error":"#VALUE!"}},{"$f":"TRUNC(L92/AH92)","v":{"$error":"#VALUE!"}},{"$f":"IF(AI92<6,1,0)","v":{"$error":"#VALUE!"}},{"$f":"IF(AND(AJ92>5,AJ92<40,AN92=0),2,0)","v":{"$error":"#VALUE!"}},{"$f":"IF(AK92>39,3,0)","v":{"$error":"#VALUE!"}},{"$f":"MAX(AL92:AN92)","v":{"$error":"#VALUE!"}},{"$f":"IFERROR(OFFSET(N_W_1_1!$L$5,AE92,0),\"\")","v":""},{"$f":"IF(AND(AE92>2,AE92<>6,AI92<2),0,1)","v":{"$error":"#VALUE!"}},{"$f":"IFERROR(OFFSET(N_W_1_1!$P$5,AE92,2),0)","v":0},{"$f":"IFERROR(IF(S92>5,OFFSET(N_W_1_1!$P$5,AE92,4),OFFSET(N_W_1_1!$P$5,AE92,3)),0)","v":0}]
[null,null,null,null,null,null,null,null,null,null,null,0,null,null,0,"-",{"$f":"IFERROR(OFFSET(N_W_1_1!$P$5,AE93,0),\"-\")","v":"-"},"-","-",null,null,null,null,null,null,null,null,null,{"$f":"IFERROR(MATCH(D93,Nr_stad!$U$8:$U$60,0),0)","v":0},0,{"$f":"IF(D93=\"\",\"-\",MATCH(D93,N_W_1_1!$K$6:$K$12,0))","v":"-"},{"$f":"OFFSET(N_W_1_1!$L$5,AE93,1+$AD$12)","v":{"$error":"#VALUE!"}},{"$f":"OFFSET(N_W_1_1!$L$5,AE93,2+$AD$12)","v":{"$error":"#VALUE!"}},{"$f":"OFFSET(N_W_1_1!$L$5,AE93,3+$AD$12)","v":{"$error":"#VALUE!"}},{"$error":"#VALUE!"},{"$error":"#VALUE!"},{"$error":"#VALUE!"},{"$error":"#VALUE!"},{"$error":"#VALUE!"},{"$error":"#VALUE!"},{"$error":"#VALUE!"},{"$f":"IFERROR(OFFSET(N_W_1_1!$L$5,AE93,0),\"\")","v":""},{"$error":"#VALUE!"},{"$f":"IFERROR(OFFSET(N_W_1_1!$P$5,AE93,2),0)","v":0},{"$f":"IFERROR(IF(S93>5,OFFSET(N_W_1_1!$P$5,AE93,4),OFFSET(N_W_1_1!$P$5,AE93,3)),0)","v":0}]
[null,null,null,null,null,null,null,null,null,null,null,0,null,null,0,"-",{"$f":"IFERROR(OFFSET(N_W_1_1!$P$5,AE94,0),\"-\")","v":"-"},"-","-",null,null,null,null,null,null,null,null,null,{"$f":"IFERROR(MATCH(D94,Nr_stad!$U$8:$U$60,0),0)","v":0},0,{"$f":"IF(D94=\"\",\"-\",MATCH(D94,N_W_1_1!$K$6:$K$12,0))","v":"-"},{"$f":"OFFSET(N_W_1_1!$L$5,AE94,1+$AD$12)","v":{"$error":"#VALUE!"}},{"$f":"OFFSET(N_W_1_1!$L$5,AE94,2+$AD$12)","v":{"$error":"#VALUE!"}},{"$f":"OFFSET(N_W_1_1!$L$5,AE94,3+$AD$12)","v":{"$error":"#VALUE!"}},{"$error":"#VALUE!"},{"$error":"#VALUE!"},{"$error":"#VALUE!"},{"$error":"#VALUE!"},{"$error":"#VALUE!"},{"$error":"#VALUE!"},{"$error":"#VALUE!"},{"$f":"IFERROR(OFFSET(N_W_1_1!$L$5,AE94,0),\"\")","v":""},{"$error":"#VALUE!"},{"$f":"IFERROR(OFFSET(N_W_1_1!$P$5,AE94,2),0)","v":0},{"$f":"IFERROR(IF(S94>5,OFFSET(N_W_1_1!$P$5,AE94,4),OFFSET(N_W_1_1!$P$5,AE94,3)),0)","v":0}]
[null,null,null,null,null,null,null,null,null,null,null,0,null,null,0,"-",{"$f":"IFERROR(OFFSET(N_W_1_1!$P$5,AE95,0),\"-\")","v":"-"},"-","-",null,null,null,null,null,null,null,null,null,{"$f":"IFERROR(MATCH(D95,Nr_stad!$U$8:$U$60,0),0)","v":0},0,{"$f":"IF(D95=\"\",\"-\",MATCH(D95,N_W_1_1!$K$6:$K$12,0))","v":"-"},{"$f":"OFFSET(N_W_1_1!$L$5,AE95,1+$AD$12)","v":{"$error":"#VALUE!"}},{"$f":"OFFSET(N_W_1_1!$L$5,AE95,2+$AD$12)","v":{"$error":"#VALUE!"}},{"$f":"OFFSET(N_W_1_1!$L$5,AE95,3+$AD$12)","v":{"$error":"#VALUE!"}},{"$error":"#VALUE!"},{"$error":"#VALUE!"},{"$error":"#VALUE!"},{"$error":"#VALUE!"},{"$error":"#VALUE!"},{"$error":"#VALUE!"},{"$error":"#VALUE!"},{"$f":"IFERROR(OFFSET(N_W_1_1!$L$5,AE95,0),\"\")","v":""},{"$error":"#VALUE!"},{"$f":"IFERROR(OFFSET(N_W_1_1!$P$5,AE95,2),0)","v":0},{"$f":"IFERROR(IF(S95>5,OFFSET(N_W_1_1!$P$5,AE95,4),OFFSET(N_W_1_1!$P$5,AE95,3)),0)","v":0}]
[null,null,null,null,null,null,null,null,null,null,null,0,null,null,0,"-",{"$f":"IFERROR(OFFSET(N_W_1_1!$P$5,AE96,0),\"-\")","v":"-"},"-","-",null,null,null,null,null,null,null,null,null,{"$f":"IFERROR(MATCH(D96,Nr_stad!$U$8:$U$60,0),0)","v":0},0,{"$f":"IF(D96=\"\",\"-\",MATCH(D96,N_W_1_1!$K$6:$K$12,0))","v":"-"},{"$f":"OFFSET(N_W_1_1!$L$5,AE96,1+$AD$12)","v":{"$error":"#VALUE!"}},{"$f":"OFFSET(N_W_1_1!$L$5,AE96,2+$AD$12)","v":{"$error":"#VALUE!"}},{"$f":"OFFSET(N_W_1_1!$L$5,AE96,3+$AD$12)","v":{"$error":"#VALUE!"}},{"$error":"#VALUE!"},{"$error":"#VALUE!"},{"$error":"#VALUE!"},{"$error":"#VALUE!"},{"$error":"#VALUE!"},{"$error":"#VALUE!"},{"$error":"#VALUE!"},{"$f":"IFERROR(OFFSET(N_W_1_1!$L$5,AE96,0),\"\")","v":""},{"$error":"#VALUE!"},{"$f":"IFERROR(OFFSET(N_W_1_1!$P$5,AE96,2),0)","v":0},{"$f":"IFERROR(IF(S96>5,OFFSET(N_W_1_1!$P$5,AE96,4),OFFSET(N_W_1_1!$P$5,AE96,3)),0)","v":0}]
[null,null,null,null,null,null,null,null,null,null,null,0,null,null,0,"-",{"$f":"IFERROR(OFFSET(N_W_1_1!$P$5,AE97,0),\"-\")","v":"-"},"-","-",null,null,null,null,null,null,null,null,null,{"$f":"IFERROR(MATCH(D97,Nr_stad!$U$8:$U$60,0),0)","v":0},0,{"$f":"IF(D97=\"\",\"-\",MATCH(D97,N_W_1_1!$K$6:$K$12,0))","v":"-"},{"$f":"OFFSET(N_W_1_1!$L$5,AE97,1+$AD$12)","v":{"$error":"#VALUE!"}},{"$f":"OFFSET(N_W_1_1!$L$5,AE97,2+$AD$12)","v":{"$error":"#VALUE!"}},{"$f":"OFFSET(N_W_1_1!$L$5,AE97,3+$AD$12)","v":{"$error":"#VALUE!"}},{"$error":"#VALUE!"},{"$error":"#VALUE!"},{"$error":"#VALUE!"},{"$error":"#VALUE!"},{"$error":"#VALUE!"},{"$error":"#VALUE!"},{"$error":"#VALUE!"},{"$f":"IFERROR(OFFSET(N_W_1_1!$L$5,AE97,0),\"\")","v":""},{"$error":"#VALUE!"},{"$f":"IFERROR(OFFSET(N_W_1_1!$P$5,AE97,2),0)","v":0},{"$f":"IFERROR(IF(S97>5,OFFSET(N_W_1_1!$P$5,AE97,4),OFFSET(N_W_1_1!$P$5,AE97,3)),0)","v":0}]
[null,null,null,null,null,null,null,null,null,null,null,0,null,null,0,"-",{"$f":"IFERROR(OFFSET(N_W_1_1!$P$5,AE98,0),\"-\")","v":"-"},"-","-",null,null,null,null,null,null,null,null,null,{"$f":"IFERROR(MATCH(D98,Nr_stad!$U$8:$U$60,0),0)","v":0},0,{"$f":"IF(D98=\"\",\"-\",MATCH(D98,N_W_1_1!$K$6:$K$12,0))","v":"-"},{"$f":"OFFSET(N_W_1_1!$L$5,AE98,1+$AD$12)","v":{"$error":"#VALUE!"}},{"$f":"OFFSET(N_W_1_1!$L$5,AE98,2+$AD$12)","v":{"$error":"#VALUE!"}},{"$f":"OFFSET(N_W_1_1!$L$5,AE98,3+$AD$12)","v":{"$error":"#VALUE!"}},{"$error":"#VALUE!"},{"$error":"#VALUE!"},{"$error":"#VALUE!"},{"$error":"#VALUE!"},{"$error":"#VALUE!"},{"$error":"#VALUE!"},{"$error":"#VALUE!"},{"$f":"IFERROR(OFFSET(N_W_1_1!$L$5,AE98,0),\"\")","v":""},{"$error":"#VALUE!"},{"$f":"IFERROR(OFFSET(N_W_1_1!$P$5,AE98,2),0)","v":0},{"$f":"IFERROR(IF(S98>5,OFFSET(N_W_1_1!$P$5,AE98,4),OFFSET(N_W_1_1!$P$5,AE98,3)),0)","v":0}]
[null,null,null,null,null,null,null,null,null,null,null,0,null,null,0,"-",{"$f":"IFERROR(OFFSET(N_W_1_1!$P$5,AE99,0),\"-\")","v":"-"},"-","-",null,null,null,null,null,null,null,null,null,{"$f":"IFERROR(MATCH(D99,Nr_stad!$U$8:$U$60,0),0)","v":0},0,{"$f":"IF(D99=\"\",\"-\",MATCH(D99,N_W_1_1!$K$6:$K$12,0))","v":"-"},{"$f":"OFFSET(N_W_1_1!$L$5,AE99,1+$AD$12)","v":{"$error":"#VALUE!"}},{"$f":"OFFSET(N_W_1_1!$L$5,AE99,2+$AD$12)","v":{"$error":"#VALUE!"}},{"$f":"OFFSET(N_W_1_1!$L$5,AE99,3+$AD$12)","v":{"$error":"#VALUE!"}},{"$error":"#VALUE!"},{"$error":"#VALUE!"},{"$error":"#VALUE!"},{"$error":"#VALUE!"},{"$error":"#VALUE!"},{"$error":"#VALUE!"},{"$error":"#VALUE!"},{"$f":"IFERROR(OFFSET(N_W_1_1!$L$5,AE99,0),\"\")","v":""},{"$error":"#VALUE!"},{"$f":"IFERROR(OFFSET(N_W_1_1!$P$5,AE99,2),0)","v":0},{"$f":"IFERROR(IF(S99>5,OFFSET(N_W_1_1!$P$5,AE99,4),OFFSET(N_W_1_1!$P$5,AE99,3)),0)","v":0}]
[null,null,null,null,null,null,null,null,null,null,null,0,null,null,0,"-",{"$f":"IFERROR(OFFSET(N_W_1_1!$P$5,AE100,0),\"-\")","v":"-"},"-","-",null,null,null,null,null,null,null,null,null,{"$f":"IFERROR(MATCH(D100,Nr_stad!$U$8:$U$60,0),0)","v":0},0,{"$f":"IF(D100=\"\",\"-\",MATCH(D100,N_W_1_1!$K$6:$K$12,0))","v":"-"},{"$f":"OFFSET(N_W_1_1!$L$5,AE100,1+$AD$12)","v":{"$error":"#VALUE!"}},{"$f":"OFFSET(N_W_1_1!$L$5,AE100,2+$AD$12)","v":{"$error":"#VALUE!"}},{"$f":"OFFSET(N_W_1_1!$L$5,AE100,3+$AD$12)","v":{"$error":"#VALUE!"}},{"$error":"#VALUE!"},{"$error":"#VALUE!"},{"$error":"#VALUE!"},{"$error":"#VALUE!"},{"$error":"#VALUE!"},{"$error":"#VALUE!"},{"$error":"#VALUE!"},{"$f":"IFERROR(OFFSET(N_W_1_1!$L$5,AE100,0),\"\")","v":""},{"$error":"#VALUE!"},{"$f":"IFERROR(OFFSET(N_W_1_1!$P$5,AE100,2),0)","v":0},{"$f":"IFERROR(IF(S100>5,OFFSET(N_W_1_1!$P$5,AE100,4),OFFSET(N_W_1_1!$P$5,AE100,3)),0)","v":0}]
[null,null,null,null,null,null,null,null,null,null,null,0,null,null,0,"-",{"$f":"IFERROR(OFFSET(N_W_1_1!$P$5,AE101,0),\"-\")","v":"-"},"-","-",null,null,null,null,null,null,null,null,null,{"$f":"IFERROR(MATCH(D101,Nr_stad!$U$8:$U$60,0),0)","v":0},0,{"$f":"IF(D101=\"\",\"-\",MATCH(D101,N_W_1_1!$K$6:$K$12,0))","v":"-"},{"$f":"OFFSET(N_W_1_1!$L$5,AE101,1+$AD$12)","v":{"$error":"#VALUE!"}},{"$f":"OFFSET(N_W_1_1!$L$5,AE101,2+$AD$12)","v":{"$error":"#VALUE!"}},{"$f":"OFFSET(N_W_1_1!$L$5,AE101,3+$AD$12)","v":{"$error":"#VALUE!"}},{"$error":"#VALUE!"},{"$error":"#VALUE!"},{"$error":"#VALUE!"},{"$error":"#VALUE!"},{"$error":"#VALUE!"},{"$error":"#VALUE!"},{"$error":"#VALUE!"},{"$f":"IFERROR(OFFSET(N_W_1_1!$L$5,AE101,0),\"\")","v":""},{"$error":"#VALUE!"},{"$f":"IFERROR(OFFSET(N_W_1_1!$P$5,AE101,2),0)","v":0},{"$f":"IFERROR(IF(S101>5,OFFSET(N_W_1_1!$P$5,AE101,4),OFFSET(N_W_1_1!$P$5,AE101,3)),0)","v":0}]
[null,null,null,null,null,null,null,null,null,null,null,0,null,null,0,"-",{"$f":"IFERROR(OFFSET(N_W_1_1!$P$5,AE102,0),\"-\")","v":"-"},"-","-",null,null,null,null,null,null,null,null,null,{"$f":"IFERROR(MATCH(D102,Nr_stad!$U$8:$U$60,0),0)","v":0},0,{"$f":"IF(D102=\"\",\"-\",MATCH(D102,N_W_1_1!$K$6:$K$12,0))","v":"-"},{"$f":"OFFSET(N_W_1_1!$L$5,AE102,1+$AD$12)","v":{"$error":"#VALUE!"}},{"$f":"OFFSET(N_W_1_1!$L$5,AE102,2+$AD$12)","v":{"$error":"#VALUE!"}},{"$f":"OFFSET(N_W_1_1!$L$5,AE102,3+$AD$12)","v":{"$error":"#VALUE!"}},{"$error":"#VALUE!"},{"$error":"#VALUE!"},{"$error":"#VALUE!"},{"$error":"#VALUE!"},{"$error":"#VALUE!"},{"$error":"#VALUE!"},{"$error":"#VALUE!"},{"$f":"IFERROR(OFFSET(N_W_1_1!$L$5,AE102,0),\"\")","v":""},{"$error":"#VALUE!"},{"$f":"IFERROR(OFFSET(N_W_1_1!$P$5,AE102,2),0)","v":0},{"$f":"IFERROR(IF(S102>5,OFFSET(N_W_1_1!$P$5,AE102,4),OFFSET(N_W_1_1!$P$5,AE102,3)),0)","v":0}]
[null,null,null,null,null,null,null,null,null,null,null,0,null,null,0,"-",{"$f":"IFERROR(OFFSET(N_W_1_1!$P$5,AE103,0),\"-\")","v":"-"},"-","-",null,null,null,null,null,null,null,null,null,{"$f":"IFERROR(MATCH(D103,Nr_stad!$U$8:$U$60,0),0)","v":0},0,{"$f":"IF(D103=\"\",\"-\",MATCH(D103,N_W_1_1!$K$6:$K$12,0))","v":"-"},{"$f":"OFFSET(N_W_1_1!$L$5,AE103,1+$AD$12)","v":{"$error":"#VALUE!"}},{"$f":"OFFSET(N_W_1_1!$L$5,AE103,2+$AD$12)","v":{"$error":"#VALUE!"}},{"$f":"OFFSET(N_W_1_1!$L$5,AE103,3+$AD$12)","v":{"$error":"#VALUE!"}},{"$error":"#VALUE!"},{"$error":"#VALUE!"},{"$error":"#VALUE!"},{"$error":"#VALUE!"},{"$error":"#VALUE!"},{"$error":"#VALUE!"},{"$error":"#VALUE!"},{"$f":"IFERROR(OFFSET(N_W_1_1!$L$5,AE103,0),\"\")","v":""},{"$error":"#VALUE!"},{"$f":"IFERROR(OFFSET(N_W_1_1!$P$5,AE103,2),0)","v":0},{"$f":"IFERROR(IF(S103>5,OFFSET(N_W_1_1!$P$5,AE103,4),OFFSET(N_W_1_1!$P$5,AE103,3)),0)","v":0}]
[null,null,null,null,null,null,null,null,null,null,null,0,null,null,0,"-",{"$f":"IFERROR(OFFSET(N_W_1_1!$P$5,AE104,0),\"-\")","v":"-"},"-","-",null,null,null,null,null,null,null,null,null,{"$f":"IFERROR(MATCH(D104,Nr_stad!$U$8:$U$60,0),0)","v":0},0,{"$f":"IF(D104=\"\",\"-\",MATCH(D104,N_W_1_1!$K$6:$K$12,0))","v":"-"},{"$f":"OFFSET(N_W_1_1!$L$5,AE104,1+$AD$12)","v":{"$error":"#VALUE!"}},{"$f":"OFFSET(N_W_1_1!$L$5,AE104,2+$AD$12)","v":{"$error":"#VALUE!"}},{"$f":"OFFSET(N_W_1_1!$L$5,AE104,3+$AD$12)","v":{"$error":"#VALUE!"}},{"$error":"#VALUE!"},{"$error":"#VALUE!"},{"$error":"#VALUE!"},{"$error":"#VALUE!"},{"$error":"#VALUE!"},{"$error":"#VALUE!"},{"$error":"#VALUE!"},{"$f":"IFERROR(OFFSET(N_W_1_1!$L$5,AE104,0),\"\")","v":""},{"$error":"#VALUE!"},{"$f":"IFERROR(OFFSET(N_W_1_1!$P$5,AE104,2),0)","v":0},{"$f":"IFERROR(IF(S104>5,OFFSET(N_W_1_1!$P$5,AE104,4),OFFSET(N_W_1_1!$P$5,AE104,3)),0)","v":0}]
[null,null,null,null,null,null,null,null,null,null,null,0,null,null,0,"-",{"$f":"IFERROR(OFFSET(N_W_1_1!$P$5,AE105,0),\"-\")","v":"-"},"-","-",null,null,null,null,null,null,null,null,null,{"$f":"IFERROR(MATCH(D105,Nr_stad!$U$8:$U$60,0),0)","v":0},0,{"$f":"IF(D105=\"\",\"-\",MATCH(D105,N_W_1_1!$K$6:$K$12,0))","v":"-"},{"$f":"OFFSET(N_W_1_1!$L$5,AE105,1+$AD$12)","v":{"$error":"#VALUE!"}},{"$f":"OFFSET(N_W_1_1!$L$5,AE105,2+$AD$12)","v":{"$error":"#VALUE!"}},{"$f":"OFFSET(N_W_1_1!$L$5,AE105,3+$AD$12)","v":{"$error":"#VALUE!"}},{"$error":"#VALUE!"},{"$error":"#VALUE!"},{"$error":"#VALUE!"},{"$error":"#VALUE!"},{"$error":"#VALUE!"},{"$error":"#VALUE!"},{"$error":"#VALUE!"},{"$f":"IFERROR(OFFSET(N_W_1_1!$L$5,AE105,0),\"\")","v":""},{"$error":"#VALUE!"},{"$f":"IFERROR(OFFSET(N_W_1_1!$P$5,AE105,2),0)","v":0},{"$f":"IFERROR(IF(S105>5,OFFSET(N_W_1_1!$P$5,AE105,4),OFFSET(N_W_1_1!$P$5,AE105,3)),0)","v":0}]
[null,null,null,null,null,null,null,null,null,null,null,0,null,null,0,"-",{"$f":"IFERROR(OFFSET(N_W_1_1!$P$5,AE106,0),\"-\")","v":"-"},"-","-",null,null,null,null,null,null,null,null,null,{"$f":"IFERROR(MATCH(D106,Nr_stad!$U$8:$U$60,0),0)","v":0},0,{"$f":"IF(D106=\"\",\"-\",MATCH(D106,N_W_1_1!$K$6:$K$12,0))","v":"-"},{"$f":"OFFSET(N_W_1_1!$L$5,AE106,1+$AD$12)","v":{"$error":"#VALUE!"}},{"$f":"OFFSET(N_W_1_1!$L$5,AE106,2+$AD$12)","v":{"$error":"#VALUE!"}},{"$f":"OFFSET(N_W_1_1!$L$5,AE106,3+$AD$12)","v":{"$error":"#VALUE!"}},{"$error":"#VALUE!"},{"$error":"#VALUE!"},{"$error":"#VALUE!"},{"$error":"#VALUE!"},{"$error":"#VALUE!"},{"$error":"#VALUE!"},{"$error":"#VALUE!"},{"$f":"IFERROR(OFFSET(N_W_1_1!$L$5,AE106,0),\"\")","v":""},{"$error":"#VALUE!"},{"$f":"IFERROR(OFFSET(N_W_1_1!$P$5,AE106,2),0)","v":0},{"$f":"IFERROR(IF(S106>5,OFFSET(N_W_1_1!$P$5,AE106,4),OFFSET(N_W_1_1!$P$5,AE106,3)),0)","v":0}]
[null,null,null,null,null,null,null,null,null,null,null,0,null,null,0,"-",{"$f":"IFERROR(OFFSET(N_W_1_1!$P$5,AE107,0),\"-\")","v":"-"},"-","-",null,null,null,null,null,null,null,null,null,{"$f":"IFERROR(MATCH(D107,Nr_stad!$U$8:$U$60,0),0)","v":0},0,{"$f":"IF(D107=\"\",\"-\",MATCH(D107,N_W_1_1!$K$6:$K$12,0))","v":"-"},{"$f":"OFFSET(N_W_1_1!$L$5,AE107,1+$AD$12)","v":{"$error":"#VALUE!"}},{"$f":"OFFSET(N_W_1_1!$L$5,AE107,2+$AD$12)","v":{"$error":"#VALUE!"}},{"$f":"OFFSET(N_W_1_1!$L$5,AE107,3+$AD$12)","v":{"$error":"#VALUE!"}},{"$error":"#VALUE!"},{"$error":"#VALUE!"},{"$error":"#VALUE!"},{"$error":"#VALUE!"},{"$error":"#VALUE!"},{"$error":"#VALUE!"},{"$error":"#VALUE!"},{"$f":"IFERROR(OFFSET(N_W_1_1!$L$5,AE107,0),\"\")","v":""},{"$error":"#VALUE!"},{"$f":"IFERROR(OFFSET(N_W_1_1!$P$5,AE107,2),0)","v":0},{"$f":"IFERROR(IF(S107>5,OFFSET(N_W_1_1!$P$5,AE107,4),OFFSET(N_W_1_1!$P$5,AE107,3)),0)","v":0}]
[null,null,null,null,null,null,null,null,null,null,null,0,null,null,0,"-",{"$f":"IFERROR(OFFSET(N_W_1_1!$P$5,AE108,0),\"-\")","v":"-"},"-","-",null,null,null,null,null,null,null,null,null,{"$f":"IFERROR(MATCH(D108,Nr_stad!$U$8:$U$60,0),0)","v":0},0,{"$f":"IF(D108=\"\",\"-\",MATCH(D108,N_W_1_1!$K$6:$K$12,0))","v":"-"},{"$f":"OFFSET(N_W_1_1!$L$5,AE108,1+$AD$12)","v":{"$error":"#VALUE!"}},{"$f":"OFFSET(N_W_1_1!$L$5,AE108,2+$AD$12)","v":{"$error":"#VALUE!"}},{"$f":"OFFSET(N_W_1_1!$L$5,AE108,3+$AD$12)","v":{"$error":"#VALUE!"}},{"$error":"#VALUE!"},{"$error":"#VALUE!"},{"$error":"#VALUE!"},{"$error":"#VALUE!"},{"$error":"#VALUE!"},{"$error":"#VALUE!"},{"$error":"#VALUE!"},{"$f":"IFERROR(OFFSET(N_W_1_1!$L$5,AE108,0),\"\")","v":""},{"$error":"#VALUE!"},{"$f":"IFERROR(OFFSET(N_W_1_1!$P$5,AE108,2),0)","v":0},{"$f":"IFERROR(IF(S108>5,OFFSET(N_W_1_1!$P$5,AE108,4),OFFSET(N_W_1_1!$P$5,AE108,3)),0)","v":0}]
[null,null,null,null,null,null,null,null,null,null,null,0,null,null,0,"-",{"$f":"IFERROR(OFFSET(N_W_1_1!$P$5,AE109,0),\"-\")","v":"-"},"-","-",null,null,null,null,null,null,null,null,null,{"$f":"IFERROR(MATCH(D109,Nr_stad!$U$8:$U$60,0),0)","v":0},0,{"$f":"IF(D109=\"\",\"-\",MATCH(D109,N_W_1_1!$K$6:$K$12,0))","v":"-"},{"$f":"OFFSET(N_W_1_1!$L$5,AE109,1+$AD$12)","v":{"$error":"#VALUE!"}},{"$f":"OFFSET(N_W_1_1!$L$5,AE109,2+$AD$12)","v":{"$error":"#VALUE!"}},{"$f":"OFFSET(N_W_1_1!$L$5,AE109,3+$AD$12)","v":{"$error":"#VALUE!"}},{"$error":"#VALUE!"},{"$error":"#VALUE!"},{"$error":"#VALUE!"},{"$error":"#VALUE!"},{"$error":"#VALUE!"},{"$error":"#VALUE!"},{"$error":"#VALUE!"},{"$f":"IFERROR(OFFSET(N_W_1_1!$L$5,AE109,0),\"\")","v":""},{"$error":"#VALUE!"},{"$f":"IFERROR(OFFSET(N_W_1_1!$P$5,AE109,2),0)","v":0},{"$f":"IFERROR(IF(S109>5,OFFSET(N_W_1_1!$P$5,AE109,4),OFFSET(N_W_1_1!$P$5,AE109,3)),0)","v":0}]
[null,null,null,null,null,null,null,null,null,null,null,0,null,null,0,"-",{"$f":"IFERROR(OFFSET(N_W_1_1!$P$5,AE110,0),\"-\")","v":"-"},"-","-",null,null,null,null,null,null,null,null,null,{"$f":"IFERROR(MATCH(D110,Nr_stad!$U$8:$U$60,0),0)","v":0},0,{"$f":"IF(D110=\"\",\"-\",MATCH(D110,N_W_1_1!$K$6:$K$12,0))","v":"-"},{"$f":"OFFSET(N_W_1_1!$L$5,AE110,1+$AD$12)","v":{"$error":"#VALUE!"}},{"$f":"OFFSET(N_W_1_1!$L$5,AE110,2+$AD$12)","v":{"$error":"#VALUE!"}},{"$f":"OFFSET(N_W_1_1!$L$5,AE110,3+$AD$12)","v":{"$error":"#VALUE!"}},{"$error":"#VALUE!"},{"$error":"#VALUE!"},{"$error":"#VALUE!"},{"$error":"#VALUE!"},{"$error":"#VALUE!"},{"$error":"#VALUE!"},{"$error":"#VALUE!"},{"$f":"IFERROR(OFFSET(N_W_1_1!$L$5,AE110,0),\"\")","v":""},{"$error":"#VALUE!"},{"$f":"IFERROR(OFFSET(N_W_1_1!$P$5,AE110,2),0)","v":0},{"$f":"IFERROR(IF(S110>5,OFFSET(N_W_1_1!$P$5,AE110,4),OFFSET(N_W_1_1!$P$5,AE110,3)),0)","v":0}]
[null,null,null,null,null,null,null,null,null,null,null,0,null,null,0,"-",{"$f":"IFERROR(OFFSET(N_W_1_1!$P$5,AE111,0),\"-\")","v":"-"},"-","-",null,null,null,null,null,null,null,null,null,{"$f":"IFERROR(MATCH(D111,Nr_stad!$U$8:$U$60,0),0)","v":0},0,{"$f":"IF(D111=\"\",\"-\",MATCH(D111,N_W_1_1!$K$6:$K$12,0))","v":"-"},{"$f":"OFFSET(N_W_1_1!$L$5,AE111,1+$AD$12)","v":{"$error":"#VALUE!"}},{"$f":"OFFSET(N_W_1_1!$L$5,AE111,2+$AD$12)","v":{"$error":"#VALUE!"}},{"$f":"OFFSET(N_W_1_1!$L$5,AE111,3+$AD$12)","v":{"$error":"#VALUE!"}},{"$error":"#VALUE!"},{"$error":"#VALUE!"},{"$error":"#VALUE!"},{"$error":"#VALUE!"},{"$error":"#VALUE!"},{"$error":"#VALUE!"},{"$error":"#VALUE!"},{"$f":"IFERROR(OFFSET(N_W_1_1!$L$5,AE111,0),\"\")","v":""},{"$error":"#VALUE!"},{"$f":"IFERROR(OFFSET(N_W_1_1!$P$5,AE111,2),0)","v":0},{"$f":"IFERROR(IF(S111>5,OFFSET(N_W_1_1!$P$5,AE111,4),OFFSET(N_W_1_1!$P$5,AE111,3)),0)","v":0}]
[null,null,null,null,null,null,null,null,null,null,null,0,null,null,0,"-",{"$f":"IFERROR(OFFSET(N_W_1_1!$P$5,AE112,0),\"-\")","v":"-"},"-","-",null,null,null,null,null,null,null,null,null,{"$f":"IFERROR(MATCH(D112,Nr_stad!$U$8:$U$60,0),0)","v":0},0,{"$f":"IF(D112=\"\",\"-\",MATCH(D112,N_W_1_1!$K$6:$K$12,0))","v":"-"},{"$f":"OFFSET(N_W_1_1!$L$5,AE112,1+$AD$12)","v":{"$error":"#VALUE!"}},{"$f":"OFFSET(N_W_1_1!$L$5,AE112,2+$AD$12)","v":{"$error":"#VALUE!"}},{"$f":"OFFSET(N_W_1_1!$L$5,AE112,3+$AD$12)","v":{"$error":"#VALUE!"}},{"$error":"#VALUE!"},{"$error":"#VALUE!"},{"$error":"#VALUE!"},{"$error":"#VALUE!"},{"$error":"#VALUE!"},{"$error":"#VALUE!"},{"$error":"#VALUE!"},{"$f":"IFERROR(OFFSET(N_W_1_1!$L$5,AE112,0),\"\")","v":""},{"$error":"#VALUE!"},{"$f":"IFERROR(OFFSET(N_W_1_1!$P$5,AE112,2),0)","v":0},{"$f":"IFERROR(IF(S112>5,OFFSET(N_W_1_1!$P$5,AE112,4),OFFSET(N_W_1_1!$P$5,AE112,3)),0)","v":0}]
[null,null,null,null,null,null,null,null,null,null,null,0,null,null,0,"-",{"$f":"IFERROR(OFFSET(N_W_1_1!$P$5,AE113,0),\"-\")","v":"-"},"-","-",null,null,null,null,null,null,null,null,null,{"$f":"IFERROR(MATCH(D113,Nr_stad!$U$8:$U$60,0),0)","v":0},0,{"$f":"IF(D113=\"\",\"-\",MATCH(D113,N_W_1_1!$K$6:$K$12,0))","v":"-"},{"$f":"OFFSET(N_W_1_1!$L$5,AE113,1+$AD$12)","v":{"$error":"#VALUE!"}},{"$f":"OFFSET(N_W_1_1!$L$5,AE113,2+$AD$12)","v":{"$error":"#VALUE!"}},{"$f":"OFFSET(N_W_1_1!$L$5,AE113,3+$AD$12)","v":{"$error":"#VALUE!"}},{"$error":"#VALUE!"},{"$error":"#VALUE!"},{"$error":"#VALUE!"},{"$error":"#VALUE!"},{"$error":"#VALUE!"},{"$error":"#VALUE!"},{"$error":"#VALUE!"},{"$f":"IFERROR(OFFSET(N_W_1_1!$L$5,AE113,0),\"\")","v":""},{"$error":"#VALUE!"},{"$f":"IFERROR(OFFSET(N_W_1_1!$P$5,AE113,2),0)","v":0},{"$f":"IFERROR(IF(S113>5,OFFSET(N_W_1_1!$P$5,AE113,4),OFFSET(N_W_1_1!$P$5,AE113,3)),0)","v":0}]
[null,null,null,null,null,null,null,null,null,null,null,0,null,null,0,"-",{"$f":"IFERROR(OFFSET(N_W_1_1!$P$5,AE114,0),\"-\")","v":"-"},"-","-",null,null,null,null,null,null,null,null,null,{"$f":"IFERROR(MATCH(D114,Nr_stad!$U$8:$U$60,0),0)","v":0},0,{"$f":"IF(D114=\"\",\"-\",MATCH(D114,N_W_1_1!$K$6:$K$12,0))","v":"-"},{"$f":"OFFSET(N_W_1_1!$L$5,AE114,1+$AD$12)","v":{"$error":"#VALUE!"}},{"$f":"OFFSET(N_W_1_1!$L$5,AE114,2+$AD$12)","v":{"$error":"#VALUE!"}},{"$f":"OFFSET(N_W_1_1!$L$5,AE114,3+$AD$12)","v":{"$error":"#VALUE!"}},{"$error":"#VALUE!"},{"$error":"#VALUE!"},{"$error":"#VALUE!"},{"$error":"#VALUE!"},{"$error":"#VALUE!"},{"$error":"#VALUE!"},{"$error":"#VALUE!"},{"$f":"IFERROR(OFFSET(N_W_1_1!$L$5,AE114,0),\"\")","v":""},{"$error":"#VALUE!"},{"$f":"IFERROR(OFFSET(N_W_1_1!$P$5,AE114,2),0)","v":0},{"$f":"IFERROR(IF(S114>5,OFFSET(N_W_1_1!$P$5,AE114,4),OFFSET(N_W_1_1!$P$5,AE114,3)),0)","v":0}]
[null,null,null,null,null,null,null,null,null,null,null,0,null,null,0,"-",{"$f":"IFERROR(OFFSET(N_W_1_1!$P$5,AE115,0),\"-\")","v":"-"},"-","-",null,null,null,null,null,null,null,null,null,{"$f":"IFERROR(MATCH(D115,Nr_stad!$U$8:$U$60,0),0)","v":0},0,{"$f":"IF(D115=\"\",\"-\",MATCH(D115,N_W_1_1!$K$6:$K$12,0))","v":"-"},{"$f":"OFFSET(N_W_1_1!$L$5,AE115,1+$AD$12)","v":{"$error":"#VALUE!"}},{"$f":"OFFSET(N_W_1_1!$L$5,AE115,2+$AD$12)","v":{"$error":"#VALUE!"}},{"$f":"OFFSET(N_W_1_1!$L$5,AE115,3+$AD$12)","v":{"$error":"#VALUE!"}},{"$error":"#VALUE!"},{"$error":"#VALUE!"},{"$error":"#VALUE!"},{"$error":"#VALUE!"},{"$error":"#VALUE!"},{"$error":"#VALUE!"},{"$error":"#VALUE!"},{"$f":"IFERROR(OFFSET(N_W_1_1!$L$5,AE115,0),\"\")","v":""},{"$error":"#VALUE!"},{"$f":"IFERROR(OFFSET(N_W_1_1!$P$5,AE115,2),0)","v":0},{"$f":"IFERROR(IF(S115>5,OFFSET(N_W_1_1!$P$5,AE115,4),OFFSET(N_W_1_1!$P$5,AE115,3)),0)","v":0}]
[null,null,null,null,null,null,null,null,null,null,null,0,null,null,0,"-",{"$f":"IFERROR(OFFSET(N_W_1_1!$P$5,AE116,0),\"-\")","v":"-"},"-","-",null,null,null,null,null,null,null,null,null,{"$f":"IFERROR(MATCH(D116,Nr_stad!$U$8:$U$60,0),0)","v":0},0,{"$f":"IF(D116=\"\",\"-\",MATCH(D116,N_W_1_1!$K$6:$K$12,0))","v":"-"},{"$f":"OFFSET(N_W_1_1!$L$5,AE116,1+$AD$12)","v":{"$error":"#VALUE!"}},{"$f":"OFFSET(N_W_1_1!$L$5,AE116,2+$AD$12)","v":{"$error":"#VALUE!"}},{"$f":"OFFSET(N_W_1_1!$L$5,AE116,3+$AD$12)","v":{"$error":"#VALUE!"}},{"$error":"#VALUE!"},{"$error":"#VALUE!"},{"$error":"#VALUE!"},{"$error":"#VALUE!"},{"$error":"#VALUE!"},{"$error":"#VALUE!"},{"$error":"#VALUE!"},{"$f":"IFERROR(OFFSET(N_W_1_1!$L$5,AE116,0),\"\")","v":""},{"$error":"#VALUE!"},{"$f":"IFERROR(OFFSET(N_W_1_1!$P$5,AE116,2),0)","v":0},{"$f":"IFERROR(IF(S116>5,OFFSET(N_W_1_1!$P$5,AE116,4),OFFSET(N_W_1_1!$P$5,AE116,3)),0)","v":0}]
[null,null,null,null,null,null,null,null,null,null,null,0,null,null,0,"-",{"$f":"IFERROR(OFFSET(N_W_1_1!$P$5,AE117,0),\"-\")","v":"-"},"-","-",null,null,null,null,null,null,null,null,null,{"$f":"IFERROR(MATCH(D117,Nr_stad!$U$8:$U$60,0),0)","v":0},0,{"$f":"IF(D117=\"\",\"-\",MATCH(D117,N_W_1_1!$K$6:$K$12,0))","v":"-"},{"$f":"OFFSET(N_W_1_1!$L$5,AE117,1+$AD$12)","v":{"$error":"#VALUE!"}},{"$f":"OFFSET(N_W_1_1!$L$5,AE117,2+$AD$12)","v":{"$error":"#VALUE!"}},{"$f":"OFFSET(N_W_1_1!$L$5,AE117,3+$AD$12)","v":{"$error":"#VALUE!"}},{"$error":"#VALUE!"},{"$error":"#VALUE!"},{"$error":"#VALUE!"},{"$error":"#VALUE!"},{"$error":"#VALUE!"},{"$error":"#VALUE!"},{"$error":"#VALUE!"},{"$f":"IFERROR(OFFSET(N_W_1_1!$L$5,AE117,0),\"\")","v":""},{"$error":"#VALUE!"},{"$f":"IFERROR(OFFSET(N_W_1_1!$P$5,AE117,2),0)","v":0},{"$f":"IFERROR(IF(S117>5,OFFSET(N_W_1_1!$P$5,AE117,4),OFFSET(N_W_1_1!$P$5,AE117,3)),0)","v":0}]
[null,null,null,null,null,null,null,null,null,null,null,0,null,null,0,"-",{"$f":"IFERROR(OFFSET(N_W_1_1!$P$5,AE118,0),\"-\")","v":"-"},"-","-",null,null,null,null,null,null,null,null,null,{"$f":"IFERROR(MATCH(D118,Nr_stad!$U$8:$U$60,0),0)","v":0},0,{"$f":"IF(D118=\"\",\"-\",MATCH(D118,N_W_1_1!$K$6:$K$12,0))","v":"-"},{"$f":"OFFSET(N_W_1_1!$L$5,AE118,1+$AD$12)","v":{"$error":"#VALUE!"}},{"$f":"OFFSET(N_W_1_1!$L$5,AE118,2+$AD$12)","v":{"$error":"#VALUE!"}},{"$f":"OFFSET(N_W_1_1!$L$5,AE118,3+$AD$12)","v":{"$error":"#VALUE!"}},{"$error":"#VALUE!"},{"$error":"#VALUE!"},{"$error":"#VALUE!"},{"$error":"#VALUE!"},{"$error":"#VALUE!"},{"$error":"#VALUE!"},{"$error":"#VALUE!"},{"$f":"IFERROR(OFFSET(N_W_1_1!$L$5,AE118,0),\"\")","v":""},{"$error":"#VALUE!"},{"$f":"IFERROR(OFFSET(N_W_1_1!$P$5,AE118,2),0)","v":0},{"$f":"IFERROR(IF(S118>5,OFFSET(N_W_1_1!$P$5,AE118,4),OFFSET(N_W_1_1!$P$5,AE118,3)),0)","v":0}]
[null,null,null,null,null,null,null,null,null,null,null,0,null,null,0,"-",{"$f":"IFERROR(OFFSET(N_W_1_1!$P$5,AE119,0),\"-\")","v":"-"},"-","-",null,null,null,null,null,null,null,null,null,{"$f":"IFERROR(MATCH(D119,Nr_stad!$U$8:$U$60,0),0)","v":0},0,{"$f":"IF(D119=\"\",\"-\",MATCH(D119,N_W_1_1!$K$6:$K$12,0))","v":"-"},{"$f":"OFFSET(N_W_1_1!$L$5,AE119,1+$AD$12)","v":{"$error":"#VALUE!"}},{"$f":"OFFSET(N_W_1_1!$L$5,AE119,2+$AD$12)","v":{"$error":"#VALUE!"}},{"$f":"OFFSET(N_W_1_1!$L$5,AE119,3+$AD$12)","v":{"$error":"#VALUE!"}},{"$error":"#VALUE!"},{"$error":"#VALUE!"},{"$error":"#VALUE!"},{"$error":"#VALUE!"},{"$error":"#VALUE!"},{"$error":"#VALUE!"},{"$error":"#VALUE!"},{"$f":"IFERROR(OFFSET(N_W_1_1!$L$5,AE119,0),\"\")","v":""},{"$error":"#VALUE!"},{"$f":"IFERROR(OFFSET(N_W_1_1!$P$5,AE119,2),0)","v":0},{"$f":"IFERROR(IF(S119>5,OFFSET(N_W_1_1!$P$5,AE119,4),OFFSET(N_W_1_1!$P$5,AE119,3)),0)","v":0}]
[null,null,null,null,null,null,null,null,null,null,null,0,null,null,0,"-",{"$f":"IFERROR(OFFSET(N_W_1_1!$P$5,AE120,0),\"-\")","v":"-"},"-","-",null,null,null,null,null,null,null,null,null,{"$f":"IFERROR(MATCH(D120,Nr_stad!$U$8:$U$60,0),0)","v":0},0,{"$f":"IF(D120=\"\",\"-\",MATCH(D120,N_W_1_1!$K$6:$K$12,0))","v":"-"},{"$f":"OFFSET(N_W_1_1!$L$5,AE120,1+$AD$12)","v":{"$error":"#VALUE!"}},{"$f":"OFFSET(N_W_1_1!$L$5,AE120,2+$AD$12)","v":{"$error":"#VALUE!"}},{"$f":"OFFSET(N_W_1_1!$L$5,AE120,3+$AD$12)","v":{"$error":"#VALUE!"}},{"$error":"#VALUE!"},{"$error":"#VALUE!"},{"$error":"#VALUE!"},{"$error":"#VALUE!"},{"$error":"#VALUE!"},{"$error":"#VALUE!"},{"$error":"#VALUE!"},{"$f":"IFERROR(OFFSET(N_W_1_1!$L$5,AE120,0),\"\")","v":""},{"$error":"#VALUE!"},{"$f":"IFERROR(OFFSET(N_W_1_1!$P$5,AE120,2),0)","v":0},{"$f":"IFERROR(IF(S120>5,OFFSET(N_W_1_1!$P$5,AE120,4),OFFSET(N_W_1_1!$P$5,AE120,3)),0)","v":0}]
[null,null,null,null,null,null,null,null,null,null,null,0,null,null,0,"-",{"$f":"IFERROR(OFFSET(N_W_1_1!$P$5,AE121,0),\"-\")","v":"-"},"-","-",null,null,null,null,null,null,null,null,null,{"$f":"IFERROR(MATCH(D121,Nr_stad!$U$8:$U$60,0),0)","v":0},0,{"$f":"IF(D121=\"\",\"-\",MATCH(D121,N_W_1_1!$K$6:$K$12,0))","v":"-"},{"$f":"OFFSET(N_W_1_1!$L$5,AE121,1+$AD$12)","v":{"$error":"#VALUE!"}},{"$f":"OFFSET(N_W_1_1!$L$5,AE121,2+$AD$12)","v":{"$error":"#VALUE!"}},{"$f":"OFFSET(N_W_1_1!$L$5,AE121,3+$AD$12)","v":{"$error":"#VALUE!"}},{"$error":"#VALUE!"},{"$error":"#VALUE!"},{"$error":"#VALUE!"},{"$error":"#VALUE!"},{"$error":"#VALUE!"},{"$error":"#VALUE!"},{"$error":"#VALUE!"},{"$f":"IFERROR(OFFSET(N_W_1_1!$L$5,AE121,0),\"\")","v":""},{"$error":"#VALUE!"},{"$f":"IFERROR(OFFSET(N_W_1_1!$P$5,AE121,2),0)","v":0},{"$f":"IFERROR(IF(S121>5,OFFSET(N_W_1_1!$P$5,AE121,4),OFFSET(N_W_1_1!$P$5,AE121,3)),0)","v":0}]
[null,null,null,null,null,null,null,null,null,null,null,0,null,null,0,"-",{"$f":"IFERROR(OFFSET(N_W_1_1!$P$5,AE122,0),\"-\")","v":"-"},"-","-",null,null,null,null,null,null,null,null,null,{"$f":"IFERROR(MATCH(D122,Nr_stad!$U$8:$U$60,0),0)","v":0},0,{"$f":"IF(D122=\"\",\"-\",MATCH(D122,N_W_1_1!$K$6:$K$12,0))","v":"-"},{"$f":"OFFSET(N_W_1_1!$L$5,AE122,1+$AD$12)","v":{"$error":"#VALUE!"}},{"$f":"OFFSET(N_W_1_1!$L$5,AE122,2+$AD$12)","v":{"$error":"#VALUE!"}},{"$f":"OFFSET(N_W_1_1!$L$5,AE122,3+$AD$12)","v":{"$error":"#VALUE!"}},{"$error":"#VALUE!"},{"$error":"#VALUE!"},{"$error":"#VALUE!"},{"$error":"#VALUE!"},{"$error":"#VALUE!"},{"$error":"#VALUE!"},{"$error":"#VALUE!"},{"$f":"IFERROR(OFFSET(N_W_1_1!$L$5,AE122,0),\"\")","v":""},{"$error":"#VALUE!"},{"$f":"IFERROR(OFFSET(N_W_1_1!$P$5,AE122,2),0)","v":0},{"$f":"IFERROR(IF(S122>5,OFFSET(N_W_1_1!$P$5,AE122,4),OFFSET(N_W_1_1!$P$5,AE122,3)),0)","v":0}]
[null,null,null,null,null,null,null,null,null,null,null,0,null,null,0,"-",{"$f":"IFERROR(OFFSET(N_W_1_1!$P$5,AE123,0),\"-\")","v":"-"},"-","-",null,null,null,null,null,null,null,null,null,{"$f":"IFERROR(MATCH(D123,Nr_stad!$U$8:$U$60,0),0)","v":0},0,{"$f":"IF(D123=\"\",\"-\",MATCH(D123,N_W_1_1!$K$6:$K$12,0))","v":"-"},{"$f":"OFFSET(N_W_1_1!$L$5,AE123,1+$AD$12)","v":{"$error":"#VALUE!"}},{"$f":"OFFSET(N_W_1_1!$L$5,AE123,2+$AD$12)","v":{"$error":"#VALUE!"}},{"$f":"OFFSET(N_W_1_1!$L$5,AE123,3+$AD$12)","v":{"$error":"#VALUE!"}},{"$error":"#VALUE!"},{"$error":"#VALUE!"},{"$error":"#VALUE!"},{"$error":"#VALUE!"},{"$error":"#VALUE!"},{"$error":"#VALUE!"},{"$error":"#VALUE!"},{"$f":"IFERROR(OFFSET(N_W_1_1!$L$5,AE123,0),\"\")","v":""},{"$error":"#VALUE!"},{"$f":"IFERROR(OFFSET(N_W_1_1!$P$5,AE123,2),0)","v":0},{"$f":"IFERROR(IF(S123>5,OFFSET(N_W_1_1!$P$5,AE123,4),OFFSET(N_W_1_1!$P$5,AE123,3)),0)","v":0}]
[null,null,null,null,null,null,null,null,null,null,null,0,null,null,0,"-",{"$f":"IFERROR(OFFSET(N_W_1_1!$P$5,AE124,0),\"-\")","v":"-"},"-","-",null,null,null,null,null,null,null,null,null,{"$f":"IFERROR(MATCH(D124,Nr_stad!$U$8:$U$60,0),0)","v":0},0,{"$f":"IF(D124=\"\",\"-\",MATCH(D124,N_W_1_1!$K$6:$K$12,0))","v":"-"},{"$f":"OFFSET(N_W_1_1!$L$5,AE124,1+$AD$12)","v":{"$error":"#VALUE!"}},{"$f":"OFFSET(N_W_1_1!$L$5,AE124,2+$AD$12)","v":{"$error":"#VALUE!"}},{"$f":"OFFSET(N_W_1_1!$L$5,AE124,3+$AD$12)","v":{"$error":"#VALUE!"}},{"$error":"#VALUE!"},{"$error":"#VALUE!"},{"$error":"#VALUE!"},{"$error":"#VALUE!"},{"$error":"#VALUE!"},{"$error":"#VALUE!"},{"$error":"#VALUE!"},{"$f":"IFERROR(OFFSET(N_W_1_1!$L$5,AE124,0),\"\")","v":""},{"$error":"#VALUE!"},{"$f":"IFERROR(OFFSET(N_W_1_1!$P$5,AE124,2),0)","v":0},{"$f":"IFERROR(IF(S124>5,OFFSET(N_W_1_1!$P$5,AE124,4),OFFSET(N_W_1_1!$P$5,AE124,3)),0)","v":0}]
[null,null,null,null,null,null,null,null,null,null,null,0,null,null,0,"-",{"$f":"IFERROR(OFFSET(N_W_1_1!$P$5,AE125,0),\"-\")","v":"-"},"-","-",null,null,null,null,null,null,null,null,null,{"$f":"IFERROR(MATCH(D125,Nr_stad!$U$8:$U$60,0),0)","v":0},0,{"$f":"IF(D125=\"\",\"-\",MATCH(D125,N_W_1_1!$K$6:$K$12,0))","v":"-"},{"$f":"OFFSET(N_W_1_1!$L$5,AE125,1+$AD$12)","v":{"$error":"#VALUE!"}},{"$f":"OFFSET(N_W_1_1!$L$5,AE125,2+$AD$12)","v":{"$error":"#VALUE!"}},{"$f":"OFFSET(N_W_1_1!$L$5,AE125,3+$AD$12)","v":{"$error":"#VALUE!"}},{"$error":"#VALUE!"},{"$error":"#VALUE!"},{"$error":"#VALUE!"},{"$error":"#VALUE!"},{"$error":"#VALUE!"},{"$error":"#VALUE!"},{"$error":"#VALUE!"},{"$f":"IFERROR(OFFSET(N_W_1_1!$L$5,AE125,0),\"\")","v":""},{"$error":"#VALUE!"},{"$f":"IFERROR(OFFSET(N_W_1_1!$P$5,AE125,2),0)","v":0},{"$f":"IFERROR(IF(S125>5,OFFSET(N_W_1_1!$P$5,AE125,4),OFFSET(N_W_1_1!$P$5,AE125,3)),0)","v":0}]
[null,null,null,null,null,null,null,null,null,null,null,0,null,null,0,"-",{"$f":"IFERROR(OFFSET(N_W_1_1!$P$5,AE126,0),\"-\")","v":"-"},"-","-",null,null,null,null,null,null,null,null,null,{"$f":"IFERROR(MATCH(D126,Nr_stad!$U$8:$U$60,0),0)","v":0},0,{"$f":"IF(D126=\"\",\"-\",MATCH(D126,N_W_1_1!$K$6:$K$12,0))","v":"-"},{"$f":"OFFSET(N_W_1_1!$L$5,AE126,1+$AD$12)","v":{"$error":"#VALUE!"}},{"$f":"OFFSET(N_W_1_1!$L$5,AE126,2+$AD$12)","v":{"$error":"#VALUE!"}},{"$f":"OFFSET(N_W_1_1!$L$5,AE126,3+$AD$12)","v":{"$error":"#VALUE!"}},{"$error":"#VALUE!"},{"$error":"#VALUE!"},{"$error":"#VALUE!"},{"$error":"#VALUE!"},{"$error":"#VALUE!"},{"$error":"#VALUE!"},{"$error":"#VALUE!"},{"$f":"IFERROR(OFFSET(N_W_1_1!$L$5,AE126,0),\"\")","v":""},{"$error":"#VALUE!"},{"$f":"IFERROR(OFFSET(N_W_1_1!$P$5,AE126,2),0)","v":0},{"$f":"IFERROR(IF(S126>5,OFFSET(N_W_1_1!$P$5,AE126,4),OFFSET(N_W_1_1!$P$5,AE126,3)),0)","v":0}]
[null,null,null,null,null,null,null,null,null,null,null,0,null,null,0,"-",{"$f":"IFERROR(OFFSET(N_W_1_1!$P$5,AE127,0),\"-\")","v":"-"},"-","-",null,null,null,null,null,null,null,null,null,{"$f":"IFERROR(MATCH(D127,Nr_stad!$U$8:$U$60,0),0)","v":0},0,{"$f":"IF(D127=\"\",\"-\",MATCH(D127,N_W_1_1!$K$6:$K$12,0))","v":"-"},{"$f":"OFFSET(N_W_1_1!$L$5,AE127,1+$AD$12)","v":{"$error":"#VALUE!"}},{"$f":"OFFSET(N_W_1_1!$L$5,AE127,2+$AD$12)","v":{"$error":"#VALUE!"}},{"$f":"OFFSET(N_W_1_1!$L$5,AE127,3+$AD$12)","v":{"$error":"#VALUE!"}},{"$error":"#VALUE!"},{"$error":"#VALUE!"},{"$error":"#VALUE!"},{"$error":"#VALUE!"},{"$error":"#VALUE!"},{"$error":"#VALUE!"},{"$error":"#VALUE!"},{"$f":"IFERROR(OFFSET(N_W_1_1!$L$5,AE127,0),\"\")","v":""},{"$error":"#VALUE!"},{"$f":"IFERROR(OFFSET(N_W_1_1!$P$5,AE127,2),0)","v":0},{"$f":"IFERROR(IF(S127>5,OFFSET(N_W_1_1!$P$5,AE127,4),OFFSET(N_W_1_1!$P$5,AE127,3)),0)","v":0}]
[null,null,null,"SUMA POWIERZCHNI BYTOWEJ KOJCÓW:",null,null,null,null,null,null,null,{"$f":"SUM(L27:L127)","v":0},"SUMA LICZBY LOCH I LOSZEK:",null,null,null,null,null,{"$f":"SUM(S27:S127)","v":0}]
[null,null,null,"Maksymalna liczba loch i loszek dotyczy łącznie wnioskodawcy i wskazanych innych posiadaczy",null,null,null,null,null,null,null,"NIE","SUMA LICZBY LOCH:",null,null,null,null,null,{"$f":"SUMIF(AP27:AP127,AP26,S27:S127)","v":0},null,null,null,null,null,null,null,null,null,"NIE"]
[null,null,null,null,null,null,null,null,null,null,null,null,null,null,null,null,null,null,null,null,null,null,null,null,null,null,null,null,"TAK"]

{"sheet":"Tuczniki","index":6,"n_rows":131,"n_cols":34,"rows_kept":131,"cut":false,"hidden":false,"merged":[[121,3,121,11],[72,3,72,6],[73,3,73,6],[65,3,65,6],[66,3,66,6],[67,3,67,6],[68,3,68,6],[82,3,82,6],[53,3,53,6],[118,3,118,6],[119,3,119,6],[120,3,120,6],[89,3,89,6],[90,3,90,6],[91,3,91,6],[92,3,92,6],[93,3,93,6],[84,3,84,6],[85,3,85,6],[83,3,83,6],[74,3,74,6],[75,3,75,6],[76,3,76,6],[77,3,77,6],[60,3,60,6],[61,3,61,6],[62,3,62,6],[63,3,63,6],[54,3,54,6],[55,3,55,6],[64,3,64,6],[59,3,59,6],[57,3,57,6],[56,3,56,6],[102,3,102,6],[103,3,103,6],[104,3,104,6],[105,3,105,6],[106,3,106,6],[117,3,117,6],[28,3,28,6],[29,3,29,6],[30,3,30,6],[32,3,32,6],[78,3,78,6],[86,3,86,6],[87,3,87,6],[88,3,88,6],[79,3,79,6],[80,3,80,6],[81,3,81,6],[99,3,99,6],[100,3,100,6],[44,3,44,6],[45,3,45,6],[46,3,46,6],[47,3,47,6],[48,3,48,6],[101,3,101,6],[25,3,25,6],[26,3,26,6],[27,3,27,6],[58,3,58,6],[50,3,50,6],[51,3,51,6],[52,3,52,6],[31,3,31,6],[39,3,39,6],[40,3,40,6],[41,3,41,6],[42,3,42,6],[43,3,43,6],[33,3,33,6],[34,3,34,6],[36,3,36,6],[37,3,37,6],[38,3,38,6],[35,3,35,6],[49,3,49,6],[69,3,69,6],[70,3,70,6],[71,3,71,6],[21,3,21,11],[130,11,130,13],[94,3,94,6],[95,3,95,6],[107,3,107,6],[108,3,108,6],[109,3,109,6],[110,3,110,6],[111,3,111,6],[112,3,112,6],[113,3,113,6],[124,3,124,6],[115,3,115,6],[116,3,116,6],[128,3,128,13],[126,10,126,13],[126,3,126,8],[122,3,122,6],[123,3,123,6],[114,3,114,6],[125,3,125,6],[96,3,96,6],[97,3,97,6],[98,3,98,6],[2,2,2,15],[3,3,3,8],[5,4,5,14],[9,4,9,14],[6,4,6,10],[4,3,4,8],[17,3,17,8],[19,3,19,8],[23,7,24,7],[23,8,24,8],[13,3,13,5],[13,7,13,10],[13,12,13,14],[22,8,22,9],[22,10,22,12],[16,4,16,9],[14,3,14,13],[15,4,15,10],[10,4,10,14],[11,3,11,14],[22,13,23,13],[23,3,24,6],[22,3,22,7],[12,3,12,14]]}
[null,null,"Uwaga !!! Po wydrukowaniu uzupełnić ręcznie Oświadczenie i czytelnie podpisać",null,null,null,null,null,null,null,null,null,null,null,"POWRÓT",null,null,null,null,null,null,null,null,null,null,null,null,null,null,null,null,null,null,"UWAGI"]
[]
[null,null,"II. Część szczegółowa  "]
[null,null,"II.2."," Dobrostan tuczników"]
[null,null,"II.2.1.","System produkcji  w gospodarstwie "]
[null,null,null,{"$f":"IF(S6=TRUE,T6,U6)","v":"☐"},"Przeciwdziałanie wzajemnemu obgryzaniu ogonów i ograniczenie potrzeby ich przycinania:\nŚwiniom zapewnia się stały dostęp do wystarczającej ilości materiałów, takich jak słoma, siano, drewno, trociny, kompost grzybniowy, torf lub mieszanki tych materiałów, lub przedmiotów absorbujących ich uwagę, przy czym te materiały lub te przedmioty powinny być bezpieczne oraz powinny być jadalne lub nadawać się do żucia lub manipulacji, a także świniom zapewnia się taką ilość różnych materiałów lub przedmiotów, które same lub w połączeniu z innymi materiałami lub przedmiotami będą zaspokajały potrzebę poznawania otoczenia i poszukiwania paszy.",null,null,null,null,null,null,null,null,null,null,null,null,null,false,"☒","☐"]
[null,null,null,null,"Warchlakom i tucznikom zapewnia się zwiększoną o co najmniej:"]
[null,null,null,{"$f":"IF(S8=1,T8,U8)","v":"☒"},"20% powierzchnię bytową w pomieszczeniach/budynkach ",null,null,null,null,null,null,null,null,null,null,null,null,null,1,"☒","☐"]
[null,null,null,{"$f":"IF(S8=2,T8,U8)","v":"☐"},"50% powierzchnię bytową w pomieszczeniach/budynkach ",null,null,null,null,null,null,null,null,null,null,null,null,null,{"$f":"IF(S8=2,1,0)","v":0},"set(nw1_2)"]
[null,null,null,{"$f":"IF(S10=TRUE,T10,U10)","v":"☐"},"Ściółka:\nBudynek/pomieszczenie dostosowane do stosowania ściółki",null,null,null,null,null,null,null,null,null,null,null,null,null,false,"☒","☐"]
[null,null,null,{"$f":"IF(S11=TRUE,T11,U11)","v":"☐"},"Do planu poprawy dobrostanu zwierząt dołączono szkic obiektów ze wskazanymi kojcami, w których utrzymywane są warchlaki i tuczniki ze wskazaniem powierzchni, na których utrzymywane są zwierzęta kilku rolników",null,null,null,null,null,null,null,null,null,null,null,null,true,false,"☒","☐",null,null,null,null,null,null,null,null,2]
[null,null,null,"System utrzymywania warchlaków i tuczników i model produkcji w gospodarstwie jest zgodny z klasyfikacją przyjętą w rozporządzeniu Ministra Rolnictwa i Rozwoju Wsi z dnia 23 grudnia 2022 r. w sprawie szczegółowego zakresu informacji zawartych w komputerowej bazie danych (Dz.U. z 2023 r. poz. 15) , z zaznaczeniem utrzymywania tych zwierząt na ściółce.",null,null,null,null,null,null,null,null,null,null,null,null,null,null,null,null,null,null,null,null,null,null,null,null,null,null,null,null,null,"Uzgodnienia z MRiRW w dniu 14.03.23"]
[null,null,null,"Informacja o spełnianiu odpowiednich minimalnych wymogów:\nPowierzchnia bytowa w pomieszczeniach lub w budynkach, w których utrzymywane są świnie inne niż warchlaki i tuczniki jest zgodna z odpowiednimi minimalnymi wymogami dotyczącymi dobrostanu zwierząt, o których mowa w art. 31 ust. 5 lit. b rozporządzenia 2021/2115, określonymi w rozporządzeniu Ministra Rolnictwa i Rozwoju Wsi z dnia 15 lutego 2010 r. w sprawie wymagań i sposobu postępowania przy utrzymywaniu gatunków zwierząt gospodarskich, dla których normy ochrony zostały określone w przepisach Unii Europejskiej."]
[null,null,null,"(miejscowość i data)",null,null,null,"(czytelny podpis rolnika)",null,null,null,null,"(czytelny podpis doradcy)"]
[null,null,null,"Tuczniki  kwalifikujące się do płatności pochodzą z gospodarstwa objętego/gospodarstw objętych Dobrostanem loch :",null,null,null,null,null,null,null,null,null,null,null,null,null,null,{"$f":"OR(S16,S17)","v":true}]
[null,null,null,{"$f":"IF(S16=TRUE,T16,U16)","v":"☒"},"z własnego gospodarstwa",null,null,null,null,null,null,null,null,null,null,null,null,null,true,"☒","☐"]
[null,null,null,{"$f":"IF(S17=TRUE,T17,U17)","v":"☒"},"z zewnątrz ",null,null,null,null,null,null,null,null,null,null,null,null,null,true,"☒","☐"]
[null,null,null,"Maksymalna masa warchlaka wynosi:",null,null,null,null,null,null,"kg/1 szt."]
[]
[null,null,null,"Minimalny okres tuczu tucznika wynosi:",null,null,null,null,null,null,"m-cy"]
[]
[null,null,"II.2.2.","Dopuszczalna maksymalna liczba warchlaków i tuczników, które mogą przebywać jednocześnie w gospodarstwie z uwzględnieniem wymogów zwiększenia pow. o co najmniej ",null,null,null,null,null,null,null,null,{"$f":"IF(S8=1,0.2,0.5)","v":0.2}]
[null,null,null,"Obiekt",null,null,null,null,"Grupa zwierząt",null,"Powierzchnia bytowa kojca ",null,null,"Powierzchnia minimalna","Maksymalna liczba"]
[null,null,null,"Numer siedziby stada \nalbo Nazwa obiektu",null,null,null,"Nr kojca","Nazwa grupy zwierząt","Maksymalna masa\nsztuki w kojcu","Dł.","Szer.","Pow.",null,"warchlaków/ tuczników"]
[null,null,null,null,null,null,null,null,null,"kg","m","m","m2","m2/szt","szt",null,null,null,null,null,10,20,30,50,85,110,110,"wyb","licz. Min","sum tucz"]
[null,null,null,null,null,null,null,null,{"$f":"IF(S26>0,\"-\",(IF(AND(J26<=$J$18,J26>0),\"warchlaki\",IF(AND(J26>$J$18,$J$18>0),\"tuczniki\",\"\"))))","v":""},null,null,null,{"$f":"K26*L26","v":0},{"$f":"IF(S26>0,\"-\",OFFSET(N_W_1_2!$I$4,AB26,$S$9))","v":0},{"$f":"IF(AC26>1,AC26,\"-\")","v":"-"},null,null,null,{"$f":"IFERROR(MATCH(D26,Nr_stad!$U$8:$U$60,0),0)","v":0},{"$f":"SUM(H26:O26)+S26","v":0},{"$f":"IF(AND($J26>1,$J26<=U$25),1,0)","v":0},{"$f":"IF($J26>U$25,2,0)","v":0},{"$f":"IF($J26>V$25,3,0)","v":0},{"$f":"IF($J26>W$25,4,0)","v":0},{"$f":"IF($J26>X$25,5,0)","v":0},{"$f":"IF($J26>Y$25,6,0)","v":0},{"$f":"IF($J26>Z$25,7,0)","v":0},{"$f":"MAX(U26:AA26)","v":0},{"$f":"IFERROR(TRUNC(M26/N26),\"-\")","v":"-"},{"$f":"IF(I26=\"tuczniki\",\"T\",\"\")","v":""}]
[null,null,null,null,null,null,null,null,{"$f":"IF(S27>0,\"-\",(IF(AND(J27<=$J$18,J27>0),\"warchlaki\",IF(AND(J27>$J$18,$J$18>0),\"tuczniki\",\"\"))))","v":""},null,null,null,0,{"$f":"IF(S27>0,\"-\",OFFSET(N_W_1_2!$I$4,AB27,$S$9))","v":0},{"$f":"IF(AC27>1,AC27,\"-\")","v":"-"},null,null,null,{"$f":"IFERROR(MATCH(D27,Nr_stad!$U$8:$U$60,0),0)","v":0},{"$f":"SUM(H27:O27)+S27","v":0},{"$f":"IF(AND($J27>1,$J27<=U$25),1,0)","v":0},{"$f":"IF($J27>U$25,2,0)","v":0},{"$f":"IF($J27>V$25,3,0)","v":0},{"$f":"IF($J27>W$25,4,0)","v":0},{"$f":"IF($J27>X$25,5,0)","v":0},{"$f":"IF($J27>Y$25,6,0)","v":0},{"$f":"IF($J27>Z$25,7,0)","v":0},{"$f":"MAX(U27:AA27)","v":0},{"$f":"IFERROR(TRUNC(M27/N27),\"-\")","v":"-"},{"$f":"IF(I27=\"tuczniki\",\"T\",\"\")","v":""}]
[null,null,null,null,null,null,null,null,"",null,null,null,0,{"$f":"IF(S28>0,\"-\",OFFSET(N_W_1_2!$I$4,AB28,$S$9))","v":0},"-",null,null,null,{"$f":"IFERROR(MATCH(D28,Nr_stad!$U$8:$U$60,0),0)","v":0},0,0,0,0,0,0,0,0,0,"-",""]
[null,null,null,null,null,null,null,null,"",null,null,null,0,{"$f":"IF(S29>0,\"-\",OFFSET(N_W_1_2!$I$4,AB29,$S$9))","v":0},"-",null,null,null,{"$f":"IFERROR(MATCH(D29,Nr_stad!$U$8:$U$60,0),0)","v":0},0,0,0,0,0,0,0,0,0,"-",""]
[null,null,null,null,null,null,null,null,"",null,null,null,0,{"$f":"IF(S30>0,\"-\",OFFSET(N_W_1_2!$I$4,AB30,$S$9))","v":0},"-",null,null,null,{"$f":"IFERROR(MATCH(D30,Nr_stad!$U$8:$U$60,0),0)","v":0},0,0,0,0,0,0,0,0,0,"-",""]
[null,null,null,null,null,null,null,null,"",null,null,null,0,{"$f":"IF(S31>0,\"-\",OFFSET(N_W_1_2!$I$4,AB31,$S$9))","v":0},"-",null,null,null,{"$f":"IFERROR(MATCH(D31,Nr_stad!$U$8:$U$60,0),0)","v":0},0,0,0,0,0,0,0,0,0,"-",""]
[null,null,null,null,null,null,null,null,"",null,null,null,0,{"$f":"IF(S32>0,\"-\",OFFSET(N_W_1_2!$I$4,AB32,$S$9))","v":0},"-",null,null,null,{"$f":"IFERROR(MATCH(D32,Nr_stad!$U$8:$U$60,0),0)","v":0},0,0,0,0,0,0,0,0,0,"-",""]
[null,null,null,null,null,null,null,null,"",null,null,null,0,{"$f":"IF(S33>0,\"-\",OFFSET(N_W_1_2!$I$4,AB33,$S$9))","v":0},"-",null,null,null,{"$f":"IFERROR(MATCH(D33,Nr_stad!$U$8:$U$60,0),0)","v":0},0,0,0,0,0,0,0,0,0,"-",""]
[null,null,null,null,null,null,null,null,"",null,null,null,0,{"$f":"IF(S34>0,\"-\",OFFSET(N_W_1_2!$I$4,AB34,$S$9))","v":0},"-",null,null,null,{"$f":"IFERROR(MATCH(D34,Nr_stad!$U$8:$U$60,0),0)","v":0},0,0,0,0,0,0,0,0,0,"-",""]
[null,null,null,null,null,null,null,null,"",null,null,null,0,{"$f":"IF(S35>0,\"-\",OFFSET(N_W_1_2!$I$4,AB35,$S$9))","v":0},"-",null,null,null,{"$f":"IFERROR(MATCH(D35,Nr_stad!$U$8:$U$60,0),0)","v":0},0,0,0,0,0,0,0,0,0,"-",""]
[null,null,null,null,null,null,null,null,"",null,null,null,0,{"$f":"IF(S36>0,\"-\",OFFSET(N_W_1_2!$I$4,AB36,$S$9))","v":0},"-",null,null,null,{"$f":"IFERROR(MATCH(D36,Nr_stad!$U$8:$U$60,0),0)","v":0},0,0,0,0,0,0,0,0,0,"-",""]
[null,null,null,null,null,null,null,null,"",null,null,null,0,{"$f":"IF(S37>0,\"-\",OFFSET(N_W_1_2!$I$4,AB37,$S$9))","v":0},"-",null,null,null,{"$f":"IFERROR(MATCH(D37,Nr_stad!$U$8:$U$60,0),0)","v":0},0,0,0,0,0,0,0,0,0,"-",""]
[null,null,null,null,null,null,null,null,"",null,null,null,0,{"$f":"IF(S38>0,\"-\",OFFSET(N_W_1_2!$I$4,AB38,$S$9))","v":0},"-",null,null,null,{"$f":"IFERROR(MATCH(D38,Nr_stad!$U$8:$U$60,0),0)","v":0},0,0,0,0,0,0,0,0,0,"-",""]
[null,null,null,null,null,null,null,null,"",null,null,null,0,{"$f":"IF(S39>0,\"-\",OFFSET(N_W_1_2!$I$4,AB39,$S$9))","v":0},"-",null,null,null,{"$f":"IFERROR(MATCH(D39,Nr_stad!$U$8:$U$60,0),0)","v":0},0,0,0,0,0,0,0,0,0,"-",""]
[null,null,null,null,null,null,null,null,"",null,null,null,0,{"$f":"IF(S40>0,\"-\",OFFSET(N_W_1_2!$I$4,AB40,$S$9))","v":0},"-",null,null,null,{"$f":"IFERROR(MATCH(D40,Nr_stad!$U$8:$U$60,0),0)","v":0},0,0,0,0,0,0,0,0,0,"-",""]
[null,null,null,null,null,null,null,null,"",null,null,null,0,{"$f":"IF(S41>0,\"-\",OFFSET(N_W_1_2!$I$4,AB41,$S$9))","v":0},"-",null,null,null,{"$f":"IFERROR(MATCH(D41,Nr_stad!$U$8:$U$60,0),0)","v":0},0,0,0,0,0,0,0,0,0,"-",""]
[null,null,null,null,null,null,null,null,"",null,null,null,0,{"$f":"IF(S42>0,\"-\",OFFSET(N_W_1_2!$I$4,AB42,$S$9))","v":0},"-",null,null,null,{"$f":"IFERROR(MATCH(D42,Nr_stad!$U$8:$U$60,0),0)","v":0},0,0,0,0,0,0,0,0,0,"-",""]
[null,null,null,null,null,null,null,null,"",null,null,null,0,{"$f":"IF(S43>0,\"-\",OFFSET(N_W_1_2!$I$4,AB43,$S$9))","v":0},"-",null,null,null,{"$f":"IFERROR(MATCH(D43,Nr_stad!$U$8:$U$60,0),0)","v":0},0,0,0,0,0,0,0,0,0,"-",""]
[null,null,null,null,null,null,null,null,"",null,null,null,0,{"$f":"IF(S44>0,\"-\",OFFSET(N_W_1_2!$I$4,AB44,$S$9))","v":0},"-",null,null,null,{"$f":"IFERROR(MATCH(D44,Nr_stad!$U$8:$U$60,0),0)","v":0},0,0,0,0,0,0,0,0,0,"-",""]
[null,null,null,null,null,null,null,null,"",null,null,null,0,{"$f":"IF(S45>0,\"-\",OFFSET(N_W_1_2!$I$4,AB45,$S$9))","v":0},"-",null,null,null,{"$f":"IFERROR(MATCH(D45,Nr_stad!$U$8:$U$60,0),0)","v":0},0,0,0,0,0,0,0,0,0,"-",""]
[null,null,null,null,null,null,null,null,"",null,null,null,0,{"$f":"IF(S46>0,\"-\",OFFSET(N_W_1_2!$I$4,AB46,$S$9))","v":0},"-",null,null,null,{"$f":"IFERROR(MATCH(D46,Nr_stad!$U$8:$U$60,0),0)","v":0},0,0,0,0,0,0,0,0,0,"-",""]
[null,null,null,null,null,null,null,null,"",null,null,null,0,{"$f":"IF(S47>0,\"-\",OFFSET(N_W_1_2!$I$4,AB47,$S$9))","v":0},"-",null,null,null,{"$f":"IFERROR(MATCH(D47,Nr_stad!$U$8:$U$60,0),0)","v":0},0,0,0,0,0,0,0,0,0,"-",""]
[null,null,null,null,null,null,null,null,"",null,null,null,0,{"$f":"IF(S48>0,\"-\",OFFSET(N_W_1_2!$I$4,AB48,$S$9))","v":0},"-",null,null,null,{"$f":"IFERROR(MATCH(D48,Nr_stad!$U$8:$U$60,0),0)","v":0},0,0,0,0,0,0,0,0,0,"-",""]
[null,null,null,null,null,null,null,null,"",null,null,null,0,{"$f":"IF(S49>0,\"-\",OFFSET(N_W_1_2!$I$4,AB49,$S$9))","v":0},"-",null,null,null,{"$f":"IFERROR(MATCH(D49,Nr_stad!$U$8:$U$60,0),0)","v":0},0,0,0,0,0,0,0,0,0,"-",""]
[null,null,null,null,null,null,null,null,"",null,null,null,0,{"$f":"IF(S50>0,\"-\",OFFSET(N_W_1_2!$I$4,AB50,$S$9))","v":0},"-",null,null,null,{"$f":"IFERROR(MATCH(D50,Nr_stad!$U$8:$U$60,0),0)","v":0},0,0,0,0,0,0,0,0,0,"-",""]
[null,null,null,null,null,null,null,null,"",null,null,null,0,{"$f":"IF(S51>0,\"-\",OFFSET(N_W_1_2!$I$4,AB51,$S$9))","v":0},"-",null,null,null,{"$f":"IFERROR(MATCH(D51,Nr_stad!$U$8:$U$60,0),0)","v":0},0,0,0,0,0,0,0,0,0,"-",""]
[null,null,null,null,null,null,null,null,"",null,null,null,0,{"$f":"IF(S52>0,\"-\",OFFSET(N_W_1_2!$I$4,AB52,$S$9))","v":0},"-",null,null,null,{"$f":"IFERROR(MATCH(D52,Nr_stad!$U$8:$U$60,0),0)","v":0},0,0,0,0,0,0,0,0,0,"-",""]
[null,null,null,null,null,null,null,null,"",null,null,null,0,{"$f":"IF(S53>0,\"-\",OFFSET(N_W_1_2!$I$4,AB53,$S$9))","v":0},"-",null,null,null,{"$f":"IFERROR(MATCH(D53,Nr_stad!$U$8:$U$60,0),0)","v":0},0,0,0,0,0,0,0,0,0,"-",""]
[null,null,null,null,null,null,null,null,"",null,null,null,0,{"$f":"IF(S54>0,\"-\",OFFSET(N_W_1_2!$I$4,AB54,$S$9))","v":0},"-",null,null,null,{"$f":"IFERROR(MATCH(D54,Nr_stad!$U$8:$U$60,0),0)","v":0},0,0,0,0,0,0,0,0,0,"-",""]
[null,null,null,null,null,null,null,null,"",null,null,null,0,{"$f":"IF(S55>0,\"-\",OFFSET(N_W_1_2!$I$4,AB55,$S$9))","v":0},"-",null,null,null,{"$f":"IFERROR(MATCH(D55,Nr_stad!$U$8:$U$60,0),0)","v":0},0,0,0,0,0,0,0,0,0,"-",""]
[null,null,null,null,null,null,null,null,"",null,null,null,0,{"$f":"IF(S56>0,\"-\",OFFSET(N_W_1_2!$I$4,AB56,$S$9))","v":0},"-",null,null,null,{"$f":"IFERROR(MATCH(D56,Nr_stad!$U$8:$U$60,0),0)","v":0},0,0,0,0,0,0,0,0,0,"-",""]
[null,null,null,null,null,null,null,null,"",null,null,null,0,{"$f":"IF(S57>0,\"-\",OFFSET(N_W_1_2!$I$4,AB57,$S$9))","v":0},"-",null,null,null,{"$f":"IFERROR(MATCH(D57,Nr_stad!$U$8:$U$60,0),0)","v":0},0,0,0,0,0,0,0,0,0,"-",""]
[null,null,null,null,null,null,null,null,"",null,null,null,0,{"$f":"IF(S58>0,\"-\",OFFSET(N_W_1_2!$I$4,AB58,$S$9))","v":0},"-",null,null,null,{"$f":"IFERROR(MATCH(D58,Nr_stad!$U$8:$U$60,0),0)","v":0},0,0,0,0,0,0,0,0,0,"-",""]
[null,null,null,null,null,null,null,null,"",null,null,null,0,{"$f":"IF(S59>0,\"-\",OFFSET(N_W_1_2!$I$4,AB59,$S$9))","v":0},"-",null,null,null,{"$f":"IFERROR(MATCH(D59,Nr_stad!$U$8:$U$60,0),0)","v":0},0,0,0,0,0,0,0,0,0,"-",""]
[null,null,null,null,null,null,null,null,"",null,null,null,0,{"$f":"IF(S60>0,\"-\",OFFSET(N_W_1_2!$I$4,AB60,$S$9))","v":0},"-",null,null,null,{"$f":"IFERROR(MATCH(D60,Nr_stad!$U$8:$U$60,0),0)","v":0},0,0,0,0,0,0,0,0,0,"-",""]
[null,null,null,null,null,null,null,null,"",null,null,null,0,{"$f":"IF(S61>0,\"-\",OFFSET(N_W_1_2!$I$4,AB61,$S$9))","v":0},"-",null,null,null,{"$f":"IFERROR(MATCH(D61,Nr_stad!$U$8:$U$60,0),0)","v":0},0,0,0,0,0,0,0,0,0,"-",""]
[null,null,null,null,null,null,null,null,"",null,null,null,0,{"$f":"IF(S62>0,\"-\",OFFSET(N_W_1_2!$I$4,AB62,$S$9))","v":0},"-",null,null,null,{"$f":"IFERROR(MATCH(D62,Nr_stad!$U$8:$U$60,0),0)","v":0},0,0,0,0,0,0,0,0,0,"-",""]
[null,null,null,null,null,null,null,null,"",null,null,null,0,{"$f":"IF(S63>0,\"-\",OFFSET(N_W_1_2!$I$4,AB63,$S$9))","v":0},"-",null,null,null,{"$f":"IFERROR(MATCH(D63,Nr_stad!$U$8:$U$60,0),0)","v":0},0,0,0,0,0,0,0,0,0,"-",""]
[null,null,null,null,null,null,null,null,"",null,null,null,0,{"$f":"IF(S64>0,\"-\",OFFSET(N_W_1_2!$I$4,AB64,$S$9))","v":0},"-",null,null,null,{"$f":"IFERROR(MATCH(D64,Nr_stad!$U$8:$U$60,0),0)","v":0},0,0,0,0,0,0,0,0,0,"-",""]
[null,null,null,null,null,null,null,null,"",null,null,null,0,{"$f":"IF(S65>0,\"-\",OFFSET(N_W_1_2!$I$4,AB65,$S$9))","v":0},"-",null,null,null,{"$f":"IFERROR(MATCH(D65,Nr_stad!$U$8:$U$60,0),0)","v":0},0,0,0,0,0,0,0,0,0,"-",""]
[null,null,null,null,null,null,null,null,"",null,null,null,0,{"$f":"IF(S66>0,\"-\",OFFSET(N_W_1_2!$I$4,AB66,$S$9))","v":0},"-",null,null,null,{"$f":"IFERROR(MATCH(D66,Nr_stad!$U$8:$U$60,0),0)","v":0},0,0,0,0,0,0,0,0,0,"-",""]
[null,null,null,null,null,null,null,null,"",null,null,null,0,{"$f":"IF(S67>0,\"-\",OFFSET(N_W_1_2!$I$4,AB67,$S$9))","v":0},"-",null,null,null,{"$f":"IFERROR(MATCH(D67,Nr_stad!$U$8:$U$60,0),0)","v":0},0,0,0,0,0,0,0,0,0,"-",""]
[null,null,null,null,null,null,null,null,"",null,null,null,0,{"$f":"IF(S68>0,\"-\",OFFSET(N_W_1_2!$I$4,AB68,$S$9))","v":0},"-",null,null,null,{"$f":"IFERROR(MATCH(D68,Nr_stad!$U$8:$U$60,0),0)","v":0},0,0,0,0,0,0,0,0,0,"-",""]
[null,null,null,null,null,null,null,null,"",null,null,null,0,{"$f":"IF(S69>0,\"-\",OFFSET(N_W_1_2!$I$4,AB69,$S$9))","v":0},"-",null,null,null,{"$f":"IFERROR(MATCH(D69,Nr_stad!$U$8:$U$60,0),0)","v":0},0,0,0,0,0,0,0,0,0,"-",""]
[null,null,null,null,null,null,null,null,"",null,null,null,0,{"$f":"IF(S70>0,\"-\",OFFSET(N_W_1_2!$I$4,AB70,$S$9))","v":0},"-",null,null,null,{"$f":"IFERROR(MATCH(D70,Nr_stad!$U$8:$U$60,0),0)","v":0},0,0,0,0,0,0,0,0,0,"-",""]
[null,null,null,null,null,null,null,null,"",null,null,null,0,{"$f":"IF(S71>0,\"-\",OFFSET(N_W_1_2!$I$4,AB71,$S$9))","v":0},"-",null,null,null,{"$f":"IFERROR(MATCH(D71,Nr_stad!$U$8:$U$60,0),0)","v":0},0,0,0,0,0,0,0,0,0,"-",""]
[null,null,null,null,null,null,null,null,"",null,null,null,0,{"$f":"IF(S72>0,\"-\",OFFSET(N_W_1_2!$I$4,AB72,$S$9))","v":0},"-",null,null,null,{"$f":"IFERROR(MATCH(D72,Nr_stad!$U$8:$U$60,0),0)","v":0},0,0,0,0,0,0,0,0,0,"-",""]
[null,null,null,null,null,null,null,null,"",null,null,null,0,{"$f":"IF(S73>0,\"-\",OFFSET(N_W_1_2!$I$4,AB73,$S$9))","v":0},"-",null,null,null,{"$f":"IFERROR(MATCH(D73,Nr_stad!$U$8:$U$60,0),0)","v":0},0,0,0,0,0,0,0,0,0,"-",""]
[null,null,null,null,null,null,null,null,"",null,null,null,0,{"$f":"IF(S74>0,\"-\",OFFSET(N_W_1_2!$I$4,AB74,$S$9))","v":0},"-",null,null,null,{"$f":"IFERROR(MATCH(D74,Nr_stad!$U$8:$U$60,0),0)","v":0},0,0,0,0,0,0,0,0,0,"-",""]
[null,null,null,null,null,null,null,null,"",null,null,null,0,{"$f":"IF(S75>0,\"-\",OFFSET(N_W_1_2!$I$4,AB75,$S$9))","v":0},"-",null,null,null,{"$f":"IFERROR(MATCH(D75,Nr_stad!$U$8:$U$60,0),0)","v":0},0,0,0,0,0,0,0,0,0,"-",""]
[null,null,null,null,null,null,null,null,"",null,null,null,0,{"$f":"IF(S76>0,\"-\",OFFSET(N_W_1_2!$I$4,AB76,$S$9))","v":0},"-",null,null,null,{"$f":"IFERROR(MATCH(D76,Nr_stad!$U$8:$U$60,0),0)","v":0},0,0,0,0,0,0,0,0,0,"-",""]
[null,null,null,null,null,null,null,null,"",null,null,null,0,{"$f":"IF(S77>0,\"-\",OFFSET(N_W_1_2!$I$4,AB77,$S$9))","v":0},"-",null,null,null,{"$f":"IFERROR(MATCH(D77,Nr_stad!$U$8:$U$60,0),0)","v":0},0,0,0,0,0,0,0,0,0,"-",""]
[null,null,null,null,null,null,null,null,"",null,null,null,0,{"$f":"IF(S78>0,\"-\",OFFSET(N_W_1_2!$I$4,AB78,$S$9))","v":0},"-",null,null,null,{"$f":"IFERROR(MATCH(D78,Nr_stad!$U$8:$U$60,0),0)","v":0},0,0,0,0,0,0,0,0,0,"-",""]
[null,null,null,null,null,null,null,null,"",null,null,null,0,{"$f":"IF(S79>0,\"-\",OFFSET(N_W_1_2!$I$4,AB79,$S$9))","v":0},"-",null,null,null,{"$f":"IFERROR(MATCH(D79,Nr_stad!$U$8:$U$60,0),0)","v":0},0,0,0,0,0,0,0,0,0,"-",""]
[null,null,null,null,null,null,null,null,"",null,null,null,0,{"$f":"IF(S80>0,\"-\",OFFSET(N_W_1_2!$I$4,AB80,$S$9))","v":0},"-",null,null,null,{"$f":"IFERROR(MATCH(D80,Nr_stad!$U$8:$U$60,0),0)","v":0},0,0,0,0,0,0,0,0,0,"-",""]
[null,null,null,null,null,null,null,null,"",null,null,null,0,{"$f":"IF(S81>0,\"-\",OFFSET(N_W_1_2!$I$4,AB81,$S$9))","v":0},"-",null,null,null,{"$f":"IFERROR(MATCH(D81,Nr_stad!$U$8:$U$60,0),0)","v":0},0,0,0,0,0,0,0,0,0,"-",""]
[null,null,null,null,null,null,null,null,"",null,null,null,0,{"$f":"IF(S82>0,\"-\",OFFSET(N_W_1_2!$I$4,AB82,$S$9))","v":0},"-",null,null,null,{"$f":"IFERROR(MATCH(D82,Nr_stad!$U$8:$U$60,0),0)","v":0},0,0,0,0,0,0,0,0,0,"-",""]
[null,null,null,null,null,null,null,null,"",null,null,null,0,{"$f":"IF(S83>0,\"-\",OFFSET(N_W_1_2!$I$4,AB83,$S$9))","v":0},"-",null,null,null,{"$f":"IFERROR(MATCH(D83,Nr_stad!$U$8:$U$60,0),0)","v":0},0,0,0,0,0,0,0,0,0,"-",""]
[null,null,null,null,null,null,null,null,"",null,null,null,0,{"$f":"IF(S84>0,\"-\",OFFSET(N_W_1_2!$I$4,AB84,$S$9))","v":0},"-",null,null,null,{"$f":"IFERROR(MATCH(D84,Nr_stad!$U$8:$U$60,0),0)","v":0},0,0,0,0,0,0,0,0,0,"-",""]
[null,null,null,null,null,null,null,null,"",null,null,null,0,{"$f":"IF(S85>0,\"-\",OFFSET(N_W_1_2!$I$4,AB85,$S$9))","v":0},"-",null,null,null,{"$f":"IFERROR(MATCH(D85,Nr_stad!$U$8:$U$60,0),0)","v":0},0,0,0,0,0,0,0,0,0,"-",""]
[null,null,null,null,null,null,null,null,"",null,null,null,0,{"$f":"IF(S86>0,\"-\",OFFSET(N_W_1_2!$I$4,AB86,$S$9))","v":0},"-",null,null,null,{"$f":"IFERROR(MATCH(D86,Nr_stad!$U$8:$U$60,0),0)","v":0},0,0,0,0,0,0,0,0,0,"-",""]
[null,null,null,null,null,null,null,null,"",null,null,null,0,{"$f":"IF(S87>0,\"-\",OFFSET(N_W_1_2!$I$4,AB87,$S$9))","v":0},"-",null,null,null,{"$f":"IFERROR(MATCH(D87,Nr_stad!$U$8:$U$60,0),0)","v":0},0,0,0,0,0,0,0,0,0,"-",""]
[null,null,null,null,null,null,null,null,"",null,null,null,0,{"$f":"IF(S88>0,\"-\",OFFSET(N_W_1_2!$I$4,AB88,$S$9))","v":0},"-",null,null,null,{"$f":"IFERROR(MATCH(D88,Nr_stad!$U$8:$U$60,0),0)","v":0},0,0,0,0,0,0,0,0,0,"-",""]
[null,null,null,null,null,null,null,null,"",null,null,null,0,{"$f":"IF(S89>0,\"-\",OFFSET(N_W_1_2!$I$4,AB89,$S$9))","v":0},"-",null,null,null,{"$f":"IFERROR(MATCH(D89,Nr_stad!$U$8:$U$60,0),0)","v":0},0,0,0,0,0,0,0,0,0,"-",""]
[null,null,null,null,null,null,null,null,"",null,null,null,{"$f":"K90*L90","v":0},{"$f":"IF(S90>0,\"-\",OFFSET(N_W_1_2!$I$4,AB90,$S$9))","v":0},"-",null,null,null,{"$f":"IFERROR(MATCH(D90,Nr_stad!$U$8:$U$60,0),0)","v":0},0,0,0,0,0,0,0,0,0,"-",""]
[null,null,null,null,null,null,null,null,{"$f":"IF(S91>0,\"-\",(IF(AND(J91<=$J$18,J91>0),\"warchlaki\",IF(AND(J91>$J$18,$J$18>0),\"tuczniki\",\"\"))))","v":""},null,null,null,0,{"$f":"IF(S91>0,\"-\",OFFSET(N_W_1_2!$I$4,AB91,$S$9))","v":0},{"$f":"IF(AC91>1,AC91,\"-\")","v":"-"},null,null,null,{"$f":"IFERROR(MATCH(D91,Nr_stad!$U$8:$U$60,0),0)","v":0},{"$f":"SUM(H91:O91)+S91","v":0},{"$f":"IF(AND($J91>1,$J91<=U$25),1,0)","v":0},{"$f":"IF($J91>U$25,2,0)","v":0},{"$f":"IF($J91>V$25,3,0)","v":0},{"$f":"IF($J91>W$25,4,0)","v":0},{"$f":"IF($J91>X$25,5,0)","v":0},{"$f":"IF($J91>Y$25,6,0)","v":0},{"$f":"IF($J91>Z$25,7,0)","v":0},{"$f":"MAX(U91:AA91)","v":0},{"$f":"IFERROR(TRUNC(M91/N91),\"-\")","v":"-"},{"$f":"IF(I91=\"tuczniki\",\"T\",\"\")","v":""}]
[null,null,null,null,null,null,null,null,"",null,null,null,0,{"$f":"IF(S92>0,\"-\",OFFSET(N_W_1_2!$I$4,AB92,$S$9))","v":0},"-",null,null,null,{"$f":"IFERROR(MATCH(D92,Nr_stad!$U$8:$U$60,0),0)","v":0},0,0,0,0,0,0,0,0,0,"-",""]
[null,null,null,null,null,null,null,null,"",null,null,null,0,{"$f":"IF(S93>0,\"-\",OFFSET(N_W_1_2!$I$4,AB93,$S$9))","v":0},"-",null,null,null,{"$f":"IFERROR(MATCH(D93,Nr_stad!$U$8:$U$60,0),0)","v":0},0,0,0,0,0,0,0,0,0,"-",""]
[null,null,null,null,null,null,null,null,"",null,null,null,0,{"$f":"IF(S94>0,\"-\",OFFSET(N_W_1_2!$I$4,AB94,$S$9))","v":0},"-",null,null,null,{"$f":"IFERROR(MATCH(D94,Nr_stad!$U$8:$U$60,0),0)","v":0},0,0,0,0,0,0,0,0,0,"-",""]
[null,null,null,null,null,null,null,null,"",null,null,null,0,{"$f":"IF(S95>0,\"-\",OFFSET(N_W_1_2!$I$4,AB95,$S$9))","v":0},"-",null,null,null,{"$f":"IFERROR(MATCH(D95,Nr_stad!$U$8:$U$60,0),0)","v":0},0,0,0,0,0,0,0,0,0,"-",""]
[null,null,null,null,null,null,null,null,"",null,null,null,0,{"$f":"IF(S96>0,\"-\",OFFSET(N_W_1_2!$I$4,AB96,$S$9))","v":0},"-",null,null,null,{"$f":"IFERROR(MATCH(D96,Nr_stad!$U$8:$U$60,0),0)","v":0},0,0,0,0,0,0,0,0,0,"-",""]
[null,null,null,null,null,null,null,null,"",null,null,null,0,{"$f":"IF(S97>0,\"-\",OFFSET(N_W_1_2!$I$4,AB97,$S$9))","v":0},"-",null,null,null,{"$f":"IFERROR(MATCH(D97,Nr_stad!$U$8:$U$60,0),0)","v":0},0,0,0,0,0,0,0,0,0,"-",""]
[null,null,null,null,null,null,null,null,"",null,null,null,0,{"$f":"IF(S98>0,\"-\",OFFSET(N_W_1_2!$I$4,AB98,$S$9))","v":0},"-",null,null,null,{"$f":"IFERROR(MATCH(D98,Nr_stad!$U$8:$U$60,0),0)","v":0},0,0,0,0,0,0,0,0,0,"-",""]
[null,null,null,null,null,null,null,null,"",null,null,null,0,{"$f":"IF(S99>0,\"-\",OFFSET(N_W_1_2!$I$4,AB99,$S$9))","v":0},"-",null,null,null,{"$f":"IFERROR(MATCH(D99,Nr_stad!$U$8:$U$60,0),0)","v":0},0,0,0,0,0,0,0,0,0,"-",""]
[null,null,null,null,null,null,null,null,"",null,null,null,0,{"$f":"IF(S100>0,\"-\",OFFSET(N_W_1_2!$I$4,AB100,$S$9))","v":0},"-",null,null,null,{"$f":"IFERROR(MATCH(D100,Nr_stad!$U$8:$U$60,0),0)","v":0},0,0,0,0,0,0,0,0,0,"-",""]
[null,null,null,null,null,null,null,null,"",null,null,null,0,{"$f":"IF(S101>0,\"-\",OFFSET(N_W_1_2!$I$4,AB101,$S$9))","v":0},"-",null,null,null,{"$f":"IFERROR(MATCH(D101,Nr_stad!$U$8:$U$60,0),0)","v":0},0,0,0,0,0,0,0,0,0,"-",""]
[null,null,null,null,null,null,null,null,"",null,null,null,0,{"$f":"IF(S102>0,\"-\",OFFSET(N_W_1_2!$I$4,AB102,$S$9))","v":0},"-",null,null,null,{"$f":"IFERROR(MATCH(D102,Nr_stad!$U$8:$U$60,0),0)","v":0},0,0,0,0,0,0,0,0,0,"-",""]
[null,null,null,null,null,null,null,null,"",null,null,null,0,{"$f":"IF(S103>0,\"-\",OFFSET(N_W_1_2!$I$4,AB103,$S$9))","v":0},"-",null,null,null,{"$f":"IFERROR(MATCH(D103,Nr_stad!$U$8:$U$60,0),0)","v":0},0,0,0,0,0,0,0,0,0,"-",""]
[null,null,null,null,null,null,null,null,"",null,null,null,0,{"$f":"IF(S104>0,\"-\",OFFSET(N_W_1_2!$I$4,AB104,$S$9))","v":0},"-",null,null,null,{"$f":"IFERROR(MATCH(D104,Nr_stad!$U$8:$U$60,0),0)","v":0},0,0,0,0,0,0,0,0,0,"-",""]
[null,null,null,null,null,null,null,null,"",null,null,null,0,{"$f":"IF(S105>0,\"-\",OFFSET(N_W_1_2!$I$4,AB105,$S$9))","v":0},"-",null,null,null,{"$f":"IFERROR(MATCH(D105,Nr_stad!$U$8:$U$60,0),0)","v":0},0,0,0,0,0,0,0,0,0,"-",""]
[null,null,null,null,null,null,null,null,"",null,null,null,0,{"$f":"IF(S106>0,\"-\",OFFSET(N_W_1_2!$I$4,AB106,$S$9))","v":0},"-",null,null,null,{"$f":"IFERROR(MATCH(D106,Nr_stad!$U$8:$U$60,0),0)","v":0},0,0,0,0,0,0,0,0,0,"-",""]
[null,null,null,null,null,null,null,null,"",null,null,null,0,{"$f":"IF(S107>0,\"-\",OFFSET(N_W_1_2!$I$4,AB107,$S$9))","v":0},"-",null,null,null,{"$f":"IFERROR(MATCH(D107,Nr_stad!$U$8:$U$60,0),0)","v":0},0,0,0,0,0,0,0,0,0,"-",""]
[null,null,null,null,null,null,null,null,"",null,null,null,0,{"$f":"IF(S108>0,\"-\",OFFSET(N_W_1_2!$I$4,AB108,$S$9))","v":0},"-",null,null,null,{"$f":"IFERROR(MATCH(D108,Nr_stad!$U$8:$U$60,0),0)","v":0},0,0,0,0,0,0,0,0,0,"-",""]
[null,null,null,null,null,null,null,null,"",null,null,null,0,{"$f":"IF(S109>0,\"-\",OFFSET(N_W_1_2!$I$4,AB109,$S$9))","v":0},"-",null,null,null,{"$f":"IFERROR(MATCH(D109,Nr_stad!$U$8:$U$60,0),0)","v":0},0,0,0,0,0,0,0,0,0,"-",""]
[null,null,null,null,null,null,null,null,"",null,null,null,0,{"$f":"IF(S110>0,\"-\",OFFSET(N_W_1_2!$I$4,AB110,$S$9))","v":0},"-",null,null,null,{"$f":"IFERROR(MATCH(D110,Nr_stad!$U$8:$U$60,0),0)","v":0},0,0,0,0,0,0,0,0,0,"-",""]
[null,null,null,null,null,null,null,null,"",null,null,null,0,{"$f":"IF(S111>0,\"-\",OFFSET(N_W_1_2!$I$4,AB111,$S$9))","v":0},"-",null,null,null,{"$f":"IFERROR(MATCH(D111,Nr_stad!$U$8:$U$60,0),0)","v":0},0,0,0,0,0,0,0,0,0,"-",""]
[null,null,null,null,null,null,null,null,"",null,null,null,0,{"$f":"IF(S112>0,\"-\",OFFSET(N_W_1_2!$I$4,AB112,$S$9))","v":0},"-",null,null,null,{"$f":"IFERROR(MATCH(D112,Nr_stad!$U$8:$U$60,0),0)","v":0},0,0,0,0,0,0,0,0,0,"-",""]
[null,null,null,null,null,null,null,null,"",null,null,null,0,{"$f":"IF(S113>0,\"-\",OFFSET(N_W_1_2!$I$4,AB113,$S$9))","v":0},"-",null,null,null,{"$f":"IFERROR(MATCH(D113,Nr_stad!$U$8:$U$60,0),0)","v":0},0,0,0,0,0,0,0,0,0,"-",""]
[null,null,null,null,null,null,null,null,"",null,null,null,0,{"$f":"IF(S114>0,\"-\",OFFSET(N_W_1_2!$I$4,AB114,$S$9))","v":0},"-",null,null,null,{"$f":"IFERROR(MATCH(D114,Nr_stad!$U$8:$U$60,0),0)","v":0},0,0,0,0,0,0,0,0,0,"-",""]
[null,null,null,null,null,null,null,null,"",null,null,null,0,{"$f":"IF(S115>0,\"-\",OFFSET(N_W_1_2!$I$4,AB115,$S$9))","v":0},"-",null,null,null,{"$f":"IFERROR(MATCH(D115,Nr_stad!$U$8:$U$60,0),0)","v":0},0,0,0,0,0,0,0,0,0,"-",""]
[null,null,null,null,null,null,null,null,"",null,null,null,0,{"$f":"IF(S116>0,\"-\",OFFSET(N_W_1_2!$I$4,AB116,$S$9))","v":0},"-",null,null,null,{"$f":"IFERROR(MATCH(D116,Nr_stad!$U$8:$U$60,0),0)","v":0},0,0,0,0,0,0,0,0,0,"-",""]
[null,null,null,null,null,null,null,null,"",null,null,null,0,{"$f":"IF(S117>0,\"-\",OFFSET(N_W_1_2!$I$4,AB117,$S$9))","v":0},"-",null,null,null,{"$f":"IFERROR(MATCH(D117,Nr_stad!$U$8:$U$60,0),0)","v":0},0,0,0,0,0,0,0,0,0,"-",""]
[null,null,null,null,null,null,null,null,"",null,null,null,0,{"$f":"IF(S118>0,\"-\",OFFSET(N_W_1_2!$I$4,AB118,$S$9))","v":0},"-",null,null,null,{"$f":"IFERROR(MATCH(D118,Nr_stad!$U$8:$U$60,0),0)","v":0},0,0,0,0,0,0,0,0,0,"-",""]
[null,null,null,null,null,null,null,null,"",null,null,null,0,{"$f":"IF(S119>0,\"-\",OFFSET(N_W_1_2!$I$4,AB119,$S$9))","v":0},"-",null,null,null,{"$f":"IFERROR(MATCH(D119,Nr_stad!$U$8:$U$60,0),0)","v":0},0,0,0,0,0,0,0,0,0,"-",""]
[null,null,null,null,null,null,null,null,"",null,null,null,0,{"$f":"IF(S120>0,\"-\",OFFSET(N_W_1_2!$I$4,AB120,$S$9))","v":0},"-",null,null,null,{"$f":"IFERROR(MATCH(D120,Nr_stad!$U$8:$U$60,0),0)","v":0},0,0,0,0,0,0,0,0,0,"-",""]
[null,null,null,null,null,null,null,null,"",null,null,null,0,{"$f":"IF(S121>0,\"-\",OFFSET(N_W_1_2!$I$4,AB121,$S$9))","v":0},"-",null,null,null,{"$f":"IFERROR(MATCH(D121,Nr_stad!$U$8:$U$60,0),0)","v":0},0,0,0,0,0,0,0,0,0,"-",""]
[null,null,null,"SUMA POWIERZCHNI BYTOWEJ:",null,null,null,null,null,null,null,null,{"$f":"SUM(M26:M121)","v":0},{"$f":"IF(S122>0,\"-\",OFFSET(N_W_1_2!$I$4,AB122,$S$9))","v":0},{"$f":"IF(AC122>1,AC122,\"-\")","v":"-"},null,null,null,{"$f":"IFERROR(MATCH(#REF!,Nr_stad!$U$8:$U$60,0),0)","v":0},10,0,0,0,0,0,0,0,0,"-",{"$f":"IF(D122=\"tuczniki\",\"T\",\"\")","v":""}]
[null,null,null,null,null,null,null,null,{"$f":"IF(S123>0,\"-\",(IF(AND(J123<=$J$18,J123>0),\"warchlaki\",IF(AND(J123>$J$18,$J$18>0),\"tuczniki\",\"\"))))","v":""},null,null,null,{"$f":"K123*L123","v":0},{"$f":"IF(S123>0,\"-\",OFFSET(N_W_1_2!$I$4,AB123,$S$9))","v":0},{"$f":"IF(AC123>1,AC123,\"-\")","v":"-"},null,null,null,null,{"$f":"SUM(H123:O123)","v":0},{"$f":"IF(AND($H123>1,$H123<=U$25),1,0)","v":0},{"$f":"IF($H123>U$25,2,0)","v":0},{"$f":"IF($H123>V$25,3,0)","v":0},{"$f":"IF($H123>W$25,4,0)","v":0},{"$f":"IF($H123>X$25,5,0)","v":0},{"$f":"IF($H123>Y$25,6,0)","v":0},{"$f":"IF($H123>Z$25,7,0)","v":0},{"$f":"MAX(U123:AA123)","v":0},{"$f":"IFERROR(TRUNC(M123/N123),\"-\")","v":"-"},{"$f":"IF(D123=\"tuczniki\",\"T\",\"\")","v":""}]
[null,null,null,null,null,null,null,null,{"$f":"IF(S124>0,\"-\",(IF(AND(J124<=$J$18,J124>0),\"warchlaki\",IF(AND(J124>$J$18,$J$18>0),\"tuczniki\",\"\"))))","v":""},null,null,null,{"$f":"K124*L124","v":0},{"$f":"IF(S124>0,\"-\",OFFSET(N_W_1_2!$I$4,AB124,$S$9))","v":0},{"$f":"IF(AC124>1,AC124,\"-\")","v":"-"},null,null,null,null,{"$f":"SUM(H124:O124)","v":0},{"$f":"IF(AND($H124>1,$H124<=U$25),1,0)","v":0},{"$f":"IF($H124>U$25,2,0)","v":0},{"$f":"IF($H124>V$25,3,0)","v":0},{"$f":"IF($H124>W$25,4,0)","v":0},{"$f":"IF($H124>X$25,5,0)","v":0},{"$f":"IF($H124>Y$25,6,0)","v":0},{"$f":"IF($H124>Z$25,7,0)","v":0},{"$f":"MAX(U124:AA124)","v":0},{"$f":"IFERROR(TRUNC(M124/N124),\"-\")","v":"-"},{"$f":"IF(D124=\"tuczniki\",\"T\",\"\")","v":""}]
[null,null,null,null,null,null,null,null,{"$f":"IF(S125>0,\"-\",(IF(AND(J125<=$J$18,J125>0),\"warchlaki\",IF(AND(J125>$J$18,$J$18>0),\"tuczniki\",\"\"))))","v":""},null,null,null,{"$f":"K125*L125","v":0},{"$f":"IF(S125>0,\"-\",OFFSET(N_W_1_2!$I$4,AB125,$S$9))","v":0},{"$f":"IF(AC125>1,AC125,\"-\")","v":"-"},null,null,null,null,{"$f":"SUM(H125:O125)","v":0},{"$f":"IF(AND($H125>1,$H125<=U$25),1,0)","v":0},{"$f":"IF($H125>U$25,2,0)","v":0},{"$f":"IF($H125>V$25,3,0)","v":0},{"$f":"IF($H125>W$25,4,0)","v":0},{"$f":"IF($H125>X$25,5,0)","v":0},{"$f":"IF($H125>Y$25,6,0)","v":0},{"$f":"IF($H125>Z$25,7,0)","v":0},{"$f":"MAX(U125:AA125)","v":0},{"$f":"IFERROR(TRUNC(M125/N125),\"-\")","v":"-"},{"$f":"IF(D125=\"tuczniki\",\"T\",\"\")","v":""}]
[null,null,null,null,null,null,null,null,{"$f":"IF(S126>0,\"-\",(IF(AND(J126<=$J$18,J126>0),\"warchlaki\",IF(AND(J126>$J$18,$J$18>0),\"tuczniki\",\"\"))))","v":""},null,null,null,{"$f":"K126*L126","v":0},{"$f":"IF(S126>0,\"-\",OFFSET(N_W_1_2!$I$4,AB126,$S$9))","v":0},{"$f":"IF(AC126>1,AC126,\"-\")","v":"-"},null,null,null,null,{"$f":"SUM(H126:O126)","v":0},{"$f":"IF(AND($H126>1,$H126<=U$25),1,0)","v":0},{"$f":"IF($H126>U$25,2,0)","v":0},{"$f":"IF($H126>V$25,3,0)","v":0},{"$f":"IF($H126>W$25,4,0)","v":0},{"$f":"IF($H126>X$25,5,0)","v":0},{"$f":"IF($H126>Y$25,6,0)","v":0},{"$f":"IF($H126>Z$25,7,0)","v":0},{"$f":"MAX(U126:AA126)","v":0},{"$f":"IFERROR(TRUNC(M126/N126),\"-\")","v":"-"},{"$f":"IF(D126=\"tuczniki\",\"T\",\"\")","v":""}]
[null,null,null,"Maksymalna liczba warchlaków i tuczników dotyczy łącznie wnioskodawcy i wskazanych innych posiadaczy",null,null,null,null,null,"NIE","SUMA LICZBY WARCHLAKÓW I TUCZNIKÓW:",null,null,null,{"$f":"SUM(O26:O126)","v":0}]
[]
[null,null,null,"ROCZNA SZACOWANA LICZBA WYPRODUKOWANYCH TUCZNIKÓW:",null,null,null,null,null,null,null,null,null,null,{"$f":"IFERROR(SUMIF(AD26:AD125,\"T\",O26:O125)*(12/$J$20),\"\")","v":""},null,null,null,null,"NIE"]
[null,null,null,null,null,null,null,null,null,null,null,null,null,null,null,null,null,null,null,"TAK"]
[null,null,null,null,null,null,null,null,null,null,null,null,null,null,{"$f":"IFERROR(TRUNC(T95+T125),\"\")","v":0}]

{"sheet":"Swinie_inne(P)","index":7,"n_rows":124,"n_cols":52,"rows_kept":124,"cut":false,"hidden":false,"merged":[[120,3,120,6],[121,3,121,6],[122,3,122,10],[122,12,122,17],[123,12,123,17],[114,3,114,6],[115,3,115,6],[116,3,116,6],[117,3,117,6],[118,3,118,6],[119,3,119,6],[108,3,108,6],[109,3,109,6],[110,3,110,6],[111,3,111,6],[112,3,112,6],[113,3,113,6],[102,3,102,6],[103,3,103,6],[104,3,104,6],[105,3,105,6],[106,3,106,6],[107,3,107,6],[96,3,96,6],[97,3,97,6],[98,3,98,6],[99,3,99,6],[100,3,100,6],[101,3,101,6],[90,3,90,6],[91,3,91,6],[92,3,92,6],[93,3,93,6],[94,3,94,6],[95,3,95,6],[84,3,84,6],[85,3,85,6],[86,3,86,6],[87,3,87,6],[88,3,88,6],[89,3,89,6],[78,3,78,6],[79,3,79,6],[80,3,80,6],[81,3,81,6],[82,3,82,6],[83,3,83,6],[72,3,72,6],[73,3,73,6],[74,3,74,6],[75,3,75,6],[76,3,76,6],[77,3,77,6],[66,3,66,6],[67,3,67,6],[68,3,68,6],[69,3,69,6],[70,3,70,6],[71,3,71,6],[60,3,60,6],[61,3,61,6],[62,3,62,6],[63,3,63,6],[64,3,64,6],[65,3,65,6],[54,3,54,6],[55,3,55,6],[56,3,56,6],[57,3,57,6],[58,3,58,6],[59,3,59,6],[48,3,48,6],[49,3,49,6],[50,3,50,6],[51,3,51,6],[52,3,52,6],[53,3,53,6],[42,3,42,6],[43,3,43,6],[44,3,44,6],[45,3,45,6],[46,3,46,6],[47,3,47,6],[36,3,36,6],[37,3,37,6],[38,3,38,6],[39,3,39,6],[40,3,40,6],[41,3,41,6],[30,3,30,6],[31,3,31,6],[32,3,32,6],[33,3,33,6],[34,3,34,6],[35,3,35,6],[24,3,24,6],[25,3,25,6],[26,3,26,6],[27,3,27,6],[28,3,28,6],[29,3,29,6],[19,31,19,33],[19,34,19,36],[19,37,19,40],[21,3,21,6],[22,3,22,6],[23,3,23,6],[18,19,19,19],[14,3,14,10],[14,13,14,18],[16,4,16,8],[18,3,20,6],[18,7,18,8],[18,9,18,11],[18,12,18,14],[18,15,18,16],[17,3,17,14],[15,4,15,14],[12,3,12,5],[12,7,12,10],[12,12,12,15],[13,3,13,5],[13,7,13,10],[13,12,13,15],[3,2,3,19],[6,3,6,4],[6,6,6,7],[6,9,6,12],[6,14,6,16],[10,4,10,17],[4,2,4,19],[5,2,5,19]]}
[null,null,null,null,null,null,null,null,null,null,null,null,null,null,null,null,null,null,"POWRÓT",null,null,null,null,null,null,null,null,null,null,null,null,null,null,null,null,null,null,null,null,null,null,null,null,null,null,null,null,null,null,null,null,"UWAGI"]
[]
[]
[null,null,"II. Część szczegółowa  "]
[null,null,"Świnie nieobjęte  podwyższonymi  wymogami  z wariantów 1. lub  2.  "]
[null,null,"ŚWINIE STADA PODSTAWOWEGO I REMONTOWE (HODOWLANE)"]
[null,null,"II.1.1.1.","Numer/y siedziby stada:",null,"PL",123456789001,null,"PL",null,null,null,null,"PL"]
[]
[null,null,"II.1.1.1.","System produkcji  gospodarstwie "]
[null,null,null,{"$f":"IF(AD10=TRUE,AE10,AF10)","v":"☒"},"Nieutrzymywanie loch  w systemie jarzmowym",null,null,null,null,null,null,null,null,null,"  ",null,null,null,null,null,null,null,null,null,null,null,null,null,null,true,"☒","☐"]
[null,null,null,{"$f":"IF(AD11=TRUE,AE11,AF11)","v":"☐"},"Do planu poprawy dobrostanu zwierząt dołączono szkic obiektów ze wskazanymi kojcami, w których utrzymywane są ŚWINIE STADA PODSTAWOWEGO nieobjęte podwyższonymi  wymogami z wariantów 1. lub 2.",null,null,null,null,null,null,null,null,null,null,null,null,null,null,null,null,null,null,null,null,null,null,null,null,false,"☒","☐"]
[]
[]
[null,null,null,"(miejscowość i data)",null,null,null,"(czytelny podpis rolnika)",null,null,null,null,"(czytelny podpis doradcy)"]
[null,null,null,"Liczba loch i loszek po pokryciu na dzień sporządzenia planu poprawy dobrostanu zwierząt",null,null,null,null,null,null,null,null,null,{"$f":"IF(AND(AD17=1,L15>9),\"Pojedyńczo wolno utrzymywać tylko do 9 loch !\",\"\")","v":""},null,null,null,null,null,null,null,null,null,null,null,null,null,null,null,false,{"$f":"AND(AD17=1,L15>9)","v":false}]
[null,null,null,null,{"$f":"IF(AND(AE123>0,S124>9),\"Pojedyńczo wolno utrzymywać tylko do 9 loch !\",\"\")","v":""},null,null,null,null,null,null,null,null,null,null,null,null,null,null,null,null,null,null,null,null,null,null,null,null,"poj/grup"]
[null,null,null,{"$f":"IF(AD17=1,AE17,AF17)","v":"☒"},"pojedynczo lub pojedynczo i grupowo",null,null,null,null,null,{"$f":"IF(AD17=2,AE17,AF17)","v":"☐"},"grupowo",null,null,null,null,null,null,null,null,null,null,null,null,null,null,null,null,null,1,"☒","☐"]
[null,null,null,"Dopuszczalna maksymalna liczba świń stada podstawowego, które mogą przebywać jednocześnie w gospodarstwie z uwzględnieniem  minimalnych wymogów dotyczących wielkości powierzchni w  pomieszczeniach/budynkach inwentarskich, wynikających z prawa krajowego"]
[null,null,null,"Numer siedziby stada albo \nGrupa zwierząt",null,null,null,"Obiekt",null,"Powierzchnia bytowa kojca ",null,null,"w tym stałe podłoże ",null,null,"  Powierzchnia minimalna",null,"Powierzchnia maksymalna","Maksymalna liczba","Stan na dzień sporządzenia planu"]
[null,null,null,null,null,null,null,"Nazwa obiektu","Nr kojca","Dł.","Szer.","Pow.","Dł.","Szer.","Pow.","Bytowa ","Podł. stałe ","Otwory odpływowe","Świń",null,null,null,null,null,null,null,null,null,"Nr stad","grupy",null,"norma",null,null,"liczba",null,null,"warunek",null,null,null,"Suma loch","grup min","dl","szer"]
[null,null,null,null,null,null,null,null,null,"m","m","m2","m","m","m2","m2/szt","m2/szt","m2","szt","szt",null,null,null,null,null,null,null,null,null,null,"poz","I","II","II","I","II","II","I","II","II","wybr","L"]
[null,null,null,null,null,null,null,null,null,null,null,{"$f":"J22*K22","v":0},null,null,{"$f":"M22*N22","v":0},{"$f":"IFERROR(OFFSET(AE22,0,AO22),\"-\")","v":"-"},{"$f":"IFERROR(OFFSET(N_W_1_1_in!$P$5,AE22,0),\"-\")","v":"-"},{"$f":"IF(Q22=\"-\",\"-\",O22*0.15)","v":"-"},{"$f":"IFERROR(TRUNC(IF(L22/P22>=1,IF(OR(AE22=1,AE22=3,AE22=5,AE22=6),1,L22/P22),\"-\")*AQ22),\"-\")","v":"-"},null,null,null,null,null,null,null,null,null,{"$f":"IFERROR(MATCH(D22,Nr_stad!$U$8:$U$60,0),0)","v":0},{"$f":"SUM(I22:S22)+AC22","v":0},{"$f":"IF(D22=\"\",\"-\",MATCH(D22,N_W_1_1_in!$K$6:$K$15,0))","v":"-"},{"$f":"OFFSET(N_W_1_1_in!$L$5,AE22,1)","v":{"$error":"#VALUE!"}},{"$f":"OFFSET(N_W_1_1_in!$L$5,AE22,2)","v":{"$error":"#VALUE!"}},{"$f":"OFFSET(N_W_1_1_in!$L$5,AE22,3)","v":{"$error":"#VALUE!"}},{"$f":"TRUNC(L22/AF22)","v":{"$error":"#VALUE!"}},{"$f":"TRUNC(L22/AG22)","v":{"$error":"#VALUE!"}},{"$f":"TRUNC(L22/AH22)","v":{"$error":"#VALUE!"}},{"$f":"IF(AI22<6,1,0)","v":{"$error":"#VALUE!"}},{"$f":"IF(AND(AJ22>5,AJ22<40,AN22=0),2,0)","v":{"$error":"#VALUE!"}},{"$f":"IF(AK22>39,3,0)","v":{"$error":"#VALUE!"}},{"$f":"AL22+AM22+AN22","v":{"$error":"#VALUE!"}},{"$f":"IFERROR(OFFSET(N_W_1_1_in!$L$5,AE22,0),\"\")","v":""},{"$f":"IF(AND(OR(AE22=4,AE22=7,AE22=8,AE22=9),AI22<2),0,1)","v":{"$error":"#VALUE!"}},{"$f":"IFERROR(OFFSET(N_W_1_1_in!$P$5,AE22,2),0)","v":0},{"$f":"IFERROR(IF(S22>5,OFFSET(N_W_1_1_in!$P$5,AE22,4),OFFSET(N_W_1_1_in!$P$5,AE22,3)),0)","v":0}]
[null,null,null,null,null,null,null,null,null,null,null,{"$f":"J23*K23","v":0},null,null,{"$f":"M23*N23","v":0},{"$f":"IFERROR(OFFSET(AE23,0,AO23),\"-\")","v":"-"},{"$f":"IFERROR(OFFSET(N_W_1_1_in!$P$5,AE23,0),\"-\")","v":"-"},{"$f":"IF(Q23=\"-\",\"-\",O23*0.15)","v":"-"},{"$f":"IFERROR(TRUNC(IF(L23/P23>=1,IF(OR(AE23=1,AE23=3,AE23=5,AE23=6),1,L23/P23),\"-\")*AQ23),\"-\")","v":"-"},null,null,null,null,null,null,null,null,null,{"$f":"IFERROR(MATCH(D23,Nr_stad!$U$8:$U$60,0),0)","v":0},{"$f":"SUM(I23:S23)+AC23","v":0},{"$f":"IF(D23=\"\",\"-\",MATCH(D23,N_W_1_1_in!$K$6:$K$15,0))","v":"-"},{"$f":"OFFSET(N_W_1_1_in!$L$5,AE23,1)","v":{"$error":"#VALUE!"}},{"$f":"OFFSET(N_W_1_1_in!$L$5,AE23,2)","v":{"$error":"#VALUE!"}},{"$f":"OFFSET(N_W_1_1_in!$L$5,AE23,3)","v":{"$error":"#VALUE!"}},{"$f":"TRUNC(L23/AF23)","v":{"$error":"#VALUE!"}},{"$f":"TRUNC(L23/AG23)","v":{"$error":"#VALUE!"}},{"$f":"TRUNC(L23/AH23)","v":{"$error":"#VALUE!"}},{"$f":"IF(AI23<6,1,0)","v":{"$error":"#VALUE!"}},{"$f":"IF(AND(AJ23>5,AJ23<40,AN23=0),2,0)","v":{"$error":"#VALUE!"}},{"$f":"IF(AK23>39,3,0)","v":{"$error":"#VALUE!"}},{"$f":"AL23+AM23+AN23","v":{"$error":"#VALUE!"}},{"$f":"IFERROR(OFFSET(N_W_1_1_in!$L$5,AE23,0),\"\")","v":""},{"$f":"IF(AND(OR(AE23=4,AE23=7,AE23=8,AE23=9),AI23<2),0,1)","v":{"$error":"#VALUE!"}},{"$f":"IFERROR(OFFSET(N_W_1_1_in!$P$5,AE23,2),0)","v":0},{"$f":"IFERROR(IF(S23>5,OFFSET(N_W_1_1_in!$P$5,AE23,4),OFFSET(N_W_1_1_in!$P$5,AE23,3)),0)","v":0}]
[null,null,null,null,null,null,null,null,null,null,null,0,null,null,0,"-",{"$f":"IFERROR(OFFSET(N_W_1_1_in!$P$5,AE24,0),\"-\")","v":"-"},"-","-",null,null,null,null,null,null,null,null,null,{"$f":"IFERROR(MATCH(D24,Nr_stad!$U$8:$U$60,0),0)","v":0},0,{"$f":"IF(D24=\"\",\"-\",MATCH(D24,N_W_1_1_in!$K$6:$K$15,0))","v":"-"},{"$f":"OFFSET(N_W_1_1_in!$L$5,AE24,1)","v":{"$error":"#VALUE!"}},{"$f":"OFFSET(N_W_1_1_in!$L$5,AE24,2)","v":{"$error":"#VALUE!"}},{"$f":"OFFSET(N_W_1_1_in!$L$5,AE24,3)","v":{"$error":"#VALUE!"}},{"$error":"#VALUE!"},{"$error":"#VALUE!"},{"$error":"#VALUE!"},{"$error":"#VALUE!"},{"$error":"#VALUE!"},{"$error":"#VALUE!"},{"$error":"#VALUE!"},{"$f":"IFERROR(OFFSET(N_W_1_1_in!$L$5,AE24,0),\"\")","v":""},{"$error":"#VALUE!"},{"$f":"IFERROR(OFFSET(N_W_1_1_in!$P$5,AE24,2),0)","v":0},{"$f":"IFERROR(IF(S24>5,OFFSET(N_W_1_1_in!$P$5,AE24,4),OFFSET(N_W_1_1_in!$P$5,AE24,3)),0)","v":0}]
[null,null,null,null,null,null,null,null,null,null,null,0,null,null,0,"-",{"$f":"IFERROR(OFFSET(N_W_1_1_in!$P$5,AE25,0),\"-\")","v":"-"},"-","-",null,null,null,null,null,null,null,null,null,{"$f":"IFERROR(MATCH(D25,Nr_stad!$U$8:$U$60,0),0)","v":0},0,{"$f":"IF(D25=\"\",\"-\",MATCH(D25,N_W_1_1_in!$K$6:$K$15,0))","v":"-"},{"$f":"OFFSET(N_W_1_1_in!$L$5,AE25,1)","v":{"$error":"#VALUE!"}},{"$f":"OFFSET(N_W_1_1_in!$L$5,AE25,2)","v":{"$error":"#VALUE!"}},{"$f":"OFFSET(N_W_1_1_in!$L$5,AE25,3)","v":{"$error":"#VALUE!"}},{"$error":"#VALUE!"},{"$error":"#VALUE!"},{"$error":"#VALUE!"},{"$error":"#VALUE!"},{"$error":"#VALUE!"},{"$error":"#VALUE!"},{"$error":"#VALUE!"},{"$f":"IFERROR(OFFSET(N_W_1_1_in!$L$5,AE25,0),\"\")","v":""},{"$error":"#VALUE!"},{"$f":"IFERROR(OFFSET(N_W_1_1_in!$P$5,AE25,2),0)","v":0},{"$f":"IFERROR(IF(S25>5,OFFSET(N_W_1_1_in!$P$5,AE25,4),OFFSET(N_W_1_1_in!$P$5,AE25,3)),0)","v":0}]
[null,null,null,null,null,null,null,null,null,null,null,0,null,null,0,"-",{"$f":"IFERROR(OFFSET(N_W_1_1_in!$P$5,AE26,0),\"-\")","v":"-"},"-","-",null,null,null,null,null,null,null,null,null,{"$f":"IFERROR(MATCH(D26,Nr_stad!$U$8:$U$60,0),0)","v":0},0,{"$f":"IF(D26=\"\",\"-\",MATCH(D26,N_W_1_1_in!$K$6:$K$15,0))","v":"-"},{"$f":"OFFSET(N_W_1_1_in!$L$5,AE26,1)","v":{"$error":"#VALUE!"}},{"$f":"OFFSET(N_W_1_1_in!$L$5,AE26,2)","v":{"$error":"#VALUE!"}},{"$f":"OFFSET(N_W_1_1_in!$L$5,AE26,3)","v":{"$error":"#VALUE!"}},{"$error":"#VALUE!"},{"$error":"#VALUE!"},{"$error":"#VALUE!"},{"$error":"#VALUE!"},{"$error":"#VALUE!"},{"$error":"#VALUE!"},{"$error":"#VALUE!"},{"$f":"IFERROR(OFFSET(N_W_1_1_in!$L$5,AE26,0),\"\")","v":""},{"$error":"#VALUE!"},{"$f":"IFERROR(OFFSET(N_W_1_1_in!$P$5,AE26,2),0)","v":0},{"$f":"IFERROR(IF(S26>5,OFFSET(N_W_1_1_in!$P$5,AE26,4),OFFSET(N_W_1_1_in!$P$5,AE26,3)),0)","v":0}]
[null,null,null,null,null,null,null,null,null,null,null,0,null,null,0,"-",{"$f":"IFERROR(OFFSET(N_W_1_1_in!$P$5,AE27,0),\"-\")","v":"-"},"-","-",null,null,null,null,null,null,null,null,null,{"$f":"IFERROR(MATCH(D27,Nr_stad!$U$8:$U$60,0),0)","v":0},0,{"$f":"IF(D27=\"\",\"-\",MATCH(D27,N_W_1_1_in!$K$6:$K$15,0))","v":"-"},{"$f":"OFFSET(N_W_1_1_in!$L$5,AE27,1)","v":{"$error":"#VALUE!"}},{"$f":"OFFSET(N_W_1_1_in!$L$5,AE27,2)","v":{"$error":"#VALUE!"}},{"$f":"OFFSET(N_W_1_1_in!$L$5,AE27,3)","v":{"$error":"#VALUE!"}},{"$error":"#VALUE!"},{"$error":"#VALUE!"},{"$error":"#VALUE!"},{"$error":"#VALUE!"},{"$error":"#VALUE!"},{"$error":"#VALUE!"},{"$error":"#VALUE!"},{"$f":"IFERROR(OFFSET(N_W_1_1_in!$L$5,AE27,0),\"\")","v":""},{"$error":"#VALUE!"},{"$f":"IFERROR(OFFSET(N_W_1_1_in!$P$5,AE27,2),0)","v":0},{"$f":"IFERROR(IF(S27>5,OFFSET(N_W_1_1_in!$P$5,AE27,4),OFFSET(N_W_1_1_in!$P$5,AE27,3)),0)","v":0}]
[null,null,null,null,null,null,null,null,null,null,null,0,null,null,0,"-",{"$f":"IFERROR(OFFSET(N_W_1_1_in!$P$5,AE28,0),\"-\")","v":"-"},"-","-",null,null,null,null,null,null,null,null,null,{"$f":"IFERROR(MATCH(D28,Nr_stad!$U$8:$U$60,0),0)","v":0},0,{"$f":"IF(D28=\"\",\"-\",MATCH(D28,N_W_1_1_in!$K$6:$K$15,0))","v":"-"},{"$f":"OFFSET(N_W_1_1_in!$L$5,AE28,1)","v":{"$error":"#VALUE!"}},{"$f":"OFFSET(N_W_1_1_in!$L$5,AE28,2)","v":{"$error":"#VALUE!"}},{"$f":"OFFSET(N_W_1_1_in!$L$5,AE28,3)","v":{"$error":"#VALUE!"}},{"$error":"#VALUE!"},{"$error":"#VALUE!"},{"$error":"#VALUE!"},{"$error":"#VALUE!"},{"$error":"#VALUE!"},{"$error":"#VALUE!"},{"$error":"#VALUE!"},{"$f":"IFERROR(OFFSET(N_W_1_1_in!$L$5,AE28,0),\"\")","v":""},{"$error":"#VALUE!"},{"$f":"IFERROR(OFFSET(N_W_1_1_in!$P$5,AE28,2),0)","v":0},{"$f":"IFERROR(IF(S28>5,OFFSET(N_W_1_1_in!$P$5,AE28,4),OFFSET(N_W_1_1_in!$P$5,AE28,3)),0)","v":0}]
[null,null,null,null,null,null,null,null,null,null,null,0,null,null,0,"-",{"$f":"IFERROR(OFFSET(N_W_1_1_in!$P$5,AE29,0),\"-\")","v":"-"},"-","-",null,null,null,null,null,null,null,null,null,{"$f":"IFERROR(MATCH(D29,Nr_stad!$U$8:$U$60,0),0)","v":0},0,{"$f":"IF(D29=\"\",\"-\",MATCH(D29,N_W_1_1_in!$K$6:$K$15,0))","v":"-"},{"$f":"OFFSET(N_W_1_1_in!$L$5,AE29,1)","v":{"$error":"#VALUE!"}},{"$f":"OFFSET(N_W_1_1_in!$L$5,AE29,2)","v":{"$error":"#VALUE!"}},{"$f":"OFFSET(N_W_1_1_in!$L$5,AE29,3)","v":{"$error":"#VALUE!"}},{"$error":"#VALUE!"},{"$error":"#VALUE!"},{"$error":"#VALUE!"},{"$error":"#VALUE!"},{"$error":"#VALUE!"},{"$error":"#VALUE!"},{"$error":"#VALUE!"},{"$f":"IFERROR(OFFSET(N_W_1_1_in!$L$5,AE29,0),\"\")","v":""},{"$error":"#VALUE!"},{"$f":"IFERROR(OFFSET(N_W_1_1_in!$P$5,AE29,2),0)","v":0},{"$f":"IFERROR(IF(S29>5,OFFSET(N_W_1_1_in!$P$5,AE29,4),OFFSET(N_W_1_1_in!$P$5,AE29,3)),0)","v":0}]
[null,null,null,null,null,null,null,null,null,null,null,0,null,null,0,"-",{"$f":"IFERROR(OFFSET(N_W_1_1_in!$P$5,AE30,0),\"-\")","v":"-"},"-","-",null,null,null,null,null,null,null,null,null,{"$f":"IFERROR(MATCH(D30,Nr_stad!$U$8:$U$60,0),0)","v":0},0,{"$f":"IF(D30=\"\",\"-\",MATCH(D30,N_W_1_1_in!$K$6:$K$15,0))","v":"-"},{"$f":"OFFSET(N_W_1_1_in!$L$5,AE30,1)","v":{"$error":"#VALUE!"}},{"$f":"OFFSET(N_W_1_1_in!$L$5,AE30,2)","v":{"$error":"#VALUE!"}},{"$f":"OFFSET(N_W_1_1_in!$L$5,AE30,3)","v":{"$error":"#VALUE!"}},{"$error":"#VALUE!"},{"$error":"#VALUE!"},{"$error":"#VALUE!"},{"$error":"#VALUE!"},{"$error":"#VALUE!"},{"$error":"#VALUE!"},{"$error":"#VALUE!"},{"$f":"IFERROR(OFFSET(N_W_1_1_in!$L$5,AE30,0),\"\")","v":""},{"$error":"#VALUE!"},{"$f":"IFERROR(OFFSET(N_W_1_1_in!$P$5,AE30,2),0)","v":0},{"$f":"IFERROR(IF(S30>5,OFFSET(N_W_1_1_in!$P$5,AE30,4),OFFSET(N_W_1_1_in!$P$5,AE30,3)),0)","v":0}]
[null,null,null,null,null,null,null,null,null,null,null,0,null,null,0,"-",{"$f":"IFERROR(OFFSET(N_W_1_1_in!$P$5,AE31,0),\"-\")","v":"-"},"-","-",null,null,null,null,null,null,null,null,null,{"$f":"IFERROR(MATCH(D31,Nr_stad!$U$8:$U$60,0),0)","v":0},0,{"$f":"IF(D31=\"\",\"-\",MATCH(D31,N_W_1_1_in!$K$6:$K$15,0))","v":"-"},{"$f":"OFFSET(N_W_1_1_in!$L$5,AE31,1)","v":{"$error":"#VALUE!"}},{"$f":"OFFSET(N_W_1_1_in!$L$5,AE31,2)","v":{"$error":"#VALUE!"}},{"$f":"OFFSET(N_W_1_1_in!$L$5,AE31,3)","v":{"$error":"#VALUE!"}},{"$error":"#VALUE!"},{"$error":"#VALUE!"},{"$error":"#VALUE!"},{"$error":"#VALUE!"},{"$error":"#VALUE!"},{"$error":"#VALUE!"},{"$error":"#VALUE!"},{"$f":"IFERROR(OFFSET(N_W_1_1_in!$L$5,AE31,0),\"\")","v":""},{"$error":"#VALUE!"},{"$f":"IFERROR(OFFSET(N_W_1_1_in!$P$5,AE31,2),0)","v":0},{"$f":"IFERROR(IF(S31>5,OFFSET(N_W_1_1_in!$P$5,AE31,4),OFFSET(N_W_1_1_in!$P$5,AE31,3)),0)","v":0}]
[null,null,null,null,null,null,null,null,null,null,null,0,null,null,0,"-",{"$f":"IFERROR(OFFSET(N_W_1_1_in!$P$5,AE32,0),\"-\")","v":"-"},"-","-",null,null,null,null,null,null,null,null,null,{"$f":"IFERROR(MATCH(D32,Nr_stad!$U$8:$U$60,0),0)","v":0},0,{"$f":"IF(D32=\"\",\"-\",MATCH(D32,N_W_1_1_in!$K$6:$K$15,0))","v":"-"},{"$f":"OFFSET(N_W_1_1_in!$L$5,AE32,1)","v":{"$error":"#VALUE!"}},{"$f":"OFFSET(N_W_1_1_in!$L$5,AE32,2)","v":{"$error":"#VALUE!"}},{"$f":"OFFSET(N_W_1_1_in!$L$5,AE32,3)","v":{"$error":"#VALUE!"}},{"$error":"#VALUE!"},{"$error":"#VALUE!"},{"$error":"#VALUE!"},{"$error":"#VALUE!"},{"$error":"#VALUE!"},{"$error":"#VALUE!"},{"$error":"#VALUE!"},{"$f":"IFERROR(OFFSET(N_W_1_1_in!$L$5,AE32,0),\"\")","v":""},{"$error":"#VALUE!"},{"$f":"IFERROR(OFFSET(N_W_1_1_in!$P$5,AE32,2),0)","v":0},{"$f":"IFERROR(IF(S32>5,OFFSET(N_W_1_1_in!$P$5,AE32,4),OFFSET(N_W_1_1_in!$P$5,AE32,3)),0)","v":0}]
[null,null,null,null,null,null,null,null,null,null,null,0,null,null,0,"-",{"$f":"IFERROR(OFFSET(N_W_1_1_in!$P$5,AE33,0),\"-\")","v":"-"},"-","-",null,null,null,null,null,null,null,null,null,{"$f":"IFERROR(MATCH(D33,Nr_stad!$U$8:$U$60,0),0)","v":0},0,{"$f":"IF(D33=\"\",\"-\",MATCH(D33,N_W_1_1_in!$K$6:$K$15,0))","v":"-"},{"$f":"OFFSET(N_W_1_1_in!$L$5,AE33,1)","v":{"$error":"#VALUE!"}},{"$f":"OFFSET(N_W_1_1_in!$L$5,AE33,2)","v":{"$error":"#VALUE!"}},{"$f":"OFFSET(N_W_1_1_in!$L$5,AE33,3)","v":{"$error":"#VALUE!"}},{"$error":"#VALUE!"},{"$error":"#VALUE!"},{"$error":"#VALUE!"},{"$error":"#VALUE!"},{"$error":"#VALUE!"},{"$error":"#VALUE!"},{"$error":"#VALUE!"},{"$f":"IFERROR(OFFSET(N_W_1_1_in!$L$5,AE33,0),\"\")","v":""},{"$error":"#VALUE!"},{"$f":"IFERROR(OFFSET(N_W_1_1_in!$P$5,AE33,2),0)","v":0},{"$f":"IFERROR(IF(S33>5,OFFSET(N_W_1_1_in!$P$5,AE33,4),OFFSET(N_W_1_1_in!$P$5,AE33,3)),0)","v":0}]
[null,null,null,null,null,null,null,null,null,null,null,0,null,null,0,"-",{"$f":"IFERROR(OFFSET(N_W_1_1_in!$P$5,AE34,0),\"-\")","v":"-"},"-","-",null,null,null,null,null,null,null,null,null,{"$f":"IFERROR(MATCH(D34,Nr_stad!$U$8:$U$60,0),0)","v":0},0,{"$f":"IF(D34=\"\",\"-\",MATCH(D34,N_W_1_1_in!$K$6:$K$15,0))","v":"-"},{"$f":"OFFSET(N_W_1_1_in!$L$5,AE34,1)","v":{"$error":"#VALUE!"}},{"$f":"OFFSET(N_W_1_1_in!$L$5,AE34,2)","v":{"$error":"#VALUE!"}},{"$f":"OFFSET(N_W_1_1_in!$L$5,AE34,3)","v":{"$error":"#VALUE!"}},{"$error":"#VALUE!"},{"$error":"#VALUE!"},{"$error":"#VALUE!"},{"$error":"#VALUE!"},{"$error":"#VALUE!"},{"$error":"#VALUE!"},{"$error":"#VALUE!"},{"$f":"IFERROR(OFFSET(N_W_1_1_in!$L$5,AE34,0),\"\")","v":""},{"$error":"#VALUE!"},{"$f":"IFERROR(OFFSET(N_W_1_1_in!$P$5,AE34,2),0)","v":0},{"$f":"IFERROR(IF(S34>5,OFFSET(N_W_1_1_in!$P$5,AE34,4),OFFSET(N_W_1_1_in!$P$5,AE34,3)),0)","v":0}]
[null,null,null,null,null,null,null,null,null,null,null,0,null,null,0,"-",{"$f":"IFERROR(OFFSET(N_W_1_1_in!$P$5,AE35,0),\"-\")","v":"-"},"-","-",null,null,null,null,null,null,null,null,null,{"$f":"IFERROR(MATCH(D35,Nr_stad!$U$8:$U$60,0),0)","v":0},0,{"$f":"IF(D35=\"\",\"-\",MATCH(D35,N_W_1_1_in!$K$6:$K$15,0))","v":"-"},{"$f":"OFFSET(N_W_1_1_in!$L$5,AE35,1)","v":{"$error":"#VALUE!"}},{"$f":"OFFSET(N_W_1_1_in!$L$5,AE35,2)","v":{"$error":"#VALUE!"}},{"$f":"OFFSET(N_W_1_1_in!$L$5,AE35,3)","v":{"$error":"#VALUE!"}},{"$error":"#VALUE!"},{"$error":"#VALUE!"},{"$error":"#VALUE!"},{"$error":"#VALUE!"},{"$error":"#VALUE!"},{"$error":"#VALUE!"},{"$error":"#VALUE!"},{"$f":"IFERROR(OFFSET(N_W_1_1_in!$L$5,AE35,0),\"\")","v":""},{"$error":"#VALUE!"},{"$f":"IFERROR(OFFSET(N_W_1_1_in!$P$5,AE35,2),0)","v":0},{"$f":"IFERROR(IF(S35>5,OFFSET(N_W_1_1_in!$P$5,AE35,4),OFFSET(N_W_1_1_in!$P$5,AE35,3)),0)","v":0}]
[null,null,null,null,null,null,null,null,null,null,null,0,null,null,0,"-",{"$f":"IFERROR(OFFSET(N_W_1_1_in!$P$5,AE36,0),\"-\")","v":"-"},"-","-",null,null,null,null,null,null,null,null,null,{"$f":"IFERROR(MATCH(D36,Nr_stad!$U$8:$U$60,0),0)","v":0},0,{"$f":"IF(D36=\"\",\"-\",MATCH(D36,N_W_1_1_in!$K$6:$K$15,0))","v":"-"},{"$f":"OFFSET(N_W_1_1_in!$L$5,AE36,1)","v":{"$error":"#VALUE!"}},{"$f":"OFFSET(N_W_1_1_in!$L$5,AE36,2)","v":{"$error":"#VALUE!"}},{"$f":"OFFSET(N_W_1_1_in!$L$5,AE36,3)","v":{"$error":"#VALUE!"}},{"$error":"#VALUE!"},{"$error":"#VALUE!"},{"$error":"#VALUE!"},{"$error":"#VALUE!"},{"$error":"#VALUE!"},{"$error":"#VALUE!"},{"$error":"#VALUE!"},{"$f":"IFERROR(OFFSET(N_W_1_1_in!$L$5,AE36,0),\"\")","v":""},{"$error":"#VALUE!"},{"$f":"IFERROR(OFFSET(N_W_1_1_in!$P$5,AE36,2),0)","v":0},{"$f":"IFERROR(IF(S36>5,OFFSET(N_W_1_1_in!$P$5,AE36,4),OFFSET(N_W_1_1_in!$P$5,AE36,3)),0)","v":0}]
[null,null,null,null,null,null,null,null,null,null,null,0,null,null,0,"-",{"$f":"IFERROR(OFFSET(N_W_1_1_in!$P$5,AE37,0),\"-\")","v":"-"},"-","-",null,null,null,null,null,null,null,null,null,{"$f":"IFERROR(MATCH(D37,Nr_stad!$U$8:$U$60,0),0)","v":0},0,{"$f":"IF(D37=\"\",\"-\",MATCH(D37,N_W_1_1_in!$K$6:$K$15,0))","v":"-"},{"$f":"OFFSET(N_W_1_1_in!$L$5,AE37,1)","v":{"$error":"#VALUE!"}},{"$f":"OFFSET(N_W_1_1_in!$L$5,AE37,2)","v":{"$error":"#VALUE!"}},{"$f":"OFFSET(N_W_1_1_in!$L$5,AE37,3)","v":{"$error":"#VALUE!"}},{"$error":"#VALUE!"},{"$error":"#VALUE!"},{"$error":"#VALUE!"},{"$error":"#VALUE!"},{"$error":"#VALUE!"},{"$error":"#VALUE!"},{"$error":"#VALUE!"},{"$f":"IFERROR(OFFSET(N_W_1_1_in!$L$5,AE37,0),\"\")","v":""},{"$error":"#VALUE!"},{"$f":"IFERROR(OFFSET(N_W_1_1_in!$P$5,AE37,2),0)","v":0},{"$f":"IFERROR(IF(S37>5,OFFSET(N_W_1_1_in!$P$5,AE37,4),OFFSET(N_W_1_1_in!$P$5,AE37,3)),0)","v":0}]
[null,null,null,null,null,null,null,null,null,null,null,0,null,null,0,"-",{"$f":"IFERROR(OFFSET(N_W_1_1_in!$P$5,AE38,0),\"-\")","v":"-"},"-","-",null,null,null,null,null,null,null,null,null,{"$f":"IFERROR(MATCH(D38,Nr_stad!$U$8:$U$60,0),0)","v":0},0,{"$f":"IF(D38=\"\",\"-\",MATCH(D38,N_W_1_1_in!$K$6:$K$15,0))","v":"-"},{"$f":"OFFSET(N_W_1_1_in!$L$5,AE38,1)","v":{"$error":"#VALUE!"}},{"$f":"OFFSET(N_W_1_1_in!$L$5,AE38,2)","v":{"$error":"#VALUE!"}},{"$f":"OFFSET(N_W_1_1_in!$L$5,AE38,3)","v":{"$error":"#VALUE!"}},{"$error":"#VALUE!"},{"$error":"#VALUE!"},{"$error":"#VALUE!"},{"$error":"#VALUE!"},{"$error":"#VALUE!"},{"$error":"#VALUE!"},{"$error":"#VALUE!"},{"$f":"IFERROR(OFFSET(N_W_1_1_in!$L$5,AE38,0),\"\")","v":""},{"$error":"#VALUE!"},{"$f":"IFERROR(OFFSET(N_W_1_1_in!$P$5,AE38,2),0)","v":0},{"$f":"IFERROR(IF(S38>5,OFFSET(N_W_1_1_in!$P$5,AE38,4),OFFSET(N_W_1_1_in!$P$5,AE38,3)),0)","v":0}]
[null,null,null,null,null,null,null,null,null,null,null,0,null,null,0,"-",{"$f":"IFERROR(OFFSET(N_W_1_1_in!$P$5,AE39,0),\"-\")","v":"-"},"-","-",null,null,null,null,null,null,null,null,null,{"$f":"IFERROR(MATCH(D39,Nr_stad!$U$8:$U$60,0),0)","v":0},0,{"$f":"IF(D39=\"\",\"-\",MATCH(D39,N_W_1_1_in!$K$6:$K$15,0))","v":"-"},{"$f":"OFFSET(N_W_1_1_in!$L$5,AE39,1)","v":{"$error":"#VALUE!"}},{"$f":"OFFSET(N_W_1_1_in!$L$5,AE39,2)","v":{"$error":"#VALUE!"}},{"$f":"OFFSET(N_W_1_1_in!$L$5,AE39,3)","v":{"$error":"#VALUE!"}},{"$error":"#VALUE!"},{"$error":"#VALUE!"},{"$error":"#VALUE!"},{"$error":"#VALUE!"},{"$error":"#VALUE!"},{"$error":"#VALUE!"},{"$error":"#VALUE!"},{"$f":"IFERROR(OFFSET(N_W_1_1_in!$L$5,AE39,0),\"\")","v":""},{"$error":"#VALUE!"},{"$f":"IFERROR(OFFSET(N_W_1_1_in!$P$5,AE39,2),0)","v":0},{"$f":"IFERROR(IF(S39>5,OFFSET(N_W_1_1_in!$P$5,AE39,4),OFFSET(N_W_1_1_in!$P$5,AE39,3)),0)","v":0}]
[null,null,null,null,null,null,null,null,null,null,null,0,null,null,0,"-",{"$f":"IFERROR(OFFSET(N_W_1_1_in!$P$5,AE40,0),\"-\")","v":"-"},"-","-",null,null,null,null,null,null,null,null,null,{"$f":"IFERROR(MATCH(D40,Nr_stad!$U$8:$U$60,0),0)","v":0},0,{"$f":"IF(D40=\"\",\"-\",MATCH(D40,N_W_1_1_in!$K$6:$K$15,0))","v":"-"},{"$f":"OFFSET(N_W_1_1_in!$L$5,AE40,1)","v":{"$error":"#VALUE!"}},{"$f":"OFFSET(N_W_1_1_in!$L$5,AE40,2)","v":{"$error":"#VALUE!"}},{"$f":"OFFSET(N_W_1_1_in!$L$5,AE40,3)","v":{"$error":"#VALUE!"}},{"$error":"#VALUE!"},{"$error":"#VALUE!"},{"$error":"#VALUE!"},{"$error":"#VALUE!"},{"$error":"#VALUE!"},{"$error":"#VALUE!"},{"$error":"#VALUE!"},{"$f":"IFERROR(OFFSET(N_W_1_1_in!$L$5,AE40,0),\"\")","v":""},{"$error":"#VALUE!"},{"$f":"IFERROR(OFFSET(N_W_1_1_in!$P$5,AE40,2),0)","v":0},{"$f":"IFERROR(IF(S40>5,OFFSET(N_W_1_1_in!$P$5,AE40,4),OFFSET(N_W_1_1_in!$P$5,AE40,3)),0)","v":0}]
[null,null,null,null,null,null,null,null,null,null,null,0,null,null,0,"-",{"$f":"IFERROR(OFFSET(N_W_1_1_in!$P$5,AE41,0),\"-\")","v":"-"},"-","-",null,null,null,null,null,null,null,null,null,{"$f":"IFERROR(MATCH(D41,Nr_stad!$U$8:$U$60,0),0)","v":0},0,{"$f":"IF(D41=\"\",\"-\",MATCH(D41,N_W_1_1_in!$K$6:$K$15,0))","v":"-"},{"$f":"OFFSET(N_W_1_1_in!$L$5,AE41,1)","v":{"$error":"#VALUE!"}},{"$f":"OFFSET(N_W_1_1_in!$L$5,AE41,2)","v":{"$error":"#VALUE!"}},{"$f":"OFFSET(N_W_1_1_in!$L$5,AE41,3)","v":{"$error":"#VALUE!"}},{"$error":"#VALUE!"},{"$error":"#VALUE!"},{"$error":"#VALUE!"},{"$error":"#VALUE!"},{"$error":"#VALUE!"},{"$error":"#VALUE!"},{"$error":"#VALUE!"},{"$f":"IFERROR(OFFSET(N_W_1_1_in!$L$5,AE41,0),\"\")","v":""},{"$error":"#VALUE!"},{"$f":"IFERROR(OFFSET(N_W_1_1_in!$P$5,AE41,2),0)","v":0},{"$f":"IFERROR(IF(S41>5,OFFSET(N_W_1_1_in!$P$5,AE41,4),OFFSET(N_W_1_1_in!$P$5,AE41,3)),0)","v":0}]
[null,null,null,null,null,null,null,null,null,null,null,0,null,null,0,"-",{"$f":"IFERROR(OFFSET(N_W_1_1_in!$P$5,AE42,0),\"-\")","v":"-"},"-","-",null,null,null,null,null,null,null,null,null,{"$f":"IFERROR(MATCH(D42,Nr_stad!$U$8:$U$60,0),0)","v":0},0,{"$f":"IF(D42=\"\",\"-\",MATCH(D42,N_W_1_1_in!$K$6:$K$15,0))","v":"-"},{"$f":"OFFSET(N_W_1_1_in!$L$5,AE42,1)","v":{"$error":"#VALUE!"}},{"$f":"OFFSET(N_W_1_1_in!$L$5,AE42,2)","v":{"$error":"#VALUE!"}},{"$f":"OFFSET(N_W_1_1_in!$L$5,AE42,3)","v":{"$error":"#VALUE!"}},{"$error":"#VALUE!"},{"$error":"#VALUE!"},{"$error":"#VALUE!"},{"$error":"#VALUE!"},{"$error":"#VALUE!"},{"$error":"#VALUE!"},{"$error":"#VALUE!"},{"$f":"IFERROR(OFFSET(N_W_1_1_in!$L$5,AE42,0),\"\")","v":""},{"$error":"#VALUE!"},{"$f":"IFERROR(OFFSET(N_W_1_1_in!$P$5,AE42,2),0)","v":0},{"$f":"IFERROR(IF(S42>5,OFFSET(N_W_1_1_in!$P$5,AE42,4),OFFSET(N_W_1_1_in!$P$5,AE42,3)),0)","v":0}]
[null,null,null,null,null,null,null,null,null,null,null,0,null,null,0,"-",{"$f":"IFERROR(OFFSET(N_W_1_1_in!$P$5,AE43,0),\"-\")","v":"-"},"-","-",null,null,null,null,null,null,null,null,null,{"$f":"IFERROR(MATCH(D43,Nr_stad!$U$8:$U$60,0),0)","v":0},0,{"$f":"IF(D43=\"\",\"-\",MATCH(D43,N_W_1_1_in!$K$6:$K$15,0))","v":"-"},{"$f":"OFFSET(N_W_1_1_in!$L$5,AE43,1)","v":{"$error":"#VALUE!"}},{"$f":"OFFSET(N_W_1_1_in!$L$5,AE43,2)","v":{"$error":"#VALUE!"}},{"$f":"OFFSET(N_W_1_1_in!$L$5,AE43,3)","v":{"$error":"#VALUE!"}},{"$error":"#VALUE!"},{"$error":"#VALUE!"},{"$error":"#VALUE!"},{"$error":"#VALUE!"},{"$error":"#VALUE!"},{"$error":"#VALUE!"},{"$error":"#VALUE!"},{"$f":"IFERROR(OFFSET(N_W_1_1_in!$L$5,AE43,0),\"\")","v":""},{"$error":"#VALUE!"},{"$f":"IFERROR(OFFSET(N_W_1_1_in!$P$5,AE43,2),0)","v":0},{"$f":"IFERROR(IF(S43>5,OFFSET(N_W_1_1_in!$P$5,AE43,4),OFFSET(N_W_1_1_in!$P$5,AE43,3)),0)","v":0}]
[null,null,null,null,null,null,null,null,null,null,null,0,null,null,0,"-",{"$f":"IFERROR(OFFSET(N_W_1_1_in!$P$5,AE44,0),\"-\")","v":"-"},"-","-",null,null,null,null,null,null,null,null,null,{"$f":"IFERROR(MATCH(D44,Nr_stad!$U$8:$U$60,0),0)","v":0},0,{"$f":"IF(D44=\"\",\"-\",MATCH(D44,N_W_1_1_in!$K$6:$K$15,0))","v":"-"},{"$f":"OFFSET(N_W_1_1_in!$L$5,AE44,1)","v":{"$error":"#VALUE!"}},{"$f":"OFFSET(N_W_1_1_in!$L$5,AE44,2)","v":{"$error":"#VALUE!"}},{"$f":"OFFSET(N_W_1_1_in!$L$5,AE44,3)","v":{"$error":"#VALUE!"}},{"$error":"#VALUE!"},{"$error":"#VALUE!"},{"$error":"#VALUE!"},{"$error":"#VALUE!"},{"$error":"#VALUE!"},{"$error":"#VALUE!"},{"$error":"#VALUE!"},{"$f":"IFERROR(OFFSET(N_W_1_1_in!$L$5,AE44,0),\"\")","v":""},{"$error":"#VALUE!"},{"$f":"IFERROR(OFFSET(N_W_1_1_in!$P$5,AE44,2),0)","v":0},{"$f":"IFERROR(IF(S44>5,OFFSET(N_W_1_1_in!$P$5,AE44,4),OFFSET(N_W_1_1_in!$P$5,AE44,3)),0)","v":0}]
[null,null,null,null,null,null,null,null,null,null,null,0,null,null,0,"-",{"$f":"IFERROR(OFFSET(N_W_1_1_in!$P$5,AE45,0),\"-\")","v":"-"},"-","-",null,null,null,null,null,null,null,null,null,{"$f":"IFERROR(MATCH(D45,Nr_stad!$U$8:$U$60,0),0)","v":0},0,{"$f":"IF(D45=\"\",\"-\",MATCH(D45,N_W_1_1_in!$K$6:$K$15,0))","v":"-"},{"$f":"OFFSET(N_W_1_1_in!$L$5,AE45,1)","v":{"$error":"#VALUE!"}},{"$f":"OFFSET(N_W_1_1_in!$L$5,AE45,2)","v":{"$error":"#VALUE!"}},{"$f":"OFFSET(N_W_1_1_in!$L$5,AE45,3)","v":{"$error":"#VALUE!"}},{"$error":"#VALUE!"},{"$error":"#VALUE!"},{"$error":"#VALUE!"},{"$error":"#VALUE!"},{"$error":"#VALUE!"},{"$error":"#VALUE!"},{"$error":"#VALUE!"},{"$f":"IFERROR(OFFSET(N_W_1_1_in!$L$5,AE45,0),\"\")","v":""},{"$error":"#VALUE!"},{"$f":"IFERROR(OFFSET(N_W_1_1_in!$P$5,AE45,2),0)","v":0},{"$f":"IFERROR(IF(S45>5,OFFSET(N_W_1_1_in!$P$5,AE45,4),OFFSET(N_W_1_1_in!$P$5,AE45,3)),0)","v":0}]
[null,null,null,null,null,null,null,null,null,null,null,0,null,null,0,"-",{"$f":"IFERROR(OFFSET(N_W_1_1_in!$P$5,AE46,0),\"-\")","v":"-"},"-","-",null,null,null,null,null,null,null,null,null,{"$f":"IFERROR(MATCH(D46,Nr_stad!$U$8:$U$60,0),0)","v":0},0,{"$f":"IF(D46=\"\",\"-\",MATCH(D46,N_W_1_1_in!$K$6:$K$15,0))","v":"-"},{"$f":"OFFSET(N_W_1_1_in!$L$5,AE46,1)","v":{"$error":"#VALUE!"}},{"$f":"OFFSET(N_W_1_1_in!$L$5,AE46,2)","v":{"$error":"#VALUE!"}},{"$f":"OFFSET(N_W_1_1_in!$L$5,AE46,3)","v":{"$error":"#VALUE!"}},{"$error":"#VALUE!"},{"$error":"#VALUE!"},{"$error":"#VALUE!"},{"$error":"#VALUE!"},{"$error":"#VALUE!"},{"$error":"#VALUE!"},{"$error":"#VALUE!"},{"$f":"IFERROR(OFFSET(N_W_1_1_in!$L$5,AE46,0),\"\")","v":""},{"$error":"#VALUE!"},{"$f":"IFERROR(OFFSET(N_W_1_1_in!$P$5,AE46,2),0)","v":0},{"$f":"IFERROR(IF(S46>5,OFFSET(N_W_1_1_in!$P$5,AE46,4),OFFSET(N_W_1_1_in!$P$5,AE46,3)),0)","v":0}]
[null,null,null,null,null,null,null,null,null,null,null,0,null,null,0,"-",{"$f":"IFERROR(OFFSET(N_W_1_1_in!$P$5,AE47,0),\"-\")","v":"-"},"-","-",null,null,null,null,null,null,null,null,null,{"$f":"IFERROR(MATCH(D47,Nr_stad!$U$8:$U$60,0),0)","v":0},0,{"$f":"IF(D47=\"\",\"-\",MATCH(D47,N_W_1_1_in!$K$6:$K$15,0))","v":"-"},{"$f":"OFFSET(N_W_1_1_in!$L$5,AE47,1)","v":{"$error":"#VALUE!"}},{"$f":"OFFSET(N_W_1_1_in!$L$5,AE47,2)","v":{"$error":"#VALUE!"}},{"$f":"OFFSET(N_W_1_1_in!$L$5,AE47,3)","v":{"$error":"#VALUE!"}},{"$error":"#VALUE!"},{"$error":"#VALUE!"},{"$error":"#VALUE!"},{"$error":"#VALUE!"},{"$error":"#VALUE!"},{"$error":"#VALUE!"},{"$error":"#VALUE!"},{"$f":"IFERROR(OFFSET(N_W_1_1_in!$L$5,AE47,0),\"\")","v":""},{"$error":"#VALUE!"},{"$f":"IFERROR(OFFSET(N_W_1_1_in!$P$5,AE47,2),0)","v":0},{"$f":"IFERROR(IF(S47>5,OFFSET(N_W_1_1_in!$P$5,AE47,4),OFFSET(N_W_1_1_in!$P$5,AE47,3)),0)","v":0}]
[null,null,null,null,null,null,null,null,null,null,null,0,null,null,0,"-",{"$f":"IFERROR(OFFSET(N_W_1_1_in!$P$5,AE48,0),\"-\")","v":"-"},"-","-",null,null,null,null,null,null,null,null,null,{"$f":"IFERROR(MATCH(D48,Nr_stad!$U$8:$U$60,0),0)","v":0},0,{"$f":"IF(D48=\"\",\"-\",MATCH(D48,N_W_1_1_in!$K$6:$K$15,0))","v":"-"},{"$f":"OFFSET(N_W_1_1_in!$L$5,AE48,1)","v":{"$error":"#VALUE!"}},{"$f":"OFFSET(N_W_1_1_in!$L$5,AE48,2)","v":{"$error":"#VALUE!"}},{"$f":"OFFSET(N_W_1_1_in!$L$5,AE48,3)","v":{"$error":"#VALUE!"}},{"$error":"#VALUE!"},{"$error":"#VALUE!"},{"$error":"#VALUE!"},{"$error":"#VALUE!"},{"$error":"#VALUE!"},{"$error":"#VALUE!"},{"$error":"#VALUE!"},{"$f":"IFERROR(OFFSET(N_W_1_1_in!$L$5,AE48,0),\"\")","v":""},{"$error":"#VALUE!"},{"$f":"IFERROR(OFFSET(N_W_1_1_in!$P$5,AE48,2),0)","v":0},{"$f":"IFERROR(IF(S48>5,OFFSET(N_W_1_1_in!$P$5,AE48,4),OFFSET(N_W_1_1_in!$P$5,AE48,3)),0)","v":0}]
[null,null,null,null,null,null,null,null,null,null,null,0,null,null,0,"-",{"$f":"IFERROR(OFFSET(N_W_1_1_in!$P$5,AE49,0),\"-\")","v":"-"},"-","-",null,null,null,null,null,null,null,null,null,{"$f":"IFERROR(MATCH(D49,Nr_stad!$U$8:$U$60,0),0)","v":0},0,{"$f":"IF(D49=\"\",\"-\",MATCH(D49,N_W_1_1_in!$K$6:$K$15,0))","v":"-"},{"$f":"OFFSET(N_W_1_1_in!$L$5,AE49,1)","v":{"$error":"#VALUE!"}},{"$f":"OFFSET(N_W_1_1_in!$L$5,AE49,2)","v":{"$error":"#VALUE!"}},{"$f":"OFFSET(N_W_1_1_in!$L$5,AE49,3)","v":{"$error":"#VALUE!"}},{"$error":"#VALUE!"},{"$error":"#VALUE!"},{"$error":"#VALUE!"},{"$error":"#VALUE!"},{"$error":"#VALUE!"},{"$error":"#VALUE!"},{"$error":"#VALUE!"},{"$f":"IFERROR(OFFSET(N_W_1_1_in!$L$5,AE49,0),\"\")","v":""},{"$error":"#VALUE!"},{"$f":"IFERROR(OFFSET(N_W_1_1_in!$P$5,AE49,2),0)","v":0},{"$f":"IFERROR(IF(S49>5,OFFSET(N_W_1_1_in!$P$5,AE49,4),OFFSET(N_W_1_1_in!$P$5,AE49,3)),0)","v":0}]
[null,null,null,null,null,null,null,null,null,null,null,0,null,null,0,"-",{"$f":"IFERROR(OFFSET(N_W_1_1_in!$P$5,AE50,0),\"-\")","v":"-"},"-","-",null,null,null,null,null,null,null,null,null,{"$f":"IFERROR(MATCH(D50,Nr_stad!$U$8:$U$60,0),0)","v":0},0,{"$f":"IF(D50=\"\",\"-\",MATCH(D50,N_W_1_1_in!$K$6:$K$15,0))","v":"-"},{"$f":"OFFSET(N_W_1_1_in!$L$5,AE50,1)","v":{"$error":"#VALUE!"}},{"$f":"OFFSET(N_W_1_1_in!$L$5,AE50,2)","v":{"$error":"#VALUE!"}},{"$f":"OFFSET(N_W_1_1_in!$L$5,AE50,3)","v":{"$error":"#VALUE!"}},{"$error":"#VALUE!"},{"$error":"#VALUE!"},{"$error":"#VALUE!"},{"$error":"#VALUE!"},{"$error":"#VALUE!"},{"$error":"#VALUE!"},{"$error":"#VALUE!"},{"$f":"IFERROR(OFFSET(N_W_1_1_in!$L$5,AE50,0),\"\")","v":""},{"$error":"#VALUE!"},{"$f":"IFERROR(OFFSET(N_W_1_1_in!$P$5,AE50,2),0)","v":0},{"$f":"IFERROR(IF(S50>5,OFFSET(N_W_1_1_in!$P$5,AE50,4),OFFSET(N_W_1_1_in!$P$5,AE50,3)),0)","v":0}]
[null,null,null,null,null,null,null,null,null,null,null,0,null,null,0,"-",{"$f":"IFERROR(OFFSET(N_W_1_1_in!$P$5,AE51,0),\"-\")","v":"-"},"-","-",null,null,null,null,null,null,null,null,null,{"$f":"IFERROR(MATCH(D51,Nr_stad!$U$8:$U$60,0),0)","v":0},0,{"$f":"IF(D51=\"\",\"-\",MATCH(D51,N_W_1_1_in!$K$6:$K$15,0))","v":"-"},{"$f":"OFFSET(N_W_1_1_in!$L$5,AE51,1)","v":{"$error":"#VALUE!"}},{"$f":"OFFSET(N_W_1_1_in!$L$5,AE51,2)","v":{"$error":"#VALUE!"}},{"$f":"OFFSET(N_W_1_1_in!$L$5,AE51,3)","v":{"$error":"#VALUE!"}},{"$error":"#VALUE!"},{"$error":"#VALUE!"},{"$error":"#VALUE!"},{"$error":"#VALUE!"},{"$error":"#VALUE!"},{"$error":"#VALUE!"},{"$error":"#VALUE!"},{"$f":"IFERROR(OFFSET(N_W_1_1_in!$L$5,AE51,0),\"\")","v":""},{"$error":"#VALUE!"},{"$f":"IFERROR(OFFSET(N_W_1_1_in!$P$5,AE51,2),0)","v":0},{"$f":"IFERROR(IF(S51>5,OFFSET(N_W_1_1_in!$P$5,AE51,4),OFFSET(N_W_1_1_in!$P$5,AE51,3)),0)","v":0}]
[null,null,null,null,null,null,null,null,null,null,null,0,null,null,0,"-",{"$f":"IFERROR(OFFSET(N_W_1_1_in!$P$5,AE52,0),\"-\")","v":"-"},"-","-",null,null,null,null,null,null,null,null,null,{"$f":"IFERROR(MATCH(D52,Nr_stad!$U$8:$U$60,0),0)","v":0},0,{"$f":"IF(D52=\"\",\"-\",MATCH(D52,N_W_1_1_in!$K$6:$K$15,0))","v":"-"},{"$f":"OFFSET(N_W_1_1_in!$L$5,AE52,1)","v":{"$error":"#VALUE!"}},{"$f":"OFFSET(N_W_1_1_in!$L$5,AE52,2)","v":{"$error":"#VALUE!"}},{"$f":"OFFSET(N_W_1_1_in!$L$5,AE52,3)","v":{"$error":"#VALUE!"}},{"$error":"#VALUE!"},{"$error":"#VALUE!"},{"$error":"#VALUE!"},{"$error":"#VALUE!"},{"$error":"#VALUE!"},{"$error":"#VALUE!"},{"$error":"#VALUE!"},{"$f":"IFERROR(OFFSET(N_W_1_1_in!$L$5,AE52,0),\"\")","v":""},{"$error":"#VALUE!"},{"$f":"IFERROR(OFFSET(N_W_1_1_in!$P$5,AE52,2),0)","v":0},{"$f":"IFERROR(IF(S52>5,OFFSET(N_W_1_1_in!$P$5,AE52,4),OFFSET(N_W_1_1_in!$P$5,AE52,3)),0)","v":0}]
[null,null,null,null,null,null,null,null,null,null,null,0,null,null,0,"-",{"$f":"IFERROR(OFFSET(N_W_1_1_in!$P$5,AE53,0),\"-\")","v":"-"},"-","-",null,null,null,null,null,null,null,null,null,{"$f":"IFERROR(MATCH(D53,Nr_stad!$U$8:$U$60,0),0)","v":0},0,{"$f":"IF(D53=\"\",\"-\",MATCH(D53,N_W_1_1_in!$K$6:$K$15,0))","v":"-"},{"$f":"OFFSET(N_W_1_1_in!$L$5,AE53,1)","v":{"$error":"#VALUE!"}},{"$f":"OFFSET(N_W_1_1_in!$L$5,AE53,2)","v":{"$error":"#VALUE!"}},{"$f":"OFFSET(N_W_1_1_in!$L$5,AE53,3)","v":{"$error":"#VALUE!"}},{"$error":"#VALUE!"},{"$error":"#VALUE!"},{"$error":"#VALUE!"},{"$error":"#VALUE!"},{"$error":"#VALUE!"},{"$error":"#VALUE!"},{"$error":"#VALUE!"},{"$f":"IFERROR(OFFSET(N_W_1_1_in!$L$5,AE53,0),\"\")","v":""},{"$error":"#VALUE!"},{"$f":"IFERROR(OFFSET(N_W_1_1_in!$P$5,AE53,2),0)","v":0},{"$f":"IFERROR(IF(S53>5,OFFSET(N_W_1_1_in!$P$5,AE53,4),OFFSET(N_W_1_1_in!$P$5,AE53,3)),0)","v":0}]
[null,null,null,null,null,null,null,null,null,null,null,0,null,null,0,"-",{"$f":"IFERROR(OFFSET(N_W_1_1_in!$P$5,AE54,0),\"-\")","v":"-"},"-","-",null,null,null,null,null,null,null,null,null,{"$f":"IFERROR(MATCH(D54,Nr_stad!$U$8:$U$60,0),0)","v":0},0,{"$f":"IF(D54=\"\",\"-\",MATCH(D54,N_W_1_1_in!$K$6:$K$15,0))","v":"-"},{"$f":"OFFSET(N_W_1_1_in!$L$5,AE54,1)","v":{"$error":"#VALUE!"}},{"$f":"OFFSET(N_W_1_1_in!$L$5,AE54,2)","v":{"$error":"#VALUE!"}},{"$f":"OFFSET(N_W_1_1_in!$L$5,AE54,3)","v":{"$error":"#VALUE!"}},{"$error":"#VALUE!"},{"$error":"#VALUE!"},{"$error":"#VALUE!"},{"$error":"#VALUE!"},{"$error":"#VALUE!"},{"$error":"#VALUE!"},{"$error":"#VALUE!"},{"$f":"IFERROR(OFFSET(N_W_1_1_in!$L$5,AE54,0),\"\")","v":""},{"$error":"#VALUE!"},{"$f":"IFERROR(OFFSET(N_W_1_1_in!$P$5,AE54,2),0)","v":0},{"$f":"IFERROR(IF(S54>5,OFFSET(N_W_1_1_in!$P$5,AE54,4),OFFSET(N_W_1_1_in!$P$5,AE54,3)),0)","v":0}]
[null,null,null,null,null,null,null,null,null,null,null,0,null,null,0,"-",{"$f":"IFERROR(OFFSET(N_W_1_1_in!$P$5,AE55,0),\"-\")","v":"-"},"-","-",null,null,null,null,null,null,null,null,null,{"$f":"IFERROR(MATCH(D55,Nr_stad!$U$8:$U$60,0),0)","v":0},0,{"$f":"IF(D55=\"\",\"-\",MATCH(D55,N_W_1_1_in!$K$6:$K$15,0))","v":"-"},{"$f":"OFFSET(N_W_1_1_in!$L$5,AE55,1)","v":{"$error":"#VALUE!"}},{"$f":"OFFSET(N_W_1_1_in!$L$5,AE55,2)","v":{"$error":"#VALUE!"}},{"$f":"OFFSET(N_W_1_1_in!$L$5,AE55,3)","v":{"$error":"#VALUE!"}},{"$error":"#VALUE!"},{"$error":"#VALUE!"},{"$error":"#VALUE!"},{"$error":"#VALUE!"},{"$error":"#VALUE!"},{"$error":"#VALUE!"},{"$error":"#VALUE!"},{"$f":"IFERROR(OFFSET(N_W_1_1_in!$L$5,AE55,0),\"\")","v":""},{"$error":"#VALUE!"},{"$f":"IFERROR(OFFSET(N_W_1_1_in!$P$5,AE55,2),0)","v":0},{"$f":"IFERROR(IF(S55>5,OFFSET(N_W_1_1_in!$P$5,AE55,4),OFFSET(N_W_1_1_in!$P$5,AE55,3)),0)","v":0}]
[null,null,null,null,null,null,null,null,null,null,null,0,null,null,0,"-",{"$f":"IFERROR(OFFSET(N_W_1_1_in!$P$5,AE56,0),\"-\")","v":"-"},"-","-",null,null,null,null,null,null,null,null,null,{"$f":"IFERROR(MATCH(D56,Nr_stad!$U$8:$U$60,0),0)","v":0},0,{"$f":"IF(D56=\"\",\"-\",MATCH(D56,N_W_1_1_in!$K$6:$K$15,0))","v":"-"},{"$f":"OFFSET(N_W_1_1_in!$L$5,AE56,1)","v":{"$error":"#VALUE!"}},{"$f":"OFFSET(N_W_1_1_in!$L$5,AE56,2)","v":{"$error":"#VALUE!"}},{"$f":"OFFSET(N_W_1_1_in!$L$5,AE56,3)","v":{"$error":"#VALUE!"}},{"$error":"#VALUE!"},{"$error":"#VALUE!"},{"$error":"#VALUE!"},{"$error":"#VALUE!"},{"$error":"#VALUE!"},{"$error":"#VALUE!"},{"$error":"#VALUE!"},{"$f":"IFERROR(OFFSET(N_W_1_1_in!$L$5,AE56,0),\"\")","v":""},{"$error":"#VALUE!"},{"$f":"IFERROR(OFFSET(N_W_1_1_in!$P$5,AE56,2),0)","v":0},{"$f":"IFERROR(IF(S56>5,OFFSET(N_W_1_1_in!$P$5,AE56,4),OFFSET(N_W_1_1_in!$P$5,AE56,3)),0)","v":0}]
[null,null,null,null,null,null,null,null,null,null,null,0,null,null,0,"-",{"$f":"IFERROR(OFFSET(N_W_1_1_in!$P$5,AE57,0),\"-\")","v":"-"},"-","-",null,null,null,null,null,null,null,null,null,{"$f":"IFERROR(MATCH(D57,Nr_stad!$U$8:$U$60,0),0)","v":0},0,{"$f":"IF(D57=\"\",\"-\",MATCH(D57,N_W_1_1_in!$K$6:$K$15,0))","v":"-"},{"$f":"OFFSET(N_W_1_1_in!$L$5,AE57,1)","v":{"$error":"#VALUE!"}},{"$f":"OFFSET(N_W_1_1_in!$L$5,AE57,2)","v":{"$error":"#VALUE!"}},{"$f":"OFFSET(N_W_1_1_in!$L$5,AE57,3)","v":{"$error":"#VALUE!"}},{"$error":"#VALUE!"},{"$error":"#VALUE!"},{"$error":"#VALUE!"},{"$error":"#VALUE!"},{"$error":"#VALUE!"},{"$error":"#VALUE!"},{"$error":"#VALUE!"},{"$f":"IFERROR(OFFSET(N_W_1_1_in!$L$5,AE57,0),\"\")","v":""},{"$error":"#VALUE!"},{"$f":"IFERROR(OFFSET(N_W_1_1_in!$P$5,AE57,2),0)","v":0},{"$f":"IFERROR(IF(S57>5,OFFSET(N_W_1_1_in!$P$5,AE57,4),OFFSET(N_W_1_1_in!$P$5,AE57,3)),0)","v":0}]
[null,null,null,null,null,null,null,null,null,null,null,0,null,null,0,"-",{"$f":"IFERROR(OFFSET(N_W_1_1_in!$P$5,AE58,0),\"-\")","v":"-"},"-","-",null,null,null,null,null,null,null,null,null,{"$f":"IFERROR(MATCH(D58,Nr_stad!$U$8:$U$60,0),0)","v":0},0,{"$f":"IF(D58=\"\",\"-\",MATCH(D58,N_W_1_1_in!$K$6:$K$15,0))","v":"-"},{"$f":"OFFSET(N_W_1_1_in!$L$5,AE58,1)","v":{"$error":"#VALUE!"}},{"$f":"OFFSET(N_W_1_1_in!$L$5,AE58,2)","v":{"$error":"#VALUE!"}},{"$f":"OFFSET(N_W_1_1_in!$L$5,AE58,3)","v":{"$error":"#VALUE!"}},{"$error":"#VALUE!"},{"$error":"#VALUE!"},{"$error":"#VALUE!"},{"$error":"#VALUE!"},{"$error":"#VALUE!"},{"$error":"#VALUE!"},{"$error":"#VALUE!"},{"$f":"IFERROR(OFFSET(N_W_1_1_in!$L$5,AE58,0),\"\")","v":""},{"$error":"#VALUE!"},{"$f":"IFERROR(OFFSET(N_W_1_1_in!$P$5,AE58,2),0)","v":0},{"$f":"IFERROR(IF(S58>5,OFFSET(N_W_1_1_in!$P$5,AE58,4),OFFSET(N_W_1_1_in!$P$5,AE58,3)),0)","v":0}]
[null,null,null,null,null,null,null,null,null,null,null,0,null,null,0,"-",{"$f":"IFERROR(OFFSET(N_W_1_1_in!$P$5,AE59,0),\"-\")","v":"-"},"-","-",null,null,null,null,null,null,null,null,null,{"$f":"IFERROR(MATCH(D59,Nr_stad!$U$8:$U$60,0),0)","v":0},0,{"$f":"IF(D59=\"\",\"-\",MATCH(D59,N_W_1_1_in!$K$6:$K$15,0))","v":"-"},{"$f":"OFFSET(N_W_1_1_in!$L$5,AE59,1)","v":{"$error":"#VALUE!"}},{"$f":"OFFSET(N_W_1_1_in!$L$5,AE59,2)","v":{"$error":"#VALUE!"}},{"$f":"OFFSET(N_W_1_1_in!$L$5,AE59,3)","v":{"$error":"#VALUE!"}},{"$error":"#VALUE!"},{"$error":"#VALUE!"},{"$error":"#VALUE!"},{"$error":"#VALUE!"},{"$error":"#VALUE!"},{"$error":"#VALUE!"},{"$error":"#VALUE!"},{"$f":"IFERROR(OFFSET(N_W_1_1_in!$L$5,AE59,0),\"\")","v":""},{"$error":"#VALUE!"},{"$f":"IFERROR(OFFSET(N_W_1_1_in!$P$5,AE59,2),0)","v":0},{"$f":"IFERROR(IF(S59>5,OFFSET(N_W_1_1_in!$P$5,AE59,4),OFFSET(N_W_1_1_in!$P$5,AE59,3)),0)","v":0}]
[null,null,null,null,null,null,null,null,null,null,null,0,null,null,0,"-",{"$f":"IFERROR(OFFSET(N_W_1_1_in!$P$5,AE60,0),\"-\")","v":"-"},"-","-",null,null,null,null,null,null,null,null,null,{"$f":"IFERROR(MATCH(D60,Nr_stad!$U$8:$U$60,0),0)","v":0},0,{"$f":"IF(D60=\"\",\"-\",MATCH(D60,N_W_1_1_in!$K$6:$K$15,0))","v":"-"},{"$f":"OFFSET(N_W_1_1_in!$L$5,AE60,1)","v":{"$error":"#VALUE!"}},{"$f":"OFFSET(N_W_1_1_in!$L$5,AE60,2)","v":{"$error":"#VALUE!"}},{"$f":"OFFSET(N_W_1_1_in!$L$5,AE60,3)","v":{"$error":"#VALUE!"}},{"$error":"#VALUE!"},{"$error":"#VALUE!"},{"$error":"#VALUE!"},{"$error":"#VALUE!"},{"$error":"#VALUE!"},{"$error":"#VALUE!"},{"$error":"#VALUE!"},{"$f":"IFERROR(OFFSET(N_W_1_1_in!$L$5,AE60,0),\"\")","v":""},{"$error":"#VALUE!"},{"$f":"IFERROR(OFFSET(N_W_1_1_in!$P$5,AE60,2),0)","v":0},{"$f":"IFERROR(IF(S60>5,OFFSET(N_W_1_1_in!$P$5,AE60,4),OFFSET(N_W_1_1_in!$P$5,AE60,3)),0)","v":0}]
[null,null,null,null,null,null,null,null,null,null,null,0,null,null,0,"-",{"$f":"IFERROR(OFFSET(N_W_1_1_in!$P$5,AE61,0),\"-\")","v":"-"},"-","-",null,null,null,null,null,null,null,null,null,{"$f":"IFERROR(MATCH(D61,Nr_stad!$U$8:$U$60,0),0)","v":0},0,{"$f":"IF(D61=\"\",\"-\",MATCH(D61,N_W_1_1_in!$K$6:$K$15,0))","v":"-"},{"$f":"OFFSET(N_W_1_1_in!$L$5,AE61,1)","v":{"$error":"#VALUE!"}},{"$f":"OFFSET(N_W_1_1_in!$L$5,AE61,2)","v":{"$error":"#VALUE!"}},{"$f":"OFFSET(N_W_1_1_in!$L$5,AE61,3)","v":{"$error":"#VALUE!"}},{"$error":"#VALUE!"},{"$error":"#VALUE!"},{"$error":"#VALUE!"},{"$error":"#VALUE!"},{"$error":"#VALUE!"},{"$error":"#VALUE!"},{"$error":"#VALUE!"},{"$f":"IFERROR(OFFSET(N_W_1_1_in!$L$5,AE61,0),\"\")","v":""},{"$error":"#VALUE!"},{"$f":"IFERROR(OFFSET(N_W_1_1_in!$P$5,AE61,2),0)","v":0},{"$f":"IFERROR(IF(S61>5,OFFSET(N_W_1_1_in!$P$5,AE61,4),OFFSET(N_W_1_1_in!$P$5,AE61,3)),0)","v":0}]
[null,null,null,null,null,null,null,null,null,null,null,0,null,null,0,"-",{"$f":"IFERROR(OFFSET(N_W_1_1_in!$P$5,AE62,0),\"-\")","v":"-"},"-","-",null,null,null,null,null,null,null,null,null,{"$f":"IFERROR(MATCH(D62,Nr_stad!$U$8:$U$60,0),0)","v":0},0,{"$f":"IF(D62=\"\",\"-\",MATCH(D62,N_W_1_1_in!$K$6:$K$15,0))","v":"-"},{"$f":"OFFSET(N_W_1_1_in!$L$5,AE62,1)","v":{"$error":"#VALUE!"}},{"$f":"OFFSET(N_W_1_1_in!$L$5,AE62,2)","v":{"$error":"#VALUE!"}},{"$f":"OFFSET(N_W_1_1_in!$L$5,AE62,3)","v":{"$error":"#VALUE!"}},{"$error":"#VALUE!"},{"$error":"#VALUE!"},{"$error":"#VALUE!"},{"$error":"#VALUE!"},{"$error":"#VALUE!"},{"$error":"#VALUE!"},{"$error":"#VALUE!"},{"$f":"IFERROR(OFFSET(N_W_1_1_in!$L$5,AE62,0),\"\")","v":""},{"$error":"#VALUE!"},{"$f":"IFERROR(OFFSET(N_W_1_1_in!$P$5,AE62,2),0)","v":0},{"$f":"IFERROR(IF(S62>5,OFFSET(N_W_1_1_in!$P$5,AE62,4),OFFSET(N_W_1_1_in!$P$5,AE62,3)),0)","v":0}]
[null,null,null,null,null,null,null,null,null,null,null,0,null,null,0,"-",{"$f":"IFERROR(OFFSET(N_W_1_1_in!$P$5,AE63,0),\"-\")","v":"-"},"-","-",null,null,null,null,null,null,null,null,null,{"$f":"IFERROR(MATCH(D63,Nr_stad!$U$8:$U$60,0),0)","v":0},0,{"$f":"IF(D63=\"\",\"-\",MATCH(D63,N_W_1_1_in!$K$6:$K$15,0))","v":"-"},{"$f":"OFFSET(N_W_1_1_in!$L$5,AE63,1)","v":{"$error":"#VALUE!"}},{"$f":"OFFSET(N_W_1_1_in!$L$5,AE63,2)","v":{"$error":"#VALUE!"}},{"$f":"OFFSET(N_W_1_1_in!$L$5,AE63,3)","v":{"$error":"#VALUE!"}},{"$error":"#VALUE!"},{"$error":"#VALUE!"},{"$error":"#VALUE!"},{"$error":"#VALUE!"},{"$error":"#VALUE!"},{"$error":"#VALUE!"},{"$error":"#VALUE!"},{"$f":"IFERROR(OFFSET(N_W_1_1_in!$L$5,AE63,0),\"\")","v":""},{"$error":"#VALUE!"},{"$f":"IFERROR(OFFSET(N_W_1_1_in!$P$5,AE63,2),0)","v":0},{"$f":"IFERROR(IF(S63>5,OFFSET(N_W_1_1_in!$P$5,AE63,4),OFFSET(N_W_1_1_in!$P$5,AE63,3)),0)","v":0}]
[null,null,null,null,null,null,null,null,null,null,null,0,null,null,0,"-",{"$f":"IFERROR(OFFSET(N_W_1_1_in!$P$5,AE64,0),\"-\")","v":"-"},"-","-",null,null,null,null,null,null,null,null,null,{"$f":"IFERROR(MATCH(D64,Nr_stad!$U$8:$U$60,0),0)","v":0},0,{"$f":"IF(D64=\"\",\"-\",MATCH(D64,N_W_1_1_in!$K$6:$K$15,0))","v":"-"},{"$f":"OFFSET(N_W_1_1_in!$L$5,AE64,1)","v":{"$error":"#VALUE!"}},{"$f":"OFFSET(N_W_1_1_in!$L$5,AE64,2)","v":{"$error":"#VALUE!"}},{"$f":"OFFSET(N_W_1_1_in!$L$5,AE64,3)","v":{"$error":"#VALUE!"}},{"$error":"#VALUE!"},{"$error":"#VALUE!"},{"$error":"#VALUE!"},{"$error":"#VALUE!"},{"$error":"#VALUE!"},{"$error":"#VALUE!"},{"$error":"#VALUE!"},{"$f":"IFERROR(OFFSET(N_W_1_1_in!$L$5,AE64,0),\"\")","v":""},{"$error":"#VALUE!"},{"$f":"IFERROR(OFFSET(N_W_1_1_in!$P$5,AE64,2),0)","v":0},{"$f":"IFERROR(IF(S64>5,OFFSET(N_W_1_1_in!$P$5,AE64,4),OFFSET(N_W_1_1_in!$P$5,AE64,3)),0)","v":0}]
[null,null,null,null,null,null,null,null,null,null,null,0,null,null,0,"-",{"$f":"IFERROR(OFFSET(N_W_1_1_in!$P$5,AE65,0),\"-\")","v":"-"},"-","-",null,null,null,null,null,null,null,null,null,{"$f":"IFERROR(MATCH(D65,Nr_stad!$U$8:$U$60,0),0)","v":0},0,{"$f":"IF(D65=\"\",\"-\",MATCH(D65,N_W_1_1_in!$K$6:$K$15,0))","v":"-"},{"$f":"OFFSET(N_W_1_1_in!$L$5,AE65,1)","v":{"$error":"#VALUE!"}},{"$f":"OFFSET(N_W_1_1_in!$L$5,AE65,2)","v":{"$error":"#VALUE!"}},{"$f":"OFFSET(N_W_1_1_in!$L$5,AE65,3)","v":{"$error":"#VALUE!"}},{"$error":"#VALUE!"},{"$error":"#VALUE!"},{"$error":"#VALUE!"},{"$error":"#VALUE!"},{"$error":"#VALUE!"},{"$error":"#VALUE!"},{"$error":"#VALUE!"},{"$f":"IFERROR(OFFSET(N_W_1_1_in!$L$5,AE65,0),\"\")","v":""},{"$error":"#VALUE!"},{"$f":"IFERROR(OFFSET(N_W_1_1_in!$P$5,AE65,2),0)","v":0},{"$f":"IFERROR(IF(S65>5,OFFSET(N_W_1_1_in!$P$5,AE65,4),OFFSET(N_W_1_1_in!$P$5,AE65,3)),0)","v":0}]
[null,null,null,null,null,null,null,null,null,null,null,0,null,null,0,"-",{"$f":"IFERROR(OFFSET(N_W_1_1_in!$P$5,AE66,0),\"-\")","v":"-"},"-","-",null,null,null,null,null,null,null,null,null,{"$f":"IFERROR(MATCH(D66,Nr_stad!$U$8:$U$60,0),0)","v":0},0,{"$f":"IF(D66=\"\",\"-\",MATCH(D66,N_W_1_1_in!$K$6:$K$15,0))","v":"-"},{"$f":"OFFSET(N_W_1_1_in!$L$5,AE66,1)","v":{"$error":"#VALUE!"}},{"$f":"OFFSET(N_W_1_1_in!$L$5,AE66,2)","v":{"$error":"#VALUE!"}},{"$f":"OFFSET(N_W_1_1_in!$L$5,AE66,3)","v":{"$error":"#VALUE!"}},{"$error":"#VALUE!"},{"$error":"#VALUE!"},{"$error":"#VALUE!"},{"$error":"#VALUE!"},{"$error":"#VALUE!"},{"$error":"#VALUE!"},{"$error":"#VALUE!"},{"$f":"IFERROR(OFFSET(N_W_1_1_in!$L$5,AE66,0),\"\")","v":""},{"$error":"#VALUE!"},{"$f":"IFERROR(OFFSET(N_W_1_1_in!$P$5,AE66,2),0)","v":0},{"$f":"IFERROR(IF(S66>5,OFFSET(N_W_1_1_in!$P$5,AE66,4),OFFSET(N_W_1_1_in!$P$5,AE66,3)),0)","v":0}]
[null,null,null,null,null,null,null,null,null,null,null,0,null,null,0,"-",{"$f":"IFERROR(OFFSET(N_W_1_1_in!$P$5,AE67,0),\"-\")","v":"-"},"-","-",null,null,null,null,null,null,null,null,null,{"$f":"IFERROR(MATCH(D67,Nr_stad!$U$8:$U$60,0),0)","v":0},0,{"$f":"IF(D67=\"\",\"-\",MATCH(D67,N_W_1_1_in!$K$6:$K$15,0))","v":"-"},{"$f":"OFFSET(N_W_1_1_in!$L$5,AE67,1)","v":{"$error":"#VALUE!"}},{"$f":"OFFSET(N_W_1_1_in!$L$5,AE67,2)","v":{"$error":"#VALUE!"}},{"$f":"OFFSET(N_W_1_1_in!$L$5,AE67,3)","v":{"$error":"#VALUE!"}},{"$error":"#VALUE!"},{"$error":"#VALUE!"},{"$error":"#VALUE!"},{"$error":"#VALUE!"},{"$error":"#VALUE!"},{"$error":"#VALUE!"},{"$error":"#VALUE!"},{"$f":"IFERROR(OFFSET(N_W_1_1_in!$L$5,AE67,0),\"\")","v":""},{"$error":"#VALUE!"},{"$f":"IFERROR(OFFSET(N_W_1_1_in!$P$5,AE67,2),0)","v":0},{"$f":"IFERROR(IF(S67>5,OFFSET(N_W_1_1_in!$P$5,AE67,4),OFFSET(N_W_1_1_in!$P$5,AE67,3)),0)","v":0}]
[null,null,null,null,null,null,null,null,null,null,null,0,null,null,0,"-",{"$f":"IFERROR(OFFSET(N_W_1_1_in!$P$5,AE68,0),\"-\")","v":"-"},"-","-",null,null,null,null,null,null,null,null,null,{"$f":"IFERROR(MATCH(D68,Nr_stad!$U$8:$U$60,0),0)","v":0},0,{"$f":"IF(D68=\"\",\"-\",MATCH(D68,N_W_1_1_in!$K$6:$K$15,0))","v":"-"},{"$f":"OFFSET(N_W_1_1_in!$L$5,AE68,1)","v":{"$error":"#VALUE!"}},{"$f":"OFFSET(N_W_1_1_in!$L$5,AE68,2)","v":{"$error":"#VALUE!"}},{"$f":"OFFSET(N_W_1_1_in!$L$5,AE68,3)","v":{"$error":"#VALUE!"}},{"$error":"#VALUE!"},{"$error":"#VALUE!"},{"$error":"#VALUE!"},{"$error":"#VALUE!"},{"$error":"#VALUE!"},{"$error":"#VALUE!"},{"$error":"#VALUE!"},{"$f":"IFERROR(OFFSET(N_W_1_1_in!$L$5,AE68,0),\"\")","v":""},{"$error":"#VALUE!"},{"$f":"IFERROR(OFFSET(N_W_1_1_in!$P$5,AE68,2),0)","v":0},{"$f":"IFERROR(IF(S68>5,OFFSET(N_W_1_1_in!$P$5,AE68,4),OFFSET(N_W_1_1_in!$P$5,AE68,3)),0)","v":0}]
[null,null,null,null,null,null,null,null,null,null,null,0,null,null,0,"-",{"$f":"IFERROR(OFFSET(N_W_1_1_in!$P$5,AE69,0),\"-\")","v":"-"},"-","-",null,null,null,null,null,null,null,null,null,{"$f":"IFERROR(MATCH(D69,Nr_stad!$U$8:$U$60,0),0)","v":0},0,{"$f":"IF(D69=\"\",\"-\",MATCH(D69,N_W_1_1_in!$K$6:$K$15,0))","v":"-"},{"$f":"OFFSET(N_W_1_1_in!$L$5,AE69,1)","v":{"$error":"#VALUE!"}},{"$f":"OFFSET(N_W_1_1_in!$L$5,AE69,2)","v":{"$error":"#VALUE!"}},{"$f":"OFFSET(N_W_1_1_in!$L$5,AE69,3)","v":{"$error":"#VALUE!"}},{"$error":"#VALUE!"},{"$error":"#VALUE!"},{"$error":"#VALUE!"},{"$error":"#VALUE!"},{"$error":"#VALUE!"},{"$error":"#VALUE!"},{"$error":"#VALUE!"},{"$f":"IFERROR(OFFSET(N_W_1_1_in!$L$5,AE69,0),\"\")","v":""},{"$error":"#VALUE!"},{"$f":"IFERROR(OFFSET(N_W_1_1_in!$P$5,AE69,2),0)","v":0},{"$f":"IFERROR(IF(S69>5,OFFSET(N_W_1_1_in!$P$5,AE69,4),OFFSET(N_W_1_1_in!$P$5,AE69,3)),0)","v":0}]
[null,null,null,null,null,null,null,null,null,null,null,0,null,null,0,"-",{"$f":"IFERROR(OFFSET(N_W_1_1_in!$P$5,AE70,0),\"-\")","v":"-"},"-","-",null,null,null,null,null,null,null,null,null,{"$f":"IFERROR(MATCH(D70,Nr_stad!$U$8:$U$60,0),0)","v":0},0,{"$f":"IF(D70=\"\",\"-\",MATCH(D70,N_W_1_1_in!$K$6:$K$15,0))","v":"-"},{"$f":"OFFSET(N_W_1_1_in!$L$5,AE70,1)","v":{"$error":"#VALUE!"}},{"$f":"OFFSET(N_W_1_1_in!$L$5,AE70,2)","v":{"$error":"#VALUE!"}},{"$f":"OFFSET(N_W_1_1_in!$L$5,AE70,3)","v":{"$error":"#VALUE!"}},{"$error":"#VALUE!"},{"$error":"#VALUE!"},{"$error":"#VALUE!"},{"$error":"#VALUE!"},{"$error":"#VALUE!"},{"$error":"#VALUE!"},{"$error":"#VALUE!"},{"$f":"IFERROR(OFFSET(N_W_1_1_in!$L$5,AE70,0),\"\")","v":""},{"$error":"#VALUE!"},{"$f":"IFERROR(OFFSET(N_W_1_1_in!$P$5,AE70,2),0)","v":0},{"$f":"IFERROR(IF(S70>5,OFFSET(N_W_1_1_in!$P$5,AE70,4),OFFSET(N_W_1_1_in!$P$5,AE70,3)),0)","v":0}]
[null,null,null,null,null,null,null,null,null,null,null,0,null,null,0,"-",{"$f":"IFERROR(OFFSET(N_W_1_1_in!$P$5,AE71,0),\"-\")","v":"-"},"-","-",null,null,null,null,null,null,null,null,null,{"$f":"IFERROR(MATCH(D71,Nr_stad!$U$8:$U$60,0),0)","v":0},0,{"$f":"IF(D71=\"\",\"-\",MATCH(D71,N_W_1_1_in!$K$6:$K$15,0))","v":"-"},{"$f":"OFFSET(N_W_1_1_in!$L$5,AE71,1)","v":{"$error":"#VALUE!"}},{"$f":"OFFSET(N_W_1_1_in!$L$5,AE71,2)","v":{"$error":"#VALUE!"}},{"$f":"OFFSET(N_W_1_1_in!$L$5,AE71,3)","v":{"$error":"#VALUE!"}},{"$error":"#VALUE!"},{"$error":"#VALUE!"},{"$error":"#VALUE!"},{"$error":"#VALUE!"},{"$error":"#VALUE!"},{"$error":"#VALUE!"},{"$error":"#VALUE!"},{"$f":"IFERROR(OFFSET(N_W_1_1_in!$L$5,AE71,0),\"\")","v":""},{"$error":"#VALUE!"},{"$f":"IFERROR(OFFSET(N_W_1_1_in!$P$5,AE71,2),0)","v":0},{"$f":"IFERROR(IF(S71>5,OFFSET(N_W_1_1_in!$P$5,AE71,4),OFFSET(N_W_1_1_in!$P$5,AE71,3)),0)","v":0}]
[null,null,null,null,null,null,null,null,null,null,null,0,null,null,0,"-",{"$f":"IFERROR(OFFSET(N_W_1_1_in!$P$5,AE72,0),\"-\")","v":"-"},"-","-",null,null,null,null,null,null,null,null,null,{"$f":"IFERROR(MATCH(D72,Nr_stad!$U$8:$U$60,0),0)","v":0},0,{"$f":"IF(D72=\"\",\"-\",MATCH(D72,N_W_1_1_in!$K$6:$K$15,0))","v":"-"},{"$f":"OFFSET(N_W_1_1_in!$L$5,AE72,1)","v":{"$error":"#VALUE!"}},{"$f":"OFFSET(N_W_1_1_in!$L$5,AE72,2)","v":{"$error":"#VALUE!"}},{"$f":"OFFSET(N_W_1_1_in!$L$5,AE72,3)","v":{"$error":"#VALUE!"}},{"$error":"#VALUE!"},{"$error":"#VALUE!"},{"$error":"#VALUE!"},{"$error":"#VALUE!"},{"$error":"#VALUE!"},{"$error":"#VALUE!"},{"$error":"#VALUE!"},{"$f":"IFERROR(OFFSET(N_W_1_1_in!$L$5,AE72,0),\"\")","v":""},{"$error":"#VALUE!"},{"$f":"IFERROR(OFFSET(N_W_1_1_in!$P$5,AE72,2),0)","v":0},{"$f":"IFERROR(IF(S72>5,OFFSET(N_W_1_1_in!$P$5,AE72,4),OFFSET(N_W_1_1_in!$P$5,AE72,3)),0)","v":0}]
[null,null,null,null,null,null,null,null,null,null,null,0,null,null,0,"-",{"$f":"IFERROR(OFFSET(N_W_1_1_in!$P$5,AE73,0),\"-\")","v":"-"},"-","-",null,null,null,null,null,null,null,null,null,{"$f":"IFERROR(MATCH(D73,Nr_stad!$U$8:$U$60,0),0)","v":0},0,{"$f":"IF(D73=\"\",\"-\",MATCH(D73,N_W_1_1_in!$K$6:$K$15,0))","v":"-"},{"$f":"OFFSET(N_W_1_1_in!$L$5,AE73,1)","v":{"$error":"#VALUE!"}},{"$f":"OFFSET(N_W_1_1_in!$L$5,AE73,2)","v":{"$error":"#VALUE!"}},{"$f":"OFFSET(N_W_1_1_in!$L$5,AE73,3)","v":{"$error":"#VALUE!"}},{"$error":"#VALUE!"},{"$error":"#VALUE!"},{"$error":"#VALUE!"},{"$error":"#VALUE!"},{"$error":"#VALUE!"},{"$error":"#VALUE!"},{"$error":"#VALUE!"},{"$f":"IFERROR(OFFSET(N_W_1_1_in!$L$5,AE73,0),\"\")","v":""},{"$error":"#VALUE!"},{"$f":"IFERROR(OFFSET(N_W_1_1_in!$P$5,AE73,2),0)","v":0},{"$f":"IFERROR(IF(S73>5,OFFSET(N_W_1_1_in!$P$5,AE73,4),OFFSET(N_W_1_1_in!$P$5,AE73,3)),0)","v":0}]
[null,null,null,null,null,null,null,null,null,null,null,0,null,null,0,"-",{"$f":"IFERROR(OFFSET(N_W_1_1_in!$P$5,AE74,0),\"-\")","v":"-"},"-","-",null,null,null,null,null,null,null,null,null,{"$f":"IFERROR(MATCH(D74,Nr_stad!$U$8:$U$60,0),0)","v":0},0,{"$f":"IF(D74=\"\",\"-\",MATCH(D74,N_W_1_1_in!$K$6:$K$15,0))","v":"-"},{"$f":"OFFSET(N_W_1_1_in!$L$5,AE74,1)","v":{"$error":"#VALUE!"}},{"$f":"OFFSET(N_W_1_1_in!$L$5,AE74,2)","v":{"$error":"#VALUE!"}},{"$f":"OFFSET(N_W_1_1_in!$L$5,AE74,3)","v":{"$error":"#VALUE!"}},{"$error":"#VALUE!"},{"$error":"#VALUE!"},{"$error":"#VALUE!"},{"$error":"#VALUE!"},{"$error":"#VALUE!"},{"$error":"#VALUE!"},{"$error":"#VALUE!"},{"$f":"IFERROR(OFFSET(N_W_1_1_in!$L$5,AE74,0),\"\")","v":""},{"$error":"#VALUE!"},{"$f":"IFERROR(OFFSET(N_W_1_1_in!$P$5,AE74,2),0)","v":0},{"$f":"IFERROR(IF(S74>5,OFFSET(N_W_1_1_in!$P$5,AE74,4),OFFSET(N_W_1_1_in!$P$5,AE74,3)),0)","v":0}]
[null,null,null,null,null,null,null,null,null,null,null,0,null,null,0,"-",{"$f":"IFERROR(OFFSET(N_W_1_1_in!$P$5,AE75,0),\"-\")","v":"-"},"-","-",null,null,null,null,null,null,null,null,null,{"$f":"IFERROR(MATCH(D75,Nr_stad!$U$8:$U$60,0),0)","v":0},0,{"$f":"IF(D75=\"\",\"-\",MATCH(D75,N_W_1_1_in!$K$6:$K$15,0))","v":"-"},{"$f":"OFFSET(N_W_1_1_in!$L$5,AE75,1)","v":{"$error":"#VALUE!"}},{"$f":"OFFSET(N_W_1_1_in!$L$5,AE75,2)","v":{"$error":"#VALUE!"}},{"$f":"OFFSET(N_W_1_1_in!$L$5,AE75,3)","v":{"$error":"#VALUE!"}},{"$error":"#VALUE!"},{"$error":"#VALUE!"},{"$error":"#VALUE!"},{"$error":"#VALUE!"},{"$error":"#VALUE!"},{"$error":"#VALUE!"},{"$error":"#VALUE!"},{"$f":"IFERROR(OFFSET(N_W_1_1_in!$L$5,AE75,0),\"\")","v":""},{"$error":"#VALUE!"},{"$f":"IFERROR(OFFSET(N_W_1_1_in!$P$5,AE75,2),0)","v":0},{"$f":"IFERROR(IF(S75>5,OFFSET(N_W_1_1_in!$P$5,AE75,4),OFFSET(N_W_1_1_in!$P$5,AE75,3)),0)","v":0}]
[null,null,null,null,null,null,null,null,null,null,null,0,null,null,0,"-",{"$f":"IFERROR(OFFSET(N_W_1_1_in!$P$5,AE76,0),\"-\")","v":"-"},"-","-",null,null,null,null,null,null,null,null,null,{"$f":"IFERROR(MATCH(D76,Nr_stad!$U$8:$U$60,0),0)","v":0},0,{"$f":"IF(D76=\"\",\"-\",MATCH(D76,N_W_1_1_in!$K$6:$K$15,0))","v":"-"},{"$f":"OFFSET(N_W_1_1_in!$L$5,AE76,1)","v":{"$error":"#VALUE!"}},{"$f":"OFFSET(N_W_1_1_in!$L$5,AE76,2)","v":{"$error":"#VALUE!"}},{"$f":"OFFSET(N_W_1_1_in!$L$5,AE76,3)","v":{"$error":"#VALUE!"}},{"$error":"#VALUE!"},{"$error":"#VALUE!"},{"$error":"#VALUE!"},{"$error":"#VALUE!"},{"$error":"#VALUE!"},{"$error":"#VALUE!"},{"$error":"#VALUE!"},{"$f":"IFERROR(OFFSET(N_W_1_1_in!$L$5,AE76,0),\"\")","v":""},{"$error":"#VALUE!"},{"$f":"IFERROR(OFFSET(N_W_1_1_in!$P$5,AE76,2),0)","v":0},{"$f":"IFERROR(IF(S76>5,OFFSET(N_W_1_1_in!$P$5,AE76,4),OFFSET(N_W_1_1_in!$P$5,AE76,3)),0)","v":0}]
[null,null,null,null,null,null,null,null,null,null,null,0,null,null,0,"-",{"$f":"IFERROR(OFFSET(N_W_1_1_in!$P$5,AE77,0),\"-\")","v":"-"},"-","-",null,null,null,null,null,null,null,null,null,{"$f":"IFERROR(MATCH(D77,Nr_stad!$U$8:$U$60,0),0)","v":0},0,{"$f":"IF(D77=\"\",\"-\",MATCH(D77,N_W_1_1_in!$K$6:$K$15,0))","v":"-"},{"$f":"OFFSET(N_W_1_1_in!$L$5,AE77,1)","v":{"$error":"#VALUE!"}},{"$f":"OFFSET(N_W_1_1_in!$L$5,AE77,2)","v":{"$error":"#VALUE!"}},{"$f":"OFFSET(N_W_1_1_in!$L$5,AE77,3)","v":{"$error":"#VALUE!"}},{"$error":"#VALUE!"},{"$error":"#VALUE!"},{"$error":"#VALUE!"},{"$error":"#VALUE!"},{"$error":"#VALUE!"},{"$error":"#VALUE!"},{"$error":"#VALUE!"},{"$f":"IFERROR(OFFSET(N_W_1_1_in!$L$5,AE77,0),\"\")","v":""},{"$error":"#VALUE!"},{"$f":"IFERROR(OFFSET(N_W_1_1_in!$P$5,AE77,2),0)","v":0},{"$f":"IFERROR(IF(S77>5,OFFSET(N_W_1_1_in!$P$5,AE77,4),OFFSET(N_W_1_1_in!$P$5,AE77,3)),0)","v":0}]
[null,null,null,null,null,null,null,null,null,null,null,0,null,null,0,"-",{"$f":"IFERROR(OFFSET(N_W_1_1_in!$P$5,AE78,0),\"-\")","v":"-"},"-","-",null,null,null,null,null,null,null,null,null,{"$f":"IFERROR(MATCH(D78,Nr_stad!$U$8:$U$60,0),0)","v":0},0,{"$f":"IF(D78=\"\",\"-\",MATCH(D78,N_W_1_1_in!$K$6:$K$15,0))","v":"-"},{"$f":"OFFSET(N_W_1_1_in!$L$5,AE78,1)","v":{"$error":"#VALUE!"}},{"$f":"OFFSET(N_W_1_1_in!$L$5,AE78,2)","v":{"$error":"#VALUE!"}},{"$f":"OFFSET(N_W_1_1_in!$L$5,AE78,3)","v":{"$error":"#VALUE!"}},{"$error":"#VALUE!"},{"$error":"#VALUE!"},{"$error":"#VALUE!"},{"$error":"#VALUE!"},{"$error":"#VALUE!"},{"$error":"#VALUE!"},{"$error":"#VALUE!"},{"$f":"IFERROR(OFFSET(N_W_1_1_in!$L$5,AE78,0),\"\")","v":""},{"$error":"#VALUE!"},{"$f":"IFERROR(OFFSET(N_W_1_1_in!$P$5,AE78,2),0)","v":0},{"$f":"IFERROR(IF(S78>5,OFFSET(N_W_1_1_in!$P$5,AE78,4),OFFSET(N_W_1_1_in!$P$5,AE78,3)),0)","v":0}]
[null,null,null,null,null,null,null,null,null,null,null,0,null,null,0,"-",{"$f":"IFERROR(OFFSET(N_W_1_1_in!$P$5,AE79,0),\"-\")","v":"-"},"-","-",null,null,null,null,null,null,null,null,null,{"$f":"IFERROR(MATCH(D79,Nr_stad!$U$8:$U$60,0),0)","v":0},0,{"$f":"IF(D79=\"\",\"-\",MATCH(D79,N_W_1_1_in!$K$6:$K$15,0))","v":"-"},{"$f":"OFFSET(N_W_1_1_in!$L$5,AE79,1)","v":{"$error":"#VALUE!"}},{"$f":"OFFSET(N_W_1_1_in!$L$5,AE79,2)","v":{"$error":"#VALUE!"}},{"$f":"OFFSET(N_W_1_1_in!$L$5,AE79,3)","v":{"$error":"#VALUE!"}},{"$error":"#VALUE!"},{"$error":"#VALUE!"},{"$error":"#VALUE!"},{"$error":"#VALUE!"},{"$error":"#VALUE!"},{"$error":"#VALUE!"},{"$error":"#VALUE!"},{"$f":"IFERROR(OFFSET(N_W_1_1_in!$L$5,AE79,0),\"\")","v":""},{"$error":"#VALUE!"},{"$f":"IFERROR(OFFSET(N_W_1_1_in!$P$5,AE79,2),0)","v":0},{"$f":"IFERROR(IF(S79>5,OFFSET(N_W_1_1_in!$P$5,AE79,4),OFFSET(N_W_1_1_in!$P$5,AE79,3)),0)","v":0}]
[null,null,null,null,null,null,null,null,null,null,null,0,null,null,0,"-",{"$f":"IFERROR(OFFSET(N_W_1_1_in!$P$5,AE80,0),\"-\")","v":"-"},"-","-",null,null,null,null,null,null,null,null,null,{"$f":"IFERROR(MATCH(D80,Nr_stad!$U$8:$U$60,0),0)","v":0},0,{"$f":"IF(D80=\"\",\"-\",MATCH(D80,N_W_1_1_in!$K$6:$K$15,0))","v":"-"},{"$f":"OFFSET(N_W_1_1_in!$L$5,AE80,1)","v":{"$error":"#VALUE!"}},{"$f":"OFFSET(N_W_1_1_in!$L$5,AE80,2)","v":{"$error":"#VALUE!"}},{"$f":"OFFSET(N_W_1_1_in!$L$5,AE80,3)","v":{"$error":"#VALUE!"}},{"$error":"#VALUE!"},{"$error":"#VALUE!"},{"$error":"#VALUE!"},{"$error":"#VALUE!"},{"$error":"#VALUE!"},{"$error":"#VALUE!"},{"$error":"#VALUE!"},{"$f":"IFERROR(OFFSET(N_W_1_1_in!$L$5,AE80,0),\"\")","v":""},{"$error":"#VALUE!"},{"$f":"IFERROR(OFFSET(N_W_1_1_in!$P$5,AE80,2),0)","v":0},{"$f":"IFERROR(IF(S80>5,OFFSET(N_W_1_1_in!$P$5,AE80,4),OFFSET(N_W_1_1_in!$P$5,AE80,3)),0)","v":0}]
[null,null,null,null,null,null,null,null,null,null,null,0,null,null,0,"-",{"$f":"IFERROR(OFFSET(N_W_1_1_in!$P$5,AE81,0),\"-\")","v":"-"},"-","-",null,null,null,null,null,null,null,null,null,{"$f":"IFERROR(MATCH(D81,Nr_stad!$U$8:$U$60,0),0)","v":0},0,{"$f":"IF(D81=\"\",\"-\",MATCH(D81,N_W_1_1_in!$K$6:$K$15,0))","v":"-"},{"$f":"OFFSET(N_W_1_1_in!$L$5,AE81,1)","v":{"$error":"#VALUE!"}},{"$f":"OFFSET(N_W_1_1_in!$L$5,AE81,2)","v":{"$error":"#VALUE!"}},{"$f":"OFFSET(N_W_1_1_in!$L$5,AE81,3)","v":{"$error":"#VALUE!"}},{"$error":"#VALUE!"},{"$error":"#VALUE!"},{"$error":"#VALUE!"},{"$error":"#VALUE!"},{"$error":"#VALUE!"},{"$error":"#VALUE!"},{"$error":"#VALUE!"},{"$f":"IFERROR(OFFSET(N_W_1_1_in!$L$5,AE81,0),\"\")","v":""},{"$error":"#VALUE!"},{"$f":"IFERROR(OFFSET(N_W_1_1_in!$P$5,AE81,2),0)","v":0},{"$f":"IFERROR(IF(S81>5,OFFSET(N_W_1_1_in!$P$5,AE81,4),OFFSET(N_W_1_1_in!$P$5,AE81,3)),0)","v":0}]
[null,null,null,null,null,null,null,null,null,null,null,0,null,null,0,"-",{"$f":"IFERROR(OFFSET(N_W_1_1_in!$P$5,AE82,0),\"-\")","v":"-"},"-","-",null,null,null,null,null,null,null,null,null,{"$f":"IFERROR(MATCH(D82,Nr_stad!$U$8:$U$60,0),0)","v":0},0,{"$f":"IF(D82=\"\",\"-\",MATCH(D82,N_W_1_1_in!$K$6:$K$15,0))","v":"-"},{"$f":"OFFSET(N_W_1_1_in!$L$5,AE82,1)","v":{"$error":"#VALUE!"}},{"$f":"OFFSET(N_W_1_1_in!$L$5,AE82,2)","v":{"$error":"#VALUE!"}},{"$f":"OFFSET(N_W_1_1_in!$L$5,AE82,3)","v":{"$error":"#VALUE!"}},{"$error":"#VALUE!"},{"$error":"#VALUE!"},{"$error":"#VALUE!"},{"$error":"#VALUE!"},{"$error":"#VALUE!"},{"$error":"#VALUE!"},{"$error":"#VALUE!"},{"$f":"IFERROR(OFFSET(N_W_1_1_in!$L$5,AE82,0),\"\")","v":""},{"$error":"#VALUE!"},{"$f":"IFERROR(OFFSET(N_W_1_1_in!$P$5,AE82,2),0)","v":0},{"$f":"IFERROR(IF(S82>5,OFFSET(N_W_1_1_in!$P$5,AE82,4),OFFSET(N_W_1_1_in!$P$5,AE82,3)),0)","v":0}]
[null,null,null,null,null,null,null,null,null,null,null,0,null,null,0,"-",{"$f":"IFERROR(OFFSET(N_W_1_1_in!$P$5,AE83,0),\"-\")","v":"-"},"-","-",null,null,null,null,null,null,null,null,null,{"$f":"IFERROR(MATCH(D83,Nr_stad!$U$8:$U$60,0),0)","v":0},0,{"$f":"IF(D83=\"\",\"-\",MATCH(D83,N_W_1_1_in!$K$6:$K$15,0))","v":"-"},{"$f":"OFFSET(N_W_1_1_in!$L$5,AE83,1)","v":{"$error":"#VALUE!"}},{"$f":"OFFSET(N_W_1_1_in!$L$5,AE83,2)","v":{"$error":"#VALUE!"}},{"$f":"OFFSET(N_W_1_1_in!$L$5,AE83,3)","v":{"$error":"#VALUE!"}},{"$error":"#VALUE!"},{"$error":"#VALUE!"},{"$error":"#VALUE!"},{"$error":"#VALUE!"},{"$error":"#VALUE!"},{"$error":"#VALUE!"},{"$error":"#VALUE!"},{"$f":"IFERROR(OFFSET(N_W_1_1_in!$L$5,AE83,0),\"\")","v":""},{"$error":"#VALUE!"},{"$f":"IFERROR(OFFSET(N_W_1_1_in!$P$5,AE83,2),0)","v":0},{"$f":"IFERROR(IF(S83>5,OFFSET(N_W_1_1_in!$P$5,AE83,4),OFFSET(N_W_1_1_in!$P$5,AE83,3)),0)","v":0}]
[null,null,null,null,null,null,null,null,null,null,null,0,null,null,0,"-",{"$f":"IFERROR(OFFSET(N_W_1_1_in!$P$5,AE84,0),\"-\")","v":"-"},"-","-",null,null,null,null,null,null,null,null,null,{"$f":"IFERROR(MATCH(D84,Nr_stad!$U$8:$U$60,0),0)","v":0},0,{"$f":"IF(D84=\"\",\"-\",MATCH(D84,N_W_1_1_in!$K$6:$K$15,0))","v":"-"},{"$f":"OFFSET(N_W_1_1_in!$L$5,AE84,1)","v":{"$error":"#VALUE!"}},{"$f":"OFFSET(N_W_1_1_in!$L$5,AE84,2)","v":{"$error":"#VALUE!"}},{"$f":"OFFSET(N_W_1_1_in!$L$5,AE84,3)","v":{"$error":"#VALUE!"}},{"$error":"#VALUE!"},{"$error":"#VALUE!"},{"$error":"#VALUE!"},{"$error":"#VALUE!"},{"$error":"#VALUE!"},{"$error":"#VALUE!"},{"$error":"#VALUE!"},{"$f":"IFERROR(OFFSET(N_W_1_1_in!$L$5,AE84,0),\"\")","v":""},{"$error":"#VALUE!"},{"$f":"IFERROR(OFFSET(N_W_1_1_in!$P$5,AE84,2),0)","v":0},{"$f":"IFERROR(IF(S84>5,OFFSET(N_W_1_1_in!$P$5,AE84,4),OFFSET(N_W_1_1_in!$P$5,AE84,3)),0)","v":0}]
[null,null,null,null,null,null,null,null,null,null,null,0,null,null,0,"-",{"$f":"IFERROR(OFFSET(N_W_1_1_in!$P$5,AE85,0),\"-\")","v":"-"},"-","-",null,null,null,null,null,null,null,null,null,{"$f":"IFERROR(MATCH(D85,Nr_stad!$U$8:$U$60,0),0)","v":0},0,{"$f":"IF(D85=\"\",\"-\",MATCH(D85,N_W_1_1_in!$K$6:$K$15,0))","v":"-"},{"$f":"OFFSET(N_W_1_1_in!$L$5,AE85,1)","v":{"$error":"#VALUE!"}},{"$f":"OFFSET(N_W_1_1_in!$L$5,AE85,2)","v":{"$error":"#VALUE!"}},{"$f":"OFFSET(N_W_1_1_in!$L$5,AE85,3)","v":{"$error":"#VALUE!"}},{"$error":"#VALUE!"},{"$error":"#VALUE!"},{"$error":"#VALUE!"},{"$error":"#VALUE!"},{"$error":"#VALUE!"},{"$error":"#VALUE!"},{"$error":"#VALUE!"},{"$f":"IFERROR(OFFSET(N_W_1_1_in!$L$5,AE85,0),\"\")","v":""},{"$error":"#VALUE!"},{"$f":"IFERROR(OFFSET(N_W_1_1_in!$P$5,AE85,2),0)","v":0},{"$f":"IFERROR(IF(S85>5,OFFSET(N_W_1_1_in!$P$5,AE85,4),OFFSET(N_W_1_1_in!$P$5,AE85,3)),0)","v":0}]
[null,null,null,null,null,null,null,null,null,null,null,0,null,null,0,"-",{"$f":"IFERROR(OFFSET(N_W_1_1_in!$P$5,AE86,0),\"-\")","v":"-"},"-","-",null,null,null,null,null,null,null,null,null,{"$f":"IFERROR(MATCH(D86,Nr_stad!$U$8:$U$60,0),0)","v":0},0,{"$f":"IF(D86=\"\",\"-\",MATCH(D86,N_W_1_1_in!$K$6:$K$15,0))","v":"-"},{"$f":"OFFSET(N_W_1_1_in!$L$5,AE86,1)","v":{"$error":"#VALUE!"}},{"$f":"OFFSET(N_W_1_1_in!$L$5,AE86,2)","v":{"$error":"#VALUE!"}},{"$f":"OFFSET(N_W_1_1_in!$L$5,AE86,3)","v":{"$error":"#VALUE!"}},{"$error":"#VALUE!"},{"$error":"#VALUE!"},{"$error":"#VALUE!"},{"$error":"#VALUE!"},{"$error":"#VALUE!"},{"$error":"#VALUE!"},{"$error":"#VALUE!"},{"$f":"IFERROR(OFFSET(N_W_1_1_in!$L$5,AE86,0),\"\")","v":""},{"$error":"#VALUE!"},{"$f":"IFERROR(OFFSET(N_W_1_1_in!$P$5,AE86,2),0)","v":0},{"$f":"IFERROR(IF(S86>5,OFFSET(N_W_1_1_in!$P$5,AE86,4),OFFSET(N_W_1_1_in!$P$5,AE86,3)),0)","v":0}]
[null,null,null,null,null,null,null,null,null,null,null,{"$f":"J87*K87","v":0},null,null,{"$f":"M87*N87","v":0},{"$f":"IFERROR(OFFSET(AE87,0,AO87),\"-\")","v":"-"},{"$f":"IFERROR(OFFSET(N_W_1_1_in!$P$5,AE87,0),\"-\")","v":"-"},{"$f":"IF(Q87=\"-\",\"-\",O87*0.15)","v":"-"},{"$f":"IFERROR(TRUNC(IF(L87/P87>=1,IF(OR(AE87=1,AE87=3,AE87=5,AE87=6),1,L87/P87),\"-\")*AQ87),\"-\")","v":"-"},null,null,null,null,null,null,null,null,null,{"$f":"IFERROR(MATCH(D87,Nr_stad!$U$8:$U$60,0),0)","v":0},{"$f":"SUM(I87:S87)+AC87","v":0},{"$f":"IF(D87=\"\",\"-\",MATCH(D87,N_W_1_1_in!$K$6:$K$15,0))","v":"-"},{"$f":"OFFSET(N_W_1_1_in!$L$5,AE87,1)","v":{"$error":"#VALUE!"}},{"$f":"OFFSET(N_W_1_1_in!$L$5,AE87,2)","v":{"$error":"#VALUE!"}},{"$f":"OFFSET(N_W_1_1_in!$L$5,AE87,3)","v":{"$error":"#VALUE!"}},{"$f":"TRUNC(L87/AF87)","v":{"$error":"#VALUE!"}},{"$f":"TRUNC(L87/AG87)","v":{"$error":"#VALUE!"}},{"$f":"TRUNC(L87/AH87)","v":{"$error":"#VALUE!"}},{"$f":"IF(AI87<6,1,0)","v":{"$error":"#VALUE!"}},{"$f":"IF(AND(AJ87>5,AJ87<40,AN87=0),2,0)","v":{"$error":"#VALUE!"}},{"$f":"IF(AK87>39,3,0)","v":{"$error":"#VALUE!"}},{"$f":"AL87+AM87+AN87","v":{"$error":"#VALUE!"}},{"$f":"IFERROR(OFFSET(N_W_1_1_in!$L$5,AE87,0),\"\")","v":""},{"$f":"IF(AND(OR(AE87=4,AE87=7,AE87=8,AE87=9),AI87<2),0,1)","v":{"$error":"#VALUE!"}},{"$f":"IFERROR(OFFSET(N_W_1_1_in!$P$5,AE87,2),0)","v":0},{"$f":"IFERROR(IF(S87>5,OFFSET(N_W_1_1_in!$P$5,AE87,4),OFFSET(N_W_1_1_in!$P$5,AE87,3)),0)","v":0}]
[null,null,null,null,null,null,null,null,null,null,null,0,null,null,0,"-",{"$f":"IFERROR(OFFSET(N_W_1_1_in!$P$5,AE88,0),\"-\")","v":"-"},"-","-",null,null,null,null,null,null,null,null,null,{"$f":"IFERROR(MATCH(D88,Nr_stad!$U$8:$U$60,0),0)","v":0},0,{"$f":"IF(D88=\"\",\"-\",MATCH(D88,N_W_1_1_in!$K$6:$K$15,0))","v":"-"},{"$f":"OFFSET(N_W_1_1_in!$L$5,AE88,1)","v":{"$error":"#VALUE!"}},{"$f":"OFFSET(N_W_1_1_in!$L$5,AE88,2)","v":{"$error":"#VALUE!"}},{"$f":"OFFSET(N_W_1_1_in!$L$5,AE88,3)","v":{"$error":"#VALUE!"}},{"$error":"#VALUE!"},{"$error":"#VALUE!"},{"$error":"#VALUE!"},{"$error":"#VALUE!"},{"$error":"#VALUE!"},{"$error":"#VALUE!"},{"$error":"#VALUE!"},{"$f":"IFERROR(OFFSET(N_W_1_1_in!$L$5,AE88,0),\"\")","v":""},{"$error":"#VALUE!"},{"$f":"IFERROR(OFFSET(N_W_1_1_in!$P$5,AE88,2),0)","v":0},{"$f":"IFERROR(IF(S88>5,OFFSET(N_W_1_1_in!$P$5,AE88,4),OFFSET(N_W_1_1_in!$P$5,AE88,3)),0)","v":0}]
[null,null,null,null,null,null,null,null,null,null,null,0,null,null,0,"-",{"$f":"IFERROR(OFFSET(N_W_1_1_in!$P$5,AE89,0),\"-\")","v":"-"},"-","-",null,null,null,null,null,null,null,null,null,{"$f":"IFERROR(MATCH(D89,Nr_stad!$U$8:$U$60,0),0)","v":0},0,{"$f":"IF(D89=\"\",\"-\",MATCH(D89,N_W_1_1_in!$K$6:$K$15,0))","v":"-"},{"$f":"OFFSET(N_W_1_1_in!$L$5,AE89,1)","v":{"$error":"#VALUE!"}},{"$f":"OFFSET(N_W_1_1_in!$L$5,AE89,2)","v":{"$error":"#VALUE!"}},{"$f":"OFFSET(N_W_1_1_in!$L$5,AE89,3)","v":{"$error":"#VALUE!"}},{"$error":"#VALUE!"},{"$error":"#VALUE!"},{"$error":"#VALUE!"},{"$error":"#VALUE!"},{"$error":"#VALUE!"},{"$error":"#VALUE!"},{"$error":"#VALUE!"},{"$f":"IFERROR(OFFSET(N_W_1_1_in!$L$5,AE89,0),\"\")","v":""},{"$error":"#VALUE!"},{"$f":"IFERROR(OFFSET(N_W_1_1_in!$P$5,AE89,2),0)","v":0},{"$f":"IFERROR(IF(S89>5,OFFSET(N_W_1_1_in!$P$5,AE89,4),OFFSET(N_W_1_1_in!$P$5,AE89,3)),0)","v":0}]
[null,null,null,null,null,null,null,null,null,null,null,0,null,null,0,"-",{"$f":"IFERROR(OFFSET(N_W_1_1_in!$P$5,AE90,0),\"-\")","v":"-"},"-","-",null,null,null,null,null,null,null,null,null,{"$f":"IFERROR(MATCH(D90,Nr_stad!$U$8:$U$60,0),0)","v":0},0,{"$f":"IF(D90=\"\",\"-\",MATCH(D90,N_W_1_1_in!$K$6:$K$15,0))","v":"-"},{"$f":"OFFSET(N_W_1_1_in!$L$5,AE90,1)","v":{"$error":"#VALUE!"}},{"$f":"OFFSET(N_W_1_1_in!$L$5,AE90,2)","v":{"$error":"#VALUE!"}},{"$f":"OFFSET(N_W_1_1_in!$L$5,AE90,3)","v":{"$error":"#VALUE!"}},{"$error":"#VALUE!"},{"$error":"#VALUE!"},{"$error":"#VALUE!"},{"$error":"#VALUE!"},{"$error":"#VALUE!"},{"$error":"#VALUE!"},{"$error":"#VALUE!"},{"$f":"IFERROR(OFFSET(N_W_1_1_in!$L$5,AE90,0),\"\")","v":""},{"$error":"#VALUE!"},{"$f":"IFERROR(OFFSET(N_W_1_1_in!$P$5,AE90,2),0)","v":0},{"$f":"IFERROR(IF(S90>5,OFFSET(N_W_1_1_in!$P$5,AE90,4),OFFSET(N_W_1_1_in!$P$5,AE90,3)),0)","v":0}]
[null,null,null,null,null,null,null,null,null,null,null,0,null,null,0,"-",{"$f":"IFERROR(OFFSET(N_W_1_1_in!$P$5,AE91,0),\"-\")","v":"-"},"-","-",null,null,null,null,null,null,null,null,null,{"$f":"IFERROR(MATCH(D91,Nr_stad!$U$8:$U$60,0),0)","v":0},0,{"$f":"IF(D91=\"\",\"-\",MATCH(D91,N_W_1_1_in!$K$6:$K$15,0))","v":"-"},{"$f":"OFFSET(N_W_1_1_in!$L$5,AE91,1)","v":{"$error":"#VALUE!"}},{"$f":"OFFSET(N_W_1_1_in!$L$5,AE91,2)","v":{"$error":"#VALUE!"}},{"$f":"OFFSET(N_W_1_1_in!$L$5,AE91,3)","v":{"$error":"#VALUE!"}},{"$error":"#VALUE!"},{"$error":"#VALUE!"},{"$error":"#VALUE!"},{"$error":"#VALUE!"},{"$error":"#VALUE!"},{"$error":"#VALUE!"},{"$error":"#VALUE!"},{"$f":"IFERROR(OFFSET(N_W_1_1_in!$L$5,AE91,0),\"\")","v":""},{"$error":"#VALUE!"},{"$f":"IFERROR(OFFSET(N_W_1_1_in!$P$5,AE91,2),0)","v":0},{"$f":"IFERROR(IF(S91>5,OFFSET(N_W_1_1_in!$P$5,AE91,4),OFFSET(N_W_1_1_in!$P$5,AE91,3)),0)","v":0}]
[null,null,null,null,null,null,null,null,null,null,null,0,null,null,0,"-",{"$f":"IFERROR(OFFSET(N_W_1_1_in!$P$5,AE92,0),\"-\")","v":"-"},"-","-",null,null,null,null,null,null,null,null,null,{"$f":"IFERROR(MATCH(D92,Nr_stad!$U$8:$U$60,0),0)","v":0},0,{"$f":"IF(D92=\"\",\"-\",MATCH(D92,N_W_1_1_in!$K$6:$K$15,0))","v":"-"},{"$f":"OFFSET(N_W_1_1_in!$L$5,AE92,1)","v":{"$error":"#VALUE!"}},{"$f":"OFFSET(N_W_1_1_in!$L$5,AE92,2)","v":{"$error":"#VALUE!"}},{"$f":"OFFSET(N_W_1_1_in!$L$5,AE92,3)","v":{"$error":"#VALUE!"}},{"$error":"#VALUE!"},{"$error":"#VALUE!"},{"$error":"#VALUE!"},{"$error":"#VALUE!"},{"$error":"#VALUE!"},{"$error":"#VALUE!"},{"$error":"#VALUE!"},{"$f":"IFERROR(OFFSET(N_W_1_1_in!$L$5,AE92,0),\"\")","v":""},{"$error":"#VALUE!"},{"$f":"IFERROR(OFFSET(N_W_1_1_in!$P$5,AE92,2),0)","v":0},{"$f":"IFERROR(IF(S92>5,OFFSET(N_W_1_1_in!$P$5,AE92,4),OFFSET(N_W_1_1_in!$P$5,AE92,3)),0)","v":0}]
[null,null,null,null,null,null,null,null,null,null,null,0,null,null,0,"-",{"$f":"IFERROR(OFFSET(N_W_1_1_in!$P$5,AE93,0),\"-\")","v":"-"},"-","-",null,null,null,null,null,null,null,null,null,{"$f":"IFERROR(MATCH(D93,Nr_stad!$U$8:$U$60,0),0)","v":0},0,{"$f":"IF(D93=\"\",\"-\",MATCH(D93,N_W_1_1_in!$K$6:$K$15,0))","v":"-"},{"$f":"OFFSET(N_W_1_1_in!$L$5,AE93,1)","v":{"$error":"#VALUE!"}},{"$f":"OFFSET(N_W_1_1_in!$L$5,AE93,2)","v":{"$error":"#VALUE!"}},{"$f":"OFFSET(N_W_1_1_in!$L$5,AE93,3)","v":{"$error":"#VALUE!"}},{"$error":"#VALUE!"},{"$error":"#VALUE!"},{"$error":"#VALUE!"},{"$error":"#VALUE!"},{"$error":"#VALUE!"},{"$error":"#VALUE!"},{"$error":"#VALUE!"},{"$f":"IFERROR(OFFSET(N_W_1_1_in!$L$5,AE93,0),\"\")","v":""},{"$error":"#VALUE!"},{"$f":"IFERROR(OFFSET(N_W_1_1_in!$P$5,AE93,2),0)","v":0},{"$f":"IFERROR(IF(S93>5,OFFSET(N_W_1_1_in!$P$5,AE93,4),OFFSET(N_W_1_1_in!$P$5,AE93,3)),0)","v":0}]
[null,null,null,null,null,null,null,null,null,null,null,0,null,null,0,"-",{"$f":"IFERROR(OFFSET(N_W_1_1_in!$P$5,AE94,0),\"-\")","v":"-"},"-","-",null,null,null,null,null,null,null,null,null,{"$f":"IFERROR(MATCH(D94,Nr_stad!$U$8:$U$60,0),0)","v":0},0,{"$f":"IF(D94=\"\",\"-\",MATCH(D94,N_W_1_1_in!$K$6:$K$15,0))","v":"-"},{"$f":"OFFSET(N_W_1_1_in!$L$5,AE94,1)","v":{"$error":"#VALUE!"}},{"$f":"OFFSET(N_W_1_1_in!$L$5,AE94,2)","v":{"$error":"#VALUE!"}},{"$f":"OFFSET(N_W_1_1_in!$L$5,AE94,3)","v":{"$error":"#VALUE!"}},{"$error":"#VALUE!"},{"$error":"#VALUE!"},{"$error":"#VALUE!"},{"$error":"#VALUE!"},{"$error":"#VALUE!"},{"$error":"#VALUE!"},{"$error":"#VALUE!"},{"$f":"IFERROR(OFFSET(N_W_1_1_in!$L$5,AE94,0),\"\")","v":""},{"$error":"#VALUE!"},{"$f":"IFERROR(OFFSET(N_W_1_1_in!$P$5,AE94,2),0)","v":0},{"$f":"IFERROR(IF(S94>5,OFFSET(N_W_1_1_in!$P$5,AE94,4),OFFSET(N_W_1_1_in!$P$5,AE94,3)),0)","v":0}]
[null,null,null,null,null,null,null,null,null,null,null,0,null,null,0,"-",{"$f":"IFERROR(OFFSET(N_W_1_1_in!$P$5,AE95,0),\"-\")","v":"-"},"-","-",null,null,null,null,null,null,null,null,null,{"$f":"IFERROR(MATCH(D95,Nr_stad!$U$8:$U$60,0),0)","v":0},0,{"$f":"IF(D95=\"\",\"-\",MATCH(D95,N_W_1_1_in!$K$6:$K$15,0))","v":"-"},{"$f":"OFFSET(N_W_1_1_in!$L$5,AE95,1)","v":{"$error":"#VALUE!"}},{"$f":"OFFSET(N_W_1_1_in!$L$5,AE95,2)","v":{"$error":"#VALUE!"}},{"$f":"OFFSET(N_W_1_1_in!$L$5,AE95,3)","v":{"$error":"#VALUE!"}},{"$error":"#VALUE!"},{"$error":"#VALUE!"},{"$error":"#VALUE!"},{"$error":"#VALUE!"},{"$error":"#VALUE!"},{"$error":"#VALUE!"},{"$error":"#VALUE!"},{"$f":"IFERROR(OFFSET(N_W_1_1_in!$L$5,AE95,0),\"\")","v":""},{"$error":"#VALUE!"},{"$f":"IFERROR(OFFSET(N_W_1_1_in!$P$5,AE95,2),0)","v":0},{"$f":"IFERROR(IF(S95>5,OFFSET(N_W_1_1_in!$P$5,AE95,4),OFFSET(N_W_1_1_in!$P$5,AE95,3)),0)","v":0}]
[null,null,null,null,null,null,null,null,null,null,null,0,null,null,0,"-",{"$f":"IFERROR(OFFSET(N_W_1_1_in!$P$5,AE96,0),\"-\")","v":"-"},"-","-",null,null,null,null,null,null,null,null,null,{"$f":"IFERROR(MATCH(D96,Nr_stad!$U$8:$U$60,0),0)","v":0},0,{"$f":"IF(D96=\"\",\"-\",MATCH(D96,N_W_1_1_in!$K$6:$K$15,0))","v":"-"},{"$f":"OFFSET(N_W_1_1_in!$L$5,AE96,1)","v":{"$error":"#VALUE!"}},{"$f":"OFFSET(N_W_1_1_in!$L$5,AE96,2)","v":{"$error":"#VALUE!"}},{"$f":"OFFSET(N_W_1_1_in!$L$5,AE96,3)","v":{"$error":"#VALUE!"}},{"$error":"#VALUE!"},{"$error":"#VALUE!"},{"$error":"#VALUE!"},{"$error":"#VALUE!"},{"$error":"#VALUE!"},{"$error":"#VALUE!"},{"$error":"#VALUE!"},{"$f":"IFERROR(OFFSET(N_W_1_1_in!$L$5,AE96,0),\"\")","v":""},{"$error":"#VALUE!"},{"$f":"IFERROR(OFFSET(N_W_1_1_in!$P$5,AE96,2),0)","v":0},{"$f":"IFERROR(IF(S96>5,OFFSET(N_W_1_1_in!$P$5,AE96,4),OFFSET(N_W_1_1_in!$P$5,AE96,3)),0)","v":0}]
[null,null,null,null,null,null,null,null,null,null,null,0,null,null,0,"-",{"$f":"IFERROR(OFFSET(N_W_1_1_in!$P$5,AE97,0),\"-\")","v":"-"},"-","-",null,null,null,null,null,null,null,null,null,{"$f":"IFERROR(MATCH(D97,Nr_stad!$U$8:$U$60,0),0)","v":0},0,{"$f":"IF(D97=\"\",\"-\",MATCH(D97,N_W_1_1_in!$K$6:$K$15,0))","v":"-"},{"$f":"OFFSET(N_W_1_1_in!$L$5,AE97,1)","v":{"$error":"#VALUE!"}},{"$f":"OFFSET(N_W_1_1_in!$L$5,AE97,2)","v":{"$error":"#VALUE!"}},{"$f":"OFFSET(N_W_1_1_in!$L$5,AE97,3)","v":{"$error":"#VALUE!"}},{"$error":"#VALUE!"},{"$error":"#VALUE!"},{"$error":"#VALUE!"},{"$error":"#VALUE!"},{"$error":"#VALUE!"},{"$error":"#VALUE!"},{"$error":"#VALUE!"},{"$f":"IFERROR(OFFSET(N_W_1_1_in!$L$5,AE97,0),\"\")","v":""},{"$error":"#VALUE!"},{"$f":"IFERROR(OFFSET(N_W_1_1_in!$P$5,AE97,2),0)","v":0},{"$f":"IFERROR(IF(S97>5,OFFSET(N_W_1_1_in!$P$5,AE97,4),OFFSET(N_W_1_1_in!$P$5,AE97,3)),0)","v":0}]
[null,null,null,null,null,null,null,null,null,null,null,0,null,null,0,"-",{"$f":"IFERROR(OFFSET(N_W_1_1_in!$P$5,AE98,0),\"-\")","v":"-"},"-","-",null,null,null,null,null,null,null,null,null,{"$f":"IFERROR(MATCH(D98,Nr_stad!$U$8:$U$60,0),0)","v":0},0,{"$f":"IF(D98=\"\",\"-\",MATCH(D98,N_W_1_1_in!$K$6:$K$15,0))","v":"-"},{"$f":"OFFSET(N_W_1_1_in!$L$5,AE98,1)","v":{"$error":"#VALUE!"}},{"$f":"OFFSET(N_W_1_1_in!$L$5,AE98,2)","v":{"$error":"#VALUE!"}},{"$f":"OFFSET(N_W_1_1_in!$L$5,AE98,3)","v":{"$error":"#VALUE!"}},{"$error":"#VALUE!"},{"$error":"#VALUE!"},{"$error":"#VALUE!"},{"$error":"#VALUE!"},{"$error":"#VALUE!"},{"$error":"#VALUE!"},{"$error":"#VALUE!"},{"$f":"IFERROR(OFFSET(N_W_1_1_in!$L$5,AE98,0),\"\")","v":""},{"$error":"#VALUE!"},{"$f":"IFERROR(OFFSET(N_W_1_1_in!$P$5,AE98,2),0)","v":0},{"$f":"IFERROR(IF(S98>5,OFFSET(N_W_1_1_in!$P$5,AE98,4),OFFSET(N_W_1_1_in!$P$5,AE98,3)),0)","v":0}]
[null,null,null,null,null,null,null,null,null,null,null,0,null,null,0,"-",{"$f":"IFERROR(OFFSET(N_W_1_1_in!$P$5,AE99,0),\"-\")","v":"-"},"-","-",null,null,null,null,null,null,null,null,null,{"$f":"IFERROR(MATCH(D99,Nr_stad!$U$8:$U$60,0),0)","v":0},0,{"$f":"IF(D99=\"\",\"-\",MATCH(D99,N_W_1_1_in!$K$6:$K$15,0))","v":"-"},{"$f":"OFFSET(N_W_1_1_in!$L$5,AE99,1)","v":{"$error":"#VALUE!"}},{"$f":"OFFSET(N_W_1_1_in!$L$5,AE99,2)","v":{"$error":"#VALUE!"}},{"$f":"OFFSET(N_W_1_1_in!$L$5,AE99,3)","v":{"$error":"#VALUE!"}},{"$error":"#VALUE!"},{"$error":"#VALUE!"},{"$error":"#VALUE!"},{"$error":"#VALUE!"},{"$error":"#VALUE!"},{"$error":"#VALUE!"},{"$error":"#VALUE!"},{"$f":"IFERROR(OFFSET(N_W_1_1_in!$L$5,AE99,0),\"\")","v":""},{"$error":"#VALUE!"},{"$f":"IFERROR(OFFSET(N_W_1_1_in!$P$5,AE99,2),0)","v":0},{"$f":"IFERROR(IF(S99>5,OFFSET(N_W_1_1_in!$P$5,AE99,4),OFFSET(N_W_1_1_in!$P$5,AE99,3)),0)","v":0}]
[null,null,null,null,null,null,null,null,null,null,null,0,null,null,0,"-",{"$f":"IFERROR(OFFSET(N_W_1_1_in!$P$5,AE100,0),\"-\")","v":"-"},"-","-",null,null,null,null,null,null,null,null,null,{"$f":"IFERROR(MATCH(D100,Nr_stad!$U$8:$U$60,0),0)","v":0},0,{"$f":"IF(D100=\"\",\"-\",MATCH(D100,N_W_1_1_in!$K$6:$K$15,0))","v":"-"},{"$f":"OFFSET(N_W_1_1_in!$L$5,AE100,1)","v":{"$error":"#VALUE!"}},{"$f":"OFFSET(N_W_1_1_in!$L$5,AE100,2)","v":{"$error":"#VALUE!"}},{"$f":"OFFSET(N_W_1_1_in!$L$5,AE100,3)","v":{"$error":"#VALUE!"}},{"$error":"#VALUE!"},{"$error":"#VALUE!"},{"$error":"#VALUE!"},{"$error":"#VALUE!"},{"$error":"#VALUE!"},{"$error":"#VALUE!"},{"$error":"#VALUE!"},{"$f":"IFERROR(OFFSET(N_W_1_1_in!$L$5,AE100,0),\"\")","v":""},{"$error":"#VALUE!"},{"$f":"IFERROR(OFFSET(N_W_1_1_in!$P$5,AE100,2),0)","v":0},{"$f":"IFERROR(IF(S100>5,OFFSET(N_W_1_1_in!$P$5,AE100,4),OFFSET(N_W_1_1_in!$P$5,AE100,3)),0)","v":0}]
[null,null,null,null,null,null,null,null,null,null,null,0,null,null,0,"-",{"$f":"IFERROR(OFFSET(N_W_1_1_in!$P$5,AE101,0),\"-\")","v":"-"},"-","-",null,null,null,null,null,null,null,null,null,{"$f":"IFERROR(MATCH(D101,Nr_stad!$U$8:$U$60,0),0)","v":0},0,{"$f":"IF(D101=\"\",\"-\",MATCH(D101,N_W_1_1_in!$K$6:$K$15,0))","v":"-"},{"$f":"OFFSET(N_W_1_1_in!$L$5,AE101,1)","v":{"$error":"#VALUE!"}},{"$f":"OFFSET(N_W_1_1_in!$L$5,AE101,2)","v":{"$error":"#VALUE!"}},{"$f":"OFFSET(N_W_1_1_in!$L$5,AE101,3)","v":{"$error":"#VALUE!"}},{"$error":"#VALUE!"},{"$error":"#VALUE!"},{"$error":"#VALUE!"},{"$error":"#VALUE!"},{"$error":"#VALUE!"},{"$error":"#VALUE!"},{"$error":"#VALUE!"},{"$f":"IFERROR(OFFSET(N_W_1_1_in!$L$5,AE101,0),\"\")","v":""},{"$error":"#VALUE!"},{"$f":"IFERROR(OFFSET(N_W_1_1_in!$P$5,AE101,2),0)","v":0},{"$f":"IFERROR(IF(S101>5,OFFSET(N_W_1_1_in!$P$5,AE101,4),OFFSET(N_W_1_1_in!$P$5,AE101,3)),0)","v":0}]
[null,null,null,null,null,null,null,null,null,null,null,0,null,null,0,"-",{"$f":"IFERROR(OFFSET(N_W_1_1_in!$P$5,AE102,0),\"-\")","v":"-"},"-","-",null,null,null,null,null,null,null,null,null,{"$f":"IFERROR(MATCH(D102,Nr_stad!$U$8:$U$60,0),0)","v":0},0,{"$f":"IF(D102=\"\",\"-\",MATCH(D102,N_W_1_1_in!$K$6:$K$15,0))","v":"-"},{"$f":"OFFSET(N_W_1_1_in!$L$5,AE102,1)","v":{"$error":"#VALUE!"}},{"$f":"OFFSET(N_W_1_1_in!$L$5,AE102,2)","v":{"$error":"#VALUE!"}},{"$f":"OFFSET(N_W_1_1_in!$L$5,AE102,3)","v":{"$error":"#VALUE!"}},{"$error":"#VALUE!"},{"$error":"#VALUE!"},{"$error":"#VALUE!"},{"$error":"#VALUE!"},{"$error":"#VALUE!"},{"$error":"#VALUE!"},{"$error":"#VALUE!"},{"$f":"IFERROR(OFFSET(N_W_1_1_in!$L$5,AE102,0),\"\")","v":""},{"$error":"#VALUE!"},{"$f":"IFERROR(OFFSET(N_W_1_1_in!$P$5,AE102,2),0)","v":0},{"$f":"IFERROR(IF(S102>5,OFFSET(N_W_1_1_in!$P$5,AE102,4),OFFSET(N_W_1_1_in!$P$5,AE102,3)),0)","v":0}]
[null,null,null,null,null,null,null,null,null,null,null,0,null,null,0,"-",{"$f":"IFERROR(OFFSET(N_W_1_1_in!$P$5,AE103,0),\"-\")","v":"-"},"-","-",null,null,null,null,null,null,null,null,null,{"$f":"IFERROR(MATCH(D103,Nr_stad!$U$8:$U$60,0),0)","v":0},0,{"$f":"IF(D103=\"\",\"-\",MATCH(D103,N_W_1_1_in!$K$6:$K$15,0))","v":"-"},{"$f":"OFFSET(N_W_1_1_in!$L$5,AE103,1)","v":{"$error":"#VALUE!"}},{"$f":"OFFSET(N_W_1_1_in!$L$5,AE103,2)","v":{"$error":"#VALUE!"}},{"$f":"OFFSET(N_W_1_1_in!$L$5,AE103,3)","v":{"$error":"#VALUE!"}},{"$error":"#VALUE!"},{"$error":"#VALUE!"},{"$error":"#VALUE!"},{"$error":"#VALUE!"},{"$error":"#VALUE!"},{"$error":"#VALUE!"},{"$error":"#VALUE!"},{"$f":"IFERROR(OFFSET(N_W_1_1_in!$L$5,AE103,0),\"\")","v":""},{"$error":"#VALUE!"},{"$f":"IFERROR(OFFSET(N_W_1_1_in!$P$5,AE103,2),0)","v":0},{"$f":"IFERROR(IF(S103>5,OFFSET(N_W_1_1_in!$P$5,AE103,4),OFFSET(N_W_1_1_in!$P$5,AE103,3)),0)","v":0}]
[null,null,null,null,null,null,null,null,null,null,null,0,null,null,0,"-",{"$f":"IFERROR(OFFSET(N_W_1_1_in!$P$5,AE104,0),\"-\")","v":"-"},"-","-",null,null,null,null,null,null,null,null,null,{"$f":"IFERROR(MATCH(D104,Nr_stad!$U$8:$U$60,0),0)","v":0},0,{"$f":"IF(D104=\"\",\"-\",MATCH(D104,N_W_1_1_in!$K$6:$K$15,0))","v":"-"},{"$f":"OFFSET(N_W_1_1_in!$L$5,AE104,1)","v":{"$error":"#VALUE!"}},{"$f":"OFFSET(N_W_1_1_in!$L$5,AE104,2)","v":{"$error":"#VALUE!"}},{"$f":"OFFSET(N_W_1_1_in!$L$5,AE104,3)","v":{"$error":"#VALUE!"}},{"$error":"#VALUE!"},{"$error":"#VALUE!"},{"$error":"#VALUE!"},{"$error":"#VALUE!"},{"$error":"#VALUE!"},{"$error":"#VALUE!"},{"$error":"#VALUE!"},{"$f":"IFERROR(OFFSET(N_W_1_1_in!$L$5,AE104,0),\"\")","v":""},{"$error":"#VALUE!"},{"$f":"IFERROR(OFFSET(N_W_1_1_in!$P$5,AE104,2),0)","v":0},{"$f":"IFERROR(IF(S104>5,OFFSET(N_W_1_1_in!$P$5,AE104,4),OFFSET(N_W_1_1_in!$P$5,AE104,3)),0)","v":0}]
[null,null,null,null,null,null,null,null,null,null,null,0,null,null,0,"-",{"$f":"IFERROR(OFFSET(N_W_1_1_in!$P$5,AE105,0),\"-\")","v":"-"},"-","-",null,null,null,null,null,null,null,null,null,{"$f":"IFERROR(MATCH(D105,Nr_stad!$U$8:$U$60,0),0)","v":0},0,{"$f":"IF(D105=\"\",\"-\",MATCH(D105,N_W_1_1_in!$K$6:$K$15,0))","v":"-"},{"$f":"OFFSET(N_W_1_1_in!$L$5,AE105,1)","v":{"$error":"#VALUE!"}},{"$f":"OFFSET(N_W_1_1_in!$L$5,AE105,2)","v":{"$error":"#VALUE!"}},{"$f":"OFFSET(N_W_1_1_in!$L$5,AE105,3)","v":{"$error":"#VALUE!"}},{"$error":"#VALUE!"},{"$error":"#VALUE!"},{"$error":"#VALUE!"},{"$error":"#VALUE!"},{"$error":"#VALUE!"},{"$error":"#VALUE!"},{"$error":"#VALUE!"},{"$f":"IFERROR(OFFSET(N_W_1_1_in!$L$5,AE105,0),\"\")","v":""},{"$error":"#VALUE!"},{"$f":"IFERROR(OFFSET(N_W_1_1_in!$P$5,AE105,2),0)","v":0},{"$f":"IFERROR(IF(S105>5,OFFSET(N_W_1_1_in!$P$5,AE105,4),OFFSET(N_W_1_1_in!$P$5,AE105,3)),0)","v":0}]
[null,null,null,null,null,null,null,null,null,null,null,0,null,null,0,"-",{"$f":"IFERROR(OFFSET(N_W_1_1_in!$P$5,AE106,0),\"-\")","v":"-"},"-","-",null,null,null,null,null,null,null,null,null,{"$f":"IFERROR(MATCH(D106,Nr_stad!$U$8:$U$60,0),0)","v":0},0,{"$f":"IF(D106=\"\",\"-\",MATCH(D106,N_W_1_1_in!$K$6:$K$15,0))","v":"-"},{"$f":"OFFSET(N_W_1_1_in!$L$5,AE106,1)","v":{"$error":"#VALUE!"}},{"$f":"OFFSET(N_W_1_1_in!$L$5,AE106,2)","v":{"$error":"#VALUE!"}},{"$f":"OFFSET(N_W_1_1_in!$L$5,AE106,3)","v":{"$error":"#VALUE!"}},{"$error":"#VALUE!"},{"$error":"#VALUE!"},{"$error":"#VALUE!"},{"$error":"#VALUE!"},{"$error":"#VALUE!"},{"$error":"#VALUE!"},{"$error":"#VALUE!"},{"$f":"IFERROR(OFFSET(N_W_1_1_in!$L$5,AE106,0),\"\")","v":""},{"$error":"#VALUE!"},{"$f":"IFERROR(OFFSET(N_W_1_1_in!$P$5,AE106,2),0)","v":0},{"$f":"IFERROR(IF(S106>5,OFFSET(N_W_1_1_in!$P$5,AE106,4),OFFSET(N_W_1_1_in!$P$5,AE106,3)),0)","v":0}]
[null,null,null,null,null,null,null,null,null,null,null,0,null,null,0,"-",{"$f":"IFERROR(OFFSET(N_W_1_1_in!$P$5,AE107,0),\"-\")","v":"-"},"-","-",null,null,null,null,null,null,null,null,null,{"$f":"IFERROR(MATCH(D107,Nr_stad!$U$8:$U$60,0),0)","v":0},0,{"$f":"IF(D107=\"\",\"-\",MATCH(D107,N_W_1_1_in!$K$6:$K$15,0))","v":"-"},{"$f":"OFFSET(N_W_1_1_in!$L$5,AE107,1)","v":{"$error":"#VALUE!"}},{"$f":"OFFSET(N_W_1_1_in!$L$5,AE107,2)","v":{"$error":"#VALUE!"}},{"$f":"OFFSET(N_W_1_1_in!$L$5,AE107,3)","v":{"$error":"#VALUE!"}},{"$error":"#VALUE!"},{"$error":"#VALUE!"},{"$error":"#VALUE!"},{"$error":"#VALUE!"},{"$error":"#VALUE!"},{"$error":"#VALUE!"},{"$error":"#VALUE!"},{"$f":"IFERROR(OFFSET(N_W_1_1_in!$L$5,AE107,0),\"\")","v":""},{"$error":"#VALUE!"},{"$f":"IFERROR(OFFSET(N_W_1_1_in!$P$5,AE107,2),0)","v":0},{"$f":"IFERROR(IF(S107>5,OFFSET(N_W_1_1_in!$P$5,AE107,4),OFFSET(N_W_1_1_in!$P$5,AE107,3)),0)","v":0}]
[null,null,null,null,null,null,null,null,null,null,null,0,null,null,0,"-",{"$f":"IFERROR(OFFSET(N_W_1_1_in!$P$5,AE108,0),\"-\")","v":"-"},"-","-",null,null,null,null,null,null,null,null,null,{"$f":"IFERROR(MATCH(D108,Nr_stad!$U$8:$U$60,0),0)","v":0},0,{"$f":"IF(D108=\"\",\"-\",MATCH(D108,N_W_1_1_in!$K$6:$K$15,0))","v":"-"},{"$f":"OFFSET(N_W_1_1_in!$L$5,AE108,1)","v":{"$error":"#VALUE!"}},{"$f":"OFFSET(N_W_1_1_in!$L$5,AE108,2)","v":{"$error":"#VALUE!"}},{"$f":"OFFSET(N_W_1_1_in!$L$5,AE108,3)","v":{"$error":"#VALUE!"}},{"$error":"#VALUE!"},{"$error":"#VALUE!"},{"$error":"#VALUE!"},{"$error":"#VALUE!"},{"$error":"#VALUE!"},{"$error":"#VALUE!"},{"$error":"#VALUE!"},{"$f":"IFERROR(OFFSET(N_W_1_1_in!$L$5,AE108,0),\"\")","v":""},{"$error":"#VALUE!"},{"$f":"IFERROR(OFFSET(N_W_1_1_in!$P$5,AE108,2),0)","v":0},{"$f":"IFERROR(IF(S108>5,OFFSET(N_W_1_1_in!$P$5,AE108,4),OFFSET(N_W_1_1_in!$P$5,AE108,3)),0)","v":0}]
[null,null,null,null,null,null,null,null,null,null,null,0,null,null,0,"-",{"$f":"IFERROR(OFFSET(N_W_1_1_in!$P$5,AE109,0),\"-\")","v":"-"},"-","-",null,null,null,null,null,null,null,null,null,{"$f":"IFERROR(MATCH(D109,Nr_stad!$U$8:$U$60,0),0)","v":0},0,{"$f":"IF(D109=\"\",\"-\",MATCH(D109,N_W_1_1_in!$K$6:$K$15,0))","v":"-"},{"$f":"OFFSET(N_W_1_1_in!$L$5,AE109,1)","v":{"$error":"#VALUE!"}},{"$f":"OFFSET(N_W_1_1_in!$L$5,AE109,2)","v":{"$error":"#VALUE!"}},{"$f":"OFFSET(N_W_1_1_in!$L$5,AE109,3)","v":{"$error":"#VALUE!"}},{"$error":"#VALUE!"},{"$error":"#VALUE!"},{"$error":"#VALUE!"},{"$error":"#VALUE!"},{"$error":"#VALUE!"},{"$error":"#VALUE!"},{"$error":"#VALUE!"},{"$f":"IFERROR(OFFSET(N_W_1_1_in!$L$5,AE109,0),\"\")","v":""},{"$error":"#VALUE!"},{"$f":"IFERROR(OFFSET(N_W_1_1_in!$P$5,AE109,2),0)","v":0},{"$f":"IFERROR(IF(S109>5,OFFSET(N_W_1_1_in!$P$5,AE109,4),OFFSET(N_W_1_1_in!$P$5,AE109,3)),0)","v":0}]
[null,null,null,null,null,null,null,null,null,null,null,0,null,null,0,"-",{"$f":"IFERROR(OFFSET(N_W_1_1_in!$P$5,AE110,0),\"-\")","v":"-"},"-","-",null,null,null,null,null,null,null,null,null,{"$f":"IFERROR(MATCH(D110,Nr_stad!$U$8:$U$60,0),0)","v":0},0,{"$f":"IF(D110=\"\",\"-\",MATCH(D110,N_W_1_1_in!$K$6:$K$15,0))","v":"-"},{"$f":"OFFSET(N_W_1_1_in!$L$5,AE110,1)","v":{"$error":"#VALUE!"}},{"$f":"OFFSET(N_W_1_1_in!$L$5,AE110,2)","v":{"$error":"#VALUE!"}},{"$f":"OFFSET(N_W_1_1_in!$L$5,AE110,3)","v":{"$error":"#VALUE!"}},{"$error":"#VALUE!"},{"$error":"#VALUE!"},{"$error":"#VALUE!"},{"$error":"#VALUE!"},{"$error":"#VALUE!"},{"$error":"#VALUE!"},{"$error":"#VALUE!"},{"$f":"IFERROR(OFFSET(N_W_1_1_in!$L$5,AE110,0),\"\")","v":""},{"$error":"#VALUE!"},{"$f":"IFERROR(OFFSET(N_W_1_1_in!$P$5,AE110,2),0)","v":0},{"$f":"IFERROR(IF(S110>5,OFFSET(N_W_1_1_in!$P$5,AE110,4),OFFSET(N_W_1_1_in!$P$5,AE110,3)),0)","v":0}]
[null,null,null,null,null,null,null,null,null,null,null,0,null,null,0,"-",{"$f":"IFERROR(OFFSET(N_W_1_1_in!$P$5,AE111,0),\"-\")","v":"-"},"-","-",null,null,null,null,null,null,null,null,null,{"$f":"IFERROR(MATCH(D111,Nr_stad!$U$8:$U$60,0),0)","v":0},0,{"$f":"IF(D111=\"\",\"-\",MATCH(D111,N_W_1_1_in!$K$6:$K$15,0))","v":"-"},{"$f":"OFFSET(N_W_1_1_in!$L$5,AE111,1)","v":{"$error":"#VALUE!"}},{"$f":"OFFSET(N_W_1_1_in!$L$5,AE111,2)","v":{"$error":"#VALUE!"}},{"$f":"OFFSET(N_W_1_1_in!$L$5,AE111,3)","v":{"$error":"#VALUE!"}},{"$error":"#VALUE!"},{"$error":"#VALUE!"},{"$error":"#VALUE!"},{"$error":"#VALUE!"},{"$error":"#VALUE!"},{"$error":"#VALUE!"},{"$error":"#VALUE!"},{"$f":"IFERROR(OFFSET(N_W_1_1_in!$L$5,AE111,0),\"\")","v":""},{"$error":"#VALUE!"},{"$f":"IFERROR(OFFSET(N_W_1_1_in!$P$5,AE111,2),0)","v":0},{"$f":"IFERROR(IF(S111>5,OFFSET(N_W_1_1_in!$P$5,AE111,4),OFFSET(N_W_1_1_in!$P$5,AE111,3)),0)","v":0}]
[null,null,null,null,null,null,null,null,null,null,null,0,null,null,0,"-",{"$f":"IFERROR(OFFSET(N_W_1_1_in!$P$5,AE112,0),\"-\")","v":"-"},"-","-",null,null,null,null,null,null,null,null,null,{"$f":"IFERROR(MATCH(D112,Nr_stad!$U$8:$U$60,0),0)","v":0},0,{"$f":"IF(D112=\"\",\"-\",MATCH(D112,N_W_1_1_in!$K$6:$K$15,0))","v":"-"},{"$f":"OFFSET(N_W_1_1_in!$L$5,AE112,1)","v":{"$error":"#VALUE!"}},{"$f":"OFFSET(N_W_1_1_in!$L$5,AE112,2)","v":{"$error":"#VALUE!"}},{"$f":"OFFSET(N_W_1_1_in!$L$5,AE112,3)","v":{"$error":"#VALUE!"}},{"$error":"#VALUE!"},{"$error":"#VALUE!"},{"$error":"#VALUE!"},{"$error":"#VALUE!"},{"$error":"#VALUE!"},{"$error":"#VALUE!"},{"$error":"#VALUE!"},{"$f":"IFERROR(OFFSET(N_W_1_1_in!$L$5,AE112,0),\"\")","v":""},{"$error":"#VALUE!"},{"$f":"IFERROR(OFFSET(N_W_1_1_in!$P$5,AE112,2),0)","v":0},{"$f":"IFERROR(IF(S112>5,OFFSET(N_W_1_1_in!$P$5,AE112,4),OFFSET(N_W_1_1_in!$P$5,AE112,3)),0)","v":0}]
[null,null,null,null,null,null,null,null,null,null,null,0,null,null,0,"-",{"$f":"IFERROR(OFFSET(N_W_1_1_in!$P$5,AE113,0),\"-\")","v":"-"},"-","-",null,null,null,null,null,null,null,null,null,{"$f":"IFERROR(MATCH(D113,Nr_stad!$U$8:$U$60,0),0)","v":0},0,{"$f":"IF(D113=\"\",\"-\",MATCH(D113,N_W_1_1_in!$K$6:$K$15,0))","v":"-"},{"$f":"OFFSET(N_W_1_1_in!$L$5,AE113,1)","v":{"$error":"#VALUE!"}},{"$f":"OFFSET(N_W_1_1_in!$L$5,AE113,2)","v":{"$error":"#VALUE!"}},{"$f":"OFFSET(N_W_1_1_in!$L$5,AE113,3)","v":{"$error":"#VALUE!"}},{"$error":"#VALUE!"},{"$error":"#VALUE!"},{"$error":"#VALUE!"},{"$error":"#VALUE!"},{"$error":"#VALUE!"},{"$error":"#VALUE!"},{"$error":"#VALUE!"},{"$f":"IFERROR(OFFSET(N_W_1_1_in!$L$5,AE113,0),\"\")","v":""},{"$error":"#VALUE!"},{"$f":"IFERROR(OFFSET(N_W_1_1_in!$P$5,AE113,2),0)","v":0},{"$f":"IFERROR(IF(S113>5,OFFSET(N_W_1_1_in!$P$5,AE113,4),OFFSET(N_W_1_1_in!$P$5,AE113,3)),0)","v":0}]
[null,null,null,null,null,null,null,null,null,null,null,0,null,null,0,"-",{"$f":"IFERROR(OFFSET(N_W_1_1_in!$P$5,AE114,0),\"-\")","v":"-"},"-","-",null,null,null,null,null,null,null,null,null,{"$f":"IFERROR(MATCH(D114,Nr_stad!$U$8:$U$60,0),0)","v":0},0,{"$f":"IF(D114=\"\",\"-\",MATCH(D114,N_W_1_1_in!$K$6:$K$15,0))","v":"-"},{"$f":"OFFSET(N_W_1_1_in!$L$5,AE114,1)","v":{"$error":"#VALUE!"}},{"$f":"OFFSET(N_W_1_1_in!$L$5,AE114,2)","v":{"$error":"#VALUE!"}},{"$f":"OFFSET(N_W_1_1_in!$L$5,AE114,3)","v":{"$error":"#VALUE!"}},{"$error":"#VALUE!"},{"$error":"#VALUE!"},{"$error":"#VALUE!"},{"$error":"#VALUE!"},{"$error":"#VALUE!"},{"$error":"#VALUE!"},{"$error":"#VALUE!"},{"$f":"IFERROR(OFFSET(N_W_1_1_in!$L$5,AE114,0),\"\")","v":""},{"$error":"#VALUE!"},{"$f":"IFERROR(OFFSET(N_W_1_1_in!$P$5,AE114,2),0)","v":0},{"$f":"IFERROR(IF(S114>5,OFFSET(N_W_1_1_in!$P$5,AE114,4),OFFSET(N_W_1_1_in!$P$5,AE114,3)),0)","v":0}]
[null,null,null,null,null,null,null,null,null,null,null,0,null,null,0,"-",{"$f":"IFERROR(OFFSET(N_W_1_1_in!$P$5,AE115,0),\"-\")","v":"-"},"-","-",null,null,null,null,null,null,null,null,null,{"$f":"IFERROR(MATCH(D115,Nr_stad!$U$8:$U$60,0),0)","v":0},0,{"$f":"IF(D115=\"\",\"-\",MATCH(D115,N_W_1_1_in!$K$6:$K$15,0))","v":"-"},{"$f":"OFFSET(N_W_1_1_in!$L$5,AE115,1)","v":{"$error":"#VALUE!"}},{"$f":"OFFSET(N_W_1_1_in!$L$5,AE115,2)","v":{"$error":"#VALUE!"}},{"$f":"OFFSET(N_W_1_1_in!$L$5,AE115,3)","v":{"$error":"#VALUE!"}},{"$error":"#VALUE!"},{"$error":"#VALUE!"},{"$error":"#VALUE!"},{"$error":"#VALUE!"},{"$error":"#VALUE!"},{"$error":"#VALUE!"},{"$error":"#VALUE!"},{"$f":"IFERROR(OFFSET(N_W_1_1_in!$L$5,AE115,0),\"\")","v":""},{"$error":"#VALUE!"},{"$f":"IFERROR(OFFSET(N_W_1_1_in!$P$5,AE115,2),0)","v":0},{"$f":"IFERROR(IF(S115>5,OFFSET(N_W_1_1_in!$P$5,AE115,4),OFFSET(N_W_1_1_in!$P$5,AE115,3)),0)","v":0}]
[null,null,null,null,null,null,null,null,null,null,null,0,null,null,0,"-",{"$f":"IFERROR(OFFSET(N_W_1_1_in!$P$5,AE116,0),\"-\")","v":"-"},"-","-",null,null,null,null,null,null,null,null,null,{"$f":"IFERROR(MATCH(D116,Nr_stad!$U$8:$U$60,0),0)","v":0},0,{"$f":"IF(D116=\"\",\"-\",MATCH(D116,N_W_1_1_in!$K$6:$K$15,0))","v":"-"},{"$f":"OFFSET(N_W_1_1_in!$L$5,AE116,1)","v":{"$error":"#VALUE!"}},{"$f":"OFFSET(N_W_1_1_in!$L$5,AE116,2)","v":{"$error":"#VALUE!"}},{"$f":"OFFSET(N_W_1_1_in!$L$5,AE116,3)","v":{"$error":"#VALUE!"}},{"$error":"#VALUE!"},{"$error":"#VALUE!"},{"$error":"#VALUE!"},{"$error":"#VALUE!"},{"$error":"#VALUE!"},{"$error":"#VALUE!"},{"$error":"#VALUE!"},{"$f":"IFERROR(OFFSET(N_W_1_1_in!$L$5,AE116,0),\"\")","v":""},{"$error":"#VALUE!"},{"$f":"IFERROR(OFFSET(N_W_1_1_in!$P$5,AE116,2),0)","v":0},{"$f":"IFERROR(IF(S116>5,OFFSET(N_W_1_1_in!$P$5,AE116,4),OFFSET(N_W_1_1_in!$P$5,AE116,3)),0)","v":0}]
[null,null,null,null,null,null,null,null,null,null,null,0,null,null,0,"-",{"$f":"IFERROR(OFFSET(N_W_1_1_in!$P$5,AE117,0),\"-\")","v":"-"},"-","-",null,null,null,null,null,null,null,null,null,{"$f":"IFERROR(MATCH(D117,Nr_stad!$U$8:$U$60,0),0)","v":0},0,{"$f":"IF(D117=\"\",\"-\",MATCH(D117,N_W_1_1_in!$K$6:$K$15,0))","v":"-"},{"$f":"OFFSET(N_W_1_1_in!$L$5,AE117,1)","v":{"$error":"#VALUE!"}},{"$f":"OFFSET(N_W_1_1_in!$L$5,AE117,2)","v":{"$error":"#VALUE!"}},{"$f":"OFFSET(N_W_1_1_in!$L$5,AE117,3)","v":{"$error":"#VALUE!"}},{"$error":"#VALUE!"},{"$error":"#VALUE!"},{"$error":"#VALUE!"},{"$error":"#VALUE!"},{"$error":"#VALUE!"},{"$error":"#VALUE!"},{"$error":"#VALUE!"},{"$f":"IFERROR(OFFSET(N_W_1_1_in!$L$5,AE117,0),\"\")","v":""},{"$error":"#VALUE!"},{"$f":"IFERROR(OFFSET(N_W_1_1_in!$P$5,AE117,2),0)","v":0},{"$f":"IFERROR(IF(S117>5,OFFSET(N_W_1_1_in!$P$5,AE117,4),OFFSET(N_W_1_1_in!$P$5,AE117,3)),0)","v":0}]
[null,null,null,null,null,null,null,null,null,null,null,0,null,null,0,"-",{"$f":"IFERROR(OFFSET(N_W_1_1_in!$P$5,AE118,0),\"-\")","v":"-"},"-","-",null,null,null,null,null,null,null,null,null,{"$f":"IFERROR(MATCH(D118,Nr_stad!$U$8:$U$60,0),0)","v":0},0,{"$f":"IF(D118=\"\",\"-\",MATCH(D118,N_W_1_1_in!$K$6:$K$15,0))","v":"-"},{"$f":"OFFSET(N_W_1_1_in!$L$5,AE118,1)","v":{"$error":"#VALUE!"}},{"$f":"OFFSET(N_W_1_1_in!$L$5,AE118,2)","v":{"$error":"#VALUE!"}},{"$f":"OFFSET(N_W_1_1_in!$L$5,AE118,3)","v":{"$error":"#VALUE!"}},{"$error":"#VALUE!"},{"$error":"#VALUE!"},{"$error":"#VALUE!"},{"$error":"#VALUE!"},{"$error":"#VALUE!"},{"$error":"#VALUE!"},{"$error":"#VALUE!"},{"$f":"IFERROR(OFFSET(N_W_1_1_in!$L$5,AE118,0),\"\")","v":""},{"$error":"#VALUE!"},{"$f":"IFERROR(OFFSET(N_W_1_1_in!$P$5,AE118,2),0)","v":0},{"$f":"IFERROR(IF(S118>5,OFFSET(N_W_1_1_in!$P$5,AE118,4),OFFSET(N_W_1_1_in!$P$5,AE118,3)),0)","v":0}]
[null,null,null,null,null,null,null,null,null,null,null,0,null,null,0,"-",{"$f":"IFERROR(OFFSET(N_W_1_1_in!$P$5,AE119,0),\"-\")","v":"-"},"-","-",null,null,null,null,null,null,null,null,null,{"$f":"IFERROR(MATCH(D119,Nr_stad!$U$8:$U$60,0),0)","v":0},0,{"$f":"IF(D119=\"\",\"-\",MATCH(D119,N_W_1_1_in!$K$6:$K$15,0))","v":"-"},{"$f":"OFFSET(N_W_1_1_in!$L$5,AE119,1)","v":{"$error":"#VALUE!"}},{"$f":"OFFSET(N_W_1_1_in!$L$5,AE119,2)","v":{"$error":"#VALUE!"}},{"$f":"OFFSET(N_W_1_1_in!$L$5,AE119,3)","v":{"$error":"#VALUE!"}},{"$error":"#VALUE!"},{"$error":"#VALUE!"},{"$error":"#VALUE!"},{"$error":"#VALUE!"},{"$error":"#VALUE!"},{"$error":"#VALUE!"},{"$error":"#VALUE!"},{"$f":"IFERROR(OFFSET(N_W_1_1_in!$L$5,AE119,0),\"\")","v":""},{"$error":"#VALUE!"},{"$f":"IFERROR(OFFSET(N_W_1_1_in!$P$5,AE119,2),0)","v":0},{"$f":"IFERROR(IF(S119>5,OFFSET(N_W_1_1_in!$P$5,AE119,4),OFFSET(N_W_1_1_in!$P$5,AE119,3)),0)","v":0}]
[null,null,null,null,null,null,null,null,null,null,null,0,null,null,0,"-",{"$f":"IFERROR(OFFSET(N_W_1_1_in!$P$5,AE120,0),\"-\")","v":"-"},"-","-",null,null,null,null,null,null,null,null,null,{"$f":"IFERROR(MATCH(D120,Nr_stad!$U$8:$U$60,0),0)","v":0},0,{"$f":"IF(D120=\"\",\"-\",MATCH(D120,N_W_1_1_in!$K$6:$K$15,0))","v":"-"},{"$f":"OFFSET(N_W_1_1_in!$L$5,AE120,1)","v":{"$error":"#VALUE!"}},{"$f":"OFFSET(N_W_1_1_in!$L$5,AE120,2)","v":{"$error":"#VALUE!"}},{"$f":"OFFSET(N_W_1_1_in!$L$5,AE120,3)","v":{"$error":"#VALUE!"}},{"$error":"#VALUE!"},{"$error":"#VALUE!"},{"$error":"#VALUE!"},{"$error":"#VALUE!"},{"$error":"#VALUE!"},{"$error":"#VALUE!"},{"$error":"#VALUE!"},{"$f":"IFERROR(OFFSET(N_W_1_1_in!$L$5,AE120,0),\"\")","v":""},{"$error":"#VALUE!"},{"$f":"IFERROR(OFFSET(N_W_1_1_in!$P$5,AE120,2),0)","v":0},{"$f":"IFERROR(IF(S120>5,OFFSET(N_W_1_1_in!$P$5,AE120,4),OFFSET(N_W_1_1_in!$P$5,AE120,3)),0)","v":0}]
[null,null,null,null,null,null,null,null,null,null,null,0,null,null,0,"-",{"$f":"IFERROR(OFFSET(N_W_1_1_in!$P$5,AE121,0),\"-\")","v":"-"},"-","-",null,null,null,null,null,null,null,null,null,{"$f":"IFERROR(MATCH(D121,Nr_stad!$U$8:$U$60,0),0)","v":0},0,{"$f":"IF(D121=\"\",\"-\",MATCH(D121,N_W_1_1_in!$K$6:$K$15,0))","v":"-"},{"$f":"OFFSET(N_W_1_1_in!$L$5,AE121,1)","v":{"$error":"#VALUE!"}},{"$f":"OFFSET(N_W_1_1_in!$L$5,AE121,2)","v":{"$error":"#VALUE!"}},{"$f":"OFFSET(N_W_1_1_in!$L$5,AE121,3)","v":{"$error":"#VALUE!"}},{"$error":"#VALUE!"},{"$error":"#VALUE!"},{"$error":"#VALUE!"},{"$error":"#VALUE!"},{"$error":"#VALUE!"},{"$error":"#VALUE!"},{"$error":"#VALUE!"},{"$f":"IFERROR(OFFSET(N_W_1_1_in!$L$5,AE121,0),\"\")","v":""},{"$error":"#VALUE!"},{"$f":"IFERROR(OFFSET(N_W_1_1_in!$P$5,AE121,2),0)","v":0},{"$f":"IFERROR(IF(S121>5,OFFSET(N_W_1_1_in!$P$5,AE121,4),OFFSET(N_W_1_1_in!$P$5,AE121,3)),0)","v":0}]
[null,null,null,null,null,null,null,null,null,null,null,0,null,null,0,"-",{"$f":"IFERROR(OFFSET(N_W_1_1_in!$P$5,AE122,0),\"-\")","v":"-"},"-","-",null,null,null,null,null,null,null,null,null,{"$f":"IFERROR(MATCH(D122,Nr_stad!$U$8:$U$60,0),0)","v":0},0,{"$f":"IF(D122=\"\",\"-\",MATCH(D122,N_W_1_1_in!$K$6:$K$15,0))","v":"-"},{"$f":"OFFSET(N_W_1_1_in!$L$5,AE122,1)","v":{"$error":"#VALUE!"}},{"$f":"OFFSET(N_W_1_1_in!$L$5,AE122,2)","v":{"$error":"#VALUE!"}},{"$f":"OFFSET(N_W_1_1_in!$L$5,AE122,3)","v":{"$error":"#VALUE!"}},{"$error":"#VALUE!"},{"$error":"#VALUE!"},{"$error":"#VALUE!"},{"$error":"#VALUE!"},{"$error":"#VALUE!"},{"$error":"#VALUE!"},{"$error":"#VALUE!"},{"$f":"IFERROR(OFFSET(N_W_1_1_in!$L$5,AE122,0),\"\")","v":""},{"$error":"#VALUE!"},{"$f":"IFERROR(OFFSET(N_W_1_1_in!$P$5,AE122,2),0)","v":0},{"$f":"IFERROR(IF(S122>5,OFFSET(N_W_1_1_in!$P$5,AE122,4),OFFSET(N_W_1_1_in!$P$5,AE122,3)),0)","v":0}]
[null,null,null,"SUMA POWIERZCHNI BYTOWEJ KOJCÓW:",null,null,null,null,null,null,null,{"$f":"SUM(L22:L122)","v":0},"SUMA ŚWIŃ:",null,null,null,null,null,{"$f":"SUM(S22:S122)","v":0},{"$f":"SUM(T22:T122)","v":0},null,null,null,null,null,null,null,null,null,10,{"$f":"IFERROR(MATCH(5,AE22:AE122,0),0)","v":0}]
[null,null,null,null,null,null,null,null,null,null,null,null,"SUMA LICZBY LOCH i Loszek prośnych:",null,null,null,null,null,{"$f":"SUMIF(AP22:AP122,AP21,S22:S122)","v":0}]

{"sheet":"Swinie_inne(T)","index":8,"n_rows":131,"n_cols":32,"rows_kept":131,"cut":false,"hidden":false,"merged":[[121,7,121,11],[128,3,128,13],[130,11,130,13],[22,15,23,15],[4,2,4,16],[7,2,7,16],[126,7,126,13],[115,3,115,6],[116,3,116,6],[117,3,117,6],[118,3,118,6],[119,3,119,6],[120,3,120,6],[109,3,109,6],[110,3,110,6],[111,3,111,6],[112,3,112,6],[113,3,113,6],[114,3,114,6],[103,3,103,6],[104,3,104,6],[105,3,105,6],[106,3,106,6],[107,3,107,6],[108,3,108,6],[97,3,97,6],[98,3,98,6],[99,3,99,6],[100,3,100,6],[101,3,101,6],[102,3,102,6],[91,3,91,6],[92,3,92,6],[93,3,93,6],[94,3,94,6],[95,3,95,6],[96,3,96,6],[85,3,85,6],[86,3,86,6],[87,3,87,6],[88,3,88,6],[89,3,89,6],[90,3,90,6],[79,3,79,6],[80,3,80,6],[81,3,81,6],[82,3,82,6],[83,3,83,6],[84,3,84,6],[73,3,73,6],[74,3,74,6],[75,3,75,6],[76,3,76,6],[77,3,77,6],[78,3,78,6],[67,3,67,6],[68,3,68,6],[69,3,69,6],[70,3,70,6],[71,3,71,6],[72,3,72,6],[61,3,61,6],[62,3,62,6],[63,3,63,6],[64,3,64,6],[65,3,65,6],[66,3,66,6],[55,3,55,6],[56,3,56,6],[57,3,57,6],[58,3,58,6],[59,3,59,6],[60,3,60,6],[49,3,49,6],[50,3,50,6],[51,3,51,6],[52,3,52,6],[53,3,53,6],[54,3,54,6],[43,3,43,6],[44,3,44,6],[45,3,45,6],[46,3,46,6],[47,3,47,6],[48,3,48,6],[37,3,37,6],[38,3,38,6],[39,3,39,6],[40,3,40,6],[41,3,41,6],[42,3,42,6],[31,3,31,6],[32,3,32,6],[33,3,33,6],[34,3,34,6],[35,3,35,6],[36,3,36,6],[25,3,25,6],[26,3,26,6],[27,3,27,6],[28,3,28,6],[29,3,29,6],[30,3,30,6],[22,3,22,7],[22,8,22,9],[22,10,22,12],[22,13,23,13],[23,3,24,6],[23,7,24,7],[23,8,24,8],[12,3,12,13],[13,4,13,10],[14,4,14,9],[15,3,15,8],[17,3,17,7],[19,3,19,8],[5,6,5,7],[8,4,8,14],[10,3,10,5],[10,7,10,10],[10,12,10,14],[11,3,11,5],[11,7,11,10],[11,12,11,14],[21,3,21,12]]}
[null,null,null,null,null,null,null,null,null,null,null,null,null,null,"POWRÓT",null,null,null,null,null,null,null,null,null,null,null,null,null,null,null,null,"UWAGI"]
[]
[null,null,"II. Część szczegółowa  "]
[]
[null,null,"Świnie nieobjęte wymogami Dobrostanu tuczników"]
[null,null,"II.1.2.1.","Numer siedziby stada:"]
[]
[null,null,"WARCHLAKI I TUCZNIKI"]
[null,null,null,{"$f":"IF(S9=TRUE,T9,U9)","v":"☐"},"Do planu poprawy dobrostanu zwierząt dołączono szkic obiektów ze wskazanymi kojcami, w których utrzymywane są warchlaki i tuczniki",null,null,null,null,null,null,null,null,null,null,null,null,null,false,"☒","☐"]
[]
[]
[]
[]
[]
[]
[null,null,null,"Maksymalna masa warchlaka wynosi:",null,null,null,null,null,null,"kg/1 szt."]
[]
[]
[]
[]
[]
[null,null,null,"Dopuszczalna maksymalna liczba WARCHLAKÓW I TUCZNIKÓW, które mogą przebywać jednocześnie w gospodarstwie z uwzględnieniem minimalnych wymogów dotyczących wielkości powierzchni w  pomieszczeniach/budynkach inwentarskich, wynikających z prawa krajowego"]
[null,null,null,"Obiekt",null,null,null,null,"Grupa zwierząt",null,"Powierzchnia bytowa kojca ",null,null,"Powierzchnia minimalna","Maksymalna liczba","Stan na dzień sporządzenia planu"]
[null,null,null,"Numer siedziby stada \nalbo Nazwa obiektu",null,null,null,"Nr kojca","Nazwa grupy","Maksymalna masa\nsztuki w kojcu","Dł.","Szer.","Pow.",null,"warchlaków/\ntuczników"]
[null,null,null,null,null,null,null,null,null,"kg","m","m","m2","m2/szt","szt","szt",null,null,null,null,10,20,30,50,85,110,110,"wyb","licz. Min","sum tucz"]
[null,null,null,null,null,null,null,null,{"$f":"IF(S26>0,\"-\",(IF(AND(J26<=$J$16,J26>0),\"warchlaki\",IF(AND(J26>$J$16,$J$16>0),\"tuczniki\",\"\"))))","v":""},null,null,null,{"$f":"K26*L26","v":0},{"$f":"IF(S26>0,\"-\",OFFSET(N_W_1_2!$G$4,AB26,0))","v":0},{"$f":"IF(AC26>1,AC26,\"-\")","v":"-"},null,null,null,{"$f":"IFERROR(MATCH(D26,Nr_stad!$U$8:$U$60,0),0)","v":0},{"$f":"SUM(H26:O26)+S26","v":0},{"$f":"IF(AND($J26>1,$J26<=U$25),1,0)","v":0},{"$f":"IF($J26>U$25,2,0)","v":0},{"$f":"IF($J26>V$25,3,0)","v":0},{"$f":"IF($J26>W$25,4,0)","v":0},{"$f":"IF($J26>X$25,5,0)","v":0},{"$f":"IF($J26>Y$25,6,0)","v":0},{"$f":"IF($J26>Z$25,7,0)","v":0},{"$f":"MAX(U26:AA26)","v":0},{"$f":"IFERROR(TRUNC(M26/N26),\"-\")","v":"-"},{"$f":"IF(I26=\"tuczniki\",\"T\",\"\")","v":""}]
[null,null,null,null,null,null,null,null,{"$f":"IF(S27>0,\"-\",(IF(AND(J27<=$J$16,J27>0),\"warchlaki\",IF(AND(J27>$J$16,$J$16>0),\"tuczniki\",\"\"))))","v":""},null,null,null,{"$f":"K27*L27","v":0},{"$f":"IF(S27>0,\"-\",OFFSET(N_W_1_2!$G$4,AB27,0))","v":0},{"$f":"IF(AC27>1,AC27,\"-\")","v":"-"},null,null,null,{"$f":"IFERROR(MATCH(D27,Nr_stad!$U$8:$U$60,0),0)","v":0},{"$f":"SUM(H27:O27)+S27","v":0},{"$f":"IF(AND($J27>1,$J27<=U$25),1,0)","v":0},{"$f":"IF($J27>U$25,2,0)","v":0},{"$f":"IF($J27>V$25,3,0)","v":0},{"$f":"IF($J27>W$25,4,0)","v":0},{"$f":"IF($J27>X$25,5,0)","v":0},{"$f":"IF($J27>Y$25,6,0)","v":0},{"$f":"IF($J27>Z$25,7,0)","v":0},{"$f":"MAX(U27:AA27)","v":0},{"$f":"IFERROR(TRUNC(M27/N27),\"-\")","v":"-"},{"$f":"IF(I27=\"tuczniki\",\"T\",\"\")","v":""}]
[null,null,null,null,null,null,null,null,"",null,null,null,0,{"$f":"IF(S28>0,\"-\",OFFSET(N_W_1_2!$G$4,AB28,0))","v":0},"-",null,null,null,{"$f":"IFERROR(MATCH(D28,Nr_stad!$U$8:$U$60,0),0)","v":0},0,0,0,0,0,0,0,0,0,"-",""]
[null,null,null,null,null,null,null,null,"",null,null,null,0,{"$f":"IF(S29>0,\"-\",OFFSET(N_W_1_2!$G$4,AB29,0))","v":0},"-",null,null,null,{"$f":"IFERROR(MATCH(D29,Nr_stad!$U$8:$U$60,0),0)","v":0},0,0,0,0,0,0,0,0,0,"-",""]
[null,null,null,null,null,null,null,null,"",null,null,null,0,{"$f":"IF(S30>0,\"-\",OFFSET(N_W_1_2!$G$4,AB30,0))","v":0},"-",null,null,null,{"$f":"IFERROR(MATCH(D30,Nr_stad!$U$8:$U$60,0),0)","v":0},0,0,0,0,0,0,0,0,0,"-",""]
[null,null,null,null,null,null,null,null,"",null,null,null,0,{"$f":"IF(S31>0,\"-\",OFFSET(N_W_1_2!$G$4,AB31,0))","v":0},"-",null,null,null,{"$f":"IFERROR(MATCH(D31,Nr_stad!$U$8:$U$60,0),0)","v":0},0,0,0,0,0,0,0,0,0,"-",""]
[null,null,null,null,null,null,null,null,"",null,null,null,0,{"$f":"IF(S32>0,\"-\",OFFSET(N_W_1_2!$G$4,AB32,0))","v":0},"-",null,null,null,{"$f":"IFERROR(MATCH(D32,Nr_stad!$U$8:$U$60,0),0)","v":0},0,0,0,0,0,0,0,0,0,"-",""]
[null,null,null,null,null,null,null,null,"",null,null,null,0,{"$f":"IF(S33>0,\"-\",OFFSET(N_W_1_2!$G$4,AB33,0))","v":0},"-",null,null,null,{"$f":"IFERROR(MATCH(D33,Nr_stad!$U$8:$U$60,0),0)","v":0},0,0,0,0,0,0,0,0,0,"-",""]
[null,null,null,null,null,null,null,null,"",null,null,null,0,{"$f":"IF(S34>0,\"-\",OFFSET(N_W_1_2!$G$4,AB34,0))","v":0},"-",null,null,null,{"$f":"IFERROR(MATCH(D34,Nr_stad!$U$8:$U$60,0),0)","v":0},0,0,0,0,0,0,0,0,0,"-",""]
[null,null,null,null,null,null,null,null,"",null,null,null,0,{"$f":"IF(S35>0,\"-\",OFFSET(N_W_1_2!$G$4,AB35,0))","v":0},"-",null,null,null,{"$f":"IFERROR(MATCH(D35,Nr_stad!$U$8:$U$60,0),0)","v":0},0,0,0,0,0,0,0,0,0,"-",""]
[null,null,null,null,null,null,null,null,"",null,null,null,0,{"$f":"IF(S36>0,\"-\",OFFSET(N_W_1_2!$G$4,AB36,0))","v":0},"-",null,null,null,{"$f":"IFERROR(MATCH(D36,Nr_stad!$U$8:$U$60,0),0)","v":0},0,0,0,0,0,0,0,0,0,"-",""]
[null,null,null,null,null,null,null,null,"",null,null,null,0,{"$f":"IF(S37>0,\"-\",OFFSET(N_W_1_2!$G$4,AB37,0))","v":0},"-",null,null,null,{"$f":"IFERROR(MATCH(D37,Nr_stad!$U$8:$U$60,0),0)","v":0},0,0,0,0,0,0,0,0,0,"-",""]
[null,null,null,null,null,null,null,null,"",null,null,null,0,{"$f":"IF(S38>0,\"-\",OFFSET(N_W_1_2!$G$4,AB38,0))","v":0},"-",null,null,null,{"$f":"IFERROR(MATCH(D38,Nr_stad!$U$8:$U$60,0),0)","v":0},0,0,0,0,0,0,0,0,0,"-",""]
[null,null,null,null,null,null,null,null,"",null,null,null,0,{"$f":"IF(S39>0,\"-\",OFFSET(N_W_1_2!$G$4,AB39,0))","v":0},"-",null,null,null,{"$f":"IFERROR(MATCH(D39,Nr_stad!$U$8:$U$60,0),0)","v":0},0,0,0,0,0,0,0,0,0,"-",""]
[null,null,null,null,null,null,null,null,"",null,null,null,0,{"$f":"IF(S40>0,\"-\",OFFSET(N_W_1_2!$G$4,AB40,0))","v":0},"-",null,null,null,{"$f":"IFERROR(MATCH(D40,Nr_stad!$U$8:$U$60,0),0)","v":0},0,0,0,0,0,0,0,0,0,"-",""]
[null,null,null,null,null,null,null,null,"",null,null,null,0,{"$f":"IF(S41>0,\"-\",OFFSET(N_W_1_2!$G$4,AB41,0))","v":0},"-",null,null,null,{"$f":"IFERROR(MATCH(D41,Nr_stad!$U$8:$U$60,0),0)","v":0},0,0,0,0,0,0,0,0,0,"-",""]
[null,null,null,null,null,null,null,null,"",null,null,null,0,{"$f":"IF(S42>0,\"-\",OFFSET(N_W_1_2!$G$4,AB42,0))","v":0},"-",null,null,null,{"$f":"IFERROR(MATCH(D42,Nr_stad!$U$8:$U$60,0),0)","v":0},0,0,0,0,0,0,0,0,0,"-",""]
[null,null,null,null,null,null,null,null,"",null,null,null,0,{"$f":"IF(S43>0,\"-\",OFFSET(N_W_1_2!$G$4,AB43,0))","v":0},"-",null,null,null,{"$f":"IFERROR(MATCH(D43,Nr_stad!$U$8:$U$60,0),0)","v":0},0,0,0,0,0,0,0,0,0,"-",""]
[null,null,null,null,null,null,null,null,"",null,null,null,0,{"$f":"IF(S44>0,\"-\",OFFSET(N_W_1_2!$G$4,AB44,0))","v":0},"-",null,null,null,{"$f":"IFERROR(MATCH(D44,Nr_stad!$U$8:$U$60,0),0)","v":0},0,0,0,0,0,0,0,0,0,"-",""]
[null,null,null,null,null,null,null,null,"",null,null,null,0,{"$f":"IF(S45>0,\"-\",OFFSET(N_W_1_2!$G$4,AB45,0))","v":0},"-",null,null,null,{"$f":"IFERROR(MATCH(D45,Nr_stad!$U$8:$U$60,0),0)","v":0},0,0,0,0,0,0,0,0,0,"-",""]
[null,null,null,null,null,null,null,null,"",null,null,null,0,{"$f":"IF(S46>0,\"-\",OFFSET(N_W_1_2!$G$4,AB46,0))","v":0},"-",null,null,null,{"$f":"IFERROR(MATCH(D46,Nr_stad!$U$8:$U$60,0),0)","v":0},0,0,0,0,0,0,0,0,0,"-",""]
[null,null,null,null,null,null,null,null,"",null,null,null,0,{"$f":"IF(S47>0,\"-\",OFFSET(N_W_1_2!$G$4,AB47,0))","v":0},"-",null,null,null,{"$f":"IFERROR(MATCH(D47,Nr_stad!$U$8:$U$60,0),0)","v":0},0,0,0,0,0,0,0,0,0,"-",""]
[null,null,null,null,null,null,null,null,"",null,null,null,0,{"$f":"IF(S48>0,\"-\",OFFSET(N_W_1_2!$G$4,AB48,0))","v":0},"-",null,null,null,{"$f":"IFERROR(MATCH(D48,Nr_stad!$U$8:$U$60,0),0)","v":0},0,0,0,0,0,0,0,0,0,"-",""]
[null,null,null,null,null,null,null,null,"",null,null,null,0,{"$f":"IF(S49>0,\"-\",OFFSET(N_W_1_2!$G$4,AB49,0))","v":0},"-",null,null,null,{"$f":"IFERROR(MATCH(D49,Nr_stad!$U$8:$U$60,0),0)","v":0},0,0,0,0,0,0,0,0,0,"-",""]
[null,null,null,null,null,null,null,null,"",null,null,null,0,{"$f":"IF(S50>0,\"-\",OFFSET(N_W_1_2!$G$4,AB50,0))","v":0},"-",null,null,null,{"$f":"IFERROR(MATCH(D50,Nr_stad!$U$8:$U$60,0),0)","v":0},0,0,0,0,0,0,0,0,0,"-",""]
[null,null,null,null,null,null,null,null,"",null,null,null,0,{"$f":"IF(S51>0,\"-\",OFFSET(N_W_1_2!$G$4,AB51,0))","v":0},"-",null,null,null,{"$f":"IFERROR(MATCH(D51,Nr_stad!$U$8:$U$60,0),0)","v":0},0,0,0,0,0,0,0,0,0,"-",""]
[null,null,null,null,null,null,null,null,"",null,null,null,0,{"$f":"IF(S52>0,\"-\",OFFSET(N_W_1_2!$G$4,AB52,0))","v":0},"-",null,null,null,{"$f":"IFERROR(MATCH(D52,Nr_stad!$U$8:$U$60,0),0)","v":0},0,0,0,0,0,0,0,0,0,"-",""]
[null,null,null,null,null,null,null,null,"",null,null,null,0,{"$f":"IF(S53>0,\"-\",OFFSET(N_W_1_2!$G$4,AB53,0))","v":0},"-",null,null,null,{"$f":"IFERROR(MATCH(D53,Nr_stad!$U$8:$U$60,0),0)","v":0},0,0,0,0,0,0,0,0,0,"-",""]
[null,null,null,null,null,null,null,null,"",null,null,null,0,{"$f":"IF(S54>0,\"-\",OFFSET(N_W_1_2!$G$4,AB54,0))","v":0},"-",null,null,null,{"$f":"IFERROR(MATCH(D54,Nr_stad!$U$8:$U$60,0),0)","v":0},0,0,0,0,0,0,0,0,0,"-",""]
[null,null,null,null,null,null,null,null,"",null,null,null,0,{"$f":"IF(S55>0,\"-\",OFFSET(N_W_1_2!$G$4,AB55,0))","v":0},"-",null,null,null,{"$f":"IFERROR(MATCH(D55,Nr_stad!$U$8:$U$60,0),0)","v":0},0,0,0,0,0,0,0,0,0,"-",""]
[null,null,null,null,null,null,null,null,"",null,null,null,0,{"$f":"IF(S56>0,\"-\",OFFSET(N_W_1_2!$G$4,AB56,0))","v":0},"-",null,null,null,{"$f":"IFERROR(MATCH(D56,Nr_stad!$U$8:$U$60,0),0)","v":0},0,0,0,0,0,0,0,0,0,"-",""]
[null,null,null,null,null,null,null,null,"",null,null,null,0,{"$f":"IF(S57>0,\"-\",OFFSET(N_W_1_2!$G$4,AB57,0))","v":0},"-",null,null,null,{"$f":"IFERROR(MATCH(D57,Nr_stad!$U$8:$U$60,0),0)","v":0},0,0,0,0,0,0,0,0,0,"-",""]
[null,null,null,null,null,null,null,null,"",null,null,null,0,{"$f":"IF(S58>0,\"-\",OFFSET(N_W_1_2!$G$4,AB58,0))","v":0},"-",null,null,null,{"$f":"IFERROR(MATCH(D58,Nr_stad!$U$8:$U$60,0),0)","v":0},0,0,0,0,0,0,0,0,0,"-",""]
[null,null,null,null,null,null,null,null,"",null,null,null,0,{"$f":"IF(S59>0,\"-\",OFFSET(N_W_1_2!$G$4,AB59,0))","v":0},"-",null,null,null,{"$f":"IFERROR(MATCH(D59,Nr_stad!$U$8:$U$60,0),0)","v":0},0,0,0,0,0,0,0,0,0,"-",""]
[null,null,null,null,null,null,null,null,"",null,null,null,0,{"$f":"IF(S60>0,\"-\",OFFSET(N_W_1_2!$G$4,AB60,0))","v":0},"-",null,null,null,{"$f":"IFERROR(MATCH(D60,Nr_stad!$U$8:$U$60,0),0)","v":0},0,0,0,0,0,0,0,0,0,"-",""]
[null,null,null,null,null,null,null,null,"",null,null,null,0,{"$f":"IF(S61>0,\"-\",OFFSET(N_W_1_2!$G$4,AB61,0))","v":0},"-",null,null,null,{"$f":"IFERROR(MATCH(D61,Nr_stad!$U$8:$U$60,0),0)","v":0},0,0,0,0,0,0,0,0,0,"-",""]
[null,null,null,null,null,null,null,null,"",null,null,null,0,{"$f":"IF(S62>0,\"-\",OFFSET(N_W_1_2!$G$4,AB62,0))","v":0},"-",null,null,null,{"$f":"IFERROR(MATCH(D62,Nr_stad!$U$8:$U$60,0),0)","v":0},0,0,0,0,0,0,0,0,0,"-",""]
[null,null,null,null,null,null,null,null,"",null,null,null,0,{"$f":"IF(S63>0,\"-\",OFFSET(N_W_1_2!$G$4,AB63,0))","v":0},"-",null,null,null,{"$f":"IFERROR(MATCH(D63,Nr_stad!$U$8:$U$60,0),0)","v":0},0,0,0,0,0,0,0,0,0,"-",""]
[null,null,null,null,null,null,null,null,"",null,null,null,0,{"$f":"IF(S64>0,\"-\",OFFSET(N_W_1_2!$G$4,AB64,0))","v":0},"-",null,null,null,{"$f":"IFERROR(MATCH(D64,Nr_stad!$U$8:$U$60,0),0)","v":0},0,0,0,0,0,0,0,0,0,"-",""]
[null,null,null,null,null,null,null,null,"",null,null,null,0,{"$f":"IF(S65>0,\"-\",OFFSET(N_W_1_2!$G$4,AB65,0))","v":0},"-",null,null,null,{"$f":"IFERROR(MATCH(D65,Nr_stad!$U$8:$U$60,0),0)","v":0},0,0,0,0,0,0,0,0,0,"-",""]
[null,null,null,null,null,null,null,null,"",null,null,null,0,{"$f":"IF(S66>0,\"-\",OFFSET(N_W_1_2!$G$4,AB66,0))","v":0},"-",null,null,null,{"$f":"IFERROR(MATCH(D66,Nr_stad!$U$8:$U$60,0),0)","v":0},0,0,0,0,0,0,0,0,0,"-",""]
[null,null,null,null,null,null,null,null,"",null,null,null,0,{"$f":"IF(S67>0,\"-\",OFFSET(N_W_1_2!$G$4,AB67,0))","v":0},"-",null,null,null,{"$f":"IFERROR(MATCH(D67,Nr_stad!$U$8:$U$60,0),0)","v":0},0,0,0,0,0,0,0,0,0,"-",""]
[null,null,null,null,null,null,null,null,"",null,null,null,0,{"$f":"IF(S68>0,\"-\",OFFSET(N_W_1_2!$G$4,AB68,0))","v":0},"-",null,null,null,{"$f":"IFERROR(MATCH(D68,Nr_stad!$U$8:$U$60,0),0)","v":0},0,0,0,0,0,0,0,0,0,"-",""]
[null,null,null,null,null,null,null,null,"",null,null,null,0,{"$f":"IF(S69>0,\"-\",OFFSET(N_W_1_2!$G$4,AB69,0))","v":0},"-",null,null,null,{"$f":"IFERROR(MATCH(D69,Nr_stad!$U$8:$U$60,0),0)","v":0},0,0,0,0,0,0,0,0,0,"-",""]
[null,null,null,null,null,null,null,null,"",null,null,null,0,{"$f":"IF(S70>0,\"-\",OFFSET(N_W_1_2!$G$4,AB70,0))","v":0},"-",null,null,null,{"$f":"IFERROR(MATCH(D70,Nr_stad!$U$8:$U$60,0),0)","v":0},0,0,0,0,0,0,0,0,0,"-",""]
[null,null,null,null,null,null,null,null,"",null,null,null,0,{"$f":"IF(S71>0,\"-\",OFFSET(N_W_1_2!$G$4,AB71,0))","v":0},"-",null,null,null,{"$f":"IFERROR(MATCH(D71,Nr_stad!$U$8:$U$60,0),0)","v":0},0,0,0,0,0,0,0,0,0,"-",""]
[null,null,null,null,null,null,null,null,"",null,null,null,0,{"$f":"IF(S72>0,\"-\",OFFSET(N_W_1_2!$G$4,AB72,0))","v":0},"-",null,null,null,{"$f":"IFERROR(MATCH(D72,Nr_stad!$U$8:$U$60,0),0)","v":0},0,0,0,0,0,0,0,0,0,"-",""]
[null,null,null,null,null,null,null,null,"",null,null,null,0,{"$f":"IF(S73>0,\"-\",OFFSET(N_W_1_2!$G$4,AB73,0))","v":0},"-",null,null,null,{"$f":"IFERROR(MATCH(D73,Nr_stad!$U$8:$U$60,0),0)","v":0},0,0,0,0,0,0,0,0,0,"-",""]
[null,null,null,null,null,null,null,null,"",null,null,null,0,{"$f":"IF(S74>0,\"-\",OFFSET(N_W_1_2!$G$4,AB74,0))","v":0},"-",null,null,null,{"$f":"IFERROR(MATCH(D74,Nr_stad!$U$8:$U$60,0),0)","v":0},0,0,0,0,0,0,0,0,0,"-",""]
[null,null,null,null,null,null,null,null,"",null,null,null,0,{"$f":"IF(S75>0,\"-\",OFFSET(N_W_1_2!$G$4,AB75,0))","v":0},"-",null,null,null,{"$f":"IFERROR(MATCH(D75,Nr_stad!$U$8:$U$60,0),0)","v":0},0,0,0,0,0,0,0,0,0,"-",""]
[null,null,null,null,null,null,null,null,"",null,null,null,0,{"$f":"IF(S76>0,\"-\",OFFSET(N_W_1_2!$G$4,AB76,0))","v":0},"-",null,null,null,{"$f":"IFERROR(MATCH(D76,Nr_stad!$U$8:$U$60,0),0)","v":0},0,0,0,0,0,0,0,0,0,"-",""]
[null,null,null,null,null,null,null,null,"",null,null,null,0,{"$f":"IF(S77>0,\"-\",OFFSET(N_W_1_2!$G$4,AB77,0))","v":0},"-",null,null,null,{"$f":"IFERROR(MATCH(D77,Nr_stad!$U$8:$U$60,0),0)","v":0},0,0,0,0,0,0,0,0,0,"-",""]
[null,null,null,null,null,null,null,null,"",null,null,null,0,{"$f":"IF(S78>0,\"-\",OFFSET(N_W_1_2!$G$4,AB78,0))","v":0},"-",null,null,null,{"$f":"IFERROR(MATCH(D78,Nr_stad!$U$8:$U$60,0),0)","v":0},0,0,0,0,0,0,0,0,0,"-",""]
[null,null,null,null,null,null,null,null,"",null,null,null,0,{"$f":"IF(S79>0,\"-\",OFFSET(N_W_1_2!$G$4,AB79,0))","v":0},"-",null,null,null,{"$f":"IFERROR(MATCH(D79,Nr_stad!$U$8:$U$60,0),0)","v":0},0,0,0,0,0,0,0,0,0,"-",""]
[null,null,null,null,null,null,null,null,"",null,null,null,0,{"$f":"IF(S80>0,\"-\",OFFSET(N_W_1_2!$G$4,AB80,0))","v":0},"-",null,null,null,{"$f":"IFERROR(MATCH(D80,Nr_stad!$U$8:$U$60,0),0)","v":0},0,0,0,0,0,0,0,0,0,"-",""]
[null,null,null,null,null,null,null,null,"",null,null,null,0,{"$f":"IF(S81>0,\"-\",OFFSET(N_W_1_2!$G$4,AB81,0))","v":0},"-",null,null,null,{"$f":"IFERROR(MATCH(D81,Nr_stad!$U$8:$U$60,0),0)","v":0},0,0,0,0,0,0,0,0,0,"-",""]
[null,null,null,null,null,null,null,null,"",null,null,null,0,{"$f":"IF(S82>0,\"-\",OFFSET(N_W_1_2!$G$4,AB82,0))","v":0},"-",null,null,null,{"$f":"IFERROR(MATCH(D82,Nr_stad!$U$8:$U$60,0),0)","v":0},0,0,0,0,0,0,0,0,0,"-",""]
[null,null,null,null,null,null,null,null,"",null,null,null,0,{"$f":"IF(S83>0,\"-\",OFFSET(N_W_1_2!$G$4,AB83,0))","v":0},"-",null,null,null,{"$f":"IFERROR(MATCH(D83,Nr_stad!$U$8:$U$60,0),0)","v":0},0,0,0,0,0,0,0,0,0,"-",""]
[null,null,null,null,null,null,null,null,"",null,null,null,0,{"$f":"IF(S84>0,\"-\",OFFSET(N_W_1_2!$G$4,AB84,0))","v":0},"-",null,null,null,{"$f":"IFERROR(MATCH(D84,Nr_stad!$U$8:$U$60,0),0)","v":0},0,0,0,0,0,0,0,0,0,"-",""]
[null,null,null,null,null,null,null,null,"",null,null,null,0,{"$f":"IF(S85>0,\"-\",OFFSET(N_W_1_2!$G$4,AB85,0))","v":0},"-",null,null,null,{"$f":"IFERROR(MATCH(D85,Nr_stad!$U$8:$U$60,0),0)","v":0},0,0,0,0,0,0,0,0,0,"-",""]
[null,null,null,null,null,null,null,null,"",null,null,null,0,{"$f":"IF(S86>0,\"-\",OFFSET(N_W_1_2!$G$4,AB86,0))","v":0},"-",null,null,null,{"$f":"IFERROR(MATCH(D86,Nr_stad!$U$8:$U$60,0),0)","v":0},0,0,0,0,0,0,0,0,0,"-",""]
[null,null,null,null,null,null,null,null,"",null,null,null,0,{"$f":"IF(S87>0,\"-\",OFFSET(N_W_1_2!$G$4,AB87,0))","v":0},"-",null,null,null,{"$f":"IFERROR(MATCH(D87,Nr_stad!$U$8:$U$60,0),0)","v":0},0,0,0,0,0,0,0,0,0,"-",""]
[null,null,null,null,null,null,null,null,"",null,null,null,0,{"$f":"IF(S88>0,\"-\",OFFSET(N_W_1_2!$G$4,AB88,0))","v":0},"-",null,null,null,{"$f":"IFERROR(MATCH(D88,Nr_stad!$U$8:$U$60,0),0)","v":0},0,0,0,0,0,0,0,0,0,"-",""]
[null,null,null,null,null,null,null,null,"",null,null,null,0,{"$f":"IF(S89>0,\"-\",OFFSET(N_W_1_2!$G$4,AB89,0))","v":0},"-",null,null,null,{"$f":"IFERROR(MATCH(D89,Nr_stad!$U$8:$U$60,0),0)","v":0},0,0,0,0,0,0,0,0,0,"-",""]
[null,null,null,null,null,null,null,null,"",null,null,null,0,{"$f":"IF(S90>0,\"-\",OFFSET(N_W_1_2!$G$4,AB90,0))","v":0},"-",null,null,null,{"$f":"IFERROR(MATCH(D90,Nr_stad!$U$8:$U$60,0),0)","v":0},0,0,0,0,0,0,0,0,0,"-",""]
[null,null,null,null,null,null,null,null,{"$f":"IF(S91>0,\"-\",(IF(AND(J91<=$J$16,J91>0),\"warchlaki\",IF(AND(J91>$J$16,$J$16>0),\"tuczniki\",\"\"))))","v":""},null,null,null,{"$f":"K91*L91","v":0},{"$f":"IF(S91>0,\"-\",OFFSET(N_W_1_2!$G$4,AB91,0))","v":0},{"$f":"IF(AC91>1,AC91,\"-\")","v":"-"},null,null,null,{"$f":"IFERROR(MATCH(D91,Nr_stad!$U$8:$U$60,0),0)","v":0},{"$f":"SUM(H91:O91)+S91","v":0},{"$f":"IF(AND($J91>1,$J91<=U$25),1,0)","v":0},{"$f":"IF($J91>U$25,2,0)","v":0},{"$f":"IF($J91>V$25,3,0)","v":0},{"$f":"IF($J91>W$25,4,0)","v":0},{"$f":"IF($J91>X$25,5,0)","v":0},{"$f":"IF($J91>Y$25,6,0)","v":0},{"$f":"IF($J91>Z$25,7,0)","v":0},{"$f":"MAX(U91:AA91)","v":0},{"$f":"IFERROR(TRUNC(M91/N91),\"-\")","v":"-"},{"$f":"IF(I91=\"tuczniki\",\"T\",\"\")","v":""}]
[null,null,null,null,null,null,null,null,"",null,null,null,0,{"$f":"IF(S92>0,\"-\",OFFSET(N_W_1_2!$G$4,AB92,0))","v":0},"-",null,null,null,{"$f":"IFERROR(MATCH(D92,Nr_stad!$U$8:$U$60,0),0)","v":0},0,0,0,0,0,0,0,0,0,"-",""]
[null,null,null,null,null,null,null,null,"",null,null,null,0,{"$f":"IF(S93>0,\"-\",OFFSET(N_W_1_2!$G$4,AB93,0))","v":0},"-",null,null,null,{"$f":"IFERROR(MATCH(D93,Nr_stad!$U$8:$U$60,0),0)","v":0},0,0,0,0,0,0,0,0,0,"-",""]
[null,null,null,null,null,null,null,null,"",null,null,null,0,{"$f":"IF(S94>0,\"-\",OFFSET(N_W_1_2!$G$4,AB94,0))","v":0},"-",null,null,null,{"$f":"IFERROR(MATCH(D94,Nr_stad!$U$8:$U$60,0),0)","v":0},0,0,0,0,0,0,0,0,0,"-",""]
[null,null,null,null,null,null,null,null,"",null,null,null,0,{"$f":"IF(S95>0,\"-\",OFFSET(N_W_1_2!$G$4,AB95,0))","v":0},"-",null,null,null,{"$f":"IFERROR(MATCH(D95,Nr_stad!$U$8:$U$60,0),0)","v":0},0,0,0,0,0,0,0,0,0,"-",""]
[null,null,null,null,null,null,null,null,"",null,null,null,0,{"$f":"IF(S96>0,\"-\",OFFSET(N_W_1_2!$G$4,AB96,0))","v":0},"-",null,null,null,{"$f":"IFERROR(MATCH(D96,Nr_stad!$U$8:$U$60,0),0)","v":0},0,0,0,0,0,0,0,0,0,"-",""]
[null,null,null,null,null,null,null,null,"",null,null,null,0,{"$f":"IF(S97>0,\"-\",OFFSET(N_W_1_2!$G$4,AB97,0))","v":0},"-",null,null,null,{"$f":"IFERROR(MATCH(D97,Nr_stad!$U$8:$U$60,0),0)","v":0},0,0,0,0,0,0,0,0,0,"-",""]
[null,null,null,null,null,null,null,null,"",null,null,null,0,{"$f":"IF(S98>0,\"-\",OFFSET(N_W_1_2!$G$4,AB98,0))","v":0},"-",null,null,null,{"$f":"IFERROR(MATCH(D98,Nr_stad!$U$8:$U$60,0),0)","v":0},0,0,0,0,0,0,0,0,0,"-",""]
[null,null,null,null,null,null,null,null,"",null,null,null,0,{"$f":"IF(S99>0,\"-\",OFFSET(N_W_1_2!$G$4,AB99,0))","v":0},"-",null,null,null,{"$f":"IFERROR(MATCH(D99,Nr_stad!$U$8:$U$60,0),0)","v":0},0,0,0,0,0,0,0,0,0,"-",""]
[null,null,null,null,null,null,null,null,"",null,null,null,0,{"$f":"IF(S100>0,\"-\",OFFSET(N_W_1_2!$G$4,AB100,0))","v":0},"-",null,null,null,{"$f":"IFERROR(MATCH(D100,Nr_stad!$U$8:$U$60,0),0)","v":0},0,0,0,0,0,0,0,0,0,"-",""]
[null,null,null,null,null,null,null,null,"",null,null,null,0,{"$f":"IF(S101>0,\"-\",OFFSET(N_W_1_2!$G$4,AB101,0))","v":0},"-",null,null,null,{"$f":"IFERROR(MATCH(D101,Nr_stad!$U$8:$U$60,0),0)","v":0},0,0,0,0,0,0,0,0,0,"-",""]
[null,null,null,null,null,null,null,null,"",null,null,null,0,{"$f":"IF(S102>0,\"-\",OFFSET(N_W_1_2!$G$4,AB102,0))","v":0},"-",null,null,null,{"$f":"IFERROR(MATCH(D102,Nr_stad!$U$8:$U$60,0),0)","v":0},0,0,0,0,0,0,0,0,0,"-",""]
[null,null,null,null,null,null,null,null,"",null,null,null,0,{"$f":"IF(S103>0,\"-\",OFFSET(N_W_1_2!$G$4,AB103,0))","v":0},"-",null,null,null,{"$f":"IFERROR(MATCH(D103,Nr_stad!$U$8:$U$60,0),0)","v":0},0,0,0,0,0,0,0,0,0,"-",""]
[null,null,null,null,null,null,null,null,"",null,null,null,0,{"$f":"IF(S104>0,\"-\",OFFSET(N_W_1_2!$G$4,AB104,0))","v":0},"-",null,null,null,{"$f":"IFERROR(MATCH(D104,Nr_stad!$U$8:$U$60,0),0)","v":0},0,0,0,0,0,0,0,0,0,"-",""]
[null,null,null,null,null,null,null,null,"",null,null,null,0,{"$f":"IF(S105>0,\"-\",OFFSET(N_W_1_2!$G$4,AB105,0))","v":0},"-",null,null,null,{"$f":"IFERROR(MATCH(D105,Nr_stad!$U$8:$U$60,0),0)","v":0},0,0,0,0,0,0,0,0,0,"-",""]
[null,null,null,null,null,null,null,null,"",null,null,null,0,{"$f":"IF(S106>0,\"-\",OFFSET(N_W_1_2!$G$4,AB106,0))","v":0},"-",null,null,null,{"$f":"IFERROR(MATCH(D106,Nr_stad!$U$8:$U$60,0),0)","v":0},0,0,0,0,0,0,0,0,0,"-",""]
[null,null,null,null,null,null,null,null,"",null,null,null,0,{"$f":"IF(S107>0,\"-\",OFFSET(N_W_1_2!$G$4,AB107,0))","v":0},"-",null,null,null,{"$f":"IFERROR(MATCH(D107,Nr_stad!$U$8:$U$60,0),0)","v":0},0,0,0,0,0,0,0,0,0,"-",""]
[null,null,null,null,null,null,null,null,"",null,null,null,0,{"$f":"IF(S108>0,\"-\",OFFSET(N_W_1_2!$G$4,AB108,0))","v":0},"-",null,null,null,{"$f":"IFERROR(MATCH(D108,Nr_stad!$U$8:$U$60,0),0)","v":0},0,0,0,0,0,0,0,0,0,"-",""]
[null,null,null,null,null,null,null,null,"",null,null,null,0,{"$f":"IF(S109>0,\"-\",OFFSET(N_W_1_2!$G$4,AB109,0))","v":0},"-",null,null,null,{"$f":"IFERROR(MATCH(D109,Nr_stad!$U$8:$U$60,0),0)","v":0},0,0,0,0,0,0,0,0,0,"-",""]
[null,null,null,null,null,null,null,null,"",null,null,null,0,{"$f":"IF(S110>0,\"-\",OFFSET(N_W_1_2!$G$4,AB110,0))","v":0},"-",null,null,null,{"$f":"IFERROR(MATCH(D110,Nr_stad!$U$8:$U$60,0),0)","v":0},0,0,0,0,0,0,0,0,0,"-",""]
[null,null,null,null,null,null,null,null,"",null,null,null,0,{"$f":"IF(S111>0,\"-\",OFFSET(N_W_1_2!$G$4,AB111,0))","v":0},"-",null,null,null,{"$f":"IFERROR(MATCH(D111,Nr_stad!$U$8:$U$60,0),0)","v":0},0,0,0,0,0,0,0,0,0,"-",""]
[null,null,null,null,null,null,null,null,"",null,null,null,0,{"$f":"IF(S112>0,\"-\",OFFSET(N_W_1_2!$G$4,AB112,0))","v":0},"-",null,null,null,{"$f":"IFERROR(MATCH(D112,Nr_stad!$U$8:$U$60,0),0)","v":0},0,0,0,0,0,0,0,0,0,"-",""]
[null,null,null,null,null,null,null,null,"",null,null,null,0,{"$f":"IF(S113>0,\"-\",OFFSET(N_W_1_2!$G$4,AB113,0))","v":0},"-",null,null,null,{"$f":"IFERROR(MATCH(D113,Nr_stad!$U$8:$U$60,0),0)","v":0},0,0,0,0,0,0,0,0,0,"-",""]
[null,null,null,null,null,null,null,null,"",null,null,null,0,{"$f":"IF(S114>0,\"-\",OFFSET(N_W_1_2!$G$4,AB114,0))","v":0},"-",null,null,null,{"$f":"IFERROR(MATCH(D114,Nr_stad!$U$8:$U$60,0),0)","v":0},0,0,0,0,0,0,0,0,0,"-",""]
[null,null,null,null,null,null,null,null,"",null,null,null,0,{"$f":"IF(S115>0,\"-\",OFFSET(N_W_1_2!$G$4,AB115,0))","v":0},"-",null,null,null,{"$f":"IFERROR(MATCH(D115,Nr_stad!$U$8:$U$60,0),0)","v":0},0,0,0,0,0,0,0,0,0,"-",""]
[null,null,null,null,null,null,null,null,"",null,null,null,0,{"$f":"IF(S116>0,\"-\",OFFSET(N_W_1_2!$G$4,AB116,0))","v":0},"-",null,null,null,{"$f":"IFERROR(MATCH(D116,Nr_stad!$U$8:$U$60,0),0)","v":0},0,0,0,0,0,0,0,0,0,"-",""]
[null,null,null,null,null,null,null,null,"",null,null,null,0,{"$f":"IF(S117>0,\"-\",OFFSET(N_W_1_2!$G$4,AB117,0))","v":0},"-",null,null,null,{"$f":"IFERROR(MATCH(D117,Nr_stad!$U$8:$U$60,0),0)","v":0},0,0,0,0,0,0,0,0,0,"-",""]
[null,null,null,null,null,null,null,null,"",null,null,null,0,{"$f":"IF(S118>0,\"-\",OFFSET(N_W_1_2!$G$4,AB118,0))","v":0},"-",null,null,null,{"$f":"IFERROR(MATCH(D118,Nr_stad!$U$8:$U$60,0),0)","v":0},0,0,0,0,0,0,0,0,0,"-",""]
[null,null,null,null,null,null,null,null,"",null,null,null,0,{"$f":"IF(S119>0,\"-\",OFFSET(N_W_1_2!$G$4,AB119,0))","v":0},"-",null,null,null,{"$f":"IFERROR(MATCH(D119,Nr_stad!$U$8:$U$60,0),0)","v":0},0,0,0,0,0,0,0,0,0,"-",""]
[null,null,null,null,null,null,null,null,"",null,null,null,0,{"$f":"IF(S120>0,\"-\",OFFSET(N_W_1_2!$G$4,AB120,0))","v":0},"-",null,null,null,{"$f":"IFERROR(MATCH(D120,Nr_stad!$U$8:$U$60,0),0)","v":0},0,0,0,0,0,0,0,0,0,"-",""]
[null,null,null,null,null,null,null,null,"",null,null,null,0,{"$f":"IF(S121>0,\"-\",OFFSET(N_W_1_2!$G$4,AB121,0))","v":0},"-",null,null,null,{"$f":"IFERROR(MATCH(D121,Nr_stad!$U$8:$U$60,0),0)","v":0},0,0,0,0,0,0,0,0,0,"-",""]
[null,null,null,null,null,null,null,"SUMA POWIERZCHNI BYTOWEJ:",null,null,null,null,{"$f":"SUM(M26:M121)","v":0},null,null,null,null,null,{"$f":"IFERROR(MATCH(D122,Nr_stad!$U$8:$U$60,0),0)","v":0},10,0,0,0,0,0,0,0,0,"-",{"$f":"IF(H122=\"tuczniki\",\"T\",\"\")","v":""}]
[null,null,null,null,null,null,null,null,null,null,null,null,{"$f":"K123*L123","v":0},{"$f":"IF(S123>0,\"-\",OFFSET(N_W_1_2!$G$4,AB123,0))","v":0},"-",null,null,null,null,{"$f":"SUM(H123:O123)","v":0},{"$f":"IF(AND($H123>1,$H123<=U$25),1,0)","v":0},{"$f":"IF($H123>U$25,2,0)","v":0},{"$f":"IF($H123>V$25,3,0)","v":0},{"$f":"IF($H123>W$25,4,0)","v":0},{"$f":"IF($H123>X$25,5,0)","v":0},{"$f":"IF($H123>Y$25,6,0)","v":0},{"$f":"IF($H123>Z$25,7,0)","v":0},0,"-",{"$f":"IF(D123=\"tuczniki\",\"T\",\"\")","v":""}]
[null,null,null,null,null,null,null,null,null,null,null,null,{"$f":"K124*L124","v":0},{"$f":"IF(S124>0,\"-\",OFFSET(N_W_1_2!$G$4,AB124,0))","v":0},"-",null,null,null,null,{"$f":"SUM(H124:O124)","v":0},{"$f":"IF(AND($H124>1,$H124<=U$25),1,0)","v":0},{"$f":"IF($H124>U$25,2,0)","v":0},{"$f":"IF($H124>V$25,3,0)","v":0},{"$f":"IF($H124>W$25,4,0)","v":0},{"$f":"IF($H124>X$25,5,0)","v":0},{"$f":"IF($H124>Y$25,6,0)","v":0},{"$f":"IF($H124>Z$25,7,0)","v":0},0,"-",{"$f":"IF(D124=\"tuczniki\",\"T\",\"\")","v":""}]
[null,null,null,null,null,null,null,null,null,null,null,null,{"$f":"K125*L125","v":0},{"$f":"IF(S125>0,\"-\",OFFSET(N_W_1_2!$G$4,AB125,0))","v":0},"-",null,null,null,null,{"$f":"SUM(H125:O125)","v":0},{"$f":"IF(AND($H125>1,$H125<=U$25),1,0)","v":0},{"$f":"IF($H125>U$25,2,0)","v":0},{"$f":"IF($H125>V$25,3,0)","v":0},{"$f":"IF($H125>W$25,4,0)","v":0},{"$f":"IF($H125>X$25,5,0)","v":0},{"$f":"IF($H125>Y$25,6,0)","v":0},{"$f":"IF($H125>Z$25,7,0)","v":0},0,"-",{"$f":"IF(D125=\"tuczniki\",\"T\",\"\")","v":""}]
[null,null,null,null,null,null,null,null,null,null,null,null,{"$f":"K126*L126","v":0},{"$f":"IF(S126>0,\"-\",OFFSET(N_W_1_2!$G$4,AB126,0))","v":0},"-",null,null,null,null,{"$f":"SUM(H126:O126)","v":0},{"$f":"IF(AND($H126>1,$H126<=U$25),1,0)","v":0},{"$f":"IF($H126>U$25,2,0)","v":0},{"$f":"IF($H126>V$25,3,0)","v":0},{"$f":"IF($H126>W$25,4,0)","v":0},{"$f":"IF($H126>X$25,5,0)","v":0},{"$f":"IF($H126>Y$25,6,0)","v":0},{"$f":"IF($H126>Z$25,7,0)","v":0},0,"-",{"$f":"IF(D126=\"tuczniki\",\"T\",\"\")","v":""}]
[null,null,null,null,null,null,null,"SUMA LICZBY WARCHLAKÓW I TUCZNIKÓW:",null,null,null,null,null,null,{"$f":"SUM(O26:O126)","v":0},{"$f":"SUM(P26:P126)","v":0}]
[]
[null,null,null,"ROCZNA SZACOWANA LICZBA WYPRODUKOWANYCH TUCZNIKÓW:",null,null,null,null,null,null,null,null,null,null,{"$f":"IFERROR(SUMIF(AD26:AD125,\"T\",O26:O125)*(12/$J$20),\"\")","v":""}]
[]
[null,null,null,null,null,null,null,null,null,null,null,null,null,null,{"$f":"IFERROR(TRUNC(T95+T125),\"\")","v":0}]

{"sheet":"Krowy_MLECZNE_powierzch","index":9,"n_rows":188,"n_cols":26,"rows_kept":188,"cut":false,"hidden":false,"merged":[[3,3,3,10],[12,4,12,12],[14,4,14,12],[15,4,15,12],[13,4,13,12],[16,4,16,12],[19,4,19,12],[17,4,17,12],[176,3,176,4],[176,7,176,8],[176,9,176,10],[173,3,173,4],[173,7,173,8],[173,9,173,10],[174,3,174,4],[174,7,174,8],[174,9,174,10],[175,3,175,4],[175,7,175,8],[175,9,175,10],[170,3,170,4],[170,7,170,8],[170,9,170,10],[171,3,171,4],[166,3,166,4],[166,7,166,8],[166,9,166,10],[171,7,171,8],[171,9,171,10],[172,3,172,4],[172,7,172,8],[172,9,172,10],[167,3,167,4],[167,7,167,8],[167,9,167,10],[168,3,168,4],[168,7,168,8],[168,9,168,10],[169,3,169,4],[169,7,169,8],[169,9,169,10],[163,3,163,4],[163,7,163,8],[163,9,163,10],[164,3,164,4],[164,7,164,8],[164,9,164,10],[165,3,165,4],[165,7,165,8],[165,9,165,10],[160,3,160,4],[160,7,160,8],[160,9,160,10],[161,3,161,4],[161,7,161,8],[161,9,161,10],[162,3,162,4],[162,7,162,8],[162,9,162,10],[157,3,157,4],[157,7,157,8],[157,9,157,10],[158,3,158,4],[158,7,158,8],[158,9,158,10],[159,3,159,4],[159,7,159,8],[159,9,159,10],[154,3,154,4],[154,7,154,8],[154,9,154,10],[155,3,155,4],[155,7,155,8],[155,9,155,10],[156,3,156,4],[156,7,156,8],[156,9,156,10],[151,3,151,4],[151,7,151,8],[151,9,151,10],[152,3,152,4],[152,7,152,8],[152,9,152,10],[153,3,153,4],[153,7,153,8],[153,9,153,10],[148,3,148,4],[148,7,148,8],[148,9,148,10],[149,3,149,4],[149,7,149,8],[149,9,149,10],[150,3,150,4],[150,7,150,8],[150,9,150,10],[145,3,145,4],[145,7,145,8],[145,9,145,10],[146,3,146,4],[146,7,146,8],[146,9,146,10],[147,3,147,4],[147,7,147,8],[147,9,147,10],[141,7,141,8],[141,9,141,10],[142,3,142,4],[142,7,142,8],[142,9,142,10],[143,3,143,4],[143,7,143,8],[143,9,143,10],[144,3,144,4],[144,7,144,8],[144,9,144,10],[65,3,65,4],[65,11,65,12],[66,3,66,4],[66,11,66,12],[67,3,67,4],[67,11,67,12],[68,3,68,4],[68,11,68,12],[69,3,69,4],[69,11,69,12],[60,3,60,4],[60,11,60,12],[61,3,61,4],[61,11,61,12],[62,3,62,4],[62,11,62,12],[63,3,63,4],[63,11,63,12],[64,3,64,4],[64,11,64,12],[55,3,55,4],[55,11,55,12],[56,3,56,4],[56,11,56,12],[57,3,57,4],[57,11,57,12],[58,3,58,4],[58,11,58,12],[59,3,59,4],[59,11,59,12],[50,3,50,4],[50,11,50,12],[51,3,51,4],[51,11,51,12],[52,3,52,4],[52,11,52,12],[53,3,53,4],[53,11,53,12],[54,3,54,4],[54,11,54,12],[45,3,45,4],[45,11,45,12],[46,3,46,4],[46,11,46,12],[47,3,47,4],[47,11,47,12],[48,3,48,4],[48,11,48,12],[49,3,49,4],[49,11,49,12],[40,3,40,4],[40,11,40,12],[41,3,41,4],[41,11,41,12],[42,3,42,4],[42,11,42,12],[43,3,43,4],[43,11,43,12],[44,3,44,4],[44,11,44,12],[35,3,35,4],[35,11,35,12],[36,3,36,4],[36,11,36,12],[37,3,37,4],[37,11,37,12],[38,3,38,4],[38,11,38,12],[39,3,39,4],[39,11,39,12],[30,3,30,4],[30,11,30,12],[31,3,31,4],[31,11,31,12],[32,3,32,4],[32,11,32,12],[33,3,33,4],[33,11,33,12],[34,3,34,4],[34,11,34,12],[106,3,106,4],[107,3,107,4],[108,3,108,4],[109,3,109,4],[110,3,110,4],[111,3,111,4],[112,3,112,4],[113,3,113,4],[122,11,122,12],[111,11,111,12],[109,11,109,12],[110,11,110,12],[112,11,112,12],[124,11,124,12],[26,5,26,7],[105,11,105,12],[108,11,108,12],[26,8,26,10],[26,11,27,12],[28,11,28,12],[29,11,29,12],[116,11,116,12],[123,11,123,12],[117,11,117,12],[118,11,118,12],[119,11,119,12],[120,11,120,12],[121,11,121,12],[124,3,124,6],[26,3,28,4],[106,11,106,12],[114,11,114,12],[113,11,113,12],[115,11,115,12],[107,11,107,12],[29,3,29,4],[105,3,105,4],[124,8,124,9],[119,3,119,4],[120,3,120,4],[121,3,121,4],[122,3,122,4],[123,3,123,4],[114,3,114,4],[115,3,115,4],[116,3,116,4],[117,3,117,4],[118,3,118,4],[127,9,128,10],[127,3,129,4],[130,3,130,4],[177,3,177,4],[127,5,127,8],[128,7,128,8],[129,7,129,8],[130,7,130,8],[177,7,177,8],[131,3,131,4],[131,7,131,8],[131,9,131,10],[132,3,132,4],[132,7,132,8],[132,9,132,10],[133,3,133,4],[133,7,133,8],[133,9,133,10],[134,3,134,4],[134,7,134,8],[134,9,134,10],[135,3,135,4],[135,7,135,8],[135,9,135,10],[178,3,178,4],[178,7,178,8],[178,9,178,10],[179,3,179,4],[179,7,179,8],[179,9,179,10],[184,7,184,8],[184,9,184,10],[136,3,136,4],[136,7,136,8],[136,9,136,10],[137,3,137,4],[137,7,137,8],[137,9,137,10],[138,3,138,4],[138,7,138,8],[138,9,138,10],[139,3,139,4],[139,7,139,8],[139,9,139,10],[140,3,140,4],[140,7,140,8],[140,9,140,10],[141,3,141,4],[4,3,4,11],[4,12,4,14],[186,3,186,6],[186,7,186,8],[186,9,186,10],[180,3,180,4],[180,7,180,8],[180,9,180,10],[181,3,181,4],[181,7,181,8],[181,9,181,10],[182,3,182,4],[182,7,182,8],[182,9,182,10],[183,3,183,4],[183,7,183,8],[183,9,183,10],[185,3,185,4],[185,7,185,8],[185,9,185,10],[129,9,129,10],[130,9,130,10],[177,9,177,10],[184,3,184,4],[22,7,22,8],[22,10,22,12],[22,3,22,5],[9,3,9,11],[6,3,6,12],[7,3,7,5],[7,7,7,8],[7,10,7,12],[8,3,8,5],[8,7,8,8],[8,10,8,12],[20,4,20,12],[21,3,21,12],[18,10,18,11],[18,3,18,9],[96,3,96,4],[96,11,96,12],[97,3,97,4],[97,11,97,12],[98,3,98,4],[98,11,98,12],[93,3,93,4],[93,11,93,12],[94,3,94,4],[94,11,94,12],[95,3,95,4],[95,11,95,12],[73,3,73,4],[73,11,73,12],[74,3,74,4],[74,11,74,12],[75,3,75,4],[75,11,75,12],[70,3,70,4],[70,11,70,12],[71,3,71,4],[71,11,71,12],[72,3,72,4],[72,11,72,12],[79,3,79,4],[79,11,79,12],[80,3,80,4],[80,11,80,12],[81,3,81,4],[81,11,81,12],[76,3,76,4],[76,11,76,12],[77,3,77,4],[77,11,77,12],[78,3,78,4],[78,11,78,12],[85,3,85,4],[85,11,85,12],[86,3,86,4],[86,11,86,12],[87,3,87,4],[87,11,87,12],[82,3,82,4],[82,11,82,12],[83,3,83,4],[83,11,83,12],[84,3,84,4],[84,11,84,12],[125,4,125,9],[187,3,187,7],[91,3,91,4],[91,11,91,12],[92,3,92,4],[92,11,92,12],[88,3,88,4],[88,11,88,12],[89,3,89,4],[89,11,89,12],[90,3,90,4],[90,11,90,12],[102,3,102,4],[102,11,102,12],[103,3,103,4],[103,11,103,12],[104,3,104,4],[104,11,104,12],[99,3,99,4],[99,11,99,12],[100,3,100,4],[100,11,100,12],[101,3,101,4],[101,11,101,12]]}
[null,null,"Uwaga !!! Po wydrukowaniu uzupełnić ręcznie Oświadczenie i czytelnie podpisać",null,null,null,null,null,null,null,null,null,"POWRÓT",null,null,null,null,null,null,null,null,null,null,null,"UWAGI","Uwagi"]
[]
[null,null,"II. Część szczegółowa  "]
[null,null,"II.3.","Dobrostan krów mlecznych"]
[null,null,{"$f":"IF(R5=TRUE,S5,T5)","v":"☐"},"Płatność przysługuje do krowy, w odniesieniu do której rolnik określił w IRZ Plus mleczny typ użytkowy, a w przypadku krowy typu użytkowego kombinowanego – mleczny kierunek jej użytkowania. Zgłoszeń tych rolnik dokonuje w terminie do dnia 31 lipca roku, w którym został złożony wniosek o przyznanie płatności dobrostanowej, a w przypadku krów objętych wymogami tego wariantu w trakcie okresu realizacji wymogów w ramach tego wariantu – przed upływem 7 dni od dnia objęcia krowy tymi wymogami.",null,null,null,null,null,null,null,null,null,null,null,null,null,false,"☒","☐"]
[null,null,"II.3.1.","Informacja o stadzie krów mlecznych"]
[null,null,null,"System utrzymywania krów mlecznych w gospodarstwie jest zgodny z klasyfikacją przyjętą w rozporządzeniu Ministra Rolnictwa i Rozwoju Wsi z dnia 23 grudnia 2022 r. w sprawie szczegółowego zakresu informacji zawartych w komputerowej bazie danych (Dz.U. z 2023 r. poz. 15), z zaznaczeniem utrzymywania tych zwierząt na ściółce.",null,null,null,null,null,null,null,null,null,null,null,null,null,null,null,null,null,null,null,null,"Uzgodnienia z MRiRW w dniu 14.03.23"]
[]
[null,null,null,"(miejscowość i data)",null,null,null,"(czytelny podpis rolnika)",null,null,"(czytelny podpis doradcy)"]
[null,null,null,"Liczba krów mlecznych i jałówek powyżej 24 m-ca życia na dzień sporządzenia planu:"]
[null,null,"II.3.2.","System produkcji gospodarstwie ",null,null,null,null,null,null,null,null,null,null,null,null,null,false,"☒","☐"]
[]
[null,null,null,null,null,null,null,null,null,null,null,null,null,null,null,null,null,true,"☒","☐"]
[null,null,null,null,"Krowom mlecznym utrzymywanym grupowo bez uwięzi wolnostanowiskowo zapewnia się zwiększoną o co najmniej:",null,null,null,null,null,null,null,null,null,null,null,null,1,"☒","☐"]
[null,null,null,{"$f":"IF($R$14=1,$S$14,$T$14)","v":"☒"}," 20% powierzchnię bytową w pomieszczeniach/budynkach "]
[null,null,null,{"$f":"IF($R$14=2,$S$14,$T$14)","v":"☐"},"50% powierzchnię bytową w pomieszczeniach/budynkach "]
[null,null,null,{"$f":"IF(R17=TRUE,S17,T17)","v":"☐"},"Ściółka:\nBudynek/pomieszczenie dostosowane do stosowania ściółki",null,null,null,null,null,null,null,null,null,null,null,null,false,"☒","☐"]
[null,null,null,{"$f":"IF(R18=TRUE,S18,T18)","v":"☐"},"Wybieg:\nGospodarstwo przystosowane do zapewnienia wybiegu",null,null,null,null,null,null,null,null,null,null,null,null,false,"☒","☐"]
[null,null,{"$f":"IF($R$19=TRUE,$S$19,$T$19)","v":"☐"},"Odsadzenie cieląt:\n Cielęta odsadza się nie wcześniej niż w 5. dniu od dnia ich urodzenia.\nRolnik który ubiega się o przyznanie płatności za późniejsze odsadzanie cieląt od krów mlecznych składa do  ARiMR , na formularzu udostępnionym na stronie internetowej ARiMR  rejestr terminów odsadzenia, w którym wskazuje wszystkie krowy mleczne oraz terminy urodzenia i odsadzenia cieląt pochodzących od danej krowy mlecznej",null,null,null,null,null,null,"Informacja w jakim wieku odsadzane są cielęta (w dniach)",null,null,null,null,null,null,false,"☒","☐",null,null,null,null,"Uzgodnienia z MRiRW w dniu 14.03.23"]
[null,null,null,{"$f":"IF(R20=TRUE,S20,T20)","v":"☐"},"Do planu poprawy dobrostanu zwierząt dołączono szkic obiektów ze wskazaniem  pomieszczeń/budynków, w których utrzymywane są zwierzęta z uwzględnieniem, jeśli dotyczy, kilku  posiadaczy wraz ze wskazanymi sekcjami, w których utrzymywane są krowy mleczne",null,null,null,null,null,null,null,null,null,null,null,null,false,"☒","☐"]
[null,null,null,{"$f":"IF(R21=TRUE,S21,T21)","v":"☐"},"Do planu poprawy dobrostanu zwierząt dołączono szkic gospodarstwa ze wskazanymi działkami ewidencyjnymi, na których są zlokalizowane zewnętrzne powierzchnie bytowe (pastwiska, wybiegi lub okólniki) przeznaczone dla zwierząt objętych wymogami praktyki i wariantu. Rolnik który ubiega się o przyznanie płatności za zapewnienie wybiegu składa do ARiMR, na formularzu udostępnionym na stronie internetowej ARiMR rejestr wybiegu.",null,null,null,null,null,null,null,null,null,null,null,null,false,"☒","☐"]
[null,null,null,"Informacja o spełnianiu odpowiednich minimalnych wymogów:\nPowierzchnia bytowa w pomieszczeniach lub w budynkach, w których utrzymywane jest bydło inne niż krowy mleczne jest zgodna z odpowiednimi minimalnymi wymogami dotyczącymi dobrostanu zwierząt, o których mowa w art. 31 ust. 5 lit. b rozporządzenia 2021/2115, określonymi w rozporządzeniu Ministra Rolnictwa i Rozwoju Wsi z dnia 15 lutego 2010 r. w sprawie wymagań i sposobu postępowania przy utrzymywaniu gatunków zwierząt gospodarskich, dla których normy ochrony zostały określone w przepisach Unii Europejskiej, oraz innych odpowiednich obowiązkowych wymogów, o których mowa w art. 31 ust. 5 lit. b rozporządzenia 2021/2115, określonych w rozporządzeniu Ministra Rolnictwa i Rozwoju Wsi z dnia 28 czerwca 2010 r. w sprawie minimalnych warunków utrzymywania gatunków zwierząt gospodarskich innych niż te, dla których normy ochrony zostały określone w przepisach Unii Europejskiej."]
[null,null,null,"(miejscowość i data)",null,null,null,"(czytelny podpis rolnika)",null,null,"(czytelny podpis doradcy"]
[]
[null,null,"II.3.3.","Zwiększona powierzchnia w  pomieszczeniach/budynkach o",null,null,null,null,null,{"$f":"IF(R14=1,0.2,0.5)","v":0.2}]
[null,null,"II.3.3.1.","System  wolnostanowiskowy z wydzielonymi legowiskami"]
[null,null,null,"Numer siedziby stada albo \nNazwa obiektu / sekcja\n krów mlecznych",null,"Liczba  wydzielonych legowisk spełniających wymóg minimalnych wymiarów ",null,null,"Powierzchnia odpasowo-ruchowa",null,null,"Maksymalna liczba krów mlecznych"]
[null,null,null,null,null,"długość","szerokość","liczba legowisk","długość","szerokość","powierzch\nnia",null,null,null,null,null,null,null,"długość","szerokość","powierzchnia","nr stad"]
[null,null,null,null,null,"m","m","szt.","m","m","m2","szt",null,null,null,null,null,null,"m","m","m2"]
[null,null,null,null,null,null,null,null,null,null,{"$f":"IFERROR(I30*J30,0)","v":0},{"$f":"IF(TRUNC(K30/N_W_2_2!$G$8)>H30,H30,TRUNC(K30/N_W_2_2!$G$8))","v":0},null,null,null,null,null,{"$f":"SUM(F30:M30)+V30","v":0},{"$f":"N_W_2_2!G6","v":2.1},{"$f":"N_W_2_2!G7","v":1.1000000000000001},{"$f":"N_W_2_2!G8","v":4},{"$f":"IFERROR(MATCH(D30,Nr_stad!$U$8:$U$60,0),0)","v":0}]
[null,null,null,null,null,null,null,null,null,null,0,{"$f":"IF(TRUNC(K31/N_W_2_2!$G$8)>H31,H31,TRUNC(K31/N_W_2_2!$G$8))","v":0},null,null,null,null,null,{"$f":"SUM(F31:M31)+V31","v":0},null,null,null,{"$f":"IFERROR(MATCH(D31,Nr_stad!$U$8:$U$60,0),0)","v":0}]
[null,null,null,null,null,null,null,null,null,null,0,{"$f":"IF(TRUNC(K32/N_W_2_2!$G$8)>H32,H32,TRUNC(K32/N_W_2_2!$G$8))","v":0},null,null,null,null,null,0,null,null,null,{"$f":"IFERROR(MATCH(D32,Nr_stad!$U$8:$U$60,0),0)","v":0}]
[null,null,null,null,null,null,null,null,null,null,0,{"$f":"IF(TRUNC(K33/N_W_2_2!$G$8)>H33,H33,TRUNC(K33/N_W_2_2!$G$8))","v":0},null,null,null,null,null,0,null,null,null,{"$f":"IFERROR(MATCH(D33,Nr_stad!$U$8:$U$60,0),0)","v":0}]
[null,null,null,null,null,null,null,null,null,null,0,{"$f":"IF(TRUNC(K34/N_W_2_2!$G$8)>H34,H34,TRUNC(K34/N_W_2_2!$G$8))","v":0},null,null,null,null,null,0,null,null,null,{"$f":"IFERROR(MATCH(D34,Nr_stad!$U$8:$U$60,0),0)","v":0}]
[null,null,null,null,null,null,null,null,null,null,0,{"$f":"IF(TRUNC(K35/N_W_2_2!$G$8)>H35,H35,TRUNC(K35/N_W_2_2!$G$8))","v":0},null,null,null,null,null,0,null,null,null,{"$f":"IFERROR(MATCH(D35,Nr_stad!$U$8:$U$60,0),0)","v":0}]
[null,null,null,null,null,null,null,null,null,null,0,{"$f":"IF(TRUNC(K36/N_W_2_2!$G$8)>H36,H36,TRUNC(K36/N_W_2_2!$G$8))","v":0},null,null,null,null,null,0,null,null,null,{"$f":"IFERROR(MATCH(D36,Nr_stad!$U$8:$U$60,0),0)","v":0}]
[null,null,null,null,null,null,null,null,null,null,0,{"$f":"IF(TRUNC(K37/N_W_2_2!$G$8)>H37,H37,TRUNC(K37/N_W_2_2!$G$8))","v":0},null,null,null,null,null,0,null,null,null,{"$f":"IFERROR(MATCH(D37,Nr_stad!$U$8:$U$60,0),0)","v":0}]
[null,null,null,null,null,null,null,null,null,null,0,{"$f":"IF(TRUNC(K38/N_W_2_2!$G$8)>H38,H38,TRUNC(K38/N_W_2_2!$G$8))","v":0},null,null,null,null,null,0,null,null,null,{"$f":"IFERROR(MATCH(D38,Nr_stad!$U$8:$U$60,0),0)","v":0}]
[null,null,null,null,null,null,null,null,null,null,0,{"$f":"IF(TRUNC(K39/N_W_2_2!$G$8)>H39,H39,TRUNC(K39/N_W_2_2!$G$8))","v":0},null,null,null,null,null,0,null,null,null,{"$f":"IFERROR(MATCH(D39,Nr_stad!$U$8:$U$60,0),0)","v":0}]
[null,null,null,null,null,null,null,null,null,null,0,{"$f":"IF(TRUNC(K40/N_W_2_2!$G$8)>H40,H40,TRUNC(K40/N_W_2_2!$G$8))","v":0},null,null,null,null,null,0,null,null,null,{"$f":"IFERROR(MATCH(D40,Nr_stad!$U$8:$U$60,0),0)","v":0}]
[null,null,null,null,null,null,null,null,null,null,0,{"$f":"IF(TRUNC(K41/N_W_2_2!$G$8)>H41,H41,TRUNC(K41/N_W_2_2!$G$8))","v":0},null,null,null,null,null,0,null,null,null,{"$f":"IFERROR(MATCH(D41,Nr_stad!$U$8:$U$60,0),0)","v":0}]
[null,null,null,null,null,null,null,null,null,null,0,{"$f":"IF(TRUNC(K42/N_W_2_2!$G$8)>H42,H42,TRUNC(K42/N_W_2_2!$G$8))","v":0},null,null,null,null,null,0,null,null,null,{"$f":"IFERROR(MATCH(D42,Nr_stad!$U$8:$U$60,0),0)","v":0}]
[null,null,null,null,null,null,null,null,null,null,0,{"$f":"IF(TRUNC(K43/N_W_2_2!$G$8)>H43,H43,TRUNC(K43/N_W_2_2!$G$8))","v":0},null,null,null,null,null,0,null,null,null,{"$f":"IFERROR(MATCH(D43,Nr_stad!$U$8:$U$60,0),0)","v":0}]
[null,null,null,null,null,null,null,null,null,null,0,{"$f":"IF(TRUNC(K44/N_W_2_2!$G$8)>H44,H44,TRUNC(K44/N_W_2_2!$G$8))","v":0},null,null,null,null,null,0,null,null,null,{"$f":"IFERROR(MATCH(D44,Nr_stad!$U$8:$U$60,0),0)","v":0}]
[null,null,null,null,null,null,null,null,null,null,0,{"$f":"IF(TRUNC(K45/N_W_2_2!$G$8)>H45,H45,TRUNC(K45/N_W_2_2!$G$8))","v":0},null,null,null,null,null,0,null,null,null,{"$f":"IFERROR(MATCH(D45,Nr_stad!$U$8:$U$60,0),0)","v":0}]
[null,null,null,null,null,null,null,null,null,null,0,{"$f":"IF(TRUNC(K46/N_W_2_2!$G$8)>H46,H46,TRUNC(K46/N_W_2_2!$G$8))","v":0},null,null,null,null,null,0,null,null,null,{"$f":"IFERROR(MATCH(D46,Nr_stad!$U$8:$U$60,0),0)","v":0}]
[null,null,null,null,null,null,null,null,null,null,0,{"$f":"IF(TRUNC(K47/N_W_2_2!$G$8)>H47,H47,TRUNC(K47/N_W_2_2!$G$8))","v":0},null,null,null,null,null,0,null,null,null,{"$f":"IFERROR(MATCH(D47,Nr_stad!$U$8:$U$60,0),0)","v":0}]
[null,null,null,null,null,null,null,null,null,null,0,{"$f":"IF(TRUNC(K48/N_W_2_2!$G$8)>H48,H48,TRUNC(K48/N_W_2_2!$G$8))","v":0},null,null,null,null,null,0,null,null,null,{"$f":"IFERROR(MATCH(D48,Nr_stad!$U$8:$U$60,0),0)","v":0}]
[null,null,null,null,null,null,null,null,null,null,0,{"$f":"IF(TRUNC(K49/N_W_2_2!$G$8)>H49,H49,TRUNC(K49/N_W_2_2!$G$8))","v":0},null,null,null,null,null,0,null,null,null,{"$f":"IFERROR(MATCH(D49,Nr_stad!$U$8:$U$60,0),0)","v":0}]
[null,null,null,null,null,null,null,null,null,null,0,{"$f":"IF(TRUNC(K50/N_W_2_2!$G$8)>H50,H50,TRUNC(K50/N_W_2_2!$G$8))","v":0},null,null,null,null,null,0,null,null,null,{"$f":"IFERROR(MATCH(D50,Nr_stad!$U$8:$U$60,0),0)","v":0}]
[null,null,null,null,null,null,null,null,null,null,0,{"$f":"IF(TRUNC(K51/N_W_2_2!$G$8)>H51,H51,TRUNC(K51/N_W_2_2!$G$8))","v":0},null,null,null,null,null,0,null,null,null,{"$f":"IFERROR(MATCH(D51,Nr_stad!$U$8:$U$60,0),0)","v":0}]
[null,null,null,null,null,null,null,null,null,null,0,{"$f":"IF(TRUNC(K52/N_W_2_2!$G$8)>H52,H52,TRUNC(K52/N_W_2_2!$G$8))","v":0},null,null,null,null,null,0,null,null,null,{"$f":"IFERROR(MATCH(D52,Nr_stad!$U$8:$U$60,0),0)","v":0}]
[null,null,null,null,null,null,null,null,null,null,0,{"$f":"IF(TRUNC(K53/N_W_2_2!$G$8)>H53,H53,TRUNC(K53/N_W_2_2!$G$8))","v":0},null,null,null,null,null,0,null,null,null,{"$f":"IFERROR(MATCH(D53,Nr_stad!$U$8:$U$60,0),0)","v":0}]
[null,null,null,null,null,null,null,null,null,null,0,{"$f":"IF(TRUNC(K54/N_W_2_2!$G$8)>H54,H54,TRUNC(K54/N_W_2_2!$G$8))","v":0},null,null,null,null,null,0,null,null,null,{"$f":"IFERROR(MATCH(D54,Nr_stad!$U$8:$U$60,0),0)","v":0}]
[null,null,null,null,null,null,null,null,null,null,0,{"$f":"IF(TRUNC(K55/N_W_2_2!$G$8)>H55,H55,TRUNC(K55/N_W_2_2!$G$8))","v":0},null,null,null,null,null,0,null,null,null,{"$f":"IFERROR(MATCH(D55,Nr_stad!$U$8:$U$60,0),0)","v":0}]
[null,null,null,null,null,null,null,null,null,null,0,{"$f":"IF(TRUNC(K56/N_W_2_2!$G$8)>H56,H56,TRUNC(K56/N_W_2_2!$G$8))","v":0},null,null,null,null,null,0,null,null,null,{"$f":"IFERROR(MATCH(D56,Nr_stad!$U$8:$U$60,0),0)","v":0}]
[null,null,null,null,null,null,null,null,null,null,0,{"$f":"IF(TRUNC(K57/N_W_2_2!$G$8)>H57,H57,TRUNC(K57/N_W_2_2!$G$8))","v":0},null,null,null,null,null,0,null,null,null,{"$f":"IFERROR(MATCH(D57,Nr_stad!$U$8:$U$60,0),0)","v":0}]
[null,null,null,null,null,null,null,null,null,null,0,{"$f":"IF(TRUNC(K58/N_W_2_2!$G$8)>H58,H58,TRUNC(K58/N_W_2_2!$G$8))","v":0},null,null,null,null,null,0,null,null,null,{"$f":"IFERROR(MATCH(D58,Nr_stad!$U$8:$U$60,0),0)","v":0}]
[null,null,null,null,null,null,null,null,null,null,0,{"$f":"IF(TRUNC(K59/N_W_2_2!$G$8)>H59,H59,TRUNC(K59/N_W_2_2!$G$8))","v":0},null,null,null,null,null,0,null,null,null,{"$f":"IFERROR(MATCH(D59,Nr_stad!$U$8:$U$60,0),0)","v":0}]
[null,null,null,null,null,null,null,null,null,null,0,{"$f":"IF(TRUNC(K60/N_W_2_2!$G$8)>H60,H60,TRUNC(K60/N_W_2_2!$G$8))","v":0},null,null,null,null,null,0,null,null,null,{"$f":"IFERROR(MATCH(D60,Nr_stad!$U$8:$U$60,0),0)","v":0}]
[null,null,null,null,null,null,null,null,null,null,0,{"$f":"IF(TRUNC(K61/N_W_2_2!$G$8)>H61,H61,TRUNC(K61/N_W_2_2!$G$8))","v":0},null,null,null,null,null,0,null,null,null,{"$f":"IFERROR(MATCH(D61,Nr_stad!$U$8:$U$60,0),0)","v":0}]
[null,null,null,null,null,null,null,null,null,null,0,{"$f":"IF(TRUNC(K62/N_W_2_2!$G$8)>H62,H62,TRUNC(K62/N_W_2_2!$G$8))","v":0},null,null,null,null,null,0,null,null,null,{"$f":"IFERROR(MATCH(D62,Nr_stad!$U$8:$U$60,0),0)","v":0}]
[null,null,null,null,null,null,null,null,null,null,0,{"$f":"IF(TRUNC(K63/N_W_2_2!$G$8)>H63,H63,TRUNC(K63/N_W_2_2!$G$8))","v":0},null,null,null,null,null,0,null,null,null,{"$f":"IFERROR(MATCH(D63,Nr_stad!$U$8:$U$60,0),0)","v":0}]
[null,null,null,null,null,null,null,null,null,null,0,{"$f":"IF(TRUNC(K64/N_W_2_2!$G$8)>H64,H64,TRUNC(K64/N_W_2_2!$G$8))","v":0},null,null,null,null,null,0,null,null,null,{"$f":"IFERROR(MATCH(D64,Nr_stad!$U$8:$U$60,0),0)","v":0}]
[null,null,null,null,null,null,null,null,null,null,0,{"$f":"IF(TRUNC(K65/N_W_2_2!$G$8)>H65,H65,TRUNC(K65/N_W_2_2!$G$8))","v":0},null,null,null,null,null,0,null,null,null,{"$f":"IFERROR(MATCH(D65,Nr_stad!$U$8:$U$60,0),0)","v":0}]
[null,null,null,null,null,null,null,null,null,null,0,{"$f":"IF(TRUNC(K66/N_W_2_2!$G$8)>H66,H66,TRUNC(K66/N_W_2_2!$G$8))","v":0},null,null,null,null,null,0,null,null,null,{"$f":"IFERROR(MATCH(D66,Nr_stad!$U$8:$U$60,0),0)","v":0}]
[null,null,null,null,null,null,null,null,null,null,0,{"$f":"IF(TRUNC(K67/N_W_2_2!$G$8)>H67,H67,TRUNC(K67/N_W_2_2!$G$8))","v":0},null,null,null,null,null,0,null,null,null,{"$f":"IFERROR(MATCH(D67,Nr_stad!$U$8:$U$60,0),0)","v":0}]
[null,null,null,null,null,null,null,null,null,null,0,{"$f":"IF(TRUNC(K68/N_W_2_2!$G$8)>H68,H68,TRUNC(K68/N_W_2_2!$G$8))","v":0},null,null,null,null,null,0,null,null,null,{"$f":"IFERROR(MATCH(D68,Nr_stad!$U$8:$U$60,0),0)","v":0}]
[null,null,null,null,null,null,null,null,null,null,0,{"$f":"IF(TRUNC(K69/N_W_2_2!$G$8)>H69,H69,TRUNC(K69/N_W_2_2!$G$8))","v":0},null,null,null,null,null,0,null,null,null,{"$f":"IFERROR(MATCH(D69,Nr_stad!$U$8:$U$60,0),0)","v":0}]
[null,null,null,null,null,null,null,null,null,null,0,{"$f":"IF(TRUNC(K70/N_W_2_2!$G$8)>H70,H70,TRUNC(K70/N_W_2_2!$G$8))","v":0},null,null,null,null,null,0,null,null,null,{"$f":"IFERROR(MATCH(D70,Nr_stad!$U$8:$U$60,0),0)","v":0}]
[null,null,null,null,null,null,null,null,null,null,0,{"$f":"IF(TRUNC(K71/N_W_2_2!$G$8)>H71,H71,TRUNC(K71/N_W_2_2!$G$8))","v":0},null,null,null,null,null,0,null,null,null,{"$f":"IFERROR(MATCH(D71,Nr_stad!$U$8:$U$60,0),0)","v":0}]
[null,null,null,null,null,null,null,null,null,null,0,{"$f":"IF(TRUNC(K72/N_W_2_2!$G$8)>H72,H72,TRUNC(K72/N_W_2_2!$G$8))","v":0},null,null,null,null,null,0,null,null,null,{"$f":"IFERROR(MATCH(D72,Nr_stad!$U$8:$U$60,0),0)","v":0}]
[null,null,null,null,null,null,null,null,null,null,0,{"$f":"IF(TRUNC(K73/N_W_2_2!$G$8)>H73,H73,TRUNC(K73/N_W_2_2!$G$8))","v":0},null,null,null,null,null,0,null,null,null,{"$f":"IFERROR(MATCH(D73,Nr_stad!$U$8:$U$60,0),0)","v":0}]
[null,null,null,null,null,null,null,null,null,null,0,{"$f":"IF(TRUNC(K74/N_W_2_2!$G$8)>H74,H74,TRUNC(K74/N_W_2_2!$G$8))","v":0},null,null,null,null,null,0,null,null,null,{"$f":"IFERROR(MATCH(D74,Nr_stad!$U$8:$U$60,0),0)","v":0}]
[null,null,null,null,null,null,null,null,null,null,0,{"$f":"IF(TRUNC(K75/N_W_2_2!$G$8)>H75,H75,TRUNC(K75/N_W_2_2!$G$8))","v":0},null,null,null,null,null,0,null,null,null,{"$f":"IFERROR(MATCH(D75,Nr_stad!$U$8:$U$60,0),0)","v":0}]
[null,null,null,null,null,null,null,null,null,null,0,{"$f":"IF(TRUNC(K76/N_W_2_2!$G$8)>H76,H76,TRUNC(K76/N_W_2_2!$G$8))","v":0},null,null,null,null,null,0,null,null,null,{"$f":"IFERROR(MATCH(D76,Nr_stad!$U$8:$U$60,0),0)","v":0}]
[null,null,null,null,null,null,null,null,null,null,0,{"$f":"IF(TRUNC(K77/N_W_2_2!$G$8)>H77,H77,TRUNC(K77/N_W_2_2!$G$8))","v":0},null,null,null,null,null,0,null,null,null,{"$f":"IFERROR(MATCH(D77,Nr_stad!$U$8:$U$60,0),0)","v":0}]
[null,null,null,null,null,null,null,null,null,null,0,{"$f":"IF(TRUNC(K78/N_W_2_2!$G$8)>H78,H78,TRUNC(K78/N_W_2_2!$G$8))","v":0},null,null,null,null,null,0,null,null,null,{"$f":"IFERROR(MATCH(D78,Nr_stad!$U$8:$U$60,0),0)","v":0}]
[null,null,null,null,null,null,null,null,null,null,0,{"$f":"IF(TRUNC(K79/N_W_2_2!$G$8)>H79,H79,TRUNC(K79/N_W_2_2!$G$8))","v":0},null,null,null,null,null,0,null,null,null,{"$f":"IFERROR(MATCH(D79,Nr_stad!$U$8:$U$60,0),0)","v":0}]
[null,null,null,null,null,null,null,null,null,null,0,{"$f":"IF(TRUNC(K80/N_W_2_2!$G$8)>H80,H80,TRUNC(K80/N_W_2_2!$G$8))","v":0},null,null,null,null,null,0,null,null,null,{"$f":"IFERROR(MATCH(D80,Nr_stad!$U$8:$U$60,0),0)","v":0}]
[null,null,null,null,null,null,null,null,null,null,0,{"$f":"IF(TRUNC(K81/N_W_2_2!$G$8)>H81,H81,TRUNC(K81/N_W_2_2!$G$8))","v":0},null,null,null,null,null,0,null,null,null,{"$f":"IFERROR(MATCH(D81,Nr_stad!$U$8:$U$60,0),0)","v":0}]
[null,null,null,null,null,null,null,null,null,null,0,{"$f":"IF(TRUNC(K82/N_W_2_2!$G$8)>H82,H82,TRUNC(K82/N_W_2_2!$G$8))","v":0},null,null,null,null,null,0,null,null,null,{"$f":"IFERROR(MATCH(D82,Nr_stad!$U$8:$U$60,0),0)","v":0}]
[null,null,null,null,null,null,null,null,null,null,0,{"$f":"IF(TRUNC(K83/N_W_2_2!$G$8)>H83,H83,TRUNC(K83/N_W_2_2!$G$8))","v":0},null,null,null,null,null,0,null,null,null,{"$f":"IFERROR(MATCH(D83,Nr_stad!$U$8:$U$60,0),0)","v":0}]
[null,null,null,null,null,null,null,null,null,null,0,{"$f":"IF(TRUNC(K84/N_W_2_2!$G$8)>H84,H84,TRUNC(K84/N_W_2_2!$G$8))","v":0},null,null,null,null,null,0,null,null,null,{"$f":"IFERROR(MATCH(D84,Nr_stad!$U$8:$U$60,0),0)","v":0}]
[null,null,null,null,null,null,null,null,null,null,0,{"$f":"IF(TRUNC(K85/N_W_2_2!$G$8)>H85,H85,TRUNC(K85/N_W_2_2!$G$8))","v":0},null,null,null,null,null,0,null,null,null,{"$f":"IFERROR(MATCH(D85,Nr_stad!$U$8:$U$60,0),0)","v":0}]
[null,null,null,null,null,null,null,null,null,null,0,{"$f":"IF(TRUNC(K86/N_W_2_2!$G$8)>H86,H86,TRUNC(K86/N_W_2_2!$G$8))","v":0},null,null,null,null,null,0,null,null,null,{"$f":"IFERROR(MATCH(D86,Nr_stad!$U$8:$U$60,0),0)","v":0}]
[null,null,null,null,null,null,null,null,null,null,0,{"$f":"IF(TRUNC(K87/N_W_2_2!$G$8)>H87,H87,TRUNC(K87/N_W_2_2!$G$8))","v":0},null,null,null,null,null,0,null,null,null,{"$f":"IFERROR(MATCH(D87,Nr_stad!$U$8:$U$60,0),0)","v":0}]
[null,null,null,null,null,null,null,null,null,null,0,{"$f":"IF(TRUNC(K88/N_W_2_2!$G$8)>H88,H88,TRUNC(K88/N_W_2_2!$G$8))","v":0},null,null,null,null,null,0,null,null,null,{"$f":"IFERROR(MATCH(D88,Nr_stad!$U$8:$U$60,0),0)","v":0}]
[null,null,null,null,null,null,null,null,null,null,0,{"$f":"IF(TRUNC(K89/N_W_2_2!$G$8)>H89,H89,TRUNC(K89/N_W_2_2!$G$8))","v":0},null,null,null,null,null,0,null,null,null,{"$f":"IFERROR(MATCH(D89,Nr_stad!$U$8:$U$60,0),0)","v":0}]
[null,null,null,null,null,null,null,null,null,null,0,{"$f":"IF(TRUNC(K90/N_W_2_2!$G$8)>H90,H90,TRUNC(K90/N_W_2_2!$G$8))","v":0},null,null,null,null,null,0,null,null,null,{"$f":"IFERROR(MATCH(D90,Nr_stad!$U$8:$U$60,0),0)","v":0}]
[null,null,null,null,null,null,null,null,null,null,0,{"$f":"IF(TRUNC(K91/N_W_2_2!$G$8)>H91,H91,TRUNC(K91/N_W_2_2!$G$8))","v":0},null,null,null,null,null,0,null,null,null,{"$f":"IFERROR(MATCH(D91,Nr_stad!$U$8:$U$60,0),0)","v":0}]
[null,null,null,null,null,null,null,null,null,null,0,{"$f":"IF(TRUNC(K92/N_W_2_2!$G$8)>H92,H92,TRUNC(K92/N_W_2_2!$G$8))","v":0},null,null,null,null,null,0,null,null,null,{"$f":"IFERROR(MATCH(D92,Nr_stad!$U$8:$U$60,0),0)","v":0}]
[null,null,null,null,null,null,null,null,null,null,0,{"$f":"IF(TRUNC(K93/N_W_2_2!$G$8)>H93,H93,TRUNC(K93/N_W_2_2!$G$8))","v":0},null,null,null,null,null,0,null,null,null,{"$f":"IFERROR(MATCH(D93,Nr_stad!$U$8:$U$60,0),0)","v":0}]
[null,null,null,null,null,null,null,null,null,null,0,{"$f":"IF(TRUNC(K94/N_W_2_2!$G$8)>H94,H94,TRUNC(K94/N_W_2_2!$G$8))","v":0},null,null,null,null,null,0,null,null,null,{"$f":"IFERROR(MATCH(D94,Nr_stad!$U$8:$U$60,0),0)","v":0}]
[null,null,null,null,null,null,null,null,null,null,{"$f":"IFERROR(I95*J95,0)","v":0},{"$f":"IF(TRUNC(K95/N_W_2_2!$G$8)>H95,H95,TRUNC(K95/N_W_2_2!$G$8))","v":0},null,null,null,null,null,{"$f":"SUM(F95:M95)+V95","v":0},null,null,null,{"$f":"IFERROR(MATCH(D95,Nr_stad!$U$8:$U$60,0),0)","v":0}]
[null,null,null,null,null,null,null,null,null,null,0,{"$f":"IF(TRUNC(K96/N_W_2_2!$G$8)>H96,H96,TRUNC(K96/N_W_2_2!$G$8))","v":0},null,null,null,null,null,0,null,null,null,{"$f":"IFERROR(MATCH(D96,Nr_stad!$U$8:$U$60,0),0)","v":0}]
[null,null,null,null,null,null,null,null,null,null,0,{"$f":"IF(TRUNC(K97/N_W_2_2!$G$8)>H97,H97,TRUNC(K97/N_W_2_2!$G$8))","v":0},null,null,null,null,null,0,null,null,null,{"$f":"IFERROR(MATCH(D97,Nr_stad!$U$8:$U$60,0),0)","v":0}]
[null,null,null,null,null,null,null,null,null,null,0,{"$f":"IF(TRUNC(K98/N_W_2_2!$G$8)>H98,H98,TRUNC(K98/N_W_2_2!$G$8))","v":0},null,null,null,null,null,0,null,null,null,{"$f":"IFERROR(MATCH(D98,Nr_stad!$U$8:$U$60,0),0)","v":0}]
[null,null,null,null,null,null,null,null,null,null,0,{"$f":"IF(TRUNC(K99/N_W_2_2!$G$8)>H99,H99,TRUNC(K99/N_W_2_2!$G$8))","v":0},null,null,null,null,null,0,null,null,null,{"$f":"IFERROR(MATCH(D99,Nr_stad!$U$8:$U$60,0),0)","v":0}]
[null,null,null,null,null,null,null,null,null,null,0,{"$f":"IF(TRUNC(K100/N_W_2_2!$G$8)>H100,H100,TRUNC(K100/N_W_2_2!$G$8))","v":0},null,null,null,null,null,0,null,null,null,{"$f":"IFERROR(MATCH(D100,Nr_stad!$U$8:$U$60,0),0)","v":0}]
[null,null,null,null,null,null,null,null,null,null,0,{"$f":"IF(TRUNC(K101/N_W_2_2!$G$8)>H101,H101,TRUNC(K101/N_W_2_2!$G$8))","v":0},null,null,null,null,null,0,null,null,null,{"$f":"IFERROR(MATCH(D101,Nr_stad!$U$8:$U$60,0),0)","v":0}]
[null,null,null,null,null,null,null,null,null,null,0,{"$f":"IF(TRUNC(K102/N_W_2_2!$G$8)>H102,H102,TRUNC(K102/N_W_2_2!$G$8))","v":0},null,null,null,null,null,0,null,null,null,{"$f":"IFERROR(MATCH(D102,Nr_stad!$U$8:$U$60,0),0)","v":0}]
[null,null,null,null,null,null,null,null,null,null,0,{"$f":"IF(TRUNC(K103/N_W_2_2!$G$8)>H103,H103,TRUNC(K103/N_W_2_2!$G$8))","v":0},null,null,null,null,null,0,null,null,null,{"$f":"IFERROR(MATCH(D103,Nr_stad!$U$8:$U$60,0),0)","v":0}]
[null,null,null,null,null,null,null,null,null,null,0,{"$f":"IF(TRUNC(K104/N_W_2_2!$G$8)>H104,H104,TRUNC(K104/N_W_2_2!$G$8))","v":0},null,null,null,null,null,0,null,null,null,{"$f":"IFERROR(MATCH(D104,Nr_stad!$U$8:$U$60,0),0)","v":0}]
[null,null,null,null,null,null,null,null,null,null,0,{"$f":"IF(TRUNC(K105/N_W_2_2!$G$8)>H105,H105,TRUNC(K105/N_W_2_2!$G$8))","v":0},null,null,null,null,null,0,null,null,null,{"$f":"IFERROR(MATCH(D105,Nr_stad!$U$8:$U$60,0),0)","v":0}]
[null,null,null,null,null,null,null,null,null,null,0,{"$f":"IF(TRUNC(K106/N_W_2_2!$G$8)>H106,H106,TRUNC(K106/N_W_2_2!$G$8))","v":0},null,null,null,null,null,0,null,null,null,{"$f":"IFERROR(MATCH(D106,Nr_stad!$U$8:$U$60,0),0)","v":0}]
[null,null,null,null,null,null,null,null,null,null,0,{"$f":"IF(TRUNC(K107/N_W_2_2!$G$8)>H107,H107,TRUNC(K107/N_W_2_2!$G$8))","v":0},null,null,null,null,null,0,null,null,null,{"$f":"IFERROR(MATCH(D107,Nr_stad!$U$8:$U$60,0),0)","v":0}]
[null,null,null,null,null,null,null,null,null,null,0,{"$f":"IF(TRUNC(K108/N_W_2_2!$G$8)>H108,H108,TRUNC(K108/N_W_2_2!$G$8))","v":0},null,null,null,null,null,0,null,null,null,{"$f":"IFERROR(MATCH(D108,Nr_stad!$U$8:$U$60,0),0)","v":0}]
[null,null,null,null,null,null,null,null,null,null,0,{"$f":"IF(TRUNC(K109/N_W_2_2!$G$8)>H109,H109,TRUNC(K109/N_W_2_2!$G$8))","v":0},null,null,null,null,null,0,null,null,null,{"$f":"IFERROR(MATCH(D109,Nr_stad!$U$8:$U$60,0),0)","v":0}]
[null,null,null,null,null,null,null,null,null,null,0,{"$f":"IF(TRUNC(K110/N_W_2_2!$G$8)>H110,H110,TRUNC(K110/N_W_2_2!$G$8))","v":0},null,null,null,null,null,0,null,null,null,{"$f":"IFERROR(MATCH(D110,Nr_stad!$U$8:$U$60,0),0)","v":0}]
[null,null,null,null,null,null,null,null,null,null,0,{"$f":"IF(TRUNC(K111/N_W_2_2!$G$8)>H111,H111,TRUNC(K111/N_W_2_2!$G$8))","v":0},null,null,null,null,null,0,null,null,null,{"$f":"IFERROR(MATCH(D111,Nr_stad!$U$8:$U$60,0),0)","v":0}]
[null,null,null,null,null,null,null,null,null,null,0,{"$f":"IF(TRUNC(K112/N_W_2_2!$G$8)>H112,H112,TRUNC(K112/N_W_2_2!$G$8))","v":0},null,null,null,null,null,0,null,null,null,{"$f":"IFERROR(MATCH(D112,Nr_stad!$U$8:$U$60,0),0)","v":0}]
[null,null,null,null,null,null,null,null,null,null,0,{"$f":"IF(TRUNC(K113/N_W_2_2!$G$8)>H113,H113,TRUNC(K113/N_W_2_2!$G$8))","v":0},null,null,null,null,null,0,null,null,null,{"$f":"IFERROR(MATCH(D113,Nr_stad!$U$8:$U$60,0),0)","v":0}]
[null,null,null,null,null,null,null,null,null,null,0,{"$f":"IF(TRUNC(K114/N_W_2_2!$G$8)>H114,H114,TRUNC(K114/N_W_2_2!$G$8))","v":0},null,null,null,null,null,0,null,null,null,{"$f":"IFERROR(MATCH(D114,Nr_stad!$U$8:$U$60,0),0)","v":0}]
[null,null,null,null,null,null,null,null,null,null,0,{"$f":"IF(TRUNC(K115/N_W_2_2!$G$8)>H115,H115,TRUNC(K115/N_W_2_2!$G$8))","v":0},null,null,null,null,null,0,null,null,null,{"$f":"IFERROR(MATCH(D115,Nr_stad!$U$8:$U$60,0),0)","v":0}]
[null,null,null,null,null,null,null,null,null,null,0,{"$f":"IF(TRUNC(K116/N_W_2_2!$G$8)>H116,H116,TRUNC(K116/N_W_2_2!$G$8))","v":0},null,null,null,null,null,0,null,null,null,{"$f":"IFERROR(MATCH(D116,Nr_stad!$U$8:$U$60,0),0)","v":0}]
[null,null,null,null,null,null,null,null,null,null,0,{"$f":"IF(TRUNC(K117/N_W_2_2!$G$8)>H117,H117,TRUNC(K117/N_W_2_2!$G$8))","v":0},null,null,null,null,null,0,null,null,null,{"$f":"IFERROR(MATCH(D117,Nr_stad!$U$8:$U$60,0),0)","v":0}]
[null,null,null,null,null,null,null,null,null,null,0,{"$f":"IF(TRUNC(K118/N_W_2_2!$G$8)>H118,H118,TRUNC(K118/N_W_2_2!$G$8))","v":0},null,null,null,null,null,0,null,null,null,{"$f":"IFERROR(MATCH(D118,Nr_stad!$U$8:$U$60,0),0)","v":0}]
[null,null,null,null,null,null,null,null,null,null,0,{"$f":"IF(TRUNC(K119/N_W_2_2!$G$8)>H119,H119,TRUNC(K119/N_W_2_2!$G$8))","v":0},null,null,null,null,null,0,null,null,null,{"$f":"IFERROR(MATCH(D119,Nr_stad!$U$8:$U$60,0),0)","v":0}]
[null,null,null,null,null,null,null,null,null,null,0,{"$f":"IF(TRUNC(K120/N_W_2_2!$G$8)>H120,H120,TRUNC(K120/N_W_2_2!$G$8))","v":0},null,null,null,null,null,0,null,null,null,{"$f":"IFERROR(MATCH(D120,Nr_stad!$U$8:$U$60,0),0)","v":0}]
[null,null,null,null,null,null,null,null,null,null,0,{"$f":"IF(TRUNC(K121/N_W_2_2!$G$8)>H121,H121,TRUNC(K121/N_W_2_2!$G$8))","v":0},null,null,null,null,null,0,null,null,null,{"$f":"IFERROR(MATCH(D121,Nr_stad!$U$8:$U$60,0),0)","v":0}]
[null,null,null,null,null,null,null,null,null,null,0,{"$f":"IF(TRUNC(K122/N_W_2_2!$G$8)>H122,H122,TRUNC(K122/N_W_2_2!$G$8))","v":0},null,null,null,null,null,0,null,null,null,{"$f":"IFERROR(MATCH(D122,Nr_stad!$U$8:$U$60,0),0)","v":0}]
[null,null,null,null,null,null,null,null,null,null,0,{"$f":"IF(TRUNC(K123/N_W_2_2!$G$8)>H123,H123,TRUNC(K123/N_W_2_2!$G$8))","v":0},null,null,null,null,null,0,null,null,null,{"$f":"IFERROR(MATCH(D123,Nr_stad!$U$8:$U$60,0),0)","v":0}]
[null,null,null,null,null,null,null,null,null,null,0,{"$f":"IF(TRUNC(K124/N_W_2_2!$G$8)>H124,H124,TRUNC(K124/N_W_2_2!$G$8))","v":0},null,null,null,null,null,0,null,null,null,{"$f":"IFERROR(MATCH(D124,Nr_stad!$U$8:$U$60,0),0)","v":0}]
[null,null,null,"RAZEM:",null,null,null,{"$f":"SUM(H30:H124)","v":0},"X",null,{"$f":"SUM(K30:K124)","v":0},{"$f":"SUM(L30:M124)","v":0},null,null,null,null,null,10,null,null,null,{"$f":"IFERROR(MATCH(D125,Nr_stad!$U$8:$U$60,0),0)","v":0}]
[null,null,null,null,"Maksymalna liczba krów mlecznych dotyczy łącznie wnioskodawcy i wskazanych innych posiadaczy",null,null,null,null,null,null,null,null,null,null,null,"NIE",0,null,null,null,{"$f":"IFERROR(MATCH(D126,Nr_stad!$U$8:$U$60,0),0)","v":0}]
[null,null,"II.3.3.2.","System wolnostanowiskowy bez wydzielonych legowisk na ściółce",null,null,null,null,null,null,null,null,null,null,null,null,"TAK"]
[null,null,null,"Numer siedziby stada albo\n Nazwa \nobiektu / sekcja krów mlecznych",null,"Powierzchnia bytowa",null,null,null,"Maksymalna liczba krów mlecznych"]
[null,null,null,null,null,"długość","szerokość","powierzchnia",null,null,null,null,null,null,null,null,null,null,"powierzchnia"]
[null,null,null,null,null,"m","m","m2",null,"szt",null,null,null,null,null,null,null,null,"m2"]
[null,null,null,null,null,null,null,{"$f":"IFERROR(F131*G131,\"\")","v":0},null,{"$f":"IF(T131<1,\"-\",TRUNC(H131/$S$131))","v":"-"},null,null,null,null,null,null,null,{"$f":"SUM(F131:M131)+V131","v":0},{"$f":"N_W_2_2!G9","v":5.4},{"$f":"H131/$S$131","v":0},null,{"$f":"IFERROR(MATCH(D131,Nr_stad!$U$8:$U$60,0),0)","v":0}]
[null,null,null,null,null,null,null,{"$f":"IFERROR(F132*G132,\"\")","v":0},null,{"$f":"IF(T132<1,\"-\",TRUNC(H132/$S$131))","v":"-"},null,null,null,null,null,null,null,{"$f":"SUM(F132:M132)+V132","v":0},null,{"$f":"H132/$S$131","v":0},null,{"$f":"IFERROR(MATCH(D132,Nr_stad!$U$8:$U$60,0),0)","v":0}]
[null,null,null,null,null,null,null,{"$f":"IFERROR(F133*G133,\"\")","v":0},null,"-",null,null,null,null,null,null,null,0,null,0,null,{"$f":"IFERROR(MATCH(D133,Nr_stad!$U$8:$U$60,0),0)","v":0}]
[null,null,null,null,null,null,null,{"$f":"IFERROR(F134*G134,\"\")","v":0},null,"-",null,null,null,null,null,null,null,0,null,0,null,{"$f":"IFERROR(MATCH(D134,Nr_stad!$U$8:$U$60,0),0)","v":0}]
[null,null,null,null,null,null,null,{"$f":"IFERROR(F135*G135,\"\")","v":0},null,"-",null,null,null,null,null,null,null,0,null,0,null,{"$f":"IFERROR(MATCH(D135,Nr_stad!$U$8:$U$60,0),0)","v":0}]
[null,null,null,null,null,null,null,0,null,"-",null,null,null,null,null,null,null,0,null,0,null,{"$f":"IFERROR(MATCH(D136,Nr_stad!$U$8:$U$60,0),0)","v":0}]
[null,null,null,null,null,null,null,0,null,"-",null,null,null,null,null,null,null,0,null,0,null,{"$f":"IFERROR(MATCH(D137,Nr_stad!$U$8:$U$60,0),0)","v":0}]
[null,null,null,null,null,null,null,0,null,"-",null,null,null,null,null,null,null,0,null,0,null,{"$f":"IFERROR(MATCH(D138,Nr_stad!$U$8:$U$60,0),0)","v":0}]
[null,null,null,null,null,null,null,0,null,"-",null,null,null,null,null,null,null,0,null,0,null,{"$f":"IFERROR(MATCH(D139,Nr_stad!$U$8:$U$60,0),0)","v":0}]
[null,null,null,null,null,null,null,0,null,"-",null,null,null,null,null,null,null,0,null,0,null,{"$f":"IFERROR(MATCH(D140,Nr_stad!$U$8:$U$60,0),0)","v":0}]
[null,null,null,null,null,null,null,0,null,"-",null,null,null,null,null,null,null,0,null,0,null,{"$f":"IFERROR(MATCH(D141,Nr_stad!$U$8:$U$60,0),0)","v":0}]
[null,null,null,null,null,null,null,0,null,"-",null,null,null,null,null,null,null,0,null,0,null,{"$f":"IFERROR(MATCH(D142,Nr_stad!$U$8:$U$60,0),0)","v":0}]
[null,null,null,null,null,null,null,0,null,"-",null,null,null,null,null,null,null,0,null,0,null,{"$f":"IFERROR(MATCH(D143,Nr_stad!$U$8:$U$60,0),0)","v":0}]
[null,null,null,null,null,null,null,0,null,"-",null,null,null,null,null,null,null,0,null,0,null,{"$f":"IFERROR(MATCH(D144,Nr_stad!$U$8:$U$60,0),0)","v":0}]
[null,null,null,null,null,null,null,0,null,"-",null,null,null,null,null,null,null,0,null,0,null,{"$f":"IFERROR(MATCH(D145,Nr_stad!$U$8:$U$60,0),0)","v":0}]
[null,null,null,null,null,null,null,0,null,"-",null,null,null,null,null,null,null,0,null,0,null,{"$f":"IFERROR(MATCH(D146,Nr_stad!$U$8:$U$60,0),0)","v":0}]
[null,null,null,null,null,null,null,0,null,"-",null,null,null,null,null,null,null,0,null,0,null,{"$f":"IFERROR(MATCH(D147,Nr_stad!$U$8:$U$60,0),0)","v":0}]
[null,null,null,null,null,null,null,0,null,"-",null,null,null,null,null,null,null,0,null,0,null,{"$f":"IFERROR(MATCH(D148,Nr_stad!$U$8:$U$60,0),0)","v":0}]
[null,null,null,null,null,null,null,0,null,"-",null,null,null,null,null,null,null,0,null,0,null,{"$f":"IFERROR(MATCH(D149,Nr_stad!$U$8:$U$60,0),0)","v":0}]
[null,null,null,null,null,null,null,0,null,"-",null,null,null,null,null,null,null,0,null,0,null,{"$f":"IFERROR(MATCH(D150,Nr_stad!$U$8:$U$60,0),0)","v":0}]
[null,null,null,null,null,null,null,0,null,"-",null,null,null,null,null,null,null,0,null,0,null,{"$f":"IFERROR(MATCH(D151,Nr_stad!$U$8:$U$60,0),0)","v":0}]
[null,null,null,null,null,null,null,0,null,"-",null,null,null,null,null,null,null,0,null,0,null,{"$f":"IFERROR(MATCH(D152,Nr_stad!$U$8:$U$60,0),0)","v":0}]
[null,null,null,null,null,null,null,0,null,"-",null,null,null,null,null,null,null,0,null,0,null,{"$f":"IFERROR(MATCH(D153,Nr_stad!$U$8:$U$60,0),0)","v":0}]
[null,null,null,null,null,null,null,0,null,"-",null,null,null,null,null,null,null,0,null,0,null,{"$f":"IFERROR(MATCH(D154,Nr_stad!$U$8:$U$60,0),0)","v":0}]
[null,null,null,null,null,null,null,0,null,"-",null,null,null,null,null,null,null,0,null,0,null,{"$f":"IFERROR(MATCH(D155,Nr_stad!$U$8:$U$60,0),0)","v":0}]
[null,null,null,null,null,null,null,0,null,"-",null,null,null,null,null,null,null,0,null,0,null,{"$f":"IFERROR(MATCH(D156,Nr_stad!$U$8:$U$60,0),0)","v":0}]
[null,null,null,null,null,null,null,0,null,"-",null,null,null,null,null,null,null,0,null,0,null,{"$f":"IFERROR(MATCH(D157,Nr_stad!$U$8:$U$60,0),0)","v":0}]
[null,null,null,null,null,null,null,0,null,"-",null,null,null,null,null,null,null,0,null,0,null,{"$f":"IFERROR(MATCH(D158,Nr_stad!$U$8:$U$60,0),0)","v":0}]
[null,null,null,null,null,null,null,0,null,"-",null,null,null,null,null,null,null,0,null,0,null,{"$f":"IFERROR(MATCH(D159,Nr_stad!$U$8:$U$60,0),0)","v":0}]
[null,null,null,null,null,null,null,0,null,"-",null,null,null,null,null,null,null,0,null,0,null,{"$f":"IFERROR(MATCH(D160,Nr_stad!$U$8:$U$60,0),0)","v":0}]
[null,null,null,null,null,null,null,0,null,"-",null,null,null,null,null,null,null,0,null,0,null,{"$f":"IFERROR(MATCH(D161,Nr_stad!$U$8:$U$60,0),0)","v":0}]
[null,null,null,null,null,null,null,0,null,"-",null,null,null,null,null,null,null,0,null,0,null,{"$f":"IFERROR(MATCH(D162,Nr_stad!$U$8:$U$60,0),0)","v":0}]
[null,null,null,null,null,null,null,0,null,"-",null,null,null,null,null,null,null,0,null,0,null,{"$f":"IFERROR(MATCH(D163,Nr_stad!$U$8:$U$60,0),0)","v":0}]
[null,null,null,null,null,null,null,0,null,"-",null,null,null,null,null,null,null,0,null,0,null,{"$f":"IFERROR(MATCH(D164,Nr_stad!$U$8:$U$60,0),0)","v":0}]
[null,null,null,null,null,null,null,0,null,"-",null,null,null,null,null,null,null,0,null,0,null,{"$f":"IFERROR(MATCH(D165,Nr_stad!$U$8:$U$60,0),0)","v":0}]
[null,null,null,null,null,null,null,0,null,"-",null,null,null,null,null,null,null,0,null,0,null,{"$f":"IFERROR(MATCH(D166,Nr_stad!$U$8:$U$60,0),0)","v":0}]
[null,null,null,null,null,null,null,0,null,"-",null,null,null,null,null,null,null,0,null,0,null,{"$f":"IFERROR(MATCH(D167,Nr_stad!$U$8:$U$60,0),0)","v":0}]
[null,null,null,null,null,null,null,0,null,"-",null,null,null,null,null,null,null,0,null,0,null,{"$f":"IFERROR(MATCH(D168,Nr_stad!$U$8:$U$60,0),0)","v":0}]
[null,null,null,null,null,null,null,0,null,"-",null,null,null,null,null,null,null,0,null,0,null,{"$f":"IFERROR(MATCH(D169,Nr_stad!$U$8:$U$60,0),0)","v":0}]
[null,null,null,null,null,null,null,0,null,"-",null,null,null,null,null,null,null,0,null,0,null,{"$f":"IFERROR(MATCH(D170,Nr_stad!$U$8:$U$60,0),0)","v":0}]
[null,null,null,null,null,null,null,0,null,"-",null,null,null,null,null,null,null,0,null,0,null,{"$f":"IFERROR(MATCH(D171,Nr_stad!$U$8:$U$60,0),0)","v":0}]
[null,null,null,null,null,null,null,0,null,"-",null,null,null,null,null,null,null,0,null,0,null,{"$f":"IFERROR(MATCH(D172,Nr_stad!$U$8:$U$60,0),0)","v":0}]
[null,null,null,null,null,null,null,0,null,"-",null,null,null,null,null,null,null,0,null,0,null,{"$f":"IFERROR(MATCH(D173,Nr_stad!$U$8:$U$60,0),0)","v":0}]
[null,null,null,null,null,null,null,0,null,"-",null,null,null,null,null,null,null,0,null,0,null,{"$f":"IFERROR(MATCH(D174,Nr_stad!$U$8:$U$60,0),0)","v":0}]
[null,null,null,null,null,null,null,0,null,"-",null,null,null,null,null,null,null,0,null,0,null,{"$f":"IFERROR(MATCH(D175,Nr_stad!$U$8:$U$60,0),0)","v":0}]
[null,null,null,null,null,null,null,0,null,"-",null,null,null,null,null,null,null,0,null,0,null,{"$f":"IFERROR(MATCH(D176,Nr_stad!$U$8:$U$60,0),0)","v":0}]
[null,null,null,null,null,null,null,0,null,"-",null,null,null,null,null,null,null,0,null,0,null,{"$f":"IFERROR(MATCH(D177,Nr_stad!$U$8:$U$60,0),0)","v":0}]
[null,null,null,null,null,null,null,0,null,"-",null,null,null,null,null,null,null,0,null,0,null,{"$f":"IFERROR(MATCH(D178,Nr_stad!$U$8:$U$60,0),0)","v":0}]
[null,null,null,null,null,null,null,0,null,"-",null,null,null,null,null,null,null,0,null,0,null,{"$f":"IFERROR(MATCH(D179,Nr_stad!$U$8:$U$60,0),0)","v":0}]
[null,null,null,null,null,null,null,0,null,"-",null,null,null,null,null,null,null,0,null,0,null,{"$f":"IFERROR(MATCH(D180,Nr_stad!$U$8:$U$60,0),0)","v":0}]
[null,null,null,null,null,null,null,0,null,"-",null,null,null,null,null,null,null,0,null,0,null,{"$f":"IFERROR(MATCH(D181,Nr_stad!$U$8:$U$60,0),0)","v":0}]
[null,null,null,null,null,null,null,0,null,"-",null,null,null,null,null,null,null,0,null,0,null,{"$f":"IFERROR(MATCH(D182,Nr_stad!$U$8:$U$60,0),0)","v":0}]
[null,null,null,null,null,null,null,0,null,"-",null,null,null,null,null,null,null,0,null,0,null,{"$f":"IFERROR(MATCH(D183,Nr_stad!$U$8:$U$60,0),0)","v":0}]
[null,null,null,null,null,null,null,0,null,"-",null,null,null,null,null,null,null,0,null,0,null,{"$f":"IFERROR(MATCH(D184,Nr_stad!$U$8:$U$60,0),0)","v":0}]
[null,null,null,null,null,null,null,0,null,"-",null,null,null,null,null,null,null,0,null,0,null,{"$f":"IFERROR(MATCH(D185,Nr_stad!$U$8:$U$60,0),0)","v":0}]
[null,null,null,null,null,null,null,0,null,"-",null,null,null,null,null,null,null,0,null,0,null,{"$f":"IFERROR(MATCH(D186,Nr_stad!$U$8:$U$60,0),0)","v":0}]
[null,null,null,"RAZEM:",null,null,null,{"$f":"SUM(H131:I186)","v":0},null,{"$f":"SUM(J131:K186)","v":0},null,null,null,null,null,null,null,10,null,0,null,{"$f":"IFERROR(MATCH(D187,Nr_stad!$U$8:$U$60,0),0)","v":0}]
[null,null,null,"Maksymalna liczba krów mlecznych dotyczy łącznie wnioskodawcy i wskazanych innych posiadaczy",null,null,null,null,null,null,null,null,null,null,null,null,null,null,null,null,null,{"$f":"IFERROR(MATCH(D188,Nr_stad!$U$8:$U$60,0),0)","v":0}]

{"sheet":"Bydlo_mlecz_inn","index":10,"n_rows":124,"n_cols":54,"rows_kept":124,"cut":false,"hidden":false,"merged":[[18,17,19,17],[123,12,123,17],[18,19,19,19],[122,3,122,13],[122,15,122,17],[17,3,17,14],[18,7,18,8],[18,9,18,11],[18,12,18,14],[18,15,18,16],[18,3,19,3],[18,4,19,4],[15,8,15,11],[11,3,11,4],[3,2,3,19],[4,2,4,19],[5,2,5,19],[6,3,6,4],[6,6,6,7],[6,9,6,12],[6,14,6,16],[14,8,14,11],[11,8,11,11],[12,8,12,11],[13,8,13,11],[10,3,10,18]]}
[null,null,null,null,null,null,null,null,null,null,null,null,null,null,null,null,null,null,"POWRÓT",null,null,null,null,null,null,null,null,null,null,null,null,null,null,null,null,null,null,null,null,null,null,null,null,null,null,null,null,null,null,null,null,null,null,"UWAGI"]
[]
[]
[null,null,"II. Część szczegółowa  "]
[null,null,"Bydło  nieobjęte podwyższonymi wymogami wariantu 3. Dobrostan krów mlecznych, wariantu 4. Dobrostan krów mamek utrzymywanych w pomieszczeniach lub w budynkach oraz wariantu 6. Dobrostan opasów"]
[null,null,"BYDŁO "]
[null,null,"II.1.1.1.","Numer/y siedziby stada:",null,"PL",123456789001,null,"PL",null,null,null,null,"PL"]
[]
[null,null,"II.1.1.1.","System produkcji  gospodarstwie "]
[null,null,null,{"$f":"IF(AD10=TRUE,AE10,AF10)","v":"☒"},"Nieutrzymywanie loch  w systemie jarzmowym",null,null,null,null,null,null,null,null,null,"  ",null,null,null,null,null,null,null,null,null,null,null,null,null,null,true,"☒","☐"]
[null,null,{"$f":"IF(AD11=TRUE,AE11,AF11)","v":"☐"},"Do planu poprawy dobrostanu zwierząt dołączono szkic pomieszczeń/budynków ze wskazanymi SEKCJAMI w których utrzymywane jest BYDŁO  nieobjęte podwyższonymi wymogami wariantu  3. Dobrostan krów mlecznych, wariantu 4. Dobrostan krów mamek utrzymywanych w pomieszczeniach lub w budynkach oraz wariantu 6. Dobrostan opasów",null,null,null,null,null,null,null,null,null,null,null,null,null,null,null,null,null,null,null,null,null,null,null,null,null,false,"☒","☐"]
[null,null,null,"Parametry określające wymiary kojców dla cieląt"]
[null,null,null,null,"Grupa  cieląt",null,null,"szerokość -  wysokość cielęcia w kłębie,\nw metrach","długość ciała cielęcia mierzona od czubka nosa do ogonowej krawędzi guza kulszowego,\nw metrach"]
[null,null,null,null,"Cielęta do 150 kg"]
[null,null,null,null,"Cielęta > 150 kg do 220 kg",null,null,null,null,null,null,null,null,null,null,null,null,null,null,null,null,null,null,null,null,null,null,null,null,false,{"$f":"AND(AD17=1,L15>9)","v":false}]
[null,null,null,null,"Cielęta >220 kg",null,null,null,null,null,null,null,null,null,null,null,null,null,null,null,null,null,null,null,null,null,null,null,null,"poj/grup"]
[null,null,null,null,null,null,null,null,null,null,null,null,null,null,null,null,null,null,null,null,null,null,null,null,null,null,null,null,null,1,"☒","☐"]
[null,null,null,"Dopuszczalna maksymalna liczba sztuk bydła, które mogą przebywać jednocześnie w gospodarstwie z uwzględnieniem  obowiązkowych wymogów dotyczących wielkości powierzchni w pomieszczeniach/budynkach, wynikających z prawa krajowego "]
[null,null,null,"Numer siedziby stada albo \nGrupa zwierząt","System utrzymania",null,null,"Obiekt",null,"Liczba  wydzielonych legowisk/ kojcy pojedynczych spełniających wymóg minimalnych wymiarów",null,null,"Powierzchnia ",null,null," Minimalne wymiary legowisk / kojcy pojedynczych",null,"Powierzchnia minimalna","Maksymalna liczba","Stan na dzień sporządzenia planu"]
[null,null,null,null,null,null,null,"Nazwa obiektu","Sekcja","Dł.","Szer.","Liczba","Dł.","Szer.","Pow.","Dł.","Szer.",null,"bydła",null,null,null,null,null,null,null,null,"sys","Nr stad","grupy",null,"SYS/LISTA"]
[null,null,null,null,null,null,null,null,null,"m","m","szt","m","m","m2","m","m","m2/szt.","szt","szt",null,null,null,null,null,null,null,null,null,null,"poz","W"]
[null,null,null,null,null,null,null,null,null,null,null,null,null,null,{"$f":"IFERROR(M22*N22,\"\")","v":0},{"$f":"IFERROR(IF(AB22<=2,OFFSET(B_ML_N!$B$3,AE22,AB22),\"-\"),\"-\")","v":"-"},{"$f":"IFERROR(IF(AB22<=2,OFFSET(B_ML_N!$B$3,AE22,AB22+2),\"-\"),\"-\")","v":"-"},{"$f":"IFERROR(IF(AB22>2,OFFSET(B_ML_N!$B$3,AE22,AB22+2),\"-\"),\"-\")","v":"-"},{"$f":"IFERROR(IF(AG22<>TRUE,IF(AND(L22>0,AB22<3),L22,TRUNC(O22/R22)),\"-\"),\"-\")","v":"-"},null,null,null,null,null,null,null,null,{"$f":"IF(MATCH(E22,B_ML_N!$L$18:$L$23,0)<5,MATCH(E22,B_ML_N!$L$18:$L$23,0),1)","v":{"$error":"#N/A"}},{"$f":"IFERROR(MATCH(D22,Nr_stad!$U$8:$U$60,0),0)","v":0},{"$f":"SUM(I22:T22)+AC22","v":0},{"$f":"IF(D22=\"\",\"-\",MATCH(D22,B_ML_N!$B$4:$B$16,0))","v":"-"},{"$f":"IFERROR(OFFSET(B_ML_N!$L$3,AE22,4),1)","v":1},{"$f":"IFERROR(AND(OR(J22<P22,K22<Q22),AB22<3),FALSE)","v":false}]
[null,null,null,null,null,null,null,null,null,null,null,null,null,null,0,{"$f":"IFERROR(IF(AB23<=2,OFFSET(B_ML_N!$B$3,AE23,AB23),\"-\"),\"-\")","v":"-"},{"$f":"IFERROR(IF(AB23<=2,OFFSET(B_ML_N!$B$3,AE23,AB23+2),\"-\"),\"-\")","v":"-"},{"$f":"IFERROR(IF(AB23>2,OFFSET(B_ML_N!$B$3,AE23,AB23+2),\"-\"),\"-\")","v":"-"},{"$f":"IFERROR(IF(AG23<>TRUE,IF(AND(L23>0,AB23<3),L23,TRUNC(O23/R23)),\"-\"),\"-\")","v":"-"},null,null,null,null,null,null,null,null,{"$f":"IF(MATCH(E23,B_ML_N!$L$18:$L$23,0)<5,MATCH(E23,B_ML_N!$L$18:$L$23,0),1)","v":{"$error":"#N/A"}},{"$f":"IFERROR(MATCH(D23,Nr_stad!$U$8:$U$60,0),0)","v":0},{"$f":"SUM(I23:T23)+AC23","v":0},{"$f":"IF(D23=\"\",\"-\",MATCH(D23,B_ML_N!$B$4:$B$16,0))","v":"-"},{"$f":"IFERROR(OFFSET(B_ML_N!$L$3,AE23,4),1)","v":1},{"$f":"IFERROR(AND(OR(J23<P23,K23<Q23),AB23<3),FALSE)","v":false}]
[null,null,null,null,null,null,null,null,null,null,null,null,null,null,0,{"$f":"IFERROR(IF(AB24<=2,OFFSET(B_ML_N!$B$3,AE24,AB24),\"-\"),\"-\")","v":"-"},{"$f":"IFERROR(IF(AB24<=2,OFFSET(B_ML_N!$B$3,AE24,AB24+2),\"-\"),\"-\")","v":"-"},{"$f":"IFERROR(IF(AB24>2,OFFSET(B_ML_N!$B$3,AE24,AB24+2),\"-\"),\"-\")","v":"-"},"-",null,null,null,null,null,null,null,null,{"$f":"IF(MATCH(E24,B_ML_N!$L$18:$L$23,0)<5,MATCH(E24,B_ML_N!$L$18:$L$23,0),1)","v":{"$error":"#N/A"}},{"$f":"IFERROR(MATCH(D24,Nr_stad!$U$8:$U$60,0),0)","v":0},0,{"$f":"IF(D24=\"\",\"-\",MATCH(D24,B_ML_N!$B$4:$B$16,0))","v":"-"},{"$f":"IFERROR(OFFSET(B_ML_N!$L$3,AE24,4),1)","v":1},false]
[null,null,null,null,null,null,null,null,null,null,null,null,null,null,0,{"$f":"IFERROR(IF(AB25<=2,OFFSET(B_ML_N!$B$3,AE25,AB25),\"-\"),\"-\")","v":"-"},{"$f":"IFERROR(IF(AB25<=2,OFFSET(B_ML_N!$B$3,AE25,AB25+2),\"-\"),\"-\")","v":"-"},{"$f":"IFERROR(IF(AB25>2,OFFSET(B_ML_N!$B$3,AE25,AB25+2),\"-\"),\"-\")","v":"-"},"-",null,null,null,null,null,null,null,null,{"$f":"IF(MATCH(E25,B_ML_N!$L$18:$L$23,0)<5,MATCH(E25,B_ML_N!$L$18:$L$23,0),1)","v":{"$error":"#N/A"}},{"$f":"IFERROR(MATCH(D25,Nr_stad!$U$8:$U$60,0),0)","v":0},0,{"$f":"IF(D25=\"\",\"-\",MATCH(D25,B_ML_N!$B$4:$B$16,0))","v":"-"},{"$f":"IFERROR(OFFSET(B_ML_N!$L$3,AE25,4),1)","v":1},false]
[null,null,null,null,null,null,null,null,null,null,null,null,null,null,0,{"$f":"IFERROR(IF(AB26<=2,OFFSET(B_ML_N!$B$3,AE26,AB26),\"-\"),\"-\")","v":"-"},{"$f":"IFERROR(IF(AB26<=2,OFFSET(B_ML_N!$B$3,AE26,AB26+2),\"-\"),\"-\")","v":"-"},{"$f":"IFERROR(IF(AB26>2,OFFSET(B_ML_N!$B$3,AE26,AB26+2),\"-\"),\"-\")","v":"-"},"-",null,null,null,null,null,null,null,null,{"$f":"IF(MATCH(E26,B_ML_N!$L$18:$L$23,0)<5,MATCH(E26,B_ML_N!$L$18:$L$23,0),1)","v":{"$error":"#N/A"}},{"$f":"IFERROR(MATCH(D26,Nr_stad!$U$8:$U$60,0),0)","v":0},0,{"$f":"IF(D26=\"\",\"-\",MATCH(D26,B_ML_N!$B$4:$B$16,0))","v":"-"},{"$f":"IFERROR(OFFSET(B_ML_N!$L$3,AE26,4),1)","v":1},false]
[null,null,null,null,null,null,null,null,null,null,null,null,null,null,0,{"$f":"IFERROR(IF(AB27<=2,OFFSET(B_ML_N!$B$3,AE27,AB27),\"-\"),\"-\")","v":"-"},{"$f":"IFERROR(IF(AB27<=2,OFFSET(B_ML_N!$B$3,AE27,AB27+2),\"-\"),\"-\")","v":"-"},{"$f":"IFERROR(IF(AB27>2,OFFSET(B_ML_N!$B$3,AE27,AB27+2),\"-\"),\"-\")","v":"-"},"-",null,null,null,null,null,null,null,null,{"$f":"IF(MATCH(E27,B_ML_N!$L$18:$L$23,0)<5,MATCH(E27,B_ML_N!$L$18:$L$23,0),1)","v":{"$error":"#N/A"}},{"$f":"IFERROR(MATCH(D27,Nr_stad!$U$8:$U$60,0),0)","v":0},0,{"$f":"IF(D27=\"\",\"-\",MATCH(D27,B_ML_N!$B$4:$B$16,0))","v":"-"},{"$f":"IFERROR(OFFSET(B_ML_N!$L$3,AE27,4),1)","v":1},false]
[null,null,null,null,null,null,null,null,null,null,null,null,null,null,0,{"$f":"IFERROR(IF(AB28<=2,OFFSET(B_ML_N!$B$3,AE28,AB28),\"-\"),\"-\")","v":"-"},{"$f":"IFERROR(IF(AB28<=2,OFFSET(B_ML_N!$B$3,AE28,AB28+2),\"-\"),\"-\")","v":"-"},{"$f":"IFERROR(IF(AB28>2,OFFSET(B_ML_N!$B$3,AE28,AB28+2),\"-\"),\"-\")","v":"-"},"-",null,null,null,null,null,null,null,null,{"$f":"IF(MATCH(E28,B_ML_N!$L$18:$L$23,0)<5,MATCH(E28,B_ML_N!$L$18:$L$23,0),1)","v":{"$error":"#N/A"}},{"$f":"IFERROR(MATCH(D28,Nr_stad!$U$8:$U$60,0),0)","v":0},0,{"$f":"IF(D28=\"\",\"-\",MATCH(D28,B_ML_N!$B$4:$B$16,0))","v":"-"},{"$f":"IFERROR(OFFSET(B_ML_N!$L$3,AE28,4),1)","v":1},false]
[null,null,null,null,null,null,null,null,null,null,null,null,null,null,0,{"$f":"IFERROR(IF(AB29<=2,OFFSET(B_ML_N!$B$3,AE29,AB29),\"-\"),\"-\")","v":"-"},{"$f":"IFERROR(IF(AB29<=2,OFFSET(B_ML_N!$B$3,AE29,AB29+2),\"-\"),\"-\")","v":"-"},{"$f":"IFERROR(IF(AB29>2,OFFSET(B_ML_N!$B$3,AE29,AB29+2),\"-\"),\"-\")","v":"-"},"-",null,null,null,null,null,null,null,null,{"$f":"IF(MATCH(E29,B_ML_N!$L$18:$L$23,0)<5,MATCH(E29,B_ML_N!$L$18:$L$23,0),1)","v":{"$error":"#N/A"}},{"$f":"IFERROR(MATCH(D29,Nr_stad!$U$8:$U$60,0),0)","v":0},0,{"$f":"IF(D29=\"\",\"-\",MATCH(D29,B_ML_N!$B$4:$B$16,0))","v":"-"},{"$f":"IFERROR(OFFSET(B_ML_N!$L$3,AE29,4),1)","v":1},false]
[null,null,null,null,null,null,null,null,null,null,null,null,null,null,0,{"$f":"IFERROR(IF(AB30<=2,OFFSET(B_ML_N!$B$3,AE30,AB30),\"-\"),\"-\")","v":"-"},{"$f":"IFERROR(IF(AB30<=2,OFFSET(B_ML_N!$B$3,AE30,AB30+2),\"-\"),\"-\")","v":"-"},{"$f":"IFERROR(IF(AB30>2,OFFSET(B_ML_N!$B$3,AE30,AB30+2),\"-\"),\"-\")","v":"-"},"-",null,null,null,null,null,null,null,null,{"$f":"IF(MATCH(E30,B_ML_N!$L$18:$L$23,0)<5,MATCH(E30,B_ML_N!$L$18:$L$23,0),1)","v":{"$error":"#N/A"}},{"$f":"IFERROR(MATCH(D30,Nr_stad!$U$8:$U$60,0),0)","v":0},0,{"$f":"IF(D30=\"\",\"-\",MATCH(D30,B_ML_N!$B$4:$B$16,0))","v":"-"},{"$f":"IFERROR(OFFSET(B_ML_N!$L$3,AE30,4),1)","v":1},false]
[null,null,null,null,null,null,null,null,null,null,null,null,null,null,0,{"$f":"IFERROR(IF(AB31<=2,OFFSET(B_ML_N!$B$3,AE31,AB31),\"-\"),\"-\")","v":"-"},{"$f":"IFERROR(IF(AB31<=2,OFFSET(B_ML_N!$B$3,AE31,AB31+2),\"-\"),\"-\")","v":"-"},{"$f":"IFERROR(IF(AB31>2,OFFSET(B_ML_N!$B$3,AE31,AB31+2),\"-\"),\"-\")","v":"-"},"-",null,null,null,null,null,null,null,null,{"$f":"IF(MATCH(E31,B_ML_N!$L$18:$L$23,0)<5,MATCH(E31,B_ML_N!$L$18:$L$23,0),1)","v":{"$error":"#N/A"}},{"$f":"IFERROR(MATCH(D31,Nr_stad!$U$8:$U$60,0),0)","v":0},0,{"$f":"IF(D31=\"\",\"-\",MATCH(D31,B_ML_N!$B$4:$B$16,0))","v":"-"},{"$f":"IFERROR(OFFSET(B_ML_N!$L$3,AE31,4),1)","v":1},false]
[null,null,null,null,null,null,null,null,null,null,null,null,null,null,0,{"$f":"IFERROR(IF(AB32<=2,OFFSET(B_ML_N!$B$3,AE32,AB32),\"-\"),\"-\")","v":"-"},{"$f":"IFERROR(IF(AB32<=2,OFFSET(B_ML_N!$B$3,AE32,AB32+2),\"-\"),\"-\")","v":"-"},{"$f":"IFERROR(IF(AB32>2,OFFSET(B_ML_N!$B$3,AE32,AB32+2),\"-\"),\"-\")","v":"-"},"-",null,null,null,null,null,null,null,null,{"$f":"IF(MATCH(E32,B_ML_N!$L$18:$L$23,0)<5,MATCH(E32,B_ML_N!$L$18:$L$23,0),1)","v":{"$error":"#N/A"}},{"$f":"IFERROR(MATCH(D32,Nr_stad!$U$8:$U$60,0),0)","v":0},0,{"$f":"IF(D32=\"\",\"-\",MATCH(D32,B_ML_N!$B$4:$B$16,0))","v":"-"},{"$f":"IFERROR(OFFSET(B_ML_N!$L$3,AE32,4),1)","v":1},false]
[null,null,null,null,null,null,null,null,null,null,null,null,null,null,0,{"$f":"IFERROR(IF(AB33<=2,OFFSET(B_ML_N!$B$3,AE33,AB33),\"-\"),\"-\")","v":"-"},{"$f":"IFERROR(IF(AB33<=2,OFFSET(B_ML_N!$B$3,AE33,AB33+2),\"-\"),\"-\")","v":"-"},{"$f":"IFERROR(IF(AB33>2,OFFSET(B_ML_N!$B$3,AE33,AB33+2),\"-\"),\"-\")","v":"-"},"-",null,null,null,null,null,null,null,null,{"$f":"IF(MATCH(E33,B_ML_N!$L$18:$L$23,0)<5,MATCH(E33,B_ML_N!$L$18:$L$23,0),1)","v":{"$error":"#N/A"}},{"$f":"IFERROR(MATCH(D33,Nr_stad!$U$8:$U$60,0),0)","v":0},0,{"$f":"IF(D33=\"\",\"-\",MATCH(D33,B_ML_N!$B$4:$B$16,0))","v":"-"},{"$f":"IFERROR(OFFSET(B_ML_N!$L$3,AE33,4),1)","v":1},false]
[null,null,null,null,null,null,null,null,null,null,null,null,null,null,0,{"$f":"IFERROR(IF(AB34<=2,OFFSET(B_ML_N!$B$3,AE34,AB34),\"-\"),\"-\")","v":"-"},{"$f":"IFERROR(IF(AB34<=2,OFFSET(B_ML_N!$B$3,AE34,AB34+2),\"-\"),\"-\")","v":"-"},{"$f":"IFERROR(IF(AB34>2,OFFSET(B_ML_N!$B$3,AE34,AB34+2),\"-\"),\"-\")","v":"-"},"-",null,null,null,null,null,null,null,null,{"$f":"IF(MATCH(E34,B_ML_N!$L$18:$L$23,0)<5,MATCH(E34,B_ML_N!$L$18:$L$23,0),1)","v":{"$error":"#N/A"}},{"$f":"IFERROR(MATCH(D34,Nr_stad!$U$8:$U$60,0),0)","v":0},0,{"$f":"IF(D34=\"\",\"-\",MATCH(D34,B_ML_N!$B$4:$B$16,0))","v":"-"},{"$f":"IFERROR(OFFSET(B_ML_N!$L$3,AE34,4),1)","v":1},false]
[null,null,null,null,null,null,null,null,null,null,null,null,null,null,0,{"$f":"IFERROR(IF(AB35<=2,OFFSET(B_ML_N!$B$3,AE35,AB35),\"-\"),\"-\")","v":"-"},{"$f":"IFERROR(IF(AB35<=2,OFFSET(B_ML_N!$B$3,AE35,AB35+2),\"-\"),\"-\")","v":"-"},{"$f":"IFERROR(IF(AB35>2,OFFSET(B_ML_N!$B$3,AE35,AB35+2),\"-\"),\"-\")","v":"-"},"-",null,null,null,null,null,null,null,null,{"$f":"IF(MATCH(E35,B_ML_N!$L$18:$L$23,0)<5,MATCH(E35,B_ML_N!$L$18:$L$23,0),1)","v":{"$error":"#N/A"}},{"$f":"IFERROR(MATCH(D35,Nr_stad!$U$8:$U$60,0),0)","v":0},0,{"$f":"IF(D35=\"\",\"-\",MATCH(D35,B_ML_N!$B$4:$B$16,0))","v":"-"},{"$f":"IFERROR(OFFSET(B_ML_N!$L$3,AE35,4),1)","v":1},false]
[null,null,null,null,null,null,null,null,null,null,null,null,null,null,0,{"$f":"IFERROR(IF(AB36<=2,OFFSET(B_ML_N!$B$3,AE36,AB36),\"-\"),\"-\")","v":"-"},{"$f":"IFERROR(IF(AB36<=2,OFFSET(B_ML_N!$B$3,AE36,AB36+2),\"-\"),\"-\")","v":"-"},{"$f":"IFERROR(IF(AB36>2,OFFSET(B_ML_N!$B$3,AE36,AB36+2),\"-\"),\"-\")","v":"-"},"-",null,null,null,null,null,null,null,null,{"$f":"IF(MATCH(E36,B_ML_N!$L$18:$L$23,0)<5,MATCH(E36,B_ML_N!$L$18:$L$23,0),1)","v":{"$error":"#N/A"}},{"$f":"IFERROR(MATCH(D36,Nr_stad!$U$8:$U$60,0),0)","v":0},0,{"$f":"IF(D36=\"\",\"-\",MATCH(D36,B_ML_N!$B$4:$B$16,0))","v":"-"},{"$f":"IFERROR(OFFSET(B_ML_N!$L$3,AE36,4),1)","v":1},false]
[null,null,null,null,null,null,null,null,null,null,null,null,null,null,0,{"$f":"IFERROR(IF(AB37<=2,OFFSET(B_ML_N!$B$3,AE37,AB37),\"-\"),\"-\")","v":"-"},{"$f":"IFERROR(IF(AB37<=2,OFFSET(B_ML_N!$B$3,AE37,AB37+2),\"-\"),\"-\")","v":"-"},{"$f":"IFERROR(IF(AB37>2,OFFSET(B_ML_N!$B$3,AE37,AB37+2),\"-\"),\"-\")","v":"-"},"-",null,null,null,null,null,null,null,null,{"$f":"IF(MATCH(E37,B_ML_N!$L$18:$L$23,0)<5,MATCH(E37,B_ML_N!$L$18:$L$23,0),1)","v":{"$error":"#N/A"}},{"$f":"IFERROR(MATCH(D37,Nr_stad!$U$8:$U$60,0),0)","v":0},0,{"$f":"IF(D37=\"\",\"-\",MATCH(D37,B_ML_N!$B$4:$B$16,0))","v":"-"},{"$f":"IFERROR(OFFSET(B_ML_N!$L$3,AE37,4),1)","v":1},false]
[null,null,null,null,null,null,null,null,null,null,null,null,null,null,0,{"$f":"IFERROR(IF(AB38<=2,OFFSET(B_ML_N!$B$3,AE38,AB38),\"-\"),\"-\")","v":"-"},{"$f":"IFERROR(IF(AB38<=2,OFFSET(B_ML_N!$B$3,AE38,AB38+2),\"-\"),\"-\")","v":"-"},{"$f":"IFERROR(IF(AB38>2,OFFSET(B_ML_N!$B$3,AE38,AB38+2),\"-\"),\"-\")","v":"-"},"-",null,null,null,null,null,null,null,null,{"$f":"IF(MATCH(E38,B_ML_N!$L$18:$L$23,0)<5,MATCH(E38,B_ML_N!$L$18:$L$23,0),1)","v":{"$error":"#N/A"}},{"$f":"IFERROR(MATCH(D38,Nr_stad!$U$8:$U$60,0),0)","v":0},0,{"$f":"IF(D38=\"\",\"-\",MATCH(D38,B_ML_N!$B$4:$B$16,0))","v":"-"},{"$f":"IFERROR(OFFSET(B_ML_N!$L$3,AE38,4),1)","v":1},false]
[null,null,null,null,null,null,null,null,null,null,null,null,null,null,0,{"$f":"IFERROR(IF(AB39<=2,OFFSET(B_ML_N!$B$3,AE39,AB39),\"-\"),\"-\")","v":"-"},{"$f":"IFERROR(IF(AB39<=2,OFFSET(B_ML_N!$B$3,AE39,AB39+2),\"-\"),\"-\")","v":"-"},{"$f":"IFERROR(IF(AB39>2,OFFSET(B_ML_N!$B$3,AE39,AB39+2),\"-\"),\"-\")","v":"-"},"-",null,null,null,null,null,null,null,null,{"$f":"IF(MATCH(E39,B_ML_N!$L$18:$L$23,0)<5,MATCH(E39,B_ML_N!$L$18:$L$23,0),1)","v":{"$error":"#N/A"}},{"$f":"IFERROR(MATCH(D39,Nr_stad!$U$8:$U$60,0),0)","v":0},0,{"$f":"IF(D39=\"\",\"-\",MATCH(D39,B_ML_N!$B$4:$B$16,0))","v":"-"},{"$f":"IFERROR(OFFSET(B_ML_N!$L$3,AE39,4),1)","v":1},false]
[null,null,null,null,null,null,null,null,null,null,null,null,null,null,0,{"$f":"IFERROR(IF(AB40<=2,OFFSET(B_ML_N!$B$3,AE40,AB40),\"-\"),\"-\")","v":"-"},{"$f":"IFERROR(IF(AB40<=2,OFFSET(B_ML_N!$B$3,AE40,AB40+2),\"-\"),\"-\")","v":"-"},{"$f":"IFERROR(IF(AB40>2,OFFSET(B_ML_N!$B$3,AE40,AB40+2),\"-\"),\"-\")","v":"-"},"-",null,null,null,null,null,null,null,null,{"$f":"IF(MATCH(E40,B_ML_N!$L$18:$L$23,0)<5,MATCH(E40,B_ML_N!$L$18:$L$23,0),1)","v":{"$error":"#N/A"}},{"$f":"IFERROR(MATCH(D40,Nr_stad!$U$8:$U$60,0),0)","v":0},0,{"$f":"IF(D40=\"\",\"-\",MATCH(D40,B_ML_N!$B$4:$B$16,0))","v":"-"},{"$f":"IFERROR(OFFSET(B_ML_N!$L$3,AE40,4),1)","v":1},false]
[null,null,null,null,null,null,null,null,null,null,null,null,null,null,0,{"$f":"IFERROR(IF(AB41<=2,OFFSET(B_ML_N!$B$3,AE41,AB41),\"-\"),\"-\")","v":"-"},{"$f":"IFERROR(IF(AB41<=2,OFFSET(B_ML_N!$B$3,AE41,AB41+2),\"-\"),\"-\")","v":"-"},{"$f":"IFERROR(IF(AB41>2,OFFSET(B_ML_N!$B$3,AE41,AB41+2),\"-\"),\"-\")","v":"-"},"-",null,null,null,null,null,null,null,null,{"$f":"IF(MATCH(E41,B_ML_N!$L$18:$L$23,0)<5,MATCH(E41,B_ML_N!$L$18:$L$23,0),1)","v":{"$error":"#N/A"}},{"$f":"IFERROR(MATCH(D41,Nr_stad!$U$8:$U$60,0),0)","v":0},0,{"$f":"IF(D41=\"\",\"-\",MATCH(D41,B_ML_N!$B$4:$B$16,0))","v":"-"},{"$f":"IFERROR(OFFSET(B_ML_N!$L$3,AE41,4),1)","v":1},false]
[null,null,null,null,null,null,null,null,null,null,null,null,null,null,0,{"$f":"IFERROR(IF(AB42<=2,OFFSET(B_ML_N!$B$3,AE42,AB42),\"-\"),\"-\")","v":"-"},{"$f":"IFERROR(IF(AB42<=2,OFFSET(B_ML_N!$B$3,AE42,AB42+2),\"-\"),\"-\")","v":"-"},{"$f":"IFERROR(IF(AB42>2,OFFSET(B_ML_N!$B$3,AE42,AB42+2),\"-\"),\"-\")","v":"-"},"-",null,null,null,null,null,null,null,null,{"$f":"IF(MATCH(E42,B_ML_N!$L$18:$L$23,0)<5,MATCH(E42,B_ML_N!$L$18:$L$23,0),1)","v":{"$error":"#N/A"}},{"$f":"IFERROR(MATCH(D42,Nr_stad!$U$8:$U$60,0),0)","v":0},0,{"$f":"IF(D42=\"\",\"-\",MATCH(D42,B_ML_N!$B$4:$B$16,0))","v":"-"},{"$f":"IFERROR(OFFSET(B_ML_N!$L$3,AE42,4),1)","v":1},false]
[null,null,null,null,null,null,null,null,null,null,null,null,null,null,0,{"$f":"IFERROR(IF(AB43<=2,OFFSET(B_ML_N!$B$3,AE43,AB43),\"-\"),\"-\")","v":"-"},{"$f":"IFERROR(IF(AB43<=2,OFFSET(B_ML_N!$B$3,AE43,AB43+2),\"-\"),\"-\")","v":"-"},{"$f":"IFERROR(IF(AB43>2,OFFSET(B_ML_N!$B$3,AE43,AB43+2),\"-\"),\"-\")","v":"-"},"-",null,null,null,null,null,null,null,null,{"$f":"IF(MATCH(E43,B_ML_N!$L$18:$L$23,0)<5,MATCH(E43,B_ML_N!$L$18:$L$23,0),1)","v":{"$error":"#N/A"}},{"$f":"IFERROR(MATCH(D43,Nr_stad!$U$8:$U$60,0),0)","v":0},0,{"$f":"IF(D43=\"\",\"-\",MATCH(D43,B_ML_N!$B$4:$B$16,0))","v":"-"},{"$f":"IFERROR(OFFSET(B_ML_N!$L$3,AE43,4),1)","v":1},false]
[null,null,null,null,null,null,null,null,null,null,null,null,null,null,0,{"$f":"IFERROR(IF(AB44<=2,OFFSET(B_ML_N!$B$3,AE44,AB44),\"-\"),\"-\")","v":"-"},{"$f":"IFERROR(IF(AB44<=2,OFFSET(B_ML_N!$B$3,AE44,AB44+2),\"-\"),\"-\")","v":"-"},{"$f":"IFERROR(IF(AB44>2,OFFSET(B_ML_N!$B$3,AE44,AB44+2),\"-\"),\"-\")","v":"-"},"-",null,null,null,null,null,null,null,null,{"$f":"IF(MATCH(E44,B_ML_N!$L$18:$L$23,0)<5,MATCH(E44,B_ML_N!$L$18:$L$23,0),1)","v":{"$error":"#N/A"}},{"$f":"IFERROR(MATCH(D44,Nr_stad!$U$8:$U$60,0),0)","v":0},0,{"$f":"IF(D44=\"\",\"-\",MATCH(D44,B_ML_N!$B$4:$B$16,0))","v":"-"},{"$f":"IFERROR(OFFSET(B_ML_N!$L$3,AE44,4),1)","v":1},false]
[null,null,null,null,null,null,null,null,null,null,null,null,null,null,0,{"$f":"IFERROR(IF(AB45<=2,OFFSET(B_ML_N!$B$3,AE45,AB45),\"-\"),\"-\")","v":"-"},{"$f":"IFERROR(IF(AB45<=2,OFFSET(B_ML_N!$B$3,AE45,AB45+2),\"-\"),\"-\")","v":"-"},{"$f":"IFERROR(IF(AB45>2,OFFSET(B_ML_N!$B$3,AE45,AB45+2),\"-\"),\"-\")","v":"-"},"-",null,null,null,null,null,null,null,null,{"$f":"IF(MATCH(E45,B_ML_N!$L$18:$L$23,0)<5,MATCH(E45,B_ML_N!$L$18:$L$23,0),1)","v":{"$error":"#N/A"}},{"$f":"IFERROR(MATCH(D45,Nr_stad!$U$8:$U$60,0),0)","v":0},0,{"$f":"IF(D45=\"\",\"-\",MATCH(D45,B_ML_N!$B$4:$B$16,0))","v":"-"},{"$f":"IFERROR(OFFSET(B_ML_N!$L$3,AE45,4),1)","v":1},false]
[null,null,null,null,null,null,null,null,null,null,null,null,null,null,0,{"$f":"IFERROR(IF(AB46<=2,OFFSET(B_ML_N!$B$3,AE46,AB46),\"-\"),\"-\")","v":"-"},{"$f":"IFERROR(IF(AB46<=2,OFFSET(B_ML_N!$B$3,AE46,AB46+2),\"-\"),\"-\")","v":"-"},{"$f":"IFERROR(IF(AB46>2,OFFSET(B_ML_N!$B$3,AE46,AB46+2),\"-\"),\"-\")","v":"-"},"-",null,null,null,null,null,null,null,null,{"$f":"IF(MATCH(E46,B_ML_N!$L$18:$L$23,0)<5,MATCH(E46,B_ML_N!$L$18:$L$23,0),1)","v":{"$error":"#N/A"}},{"$f":"IFERROR(MATCH(D46,Nr_stad!$U$8:$U$60,0),0)","v":0},0,{"$f":"IF(D46=\"\",\"-\",MATCH(D46,B_ML_N!$B$4:$B$16,0))","v":"-"},{"$f":"IFERROR(OFFSET(B_ML_N!$L$3,AE46,4),1)","v":1},false]
[null,null,null,null,null,null,null,null,null,null,null,null,null,null,0,{"$f":"IFERROR(IF(AB47<=2,OFFSET(B_ML_N!$B$3,AE47,AB47),\"-\"),\"-\")","v":"-"},{"$f":"IFERROR(IF(AB47<=2,OFFSET(B_ML_N!$B$3,AE47,AB47+2),\"-\"),\"-\")","v":"-"},{"$f":"IFERROR(IF(AB47>2,OFFSET(B_ML_N!$B$3,AE47,AB47+2),\"-\"),\"-\")","v":"-"},"-",null,null,null,null,null,null,null,null,{"$f":"IF(MATCH(E47,B_ML_N!$L$18:$L$23,0)<5,MATCH(E47,B_ML_N!$L$18:$L$23,0),1)","v":{"$error":"#N/A"}},{"$f":"IFERROR(MATCH(D47,Nr_stad!$U$8:$U$60,0),0)","v":0},0,{"$f":"IF(D47=\"\",\"-\",MATCH(D47,B_ML_N!$B$4:$B$16,0))","v":"-"},{"$f":"IFERROR(OFFSET(B_ML_N!$L$3,AE47,4),1)","v":1},false]
[null,null,null,null,null,null,null,null,null,null,null,null,null,null,0,{"$f":"IFERROR(IF(AB48<=2,OFFSET(B_ML_N!$B$3,AE48,AB48),\"-\"),\"-\")","v":"-"},{"$f":"IFERROR(IF(AB48<=2,OFFSET(B_ML_N!$B$3,AE48,AB48+2),\"-\"),\"-\")","v":"-"},{"$f":"IFERROR(IF(AB48>2,OFFSET(B_ML_N!$B$3,AE48,AB48+2),\"-\"),\"-\")","v":"-"},"-",null,null,null,null,null,null,null,null,{"$f":"IF(MATCH(E48,B_ML_N!$L$18:$L$23,0)<5,MATCH(E48,B_ML_N!$L$18:$L$23,0),1)","v":{"$error":"#N/A"}},{"$f":"IFERROR(MATCH(D48,Nr_stad!$U$8:$U$60,0),0)","v":0},0,{"$f":"IF(D48=\"\",\"-\",MATCH(D48,B_ML_N!$B$4:$B$16,0))","v":"-"},{"$f":"IFERROR(OFFSET(B_ML_N!$L$3,AE48,4),1)","v":1},false]
[null,null,null,null,null,null,null,null,null,null,null,null,null,null,0,{"$f":"IFERROR(IF(AB49<=2,OFFSET(B_ML_N!$B$3,AE49,AB49),\"-\"),\"-\")","v":"-"},{"$f":"IFERROR(IF(AB49<=2,OFFSET(B_ML_N!$B$3,AE49,AB49+2),\"-\"),\"-\")","v":"-"},{"$f":"IFERROR(IF(AB49>2,OFFSET(B_ML_N!$B$3,AE49,AB49+2),\"-\"),\"-\")","v":"-"},"-",null,null,null,null,null,null,null,null,{"$f":"IF(MATCH(E49,B_ML_N!$L$18:$L$23,0)<5,MATCH(E49,B_ML_N!$L$18:$L$23,0),1)","v":{"$error":"#N/A"}},{"$f":"IFERROR(MATCH(D49,Nr_stad!$U$8:$U$60,0),0)","v":0},0,{"$f":"IF(D49=\"\",\"-\",MATCH(D49,B_ML_N!$B$4:$B$16,0))","v":"-"},{"$f":"IFERROR(OFFSET(B_ML_N!$L$3,AE49,4),1)","v":1},false]
[null,null,null,null,null,null,null,null,null,null,null,null,null,null,0,{"$f":"IFERROR(IF(AB50<=2,OFFSET(B_ML_N!$B$3,AE50,AB50),\"-\"),\"-\")","v":"-"},{"$f":"IFERROR(IF(AB50<=2,OFFSET(B_ML_N!$B$3,AE50,AB50+2),\"-\"),\"-\")","v":"-"},{"$f":"IFERROR(IF(AB50>2,OFFSET(B_ML_N!$B$3,AE50,AB50+2),\"-\"),\"-\")","v":"-"},"-",null,null,null,null,null,null,null,null,{"$f":"IF(MATCH(E50,B_ML_N!$L$18:$L$23,0)<5,MATCH(E50,B_ML_N!$L$18:$L$23,0),1)","v":{"$error":"#N/A"}},{"$f":"IFERROR(MATCH(D50,Nr_stad!$U$8:$U$60,0),0)","v":0},0,{"$f":"IF(D50=\"\",\"-\",MATCH(D50,B_ML_N!$B$4:$B$16,0))","v":"-"},{"$f":"IFERROR(OFFSET(B_ML_N!$L$3,AE50,4),1)","v":1},false]
[null,null,null,null,null,null,null,null,null,null,null,null,null,null,0,{"$f":"IFERROR(IF(AB51<=2,OFFSET(B_ML_N!$B$3,AE51,AB51),\"-\"),\"-\")","v":"-"},{"$f":"IFERROR(IF(AB51<=2,OFFSET(B_ML_N!$B$3,AE51,AB51+2),\"-\"),\"-\")","v":"-"},{"$f":"IFERROR(IF(AB51>2,OFFSET(B_ML_N!$B$3,AE51,AB51+2),\"-\"),\"-\")","v":"-"},"-",null,null,null,null,null,null,null,null,{"$f":"IF(MATCH(E51,B_ML_N!$L$18:$L$23,0)<5,MATCH(E51,B_ML_N!$L$18:$L$23,0),1)","v":{"$error":"#N/A"}},{"$f":"IFERROR(MATCH(D51,Nr_stad!$U$8:$U$60,0),0)","v":0},0,{"$f":"IF(D51=\"\",\"-\",MATCH(D51,B_ML_N!$B$4:$B$16,0))","v":"-"},{"$f":"IFERROR(OFFSET(B_ML_N!$L$3,AE51,4),1)","v":1},false]
[null,null,null,null,null,null,null,null,null,null,null,null,null,null,0,{"$f":"IFERROR(IF(AB52<=2,OFFSET(B_ML_N!$B$3,AE52,AB52),\"-\"),\"-\")","v":"-"},{"$f":"IFERROR(IF(AB52<=2,OFFSET(B_ML_N!$B$3,AE52,AB52+2),\"-\"),\"-\")","v":"-"},{"$f":"IFERROR(IF(AB52>2,OFFSET(B_ML_N!$B$3,AE52,AB52+2),\"-\"),\"-\")","v":"-"},"-",null,null,null,null,null,null,null,null,{"$f":"IF(MATCH(E52,B_ML_N!$L$18:$L$23,0)<5,MATCH(E52,B_ML_N!$L$18:$L$23,0),1)","v":{"$error":"#N/A"}},{"$f":"IFERROR(MATCH(D52,Nr_stad!$U$8:$U$60,0),0)","v":0},0,{"$f":"IF(D52=\"\",\"-\",MATCH(D52,B_ML_N!$B$4:$B$16,0))","v":"-"},{"$f":"IFERROR(OFFSET(B_ML_N!$L$3,AE52,4),1)","v":1},false]
[null,null,null,null,null,null,null,null,null,null,null,null,null,null,0,{"$f":"IFERROR(IF(AB53<=2,OFFSET(B_ML_N!$B$3,AE53,AB53),\"-\"),\"-\")","v":"-"},{"$f":"IFERROR(IF(AB53<=2,OFFSET(B_ML_N!$B$3,AE53,AB53+2),\"-\"),\"-\")","v":"-"},{"$f":"IFERROR(IF(AB53>2,OFFSET(B_ML_N!$B$3,AE53,AB53+2),\"-\"),\"-\")","v":"-"},"-",null,null,null,null,null,null,null,null,{"$f":"IF(MATCH(E53,B_ML_N!$L$18:$L$23,0)<5,MATCH(E53,B_ML_N!$L$18:$L$23,0),1)","v":{"$error":"#N/A"}},{"$f":"IFERROR(MATCH(D53,Nr_stad!$U$8:$U$60,0),0)","v":0},0,{"$f":"IF(D53=\"\",\"-\",MATCH(D53,B_ML_N!$B$4:$B$16,0))","v":"-"},{"$f":"IFERROR(OFFSET(B_ML_N!$L$3,AE53,4),1)","v":1},false]
[null,null,null,null,null,null,null,null,null,null,null,null,null,null,0,{"$f":"IFERROR(IF(AB54<=2,OFFSET(B_ML_N!$B$3,AE54,AB54),\"-\"),\"-\")","v":"-"},{"$f":"IFERROR(IF(AB54<=2,OFFSET(B_ML_N!$B$3,AE54,AB54+2),\"-\"),\"-\")","v":"-"},{"$f":"IFERROR(IF(AB54>2,OFFSET(B_ML_N!$B$3,AE54,AB54+2),\"-\"),\"-\")","v":"-"},"-",null,null,null,null,null,null,null,null,{"$f":"IF(MATCH(E54,B_ML_N!$L$18:$L$23,0)<5,MATCH(E54,B_ML_N!$L$18:$L$23,0),1)","v":{"$error":"#N/A"}},{"$f":"IFERROR(MATCH(D54,Nr_stad!$U$8:$U$60,0),0)","v":0},0,{"$f":"IF(D54=\"\",\"-\",MATCH(D54,B_ML_N!$B$4:$B$16,0))","v":"-"},{"$f":"IFERROR(OFFSET(B_ML_N!$L$3,AE54,4),1)","v":1},false]
[null,null,null,null,null,null,null,null,null,null,null,null,null,null,0,{"$f":"IFERROR(IF(AB55<=2,OFFSET(B_ML_N!$B$3,AE55,AB55),\"-\"),\"-\")","v":"-"},{"$f":"IFERROR(IF(AB55<=2,OFFSET(B_ML_N!$B$3,AE55,AB55+2),\"-\"),\"-\")","v":"-"},{"$f":"IFERROR(IF(AB55>2,OFFSET(B_ML_N!$B$3,AE55,AB55+2),\"-\"),\"-\")","v":"-"},"-",null,null,null,null,null,null,null,null,{"$f":"IF(MATCH(E55,B_ML_N!$L$18:$L$23,0)<5,MATCH(E55,B_ML_N!$L$18:$L$23,0),1)","v":{"$error":"#N/A"}},{"$f":"IFERROR(MATCH(D55,Nr_stad!$U$8:$U$60,0),0)","v":0},0,{"$f":"IF(D55=\"\",\"-\",MATCH(D55,B_ML_N!$B$4:$B$16,0))","v":"-"},{"$f":"IFERROR(OFFSET(B_ML_N!$L$3,AE55,4),1)","v":1},false]
[null,null,null,null,null,null,null,null,null,null,null,null,null,null,0,{"$f":"IFERROR(IF(AB56<=2,OFFSET(B_ML_N!$B$3,AE56,AB56),\"-\"),\"-\")","v":"-"},{"$f":"IFERROR(IF(AB56<=2,OFFSET(B_ML_N!$B$3,AE56,AB56+2),\"-\"),\"-\")","v":"-"},{"$f":"IFERROR(IF(AB56>2,OFFSET(B_ML_N!$B$3,AE56,AB56+2),\"-\"),\"-\")","v":"-"},"-",null,null,null,null,null,null,null,null,{"$f":"IF(MATCH(E56,B_ML_N!$L$18:$L$23,0)<5,MATCH(E56,B_ML_N!$L$18:$L$23,0),1)","v":{"$error":"#N/A"}},{"$f":"IFERROR(MATCH(D56,Nr_stad!$U$8:$U$60,0),0)","v":0},0,{"$f":"IF(D56=\"\",\"-\",MATCH(D56,B_ML_N!$B$4:$B$16,0))","v":"-"},{"$f":"IFERROR(OFFSET(B_ML_N!$L$3,AE56,4),1)","v":1},false]
[null,null,null,null,null,null,null,null,null,null,null,null,null,null,0,{"$f":"IFERROR(IF(AB57<=2,OFFSET(B_ML_N!$B$3,AE57,AB57),\"-\"),\"-\")","v":"-"},{"$f":"IFERROR(IF(AB57<=2,OFFSET(B_ML_N!$B$3,AE57,AB57+2),\"-\"),\"-\")","v":"-"},{"$f":"IFERROR(IF(AB57>2,OFFSET(B_ML_N!$B$3,AE57,AB57+2),\"-\"),\"-\")","v":"-"},"-",null,null,null,null,null,null,null,null,{"$f":"IF(MATCH(E57,B_ML_N!$L$18:$L$23,0)<5,MATCH(E57,B_ML_N!$L$18:$L$23,0),1)","v":{"$error":"#N/A"}},{"$f":"IFERROR(MATCH(D57,Nr_stad!$U$8:$U$60,0),0)","v":0},0,{"$f":"IF(D57=\"\",\"-\",MATCH(D57,B_ML_N!$B$4:$B$16,0))","v":"-"},{"$f":"IFERROR(OFFSET(B_ML_N!$L$3,AE57,4),1)","v":1},false]
[null,null,null,null,null,null,null,null,null,null,null,null,null,null,0,{"$f":"IFERROR(IF(AB58<=2,OFFSET(B_ML_N!$B$3,AE58,AB58),\"-\"),\"-\")","v":"-"},{"$f":"IFERROR(IF(AB58<=2,OFFSET(B_ML_N!$B$3,AE58,AB58+2),\"-\"),\"-\")","v":"-"},{"$f":"IFERROR(IF(AB58>2,OFFSET(B_ML_N!$B$3,AE58,AB58+2),\"-\"),\"-\")","v":"-"},"-",null,null,null,null,null,null,null,null,{"$f":"IF(MATCH(E58,B_ML_N!$L$18:$L$23,0)<5,MATCH(E58,B_ML_N!$L$18:$L$23,0),1)","v":{"$error":"#N/A"}},{"$f":"IFERROR(MATCH(D58,Nr_stad!$U$8:$U$60,0),0)","v":0},0,{"$f":"IF(D58=\"\",\"-\",MATCH(D58,B_ML_N!$B$4:$B$16,0))","v":"-"},{"$f":"IFERROR(OFFSET(B_ML_N!$L$3,AE58,4),1)","v":1},false]
[null,null,null,null,null,null,null,null,null,null,null,null,null,null,0,{"$f":"IFERROR(IF(AB59<=2,OFFSET(B_ML_N!$B$3,AE59,AB59),\"-\"),\"-\")","v":"-"},{"$f":"IFERROR(IF(AB59<=2,OFFSET(B_ML_N!$B$3,AE59,AB59+2),\"-\"),\"-\")","v":"-"},{"$f":"IFERROR(IF(AB59>2,OFFSET(B_ML_N!$B$3,AE59,AB59+2),\"-\"),\"-\")","v":"-"},"-",null,null,null,null,null,null,null,null,{"$f":"IF(MATCH(E59,B_ML_N!$L$18:$L$23,0)<5,MATCH(E59,B_ML_N!$L$18:$L$23,0),1)","v":{"$error":"#N/A"}},{"$f":"IFERROR(MATCH(D59,Nr_stad!$U$8:$U$60,0),0)","v":0},0,{"$f":"IF(D59=\"\",\"-\",MATCH(D59,B_ML_N!$B$4:$B$16,0))","v":"-"},{"$f":"IFERROR(OFFSET(B_ML_N!$L$3,AE59,4),1)","v":1},false]
[null,null,null,null,null,null,null,null,null,null,null,null,null,null,0,{"$f":"IFERROR(IF(AB60<=2,OFFSET(B_ML_N!$B$3,AE60,AB60),\"-\"),\"-\")","v":"-"},{"$f":"IFERROR(IF(AB60<=2,OFFSET(B_ML_N!$B$3,AE60,AB60+2),\"-\"),\"-\")","v":"-"},{"$f":"IFERROR(IF(AB60>2,OFFSET(B_ML_N!$B$3,AE60,AB60+2),\"-\"),\"-\")","v":"-"},"-",null,null,null,null,null,null,null,null,{"$f":"IF(MATCH(E60,B_ML_N!$L$18:$L$23,0)<5,MATCH(E60,B_ML_N!$L$18:$L$23,0),1)","v":{"$error":"#N/A"}},{"$f":"IFERROR(MATCH(D60,Nr_stad!$U$8:$U$60,0),0)","v":0},0,{"$f":"IF(D60=\"\",\"-\",MATCH(D60,B_ML_N!$B$4:$B$16,0))","v":"-"},{"$f":"IFERROR(OFFSET(B_ML_N!$L$3,AE60,4),1)","v":1},false]
[null,null,null,null,null,null,null,null,null,null,null,null,null,null,0,{"$f":"IFERROR(IF(AB61<=2,OFFSET(B_ML_N!$B$3,AE61,AB61),\"-\"),\"-\")","v":"-"},{"$f":"IFERROR(IF(AB61<=2,OFFSET(B_ML_N!$B$3,AE61,AB61+2),\"-\"),\"-\")","v":"-"},{"$f":"IFERROR(IF(AB61>2,OFFSET(B_ML_N!$B$3,AE61,AB61+2),\"-\"),\"-\")","v":"-"},"-",null,null,null,null,null,null,null,null,{"$f":"IF(MATCH(E61,B_ML_N!$L$18:$L$23,0)<5,MATCH(E61,B_ML_N!$L$18:$L$23,0),1)","v":{"$error":"#N/A"}},{"$f":"IFERROR(MATCH(D61,Nr_stad!$U$8:$U$60,0),0)","v":0},0,{"$f":"IF(D61=\"\",\"-\",MATCH(D61,B_ML_N!$B$4:$B$16,0))","v":"-"},{"$f":"IFERROR(OFFSET(B_ML_N!$L$3,AE61,4),1)","v":1},false]
[null,null,null,null,null,null,null,null,null,null,null,null,null,null,0,{"$f":"IFERROR(IF(AB62<=2,OFFSET(B_ML_N!$B$3,AE62,AB62),\"-\"),\"-\")","v":"-"},{"$f":"IFERROR(IF(AB62<=2,OFFSET(B_ML_N!$B$3,AE62,AB62+2),\"-\"),\"-\")","v":"-"},{"$f":"IFERROR(IF(AB62>2,OFFSET(B_ML_N!$B$3,AE62,AB62+2),\"-\"),\"-\")","v":"-"},"-",null,null,null,null,null,null,null,null,{"$f":"IF(MATCH(E62,B_ML_N!$L$18:$L$23,0)<5,MATCH(E62,B_ML_N!$L$18:$L$23,0),1)","v":{"$error":"#N/A"}},{"$f":"IFERROR(MATCH(D62,Nr_stad!$U$8:$U$60,0),0)","v":0},0,{"$f":"IF(D62=\"\",\"-\",MATCH(D62,B_ML_N!$B$4:$B$16,0))","v":"-"},{"$f":"IFERROR(OFFSET(B_ML_N!$L$3,AE62,4),1)","v":1},false]
[null,null,null,null,null,null,null,null,null,null,null,null,null,null,0,{"$f":"IFERROR(IF(AB63<=2,OFFSET(B_ML_N!$B$3,AE63,AB63),\"-\"),\"-\")","v":"-"},{"$f":"IFERROR(IF(AB63<=2,OFFSET(B_ML_N!$B$3,AE63,AB63+2),\"-\"),\"-\")","v":"-"},{"$f":"IFERROR(IF(AB63>2,OFFSET(B_ML_N!$B$3,AE63,AB63+2),\"-\"),\"-\")","v":"-"},"-",null,null,null,null,null,null,null,null,{"$f":"IF(MATCH(E63,B_ML_N!$L$18:$L$23,0)<5,MATCH(E63,B_ML_N!$L$18:$L$23,0),1)","v":{"$error":"#N/A"}},{"$f":"IFERROR(MATCH(D63,Nr_stad!$U$8:$U$60,0),0)","v":0},0,{"$f":"IF(D63=\"\",\"-\",MATCH(D63,B_ML_N!$B$4:$B$16,0))","v":"-"},{"$f":"IFERROR(OFFSET(B_ML_N!$L$3,AE63,4),1)","v":1},false]
[null,null,null,null,null,null,null,null,null,null,null,null,null,null,0,{"$f":"IFERROR(IF(AB64<=2,OFFSET(B_ML_N!$B$3,AE64,AB64),\"-\"),\"-\")","v":"-"},{"$f":"IFERROR(IF(AB64<=2,OFFSET(B_ML_N!$B$3,AE64,AB64+2),\"-\"),\"-\")","v":"-"},{"$f":"IFERROR(IF(AB64>2,OFFSET(B_ML_N!$B$3,AE64,AB64+2),\"-\"),\"-\")","v":"-"},"-",null,null,null,null,null,null,null,null,{"$f":"IF(MATCH(E64,B_ML_N!$L$18:$L$23,0)<5,MATCH(E64,B_ML_N!$L$18:$L$23,0),1)","v":{"$error":"#N/A"}},{"$f":"IFERROR(MATCH(D64,Nr_stad!$U$8:$U$60,0),0)","v":0},0,{"$f":"IF(D64=\"\",\"-\",MATCH(D64,B_ML_N!$B$4:$B$16,0))","v":"-"},{"$f":"IFERROR(OFFSET(B_ML_N!$L$3,AE64,4),1)","v":1},false]
[null,null,null,null,null,null,null,null,null,null,null,null,null,null,0,{"$f":"IFERROR(IF(AB65<=2,OFFSET(B_ML_N!$B$3,AE65,AB65),\"-\"),\"-\")","v":"-"},{"$f":"IFERROR(IF(AB65<=2,OFFSET(B_ML_N!$B$3,AE65,AB65+2),\"-\"),\"-\")","v":"-"},{"$f":"IFERROR(IF(AB65>2,OFFSET(B_ML_N!$B$3,AE65,AB65+2),\"-\"),\"-\")","v":"-"},"-",null,null,null,null,null,null,null,null,{"$f":"IF(MATCH(E65,B_ML_N!$L$18:$L$23,0)<5,MATCH(E65,B_ML_N!$L$18:$L$23,0),1)","v":{"$error":"#N/A"}},{"$f":"IFERROR(MATCH(D65,Nr_stad!$U$8:$U$60,0),0)","v":0},0,{"$f":"IF(D65=\"\",\"-\",MATCH(D65,B_ML_N!$B$4:$B$16,0))","v":"-"},{"$f":"IFERROR(OFFSET(B_ML_N!$L$3,AE65,4),1)","v":1},false]
[null,null,null,null,null,null,null,null,null,null,null,null,null,null,0,{"$f":"IFERROR(IF(AB66<=2,OFFSET(B_ML_N!$B$3,AE66,AB66),\"-\"),\"-\")","v":"-"},{"$f":"IFERROR(IF(AB66<=2,OFFSET(B_ML_N!$B$3,AE66,AB66+2),\"-\"),\"-\")","v":"-"},{"$f":"IFERROR(IF(AB66>2,OFFSET(B_ML_N!$B$3,AE66,AB66+2),\"-\"),\"-\")","v":"-"},"-",null,null,null,null,null,null,null,null,{"$f":"IF(MATCH(E66,B_ML_N!$L$18:$L$23,0)<5,MATCH(E66,B_ML_N!$L$18:$L$23,0),1)","v":{"$error":"#N/A"}},{"$f":"IFERROR(MATCH(D66,Nr_stad!$U$8:$U$60,0),0)","v":0},0,{"$f":"IF(D66=\"\",\"-\",MATCH(D66,B_ML_N!$B$4:$B$16,0))","v":"-"},{"$f":"IFERROR(OFFSET(B_ML_N!$L$3,AE66,4),1)","v":1},false]
[null,null,null,null,null,null,null,null,null,null,null,null,null,null,0,{"$f":"IFERROR(IF(AB67<=2,OFFSET(B_ML_N!$B$3,AE67,AB67),\"-\"),\"-\")","v":"-"},{"$f":"IFERROR(IF(AB67<=2,OFFSET(B_ML_N!$B$3,AE67,AB67+2),\"-\"),\"-\")","v":"-"},{"$f":"IFERROR(IF(AB67>2,OFFSET(B_ML_N!$B$3,AE67,AB67+2),\"-\"),\"-\")","v":"-"},"-",null,null,null,null,null,null,null,null,{"$f":"IF(MATCH(E67,B_ML_N!$L$18:$L$23,0)<5,MATCH(E67,B_ML_N!$L$18:$L$23,0),1)","v":{"$error":"#N/A"}},{"$f":"IFERROR(MATCH(D67,Nr_stad!$U$8:$U$60,0),0)","v":0},0,{"$f":"IF(D67=\"\",\"-\",MATCH(D67,B_ML_N!$B$4:$B$16,0))","v":"-"},{"$f":"IFERROR(OFFSET(B_ML_N!$L$3,AE67,4),1)","v":1},false]
[null,null,null,null,null,null,null,null,null,null,null,null,null,null,0,{"$f":"IFERROR(IF(AB68<=2,OFFSET(B_ML_N!$B$3,AE68,AB68),\"-\"),\"-\")","v":"-"},{"$f":"IFERROR(IF(AB68<=2,OFFSET(B_ML_N!$B$3,AE68,AB68+2),\"-\"),\"-\")","v":"-"},{"$f":"IFERROR(IF(AB68>2,OFFSET(B_ML_N!$B$3,AE68,AB68+2),\"-\"),\"-\")","v":"-"},"-",null,null,null,null,null,null,null,null,{"$f":"IF(MATCH(E68,B_ML_N!$L$18:$L$23,0)<5,MATCH(E68,B_ML_N!$L$18:$L$23,0),1)","v":{"$error":"#N/A"}},{"$f":"IFERROR(MATCH(D68,Nr_stad!$U$8:$U$60,0),0)","v":0},0,{"$f":"IF(D68=\"\",\"-\",MATCH(D68,B_ML_N!$B$4:$B$16,0))","v":"-"},{"$f":"IFERROR(OFFSET(B_ML_N!$L$3,AE68,4),1)","v":1},false]
[null,null,null,null,null,null,null,null,null,null,null,null,null,null,0,{"$f":"IFERROR(IF(AB69<=2,OFFSET(B_ML_N!$B$3,AE69,AB69),\"-\"),\"-\")","v":"-"},{"$f":"IFERROR(IF(AB69<=2,OFFSET(B_ML_N!$B$3,AE69,AB69+2),\"-\"),\"-\")","v":"-"},{"$f":"IFERROR(IF(AB69>2,OFFSET(B_ML_N!$B$3,AE69,AB69+2),\"-\"),\"-\")","v":"-"},"-",null,null,null,null,null,null,null,null,{"$f":"IF(MATCH(E69,B_ML_N!$L$18:$L$23,0)<5,MATCH(E69,B_ML_N!$L$18:$L$23,0),1)","v":{"$error":"#N/A"}},{"$f":"IFERROR(MATCH(D69,Nr_stad!$U$8:$U$60,0),0)","v":0},0,{"$f":"IF(D69=\"\",\"-\",MATCH(D69,B_ML_N!$B$4:$B$16,0))","v":"-"},{"$f":"IFERROR(OFFSET(B_ML_N!$L$3,AE69,4),1)","v":1},false]
[null,null,null,null,null,null,null,null,null,null,null,null,null,null,0,{"$f":"IFERROR(IF(AB70<=2,OFFSET(B_ML_N!$B$3,AE70,AB70),\"-\"),\"-\")","v":"-"},{"$f":"IFERROR(IF(AB70<=2,OFFSET(B_ML_N!$B$3,AE70,AB70+2),\"-\"),\"-\")","v":"-"},{"$f":"IFERROR(IF(AB70>2,OFFSET(B_ML_N!$B$3,AE70,AB70+2),\"-\"),\"-\")","v":"-"},"-",null,null,null,null,null,null,null,null,{"$f":"IF(MATCH(E70,B_ML_N!$L$18:$L$23,0)<5,MATCH(E70,B_ML_N!$L$18:$L$23,0),1)","v":{"$error":"#N/A"}},{"$f":"IFERROR(MATCH(D70,Nr_stad!$U$8:$U$60,0),0)","v":0},0,{"$f":"IF(D70=\"\",\"-\",MATCH(D70,B_ML_N!$B$4:$B$16,0))","v":"-"},{"$f":"IFERROR(OFFSET(B_ML_N!$L$3,AE70,4),1)","v":1},false]
[null,null,null,null,null,null,null,null,null,null,null,null,null,null,0,{"$f":"IFERROR(IF(AB71<=2,OFFSET(B_ML_N!$B$3,AE71,AB71),\"-\"),\"-\")","v":"-"},{"$f":"IFERROR(IF(AB71<=2,OFFSET(B_ML_N!$B$3,AE71,AB71+2),\"-\"),\"-\")","v":"-"},{"$f":"IFERROR(IF(AB71>2,OFFSET(B_ML_N!$B$3,AE71,AB71+2),\"-\"),\"-\")","v":"-"},"-",null,null,null,null,null,null,null,null,{"$f":"IF(MATCH(E71,B_ML_N!$L$18:$L$23,0)<5,MATCH(E71,B_ML_N!$L$18:$L$23,0),1)","v":{"$error":"#N/A"}},{"$f":"IFERROR(MATCH(D71,Nr_stad!$U$8:$U$60,0),0)","v":0},0,{"$f":"IF(D71=\"\",\"-\",MATCH(D71,B_ML_N!$B$4:$B$16,0))","v":"-"},{"$f":"IFERROR(OFFSET(B_ML_N!$L$3,AE71,4),1)","v":1},false]
[null,null,null,null,null,null,null,null,null,null,null,null,null,null,0,{"$f":"IFERROR(IF(AB72<=2,OFFSET(B_ML_N!$B$3,AE72,AB72),\"-\"),\"-\")","v":"-"},{"$f":"IFERROR(IF(AB72<=2,OFFSET(B_ML_N!$B$3,AE72,AB72+2),\"-\"),\"-\")","v":"-"},{"$f":"IFERROR(IF(AB72>2,OFFSET(B_ML_N!$B$3,AE72,AB72+2),\"-\"),\"-\")","v":"-"},"-",null,null,null,null,null,null,null,null,{"$f":"IF(MATCH(E72,B_ML_N!$L$18:$L$23,0)<5,MATCH(E72,B_ML_N!$L$18:$L$23,0),1)","v":{"$error":"#N/A"}},{"$f":"IFERROR(MATCH(D72,Nr_stad!$U$8:$U$60,0),0)","v":0},0,{"$f":"IF(D72=\"\",\"-\",MATCH(D72,B_ML_N!$B$4:$B$16,0))","v":"-"},{"$f":"IFERROR(OFFSET(B_ML_N!$L$3,AE72,4),1)","v":1},false]
[null,null,null,null,null,null,null,null,null,null,null,null,null,null,0,{"$f":"IFERROR(IF(AB73<=2,OFFSET(B_ML_N!$B$3,AE73,AB73),\"-\"),\"-\")","v":"-"},{"$f":"IFERROR(IF(AB73<=2,OFFSET(B_ML_N!$B$3,AE73,AB73+2),\"-\"),\"-\")","v":"-"},{"$f":"IFERROR(IF(AB73>2,OFFSET(B_ML_N!$B$3,AE73,AB73+2),\"-\"),\"-\")","v":"-"},"-",null,null,null,null,null,null,null,null,{"$f":"IF(MATCH(E73,B_ML_N!$L$18:$L$23,0)<5,MATCH(E73,B_ML_N!$L$18:$L$23,0),1)","v":{"$error":"#N/A"}},{"$f":"IFERROR(MATCH(D73,Nr_stad!$U$8:$U$60,0),0)","v":0},0,{"$f":"IF(D73=\"\",\"-\",MATCH(D73,B_ML_N!$B$4:$B$16,0))","v":"-"},{"$f":"IFERROR(OFFSET(B_ML_N!$L$3,AE73,4),1)","v":1},false]
[null,null,null,null,null,null,null,null,null,null,null,null,null,null,0,{"$f":"IFERROR(IF(AB74<=2,OFFSET(B_ML_N!$B$3,AE74,AB74),\"-\"),\"-\")","v":"-"},{"$f":"IFERROR(IF(AB74<=2,OFFSET(B_ML_N!$B$3,AE74,AB74+2),\"-\"),\"-\")","v":"-"},{"$f":"IFERROR(IF(AB74>2,OFFSET(B_ML_N!$B$3,AE74,AB74+2),\"-\"),\"-\")","v":"-"},"-",null,null,null,null,null,null,null,null,{"$f":"IF(MATCH(E74,B_ML_N!$L$18:$L$23,0)<5,MATCH(E74,B_ML_N!$L$18:$L$23,0),1)","v":{"$error":"#N/A"}},{"$f":"IFERROR(MATCH(D74,Nr_stad!$U$8:$U$60,0),0)","v":0},0,{"$f":"IF(D74=\"\",\"-\",MATCH(D74,B_ML_N!$B$4:$B$16,0))","v":"-"},{"$f":"IFERROR(OFFSET(B_ML_N!$L$3,AE74,4),1)","v":1},false]
[null,null,null,null,null,null,null,null,null,null,null,null,null,null,0,{"$f":"IFERROR(IF(AB75<=2,OFFSET(B_ML_N!$B$3,AE75,AB75),\"-\"),\"-\")","v":"-"},{"$f":"IFERROR(IF(AB75<=2,OFFSET(B_ML_N!$B$3,AE75,AB75+2),\"-\"),\"-\")","v":"-"},{"$f":"IFERROR(IF(AB75>2,OFFSET(B_ML_N!$B$3,AE75,AB75+2),\"-\"),\"-\")","v":"-"},"-",null,null,null,null,null,null,null,null,{"$f":"IF(MATCH(E75,B_ML_N!$L$18:$L$23,0)<5,MATCH(E75,B_ML_N!$L$18:$L$23,0),1)","v":{"$error":"#N/A"}},{"$f":"IFERROR(MATCH(D75,Nr_stad!$U$8:$U$60,0),0)","v":0},0,{"$f":"IF(D75=\"\",\"-\",MATCH(D75,B_ML_N!$B$4:$B$16,0))","v":"-"},{"$f":"IFERROR(OFFSET(B_ML_N!$L$3,AE75,4),1)","v":1},false]
[null,null,null,null,null,null,null,null,null,null,null,null,null,null,0,{"$f":"IFERROR(IF(AB76<=2,OFFSET(B_ML_N!$B$3,AE76,AB76),\"-\"),\"-\")","v":"-"},{"$f":"IFERROR(IF(AB76<=2,OFFSET(B_ML_N!$B$3,AE76,AB76+2),\"-\"),\"-\")","v":"-"},{"$f":"IFERROR(IF(AB76>2,OFFSET(B_ML_N!$B$3,AE76,AB76+2),\"-\"),\"-\")","v":"-"},"-",null,null,null,null,null,null,null,null,{"$f":"IF(MATCH(E76,B_ML_N!$L$18:$L$23,0)<5,MATCH(E76,B_ML_N!$L$18:$L$23,0),1)","v":{"$error":"#N/A"}},{"$f":"IFERROR(MATCH(D76,Nr_stad!$U$8:$U$60,0),0)","v":0},0,{"$f":"IF(D76=\"\",\"-\",MATCH(D76,B_ML_N!$B$4:$B$16,0))","v":"-"},{"$f":"IFERROR(OFFSET(B_ML_N!$L$3,AE76,4),1)","v":1},false]
[null,null,null,null,null,null,null,null,null,null,null,null,null,null,0,{"$f":"IFERROR(IF(AB77<=2,OFFSET(B_ML_N!$B$3,AE77,AB77),\"-\"),\"-\")","v":"-"},{"$f":"IFERROR(IF(AB77<=2,OFFSET(B_ML_N!$B$3,AE77,AB77+2),\"-\"),\"-\")","v":"-"},{"$f":"IFERROR(IF(AB77>2,OFFSET(B_ML_N!$B$3,AE77,AB77+2),\"-\"),\"-\")","v":"-"},"-",null,null,null,null,null,null,null,null,{"$f":"IF(MATCH(E77,B_ML_N!$L$18:$L$23,0)<5,MATCH(E77,B_ML_N!$L$18:$L$23,0),1)","v":{"$error":"#N/A"}},{"$f":"IFERROR(MATCH(D77,Nr_stad!$U$8:$U$60,0),0)","v":0},0,{"$f":"IF(D77=\"\",\"-\",MATCH(D77,B_ML_N!$B$4:$B$16,0))","v":"-"},{"$f":"IFERROR(OFFSET(B_ML_N!$L$3,AE77,4),1)","v":1},false]
[null,null,null,null,null,null,null,null,null,null,null,null,null,null,0,{"$f":"IFERROR(IF(AB78<=2,OFFSET(B_ML_N!$B$3,AE78,AB78),\"-\"),\"-\")","v":"-"},{"$f":"IFERROR(IF(AB78<=2,OFFSET(B_ML_N!$B$3,AE78,AB78+2),\"-\"),\"-\")","v":"-"},{"$f":"IFERROR(IF(AB78>2,OFFSET(B_ML_N!$B$3,AE78,AB78+2),\"-\"),\"-\")","v":"-"},"-",null,null,null,null,null,null,null,null,{"$f":"IF(MATCH(E78,B_ML_N!$L$18:$L$23,0)<5,MATCH(E78,B_ML_N!$L$18:$L$23,0),1)","v":{"$error":"#N/A"}},{"$f":"IFERROR(MATCH(D78,Nr_stad!$U$8:$U$60,0),0)","v":0},0,{"$f":"IF(D78=\"\",\"-\",MATCH(D78,B_ML_N!$B$4:$B$16,0))","v":"-"},{"$f":"IFERROR(OFFSET(B_ML_N!$L$3,AE78,4),1)","v":1},false]
[null,null,null,null,null,null,null,null,null,null,null,null,null,null,0,{"$f":"IFERROR(IF(AB79<=2,OFFSET(B_ML_N!$B$3,AE79,AB79),\"-\"),\"-\")","v":"-"},{"$f":"IFERROR(IF(AB79<=2,OFFSET(B_ML_N!$B$3,AE79,AB79+2),\"-\"),\"-\")","v":"-"},{"$f":"IFERROR(IF(AB79>2,OFFSET(B_ML_N!$B$3,AE79,AB79+2),\"-\"),\"-\")","v":"-"},"-",null,null,null,null,null,null,null,null,{"$f":"IF(MATCH(E79,B_ML_N!$L$18:$L$23,0)<5,MATCH(E79,B_ML_N!$L$18:$L$23,0),1)","v":{"$error":"#N/A"}},{"$f":"IFERROR(MATCH(D79,Nr_stad!$U$8:$U$60,0),0)","v":0},0,{"$f":"IF(D79=\"\",\"-\",MATCH(D79,B_ML_N!$B$4:$B$16,0))","v":"-"},{"$f":"IFERROR(OFFSET(B_ML_N!$L$3,AE79,4),1)","v":1},false]
[null,null,null,null,null,null,null,null,null,null,null,null,null,null,0,{"$f":"IFERROR(IF(AB80<=2,OFFSET(B_ML_N!$B$3,AE80,AB80),\"-\"),\"-\")","v":"-"},{"$f":"IFERROR(IF(AB80<=2,OFFSET(B_ML_N!$B$3,AE80,AB80+2),\"-\"),\"-\")","v":"-"},{"$f":"IFERROR(IF(AB80>2,OFFSET(B_ML_N!$B$3,AE80,AB80+2),\"-\"),\"-\")","v":"-"},"-",null,null,null,null,null,null,null,null,{"$f":"IF(MATCH(E80,B_ML_N!$L$18:$L$23,0)<5,MATCH(E80,B_ML_N!$L$18:$L$23,0),1)","v":{"$error":"#N/A"}},{"$f":"IFERROR(MATCH(D80,Nr_stad!$U$8:$U$60,0),0)","v":0},0,{"$f":"IF(D80=\"\",\"-\",MATCH(D80,B_ML_N!$B$4:$B$16,0))","v":"-"},{"$f":"IFERROR(OFFSET(B_ML_N!$L$3,AE80,4),1)","v":1},false]
[null,null,null,null,null,null,null,null,null,null,null,null,null,null,0,{"$f":"IFERROR(IF(AB81<=2,OFFSET(B_ML_N!$B$3,AE81,AB81),\"-\"),\"-\")","v":"-"},{"$f":"IFERROR(IF(AB81<=2,OFFSET(B_ML_N!$B$3,AE81,AB81+2),\"-\"),\"-\")","v":"-"},{"$f":"IFERROR(IF(AB81>2,OFFSET(B_ML_N!$B$3,AE81,AB81+2),\"-\"),\"-\")","v":"-"},"-",null,null,null,null,null,null,null,null,{"$f":"IF(MATCH(E81,B_ML_N!$L$18:$L$23,0)<5,MATCH(E81,B_ML_N!$L$18:$L$23,0),1)","v":{"$error":"#N/A"}},{"$f":"IFERROR(MATCH(D81,Nr_stad!$U$8:$U$60,0),0)","v":0},0,{"$f":"IF(D81=\"\",\"-\",MATCH(D81,B_ML_N!$B$4:$B$16,0))","v":"-"},{"$f":"IFERROR(OFFSET(B_ML_N!$L$3,AE81,4),1)","v":1},false]
[null,null,null,null,null,null,null,null,null,null,null,null,null,null,0,{"$f":"IFERROR(IF(AB82<=2,OFFSET(B_ML_N!$B$3,AE82,AB82),\"-\"),\"-\")","v":"-"},{"$f":"IFERROR(IF(AB82<=2,OFFSET(B_ML_N!$B$3,AE82,AB82+2),\"-\"),\"-\")","v":"-"},{"$f":"IFERROR(IF(AB82>2,OFFSET(B_ML_N!$B$3,AE82,AB82+2),\"-\"),\"-\")","v":"-"},"-",null,null,null,null,null,null,null,null,{"$f":"IF(MATCH(E82,B_ML_N!$L$18:$L$23,0)<5,MATCH(E82,B_ML_N!$L$18:$L$23,0),1)","v":{"$error":"#N/A"}},{"$f":"IFERROR(MATCH(D82,Nr_stad!$U$8:$U$60,0),0)","v":0},0,{"$f":"IF(D82=\"\",\"-\",MATCH(D82,B_ML_N!$B$4:$B$16,0))","v":"-"},{"$f":"IFERROR(OFFSET(B_ML_N!$L$3,AE82,4),1)","v":1},false]
[null,null,null,null,null,null,null,null,null,null,null,null,null,null,0,{"$f":"IFERROR(IF(AB83<=2,OFFSET(B_ML_N!$B$3,AE83,AB83),\"-\"),\"-\")","v":"-"},{"$f":"IFERROR(IF(AB83<=2,OFFSET(B_ML_N!$B$3,AE83,AB83+2),\"-\"),\"-\")","v":"-"},{"$f":"IFERROR(IF(AB83>2,OFFSET(B_ML_N!$B$3,AE83,AB83+2),\"-\"),\"-\")","v":"-"},"-",null,null,null,null,null,null,null,null,{"$f":"IF(MATCH(E83,B_ML_N!$L$18:$L$23,0)<5,MATCH(E83,B_ML_N!$L$18:$L$23,0),1)","v":{"$error":"#N/A"}},{"$f":"IFERROR(MATCH(D83,Nr_stad!$U$8:$U$60,0),0)","v":0},0,{"$f":"IF(D83=\"\",\"-\",MATCH(D83,B_ML_N!$B$4:$B$16,0))","v":"-"},{"$f":"IFERROR(OFFSET(B_ML_N!$L$3,AE83,4),1)","v":1},false]
[null,null,null,null,null,null,null,null,null,null,null,null,null,null,0,{"$f":"IFERROR(IF(AB84<=2,OFFSET(B_ML_N!$B$3,AE84,AB84),\"-\"),\"-\")","v":"-"},{"$f":"IFERROR(IF(AB84<=2,OFFSET(B_ML_N!$B$3,AE84,AB84+2),\"-\"),\"-\")","v":"-"},{"$f":"IFERROR(IF(AB84>2,OFFSET(B_ML_N!$B$3,AE84,AB84+2),\"-\"),\"-\")","v":"-"},"-",null,null,null,null,null,null,null,null,{"$f":"IF(MATCH(E84,B_ML_N!$L$18:$L$23,0)<5,MATCH(E84,B_ML_N!$L$18:$L$23,0),1)","v":{"$error":"#N/A"}},{"$f":"IFERROR(MATCH(D84,Nr_stad!$U$8:$U$60,0),0)","v":0},0,{"$f":"IF(D84=\"\",\"-\",MATCH(D84,B_ML_N!$B$4:$B$16,0))","v":"-"},{"$f":"IFERROR(OFFSET(B_ML_N!$L$3,AE84,4),1)","v":1},false]
[null,null,null,null,null,null,null,null,null,null,null,null,null,null,0,{"$f":"IFERROR(IF(AB85<=2,OFFSET(B_ML_N!$B$3,AE85,AB85),\"-\"),\"-\")","v":"-"},{"$f":"IFERROR(IF(AB85<=2,OFFSET(B_ML_N!$B$3,AE85,AB85+2),\"-\"),\"-\")","v":"-"},{"$f":"IFERROR(IF(AB85>2,OFFSET(B_ML_N!$B$3,AE85,AB85+2),\"-\"),\"-\")","v":"-"},"-",null,null,null,null,null,null,null,null,{"$f":"IF(MATCH(E85,B_ML_N!$L$18:$L$23,0)<5,MATCH(E85,B_ML_N!$L$18:$L$23,0),1)","v":{"$error":"#N/A"}},{"$f":"IFERROR(MATCH(D85,Nr_stad!$U$8:$U$60,0),0)","v":0},0,{"$f":"IF(D85=\"\",\"-\",MATCH(D85,B_ML_N!$B$4:$B$16,0))","v":"-"},{"$f":"IFERROR(OFFSET(B_ML_N!$L$3,AE85,4),1)","v":1},false]
[null,null,null,null,null,null,null,null,null,null,null,null,null,null,0,{"$f":"IFERROR(IF(AB86<=2,OFFSET(B_ML_N!$B$3,AE86,AB86),\"-\"),\"-\")","v":"-"},{"$f":"IFERROR(IF(AB86<=2,OFFSET(B_ML_N!$B$3,AE86,AB86+2),\"-\"),\"-\")","v":"-"},{"$f":"IFERROR(IF(AB86>2,OFFSET(B_ML_N!$B$3,AE86,AB86+2),\"-\"),\"-\")","v":"-"},"-",null,null,null,null,null,null,null,null,{"$f":"IF(MATCH(E86,B_ML_N!$L$18:$L$23,0)<5,MATCH(E86,B_ML_N!$L$18:$L$23,0),1)","v":{"$error":"#N/A"}},{"$f":"IFERROR(MATCH(D86,Nr_stad!$U$8:$U$60,0),0)","v":0},0,{"$f":"IF(D86=\"\",\"-\",MATCH(D86,B_ML_N!$B$4:$B$16,0))","v":"-"},{"$f":"IFERROR(OFFSET(B_ML_N!$L$3,AE86,4),1)","v":1},false]
[null,null,null,null,null,null,null,null,null,null,null,null,null,null,{"$f":"IFERROR(M87*N87,\"\")","v":0},{"$f":"IFERROR(IF(AB87<=2,OFFSET(B_ML_N!$B$3,AE87,AB87),\"-\"),\"-\")","v":"-"},{"$f":"IFERROR(IF(AB87<=2,OFFSET(B_ML_N!$B$3,AE87,AB87+2),\"-\"),\"-\")","v":"-"},{"$f":"IFERROR(IF(AB87>2,OFFSET(B_ML_N!$B$3,AE87,AB87+2),\"-\"),\"-\")","v":"-"},{"$f":"IFERROR(IF(AG87<>TRUE,IF(AND(L87>0,AB87<3),L87,TRUNC(O87/R87)),\"-\"),\"-\")","v":"-"},null,null,null,null,null,null,null,null,{"$f":"IF(MATCH(E87,B_ML_N!$L$18:$L$23,0)<5,MATCH(E87,B_ML_N!$L$18:$L$23,0),1)","v":{"$error":"#N/A"}},{"$f":"IFERROR(MATCH(D87,Nr_stad!$U$8:$U$60,0),0)","v":0},{"$f":"SUM(I87:T87)+AC87","v":0},{"$f":"IF(D87=\"\",\"-\",MATCH(D87,B_ML_N!$B$4:$B$16,0))","v":"-"},{"$f":"IFERROR(OFFSET(B_ML_N!$L$3,AE87,4),1)","v":1},{"$f":"IFERROR(AND(OR(J87<P87,K87<Q87),AB87<3),FALSE)","v":false}]
[null,null,null,null,null,null,null,null,null,null,null,null,null,null,0,{"$f":"IFERROR(IF(AB88<=2,OFFSET(B_ML_N!$B$3,AE88,AB88),\"-\"),\"-\")","v":"-"},{"$f":"IFERROR(IF(AB88<=2,OFFSET(B_ML_N!$B$3,AE88,AB88+2),\"-\"),\"-\")","v":"-"},{"$f":"IFERROR(IF(AB88>2,OFFSET(B_ML_N!$B$3,AE88,AB88+2),\"-\"),\"-\")","v":"-"},"-",null,null,null,null,null,null,null,null,{"$f":"IF(MATCH(E88,B_ML_N!$L$18:$L$23,0)<5,MATCH(E88,B_ML_N!$L$18:$L$23,0),1)","v":{"$error":"#N/A"}},{"$f":"IFERROR(MATCH(D88,Nr_stad!$U$8:$U$60,0),0)","v":0},0,{"$f":"IF(D88=\"\",\"-\",MATCH(D88,B_ML_N!$B$4:$B$16,0))","v":"-"},{"$f":"IFERROR(OFFSET(B_ML_N!$L$3,AE88,4),1)","v":1},false]
[null,null,null,null,null,null,null,null,null,null,null,null,null,null,0,{"$f":"IFERROR(IF(AB89<=2,OFFSET(B_ML_N!$B$3,AE89,AB89),\"-\"),\"-\")","v":"-"},{"$f":"IFERROR(IF(AB89<=2,OFFSET(B_ML_N!$B$3,AE89,AB89+2),\"-\"),\"-\")","v":"-"},{"$f":"IFERROR(IF(AB89>2,OFFSET(B_ML_N!$B$3,AE89,AB89+2),\"-\"),\"-\")","v":"-"},"-",null,null,null,null,null,null,null,null,{"$f":"IF(MATCH(E89,B_ML_N!$L$18:$L$23,0)<5,MATCH(E89,B_ML_N!$L$18:$L$23,0),1)","v":{"$error":"#N/A"}},{"$f":"IFERROR(MATCH(D89,Nr_stad!$U$8:$U$60,0),0)","v":0},0,{"$f":"IF(D89=\"\",\"-\",MATCH(D89,B_ML_N!$B$4:$B$16,0))","v":"-"},{"$f":"IFERROR(OFFSET(B_ML_N!$L$3,AE89,4),1)","v":1},false]
[null,null,null,null,null,null,null,null,null,null,null,null,null,null,0,{"$f":"IFERROR(IF(AB90<=2,OFFSET(B_ML_N!$B$3,AE90,AB90),\"-\"),\"-\")","v":"-"},{"$f":"IFERROR(IF(AB90<=2,OFFSET(B_ML_N!$B$3,AE90,AB90+2),\"-\"),\"-\")","v":"-"},{"$f":"IFERROR(IF(AB90>2,OFFSET(B_ML_N!$B$3,AE90,AB90+2),\"-\"),\"-\")","v":"-"},"-",null,null,null,null,null,null,null,null,{"$f":"IF(MATCH(E90,B_ML_N!$L$18:$L$23,0)<5,MATCH(E90,B_ML_N!$L$18:$L$23,0),1)","v":{"$error":"#N/A"}},{"$f":"IFERROR(MATCH(D90,Nr_stad!$U$8:$U$60,0),0)","v":0},0,{"$f":"IF(D90=\"\",\"-\",MATCH(D90,B_ML_N!$B$4:$B$16,0))","v":"-"},{"$f":"IFERROR(OFFSET(B_ML_N!$L$3,AE90,4),1)","v":1},false]
[null,null,null,null,null,null,null,null,null,null,null,null,null,null,0,{"$f":"IFERROR(IF(AB91<=2,OFFSET(B_ML_N!$B$3,AE91,AB91),\"-\"),\"-\")","v":"-"},{"$f":"IFERROR(IF(AB91<=2,OFFSET(B_ML_N!$B$3,AE91,AB91+2),\"-\"),\"-\")","v":"-"},{"$f":"IFERROR(IF(AB91>2,OFFSET(B_ML_N!$B$3,AE91,AB91+2),\"-\"),\"-\")","v":"-"},"-",null,null,null,null,null,null,null,null,{"$f":"IF(MATCH(E91,B_ML_N!$L$18:$L$23,0)<5,MATCH(E91,B_ML_N!$L$18:$L$23,0),1)","v":{"$error":"#N/A"}},{"$f":"IFERROR(MATCH(D91,Nr_stad!$U$8:$U$60,0),0)","v":0},0,{"$f":"IF(D91=\"\",\"-\",MATCH(D91,B_ML_N!$B$4:$B$16,0))","v":"-"},{"$f":"IFERROR(OFFSET(B_ML_N!$L$3,AE91,4),1)","v":1},false]
[null,null,null,null,null,null,null,null,null,null,null,null,null,null,0,{"$f":"IFERROR(IF(AB92<=2,OFFSET(B_ML_N!$B$3,AE92,AB92),\"-\"),\"-\")","v":"-"},{"$f":"IFERROR(IF(AB92<=2,OFFSET(B_ML_N!$B$3,AE92,AB92+2),\"-\"),\"-\")","v":"-"},{"$f":"IFERROR(IF(AB92>2,OFFSET(B_ML_N!$B$3,AE92,AB92+2),\"-\"),\"-\")","v":"-"},"-",null,null,null,null,null,null,null,null,{"$f":"IF(MATCH(E92,B_ML_N!$L$18:$L$23,0)<5,MATCH(E92,B_ML_N!$L$18:$L$23,0),1)","v":{"$error":"#N/A"}},{"$f":"IFERROR(MATCH(D92,Nr_stad!$U$8:$U$60,0),0)","v":0},0,{"$f":"IF(D92=\"\",\"-\",MATCH(D92,B_ML_N!$B$4:$B$16,0))","v":"-"},{"$f":"IFERROR(OFFSET(B_ML_N!$L$3,AE92,4),1)","v":1},false]
[null,null,null,null,null,null,null,null,null,null,null,null,null,null,0,{"$f":"IFERROR(IF(AB93<=2,OFFSET(B_ML_N!$B$3,AE93,AB93),\"-\"),\"-\")","v":"-"},{"$f":"IFERROR(IF(AB93<=2,OFFSET(B_ML_N!$B$3,AE93,AB93+2),\"-\"),\"-\")","v":"-"},{"$f":"IFERROR(IF(AB93>2,OFFSET(B_ML_N!$B$3,AE93,AB93+2),\"-\"),\"-\")","v":"-"},"-",null,null,null,null,null,null,null,null,{"$f":"IF(MATCH(E93,B_ML_N!$L$18:$L$23,0)<5,MATCH(E93,B_ML_N!$L$18:$L$23,0),1)","v":{"$error":"#N/A"}},{"$f":"IFERROR(MATCH(D93,Nr_stad!$U$8:$U$60,0),0)","v":0},0,{"$f":"IF(D93=\"\",\"-\",MATCH(D93,B_ML_N!$B$4:$B$16,0))","v":"-"},{"$f":"IFERROR(OFFSET(B_ML_N!$L$3,AE93,4),1)","v":1},false]
[null,null,null,null,null,null,null,null,null,null,null,null,null,null,0,{"$f":"IFERROR(IF(AB94<=2,OFFSET(B_ML_N!$B$3,AE94,AB94),\"-\"),\"-\")","v":"-"},{"$f":"IFERROR(IF(AB94<=2,OFFSET(B_ML_N!$B$3,AE94,AB94+2),\"-\"),\"-\")","v":"-"},{"$f":"IFERROR(IF(AB94>2,OFFSET(B_ML_N!$B$3,AE94,AB94+2),\"-\"),\"-\")","v":"-"},"-",null,null,null,null,null,null,null,null,{"$f":"IF(MATCH(E94,B_ML_N!$L$18:$L$23,0)<5,MATCH(E94,B_ML_N!$L$18:$L$23,0),1)","v":{"$error":"#N/A"}},{"$f":"IFERROR(MATCH(D94,Nr_stad!$U$8:$U$60,0),0)","v":0},0,{"$f":"IF(D94=\"\",\"-\",MATCH(D94,B_ML_N!$B$4:$B$16,0))","v":"-"},{"$f":"IFERROR(OFFSET(B_ML_N!$L$3,AE94,4),1)","v":1},false]
[null,null,null,null,null,null,null,null,null,null,null,null,null,null,0,{"$f":"IFERROR(IF(AB95<=2,OFFSET(B_ML_N!$B$3,AE95,AB95),\"-\"),\"-\")","v":"-"},{"$f":"IFERROR(IF(AB95<=2,OFFSET(B_ML_N!$B$3,AE95,AB95+2),\"-\"),\"-\")","v":"-"},{"$f":"IFERROR(IF(AB95>2,OFFSET(B_ML_N!$B$3,AE95,AB95+2),\"-\"),\"-\")","v":"-"},"-",null,null,null,null,null,null,null,null,{"$f":"IF(MATCH(E95,B_ML_N!$L$18:$L$23,0)<5,MATCH(E95,B_ML_N!$L$18:$L$23,0),1)","v":{"$error":"#N/A"}},{"$f":"IFERROR(MATCH(D95,Nr_stad!$U$8:$U$60,0),0)","v":0},0,{"$f":"IF(D95=\"\",\"-\",MATCH(D95,B_ML_N!$B$4:$B$16,0))","v":"-"},{"$f":"IFERROR(OFFSET(B_ML_N!$L$3,AE95,4),1)","v":1},false]
[null,null,null,null,null,null,null,null,null,null,null,null,null,null,0,{"$f":"IFERROR(IF(AB96<=2,OFFSET(B_ML_N!$B$3,AE96,AB96),\"-\"),\"-\")","v":"-"},{"$f":"IFERROR(IF(AB96<=2,OFFSET(B_ML_N!$B$3,AE96,AB96+2),\"-\"),\"-\")","v":"-"},{"$f":"IFERROR(IF(AB96>2,OFFSET(B_ML_N!$B$3,AE96,AB96+2),\"-\"),\"-\")","v":"-"},"-",null,null,null,null,null,null,null,null,{"$f":"IF(MATCH(E96,B_ML_N!$L$18:$L$23,0)<5,MATCH(E96,B_ML_N!$L$18:$L$23,0),1)","v":{"$error":"#N/A"}},{"$f":"IFERROR(MATCH(D96,Nr_stad!$U$8:$U$60,0),0)","v":0},0,{"$f":"IF(D96=\"\",\"-\",MATCH(D96,B_ML_N!$B$4:$B$16,0))","v":"-"},{"$f":"IFERROR(OFFSET(B_ML_N!$L$3,AE96,4),1)","v":1},false]
[null,null,null,null,null,null,null,null,null,null,null,null,null,null,0,{"$f":"IFERROR(IF(AB97<=2,OFFSET(B_ML_N!$B$3,AE97,AB97),\"-\"),\"-\")","v":"-"},{"$f":"IFERROR(IF(AB97<=2,OFFSET(B_ML_N!$B$3,AE97,AB97+2),\"-\"),\"-\")","v":"-"},{"$f":"IFERROR(IF(AB97>2,OFFSET(B_ML_N!$B$3,AE97,AB97+2),\"-\"),\"-\")","v":"-"},"-",null,null,null,null,null,null,null,null,{"$f":"IF(MATCH(E97,B_ML_N!$L$18:$L$23,0)<5,MATCH(E97,B_ML_N!$L$18:$L$23,0),1)","v":{"$error":"#N/A"}},{"$f":"IFERROR(MATCH(D97,Nr_stad!$U$8:$U$60,0),0)","v":0},0,{"$f":"IF(D97=\"\",\"-\",MATCH(D97,B_ML_N!$B$4:$B$16,0))","v":"-"},{"$f":"IFERROR(OFFSET(B_ML_N!$L$3,AE97,4),1)","v":1},false]
[null,null,null,null,null,null,null,null,null,null,null,null,null,null,0,{"$f":"IFERROR(IF(AB98<=2,OFFSET(B_ML_N!$B$3,AE98,AB98),\"-\"),\"-\")","v":"-"},{"$f":"IFERROR(IF(AB98<=2,OFFSET(B_ML_N!$B$3,AE98,AB98+2),\"-\"),\"-\")","v":"-"},{"$f":"IFERROR(IF(AB98>2,OFFSET(B_ML_N!$B$3,AE98,AB98+2),\"-\"),\"-\")","v":"-"},"-",null,null,null,null,null,null,null,null,{"$f":"IF(MATCH(E98,B_ML_N!$L$18:$L$23,0)<5,MATCH(E98,B_ML_N!$L$18:$L$23,0),1)","v":{"$error":"#N/A"}},{"$f":"IFERROR(MATCH(D98,Nr_stad!$U$8:$U$60,0),0)","v":0},0,{"$f":"IF(D98=\"\",\"-\",MATCH(D98,B_ML_N!$B$4:$B$16,0))","v":"-"},{"$f":"IFERROR(OFFSET(B_ML_N!$L$3,AE98,4),1)","v":1},false]
[null,null,null,null,null,null,null,null,null,null,null,null,null,null,0,{"$f":"IFERROR(IF(AB99<=2,OFFSET(B_ML_N!$B$3,AE99,AB99),\"-\"),\"-\")","v":"-"},{"$f":"IFERROR(IF(AB99<=2,OFFSET(B_ML_N!$B$3,AE99,AB99+2),\"-\"),\"-\")","v":"-"},{"$f":"IFERROR(IF(AB99>2,OFFSET(B_ML_N!$B$3,AE99,AB99+2),\"-\"),\"-\")","v":"-"},"-",null,null,null,null,null,null,null,null,{"$f":"IF(MATCH(E99,B_ML_N!$L$18:$L$23,0)<5,MATCH(E99,B_ML_N!$L$18:$L$23,0),1)","v":{"$error":"#N/A"}},{"$f":"IFERROR(MATCH(D99,Nr_stad!$U$8:$U$60,0),0)","v":0},0,{"$f":"IF(D99=\"\",\"-\",MATCH(D99,B_ML_N!$B$4:$B$16,0))","v":"-"},{"$f":"IFERROR(OFFSET(B_ML_N!$L$3,AE99,4),1)","v":1},false]
[null,null,null,null,null,null,null,null,null,null,null,null,null,null,0,{"$f":"IFERROR(IF(AB100<=2,OFFSET(B_ML_N!$B$3,AE100,AB100),\"-\"),\"-\")","v":"-"},{"$f":"IFERROR(IF(AB100<=2,OFFSET(B_ML_N!$B$3,AE100,AB100+2),\"-\"),\"-\")","v":"-"},{"$f":"IFERROR(IF(AB100>2,OFFSET(B_ML_N!$B$3,AE100,AB100+2),\"-\"),\"-\")","v":"-"},"-",null,null,null,null,null,null,null,null,{"$f":"IF(MATCH(E100,B_ML_N!$L$18:$L$23,0)<5,MATCH(E100,B_ML_N!$L$18:$L$23,0),1)","v":{"$error":"#N/A"}},{"$f":"IFERROR(MATCH(D100,Nr_stad!$U$8:$U$60,0),0)","v":0},0,{"$f":"IF(D100=\"\",\"-\",MATCH(D100,B_ML_N!$B$4:$B$16,0))","v":"-"},{"$f":"IFERROR(OFFSET(B_ML_N!$L$3,AE100,4),1)","v":1},false]
[null,null,null,null,null,null,null,null,null,null,null,null,null,null,0,{"$f":"IFERROR(IF(AB101<=2,OFFSET(B_ML_N!$B$3,AE101,AB101),\"-\"),\"-\")","v":"-"},{"$f":"IFERROR(IF(AB101<=2,OFFSET(B_ML_N!$B$3,AE101,AB101+2),\"-\"),\"-\")","v":"-"},{"$f":"IFERROR(IF(AB101>2,OFFSET(B_ML_N!$B$3,AE101,AB101+2),\"-\"),\"-\")","v":"-"},"-",null,null,null,null,null,null,null,null,{"$f":"IF(MATCH(E101,B_ML_N!$L$18:$L$23,0)<5,MATCH(E101,B_ML_N!$L$18:$L$23,0),1)","v":{"$error":"#N/A"}},{"$f":"IFERROR(MATCH(D101,Nr_stad!$U$8:$U$60,0),0)","v":0},0,{"$f":"IF(D101=\"\",\"-\",MATCH(D101,B_ML_N!$B$4:$B$16,0))","v":"-"},{"$f":"IFERROR(OFFSET(B_ML_N!$L$3,AE101,4),1)","v":1},false]
[null,null,null,null,null,null,null,null,null,null,null,null,null,null,0,{"$f":"IFERROR(IF(AB102<=2,OFFSET(B_ML_N!$B$3,AE102,AB102),\"-\"),\"-\")","v":"-"},{"$f":"IFERROR(IF(AB102<=2,OFFSET(B_ML_N!$B$3,AE102,AB102+2),\"-\"),\"-\")","v":"-"},{"$f":"IFERROR(IF(AB102>2,OFFSET(B_ML_N!$B$3,AE102,AB102+2),\"-\"),\"-\")","v":"-"},"-",null,null,null,null,null,null,null,null,{"$f":"IF(MATCH(E102,B_ML_N!$L$18:$L$23,0)<5,MATCH(E102,B_ML_N!$L$18:$L$23,0),1)","v":{"$error":"#N/A"}},{"$f":"IFERROR(MATCH(D102,Nr_stad!$U$8:$U$60,0),0)","v":0},0,{"$f":"IF(D102=\"\",\"-\",MATCH(D102,B_ML_N!$B$4:$B$16,0))","v":"-"},{"$f":"IFERROR(OFFSET(B_ML_N!$L$3,AE102,4),1)","v":1},false]
[null,null,null,null,null,null,null,null,null,null,null,null,null,null,0,{"$f":"IFERROR(IF(AB103<=2,OFFSET(B_ML_N!$B$3,AE103,AB103),\"-\"),\"-\")","v":"-"},{"$f":"IFERROR(IF(AB103<=2,OFFSET(B_ML_N!$B$3,AE103,AB103+2),\"-\"),\"-\")","v":"-"},{"$f":"IFERROR(IF(AB103>2,OFFSET(B_ML_N!$B$3,AE103,AB103+2),\"-\"),\"-\")","v":"-"},"-",null,null,null,null,null,null,null,null,{"$f":"IF(MATCH(E103,B_ML_N!$L$18:$L$23,0)<5,MATCH(E103,B_ML_N!$L$18:$L$23,0),1)","v":{"$error":"#N/A"}},{"$f":"IFERROR(MATCH(D103,Nr_stad!$U$8:$U$60,0),0)","v":0},0,{"$f":"IF(D103=\"\",\"-\",MATCH(D103,B_ML_N!$B$4:$B$16,0))","v":"-"},{"$f":"IFERROR(OFFSET(B_ML_N!$L$3,AE103,4),1)","v":1},false]
[null,null,null,null,null,null,null,null,null,null,null,null,null,null,0,{"$f":"IFERROR(IF(AB104<=2,OFFSET(B_ML_N!$B$3,AE104,AB104),\"-\"),\"-\")","v":"-"},{"$f":"IFERROR(IF(AB104<=2,OFFSET(B_ML_N!$B$3,AE104,AB104+2),\"-\"),\"-\")","v":"-"},{"$f":"IFERROR(IF(AB104>2,OFFSET(B_ML_N!$B$3,AE104,AB104+2),\"-\"),\"-\")","v":"-"},"-",null,null,null,null,null,null,null,null,{"$f":"IF(MATCH(E104,B_ML_N!$L$18:$L$23,0)<5,MATCH(E104,B_ML_N!$L$18:$L$23,0),1)","v":{"$error":"#N/A"}},{"$f":"IFERROR(MATCH(D104,Nr_stad!$U$8:$U$60,0),0)","v":0},0,{"$f":"IF(D104=\"\",\"-\",MATCH(D104,B_ML_N!$B$4:$B$16,0))","v":"-"},{"$f":"IFERROR(OFFSET(B_ML_N!$L$3,AE104,4),1)","v":1},false]
[null,null,null,null,null,null,null,null,null,null,null,null,null,null,0,{"$f":"IFERROR(IF(AB105<=2,OFFSET(B_ML_N!$B$3,AE105,AB105),\"-\"),\"-\")","v":"-"},{"$f":"IFERROR(IF(AB105<=2,OFFSET(B_ML_N!$B$3,AE105,AB105+2),\"-\"),\"-\")","v":"-"},{"$f":"IFERROR(IF(AB105>2,OFFSET(B_ML_N!$B$3,AE105,AB105+2),\"-\"),\"-\")","v":"-"},"-",null,null,null,null,null,null,null,null,{"$f":"IF(MATCH(E105,B_ML_N!$L$18:$L$23,0)<5,MATCH(E105,B_ML_N!$L$18:$L$23,0),1)","v":{"$error":"#N/A"}},{"$f":"IFERROR(MATCH(D105,Nr_stad!$U$8:$U$60,0),0)","v":0},0,{"$f":"IF(D105=\"\",\"-\",MATCH(D105,B_ML_N!$B$4:$B$16,0))","v":"-"},{"$f":"IFERROR(OFFSET(B_ML_N!$L$3,AE105,4),1)","v":1},false]
[null,null,null,null,null,null,null,null,null,null,null,null,null,null,0,{"$f":"IFERROR(IF(AB106<=2,OFFSET(B_ML_N!$B$3,AE106,AB106),\"-\"),\"-\")","v":"-"},{"$f":"IFERROR(IF(AB106<=2,OFFSET(B_ML_N!$B$3,AE106,AB106+2),\"-\"),\"-\")","v":"-"},{"$f":"IFERROR(IF(AB106>2,OFFSET(B_ML_N!$B$3,AE106,AB106+2),\"-\"),\"-\")","v":"-"},"-",null,null,null,null,null,null,null,null,{"$f":"IF(MATCH(E106,B_ML_N!$L$18:$L$23,0)<5,MATCH(E106,B_ML_N!$L$18:$L$23,0),1)","v":{"$error":"#N/A"}},{"$f":"IFERROR(MATCH(D106,Nr_stad!$U$8:$U$60,0),0)","v":0},0,{"$f":"IF(D106=\"\",\"-\",MATCH(D106,B_ML_N!$B$4:$B$16,0))","v":"-"},{"$f":"IFERROR(OFFSET(B_ML_N!$L$3,AE106,4),1)","v":1},false]
[null,null,null,null,null,null,null,null,null,null,null,null,null,null,0,{"$f":"IFERROR(IF(AB107<=2,OFFSET(B_ML_N!$B$3,AE107,AB107),\"-\"),\"-\")","v":"-"},{"$f":"IFERROR(IF(AB107<=2,OFFSET(B_ML_N!$B$3,AE107,AB107+2),\"-\"),\"-\")","v":"-"},{"$f":"IFERROR(IF(AB107>2,OFFSET(B_ML_N!$B$3,AE107,AB107+2),\"-\"),\"-\")","v":"-"},"-",null,null,null,null,null,null,null,null,{"$f":"IF(MATCH(E107,B_ML_N!$L$18:$L$23,0)<5,MATCH(E107,B_ML_N!$L$18:$L$23,0),1)","v":{"$error":"#N/A"}},{"$f":"IFERROR(MATCH(D107,Nr_stad!$U$8:$U$60,0),0)","v":0},0,{"$f":"IF(D107=\"\",\"-\",MATCH(D107,B_ML_N!$B$4:$B$16,0))","v":"-"},{"$f":"IFERROR(OFFSET(B_ML_N!$L$3,AE107,4),1)","v":1},false]
[null,null,null,null,null,null,null,null,null,null,null,null,null,null,0,{"$f":"IFERROR(IF(AB108<=2,OFFSET(B_ML_N!$B$3,AE108,AB108),\"-\"),\"-\")","v":"-"},{"$f":"IFERROR(IF(AB108<=2,OFFSET(B_ML_N!$B$3,AE108,AB108+2),\"-\"),\"-\")","v":"-"},{"$f":"IFERROR(IF(AB108>2,OFFSET(B_ML_N!$B$3,AE108,AB108+2),\"-\"),\"-\")","v":"-"},"-",null,null,null,null,null,null,null,null,{"$f":"IF(MATCH(E108,B_ML_N!$L$18:$L$23,0)<5,MATCH(E108,B_ML_N!$L$18:$L$23,0),1)","v":{"$error":"#N/A"}},{"$f":"IFERROR(MATCH(D108,Nr_stad!$U$8:$U$60,0),0)","v":0},0,{"$f":"IF(D108=\"\",\"-\",MATCH(D108,B_ML_N!$B$4:$B$16,0))","v":"-"},{"$f":"IFERROR(OFFSET(B_ML_N!$L$3,AE108,4),1)","v":1},false]
[null,null,null,null,null,null,null,null,null,null,null,null,null,null,0,{"$f":"IFERROR(IF(AB109<=2,OFFSET(B_ML_N!$B$3,AE109,AB109),\"-\"),\"-\")","v":"-"},{"$f":"IFERROR(IF(AB109<=2,OFFSET(B_ML_N!$B$3,AE109,AB109+2),\"-\"),\"-\")","v":"-"},{"$f":"IFERROR(IF(AB109>2,OFFSET(B_ML_N!$B$3,AE109,AB109+2),\"-\"),\"-\")","v":"-"},"-",null,null,null,null,null,null,null,null,{"$f":"IF(MATCH(E109,B_ML_N!$L$18:$L$23,0)<5,MATCH(E109,B_ML_N!$L$18:$L$23,0),1)","v":{"$error":"#N/A"}},{"$f":"IFERROR(MATCH(D109,Nr_stad!$U$8:$U$60,0),0)","v":0},0,{"$f":"IF(D109=\"\",\"-\",MATCH(D109,B_ML_N!$B$4:$B$16,0))","v":"-"},{"$f":"IFERROR(OFFSET(B_ML_N!$L$3,AE109,4),1)","v":1},false]
[null,null,null,null,null,null,null,null,null,null,null,null,null,null,0,{"$f":"IFERROR(IF(AB110<=2,OFFSET(B_ML_N!$B$3,AE110,AB110),\"-\"),\"-\")","v":"-"},{"$f":"IFERROR(IF(AB110<=2,OFFSET(B_ML_N!$B$3,AE110,AB110+2),\"-\"),\"-\")","v":"-"},{"$f":"IFERROR(IF(AB110>2,OFFSET(B_ML_N!$B$3,AE110,AB110+2),\"-\"),\"-\")","v":"-"},"-",null,null,null,null,null,null,null,null,{"$f":"IF(MATCH(E110,B_ML_N!$L$18:$L$23,0)<5,MATCH(E110,B_ML_N!$L$18:$L$23,0),1)","v":{"$error":"#N/A"}},{"$f":"IFERROR(MATCH(D110,Nr_stad!$U$8:$U$60,0),0)","v":0},0,{"$f":"IF(D110=\"\",\"-\",MATCH(D110,B_ML_N!$B$4:$B$16,0))","v":"-"},{"$f":"IFERROR(OFFSET(B_ML_N!$L$3,AE110,4),1)","v":1},false]
[null,null,null,null,null,null,null,null,null,null,null,null,null,null,0,{"$f":"IFERROR(IF(AB111<=2,OFFSET(B_ML_N!$B$3,AE111,AB111),\"-\"),\"-\")","v":"-"},{"$f":"IFERROR(IF(AB111<=2,OFFSET(B_ML_N!$B$3,AE111,AB111+2),\"-\"),\"-\")","v":"-"},{"$f":"IFERROR(IF(AB111>2,OFFSET(B_ML_N!$B$3,AE111,AB111+2),\"-\"),\"-\")","v":"-"},"-",null,null,null,null,null,null,null,null,{"$f":"IF(MATCH(E111,B_ML_N!$L$18:$L$23,0)<5,MATCH(E111,B_ML_N!$L$18:$L$23,0),1)","v":{"$error":"#N/A"}},{"$f":"IFERROR(MATCH(D111,Nr_stad!$U$8:$U$60,0),0)","v":0},0,{"$f":"IF(D111=\"\",\"-\",MATCH(D111,B_ML_N!$B$4:$B$16,0))","v":"-"},{"$f":"IFERROR(OFFSET(B_ML_N!$L$3,AE111,4),1)","v":1},false]
[null,null,null,null,null,null,null,null,null,null,null,null,null,null,0,{"$f":"IFERROR(IF(AB112<=2,OFFSET(B_ML_N!$B$3,AE112,AB112),\"-\"),\"-\")","v":"-"},{"$f":"IFERROR(IF(AB112<=2,OFFSET(B_ML_N!$B$3,AE112,AB112+2),\"-\"),\"-\")","v":"-"},{"$f":"IFERROR(IF(AB112>2,OFFSET(B_ML_N!$B$3,AE112,AB112+2),\"-\"),\"-\")","v":"-"},"-",null,null,null,null,null,null,null,null,{"$f":"IF(MATCH(E112,B_ML_N!$L$18:$L$23,0)<5,MATCH(E112,B_ML_N!$L$18:$L$23,0),1)","v":{"$error":"#N/A"}},{"$f":"IFERROR(MATCH(D112,Nr_stad!$U$8:$U$60,0),0)","v":0},0,{"$f":"IF(D112=\"\",\"-\",MATCH(D112,B_ML_N!$B$4:$B$16,0))","v":"-"},{"$f":"IFERROR(OFFSET(B_ML_N!$L$3,AE112,4),1)","v":1},false]
[null,null,null,null,null,null,null,null,null,null,null,null,null,null,0,{"$f":"IFERROR(IF(AB113<=2,OFFSET(B_ML_N!$B$3,AE113,AB113),\"-\"),\"-\")","v":"-"},{"$f":"IFERROR(IF(AB113<=2,OFFSET(B_ML_N!$B$3,AE113,AB113+2),\"-\"),\"-\")","v":"-"},{"$f":"IFERROR(IF(AB113>2,OFFSET(B_ML_N!$B$3,AE113,AB113+2),\"-\"),\"-\")","v":"-"},"-",null,null,null,null,null,null,null,null,{"$f":"IF(MATCH(E113,B_ML_N!$L$18:$L$23,0)<5,MATCH(E113,B_ML_N!$L$18:$L$23,0),1)","v":{"$error":"#N/A"}},{"$f":"IFERROR(MATCH(D113,Nr_stad!$U$8:$U$60,0),0)","v":0},0,{"$f":"IF(D113=\"\",\"-\",MATCH(D113,B_ML_N!$B$4:$B$16,0))","v":"-"},{"$f":"IFERROR(OFFSET(B_ML_N!$L$3,AE113,4),1)","v":1},false]
[null,null,null,null,null,null,null,null,null,null,null,null,null,null,0,{"$f":"IFERROR(IF(AB114<=2,OFFSET(B_ML_N!$B$3,AE114,AB114),\"-\"),\"-\")","v":"-"},{"$f":"IFERROR(IF(AB114<=2,OFFSET(B_ML_N!$B$3,AE114,AB114+2),\"-\"),\"-\")","v":"-"},{"$f":"IFERROR(IF(AB114>2,OFFSET(B_ML_N!$B$3,AE114,AB114+2),\"-\"),\"-\")","v":"-"},"-",null,null,null,null,null,null,null,null,{"$f":"IF(MATCH(E114,B_ML_N!$L$18:$L$23,0)<5,MATCH(E114,B_ML_N!$L$18:$L$23,0),1)","v":{"$error":"#N/A"}},{"$f":"IFERROR(MATCH(D114,Nr_stad!$U$8:$U$60,0),0)","v":0},0,{"$f":"IF(D114=\"\",\"-\",MATCH(D114,B_ML_N!$B$4:$B$16,0))","v":"-"},{"$f":"IFERROR(OFFSET(B_ML_N!$L$3,AE114,4),1)","v":1},false]
[null,null,null,null,null,null,null,null,null,null,null,null,null,null,0,{"$f":"IFERROR(IF(AB115<=2,OFFSET(B_ML_N!$B$3,AE115,AB115),\"-\"),\"-\")","v":"-"},{"$f":"IFERROR(IF(AB115<=2,OFFSET(B_ML_N!$B$3,AE115,AB115+2),\"-\"),\"-\")","v":"-"},{"$f":"IFERROR(IF(AB115>2,OFFSET(B_ML_N!$B$3,AE115,AB115+2),\"-\"),\"-\")","v":"-"},"-",null,null,null,null,null,null,null,null,{"$f":"IF(MATCH(E115,B_ML_N!$L$18:$L$23,0)<5,MATCH(E115,B_ML_N!$L$18:$L$23,0),1)","v":{"$error":"#N/A"}},{"$f":"IFERROR(MATCH(D115,Nr_stad!$U$8:$U$60,0),0)","v":0},0,{"$f":"IF(D115=\"\",\"-\",MATCH(D115,B_ML_N!$B$4:$B$16,0))","v":"-"},{"$f":"IFERROR(OFFSET(B_ML_N!$L$3,AE115,4),1)","v":1},false]
[null,null,null,null,null,null,null,null,null,null,null,null,null,null,0,{"$f":"IFERROR(IF(AB116<=2,OFFSET(B_ML_N!$B$3,AE116,AB116),\"-\"),\"-\")","v":"-"},{"$f":"IFERROR(IF(AB116<=2,OFFSET(B_ML_N!$B$3,AE116,AB116+2),\"-\"),\"-\")","v":"-"},{"$f":"IFERROR(IF(AB116>2,OFFSET(B_ML_N!$B$3,AE116,AB116+2),\"-\"),\"-\")","v":"-"},"-",null,null,null,null,null,null,null,null,{"$f":"IF(MATCH(E116,B_ML_N!$L$18:$L$23,0)<5,MATCH(E116,B_ML_N!$L$18:$L$23,0),1)","v":{"$error":"#N/A"}},{"$f":"IFERROR(MATCH(D116,Nr_stad!$U$8:$U$60,0),0)","v":0},0,{"$f":"IF(D116=\"\",\"-\",MATCH(D116,B_ML_N!$B$4:$B$16,0))","v":"-"},{"$f":"IFERROR(OFFSET(B_ML_N!$L$3,AE116,4),1)","v":1},false]
[null,null,null,null,null,null,null,null,null,null,null,null,null,null,0,{"$f":"IFERROR(IF(AB117<=2,OFFSET(B_ML_N!$B$3,AE117,AB117),\"-\"),\"-\")","v":"-"},{"$f":"IFERROR(IF(AB117<=2,OFFSET(B_ML_N!$B$3,AE117,AB117+2),\"-\"),\"-\")","v":"-"},{"$f":"IFERROR(IF(AB117>2,OFFSET(B_ML_N!$B$3,AE117,AB117+2),\"-\"),\"-\")","v":"-"},"-",null,null,null,null,null,null,null,null,{"$f":"IF(MATCH(E117,B_ML_N!$L$18:$L$23,0)<5,MATCH(E117,B_ML_N!$L$18:$L$23,0),1)","v":{"$error":"#N/A"}},{"$f":"IFERROR(MATCH(D117,Nr_stad!$U$8:$U$60,0),0)","v":0},0,{"$f":"IF(D117=\"\",\"-\",MATCH(D117,B_ML_N!$B$4:$B$16,0))","v":"-"},{"$f":"IFERROR(OFFSET(B_ML_N!$L$3,AE117,4),1)","v":1},false]
[null,null,null,null,null,null,null,null,null,null,null,null,null,null,0,{"$f":"IFERROR(IF(AB118<=2,OFFSET(B_ML_N!$B$3,AE118,AB118),\"-\"),\"-\")","v":"-"},{"$f":"IFERROR(IF(AB118<=2,OFFSET(B_ML_N!$B$3,AE118,AB118+2),\"-\"),\"-\")","v":"-"},{"$f":"IFERROR(IF(AB118>2,OFFSET(B_ML_N!$B$3,AE118,AB118+2),\"-\"),\"-\")","v":"-"},"-",null,null,null,null,null,null,null,null,{"$f":"IF(MATCH(E118,B_ML_N!$L$18:$L$23,0)<5,MATCH(E118,B_ML_N!$L$18:$L$23,0),1)","v":{"$error":"#N/A"}},{"$f":"IFERROR(MATCH(D118,Nr_stad!$U$8:$U$60,0),0)","v":0},0,{"$f":"IF(D118=\"\",\"-\",MATCH(D118,B_ML_N!$B$4:$B$16,0))","v":"-"},{"$f":"IFERROR(OFFSET(B_ML_N!$L$3,AE118,4),1)","v":1},false]
[null,null,null,null,null,null,null,null,null,null,null,null,null,null,0,{"$f":"IFERROR(IF(AB119<=2,OFFSET(B_ML_N!$B$3,AE119,AB119),\"-\"),\"-\")","v":"-"},{"$f":"IFERROR(IF(AB119<=2,OFFSET(B_ML_N!$B$3,AE119,AB119+2),\"-\"),\"-\")","v":"-"},{"$f":"IFERROR(IF(AB119>2,OFFSET(B_ML_N!$B$3,AE119,AB119+2),\"-\"),\"-\")","v":"-"},"-",null,null,null,null,null,null,null,null,{"$f":"IF(MATCH(E119,B_ML_N!$L$18:$L$23,0)<5,MATCH(E119,B_ML_N!$L$18:$L$23,0),1)","v":{"$error":"#N/A"}},{"$f":"IFERROR(MATCH(D119,Nr_stad!$U$8:$U$60,0),0)","v":0},0,{"$f":"IF(D119=\"\",\"-\",MATCH(D119,B_ML_N!$B$4:$B$16,0))","v":"-"},{"$f":"IFERROR(OFFSET(B_ML_N!$L$3,AE119,4),1)","v":1},false]
[null,null,null,null,null,null,null,null,null,null,null,null,null,null,0,{"$f":"IFERROR(IF(AB120<=2,OFFSET(B_ML_N!$B$3,AE120,AB120),\"-\"),\"-\")","v":"-"},{"$f":"IFERROR(IF(AB120<=2,OFFSET(B_ML_N!$B$3,AE120,AB120+2),\"-\"),\"-\")","v":"-"},{"$f":"IFERROR(IF(AB120>2,OFFSET(B_ML_N!$B$3,AE120,AB120+2),\"-\"),\"-\")","v":"-"},"-",null,null,null,null,null,null,null,null,{"$f":"IF(MATCH(E120,B_ML_N!$L$18:$L$23,0)<5,MATCH(E120,B_ML_N!$L$18:$L$23,0),1)","v":{"$error":"#N/A"}},{"$f":"IFERROR(MATCH(D120,Nr_stad!$U$8:$U$60,0),0)","v":0},0,{"$f":"IF(D120=\"\",\"-\",MATCH(D120,B_ML_N!$B$4:$B$16,0))","v":"-"},{"$f":"IFERROR(OFFSET(B_ML_N!$L$3,AE120,4),1)","v":1},false]
[null,null,null,null,null,null,null,null,null,null,null,null,null,null,0,{"$f":"IFERROR(IF(AB121<=2,OFFSET(B_ML_N!$B$3,AE121,AB121),\"-\"),\"-\")","v":"-"},{"$f":"IFERROR(IF(AB121<=2,OFFSET(B_ML_N!$B$3,AE121,AB121+2),\"-\"),\"-\")","v":"-"},{"$f":"IFERROR(IF(AB121>2,OFFSET(B_ML_N!$B$3,AE121,AB121+2),\"-\"),\"-\")","v":"-"},"-",null,null,null,null,null,null,null,null,{"$f":"IF(MATCH(E121,B_ML_N!$L$18:$L$23,0)<5,MATCH(E121,B_ML_N!$L$18:$L$23,0),1)","v":{"$error":"#N/A"}},{"$f":"IFERROR(MATCH(D121,Nr_stad!$U$8:$U$60,0),0)","v":0},0,{"$f":"IF(D121=\"\",\"-\",MATCH(D121,B_ML_N!$B$4:$B$16,0))","v":"-"},{"$f":"IFERROR(OFFSET(B_ML_N!$L$3,AE121,4),1)","v":1},false]
[null,null,null,null,null,null,null,null,null,null,null,null,null,null,0,{"$f":"IFERROR(IF(AB122<=2,OFFSET(B_ML_N!$B$3,AE122,AB122),\"-\"),\"-\")","v":"-"},{"$f":"IFERROR(IF(AB122<=2,OFFSET(B_ML_N!$B$3,AE122,AB122+2),\"-\"),\"-\")","v":"-"},{"$f":"IFERROR(IF(AB122>2,OFFSET(B_ML_N!$B$3,AE122,AB122+2),\"-\"),\"-\")","v":"-"},"-",null,null,null,null,null,null,null,null,{"$f":"IF(MATCH(E122,B_ML_N!$L$18:$L$23,0)<5,MATCH(E122,B_ML_N!$L$18:$L$23,0),1)","v":{"$error":"#N/A"}},{"$f":"IFERROR(MATCH(D122,Nr_stad!$U$8:$U$60,0),0)","v":0},0,{"$f":"IF(D122=\"\",\"-\",MATCH(D122,B_ML_N!$B$4:$B$16,0))","v":"-"},{"$f":"IFERROR(OFFSET(B_ML_N!$L$3,AE122,4),1)","v":1},false]
[null,null,null,"SUMA POWIERZCHNI:",null,null,null,null,null,null,null,null,null,null,{"$f":"SUM(O22:O122)","v":0},"SUMA LICZBY SZT. BYDŁA:",null,null,{"$f":"SUM(S22:S122)","v":0},{"$f":"SUM(T22:T122)","v":0}]
[null,null,null,null,null,null,null,null,null,null,null,null,"SUMA LICZBY LOCH:",null,null,null,null,null,"-"]

{"sheet":"Krowy_MIĘSNE_powierzch","index":11,"n_rows":166,"n_cols":28,"rows_kept":166,"cut":false,"hidden":false,"merged":[[81,8,81,9],[8,3,8,13],[25,3,25,13],[26,3,26,13],[31,3,31,9],[83,3,83,10],[28,3,28,10],[164,3,164,4],[165,3,165,4],[141,3,141,9],[155,3,155,4],[156,3,156,4],[157,3,157,4],[158,3,158,4],[159,3,159,4],[160,3,160,4],[161,3,161,4],[162,3,162,4],[163,3,163,4],[146,3,146,4],[147,3,147,4],[148,3,148,4],[149,3,149,4],[150,3,150,4],[151,3,151,4],[152,3,152,4],[153,3,153,4],[154,3,154,4],[145,3,145,4],[81,11,81,12],[76,11,76,12],[77,11,77,12],[78,11,78,12],[79,11,79,12],[80,11,80,12],[79,3,79,4],[80,3,80,4],[81,3,81,6],[104,3,104,5],[104,6,104,7],[116,3,116,5],[116,6,116,7],[117,3,117,5],[117,6,117,7],[118,3,118,5],[118,6,118,7],[119,3,119,5],[119,6,119,7],[71,11,71,12],[72,11,72,12],[73,11,73,12],[74,11,74,12],[75,11,75,12],[66,11,66,12],[67,11,67,12],[68,11,68,12],[69,11,69,12],[70,11,70,12],[61,11,61,12],[62,11,62,12],[63,11,63,12],[64,11,64,12],[65,11,65,12],[56,11,56,12],[57,11,57,12],[58,11,58,12],[59,11,59,12],[60,11,60,12],[51,11,51,12],[52,11,52,12],[53,11,53,12],[54,11,54,12],[55,11,55,12],[46,11,46,12],[47,11,47,12],[48,11,48,12],[49,11,49,12],[50,11,50,12],[41,11,41,12],[42,11,42,12],[43,11,43,12],[44,11,44,12],[45,11,45,12],[40,11,40,12],[30,3,30,11],[32,8,32,10],[32,11,33,12],[34,11,34,12],[35,11,35,12],[32,3,33,4],[36,3,36,4],[37,3,37,4],[38,3,38,4],[39,3,39,4],[40,3,40,4],[45,3,45,4],[36,11,36,12],[37,11,37,12],[38,11,38,12],[39,11,39,12],[42,3,42,4],[43,3,43,4],[35,3,35,4],[18,4,18,12],[19,4,19,12],[23,4,23,12],[24,4,24,12],[22,3,22,13],[17,4,17,13],[20,4,20,5],[32,5,32,7],[50,3,50,4],[62,3,62,4],[76,3,76,4],[77,3,77,4],[78,3,78,4],[63,3,63,4],[64,3,64,4],[65,3,65,4],[56,3,56,4],[57,3,57,4],[58,3,58,4],[59,3,59,4],[60,3,60,4],[53,3,53,4],[54,3,54,4],[55,3,55,4],[72,3,72,4],[73,3,73,4],[70,3,70,4],[74,3,74,4],[97,6,97,7],[2,2,2,14],[6,3,6,13],[86,18,87,18],[85,8,86,8],[85,9,86,9],[85,10,86,10],[84,8,84,10],[84,3,87,5],[85,6,87,7],[84,11,86,11],[84,6,84,7],[10,3,10,4],[10,6,10,8],[10,10,10,12],[27,3,27,4],[27,6,27,8],[27,10,27,12],[44,3,44,4],[75,3,75,4],[66,3,66,4],[67,3,67,4],[68,3,68,4],[69,3,69,4],[112,3,112,5],[112,6,112,7],[113,3,113,5],[113,6,113,7],[114,3,114,5],[114,6,114,7],[86,20,87,20],[100,3,100,5],[100,6,100,7],[101,3,101,5],[101,6,101,7],[102,3,102,5],[102,6,102,7],[103,3,103,5],[103,6,103,7],[98,3,98,5],[98,6,98,7],[99,3,99,5],[99,6,99,7],[84,12,86,12],[84,13,86,13],[88,3,88,5],[88,6,88,7],[97,3,97,5],[120,3,120,5],[120,6,120,7],[89,3,89,5],[89,6,89,7],[90,3,90,5],[90,6,90,7],[91,3,91,5],[91,6,91,7],[92,3,92,5],[92,6,92,7],[93,3,93,5],[93,6,93,7],[94,3,94,5],[94,6,94,7],[95,3,95,5],[95,6,95,7],[96,3,96,5],[96,6,96,7],[115,3,115,5],[115,6,115,7],[110,3,110,5],[110,6,110,7],[111,3,111,5],[111,6,111,7],[121,3,121,5],[121,6,121,7],[122,3,122,5],[122,6,122,7],[123,3,123,5],[123,6,123,7],[124,3,124,5],[124,6,124,7],[125,3,125,5],[125,6,125,7],[126,3,126,5],[126,6,126,7],[127,3,127,5],[127,6,127,7],[128,3,128,5],[128,6,128,7],[129,3,129,5],[129,6,129,7],[130,3,130,5],[130,6,130,7],[47,3,47,4],[48,3,48,4],[49,3,49,4],[143,20,144,20],[142,10,142,12],[142,13,143,13],[142,5,143,5],[142,3,144,4],[142,6,142,7],[142,8,142,9],[136,3,136,5],[136,6,136,7],[131,3,131,5],[131,6,131,7],[132,3,132,5],[132,6,132,7],[133,3,133,5],[133,6,133,7],[134,3,134,5],[134,6,134,7],[135,3,135,5],[139,3,139,12],[137,3,137,7],[135,6,135,7],[4,4,4,14],[138,3,138,12],[3,3,3,10],[3,11,3,13],[5,3,5,5],[5,6,5,13],[82,3,82,9],[140,3,140,9],[106,3,106,5],[106,6,106,7],[107,3,107,5],[107,6,107,7],[108,3,108,5],[108,6,108,7],[109,3,109,5],[109,6,109,7],[105,3,105,5],[105,6,105,7],[41,3,41,4],[61,3,61,4],[71,3,71,4],[51,3,51,4],[52,3,52,4],[46,3,46,4]]}
[null,null,null,null,null,null,null,null,null,null,null,null,null,"POWRÓT",null,null,null,null,null,null,null,null,"UWAGI"]
[]
[null,null,"II. Część szczegółowa  "]
[null,null,"II.4.","Dobrostan krów mamek utrzymywanych w pomieszczeniach lub w budynkach",null,null,null,null,null,null,null,{"$f":"IF(AND(Info_2!$R$11,Info_2!$R$13)=TRUE,\"oraz dobrostan opasów\",\"\")","v":""}]
[null,null,null,{"$f":"IF(R5=TRUE,S15,T5)","v":"☐"},"Płatność przysługuje do krowy mamki, w odniesieniu do której rolnik określił w IRZ Plus mięsny typ użytkowy, a w przypadku krowy typu użytkowego kombinowanego – mięsny kierunek jej użytkowania. Zgłoszeń tych rolnik dokonuje w terminie do dnia 31 lipca roku, w którym został złożony wniosek o przyznanie płatności dobrostanowej, a w przypadku krów objętych wymogami tego wariantu w trakcie okresu realizacji wymogów w ramach tego wariantu – przed upływem 7 dni od dnia objęcia krowy tymi wymogami. Określenie w IRZ Plus mięsnego typu użytkowania lub mięsnego kierunku użytkowania obejmuje również cielęta, jałówki i opasy o masie ciała do 300 kg",null,null,null,null,null,null,null,null,null,null,null,null,false,"☒","☐"]
[null,null,"II.4.1.","Informacja o stadzie krów mamek",null,null,{"$f":"IF(AND(Info_2!$R$11,Info_2!$R$13)=TRUE,\"oraz opasów o masie ciała powyżej 300 kg\",\"\")","v":""}]
[null,null,null,{"$f":"IF(AND(Info_2!$R$11,Info_2!$R$13)=TRUE,$AB$7,$AA$7)","v":"System utrzymywania krów mamek, cieląt, jałówek i opasów o masie ciała do 300 kg typu użytkowego mięsnego lub typu użytkowego kombinowanego o mięsnym kierunku ich użytkowania w gospodarstwie jest zgodny z klasyfikacją przyjętą w rozporządzeniu Ministra Rolnictwa i Rozwoju Wsi z dnia 23 grudnia 2022 r. w sprawie szczegółowego zakresu informacji zawartych w komputerowej bazie danych (Dz.U. z 2023 r. poz. 15), z zaznaczeniem utrzymywania tych zwierząt na ściółce."},null,null,null,null,null,null,null,null,null,null,null,null,null,null,null,null,null,null,"Uzgodnienia z MRiRW w dniu 14.03.23",null,null,null,"System utrzymywania krów mamek, cieląt, jałówek i opasów o masie ciała do 300 kg typu użytkowego mięsnego lub typu użytkowego kombinowanego o mięsnym kierunku ich użytkowania w gospodarstwie jest zgodny z klasyfikacją przyjętą w rozporządzeniu Ministra Rolnictwa i Rozwoju Wsi z dnia 23 grudnia 2022 r. w sprawie szczegółowego zakresu informacji zawartych w komputerowej bazie danych (Dz.U. z 2023 r. poz. 15), z zaznaczeniem utrzymywania tych zwierząt na ściółce.","System utrzymywania krów mamek, cieląt, jałówek i opasów o masie ciała do 300 kg oraz opasów powyżej 300 kg  typu użytkowego mięsnego lub typu użytkowego kombinowanego o mięsnym kierunku ich użytkowania w gospodarstwie jest zgodny z klasyfikacją przyjętą w rozporządzeniu Ministra Rolnictwa i Rozwoju Wsi z dnia 23 grudnia 2022 r. w sprawie szczegółowego zakresu informacji zawartych w komputerowej bazie danych (Dz.U. z 2023 r. poz. 15), z zaznaczeniem utrzymywania tych zwierząt na ściółce."]
[null,null,"II.4.2.","Informacja o spełnianiu odpowiednich minimalnych wymogów"]
[null,null,null,{"$f":"IF(AND(Info_2!$R$11,Info_2!$R$13)=TRUE,$AB$9,$AA$9)","v":"Powierzchnia bytowa w pomieszczeniach lub w budynkach, w których utrzymywane jest bydło inne niż krowy mamki, cielęta, jałówki i opasy o masie ciała do 300 kg typu użytkowego mięsnego lub typu użytkowego kombinowanego o mięsnym kierunku ich użytkowania jest zgodna z odpowiednimi minimalnymi wymogami dotyczącymi dobrostanu zwierząt, o których mowa w art. 31 ust. 5 lit. b rozporządzenia 2021/2115, określonymi w rozporządzeniu Ministra Rolnictwa i Rozwoju Wsi z dnia 15 lutego 2010 r. w sprawie wymagań i sposobu postępowania przy utrzymywaniu gatunków zwierząt gospodarskich, dla których normy ochrony zostały określone w przepisach Unii Europejskiej, oraz innych odpowiednich obowiązkowych wymogów, o których mowa w art. 31 ust. 5 lit. b rozporządzenia 2021/2115, określonych w rozporządzeniu Ministra Rolnictwa i Rozwoju Wsi z dnia 28 czerwca 2010 r. w sprawie minimalnych warunków utrzymywania gatunków zwierząt gospodarskich innych niż te, dla których normy ochrony zostały określone w przepisach Unii Europejskiej."},null,null,null,null,null,null,null,null,null,null,null,null,null,null,null,null,null,null,"Uzgodnienia z MRiRW w dniu 14.03.23",null,null,null,"Powierzchnia bytowa w pomieszczeniach lub w budynkach, w których utrzymywane jest bydło inne niż krowy mamki, cielęta, jałówki i opasy o masie ciała do 300 kg typu użytkowego mięsnego lub typu użytkowego kombinowanego o mięsnym kierunku ich użytkowania jest zgodna z odpowiednimi minimalnymi wymogami dotyczącymi dobrostanu zwierząt, o których mowa w art. 31 ust. 5 lit. b rozporządzenia 2021/2115, określonymi w rozporządzeniu Ministra Rolnictwa i Rozwoju Wsi z dnia 15 lutego 2010 r. w sprawie wymagań i sposobu postępowania przy utrzymywaniu gatunków zwierząt gospodarskich, dla których normy ochrony zostały określone w przepisach Unii Europejskiej, oraz innych odpowiednich obowiązkowych wymogów, o których mowa w art. 31 ust. 5 lit. b rozporządzenia 2021/2115, określonych w rozporządzeniu Ministra Rolnictwa i Rozwoju Wsi z dnia 28 czerwca 2010 r. w sprawie minimalnych warunków utrzymywania gatunków zwierząt gospodarskich innych niż te, dla których normy ochrony zostały określone w przepisach Unii Europejskiej.","Powierzchnia bytowa w pomieszczeniach lub w budynkach, w których utrzymywane jest bydło inne niż krowy mamki, cielęta, jałówki, opasy o masie ciała do 300 kg  i  opasy o masie ciała powyżej 300 kg  typu użytkowego mięsnego lub typu użytkowego kombinowanego o mięsnym kierunku ich użytkowania jest zgodna z odpowiednimi minimalnymi wymogami dotyczącymi dobrostanu zwierząt, o których mowa w art. 31 ust. 5 lit. b rozporządzenia 2021/2115, określonymi w rozporządzeniu Ministra Rolnictwa i Rozwoju Wsi z dnia 15 lutego 2010 r. w sprawie wymagań i sposobu postępowania przy utrzymywaniu gatunków zwierząt gospodarskich, dla których normy ochrony zostały określone w przepisach Unii Europejskiej, oraz innych odpowiednich obowiązkowych wymogów, o których mowa w art. 31 ust. 5 lit. b rozporządzenia 2021/2115, określonych w rozporządzeniu Ministra Rolnictwa i Rozwoju Wsi z dnia 28 czerwca 2010 r. w sprawie minimalnych warunków utrzymywania gatunków zwierząt gospodarskich innych niż te, dla których normy ochrony zostały określone w przepisach Unii Europejskiej."]
[]
[null,null,null,"(miejscowość i data)",null,null,"(czytelny podpis rolnika)",null,null,null,"(czytelny podpis doradcy)"]
[]
[]
[null,null,null,null,null,null,null,null,null,null,null,null,null,null,null,null,null,2]
[]
[null,null,"II.4.3.","System produkcji gospodarstwie "]
[null,null,null,"Ściółka:"]
[null,null,null,{"$f":"IF(R18=TRUE,S18,T18)","v":"☐"},"Budynek/pomieszczenie dostosowane do stosowania ściółki",null,null,null,null,null,null,null,null,null,null,null,null,false,"☒","☐"]
[null,null,null,"Wybieg:"]
[null,null,null,{"$f":"IF(R20=TRUE,S20,T20)","v":"☐"},"Gospodarstwo przystosowane do zapewnienia wybiegu\n",null,null,null,null,null,null,null,null,null,null,null,null,false,"☒","☐"]
[]
[null,null,null,null,null,null,null,null,null,null,null,null,null,null,null,null,null,true,"☒","☐"]
[null,null,null,{"$f":"IF(AND(Info_2!$R$11,Info_2!$R$13)=TRUE,$AB$23,$AA$23)","v":"Krowom mamkom, cielętom, opasom o masie ciała do 300 kg i jałówkom użytkowanym w kierunku mięsnym, utrzymywanym grupowo bez uwięzi wolnostanowiskowo zapewnia się zwiększoną o co najmniej:"},null,null,null,null,null,null,null,null,null,null,null,null,null,1,"☒","☐",null,null,null,null,null,null,"Krowom mamkom, cielętom, opasom o masie ciała do 300 kg i jałówkom użytkowanym w kierunku mięsnym, utrzymywanym grupowo bez uwięzi wolnostanowiskowo zapewnia się zwiększoną o co najmniej:","Krowom mamkom, cielętom, opasom o masie ciała do 300 kg, opasom o masie ciała powyżej 300 kg  i jałówkom użytkowanym w kierunku mięsnym, utrzymywanym grupowo bez uwięzi wolnostanowiskowo zapewnia się zwiększoną o co najmniej:"]
[null,null,null,{"$f":"IF($R$23=1,$S$23,$T$23)","v":"☒"},"20% powierzchnię bytową w pomieszczeniach/budynkach "]
[null,null,null,{"$f":"IF($R$23=2,$S$23,$T$23)","v":"☐"},"50% powierzchnię bytową w pomieszczeniach/budynkach "]
[null,null,{"$f":"IF(R26=TRUE,S26,T26)","v":"☐"},{"$f":"IF(AND(Info_2!$R$11,Info_2!$R$13)=TRUE,$AB$26,$AA$26)","v":"Do planu poprawy dobrostanu zwierząt dołączono szkic obiektów ze wskazaniem pomieszczeń/budynków, w których utrzymywane są zwierzęta z uwzględnieniem, jeśli dotyczy, kilku  posiadaczy wraz ze wskazanymi sekcjami, w których utrzymywane są krowy mamki, cielęta, jałówki i opasy o masie ciała do 300 kg."},null,null,null,null,null,null,null,null,null,null,null,null,null,false,"☒","☐",null,null,"Uzgodnienia z MRiRW w dniu 14.03.23",null,null,null,"Do planu poprawy dobrostanu zwierząt dołączono szkic obiektów ze wskazaniem pomieszczeń/budynków, w których utrzymywane są zwierzęta z uwzględnieniem, jeśli dotyczy, kilku  posiadaczy wraz ze wskazanymi sekcjami, w których utrzymywane są krowy mamki, cielęta, jałówki i opasy o masie ciała do 300 kg.","Do planu poprawy dobrostanu zwierząt dołączono szkic obiektów ze wskazaniem pomieszczeń/budynków, w których utrzymywane są zwierzęta z uwzględnieniem, jeśli dotyczy, kilku  posiadaczy wraz ze wskazanymi sekcjami, w których utrzymywane są krowy mamki, cielęta, jałówki, opasy o masie ciała do 300 kg i opasy o masie ciała powyżej 300 kg."]
[null,null,"☒","Do planu poprawy dobrostanu zwierząt dołączono szkic gospodarstwa ze wskazanymi działkami ewidencyjnymi, na których są zlokalizowane zewnętrzne powierzchnie bytowe (pastwiska, wybiegi lub okólniki) przeznaczone dla zwierząt objętych wymogami praktyki i wariantu. Rolnik który ubiega się o przyznanie płatności za zapewnienie wybiegu składa do ARiMR, na formularzu udostępnionym na stronie internetowej ARiMR rejestr wybiegu.",null,null,null,null,null,null,null,null,null,null,null,null,null,false,"☒","☐",null,"2019-04-15","Uzgodnienia z MRiRW w dniu 14.03.23",140,{"$f":"X27-U27","v":140}]
[null,null,null,"(miejscowość i data)",null,null,"(czytelny podpis rolnika)",null,null,null,"(czytelny podpis doradcy)"]
[null,null,null,"Powierzchnia bytowa przeznaczona dla bydła mięsnego utrzymywanego w pomieszczeniach/budynkach w gospodarstwie rolnym: ",null,null,null,null,null,null,null,null,"m2",null,null,null,null,null,null,null,null,null,"Uzgodnienia z MRiRW w dniu 14.03.23",6]
[]
[null,null,"II.4.4.","Zwiększona powierzchnia w  pomieszczeniach/budynkach:"]
[null,null,"II.4.4.1.","System  wolnostanowiskowy z wydzielonymi legowiskami\n - powierzchnia zwiększona o",null,null,null,null,null,null,{"$f":"IF(R23=1,0.2,0.5)","v":0.2}]
[null,null,null," Numer siedziby stada albo \nNazwa \nobiektu / sekcji",null,"Liczba  wydzielonych legowisk spełniających wymóg minimalnych wymiarów ",null,null,"Powierzchnia odpasowo-ruchowa",null,null,"Maksymalna liczba krów i jałówek"]
[null,null,null,null,null,"długość","szerokość","liczba legowisk","długość","szerokość","powierzch\nnia",null,null,null,null,null,null,"nr stad","długość","szerokość","powierzchnia"]
[null,null,null,null,null,"m","m","szt.","m","m","m2","szt",null,null,null,null,null,null,"m","m","m2"]
[null,null,null,null,null,null,null,null,null,null,{"$f":"IFERROR(I36*J36,0)","v":0},{"$f":"IF(TRUNC(K36/N_W_2_2!$G$19)>H36,H36,TRUNC(K36/N_W_2_2!$G$19))","v":0},null,null,null,null,null,{"$f":"SUM(F36:M36)+V36","v":0},{"$f":"N_W_2_2!$G$17","v":2.1},{"$f":"N_W_2_2!$G$18","v":1.1000000000000001},{"$f":"N_W_2_2!$G$19","v":4},{"$f":"IFERROR(MATCH(D36,Nr_stad!$U$8:$U$60,0),0)","v":0}]
[null,null,null,null,null,null,null,null,null,null,0,{"$f":"IF(TRUNC(K37/N_W_2_2!$G$22)>H37,H37,TRUNC(K37/N_W_2_2!$G$22))","v":0},null,null,null,null,null,{"$f":"SUM(F37:M37)+V37","v":0},{"$f":"SUM(F37:M37)+R37","v":0},null,null,{"$f":"IFERROR(MATCH(D37,Nr_stad!$U$8:$U$60,0),0)","v":0}]
[null,null,null,null,null,null,null,null,null,null,0,{"$f":"IF(TRUNC(K38/N_W_2_2!$G$22)>H38,H38,TRUNC(K38/N_W_2_2!$G$22))","v":0},null,null,null,null,null,0,0,null,null,{"$f":"IFERROR(MATCH(D38,Nr_stad!$U$8:$U$60,0),0)","v":0}]
[null,null,null,null,null,null,null,null,null,null,0,{"$f":"IF(TRUNC(K39/N_W_2_2!$G$22)>H39,H39,TRUNC(K39/N_W_2_2!$G$22))","v":0},null,null,null,null,null,0,{"$f":"SUM(F39:M39)+R39","v":0},null,null,{"$f":"IFERROR(MATCH(D39,Nr_stad!$U$8:$U$60,0),0)","v":0}]
[null,null,null,null,null,null,null,null,null,null,0,{"$f":"IF(TRUNC(K40/N_W_2_2!$G$22)>H40,H40,TRUNC(K40/N_W_2_2!$G$22))","v":0},null,null,null,null,null,0,0,null,null,{"$f":"IFERROR(MATCH(D40,Nr_stad!$U$8:$U$60,0),0)","v":0}]
[null,null,null,null,null,null,null,null,null,null,0,{"$f":"IF(TRUNC(K41/N_W_2_2!$G$22)>H41,H41,TRUNC(K41/N_W_2_2!$G$22))","v":0},null,null,null,null,null,0,0,null,null,{"$f":"IFERROR(MATCH(D41,Nr_stad!$U$8:$U$60,0),0)","v":0}]
[null,null,null,null,null,null,null,null,null,null,0,{"$f":"IF(TRUNC(K42/N_W_2_2!$G$22)>H42,H42,TRUNC(K42/N_W_2_2!$G$22))","v":0},null,null,null,null,null,0,0,null,null,{"$f":"IFERROR(MATCH(D42,Nr_stad!$U$8:$U$60,0),0)","v":0}]
[null,null,null,null,null,null,null,null,null,null,0,{"$f":"IF(TRUNC(K43/N_W_2_2!$G$22)>H43,H43,TRUNC(K43/N_W_2_2!$G$22))","v":0},null,null,null,null,null,0,0,null,null,{"$f":"IFERROR(MATCH(D43,Nr_stad!$U$8:$U$60,0),0)","v":0}]
[null,null,null,null,null,null,null,null,null,null,0,{"$f":"IF(TRUNC(K44/N_W_2_2!$G$22)>H44,H44,TRUNC(K44/N_W_2_2!$G$22))","v":0},null,null,null,null,null,0,0,null,null,{"$f":"IFERROR(MATCH(D44,Nr_stad!$U$8:$U$60,0),0)","v":0}]
[null,null,null,null,null,null,null,null,null,null,0,{"$f":"IF(TRUNC(K45/N_W_2_2!$G$22)>H45,H45,TRUNC(K45/N_W_2_2!$G$22))","v":0},null,null,null,null,null,0,0,null,null,{"$f":"IFERROR(MATCH(D45,Nr_stad!$U$8:$U$60,0),0)","v":0}]
[null,null,null,null,null,null,null,null,null,null,0,{"$f":"IF(TRUNC(K46/N_W_2_2!$G$22)>H46,H46,TRUNC(K46/N_W_2_2!$G$22))","v":0},null,null,null,null,null,0,0,null,null,{"$f":"IFERROR(MATCH(D46,Nr_stad!$U$8:$U$60,0),0)","v":0}]
[null,null,null,null,null,null,null,null,null,null,0,{"$f":"IF(TRUNC(K47/N_W_2_2!$G$22)>H47,H47,TRUNC(K47/N_W_2_2!$G$22))","v":0},null,null,null,null,null,0,0,null,null,{"$f":"IFERROR(MATCH(D47,Nr_stad!$U$8:$U$60,0),0)","v":0}]
[null,null,null,null,null,null,null,null,null,null,0,{"$f":"IF(TRUNC(K48/N_W_2_2!$G$22)>H48,H48,TRUNC(K48/N_W_2_2!$G$22))","v":0},null,null,null,null,null,0,0,null,null,{"$f":"IFERROR(MATCH(D48,Nr_stad!$U$8:$U$60,0),0)","v":0}]
[null,null,null,null,null,null,null,null,null,null,0,{"$f":"IF(TRUNC(K49/N_W_2_2!$G$22)>H49,H49,TRUNC(K49/N_W_2_2!$G$22))","v":0},null,null,null,null,null,0,0,null,null,{"$f":"IFERROR(MATCH(D49,Nr_stad!$U$8:$U$60,0),0)","v":0}]
[null,null,null,null,null,null,null,null,null,null,0,{"$f":"IF(TRUNC(K50/N_W_2_2!$G$22)>H50,H50,TRUNC(K50/N_W_2_2!$G$22))","v":0},null,null,null,null,null,0,0,null,null,{"$f":"IFERROR(MATCH(D50,Nr_stad!$U$8:$U$60,0),0)","v":0}]
[null,null,null,null,null,null,null,null,null,null,0,{"$f":"IF(TRUNC(K51/N_W_2_2!$G$22)>H51,H51,TRUNC(K51/N_W_2_2!$G$22))","v":0},null,null,null,null,null,0,0,null,null,{"$f":"IFERROR(MATCH(D51,Nr_stad!$U$8:$U$60,0),0)","v":0}]
[null,null,null,null,null,null,null,null,null,null,0,{"$f":"IF(TRUNC(K52/N_W_2_2!$G$22)>H52,H52,TRUNC(K52/N_W_2_2!$G$22))","v":0},null,null,null,null,null,0,0,null,null,{"$f":"IFERROR(MATCH(D52,Nr_stad!$U$8:$U$60,0),0)","v":0}]
[null,null,null,null,null,null,null,null,null,null,0,{"$f":"IF(TRUNC(K53/N_W_2_2!$G$22)>H53,H53,TRUNC(K53/N_W_2_2!$G$22))","v":0},null,null,null,null,null,0,0,null,null,{"$f":"IFERROR(MATCH(D53,Nr_stad!$U$8:$U$60,0),0)","v":0}]
[null,null,null,null,null,null,null,null,null,null,0,{"$f":"IF(TRUNC(K54/N_W_2_2!$G$22)>H54,H54,TRUNC(K54/N_W_2_2!$G$22))","v":0},null,null,null,null,null,0,0,null,null,{"$f":"IFERROR(MATCH(D54,Nr_stad!$U$8:$U$60,0),0)","v":0}]
[null,null,null,null,null,null,null,null,null,null,0,{"$f":"IF(TRUNC(K55/N_W_2_2!$G$22)>H55,H55,TRUNC(K55/N_W_2_2!$G$22))","v":0},null,null,null,null,null,0,0,null,null,{"$f":"IFERROR(MATCH(D55,Nr_stad!$U$8:$U$60,0),0)","v":0}]
[null,null,null,null,null,null,null,null,null,null,0,{"$f":"IF(TRUNC(K56/N_W_2_2!$G$22)>H56,H56,TRUNC(K56/N_W_2_2!$G$22))","v":0},null,null,null,null,null,0,0,null,null,{"$f":"IFERROR(MATCH(D56,Nr_stad!$U$8:$U$60,0),0)","v":0}]
[null,null,null,null,null,null,null,null,null,null,0,{"$f":"IF(TRUNC(K57/N_W_2_2!$G$22)>H57,H57,TRUNC(K57/N_W_2_2!$G$22))","v":0},null,null,null,null,null,0,0,null,null,{"$f":"IFERROR(MATCH(D57,Nr_stad!$U$8:$U$60,0),0)","v":0}]
[null,null,null,null,null,null,null,null,null,null,0,{"$f":"IF(TRUNC(K58/N_W_2_2!$G$22)>H58,H58,TRUNC(K58/N_W_2_2!$G$22))","v":0},null,null,null,null,null,0,0,null,null,{"$f":"IFERROR(MATCH(D58,Nr_stad!$U$8:$U$60,0),0)","v":0}]
[null,null,null,null,null,null,null,null,null,null,0,{"$f":"IF(TRUNC(K59/N_W_2_2!$G$22)>H59,H59,TRUNC(K59/N_W_2_2!$G$22))","v":0},null,null,null,null,null,0,0,null,null,{"$f":"IFERROR(MATCH(D59,Nr_stad!$U$8:$U$60,0),0)","v":0}]
[null,null,null,null,null,null,null,null,null,null,0,{"$f":"IF(TRUNC(K60/N_W_2_2!$G$22)>H60,H60,TRUNC(K60/N_W_2_2!$G$22))","v":0},null,null,null,null,null,0,0,null,null,{"$f":"IFERROR(MATCH(D60,Nr_stad!$U$8:$U$60,0),0)","v":0}]
[null,null,null,null,null,null,null,null,null,null,0,{"$f":"IF(TRUNC(K61/N_W_2_2!$G$22)>H61,H61,TRUNC(K61/N_W_2_2!$G$22))","v":0},null,null,null,null,null,0,0,null,null,{"$f":"IFERROR(MATCH(D61,Nr_stad!$U$8:$U$60,0),0)","v":0}]
[null,null,null,null,null,null,null,null,null,null,0,{"$f":"IF(TRUNC(K62/N_W_2_2!$G$22)>H62,H62,TRUNC(K62/N_W_2_2!$G$22))","v":0},null,null,null,null,null,0,0,null,null,{"$f":"IFERROR(MATCH(D62,Nr_stad!$U$8:$U$60,0),0)","v":0}]
[null,null,null,null,null,null,null,null,null,null,0,{"$f":"IF(TRUNC(K63/N_W_2_2!$G$22)>H63,H63,TRUNC(K63/N_W_2_2!$G$22))","v":0},null,null,null,null,null,0,0,null,null,{"$f":"IFERROR(MATCH(D63,Nr_stad!$U$8:$U$60,0),0)","v":0}]
[null,null,null,null,null,null,null,null,null,null,0,{"$f":"IF(TRUNC(K64/N_W_2_2!$G$22)>H64,H64,TRUNC(K64/N_W_2_2!$G$22))","v":0},null,null,null,null,null,0,0,null,null,{"$f":"IFERROR(MATCH(D64,Nr_stad!$U$8:$U$60,0),0)","v":0}]
[null,null,null,null,null,null,null,null,null,null,0,{"$f":"IF(TRUNC(K65/N_W_2_2!$G$22)>H65,H65,TRUNC(K65/N_W_2_2!$G$22))","v":0},null,null,null,null,null,0,0,null,null,{"$f":"IFERROR(MATCH(D65,Nr_stad!$U$8:$U$60,0),0)","v":0}]
[null,null,null,null,null,null,null,null,null,null,0,{"$f":"IF(TRUNC(K66/N_W_2_2!$G$22)>H66,H66,TRUNC(K66/N_W_2_2!$G$22))","v":0},null,null,null,null,null,0,0,null,null,{"$f":"IFERROR(MATCH(D66,Nr_stad!$U$8:$U$60,0),0)","v":0}]
[null,null,null,null,null,null,null,null,null,null,0,{"$f":"IF(TRUNC(K67/N_W_2_2!$G$22)>H67,H67,TRUNC(K67/N_W_2_2!$G$22))","v":0},null,null,null,null,null,0,0,null,null,{"$f":"IFERROR(MATCH(D67,Nr_stad!$U$8:$U$60,0),0)","v":0}]
[null,null,null,null,null,null,null,null,null,null,0,{"$f":"IF(TRUNC(K68/N_W_2_2!$G$22)>H68,H68,TRUNC(K68/N_W_2_2!$G$22))","v":0},null,null,null,null,null,0,0,null,null,{"$f":"IFERROR(MATCH(D68,Nr_stad!$U$8:$U$60,0),0)","v":0}]
[null,null,null,null,null,null,null,null,null,null,0,{"$f":"IF(TRUNC(K69/N_W_2_2!$G$22)>H69,H69,TRUNC(K69/N_W_2_2!$G$22))","v":0},null,null,null,null,null,0,0,null,null,{"$f":"IFERROR(MATCH(D69,Nr_stad!$U$8:$U$60,0),0)","v":0}]
[null,null,null,null,null,null,null,null,null,null,0,{"$f":"IF(TRUNC(K70/N_W_2_2!$G$22)>H70,H70,TRUNC(K70/N_W_2_2!$G$22))","v":0},null,null,null,null,null,0,0,null,null,{"$f":"IFERROR(MATCH(D70,Nr_stad!$U$8:$U$60,0),0)","v":0}]
[null,null,null,null,null,null,null,null,null,null,0,{"$f":"IF(TRUNC(K71/N_W_2_2!$G$22)>H71,H71,TRUNC(K71/N_W_2_2!$G$22))","v":0},null,null,null,null,null,0,0,null,null,{"$f":"IFERROR(MATCH(D71,Nr_stad!$U$8:$U$60,0),0)","v":0}]
[null,null,null,null,null,null,null,null,null,null,0,{"$f":"IF(TRUNC(K72/N_W_2_2!$G$22)>H72,H72,TRUNC(K72/N_W_2_2!$G$22))","v":0},null,null,null,null,null,0,0,null,null,{"$f":"IFERROR(MATCH(D72,Nr_stad!$U$8:$U$60,0),0)","v":0}]
[null,null,null,null,null,null,null,null,null,null,0,{"$f":"IF(TRUNC(K73/N_W_2_2!$G$22)>H73,H73,TRUNC(K73/N_W_2_2!$G$22))","v":0},null,null,null,null,null,0,0,null,null,{"$f":"IFERROR(MATCH(D73,Nr_stad!$U$8:$U$60,0),0)","v":0}]
[null,null,null,null,null,null,null,null,null,null,0,{"$f":"IF(TRUNC(K74/N_W_2_2!$G$22)>H74,H74,TRUNC(K74/N_W_2_2!$G$22))","v":0},null,null,null,null,null,0,0,null,null,{"$f":"IFERROR(MATCH(D74,Nr_stad!$U$8:$U$60,0),0)","v":0}]
[null,null,null,null,null,null,null,null,null,null,0,{"$f":"IF(TRUNC(K75/N_W_2_2!$G$22)>H75,H75,TRUNC(K75/N_W_2_2!$G$22))","v":0},null,null,null,null,null,0,0,null,null,{"$f":"IFERROR(MATCH(D75,Nr_stad!$U$8:$U$60,0),0)","v":0}]
[null,null,null,null,null,null,null,null,null,null,0,{"$f":"IF(TRUNC(K76/N_W_2_2!$G$22)>H76,H76,TRUNC(K76/N_W_2_2!$G$22))","v":0},null,null,null,null,null,0,0,null,null,{"$f":"IFERROR(MATCH(D76,Nr_stad!$U$8:$U$60,0),0)","v":0}]
[null,null,null,null,null,null,null,null,null,null,0,{"$f":"IF(TRUNC(K77/N_W_2_2!$G$22)>H77,H77,TRUNC(K77/N_W_2_2!$G$22))","v":0},null,null,null,null,null,0,0,null,null,{"$f":"IFERROR(MATCH(D77,Nr_stad!$U$8:$U$60,0),0)","v":0}]
[null,null,null,null,null,null,null,null,null,null,0,{"$f":"IF(TRUNC(K78/N_W_2_2!$G$22)>H78,H78,TRUNC(K78/N_W_2_2!$G$22))","v":0},null,null,null,null,null,0,0,null,null,{"$f":"IFERROR(MATCH(D78,Nr_stad!$U$8:$U$60,0),0)","v":0}]
[null,null,null,null,null,null,null,null,null,null,0,{"$f":"IF(TRUNC(K79/N_W_2_2!$G$22)>H79,H79,TRUNC(K79/N_W_2_2!$G$22))","v":0},null,null,null,null,null,0,0,null,null,{"$f":"IFERROR(MATCH(D79,Nr_stad!$U$8:$U$60,0),0)","v":0}]
[null,null,null,null,null,null,null,null,null,null,0,{"$f":"IF(TRUNC(K80/N_W_2_2!$G$22)>H80,H80,TRUNC(K80/N_W_2_2!$G$22))","v":0},null,null,null,null,null,0,0,null,null,{"$f":"IFERROR(MATCH(D80,Nr_stad!$U$8:$U$60,0),0)","v":0}]
[null,null,null,null,null,null,null,null,null,null,0,{"$f":"IF(TRUNC(K81/N_W_2_2!$G$22)>H81,H81,TRUNC(K81/N_W_2_2!$G$22))","v":0},null,null,null,null,null,0,0,null,null,{"$f":"IFERROR(MATCH(D81,Nr_stad!$U$8:$U$60,0),0)","v":0}]
[null,null,null,"RAZEM:",null,null,null,{"$f":"SUM(H36:H81)","v":0},"RAZEM:",null,{"$f":"SUM(K36:K81)","v":0},{"$f":"SUM(L36:L81)","v":0},null,null,null,null,null,0,0,null,null,{"$f":"IFERROR(MATCH(D82,Nr_stad!$U$8:$U$60,0),0)","v":0}]
[null,null,null,"Wielkości (w m2) posiadanych powierzchni bytowych w pomieszczeniach/budynkach dotyczą łącznie wnioskodawcy i wskazanych innych posiadaczy",null,null,null,null,null,null,"NIE",null,null,null,null,null,null,0]
[null,null,"II.4.4.2.","System wolnostanowiskowy bez wydzielonych legowisk  - powierzchnia zwiększona o",null,null,null,null,null,null,null,{"$f":"IF(R23=1,0.2,0.5)","v":0.2}]
[null,null,null," Numer siedziby stada albo \nGrupa zwierząt",null,null,"Obiekt",null,"Utrzymywanie  spełniające wymóg minimalnych powierzchni",null,null,"Minimalna powierzch-\nnia  na  kojec  / kojce","Powierz-\nchnia mini-\nmalna na szt.","Maksy-\nmalna liczba bydła",null,null,null,"NIE"]
[null,null,null,null,null,null,"Nazwa(y) lub nr kojca/kojcy",null,"Liczba zwierząt","Powierzchnia na sztukę ","Powie-\nrzchnia",null,null,null,null,null,null,"TAK"]
[null,null,null,null,null,null,null,null,null,null,null,null,null,null,null,null,null,null,"poz",null,"powierzchnia"]
[null,null,null,null,null,null,null,null,"szt.","m2/szt.","m2","m2","m2/szt.","szt"]
[null,null,null,null,null,null,null,null,null,null,{"$f":"I89*J89","v":0},{"$f":"IFERROR(M89*N89,\"-\")","v":"-"},{"$f":"IFERROR(U89,\"-\")","v":"-"},{"$f":"IFERROR(TRUNC(K89/M89),\"-\")","v":"-"},null,null,null,{"$f":"I89+J89+V89","v":0},{"$f":"MATCH(D89,N_W_2_2!$C$22:$C$33,0)","v":{"$error":"#N/A"}},null,{"$f":"OFFSET(N_W_2_2!$G$21,S89,0)","v":{"$error":"#N/A"}},{"$f":"IFERROR(MATCH(D89,Nr_stad!$U$8:$U$60,0),0)","v":0}]
[null,null,null,null,null,null,null,null,null,null,{"$f":"I90*J90","v":0},{"$f":"IFERROR(M90*N90,\"-\")","v":"-"},{"$f":"IFERROR(U90,\"-\")","v":"-"},{"$f":"IFERROR(TRUNC(K90/M90),\"-\")","v":"-"},null,null,null,{"$f":"I90+J90+V90","v":0},{"$f":"MATCH(D90,N_W_2_2!$C$22:$C$33,0)","v":{"$error":"#N/A"}},null,{"$f":"OFFSET(N_W_2_2!$G$21,S90,0)","v":{"$error":"#N/A"}},{"$f":"IFERROR(MATCH(D90,Nr_stad!$U$8:$U$60,0),0)","v":0}]
[null,null,null,null,null,null,null,null,null,null,{"$f":"I91*J91","v":0},{"$f":"IFERROR(M91*N91,\"-\")","v":"-"},{"$f":"IFERROR(U91,\"-\")","v":"-"},{"$f":"IFERROR(TRUNC(K91/M91),\"-\")","v":"-"},null,null,null,{"$f":"I91+J91+V91","v":0},{"$f":"MATCH(D91,N_W_2_2!$C$22:$C$33,0)","v":{"$error":"#N/A"}},null,{"$f":"OFFSET(N_W_2_2!$G$21,S91,0)","v":{"$error":"#N/A"}},{"$f":"IFERROR(MATCH(D91,Nr_stad!$U$8:$U$60,0),0)","v":0}]
[null,null,null,null,null,null,null,null,null,null,0,"-","-","-",null,null,null,0,{"$f":"MATCH(D92,N_W_2_2!$C$22:$C$33,0)","v":{"$error":"#N/A"}},null,{"$f":"OFFSET(N_W_2_2!$G$21,S92,0)","v":{"$error":"#N/A"}},{"$f":"IFERROR(MATCH(D92,Nr_stad!$U$8:$U$60,0),0)","v":0}]
[null,null,null,null,null,null,null,null,null,null,0,"-","-","-",null,null,null,0,{"$f":"MATCH(D93,N_W_2_2!$C$22:$C$33,0)","v":{"$error":"#N/A"}},null,{"$f":"OFFSET(N_W_2_2!$G$21,S93,0)","v":{"$error":"#N/A"}},{"$f":"IFERROR(MATCH(D93,Nr_stad!$U$8:$U$60,0),0)","v":0}]
[null,null,null,null,null,null,null,null,null,null,0,"-","-","-",null,null,null,0,{"$f":"MATCH(D94,N_W_2_2!$C$22:$C$33,0)","v":{"$error":"#N/A"}},null,{"$f":"OFFSET(N_W_2_2!$G$21,S94,0)","v":{"$error":"#N/A"}},{"$f":"IFERROR(MATCH(D94,Nr_stad!$U$8:$U$60,0),0)","v":0}]
[null,null,null,null,null,null,null,null,null,null,0,"-","-","-",null,null,null,0,{"$f":"MATCH(D95,N_W_2_2!$C$22:$C$33,0)","v":{"$error":"#N/A"}},null,{"$f":"OFFSET(N_W_2_2!$G$21,S95,0)","v":{"$error":"#N/A"}},{"$f":"IFERROR(MATCH(D95,Nr_stad!$U$8:$U$60,0),0)","v":0}]
[null,null,null,null,null,null,null,null,null,null,0,"-","-","-",null,null,null,0,{"$f":"MATCH(D96,N_W_2_2!$C$22:$C$33,0)","v":{"$error":"#N/A"}},null,{"$f":"OFFSET(N_W_2_2!$G$21,S96,0)","v":{"$error":"#N/A"}},{"$f":"IFERROR(MATCH(D96,Nr_stad!$U$8:$U$60,0),0)","v":0}]
[null,null,null,null,null,null,null,null,null,null,0,"-","-","-",null,null,null,0,{"$f":"MATCH(D97,N_W_2_2!$C$22:$C$33,0)","v":{"$error":"#N/A"}},null,{"$f":"OFFSET(N_W_2_2!$G$21,S97,0)","v":{"$error":"#N/A"}},{"$f":"IFERROR(MATCH(D97,Nr_stad!$U$8:$U$60,0),0)","v":0}]
[null,null,null,null,null,null,null,null,null,null,0,"-","-","-",null,null,null,0,{"$f":"MATCH(D98,N_W_2_2!$C$22:$C$33,0)","v":{"$error":"#N/A"}},null,{"$f":"OFFSET(N_W_2_2!$G$21,S98,0)","v":{"$error":"#N/A"}},{"$f":"IFERROR(MATCH(D98,Nr_stad!$U$8:$U$60,0),0)","v":0}]
[null,null,null,null,null,null,null,null,null,null,0,"-","-","-",null,null,null,0,{"$f":"MATCH(D99,N_W_2_2!$C$22:$C$33,0)","v":{"$error":"#N/A"}},null,{"$f":"OFFSET(N_W_2_2!$G$21,S99,0)","v":{"$error":"#N/A"}},{"$f":"IFERROR(MATCH(D99,Nr_stad!$U$8:$U$60,0),0)","v":0}]
[null,null,null,null,null,null,null,null,null,null,0,"-","-","-",null,null,null,0,{"$f":"MATCH(D100,N_W_2_2!$C$22:$C$33,0)","v":{"$error":"#N/A"}},null,{"$f":"OFFSET(N_W_2_2!$G$21,S100,0)","v":{"$error":"#N/A"}},{"$f":"IFERROR(MATCH(D100,Nr_stad!$U$8:$U$60,0),0)","v":0}]
[null,null,null,null,null,null,null,null,null,null,0,"-","-","-",null,null,null,0,{"$f":"MATCH(D101,N_W_2_2!$C$22:$C$33,0)","v":{"$error":"#N/A"}},null,{"$f":"OFFSET(N_W_2_2!$G$21,S101,0)","v":{"$error":"#N/A"}},{"$f":"IFERROR(MATCH(D101,Nr_stad!$U$8:$U$60,0),0)","v":0}]
[null,null,null,null,null,null,null,null,null,null,0,"-","-","-",null,null,null,0,{"$f":"MATCH(D102,N_W_2_2!$C$22:$C$33,0)","v":{"$error":"#N/A"}},null,{"$f":"OFFSET(N_W_2_2!$G$21,S102,0)","v":{"$error":"#N/A"}},{"$f":"IFERROR(MATCH(D102,Nr_stad!$U$8:$U$60,0),0)","v":0}]
[null,null,null,null,null,null,null,null,null,null,0,"-","-","-",null,null,null,0,{"$f":"MATCH(D103,N_W_2_2!$C$22:$C$33,0)","v":{"$error":"#N/A"}},null,{"$f":"OFFSET(N_W_2_2!$G$21,S103,0)","v":{"$error":"#N/A"}},{"$f":"IFERROR(MATCH(D103,Nr_stad!$U$8:$U$60,0),0)","v":0}]
[null,null,null,null,null,null,null,null,null,null,0,"-","-","-",null,null,null,0,{"$f":"MATCH(D104,N_W_2_2!$C$22:$C$33,0)","v":{"$error":"#N/A"}},null,{"$f":"OFFSET(N_W_2_2!$G$21,S104,0)","v":{"$error":"#N/A"}},{"$f":"IFERROR(MATCH(D104,Nr_stad!$U$8:$U$60,0),0)","v":0}]
[null,null,null,null,null,null,null,null,null,null,0,"-","-","-",null,null,null,0,{"$f":"MATCH(D105,N_W_2_2!$C$22:$C$33,0)","v":{"$error":"#N/A"}},null,{"$f":"OFFSET(N_W_2_2!$G$21,S105,0)","v":{"$error":"#N/A"}},{"$f":"IFERROR(MATCH(D105,Nr_stad!$U$8:$U$60,0),0)","v":0}]
[null,null,null,null,null,null,null,null,null,null,0,"-","-","-",null,null,null,0,{"$f":"MATCH(D106,N_W_2_2!$C$22:$C$33,0)","v":{"$error":"#N/A"}},null,{"$f":"OFFSET(N_W_2_2!$G$21,S106,0)","v":{"$error":"#N/A"}},{"$f":"IFERROR(MATCH(D106,Nr_stad!$U$8:$U$60,0),0)","v":0}]
[null,null,null,null,null,null,null,null,null,null,0,"-","-","-",null,null,null,0,{"$f":"MATCH(D107,N_W_2_2!$C$22:$C$33,0)","v":{"$error":"#N/A"}},null,{"$f":"OFFSET(N_W_2_2!$G$21,S107,0)","v":{"$error":"#N/A"}},{"$f":"IFERROR(MATCH(D107,Nr_stad!$U$8:$U$60,0),0)","v":0}]
[null,null,null,null,null,null,null,null,null,null,0,"-","-","-",null,null,null,0,{"$f":"MATCH(D108,N_W_2_2!$C$22:$C$33,0)","v":{"$error":"#N/A"}},null,{"$f":"OFFSET(N_W_2_2!$G$21,S108,0)","v":{"$error":"#N/A"}},{"$f":"IFERROR(MATCH(D108,Nr_stad!$U$8:$U$60,0),0)","v":0}]
[null,null,null,null,null,null,null,null,null,null,0,"-","-","-",null,null,null,0,{"$f":"MATCH(D109,N_W_2_2!$C$22:$C$33,0)","v":{"$error":"#N/A"}},null,{"$f":"OFFSET(N_W_2_2!$G$21,S109,0)","v":{"$error":"#N/A"}},{"$f":"IFERROR(MATCH(D109,Nr_stad!$U$8:$U$60,0),0)","v":0}]
[null,null,null,null,null,null,null,null,null,null,0,"-","-","-",null,null,null,0,{"$f":"MATCH(D110,N_W_2_2!$C$22:$C$33,0)","v":{"$error":"#N/A"}},null,{"$f":"OFFSET(N_W_2_2!$G$21,S110,0)","v":{"$error":"#N/A"}},{"$f":"IFERROR(MATCH(D110,Nr_stad!$U$8:$U$60,0),0)","v":0}]
[null,null,null,null,null,null,null,null,null,null,0,"-","-","-",null,null,null,0,{"$f":"MATCH(D111,N_W_2_2!$C$22:$C$33,0)","v":{"$error":"#N/A"}},null,{"$f":"OFFSET(N_W_2_2!$G$21,S111,0)","v":{"$error":"#N/A"}},{"$f":"IFERROR(MATCH(D111,Nr_stad!$U$8:$U$60,0),0)","v":0}]
[null,null,null,null,null,null,null,null,null,null,0,"-","-","-",null,null,null,0,{"$f":"MATCH(D112,N_W_2_2!$C$22:$C$33,0)","v":{"$error":"#N/A"}},null,{"$f":"OFFSET(N_W_2_2!$G$21,S112,0)","v":{"$error":"#N/A"}},{"$f":"IFERROR(MATCH(D112,Nr_stad!$U$8:$U$60,0),0)","v":0}]
[null,null,null,null,null,null,null,null,null,null,0,"-","-","-",null,null,null,0,{"$f":"MATCH(D113,N_W_2_2!$C$22:$C$33,0)","v":{"$error":"#N/A"}},null,{"$f":"OFFSET(N_W_2_2!$G$21,S113,0)","v":{"$error":"#N/A"}},{"$f":"IFERROR(MATCH(D113,Nr_stad!$U$8:$U$60,0),0)","v":0}]
[null,null,null,null,null,null,null,null,null,null,0,"-","-","-",null,null,null,0,{"$f":"MATCH(D114,N_W_2_2!$C$22:$C$33,0)","v":{"$error":"#N/A"}},null,{"$f":"OFFSET(N_W_2_2!$G$21,S114,0)","v":{"$error":"#N/A"}},{"$f":"IFERROR(MATCH(D114,Nr_stad!$U$8:$U$60,0),0)","v":0}]
[null,null,null,null,null,null,null,null,null,null,0,"-","-","-",null,null,null,0,{"$f":"MATCH(D115,N_W_2_2!$C$22:$C$33,0)","v":{"$error":"#N/A"}},null,{"$f":"OFFSET(N_W_2_2!$G$21,S115,0)","v":{"$error":"#N/A"}},{"$f":"IFERROR(MATCH(D115,Nr_stad!$U$8:$U$60,0),0)","v":0}]
[null,null,null,null,null,null,null,null,null,null,0,"-","-","-",null,null,null,0,{"$f":"MATCH(D116,N_W_2_2!$C$22:$C$33,0)","v":{"$error":"#N/A"}},null,{"$f":"OFFSET(N_W_2_2!$G$21,S116,0)","v":{"$error":"#N/A"}},{"$f":"IFERROR(MATCH(D116,Nr_stad!$U$8:$U$60,0),0)","v":0}]
[null,null,null,null,null,null,null,null,null,null,0,"-","-","-",null,null,null,0,{"$f":"MATCH(D117,N_W_2_2!$C$22:$C$33,0)","v":{"$error":"#N/A"}},null,{"$f":"OFFSET(N_W_2_2!$G$21,S117,0)","v":{"$error":"#N/A"}},{"$f":"IFERROR(MATCH(D117,Nr_stad!$U$8:$U$60,0),0)","v":0}]
[null,null,null,null,null,null,null,null,null,null,0,"-","-","-",null,null,null,0,{"$f":"MATCH(D118,N_W_2_2!$C$22:$C$33,0)","v":{"$error":"#N/A"}},null,{"$f":"OFFSET(N_W_2_2!$G$21,S118,0)","v":{"$error":"#N/A"}},{"$f":"IFERROR(MATCH(D118,Nr_stad!$U$8:$U$60,0),0)","v":0}]
[null,null,null,null,null,null,null,null,null,null,0,"-","-","-",null,null,null,0,{"$f":"MATCH(D119,N_W_2_2!$C$22:$C$33,0)","v":{"$error":"#N/A"}},null,{"$f":"OFFSET(N_W_2_2!$G$21,S119,0)","v":{"$error":"#N/A"}},{"$f":"IFERROR(MATCH(D119,Nr_stad!$U$8:$U$60,0),0)","v":0}]
[null,null,null,null,null,null,null,null,null,null,0,"-","-","-",null,null,null,0,{"$f":"MATCH(D120,N_W_2_2!$C$22:$C$33,0)","v":{"$error":"#N/A"}},null,{"$f":"OFFSET(N_W_2_2!$G$21,S120,0)","v":{"$error":"#N/A"}},{"$f":"IFERROR(MATCH(D120,Nr_stad!$U$8:$U$60,0),0)","v":0}]
[null,null,null,null,null,null,null,null,null,null,0,"-","-","-",null,null,null,0,{"$f":"MATCH(D121,N_W_2_2!$C$22:$C$33,0)","v":{"$error":"#N/A"}},null,{"$f":"OFFSET(N_W_2_2!$G$21,S121,0)","v":{"$error":"#N/A"}},{"$f":"IFERROR(MATCH(D121,Nr_stad!$U$8:$U$60,0),0)","v":0}]
[null,null,null,null,null,null,null,null,null,null,0,"-","-","-",null,null,null,0,{"$f":"MATCH(D122,N_W_2_2!$C$22:$C$33,0)","v":{"$error":"#N/A"}},null,{"$f":"OFFSET(N_W_2_2!$G$21,S122,0)","v":{"$error":"#N/A"}},{"$f":"IFERROR(MATCH(D122,Nr_stad!$U$8:$U$60,0),0)","v":0}]
[null,null,null,null,null,null,null,null,null,null,0,"-","-","-",null,null,null,0,{"$f":"MATCH(D123,N_W_2_2!$C$22:$C$33,0)","v":{"$error":"#N/A"}},null,{"$f":"OFFSET(N_W_2_2!$G$21,S123,0)","v":{"$error":"#N/A"}},{"$f":"IFERROR(MATCH(D123,Nr_stad!$U$8:$U$60,0),0)","v":0}]
[null,null,null,null,null,null,null,null,null,null,0,"-","-","-",null,null,null,0,{"$f":"MATCH(D124,N_W_2_2!$C$22:$C$33,0)","v":{"$error":"#N/A"}},null,{"$f":"OFFSET(N_W_2_2!$G$21,S124,0)","v":{"$error":"#N/A"}},{"$f":"IFERROR(MATCH(D124,Nr_stad!$U$8:$U$60,0),0)","v":0}]
[null,null,null,null,null,null,null,null,null,null,0,"-","-","-",null,null,null,0,{"$f":"MATCH(D125,N_W_2_2!$C$22:$C$33,0)","v":{"$error":"#N/A"}},null,{"$f":"OFFSET(N_W_2_2!$G$21,S125,0)","v":{"$error":"#N/A"}},{"$f":"IFERROR(MATCH(D125,Nr_stad!$U$8:$U$60,0),0)","v":0}]
[null,null,null,null,null,null,null,null,null,null,0,"-","-","-",null,null,null,0,{"$f":"MATCH(D126,N_W_2_2!$C$22:$C$33,0)","v":{"$error":"#N/A"}},null,{"$f":"OFFSET(N_W_2_2!$G$21,S126,0)","v":{"$error":"#N/A"}},{"$f":"IFERROR(MATCH(D126,Nr_stad!$U$8:$U$60,0),0)","v":0}]
[null,null,null,null,null,null,null,null,null,null,0,"-","-","-",null,null,null,0,{"$f":"MATCH(D127,N_W_2_2!$C$22:$C$33,0)","v":{"$error":"#N/A"}},null,{"$f":"OFFSET(N_W_2_2!$G$21,S127,0)","v":{"$error":"#N/A"}},{"$f":"IFERROR(MATCH(D127,Nr_stad!$U$8:$U$60,0),0)","v":0}]
[null,null,null,null,null,null,null,null,null,null,0,"-","-","-",null,null,null,0,{"$f":"MATCH(D128,N_W_2_2!$C$22:$C$33,0)","v":{"$error":"#N/A"}},null,{"$f":"OFFSET(N_W_2_2!$G$21,S128,0)","v":{"$error":"#N/A"}},{"$f":"IFERROR(MATCH(D128,Nr_stad!$U$8:$U$60,0),0)","v":0}]
[null,null,null,null,null,null,null,null,null,null,0,"-","-","-",null,null,null,0,{"$f":"MATCH(D129,N_W_2_2!$C$22:$C$33,0)","v":{"$error":"#N/A"}},null,{"$f":"OFFSET(N_W_2_2!$G$21,S129,0)","v":{"$error":"#N/A"}},{"$f":"IFERROR(MATCH(D129,Nr_stad!$U$8:$U$60,0),0)","v":0}]
[null,null,null,null,null,null,null,null,null,null,0,"-","-","-",null,null,null,0,{"$f":"MATCH(D130,N_W_2_2!$C$22:$C$33,0)","v":{"$error":"#N/A"}},null,{"$f":"OFFSET(N_W_2_2!$G$21,S130,0)","v":{"$error":"#N/A"}},{"$f":"IFERROR(MATCH(D130,Nr_stad!$U$8:$U$60,0),0)","v":0}]
[null,null,null,null,null,null,null,null,null,null,0,"-","-","-",null,null,null,0,{"$f":"MATCH(D131,N_W_2_2!$C$22:$C$33,0)","v":{"$error":"#N/A"}},null,{"$f":"OFFSET(N_W_2_2!$G$21,S131,0)","v":{"$error":"#N/A"}},{"$f":"IFERROR(MATCH(D131,Nr_stad!$U$8:$U$60,0),0)","v":0}]
[null,null,null,null,null,null,null,null,null,null,0,"-","-","-",null,null,null,0,{"$f":"MATCH(D132,N_W_2_2!$C$22:$C$33,0)","v":{"$error":"#N/A"}},null,{"$f":"OFFSET(N_W_2_2!$G$21,S132,0)","v":{"$error":"#N/A"}},{"$f":"IFERROR(MATCH(D132,Nr_stad!$U$8:$U$60,0),0)","v":0}]
[null,null,null,null,null,null,null,null,null,null,0,"-","-","-",null,null,null,0,{"$f":"MATCH(D133,N_W_2_2!$C$22:$C$33,0)","v":{"$error":"#N/A"}},null,{"$f":"OFFSET(N_W_2_2!$G$21,S133,0)","v":{"$error":"#N/A"}},{"$f":"IFERROR(MATCH(D133,Nr_stad!$U$8:$U$60,0),0)","v":0}]
[null,null,null,null,null,null,null,null,null,null,0,"-","-","-",null,null,null,0,{"$f":"MATCH(D134,N_W_2_2!$C$22:$C$33,0)","v":{"$error":"#N/A"}},null,{"$f":"OFFSET(N_W_2_2!$G$21,S134,0)","v":{"$error":"#N/A"}},{"$f":"IFERROR(MATCH(D134,Nr_stad!$U$8:$U$60,0),0)","v":0}]
[null,null,null,null,null,null,null,null,null,null,0,"-","-","-",null,null,null,0,{"$f":"MATCH(D135,N_W_2_2!$C$22:$C$33,0)","v":{"$error":"#N/A"}},null,{"$f":"OFFSET(N_W_2_2!$G$21,S135,0)","v":{"$error":"#N/A"}},{"$f":"IFERROR(MATCH(D135,Nr_stad!$U$8:$U$60,0),0)","v":0}]
[null,null,null,null,null,null,null,null,null,null,0,"-","-","-",null,null,null,0,{"$f":"MATCH(D136,N_W_2_2!$C$22:$C$33,0)","v":{"$error":"#N/A"}},null,{"$f":"OFFSET(N_W_2_2!$G$21,S136,0)","v":{"$error":"#N/A"}},{"$f":"IFERROR(MATCH(D136,Nr_stad!$U$8:$U$60,0),0)","v":0}]
[null,null,null,null,null,null,null,null,null,null,0,"-","-","-",null,null,null,0,{"$f":"MATCH(D137,N_W_2_2!$C$22:$C$33,0)","v":{"$error":"#N/A"}},null,{"$f":"OFFSET(N_W_2_2!$G$21,S137,0)","v":{"$error":"#N/A"}},{"$f":"IFERROR(MATCH(D137,Nr_stad!$U$8:$U$60,0),0)","v":0}]
[null,null,null,"SUMA:",null,null,null,null,{"$f":"SUM(I89:I137)","v":0},"X",{"$f":"SUM(K89:K137)","v":0},{"$f":"SUM(L89:L137)","v":0},"X",{"$f":"SUM(N89:N137)","v":0},null,null,null,{"$error":"#VALUE!"},{"$f":"MATCH(D138,N_W_2_2!$C$22:$C$33,0)","v":{"$error":"#N/A"}},null,{"$f":"OFFSET(N_W_2_2!$G$21,S138,0)","v":{"$error":"#N/A"}},{"$f":"IFERROR(MATCH(D138,Nr_stad!$U$8:$U$60,0),0)","v":0}]
[null,null,null,"Maksymalna liczba krów mamek",null,null,null,null,null,null,null,null,null,{"$f":"SUMIF(D88:F137,N_W_2_2!$C$22,N88:N137)","v":0},null,null,null,0,{"$f":"MATCH(D139,N_W_2_2!$C$22:$C$33,0)","v":{"$error":"#N/A"}},null,{"$f":"OFFSET(N_W_2_2!$G$21,S139,0)","v":{"$error":"#N/A"}},{"$f":"IFERROR(MATCH(D139,Nr_stad!$U$8:$U$60,0),0)","v":0}]
[null,null,null,"Maksymalna liczba opasów > 300 kg",null,null,null,null,null,null,null,null,null,{"$f":"SUMIF(D89:F138,N_W_2_2!$C$33,N89:N138)+SUMIF(D89:F138,N_W_2_2!$C$32,N89:N138)","v":0},null,null,null,0,{"$f":"MATCH(D140,N_W_2_2!$C$22:$C$33,0)","v":{"$error":"#N/A"}},null,{"$f":"OFFSET(N_W_2_2!$G$21,S140,0)","v":{"$error":"#N/A"}}]
[null,null,null,"Wielkości (w m2) posiadanych powierzchni bytowych w pomieszczeniach/budynkach dotyczą łącznie wnioskodawcy i wskazanych innych posiadaczy",null,null,null,null,null,null,"NIE"]
[null,null,"II.4.4.3.","Cielęta utrzymywane pojedynczo - wymiary kojców o bokach zwiększonych o",null,null,null,null,null,null,{"$f":"IF(R23=1,0.2,0.5)","v":0.2}]
[null,null,null," Numer siedziby stada albo Nazwa \nobiektu / sekcji cieląt",null,"Liczba cieląt/kojcy","Maksymalne wymiary cieląt",null,"Wymiary kojców",null,"Minimalne wymiary kojca",null,null,"Minimalna powierzchnia kojców"]
[null,null,null,null,null,null,"wysokość w kłębie","długość ","szerokość","długość ","szerokość","długość ","powierzchnia ",null,null,null,null,null,"długość","szerokość","powierzchnia"]
[null,null,null,null,null,"szt.","m","m","m","m","m","m","m2","m3",null,null,null,null,"m","m"]
[null,null,null,null,null,null,null,null,null,null,{"$f":"G146*N_W_2_2!$G$36","v":0},{"$f":"H146*N_W_2_2!$G$37","v":0},{"$f":"K146*L146","v":0},{"$f":"M146*F146","v":0},null,null,null,{"$f":"SUM(F146:J146)+V146","v":0},null,null,null,{"$f":"IFERROR(MATCH(D146,Nr_stad!$U$8:$U$60,0),0)","v":0}]
[null,null,null,null,null,null,null,null,null,null,{"$f":"G147*N_W_2_2!$G$36","v":0},{"$f":"H147*N_W_2_2!$G$37","v":0},{"$f":"K147*L147","v":0},{"$f":"M147*F147","v":0},null,null,null,{"$f":"SUM(F147:J147)+V147","v":0},null,null,null,{"$f":"IFERROR(MATCH(D147,Nr_stad!$U$8:$U$60,0),0)","v":0}]
[null,null,null,null,null,null,null,null,null,null,{"$f":"G148*N_W_2_2!$G$36","v":0},{"$f":"H148*N_W_2_2!$G$37","v":0},0,0,null,null,null,0,null,null,null,{"$f":"IFERROR(MATCH(D148,Nr_stad!$U$8:$U$60,0),0)","v":0}]
[null,null,null,null,null,null,null,null,null,null,{"$f":"G149*N_W_2_2!$G$36","v":0},{"$f":"H149*N_W_2_2!$G$37","v":0},0,0,null,null,null,0,null,null,null,{"$f":"IFERROR(MATCH(D149,Nr_stad!$U$8:$U$60,0),0)","v":0}]
[null,null,null,null,null,null,null,null,null,null,{"$f":"G150*N_W_2_2!$G$36","v":0},{"$f":"H150*N_W_2_2!$G$37","v":0},0,0,null,null,null,0,null,null,null,{"$f":"IFERROR(MATCH(D150,Nr_stad!$U$8:$U$60,0),0)","v":0}]
[null,null,null,null,null,null,null,null,null,null,{"$f":"G151*N_W_2_2!$G$36","v":0},{"$f":"H151*N_W_2_2!$G$37","v":0},0,0,null,null,null,0,null,null,null,{"$f":"IFERROR(MATCH(D151,Nr_stad!$U$8:$U$60,0),0)","v":0}]
[null,null,null,null,null,null,null,null,null,null,{"$f":"G152*N_W_2_2!$G$36","v":0},{"$f":"H152*N_W_2_2!$G$37","v":0},0,0,null,null,null,0,null,null,null,{"$f":"IFERROR(MATCH(D152,Nr_stad!$U$8:$U$60,0),0)","v":0}]
[null,null,null,null,null,null,null,null,null,null,{"$f":"G153*N_W_2_2!$G$36","v":0},{"$f":"H153*N_W_2_2!$G$37","v":0},0,0,null,null,null,0,null,null,null,{"$f":"IFERROR(MATCH(D153,Nr_stad!$U$8:$U$60,0),0)","v":0}]
[null,null,null,null,null,null,null,null,null,null,{"$f":"G154*N_W_2_2!$G$36","v":0},{"$f":"H154*N_W_2_2!$G$37","v":0},0,0,null,null,null,0,null,null,null,{"$f":"IFERROR(MATCH(D154,Nr_stad!$U$8:$U$60,0),0)","v":0}]
[null,null,null,null,null,null,null,null,null,null,{"$f":"G155*N_W_2_2!$G$36","v":0},{"$f":"H155*N_W_2_2!$G$37","v":0},0,0,null,null,null,0,null,null,null,{"$f":"IFERROR(MATCH(D155,Nr_stad!$U$8:$U$60,0),0)","v":0}]
[null,null,null,null,null,null,null,null,null,null,{"$f":"G156*N_W_2_2!$G$36","v":0},{"$f":"H156*N_W_2_2!$G$37","v":0},0,0,null,null,null,0,null,null,null,{"$f":"IFERROR(MATCH(D156,Nr_stad!$U$8:$U$60,0),0)","v":0}]
[null,null,null,null,null,null,null,null,null,null,{"$f":"G157*N_W_2_2!$G$36","v":0},{"$f":"H157*N_W_2_2!$G$37","v":0},0,0,null,null,null,0,null,null,null,{"$f":"IFERROR(MATCH(D157,Nr_stad!$U$8:$U$60,0),0)","v":0}]
[null,null,null,null,null,null,null,null,null,null,{"$f":"G158*N_W_2_2!$G$36","v":0},{"$f":"H158*N_W_2_2!$G$37","v":0},0,0,null,null,null,0,null,null,null,{"$f":"IFERROR(MATCH(D158,Nr_stad!$U$8:$U$60,0),0)","v":0}]
[null,null,null,null,null,null,null,null,null,null,{"$f":"G159*N_W_2_2!$G$36","v":0},{"$f":"H159*N_W_2_2!$G$37","v":0},0,0,null,null,null,0,null,null,null,{"$f":"IFERROR(MATCH(D159,Nr_stad!$U$8:$U$60,0),0)","v":0}]
[null,null,null,null,null,null,null,null,null,null,{"$f":"G160*N_W_2_2!$G$36","v":0},{"$f":"H160*N_W_2_2!$G$37","v":0},0,0,null,null,null,0,null,null,null,{"$f":"IFERROR(MATCH(D160,Nr_stad!$U$8:$U$60,0),0)","v":0}]
[null,null,null,null,null,null,null,null,null,null,{"$f":"G161*N_W_2_2!$G$36","v":0},{"$f":"H161*N_W_2_2!$G$37","v":0},0,0,null,null,null,0,null,null,null,{"$f":"IFERROR(MATCH(D161,Nr_stad!$U$8:$U$60,0),0)","v":0}]
[null,null,null,null,null,null,null,null,null,null,{"$f":"G162*N_W_2_2!$G$36","v":0},{"$f":"H162*N_W_2_2!$G$37","v":0},0,0,null,null,null,0,null,null,null,{"$f":"IFERROR(MATCH(D162,Nr_stad!$U$8:$U$60,0),0)","v":0}]
[null,null,null,null,null,null,null,null,null,null,{"$f":"G163*N_W_2_2!$G$36","v":0},{"$f":"H163*N_W_2_2!$G$37","v":0},0,0,null,null,null,0,null,null,null,{"$f":"IFERROR(MATCH(D163,Nr_stad!$U$8:$U$60,0),0)","v":0}]
[null,null,null,null,null,null,null,null,null,null,{"$f":"G164*N_W_2_2!$G$36","v":0},{"$f":"H164*N_W_2_2!$G$37","v":0},0,0,null,null,null,0,null,null,null,{"$f":"IFERROR(MATCH(D164,Nr_stad!$U$8:$U$60,0),0)","v":0}]
[null,null,null,null,null,null,null,null,null,null,{"$f":"G165*N_W_2_2!$G$36","v":0},{"$f":"H165*N_W_2_2!$G$37","v":0},0,0,null,null,null,0,null,null,null,{"$f":"IFERROR(MATCH(D165,Nr_stad!$U$8:$U$60,0),0)","v":0}]
[null,null,null,"RAZEM:",null,{"$f":"SUM(F146:F165)","v":0},"X","X","X","X","X","X","X",{"$f":"SUM(N146:N165)","v":0},null,null,null,{"$f":"SUM(F166:J166)+V166","v":0},null,null,null,{"$f":"IFERROR(MATCH(D166,Nr_stad!$U$8:$U$60,0),0)","v":0}]

{"sheet":"Krowy_MIĘSNE_zewn","index":12,"n_rows":92,"n_cols":25,"rows_kept":92,"cut":false,"hidden":false,"merged":[[13,3,13,12],[14,3,14,12],[90,12,90,14],[84,3,84,4],[85,3,85,4],[86,3,86,4],[87,3,87,6],[87,8,87,11],[90,8,90,10],[83,3,83,4],[72,3,72,4],[73,3,73,4],[74,3,74,4],[75,3,75,4],[76,3,76,4],[77,3,77,4],[78,3,78,4],[79,3,79,4],[80,3,80,4],[81,3,81,4],[82,3,82,4],[71,3,71,4],[60,3,60,4],[61,3,61,4],[62,3,62,4],[63,3,63,4],[64,3,64,4],[65,3,65,4],[66,3,66,4],[67,3,67,4],[68,3,68,4],[69,3,69,4],[70,3,70,4],[43,3,43,4],[44,3,44,4],[45,3,45,4],[46,3,46,4],[59,3,59,4],[48,3,48,4],[49,3,49,4],[50,3,50,4],[51,3,51,4],[52,3,52,4],[53,3,53,4],[54,3,54,4],[55,3,55,4],[56,3,56,4],[57,3,57,4],[58,3,58,4],[88,3,88,10],[2,2,2,14],[9,4,9,12],[6,3,6,12],[5,3,5,10],[38,12,39,12],[41,3,41,4],[33,4,33,5],[34,4,34,6],[34,8,34,10],[47,3,47,4],[37,3,37,11],[38,3,39,4],[38,5,38,7],[38,8,38,11],[42,3,42,4],[3,3,3,11],[4,3,4,13],[12,4,12,9],[12,10,12,11],[12,12,12,13],[11,3,11,4],[11,6,11,8],[11,10,11,12],[7,3,7,12]]}
[null,null,null,null,null,null,null,null,null,null,null,null,null,"POWRÓT",null,null,null,null,null,null,null,null,"UWAGI"]
[]
[null,null,"II. Część szczegółowa  "]
[null,null,"II.5.","Dobrostan krów mamek utrzymywanych w systemie otwartym"]
[null,null,null,"Płatność przysługuje do krowy mamki, w odniesieniu do której rolnik określił w IRZ Plus mięsny typ użytkowy, a w przypadku krowy typu użytkowego kombinowanego – mięsny kierunek jej użytkowania. Zgłoszeń tych rolnik dokonuje w terminie do dnia 31 lipca roku, w którym został złożony wniosek o przyznanie płatności dobrostanowej, a w przypadku krów objętych wymogami tego wariantu w trakcie okresu realizacji wymogów w ramach tego wariantu – przed upływem 7 dni od dnia objęcia krowy tymi wymogami. Określenie w IRZ Plus mięsnego typu użytkowania lub mięsnego kierunku użytkowania obejmuje również cielęta, jałówki i opasy o masie ciała do 300 kg.",null,null,null,null,null,null,null,null,null,null,null,null,null,null,false,"☒","☐"]
[null,null,"II.5.1.","Informacja o stadzie krów mięsnych"]
[null,null,null,"System utrzymywania krów mamek, cieląt, jałówek i bydła opasowego o masie ciała do 300 kg typu użytkowego mięsnego lub typu użytkowego kombinowanego o mięsnym kierunku ich użytkowania w gospodarstwie jest zgodny z klasyfikacją przyjętą w rozporządzeniu Ministra Rolnictwa i Rozwoju Wsi z dnia 23 grudnia 2022 r. w sprawie szczegółowego zakresu informacji zawartych w komputerowej bazie danych (Dz.U. z 2023 r. poz. 15)."]
[null,null,null,"Zewnętrzna powierzchnia bytowa na której utrzymywane jest bydło inne niż krowy mamki, cielęta, jałówki i opasy o masie ciała do 300 kg typu użytkowego mięsnego lub typu użytkowego kombinowanego o mięsnym kierunku ich użytkowania jest zgodna z odpowiednimi minimalnymi wymogami dotyczącymi dobrostanu zwierząt, o których mowa w art. 31 ust. 5 lit. b rozporządzenia 2021/2115, określonymi w rozporządzeniu Ministra Rolnictwa i Rozwoju Wsi z dnia 15 lutego 2010 r. w sprawie wymagań i sposobu postępowania przy utrzymywaniu gatunków zwierząt gospodarskich, dla których normy ochrony zostały określone w przepisach Unii Europejskiej, oraz innych odpowiednich obowiązkowych wymogów, o których mowa w art. 31 ust. 5 lit. b rozporządzenia 2021/2115, określonych w rozporządzeniu Ministra Rolnictwa i Rozwoju Wsi z dnia 28 czerwca 2010 r. w sprawie minimalnych warunków utrzymywania gatunków zwierząt gospodarskich innych niż te, dla których normy ochrony zostały określone w przepisach Unii Europejskiej."]
[]
[]
[null,null,null,null,null,null,null,null,null,null,null,null,null,null,null,null,null,null,false,"☒","☐"]
[null,null,null,"(miejscowość i data)",null,null,"(czytelny podpis rolnika)",null,null,null,"(czytelny podpis doradcy)"]
[null,null,null,{"$f":"IF(S13=TRUE,T13,U13)","v":"☒"},"Do planu poprawy dobrostanu zwierząt dołączono szkic gospodarstwa ze wskazanymi działkami ewidencyjnymi, na których są zlokalizowane zewnętrzne powierzchnie bytowe (pastwiska, wybiegi lub okólniki) przeznaczone dla zwierząt objętych wymogami praktyki i wariantu  z uwzględnieniem, jeśli dotyczy, kilku posiadaczy oraz wskazano termin wykorzystania powierzchni zewnętrznych.",null,null,null,null,null,"Termin wykorzystania posiadanych zewnętrznych powierzchni bytowych:",null,null,null,null,null,null,null,true,"☒","☐"]
[null,null,null,"Informacja o spełnianiu odpowiednich minimalnych wymogów:\n"]
[null,null,null,"Spełnienie odpowiednich minimalnych wymogów dotyczących dobrostanu zwierząt ustanowionych zgodnie z art. 31 ust. 5 lit. b rozporządzenia 2021/2115 oraz innych odpowiednich obowiązkowych wymogów dotyczących wielkości zewnętrznych powierzchni bytowych, na których utrzymuje się zwierzęta, wynikających z rozporządzenia Ministra Rolnictwa i Rozwoju Wsi z dnia 28 czerwca 2010 r. w sprawie minimalnych warunków utrzymywania gatunków zwierząt gospodarskich innych niż te, dla których normy ochrony zostały określone w przepisach Unii Europejskiej (Dz. U. z 2019 r. poz. 1966) – dla innych niż krowy mamki, cielęta, jałówki i bydło opasowe o masie ciała do 300 kg w typie użytkowym mięsnym lub w typie użytkowym kombinowanym użytkowanych w kierunku mięsnym, grup technologicznych bydła."]
[]
[]
[]
[]
[]
[]
[]
[]
[]
[]
[null,null,null,null,null,null,null,null,null,null,null,null,null,null,null,null,null,true]
[]
[]
[]
[]
[]
[]
[null,null,null,null,null,null,null,null,null,null,null,null,null,null,null,null,null,null,null,null,{"$f":"I33-F33","v":0},"2019-04-15",null,140,{"$f":"X33-U33","v":140}]
[]
[null,null,null,null,null,null,null,null,null,null,null,null,null,null,null,null,null,null,null,null,null,null,null,6]
[]
[]
[null,null,"II.5.2.","Zapewnienie zewnętrznej powierzchni bytowej (pastwiska, wybiegu lub okólnika) dla krów mamek, cieląt, jałówek i opasów o masie ciała do 300 kg w typie użytkowym mięsnym lub kombinowanym zgłoszonym jako mięsny kierunek użytkowania"]
[null,null,null," Numer siedziby stada albo Oznaczenie zewnętrznej powierzchni bytowej",null,"Zewnętrzna powierzchnia bytowa",null,null,"Kategoria technologiczna",null,null,null,"Wymagana minimalna powierzchnia"]
[null,null,null,null,null,"Dlugość","Szerokość","Pow.","Cielęta","Jałówki","Opasy do 300 kg ","Krowy\nmamki",null,null,null,null,null,"nr stad","licz"]
[null,null,null,null,null,"m","m","m2","szt","szt","szt","sz","m2"]
[null,null,null,null,null,null,null,{"$f":"IFERROR(F42*G42,\"-\")","v":0},null,null,null,null,{"$f":"I42*N_W_2_3!$I$12+J42*N_W_2_3!$I$13+K42*N_W_2_3!$I$14+L42*N_W_2_3!$I$15","v":0},null,null,null,null,{"$f":"IFERROR(MATCH(D42,Nr_stad!$U$8:$U$60,0),0)","v":0},{"$f":"SUM(F42:M42)+R42","v":0}]
[null,null,null,null,null,null,null,0,null,null,null,null,{"$f":"I43*N_W_2_3!$I$12+J43*N_W_2_3!$I$13+K43*N_W_2_3!$I$14+L43*N_W_2_3!$I$15","v":0},null,null,null,null,{"$f":"IFERROR(MATCH(D43,Nr_stad!$U$8:$U$60,0),0)","v":0},{"$f":"SUM(F43:M43)+R43","v":0}]
[null,null,null,null,null,null,null,0,null,null,null,null,{"$f":"I44*N_W_2_3!$I$12+J44*N_W_2_3!$I$13+K44*N_W_2_3!$I$14+L44*N_W_2_3!$I$15","v":0},null,null,null,null,{"$f":"IFERROR(MATCH(D44,Nr_stad!$U$8:$U$60,0),0)","v":0},0]
[null,null,null,null,null,null,null,0,null,null,null,null,{"$f":"I45*N_W_2_3!$I$12+J45*N_W_2_3!$I$13+K45*N_W_2_3!$I$14+L45*N_W_2_3!$I$15","v":0},null,null,null,null,{"$f":"IFERROR(MATCH(D45,Nr_stad!$U$8:$U$60,0),0)","v":0},0]
[null,null,null,null,null,null,null,{"$f":"IFERROR(F46*G46,\"-\")","v":0},null,null,null,null,{"$f":"I46*N_W_2_3!$I$12+J46*N_W_2_3!$I$13+K46*N_W_2_3!$I$14+L46*N_W_2_3!$I$15","v":0},null,null,null,null,{"$f":"IFERROR(MATCH(D46,Nr_stad!$U$8:$U$60,0),0)","v":0},0]
[null,null,null,null,null,null,null,0,null,null,null,null,{"$f":"I47*N_W_2_3!$I$12+J47*N_W_2_3!$I$13+K47*N_W_2_3!$I$14+L47*N_W_2_3!$I$15","v":0},null,null,null,null,{"$f":"IFERROR(MATCH(D47,Nr_stad!$U$8:$U$60,0),0)","v":0},0]
[null,null,null,null,null,null,null,0,null,null,null,null,{"$f":"I48*N_W_2_3!$I$12+J48*N_W_2_3!$I$13+K48*N_W_2_3!$I$14+L48*N_W_2_3!$I$15","v":0},null,null,null,null,{"$f":"IFERROR(MATCH(D48,Nr_stad!$U$8:$U$60,0),0)","v":0},0]
[null,null,null,null,null,null,null,0,null,null,null,null,{"$f":"I49*N_W_2_3!$I$12+J49*N_W_2_3!$I$13+K49*N_W_2_3!$I$14+L49*N_W_2_3!$I$15","v":0},null,null,null,null,{"$f":"IFERROR(MATCH(D49,Nr_stad!$U$8:$U$60,0),0)","v":0},0]
[null,null,null,null,null,null,null,0,null,null,null,null,{"$f":"I50*N_W_2_3!$I$12+J50*N_W_2_3!$I$13+K50*N_W_2_3!$I$14+L50*N_W_2_3!$I$15","v":0},null,null,null,null,{"$f":"IFERROR(MATCH(D50,Nr_stad!$U$8:$U$60,0),0)","v":0},0]
[null,null,null,null,null,null,null,0,null,null,null,null,{"$f":"I51*N_W_2_3!$I$12+J51*N_W_2_3!$I$13+K51*N_W_2_3!$I$14+L51*N_W_2_3!$I$15","v":0},null,null,null,null,{"$f":"IFERROR(MATCH(D51,Nr_stad!$U$8:$U$60,0),0)","v":0},0]
[null,null,null,null,null,null,null,0,null,null,null,null,{"$f":"I52*N_W_2_3!$I$12+J52*N_W_2_3!$I$13+K52*N_W_2_3!$I$14+L52*N_W_2_3!$I$15","v":0},null,null,null,null,{"$f":"IFERROR(MATCH(D52,Nr_stad!$U$8:$U$60,0),0)","v":0},0]
[null,null,null,null,null,null,null,0,null,null,null,null,{"$f":"I53*N_W_2_3!$I$12+J53*N_W_2_3!$I$13+K53*N_W_2_3!$I$14+L53*N_W_2_3!$I$15","v":0},null,null,null,null,{"$f":"IFERROR(MATCH(D53,Nr_stad!$U$8:$U$60,0),0)","v":0},0]
[null,null,null,null,null,null,null,0,null,null,null,null,{"$f":"I54*N_W_2_3!$I$12+J54*N_W_2_3!$I$13+K54*N_W_2_3!$I$14+L54*N_W_2_3!$I$15","v":0},null,null,null,null,{"$f":"IFERROR(MATCH(D54,Nr_stad!$U$8:$U$60,0),0)","v":0},0]
[null,null,null,null,null,null,null,0,null,null,null,null,{"$f":"I55*N_W_2_3!$I$12+J55*N_W_2_3!$I$13+K55*N_W_2_3!$I$14+L55*N_W_2_3!$I$15","v":0},null,null,null,null,{"$f":"IFERROR(MATCH(D55,Nr_stad!$U$8:$U$60,0),0)","v":0},0]
[null,null,null,null,null,null,null,0,null,null,null,null,{"$f":"I56*N_W_2_3!$I$12+J56*N_W_2_3!$I$13+K56*N_W_2_3!$I$14+L56*N_W_2_3!$I$15","v":0},null,null,null,null,{"$f":"IFERROR(MATCH(D56,Nr_stad!$U$8:$U$60,0),0)","v":0},0]
[null,null,null,null,null,null,null,0,null,null,null,null,{"$f":"I57*N_W_2_3!$I$12+J57*N_W_2_3!$I$13+K57*N_W_2_3!$I$14+L57*N_W_2_3!$I$15","v":0},null,null,null,null,{"$f":"IFERROR(MATCH(D57,Nr_stad!$U$8:$U$60,0),0)","v":0},0]
[null,null,null,null,null,null,null,0,null,null,null,null,{"$f":"I58*N_W_2_3!$I$12+J58*N_W_2_3!$I$13+K58*N_W_2_3!$I$14+L58*N_W_2_3!$I$15","v":0},null,null,null,null,{"$f":"IFERROR(MATCH(D58,Nr_stad!$U$8:$U$60,0),0)","v":0},0]
[null,null,null,null,null,null,null,0,null,null,null,null,{"$f":"I59*N_W_2_3!$I$12+J59*N_W_2_3!$I$13+K59*N_W_2_3!$I$14+L59*N_W_2_3!$I$15","v":0},null,null,null,null,{"$f":"IFERROR(MATCH(D59,Nr_stad!$U$8:$U$60,0),0)","v":0},0]
[null,null,null,null,null,null,null,0,null,null,null,null,{"$f":"I60*N_W_2_3!$I$12+J60*N_W_2_3!$I$13+K60*N_W_2_3!$I$14+L60*N_W_2_3!$I$15","v":0},null,null,null,null,{"$f":"IFERROR(MATCH(D60,Nr_stad!$U$8:$U$60,0),0)","v":0},0]
[null,null,null,null,null,null,null,0,null,null,null,null,{"$f":"I61*N_W_2_3!$I$12+J61*N_W_2_3!$I$13+K61*N_W_2_3!$I$14+L61*N_W_2_3!$I$15","v":0},null,null,null,null,{"$f":"IFERROR(MATCH(D61,Nr_stad!$U$8:$U$60,0),0)","v":0},0]
[null,null,null,null,null,null,null,0,null,null,null,null,{"$f":"I62*N_W_2_3!$I$12+J62*N_W_2_3!$I$13+K62*N_W_2_3!$I$14+L62*N_W_2_3!$I$15","v":0},null,null,null,null,{"$f":"IFERROR(MATCH(D62,Nr_stad!$U$8:$U$60,0),0)","v":0},0]
[null,null,null,null,null,null,null,0,null,null,null,null,{"$f":"I63*N_W_2_3!$I$12+J63*N_W_2_3!$I$13+K63*N_W_2_3!$I$14+L63*N_W_2_3!$I$15","v":0},null,null,null,null,{"$f":"IFERROR(MATCH(D63,Nr_stad!$U$8:$U$60,0),0)","v":0},0]
[null,null,null,null,null,null,null,0,null,null,null,null,{"$f":"I64*N_W_2_3!$I$12+J64*N_W_2_3!$I$13+K64*N_W_2_3!$I$14+L64*N_W_2_3!$I$15","v":0},null,null,null,null,{"$f":"IFERROR(MATCH(D64,Nr_stad!$U$8:$U$60,0),0)","v":0},0]
[null,null,null,null,null,null,null,0,null,null,null,null,{"$f":"I65*N_W_2_3!$I$12+J65*N_W_2_3!$I$13+K65*N_W_2_3!$I$14+L65*N_W_2_3!$I$15","v":0},null,null,null,null,{"$f":"IFERROR(MATCH(D65,Nr_stad!$U$8:$U$60,0),0)","v":0},0]
[null,null,null,null,null,null,null,0,null,null,null,null,{"$f":"I66*N_W_2_3!$I$12+J66*N_W_2_3!$I$13+K66*N_W_2_3!$I$14+L66*N_W_2_3!$I$15","v":0},null,null,null,null,{"$f":"IFERROR(MATCH(D66,Nr_stad!$U$8:$U$60,0),0)","v":0},0]
[null,null,null,null,null,null,null,0,null,null,null,null,{"$f":"I67*N_W_2_3!$I$12+J67*N_W_2_3!$I$13+K67*N_W_2_3!$I$14+L67*N_W_2_3!$I$15","v":0},null,null,null,null,{"$f":"IFERROR(MATCH(D67,Nr_stad!$U$8:$U$60,0),0)","v":0},0]
[null,null,null,null,null,null,null,0,null,null,null,null,{"$f":"I68*N_W_2_3!$I$12+J68*N_W_2_3!$I$13+K68*N_W_2_3!$I$14+L68*N_W_2_3!$I$15","v":0},null,null,null,null,{"$f":"IFERROR(MATCH(D68,Nr_stad!$U$8:$U$60,0),0)","v":0},0]
[null,null,null,null,null,null,null,0,null,null,null,null,{"$f":"I69*N_W_2_3!$I$12+J69*N_W_2_3!$I$13+K69*N_W_2_3!$I$14+L69*N_W_2_3!$I$15","v":0},null,null,null,null,{"$f":"IFERROR(MATCH(D69,Nr_stad!$U$8:$U$60,0),0)","v":0},0]
[null,null,null,null,null,null,null,0,null,null,null,null,{"$f":"I70*N_W_2_3!$I$12+J70*N_W_2_3!$I$13+K70*N_W_2_3!$I$14+L70*N_W_2_3!$I$15","v":0},null,null,null,null,{"$f":"IFERROR(MATCH(D70,Nr_stad!$U$8:$U$60,0),0)","v":0},0]
[null,null,null,null,null,null,null,0,null,null,null,null,{"$f":"I71*N_W_2_3!$I$12+J71*N_W_2_3!$I$13+K71*N_W_2_3!$I$14+L71*N_W_2_3!$I$15","v":0},null,null,null,null,{"$f":"IFERROR(MATCH(D71,Nr_stad!$U$8:$U$60,0),0)","v":0},0]
[null,null,null,null,null,null,null,0,null,null,null,null,{"$f":"I72*N_W_2_3!$I$12+J72*N_W_2_3!$I$13+K72*N_W_2_3!$I$14+L72*N_W_2_3!$I$15","v":0},null,null,null,null,{"$f":"IFERROR(MATCH(D72,Nr_stad!$U$8:$U$60,0),0)","v":0},0]
[null,null,null,null,null,null,null,0,null,null,null,null,{"$f":"I73*N_W_2_3!$I$12+J73*N_W_2_3!$I$13+K73*N_W_2_3!$I$14+L73*N_W_2_3!$I$15","v":0},null,null,null,null,{"$f":"IFERROR(MATCH(D73,Nr_stad!$U$8:$U$60,0),0)","v":0},0]
[null,null,null,null,null,null,null,0,null,null,null,null,{"$f":"I74*N_W_2_3!$I$12+J74*N_W_2_3!$I$13+K74*N_W_2_3!$I$14+L74*N_W_2_3!$I$15","v":0},null,null,null,null,{"$f":"IFERROR(MATCH(D74,Nr_stad!$U$8:$U$60,0),0)","v":0},0]
[null,null,null,null,null,null,null,0,null,null,null,null,{"$f":"I75*N_W_2_3!$I$12+J75*N_W_2_3!$I$13+K75*N_W_2_3!$I$14+L75*N_W_2_3!$I$15","v":0},null,null,null,null,{"$f":"IFERROR(MATCH(D75,Nr_stad!$U$8:$U$60,0),0)","v":0},0]
[null,null,null,null,null,null,null,0,null,null,null,null,{"$f":"I76*N_W_2_3!$I$12+J76*N_W_2_3!$I$13+K76*N_W_2_3!$I$14+L76*N_W_2_3!$I$15","v":0},null,null,null,null,{"$f":"IFERROR(MATCH(D76,Nr_stad!$U$8:$U$60,0),0)","v":0},0]
[null,null,null,null,null,null,null,0,null,null,null,null,{"$f":"I77*N_W_2_3!$I$12+J77*N_W_2_3!$I$13+K77*N_W_2_3!$I$14+L77*N_W_2_3!$I$15","v":0},null,null,null,null,{"$f":"IFERROR(MATCH(D77,Nr_stad!$U$8:$U$60,0),0)","v":0},0]
[null,null,null,null,null,null,null,0,null,null,null,null,{"$f":"I78*N_W_2_3!$I$12+J78*N_W_2_3!$I$13+K78*N_W_2_3!$I$14+L78*N_W_2_3!$I$15","v":0},null,null,null,null,{"$f":"IFERROR(MATCH(D78,Nr_stad!$U$8:$U$60,0),0)","v":0},0]
[null,null,null,null,null,null,null,0,null,null,null,null,{"$f":"I79*N_W_2_3!$I$12+J79*N_W_2_3!$I$13+K79*N_W_2_3!$I$14+L79*N_W_2_3!$I$15","v":0},null,null,null,null,{"$f":"IFERROR(MATCH(D79,Nr_stad!$U$8:$U$60,0),0)","v":0},0]
[null,null,null,null,null,null,null,0,null,null,null,null,{"$f":"I80*N_W_2_3!$I$12+J80*N_W_2_3!$I$13+K80*N_W_2_3!$I$14+L80*N_W_2_3!$I$15","v":0},null,null,null,null,{"$f":"IFERROR(MATCH(D80,Nr_stad!$U$8:$U$60,0),0)","v":0},0]
[null,null,null,null,null,null,null,0,null,null,null,null,{"$f":"I81*N_W_2_3!$I$12+J81*N_W_2_3!$I$13+K81*N_W_2_3!$I$14+L81*N_W_2_3!$I$15","v":0},null,null,null,null,{"$f":"IFERROR(MATCH(D81,Nr_stad!$U$8:$U$60,0),0)","v":0},0]
[null,null,null,null,null,null,null,0,null,null,null,null,{"$f":"I82*N_W_2_3!$I$12+J82*N_W_2_3!$I$13+K82*N_W_2_3!$I$14+L82*N_W_2_3!$I$15","v":0},null,null,null,null,{"$f":"IFERROR(MATCH(D82,Nr_stad!$U$8:$U$60,0),0)","v":0},0]
[null,null,null,null,null,null,null,0,null,null,null,null,{"$f":"I83*N_W_2_3!$I$12+J83*N_W_2_3!$I$13+K83*N_W_2_3!$I$14+L83*N_W_2_3!$I$15","v":0},null,null,null,null,{"$f":"IFERROR(MATCH(D83,Nr_stad!$U$8:$U$60,0),0)","v":0},0]
[null,null,null,null,null,null,null,0,null,null,null,null,{"$f":"I84*N_W_2_3!$I$12+J84*N_W_2_3!$I$13+K84*N_W_2_3!$I$14+L84*N_W_2_3!$I$15","v":0},null,null,null,null,{"$f":"IFERROR(MATCH(D84,Nr_stad!$U$8:$U$60,0),0)","v":0},0]
[null,null,null,null,null,null,null,0,null,null,null,null,{"$f":"I85*N_W_2_3!$I$12+J85*N_W_2_3!$I$13+K85*N_W_2_3!$I$14+L85*N_W_2_3!$I$15","v":0},null,null,null,null,{"$f":"IFERROR(MATCH(D85,Nr_stad!$U$8:$U$60,0),0)","v":0},0]
[null,null,null,null,null,null,null,0,null,null,null,null,{"$f":"I86*N_W_2_3!$I$12+J86*N_W_2_3!$I$13+K86*N_W_2_3!$I$14+L86*N_W_2_3!$I$15","v":0},null,null,null,null,{"$f":"IFERROR(MATCH(D86,Nr_stad!$U$8:$U$60,0),0)","v":0},0]
[null,null,null,null,null,null,null,0,null,null,null,null,{"$f":"I87*N_W_2_3!$I$12+J87*N_W_2_3!$I$13+K87*N_W_2_3!$I$14+L87*N_W_2_3!$I$15","v":0},null,null,null,null,{"$f":"IFERROR(MATCH(D87,Nr_stad!$U$8:$U$60,0),0)","v":0},0]
[null,null,null,"RAZEM:",null,null,null,{"$f":"SUM(H42:H87)","v":0},"RAZEM:",null,null,null,{"$f":"SUM(M42:M87)","v":0},null,null,null,null,0,0]
[null,null,null,"Wielkości (w m2) posiadanych zewnętrznych powierzchni bytowych dotyczą łącznie wnioskodawcy i wskazanych innych posiadaczy",null,null,null,null,null,null,null,"NIE"]
[]
[null,null,null,null,null,null,null,null,null,null,null,null,null,null,null,null,null,"NIE"]
[null,null,null,null,null,null,null,null,null,null,null,null,null,null,null,null,null,"TAK"]

{"sheet":"Opasy_pow","index":13,"n_rows":166,"n_cols":25,"rows_kept":166,"cut":false,"hidden":false,"merged":[[162,3,162,4],[163,3,163,4],[164,3,164,4],[165,3,165,4],[141,3,141,9],[156,3,156,4],[157,3,157,4],[158,3,158,4],[159,3,159,4],[160,3,160,4],[161,3,161,4],[150,3,150,4],[151,3,151,4],[152,3,152,4],[153,3,153,4],[154,3,154,4],[155,3,155,4],[143,20,144,20],[145,3,145,4],[146,3,146,4],[147,3,147,4],[148,3,148,4],[149,3,149,4],[142,3,144,4],[142,5,143,5],[142,6,142,7],[142,8,142,9],[142,10,142,12],[142,13,143,13],[135,3,135,5],[135,6,135,7],[136,3,136,5],[136,6,136,7],[137,3,137,5],[137,6,137,7],[138,3,138,7],[139,3,139,12],[140,3,140,12],[132,3,132,5],[132,6,132,7],[133,3,133,5],[133,6,133,7],[134,3,134,5],[134,6,134,7],[129,3,129,5],[129,6,129,7],[130,3,130,5],[130,6,130,7],[131,3,131,5],[131,6,131,7],[126,3,126,5],[126,6,126,7],[127,3,127,5],[127,6,127,7],[128,3,128,5],[128,6,128,7],[123,3,123,5],[123,6,123,7],[124,3,124,5],[124,6,124,7],[125,3,125,5],[125,6,125,7],[120,3,120,5],[120,6,120,7],[121,3,121,5],[121,6,121,7],[122,3,122,5],[122,6,122,7],[117,3,117,5],[117,6,117,7],[118,3,118,5],[118,6,118,7],[119,3,119,5],[119,6,119,7],[114,3,114,5],[114,6,114,7],[115,3,115,5],[115,6,115,7],[116,3,116,5],[116,6,116,7],[111,3,111,5],[111,6,111,7],[112,3,112,5],[112,6,112,7],[113,3,113,5],[113,6,113,7],[108,3,108,5],[108,6,108,7],[109,3,109,5],[109,6,109,7],[110,3,110,5],[110,6,110,7],[105,3,105,5],[105,6,105,7],[106,3,106,5],[106,6,106,7],[107,3,107,5],[107,6,107,7],[102,3,102,5],[102,6,102,7],[103,3,103,5],[103,6,103,7],[104,3,104,5],[104,6,104,7],[99,3,99,5],[99,6,99,7],[100,3,100,5],[100,6,100,7],[101,3,101,5],[101,6,101,7],[96,3,96,5],[96,6,96,7],[97,3,97,5],[97,6,97,7],[98,3,98,5],[98,6,98,7],[93,3,93,5],[93,6,93,7],[94,3,94,5],[94,6,94,7],[95,3,95,5],[95,6,95,7],[83,3,83,9],[90,3,90,5],[90,6,90,7],[91,3,91,5],[91,6,91,7],[92,3,92,5],[92,6,92,7],[86,18,87,18],[86,20,87,20],[88,3,88,5],[88,6,88,7],[89,3,89,5],[89,6,89,7],[84,3,87,5],[84,6,84,7],[84,8,84,10],[84,11,86,11],[84,12,86,12],[84,13,86,13],[85,6,87,7],[85,8,86,8],[85,9,86,9],[85,10,86,10],[80,3,80,4],[80,11,80,12],[81,3,81,6],[81,8,81,10],[81,11,81,12],[77,3,77,4],[77,11,77,12],[78,3,78,4],[78,11,78,12],[79,3,79,4],[79,11,79,12],[74,3,74,4],[74,11,74,12],[75,3,75,4],[75,11,75,12],[76,3,76,4],[76,11,76,12],[71,3,71,4],[71,11,71,12],[72,3,72,4],[72,11,72,12],[73,3,73,4],[73,11,73,12],[68,3,68,4],[68,11,68,12],[69,3,69,4],[69,11,69,12],[70,3,70,4],[70,11,70,12],[65,3,65,4],[65,11,65,12],[66,3,66,4],[66,11,66,12],[67,3,67,4],[67,11,67,12],[62,3,62,4],[62,11,62,12],[63,3,63,4],[63,11,63,12],[64,3,64,4],[64,11,64,12],[59,3,59,4],[59,11,59,12],[60,3,60,4],[60,11,60,12],[61,3,61,4],[61,11,61,12],[56,3,56,4],[56,11,56,12],[57,3,57,4],[57,11,57,12],[58,3,58,4],[58,11,58,12],[53,3,53,4],[53,11,53,12],[54,3,54,4],[54,11,54,12],[55,3,55,4],[55,11,55,12],[50,3,50,4],[50,11,50,12],[51,3,51,4],[51,11,51,12],[52,3,52,4],[52,11,52,12],[47,3,47,4],[47,11,47,12],[48,3,48,4],[48,11,48,12],[49,3,49,4],[49,11,49,12],[44,3,44,4],[44,11,44,12],[45,3,45,4],[45,11,45,12],[46,3,46,4],[46,11,46,12],[41,3,41,4],[41,11,41,12],[42,3,42,4],[42,11,42,12],[43,3,43,4],[43,11,43,12],[38,3,38,4],[38,11,38,12],[39,3,39,4],[39,11,39,12],[40,3,40,4],[40,11,40,12],[34,11,34,12],[35,3,35,4],[35,11,35,12],[36,3,36,4],[36,11,36,12],[37,3,37,4],[37,11,37,12],[27,4,27,5],[30,3,30,11],[31,3,31,11],[32,3,33,4],[32,5,32,7],[32,8,32,10],[32,11,33,12],[25,3,25,13],[26,3,26,13],[28,3,28,4],[28,6,28,8],[28,10,28,12],[2,2,2,14],[5,3,5,7],[19,4,19,12],[20,4,20,5],[21,4,21,13],[22,3,22,13],[23,4,23,12],[24,4,24,12],[17,4,17,13],[18,4,18,12],[6,3,6,13],[7,3,7,13],[8,3,8,13],[10,3,10,4],[10,6,10,8],[10,10,10,12],[3,3,3,4],[3,5,3,13],[4,4,4,13]]}
[null,null,null,null,null,null,null,null,null,null,null,null,null,"POWRÓT",null,null,null,null,null,null,null,null,"UWAGI"]
[]
[null,null,"II. Część szczegółowa  "]
[null,null,"II.6.","Dobrostan opasów",null,{"$f":"IF(AND(Info_2!$R$11,Info_2!$R$13)=TRUE,\"Nie dotyczy opasów i cieląt ujętych w wariancie 4. Dobrostan krów mamek\",\"\")","v":""}]
[null,null,null,{"$f":"IF(R5=TRUE,S18,T18)","v":"☐"},"Rolnik zgłasza w IRZ Plus przeznaczenie zwierzęcia do opasu w terminie do dnia 31 lipca roku, w którym został złożony wniosek o przyznanie płatności dobrostanowej, a w przypadku opasów objętych wymogami tego wariantu w trakcie okresu realizacji wymogów w ramach tego wariantu – przed upływem 7 dni od dnia objęcia opasa tymi wymogami. Rolnik wskazuje przeznaczenie do opasu poprzez wskazanie kierunku użytkowania tego bydła jako: mięsno-opasowy lub mleczno-opasowy lub opasowy.",null,null,null,null,null,null,null,null,null,null,null,null,false]
[null,null,"II.6.1.","Informacja o stadzie opasów"]
[null,null,null,"System utrzymywania opasów w gospodarstwie jest zgodny z klasyfikacją przyjętą w rozporządzeniu Ministra Rolnictwa i Rozwoju Wsi z dnia 23 grudnia 2022 r. w sprawie szczegółowego zakresu informacji zawartych w komputerowej bazie danych (Dz.U. z 2023 r. poz. 15), z zaznaczeniem utrzymywania tych zwierząt na ściółce.",null,null,null,null,null,null,null,null,null,null,null,null,null,null,null,null,null,null,"Uzgodnienia z MRiRW w dniu 14.03.23"]
[null,null,"II.6.2.","Informacja o spełnianiu odpowiednich minimalnych wymogów:"]
[null,null,null,"Powierzchnia bytowa na której utrzymywane jest bydło inne niż opasy jest zgodna z odpowiednimi minimalnymi wymogami dotyczącymi dobrostanu zwierząt, o których mowa w art. 31 ust. 5 lit. b rozporządzenia 2021/2115, określonymi w rozporządzeniu Ministra Rolnictwa i Rozwoju Wsi z dnia 15 lutego 2010 r. w sprawie wymagań i sposobu postępowania przy utrzymywaniu gatunków zwierząt gospodarskich, dla których normy ochrony zostały określone w przepisach Unii Europejskiej, oraz innych odpowiednich obowiązkowych wymogów, o których mowa w art. 31 ust. 5 lit. b rozporządzenia 2021/2115, określonych w rozporządzeniu Ministra Rolnictwa i Rozwoju Wsi z dnia 28 czerwca 2010 r. w sprawie minimalnych warunków utrzymywania gatunków zwierząt gospodarskich innych niż te, dla których normy ochrony zostały określone w przepisach Unii Europejskiej.",null,null,null,null,null,null,null,null,null,null,null,null,null,null,null,null,null,null,"Uzgodnienia z MRiRW w dniu 14.03.23"]
[]
[null,null,null,"(miejscowość i data)",null,null,"(czytelny podpis rolnika)",null,null,null,"(czytelny podpis doradcy)"]
[]
[]
[null,null,null,null,null,null,null,null,null,null,null,null,null,null,null,null,null,2]
[]
[null,null,"II.6.3.","System produkcji gospodarstwie "]
[null,null,null,"Ściółka:"]
[null,null,null,{"$f":"IF(R18=TRUE,S18,T18)","v":"☐"},"Pomieszczenie/budynek dostosowane do stosowania ściółki",null,null,null,null,null,null,null,null,null,null,null,null,false,"☒","☐",null,null,"Uzgodnienia z MRiRW w dniu 14.03.23"]
[null,null,null,"Wybieg:"]
[null,null,null,{"$f":"IF(R20=TRUE,S20,T20)","v":"☐"},"Gospodarstwo przystosowane do zapewnienia wybiegu",null,null,null,null,null,null,null,null,null,null,null,null,false,"☒","☐",null,null,"Uzgodnienia z MRiRW w dniu 14.03.23"]
[]
[null,null,null,null,null,null,null,null,null,null,null,null,null,null,null,null,null,true,"☒"]
[null,null,null,"Cielętom, opasom utrzymywanym grupowo bez uwięzi wolnostanowiskowo zapewnia się zwiększoną o co najmniej:",null,null,null,null,null,null,null,null,null,null,null,null,null,1,"☒","☐"]
[null,null,null,{"$f":"IF($R$23=1,$S$23,$T$23)","v":"☒"},"20% powierzchnię bytową w pomieszczeniach/budynkach "]
[null,null,null,{"$f":"IF($R$23=2,$S$23,$T$23)","v":"☐"},"50% powierzchnię bytową w pomieszczeniach/budynkach "]
[null,null,{"$f":"IF(R26=TRUE,S26,T26)","v":"☐"},"Do planu poprawy dobrostanu zwierząt dołączono szkic obiektów ze wskazaniem pomieszczeń/budynków, w których utrzymywane są zwierzęta z uwzględnieniem, jeśli dotyczy, kilku  posiadaczy wraz ze wskazanymi sekcjami, w których utrzymywane są opasy.",null,null,null,null,null,null,null,null,null,null,null,null,null,false,"☒","☐"]
[null,null,{"$f":"IF(R27=TRUE,S26,T26)","v":"☒"},"Do planu poprawy dobrostanu zwierząt dołączono szkic gospodarstwa ze wskazanymi działkami ewidencyjnymi, na których są zlokalizowane zewnętrzne powierzchnie bytowe (pastwiska, wybiegi lub okólniki) przeznaczone dla zwierząt objętych wymogami praktyki i wariantu. Rolnik który ubiega się o przyznanie płatności za zapewnienie wybiegu składa do ARiMR, na formularzu udostępnionym na stronie internetowej ARiMR rejestr wybiegu.",null,null,null,null,null,null,null,null,null,null,null,null,null,true,null,null,null,"2019-04-15","Uzgodnienia z MRiRW w dniu 14.03.23",140,{"$f":"X27-U27","v":140}]
[]
[null,null,null,"(miejscowość i data)",null,null,"(czytelny podpis rolnika)",null,null,null,"(czytelny podpis doradcy)",null,null,null,null,null,null,null,null,null,null,null,null,6]
[]
[null,null,"II.6.4.","Zwiększona powierzchnia w  pomieszczeniach/budynkach:"]
[]
[]
[null,null,null,null,null,null,null,null,null,null,null,null,null,null,null,null,null,"nr stad","długość","szerokość","powierzchnia"]
[null,null,null,null,null,null,null,null,null,null,null,null,null,null,null,null,null,null,"m","m","m2"]
[null,null,null,null,null,null,null,null,null,null,null,null,null,null,null,null,null,{"$f":"SUM(F36:M36)+V36","v":0},{"$f":"N_W_2_2!$G$17","v":2.1},{"$f":"N_W_2_2!$G$18","v":1.1000000000000001},{"$f":"N_W_2_2!$G$19","v":4},{"$f":"IFERROR(MATCH(D36,Nr_stad!$U$8:$U$60,0),0)","v":0}]
[null,null,null,null,null,null,null,null,null,null,null,null,null,null,null,null,null,{"$f":"SUM(F37:M37)+V37","v":0},{"$f":"SUM(F37:M37)+R37","v":0},null,null,{"$f":"IFERROR(MATCH(D37,Nr_stad!$U$8:$U$60,0),0)","v":0}]
[null,null,null,null,null,null,null,null,null,null,null,null,null,null,null,null,null,0,0,null,null,{"$f":"IFERROR(MATCH(D38,Nr_stad!$U$8:$U$60,0),0)","v":0}]
[null,null,null,null,null,null,null,null,null,null,null,null,null,null,null,null,null,0,{"$f":"SUM(F39:M39)+R39","v":0},null,null,{"$f":"IFERROR(MATCH(D39,Nr_stad!$U$8:$U$60,0),0)","v":0}]
[null,null,null,null,null,null,null,null,null,null,null,null,null,null,null,null,null,0,0,null,null,{"$f":"IFERROR(MATCH(D40,Nr_stad!$U$8:$U$60,0),0)","v":0}]
[null,null,null,null,null,null,null,null,null,null,null,null,null,null,null,null,null,0,0,null,null,{"$f":"IFERROR(MATCH(D41,Nr_stad!$U$8:$U$60,0),0)","v":0}]
[null,null,null,null,null,null,null,null,null,null,null,null,null,null,null,null,null,0,0,null,null,{"$f":"IFERROR(MATCH(D42,Nr_stad!$U$8:$U$60,0),0)","v":0}]
[null,null,null,null,null,null,null,null,null,null,null,null,null,null,null,null,null,0,0,null,null,{"$f":"IFERROR(MATCH(D43,Nr_stad!$U$8:$U$60,0),0)","v":0}]
[null,null,null,null,null,null,null,null,null,null,null,null,null,null,null,null,null,0,0,null,null,{"$f":"IFERROR(MATCH(D44,Nr_stad!$U$8:$U$60,0),0)","v":0}]
[null,null,null,null,null,null,null,null,null,null,null,null,null,null,null,null,null,0,0,null,null,{"$f":"IFERROR(MATCH(D45,Nr_stad!$U$8:$U$60,0),0)","v":0}]
[null,null,null,null,null,null,null,null,null,null,null,null,null,null,null,null,null,0,0,null,null,{"$f":"IFERROR(MATCH(D46,Nr_stad!$U$8:$U$60,0),0)","v":0}]
[null,null,null,null,null,null,null,null,null,null,null,null,null,null,null,null,null,0,0,null,null,{"$f":"IFERROR(MATCH(D47,Nr_stad!$U$8:$U$60,0),0)","v":0}]
[null,null,null,null,null,null,null,null,null,null,null,null,null,null,null,null,null,0,0,null,null,{"$f":"IFERROR(MATCH(D48,Nr_stad!$U$8:$U$60,0),0)","v":0}]
[null,null,null,null,null,null,null,null,null,null,null,null,null,null,null,null,null,0,0,null,null,{"$f":"IFERROR(MATCH(D49,Nr_stad!$U$8:$U$60,0),0)","v":0}]
[null,null,null,null,null,null,null,null,null,null,null,null,null,null,null,null,null,0,0,null,null,{"$f":"IFERROR(MATCH(D50,Nr_stad!$U$8:$U$60,0),0)","v":0}]
[null,null,null,null,null,null,null,null,null,null,null,null,null,null,null,null,null,0,0,null,null,{"$f":"IFERROR(MATCH(D51,Nr_stad!$U$8:$U$60,0),0)","v":0}]
[null,null,null,null,null,null,null,null,null,null,null,null,null,null,null,null,null,0,0,null,null,{"$f":"IFERROR(MATCH(D52,Nr_stad!$U$8:$U$60,0),0)","v":0}]
[null,null,null,null,null,null,null,null,null,null,null,null,null,null,null,null,null,0,0,null,null,{"$f":"IFERROR(MATCH(D53,Nr_stad!$U$8:$U$60,0),0)","v":0}]
[null,null,null,null,null,null,null,null,null,null,null,null,null,null,null,null,null,0,0,null,null,{"$f":"IFERROR(MATCH(D54,Nr_stad!$U$8:$U$60,0),0)","v":0}]
[null,null,null,null,null,null,null,null,null,null,null,null,null,null,null,null,null,0,0,null,null,{"$f":"IFERROR(MATCH(D55,Nr_stad!$U$8:$U$60,0),0)","v":0}]
[null,null,null,null,null,null,null,null,null,null,null,null,null,null,null,null,null,0,0,null,null,{"$f":"IFERROR(MATCH(D56,Nr_stad!$U$8:$U$60,0),0)","v":0}]
[null,null,null,null,null,null,null,null,null,null,null,null,null,null,null,null,null,0,0,null,null,{"$f":"IFERROR(MATCH(D57,Nr_stad!$U$8:$U$60,0),0)","v":0}]
[null,null,null,null,null,null,null,null,null,null,null,null,null,null,null,null,null,0,0,null,null,{"$f":"IFERROR(MATCH(D58,Nr_stad!$U$8:$U$60,0),0)","v":0}]
[null,null,null,null,null,null,null,null,null,null,null,null,null,null,null,null,null,0,0,null,null,{"$f":"IFERROR(MATCH(D59,Nr_stad!$U$8:$U$60,0),0)","v":0}]
[null,null,null,null,null,null,null,null,null,null,null,null,null,null,null,null,null,0,0,null,null,{"$f":"IFERROR(MATCH(D60,Nr_stad!$U$8:$U$60,0),0)","v":0}]
[null,null,null,null,null,null,null,null,null,null,null,null,null,null,null,null,null,0,0,null,null,{"$f":"IFERROR(MATCH(D61,Nr_stad!$U$8:$U$60,0),0)","v":0}]
[null,null,null,null,null,null,null,null,null,null,null,null,null,null,null,null,null,0,0,null,null,{"$f":"IFERROR(MATCH(D62,Nr_stad!$U$8:$U$60,0),0)","v":0}]
[null,null,null,null,null,null,null,null,null,null,null,null,null,null,null,null,null,0,0,null,null,{"$f":"IFERROR(MATCH(D63,Nr_stad!$U$8:$U$60,0),0)","v":0}]
[null,null,null,null,null,null,null,null,null,null,null,null,null,null,null,null,null,0,0,null,null,{"$f":"IFERROR(MATCH(D64,Nr_stad!$U$8:$U$60,0),0)","v":0}]
[null,null,null,null,null,null,null,null,null,null,null,null,null,null,null,null,null,0,0,null,null,{"$f":"IFERROR(MATCH(D65,Nr_stad!$U$8:$U$60,0),0)","v":0}]
[null,null,null,null,null,null,null,null,null,null,null,null,null,null,null,null,null,0,0,null,null,{"$f":"IFERROR(MATCH(D66,Nr_stad!$U$8:$U$60,0),0)","v":0}]
[null,null,null,null,null,null,null,null,null,null,null,null,null,null,null,null,null,0,0,null,null,{"$f":"IFERROR(MATCH(D67,Nr_stad!$U$8:$U$60,0),0)","v":0}]
[null,null,null,null,null,null,null,null,null,null,null,null,null,null,null,null,null,0,0,null,null,{"$f":"IFERROR(MATCH(D68,Nr_stad!$U$8:$U$60,0),0)","v":0}]
[null,null,null,null,null,null,null,null,null,null,null,null,null,null,null,null,null,0,0,null,null,{"$f":"IFERROR(MATCH(D69,Nr_stad!$U$8:$U$60,0),0)","v":0}]
[null,null,null,null,null,null,null,null,null,null,null,null,null,null,null,null,null,0,0,null,null,{"$f":"IFERROR(MATCH(D70,Nr_stad!$U$8:$U$60,0),0)","v":0}]
[null,null,null,null,null,null,null,null,null,null,null,null,null,null,null,null,null,0,0,null,null,{"$f":"IFERROR(MATCH(D71,Nr_stad!$U$8:$U$60,0),0)","v":0}]
[null,null,null,null,null,null,null,null,null,null,null,null,null,null,null,null,null,0,0,null,null,{"$f":"IFERROR(MATCH(D72,Nr_stad!$U$8:$U$60,0),0)","v":0}]
[null,null,null,null,null,null,null,null,null,null,null,null,null,null,null,null,null,0,0,null,null,{"$f":"IFERROR(MATCH(D73,Nr_stad!$U$8:$U$60,0),0)","v":0}]
[null,null,null,null,null,null,null,null,null,null,null,null,null,null,null,null,null,0,0,null,null,{"$f":"IFERROR(MATCH(D74,Nr_stad!$U$8:$U$60,0),0)","v":0}]
[null,null,null,null,null,null,null,null,null,null,null,null,null,null,null,null,null,0,0,null,null,{"$f":"IFERROR(MATCH(D75,Nr_stad!$U$8:$U$60,0),0)","v":0}]
[null,null,null,null,null,null,null,null,null,null,null,null,null,null,null,null,null,0,0,null,null,{"$f":"IFERROR(MATCH(D76,Nr_stad!$U$8:$U$60,0),0)","v":0}]
[null,null,null,null,null,null,null,null,null,null,null,null,null,null,null,null,null,0,0,null,null,{"$f":"IFERROR(MATCH(D77,Nr_stad!$U$8:$U$60,0),0)","v":0}]
[null,null,null,null,null,null,null,null,null,null,null,null,null,null,null,null,null,0,0,null,null,{"$f":"IFERROR(MATCH(D78,Nr_stad!$U$8:$U$60,0),0)","v":0}]
[null,null,null,null,null,null,null,null,null,null,null,null,null,null,null,null,null,0,0,null,null,{"$f":"IFERROR(MATCH(D79,Nr_stad!$U$8:$U$60,0),0)","v":0}]
[null,null,null,null,null,null,null,null,null,null,null,null,null,null,null,null,null,0,0,null,null,{"$f":"IFERROR(MATCH(D80,Nr_stad!$U$8:$U$60,0),0)","v":0}]
[null,null,null,null,null,null,null,null,null,null,null,null,null,null,null,null,null,0,0,null,null,{"$f":"IFERROR(MATCH(D81,Nr_stad!$U$8:$U$60,0),0)","v":0}]
[null,null,null,null,null,null,null,null,null,null,null,null,null,null,null,null,null,0,0,null,null,{"$f":"IFERROR(MATCH(D82,Nr_stad!$U$8:$U$60,0),0)","v":0}]
[null,null,null,null,null,null,null,null,null,null,null,null,null,null,null,null,null,0]
[null,null,"II.6.4.1.","System wolnostanowiskowy bez wydzielonych legowisk - powierzchnia zwiększona o",null,null,null,null,null,null,{"$f":"IF(R23=1,0.2,0.5)","v":0.2}]
[null,null,null," Numer siedziby stada albo \nGrupa zwierząt",null,null,"Obiekt",null,"Utrzymywanie  spełniające wymóg minimalnych powierzchni",null,null,"Minimalna powierzch-\nnia  na  kojec  / kojce","Powierz-\nchnia mini-\nmalna na szt.","Maksymal\nna liczba  zwierząt"]
[null,null,null,null,null,null,"Nazwa(y) lub nr kojca/kojcy",null,"Liczba zwierząt","Powierzchnia na sztukę ","Powie-\nrzchnia"]
[null,null,null,null,null,null,null,null,null,null,null,null,null,null,null,null,null,null,"poz","%","powierzchnia"]
[null,null,null,null,null,null,null,null,"szt.","m2/szt.","m2","m2","m2/szt.","szt"]
[null,null,null,null,null,null,null,null,null,null,{"$f":"I89*J89","v":0},{"$f":"IFERROR(M89*N89,\"-\")","v":"-"},{"$f":"IFERROR(U89,\"-\")","v":"-"},{"$f":"IFERROR(TRUNC(K89/M89),\"-\")","v":"-"},null,null,null,{"$f":"I89+J89+V89","v":0},{"$f":"MATCH(D89,N_W_2_2!$C$22:$C$33,0)","v":{"$error":"#N/A"}},{"$f":"IF($K$84=0.5,1,2)","v":2},{"$f":"OFFSET(N_W_2_2!$G$21,S89,T89)","v":{"$error":"#N/A"}},{"$f":"IFERROR(MATCH(D89,Nr_stad!$U$8:$U$60,0),0)","v":0}]
[null,null,null,null,null,null,null,null,null,null,{"$f":"I90*J90","v":0},{"$f":"IFERROR(M90*N90,\"-\")","v":"-"},{"$f":"IFERROR(U90,\"-\")","v":"-"},{"$f":"IFERROR(TRUNC(K90/M90),\"-\")","v":"-"},null,null,null,{"$f":"I90+J90+V90","v":0},{"$f":"MATCH(D90,N_W_2_2!$C$22:$C$33,0)","v":{"$error":"#N/A"}},{"$f":"IF($K$84=0.5,1,2)","v":2},{"$f":"OFFSET(N_W_2_2!$G$21,S90,T90)","v":{"$error":"#N/A"}},{"$f":"IFERROR(MATCH(D90,Nr_stad!$U$8:$U$60,0),0)","v":0}]
[null,null,null,null,null,null,null,null,null,null,0,"-","-","-",null,null,null,0,{"$f":"MATCH(D91,N_W_2_2!$C$22:$C$33,0)","v":{"$error":"#N/A"}},2,{"$f":"OFFSET(N_W_2_2!$G$21,S91,T91)","v":{"$error":"#N/A"}},{"$f":"IFERROR(MATCH(D91,Nr_stad!$U$8:$U$60,0),0)","v":0}]
[null,null,null,null,null,null,null,null,null,null,0,"-","-","-",null,null,null,0,{"$f":"MATCH(D92,N_W_2_2!$C$22:$C$33,0)","v":{"$error":"#N/A"}},2,{"$f":"OFFSET(N_W_2_2!$G$21,S92,T92)","v":{"$error":"#N/A"}},{"$f":"IFERROR(MATCH(D92,Nr_stad!$U$8:$U$60,0),0)","v":0}]
[null,null,null,null,null,null,null,null,null,null,0,"-","-","-",null,null,null,0,{"$f":"MATCH(D93,N_W_2_2!$C$22:$C$33,0)","v":{"$error":"#N/A"}},2,{"$f":"OFFSET(N_W_2_2!$G$21,S93,T93)","v":{"$error":"#N/A"}},{"$f":"IFERROR(MATCH(D93,Nr_stad!$U$8:$U$60,0),0)","v":0}]
[null,null,null,null,null,null,null,null,null,null,0,"-","-","-",null,null,null,0,{"$f":"MATCH(D94,N_W_2_2!$C$22:$C$33,0)","v":{"$error":"#N/A"}},2,{"$f":"OFFSET(N_W_2_2!$G$21,S94,T94)","v":{"$error":"#N/A"}},{"$f":"IFERROR(MATCH(D94,Nr_stad!$U$8:$U$60,0),0)","v":0}]
[null,null,null,null,null,null,null,null,null,null,0,"-","-","-",null,null,null,0,{"$f":"MATCH(D95,N_W_2_2!$C$22:$C$33,0)","v":{"$error":"#N/A"}},2,{"$f":"OFFSET(N_W_2_2!$G$21,S95,T95)","v":{"$error":"#N/A"}},{"$f":"IFERROR(MATCH(D95,Nr_stad!$U$8:$U$60,0),0)","v":0}]
[null,null,null,null,null,null,null,null,null,null,0,"-","-","-",null,null,null,0,{"$f":"MATCH(D96,N_W_2_2!$C$22:$C$33,0)","v":{"$error":"#N/A"}},2,{"$f":"OFFSET(N_W_2_2!$G$21,S96,T96)","v":{"$error":"#N/A"}},{"$f":"IFERROR(MATCH(D96,Nr_stad!$U$8:$U$60,0),0)","v":0}]
[null,null,null,null,null,null,null,null,null,null,0,"-","-","-",null,null,null,0,{"$f":"MATCH(D97,N_W_2_2!$C$22:$C$33,0)","v":{"$error":"#N/A"}},2,{"$f":"OFFSET(N_W_2_2!$G$21,S97,T97)","v":{"$error":"#N/A"}},{"$f":"IFERROR(MATCH(D97,Nr_stad!$U$8:$U$60,0),0)","v":0}]
[null,null,null,null,null,null,null,null,null,null,0,"-","-","-",null,null,null,0,{"$f":"MATCH(D98,N_W_2_2!$C$22:$C$33,0)","v":{"$error":"#N/A"}},2,{"$f":"OFFSET(N_W_2_2!$G$21,S98,T98)","v":{"$error":"#N/A"}},{"$f":"IFERROR(MATCH(D98,Nr_stad!$U$8:$U$60,0),0)","v":0}]
[null,null,null,null,null,null,null,null,null,null,0,"-","-","-",null,null,null,0,{"$f":"MATCH(D99,N_W_2_2!$C$22:$C$33,0)","v":{"$error":"#N/A"}},2,{"$f":"OFFSET(N_W_2_2!$G$21,S99,T99)","v":{"$error":"#N/A"}},{"$f":"IFERROR(MATCH(D99,Nr_stad!$U$8:$U$60,0),0)","v":0}]
[null,null,null,null,null,null,null,null,null,null,0,"-","-","-",null,null,null,0,{"$f":"MATCH(D100,N_W_2_2!$C$22:$C$33,0)","v":{"$error":"#N/A"}},2,{"$f":"OFFSET(N_W_2_2!$G$21,S100,T100)","v":{"$error":"#N/A"}},{"$f":"IFERROR(MATCH(D100,Nr_stad!$U$8:$U$60,0),0)","v":0}]
[null,null,null,null,null,null,null,null,null,null,0,"-","-","-",null,null,null,0,{"$f":"MATCH(D101,N_W_2_2!$C$22:$C$33,0)","v":{"$error":"#N/A"}},2,{"$f":"OFFSET(N_W_2_2!$G$21,S101,T101)","v":{"$error":"#N/A"}},{"$f":"IFERROR(MATCH(D101,Nr_stad!$U$8:$U$60,0),0)","v":0}]
[null,null,null,null,null,null,null,null,null,null,0,"-","-","-",null,null,null,0,{"$f":"MATCH(D102,N_W_2_2!$C$22:$C$33,0)","v":{"$error":"#N/A"}},2,{"$f":"OFFSET(N_W_2_2!$G$21,S102,T102)","v":{"$error":"#N/A"}},{"$f":"IFERROR(MATCH(D102,Nr_stad!$U$8:$U$60,0),0)","v":0}]
[null,null,null,null,null,null,null,null,null,null,0,"-","-","-",null,null,null,0,{"$f":"MATCH(D103,N_W_2_2!$C$22:$C$33,0)","v":{"$error":"#N/A"}},2,{"$f":"OFFSET(N_W_2_2!$G$21,S103,T103)","v":{"$error":"#N/A"}},{"$f":"IFERROR(MATCH(D103,Nr_stad!$U$8:$U$60,0),0)","v":0}]
[null,null,null,null,null,null,null,null,null,null,0,"-","-","-",null,null,null,0,{"$f":"MATCH(D104,N_W_2_2!$C$22:$C$33,0)","v":{"$error":"#N/A"}},2,{"$f":"OFFSET(N_W_2_2!$G$21,S104,T104)","v":{"$error":"#N/A"}},{"$f":"IFERROR(MATCH(D104,Nr_stad!$U$8:$U$60,0),0)","v":0}]
[null,null,null,null,null,null,null,null,null,null,0,"-","-","-",null,null,null,0,{"$f":"MATCH(D105,N_W_2_2!$C$22:$C$33,0)","v":{"$error":"#N/A"}},2,{"$f":"OFFSET(N_W_2_2!$G$21,S105,T105)","v":{"$error":"#N/A"}},{"$f":"IFERROR(MATCH(D105,Nr_stad!$U$8:$U$60,0),0)","v":0}]
[null,null,null,null,null,null,null,null,null,null,0,"-","-","-",null,null,null,0,{"$f":"MATCH(D106,N_W_2_2!$C$22:$C$33,0)","v":{"$error":"#N/A"}},2,{"$f":"OFFSET(N_W_2_2!$G$21,S106,T106)","v":{"$error":"#N/A"}},{"$f":"IFERROR(MATCH(D106,Nr_stad!$U$8:$U$60,0),0)","v":0}]
[null,null,null,null,null,null,null,null,null,null,0,"-","-","-",null,null,null,0,{"$f":"MATCH(D107,N_W_2_2!$C$22:$C$33,0)","v":{"$error":"#N/A"}},2,{"$f":"OFFSET(N_W_2_2!$G$21,S107,T107)","v":{"$error":"#N/A"}},{"$f":"IFERROR(MATCH(D107,Nr_stad!$U$8:$U$60,0),0)","v":0}]
[null,null,null,null,null,null,null,null,null,null,0,"-","-","-",null,null,null,0,{"$f":"MATCH(D108,N_W_2_2!$C$22:$C$33,0)","v":{"$error":"#N/A"}},2,{"$f":"OFFSET(N_W_2_2!$G$21,S108,T108)","v":{"$error":"#N/A"}},{"$f":"IFERROR(MATCH(D108,Nr_stad!$U$8:$U$60,0),0)","v":0}]
[null,null,null,null,null,null,null,null,null,null,0,"-","-","-",null,null,null,0,{"$f":"MATCH(D109,N_W_2_2!$C$22:$C$33,0)","v":{"$error":"#N/A"}},2,{"$f":"OFFSET(N_W_2_2!$G$21,S109,T109)","v":{"$error":"#N/A"}},{"$f":"IFERROR(MATCH(D109,Nr_stad!$U$8:$U$60,0),0)","v":0}]
[null,null,null,null,null,null,null,null,null,null,0,"-","-","-",null,null,null,0,{"$f":"MATCH(D110,N_W_2_2!$C$22:$C$33,0)","v":{"$error":"#N/A"}},2,{"$f":"OFFSET(N_W_2_2!$G$21,S110,T110)","v":{"$error":"#N/A"}},{"$f":"IFERROR(MATCH(D110,Nr_stad!$U$8:$U$60,0),0)","v":0}]
[null,null,null,null,null,null,null,null,null,null,0,"-","-","-",null,null,null,0,{"$f":"MATCH(D111,N_W_2_2!$C$22:$C$33,0)","v":{"$error":"#N/A"}},2,{"$f":"OFFSET(N_W_2_2!$G$21,S111,T111)","v":{"$error":"#N/A"}},{"$f":"IFERROR(MATCH(D111,Nr_stad!$U$8:$U$60,0),0)","v":0}]
[null,null,null,null,null,null,null,null,null,null,0,"-","-","-",null,null,null,0,{"$f":"MATCH(D112,N_W_2_2!$C$22:$C$33,0)","v":{"$error":"#N/A"}},2,{"$f":"OFFSET(N_W_2_2!$G$21,S112,T112)","v":{"$error":"#N/A"}},{"$f":"IFERROR(MATCH(D112,Nr_stad!$U$8:$U$60,0),0)","v":0}]
[null,null,null,null,null,null,null,null,null,null,0,"-","-","-",null,null,null,0,{"$f":"MATCH(D113,N_W_2_2!$C$22:$C$33,0)","v":{"$error":"#N/A"}},2,{"$f":"OFFSET(N_W_2_2!$G$21,S113,T113)","v":{"$error":"#N/A"}},{"$f":"IFERROR(MATCH(D113,Nr_stad!$U$8:$U$60,0),0)","v":0}]
[null,null,null,null,null,null,null,null,null,null,0,"-","-","-",null,null,null,0,{"$f":"MATCH(D114,N_W_2_2!$C$22:$C$33,0)","v":{"$error":"#N/A"}},2,{"$f":"OFFSET(N_W_2_2!$G$21,S114,T114)","v":{"$error":"#N/A"}},{"$f":"IFERROR(MATCH(D114,Nr_stad!$U$8:$U$60,0),0)","v":0}]
[null,null,null,null,null,null,null,null,null,null,0,"-","-","-",null,null,null,0,{"$f":"MATCH(D115,N_W_2_2!$C$22:$C$33,0)","v":{"$error":"#N/A"}},2,{"$f":"OFFSET(N_W_2_2!$G$21,S115,T115)","v":{"$error":"#N/A"}},{"$f":"IFERROR(MATCH(D115,Nr_stad!$U$8:$U$60,0),0)","v":0}]
[null,null,null,null,null,null,null,null,null,null,0,"-","-","-",null,null,null,0,{"$f":"MATCH(D116,N_W_2_2!$C$22:$C$33,0)","v":{"$error":"#N/A"}},2,{"$f":"OFFSET(N_W_2_2!$G$21,S116,T116)","v":{"$error":"#N/A"}},{"$f":"IFERROR(MATCH(D116,Nr_stad!$U$8:$U$60,0),0)","v":0}]
[null,null,null,null,null,null,null,null,null,null,0,"-","-","-",null,null,null,0,{"$f":"MATCH(D117,N_W_2_2!$C$22:$C$33,0)","v":{"$error":"#N/A"}},2,{"$f":"OFFSET(N_W_2_2!$G$21,S117,T117)","v":{"$error":"#N/A"}},{"$f":"IFERROR(MATCH(D117,Nr_stad!$U$8:$U$60,0),0)","v":0}]
[null,null,null,null,null,null,null,null,null,null,0,"-","-","-",null,null,null,0,{"$f":"MATCH(D118,N_W_2_2!$C$22:$C$33,0)","v":{"$error":"#N/A"}},2,{"$f":"OFFSET(N_W_2_2!$G$21,S118,T118)","v":{"$error":"#N/A"}},{"$f":"IFERROR(MATCH(D118,Nr_stad!$U$8:$U$60,0),0)","v":0}]
[null,null,null,null,null,null,null,null,null,null,0,"-","-","-",null,null,null,0,{"$f":"MATCH(D119,N_W_2_2!$C$22:$C$33,0)","v":{"$error":"#N/A"}},2,{"$f":"OFFSET(N_W_2_2!$G$21,S119,T119)","v":{"$error":"#N/A"}},{"$f":"IFERROR(MATCH(D119,Nr_stad!$U$8:$U$60,0),0)","v":0}]
[null,null,null,null,null,null,null,null,null,null,0,"-","-","-",null,null,null,0,{"$f":"MATCH(D120,N_W_2_2!$C$22:$C$33,0)","v":{"$error":"#N/A"}},2,{"$f":"OFFSET(N_W_2_2!$G$21,S120,T120)","v":{"$error":"#N/A"}},{"$f":"IFERROR(MATCH(D120,Nr_stad!$U$8:$U$60,0),0)","v":0}]
[null,null,null,null,null,null,null,null,null,null,0,"-","-","-",null,null,null,0,{"$f":"MATCH(D121,N_W_2_2!$C$22:$C$33,0)","v":{"$error":"#N/A"}},2,{"$f":"OFFSET(N_W_2_2!$G$21,S121,T121)","v":{"$error":"#N/A"}},{"$f":"IFERROR(MATCH(D121,Nr_stad!$U$8:$U$60,0),0)","v":0}]
[null,null,null,null,null,null,null,null,null,null,0,"-","-","-",null,null,null,0,{"$f":"MATCH(D122,N_W_2_2!$C$22:$C$33,0)","v":{"$error":"#N/A"}},2,{"$f":"OFFSET(N_W_2_2!$G$21,S122,T122)","v":{"$error":"#N/A"}},{"$f":"IFERROR(MATCH(D122,Nr_stad!$U$8:$U$60,0),0)","v":0}]
[null,null,null,null,null,null,null,null,null,null,0,"-","-","-",null,null,null,0,{"$f":"MATCH(D123,N_W_2_2!$C$22:$C$33,0)","v":{"$error":"#N/A"}},2,{"$f":"OFFSET(N_W_2_2!$G$21,S123,T123)","v":{"$error":"#N/A"}},{"$f":"IFERROR(MATCH(D123,Nr_stad!$U$8:$U$60,0),0)","v":0}]
[null,null,null,null,null,null,null,null,null,null,0,"-","-","-",null,null,null,0,{"$f":"MATCH(D124,N_W_2_2!$C$22:$C$33,0)","v":{"$error":"#N/A"}},2,{"$f":"OFFSET(N_W_2_2!$G$21,S124,T124)","v":{"$error":"#N/A"}},{"$f":"IFERROR(MATCH(D124,Nr_stad!$U$8:$U$60,0),0)","v":0}]
[null,null,null,null,null,null,null,null,null,null,0,"-","-","-",null,null,null,0,{"$f":"MATCH(D125,N_W_2_2!$C$22:$C$33,0)","v":{"$error":"#N/A"}},2,{"$f":"OFFSET(N_W_2_2!$G$21,S125,T125)","v":{"$error":"#N/A"}},{"$f":"IFERROR(MATCH(D125,Nr_stad!$U$8:$U$60,0),0)","v":0}]
[null,null,null,null,null,null,null,null,null,null,0,"-","-","-",null,null,null,0,{"$f":"MATCH(D126,N_W_2_2!$C$22:$C$33,0)","v":{"$error":"#N/A"}},2,{"$f":"OFFSET(N_W_2_2!$G$21,S126,T126)","v":{"$error":"#N/A"}},{"$f":"IFERROR(MATCH(D126,Nr_stad!$U$8:$U$60,0),0)","v":0}]
[null,null,null,null,null,null,null,null,null,null,0,"-","-","-",null,null,null,0,{"$f":"MATCH(D127,N_W_2_2!$C$22:$C$33,0)","v":{"$error":"#N/A"}},2,{"$f":"OFFSET(N_W_2_2!$G$21,S127,T127)","v":{"$error":"#N/A"}},{"$f":"IFERROR(MATCH(D127,Nr_stad!$U$8:$U$60,0),0)","v":0}]
[null,null,null,null,null,null,null,null,null,null,0,"-","-","-",null,null,null,0,{"$f":"MATCH(D128,N_W_2_2!$C$22:$C$33,0)","v":{"$error":"#N/A"}},2,{"$f":"OFFSET(N_W_2_2!$G$21,S128,T128)","v":{"$error":"#N/A"}},{"$f":"IFERROR(MATCH(D128,Nr_stad!$U$8:$U$60,0),0)","v":0}]
[null,null,null,null,null,null,null,null,null,null,0,"-","-","-",null,null,null,0,{"$f":"MATCH(D129,N_W_2_2!$C$22:$C$33,0)","v":{"$error":"#N/A"}},2,{"$f":"OFFSET(N_W_2_2!$G$21,S129,T129)","v":{"$error":"#N/A"}},{"$f":"IFERROR(MATCH(D129,Nr_stad!$U$8:$U$60,0),0)","v":0}]
[null,null,null,null,null,null,null,null,null,null,0,"-","-","-",null,null,null,0,{"$f":"MATCH(D130,N_W_2_2!$C$22:$C$33,0)","v":{"$error":"#N/A"}},2,{"$f":"OFFSET(N_W_2_2!$G$21,S130,T130)","v":{"$error":"#N/A"}},{"$f":"IFERROR(MATCH(D130,Nr_stad!$U$8:$U$60,0),0)","v":0}]
[null,null,null,null,null,null,null,null,null,null,0,"-","-","-",null,null,null,0,{"$f":"MATCH(D131,N_W_2_2!$C$22:$C$33,0)","v":{"$error":"#N/A"}},2,{"$f":"OFFSET(N_W_2_2!$G$21,S131,T131)","v":{"$error":"#N/A"}},{"$f":"IFERROR(MATCH(D131,Nr_stad!$U$8:$U$60,0),0)","v":0}]
[null,null,null,null,null,null,null,null,null,null,0,"-","-","-",null,null,null,0,{"$f":"MATCH(D132,N_W_2_2!$C$22:$C$33,0)","v":{"$error":"#N/A"}},2,{"$f":"OFFSET(N_W_2_2!$G$21,S132,T132)","v":{"$error":"#N/A"}},{"$f":"IFERROR(MATCH(D132,Nr_stad!$U$8:$U$60,0),0)","v":0}]
[null,null,null,null,null,null,null,null,null,null,0,"-","-","-",null,null,null,0,{"$f":"MATCH(D133,N_W_2_2!$C$22:$C$33,0)","v":{"$error":"#N/A"}},2,{"$f":"OFFSET(N_W_2_2!$G$21,S133,T133)","v":{"$error":"#N/A"}},{"$f":"IFERROR(MATCH(D133,Nr_stad!$U$8:$U$60,0),0)","v":0}]
[null,null,null,null,null,null,null,null,null,null,0,"-","-","-",null,null,null,0,{"$f":"MATCH(D134,N_W_2_2!$C$22:$C$33,0)","v":{"$error":"#N/A"}},2,{"$f":"OFFSET(N_W_2_2!$G$21,S134,T134)","v":{"$error":"#N/A"}},{"$f":"IFERROR(MATCH(D134,Nr_stad!$U$8:$U$60,0),0)","v":0}]
[null,null,null,null,null,null,null,null,null,null,0,"-","-","-",null,null,null,0,{"$f":"MATCH(D135,N_W_2_2!$C$22:$C$33,0)","v":{"$error":"#N/A"}},2,{"$f":"OFFSET(N_W_2_2!$G$21,S135,T135)","v":{"$error":"#N/A"}},{"$f":"IFERROR(MATCH(D135,Nr_stad!$U$8:$U$60,0),0)","v":0}]
[null,null,null,null,null,null,null,null,null,null,0,"-","-","-",null,null,null,0,{"$f":"MATCH(D136,N_W_2_2!$C$22:$C$33,0)","v":{"$error":"#N/A"}},2,{"$f":"OFFSET(N_W_2_2!$G$21,S136,T136)","v":{"$error":"#N/A"}},{"$f":"IFERROR(MATCH(D136,Nr_stad!$U$8:$U$60,0),0)","v":0}]
[null,null,null,null,null,null,null,null,null,null,0,"-","-","-",null,null,null,0,{"$f":"MATCH(D137,N_W_2_2!$C$22:$C$33,0)","v":{"$error":"#N/A"}},2,{"$f":"OFFSET(N_W_2_2!$G$21,S137,T137)","v":{"$error":"#N/A"}},{"$f":"IFERROR(MATCH(D137,Nr_stad!$U$8:$U$60,0),0)","v":0}]
[null,null,null,null,null,null,null,null,null,null,0,"-","-","-",null,null,null,0,{"$f":"MATCH(D138,N_W_2_2!$C$22:$C$33,0)","v":{"$error":"#N/A"}},2,{"$f":"OFFSET(N_W_2_2!$G$21,S138,T138)","v":{"$error":"#N/A"}},{"$f":"IFERROR(MATCH(D138,Nr_stad!$U$8:$U$60,0),0)","v":0}]
[null,null,null,"SUMA:",null,null,null,null,{"$f":"SUM(I87:I138)","v":0},"X",{"$f":"SUM(K87:K138)","v":0},0,"X",{"$f":"SUM(N89:N138)","v":0},null,null,null,10,{"$f":"MATCH(D139,N_W_2_2!$C$22:$C$33,0)","v":{"$error":"#N/A"}},2,{"$f":"OFFSET(N_W_2_2!$G$21,S139,T139)","v":{"$error":"#N/A"}},{"$f":"IFERROR(MATCH(D139,Nr_stad!$U$8:$U$60,0),0)","v":0}]
[null,null,null,"Maksymalna liczba opasów > 300 kg",null,null,null,null,null,null,null,null,null,{"$f":"SUMIF(D89:F138,N_W_2_2!$C$33,N89:N138)+SUMIF(D89:F138,N_W_2_2!$C$32,N89:N138)","v":0},null,null,null,0,{"$f":"MATCH(D140,N_W_2_2!$C$22:$C$33,0)","v":{"$error":"#N/A"}},2,{"$f":"OFFSET(N_W_2_2!$G$21,S140,T140)","v":{"$error":"#N/A"}},{"$f":"IFERROR(MATCH(D140,Nr_stad!$U$8:$U$60,0),0)","v":0}]
[null,null,null,"Maksymalna liczba opasów dotyczy łącznie wnioskodawcy i wskazanych innych posiadaczy",null,null,null,null,null,null,null,null,null,"NIE"]
[null,null,"II.6.4.2.","Cielęta utrzymywane pojedynczo - wymiary kojców o bokach zwiększonych o",null,null,null,null,null,null,{"$f":"IF(R23=1,0.2,0.5)","v":0.2},null,null,null,null,null,null,"NIE"]
[null,null,null," Numer siedziby stada albo Nazwa \nobiektu / sekcji cieląt",null,"Liczba cieląt/kojcy","Maksymalne wymiary cieląt",null,"Wymiary kojców",null,"Minimalne wymiary kojca",null,null,"Minimalna powierzchnia kojców",null,null,null,"TAK"]
[null,null,null,null,null,null,"wysokość w kłębie","długość ","szerokość","długość ","szerokość","długość ","powierzchnia ",null,null,null,null,null,"szer","dług","powierzchnia"]
[null,null,null,null,null,"szt.","m","m","m","m","m","m","m2","m3",null,null,null,null,"m","m"]
[null,null,null,null,null,null,null,null,null,null,{"$f":"S146*G146","v":0},{"$f":"T146*H146*1.1","v":0},{"$f":"K146*L146","v":0},{"$f":"M146*F146","v":0},null,null,null,{"$f":"SUM(F146:J146)+V146","v":0},{"$f":"IF($K$142=0.2,1.2,1.5)","v":1.2},{"$f":"IF($K$142=0.2,1.2,1.5)","v":1.2},null,{"$f":"IFERROR(MATCH(D146,Nr_stad!$U$8:$U$60,0),0)","v":0}]
[null,null,null,null,null,null,null,null,null,null,{"$f":"G147*N_W_2_2!$G$36","v":0},{"$f":"H147*N_W_2_2!$G$37","v":0},{"$f":"K147*L147","v":0},{"$f":"M147*F147","v":0},null,null,null,{"$f":"SUM(F147:J147)+V147","v":0},{"$f":"IF($K$142=0.2,1.2,1.5)","v":1.2},1.2,null,{"$f":"IFERROR(MATCH(D147,Nr_stad!$U$8:$U$60,0),0)","v":0}]
[null,null,null,null,null,null,null,null,null,null,{"$f":"G148*N_W_2_2!$G$36","v":0},{"$f":"H148*N_W_2_2!$G$37","v":0},0,0,null,null,null,0,1.2,1.2,null,{"$f":"IFERROR(MATCH(D148,Nr_stad!$U$8:$U$60,0),0)","v":0}]
[null,null,null,null,null,null,null,null,null,null,{"$f":"G149*N_W_2_2!$G$36","v":0},{"$f":"H149*N_W_2_2!$G$37","v":0},0,0,null,null,null,0,1.2,1.2,null,{"$f":"IFERROR(MATCH(D149,Nr_stad!$U$8:$U$60,0),0)","v":0}]
[null,null,null,null,null,null,null,null,null,null,{"$f":"G150*N_W_2_2!$G$36","v":0},{"$f":"H150*N_W_2_2!$G$37","v":0},0,0,null,null,null,0,1.2,1.2,null,{"$f":"IFERROR(MATCH(D150,Nr_stad!$U$8:$U$60,0),0)","v":0}]
[null,null,null,null,null,null,null,null,null,null,{"$f":"G151*N_W_2_2!$G$36","v":0},{"$f":"H151*N_W_2_2!$G$37","v":0},0,0,null,null,null,0,1.2,1.2,null,{"$f":"IFERROR(MATCH(D151,Nr_stad!$U$8:$U$60,0),0)","v":0}]
[null,null,null,null,null,null,null,null,null,null,{"$f":"G152*N_W_2_2!$G$36","v":0},{"$f":"H152*N_W_2_2!$G$37","v":0},0,0,null,null,null,0,1.2,1.2,null,{"$f":"IFERROR(MATCH(D152,Nr_stad!$U$8:$U$60,0),0)","v":0}]
[null,null,null,null,null,null,null,null,null,null,{"$f":"G153*N_W_2_2!$G$36","v":0},{"$f":"H153*N_W_2_2!$G$37","v":0},0,0,null,null,null,0,1.2,1.2,null,{"$f":"IFERROR(MATCH(D153,Nr_stad!$U$8:$U$60,0),0)","v":0}]
[null,null,null,null,null,null,null,null,null,null,{"$f":"G154*N_W_2_2!$G$36","v":0},{"$f":"H154*N_W_2_2!$G$37","v":0},0,0,null,null,null,0,1.2,1.2,null,{"$f":"IFERROR(MATCH(D154,Nr_stad!$U$8:$U$60,0),0)","v":0}]
[null,null,null,null,null,null,null,null,null,null,{"$f":"G155*N_W_2_2!$G$36","v":0},{"$f":"H155*N_W_2_2!$G$37","v":0},0,0,null,null,null,0,1.2,1.2,null,{"$f":"IFERROR(MATCH(D155,Nr_stad!$U$8:$U$60,0),0)","v":0}]
[null,null,null,null,null,null,null,null,null,null,{"$f":"G156*N_W_2_2!$G$36","v":0},{"$f":"H156*N_W_2_2!$G$37","v":0},0,0,null,null,null,0,1.2,1.2,null,{"$f":"IFERROR(MATCH(D156,Nr_stad!$U$8:$U$60,0),0)","v":0}]
[null,null,null,null,null,null,null,null,null,null,{"$f":"G157*N_W_2_2!$G$36","v":0},{"$f":"H157*N_W_2_2!$G$37","v":0},0,0,null,null,null,0,1.2,1.2,null,{"$f":"IFERROR(MATCH(D157,Nr_stad!$U$8:$U$60,0),0)","v":0}]
[null,null,null,null,null,null,null,null,null,null,{"$f":"G158*N_W_2_2!$G$36","v":0},{"$f":"H158*N_W_2_2!$G$37","v":0},0,0,null,null,null,0,1.2,1.2,null,{"$f":"IFERROR(MATCH(D158,Nr_stad!$U$8:$U$60,0),0)","v":0}]
[null,null,null,null,null,null,null,null,null,null,{"$f":"G159*N_W_2_2!$G$36","v":0},{"$f":"H159*N_W_2_2!$G$37","v":0},0,0,null,null,null,0,1.2,1.2,null,{"$f":"IFERROR(MATCH(D159,Nr_stad!$U$8:$U$60,0),0)","v":0}]
[null,null,null,null,null,null,null,null,null,null,{"$f":"G160*N_W_2_2!$G$36","v":0},{"$f":"H160*N_W_2_2!$G$37","v":0},0,0,null,null,null,0,1.2,1.2,null,{"$f":"IFERROR(MATCH(D160,Nr_stad!$U$8:$U$60,0),0)","v":0}]
[null,null,null,null,null,null,null,null,null,null,{"$f":"G161*N_W_2_2!$G$36","v":0},{"$f":"H161*N_W_2_2!$G$37","v":0},0,0,null,null,null,0,1.2,1.2,null,{"$f":"IFERROR(MATCH(D161,Nr_stad!$U$8:$U$60,0),0)","v":0}]
[null,null,null,null,null,null,null,null,null,null,{"$f":"G162*N_W_2_2!$G$36","v":0},{"$f":"H162*N_W_2_2!$G$37","v":0},0,0,null,null,null,0,1.2,1.2,null,{"$f":"IFERROR(MATCH(D162,Nr_stad!$U$8:$U$60,0),0)","v":0}]
[null,null,null,null,null,null,null,null,null,null,{"$f":"G163*N_W_2_2!$G$36","v":0},{"$f":"H163*N_W_2_2!$G$37","v":0},0,0,null,null,null,0,1.2,1.2,null,{"$f":"IFERROR(MATCH(D163,Nr_stad!$U$8:$U$60,0),0)","v":0}]
[null,null,null,null,null,null,null,null,null,null,{"$f":"G164*N_W_2_2!$G$36","v":0},{"$f":"H164*N_W_2_2!$G$37","v":0},0,0,null,null,null,0,1.2,1.2,null,{"$f":"IFERROR(MATCH(D164,Nr_stad!$U$8:$U$60,0),0)","v":0}]
[null,null,null,null,null,null,null,null,null,null,{"$f":"G165*N_W_2_2!$G$36","v":0},{"$f":"H165*N_W_2_2!$G$37","v":0},0,0,null,null,null,0,1.2,1.2,null,{"$f":"IFERROR(MATCH(D165,Nr_stad!$U$8:$U$60,0),0)","v":0}]
[null,null,null,"RAZEM:",null,{"$f":"SUM(F146:F165)","v":0},"X","X","X","X","X","X","X",{"$f":"SUM(N146:N165)","v":0},null,null,null,10,null,null,null,{"$f":"IFERROR(MATCH(D166,Nr_stad!$U$8:$U$60,0),0)","v":0}]

{"sheet":"Opasy_pow_2","index":14,"n_rows":126,"n_cols":51,"rows_kept":126,"cut":false,"hidden":true,"merged":[[20,34,20,37],[20,15,21,15],[124,3,124,10],[124,12,124,14],[20,5,21,5],[21,27,21,28],[20,27,20,33],[125,9,125,14],[19,3,19,11],[20,3,21,3],[20,4,21,4],[20,6,20,8],[20,9,20,11],[20,12,20,13],[20,14,21,14],[3,2,3,15],[4,3,4,9],[5,3,5,14],[11,3,11,15],[13,3,13,4],[13,6,13,8]]}
[null,null,null,null,null,null,null,null,null,null,null,null,null,null,null,"POWRÓT",null,null,null,null,null,null,null,null,null,null,null,null,null,null,null,null,null,null,null,null,null,null,null,null,null,null,null,null,null,null,null,null,null,null,"UWAGI"]
[]
[]
[null,null,"II. Część szczegółowa  "]
[null,null,"II.10.","Wariant 10. Dobrostan opasów - zwiększona powierzchnia bytowa"]
[null,null,"II.10.1.","Wymagania w ramach dobrostanu opasów - zwiększona powierzchnia bytowa (wymogami objęte jest bydło opasowe w wieku kwalifikującym się do płatności):"]
[null,null,{"$f":"IF(Y7=TRUE,$Z$7,$AA$7)","v":"☐"},"utrzymywanie bez uwięzi;",null,null,null,null,null,null,null,null,null,null,null,null,null,null,null,null,null,null,null,null,false,"☒","☐"]
[null,null,{"$f":"IF(Y8=TRUE,$Z$7,$AA$7)","v":"☐"},"utrzymywanie na ściółce;",null,null,null,null,null,null,null,null,null,null,null,null,null,null,null,null,null,null,null,null,false]
[]
[]
[]
[null,null,{"$f":"IF(AA12=TRUE,AB12,AC12)","v":"☐"},"Do planu poprawy dobrostanu zwierząt dołączono szkic obiektów ze wskazanymi SEKCJAMI w których utrzymywane są opasy oraz cielęta objęte podwyższonymi wymogami Wariantu 10. ",null,null,null,null,null,null,null,null,null,null,null,null,null,null,null,null,null,null,null,null,null,null,false,"☒","☐"]
[]
[null,null,"II.10.2.","Parametry określające wymiary kojców dla cieląt"]
[null,null,null,"Szerokość -  wysokość cielęcia w kłębie","Długość ciała cielęcia mierzona od czubka nosa do ogonowej krawędzi guza kulszowego"]
[null,null,null,"m","m"]
[null,null,null,null,null,null,null,null,null,null,null,null,null,null,null,null,null,null,null,null,null,null,null,null,null,null,false,{"$f":"AND(AA19=1,I17>9)","v":false}]
[null,null,null,null,null,null,null,null,null,null,null,null,null,null,null,null,null,null,null,null,null,null,null,null,null,null,"poj/grup"]
[null,null,null,null,null,null,null,null,null,null,null,null,null,null,null,null,null,null,null,null,null,null,null,null,null,null,1,"☒","☐"]
[null,null,"II.10.3.","Podwyższone wymogi dla opsów - zwiększona powierzchnia bytowa"]
[null,null,null,"Numer siedziby stada albo \nGrupa technologiczna","Nazwa obiektu/numer sekcji","Maksymalna masa \ncielęcia/opasa w kojcu","Kojce pojedyncze spełniające wymóg minimalnych wymiarów",null,null,"Powierzchnia ",null,null," Minimalne wymiary   kojcy pojedynczych",null,"Powierzchnia minimalna","Maksymalna liczba cieląt i opasów",null,null,null,null,null,null,null,null,null,null,null,"Cielęta",null,null,null,null,null,null,"Opasy"]
[null,null,null,null,null,null,"Dł.","Szer.","Liczba","Dł.","Szer.","Pow.","Dł.","Szer.",null,null,null,null,null,null,null,null,null,null,"sys","Nr stad","suma","Kojec pojedynczy",null,0,150,220,"POZ","Pow","Pow",100,300,"POZ"]
[null,null,null,null,null,"kg/szt.","m","m","szt","m","m","m2","m","m","m2/szt.","szt",null,null,null,null,null,null,null,null,null,null,null,"dł","szer",150,220,null,null,null,null,300]
[null,null,null,null,null,null,null,null,null,null,null,{"$f":"IFERROR(J24*K24,\"\")","v":0},{"$f":"IF(Y24=1,OFFSET(AA24,0,1),\"-\")","v":"-"},{"$f":"IF(Y24=1,OFFSET(AA24,0,2),\"-\")","v":"-"},{"$f":"IF(Y24=3,AI24,IF(Y24=2,AH24,\"-\"))","v":"-"},{"$f":"IFERROR(IF(AND(Y24=1,G24>0,H24>0),I24,X24),\"-\")","v":"-"},null,null,null,null,null,null,{"$f":"TRUNC(L24/O24,0)","v":{"$error":"#VALUE!"}},{"$f":"IF(AND(Y24=2,L24/O24<2),\"-\",W24)","v":{"$error":"#VALUE!"}},{"$f":"IFERROR(MATCH(D24,Opasy!$M$17:$M$19,0),0)","v":0},{"$f":"IFERROR(MATCH(D24,Nr_stad!$U$8:$U$60,0),0)","v":0},{"$f":"SUM(G24:P24)+Z24","v":0},{"$f":"$E$17*Opasy!$I$17*Opasy!$J$17","v":0},{"$f":"$D$17*Opasy!$J$17","v":0},{"$f":"IF(AND(F24>$AD$22,F24<=$AD$23),1,0)","v":0},{"$f":"IF(AND(F24>$AE$22,F24<=$AE$23),2,0)","v":0},{"$f":"IF(F24>$AF$22,3,0)","v":0},{"$f":"MAX(AD24:AF24)","v":0},{"$f":"OFFSET(Opasy!$H$18,AG24,0)","v":0},{"$f":"OFFSET(Opasy!$H$23,AL24,0)","v":0},{"$f":"IF(AND(F24>$AJ$22,F24<=$AJ$23),1,0)","v":0},{"$f":"IF(F24>$AK$22,2,0)","v":0},{"$f":"MAX(AJ24:AK24)","v":0}]
[null,null,null,null,null,null,null,null,null,null,null,{"$f":"IFERROR(J25*K25,\"\")","v":0},"-","-","-","-",null,null,null,null,null,null,{"$error":"#VALUE!"},{"$error":"#VALUE!"},{"$f":"IFERROR(MATCH(D25,Opasy!$M$17:$M$19,0),0)","v":0},{"$f":"IFERROR(MATCH(D25,Nr_stad!$U$8:$U$60,0),0)","v":0},0,{"$f":"$E$17*Opasy!$I$17*Opasy!$J$17","v":0},{"$f":"$D$17*Opasy!$J$17","v":0},0,0,0,0,{"$f":"OFFSET(Opasy!$H$18,AG25,0)","v":0},{"$f":"OFFSET(Opasy!$H$23,AL25,0)","v":0},0,0,0]
[null,null,null,null,null,null,null,null,null,null,null,0,"-","-","-","-",null,null,null,null,null,null,{"$error":"#VALUE!"},{"$error":"#VALUE!"},{"$f":"IFERROR(MATCH(D26,Opasy!$M$17:$M$19,0),0)","v":0},{"$f":"IFERROR(MATCH(D26,Nr_stad!$U$8:$U$60,0),0)","v":0},0,{"$f":"$E$17*Opasy!$I$17*Opasy!$J$17","v":0},{"$f":"$D$17*Opasy!$J$17","v":0},0,0,0,0,{"$f":"OFFSET(Opasy!$H$18,AG26,0)","v":0},{"$f":"OFFSET(Opasy!$H$23,AL26,0)","v":0},0,0,0]
[null,null,null,null,null,null,null,null,null,null,null,0,"-","-","-","-",null,null,null,null,null,null,{"$error":"#VALUE!"},{"$error":"#VALUE!"},{"$f":"IFERROR(MATCH(D27,Opasy!$M$17:$M$19,0),0)","v":0},{"$f":"IFERROR(MATCH(D27,Nr_stad!$U$8:$U$60,0),0)","v":0},0,{"$f":"$E$17*Opasy!$I$17*Opasy!$J$17","v":0},{"$f":"$D$17*Opasy!$J$17","v":0},0,0,0,0,{"$f":"OFFSET(Opasy!$H$18,AG27,0)","v":0},{"$f":"OFFSET(Opasy!$H$23,AL27,0)","v":0},0,0,0]
[null,null,null,null,null,null,null,null,null,null,null,0,"-","-","-","-",null,null,null,null,null,null,{"$error":"#VALUE!"},{"$error":"#VALUE!"},{"$f":"IFERROR(MATCH(D28,Opasy!$M$17:$M$19,0),0)","v":0},{"$f":"IFERROR(MATCH(D28,Nr_stad!$U$8:$U$60,0),0)","v":0},0,{"$f":"$E$17*Opasy!$I$17*Opasy!$J$17","v":0},{"$f":"$D$17*Opasy!$J$17","v":0},0,0,0,0,{"$f":"OFFSET(Opasy!$H$18,AG28,0)","v":0},{"$f":"OFFSET(Opasy!$H$23,AL28,0)","v":0},0,0,0]
[null,null,null,null,null,null,null,null,null,null,null,0,"-","-","-","-",null,null,null,null,null,null,{"$error":"#VALUE!"},{"$error":"#VALUE!"},{"$f":"IFERROR(MATCH(D29,Opasy!$M$17:$M$19,0),0)","v":0},{"$f":"IFERROR(MATCH(D29,Nr_stad!$U$8:$U$60,0),0)","v":0},0,{"$f":"$E$17*Opasy!$I$17*Opasy!$J$17","v":0},{"$f":"$D$17*Opasy!$J$17","v":0},0,0,0,0,{"$f":"OFFSET(Opasy!$H$18,AG29,0)","v":0},{"$f":"OFFSET(Opasy!$H$23,AL29,0)","v":0},0,0,0]
[null,null,null,null,null,null,null,null,null,null,null,0,"-","-","-","-",null,null,null,null,null,null,{"$error":"#VALUE!"},{"$error":"#VALUE!"},{"$f":"IFERROR(MATCH(D30,Opasy!$M$17:$M$19,0),0)","v":0},{"$f":"IFERROR(MATCH(D30,Nr_stad!$U$8:$U$60,0),0)","v":0},0,{"$f":"$E$17*Opasy!$I$17*Opasy!$J$17","v":0},{"$f":"$D$17*Opasy!$J$17","v":0},0,0,0,0,{"$f":"OFFSET(Opasy!$H$18,AG30,0)","v":0},{"$f":"OFFSET(Opasy!$H$23,AL30,0)","v":0},0,0,0]
[null,null,null,null,null,null,null,null,null,null,null,{"$f":"IFERROR(J31*K31,\"\")","v":0},{"$f":"IF(Y31=1,OFFSET(AA31,0,1),\"-\")","v":"-"},{"$f":"IF(Y31=1,OFFSET(AA31,0,2),\"-\")","v":"-"},{"$f":"IF(Y31=3,AI31,IF(Y31=2,AH31,\"-\"))","v":"-"},{"$f":"IFERROR(IF(AND(Y31=1,G31>0,H31>0),I31,X31),\"-\")","v":"-"},null,null,null,null,null,null,{"$f":"TRUNC(L31/O31,0)","v":{"$error":"#VALUE!"}},{"$f":"IF(AND(Y31=2,L31/O31<2),\"-\",W31)","v":{"$error":"#VALUE!"}},{"$f":"IFERROR(MATCH(D31,Opasy!$M$17:$M$19,0),0)","v":0},{"$f":"IFERROR(MATCH(D31,Nr_stad!$U$8:$U$60,0),0)","v":0},{"$f":"SUM(G31:P31)+Z31","v":0},{"$f":"$E$17*Opasy!$I$17*Opasy!$J$17","v":0},{"$f":"$D$17*Opasy!$J$17","v":0},{"$f":"IF(AND(F31>$AD$22,F31<=$AD$23),1,0)","v":0},{"$f":"IF(AND(F31>$AE$22,F31<=$AE$23),2,0)","v":0},{"$f":"IF(F31>$AF$22,3,0)","v":0},{"$f":"MAX(AD31:AF31)","v":0},{"$f":"OFFSET(Opasy!$H$18,AG31,0)","v":0},{"$f":"OFFSET(Opasy!$H$23,AL31,0)","v":0},{"$f":"IF(AND(F31>$AJ$22,F31<=$AJ$23),1,0)","v":0},{"$f":"IF(F31>$AK$22,2,0)","v":0},{"$f":"MAX(AJ31:AK31)","v":0}]
[null,null,null,null,null,null,null,null,null,null,null,0,"-","-","-","-",null,null,null,null,null,null,{"$error":"#VALUE!"},{"$error":"#VALUE!"},{"$f":"IFERROR(MATCH(D32,Opasy!$M$17:$M$19,0),0)","v":0},{"$f":"IFERROR(MATCH(D32,Nr_stad!$U$8:$U$60,0),0)","v":0},0,{"$f":"$E$17*Opasy!$I$17*Opasy!$J$17","v":0},{"$f":"$D$17*Opasy!$J$17","v":0},0,0,0,0,{"$f":"OFFSET(Opasy!$H$18,AG32,0)","v":0},{"$f":"OFFSET(Opasy!$H$23,AL32,0)","v":0},0,0,0]
[null,null,null,null,null,null,null,null,null,null,null,0,"-","-","-","-",null,null,null,null,null,null,{"$error":"#VALUE!"},{"$error":"#VALUE!"},{"$f":"IFERROR(MATCH(D33,Opasy!$M$17:$M$19,0),0)","v":0},{"$f":"IFERROR(MATCH(D33,Nr_stad!$U$8:$U$60,0),0)","v":0},0,{"$f":"$E$17*Opasy!$I$17*Opasy!$J$17","v":0},{"$f":"$D$17*Opasy!$J$17","v":0},0,0,0,0,{"$f":"OFFSET(Opasy!$H$18,AG33,0)","v":0},{"$f":"OFFSET(Opasy!$H$23,AL33,0)","v":0},0,0,0]
[null,null,null,null,null,null,null,null,null,null,null,0,"-","-","-","-",null,null,null,null,null,null,{"$error":"#VALUE!"},{"$error":"#VALUE!"},{"$f":"IFERROR(MATCH(D34,Opasy!$M$17:$M$19,0),0)","v":0},{"$f":"IFERROR(MATCH(D34,Nr_stad!$U$8:$U$60,0),0)","v":0},0,{"$f":"$E$17*Opasy!$I$17*Opasy!$J$17","v":0},{"$f":"$D$17*Opasy!$J$17","v":0},0,0,0,0,{"$f":"OFFSET(Opasy!$H$18,AG34,0)","v":0},{"$f":"OFFSET(Opasy!$H$23,AL34,0)","v":0},0,0,0]
[null,null,null,null,null,null,null,null,null,null,null,0,"-","-","-","-",null,null,null,null,null,null,{"$error":"#VALUE!"},{"$error":"#VALUE!"},{"$f":"IFERROR(MATCH(D35,Opasy!$M$17:$M$19,0),0)","v":0},{"$f":"IFERROR(MATCH(D35,Nr_stad!$U$8:$U$60,0),0)","v":0},0,{"$f":"$E$17*Opasy!$I$17*Opasy!$J$17","v":0},{"$f":"$D$17*Opasy!$J$17","v":0},0,0,0,0,{"$f":"OFFSET(Opasy!$H$18,AG35,0)","v":0},{"$f":"OFFSET(Opasy!$H$23,AL35,0)","v":0},0,0,0]
[null,null,null,null,null,null,null,null,null,null,null,0,"-","-","-","-",null,null,null,null,null,null,{"$error":"#VALUE!"},{"$error":"#VALUE!"},{"$f":"IFERROR(MATCH(D36,Opasy!$M$17:$M$19,0),0)","v":0},{"$f":"IFERROR(MATCH(D36,Nr_stad!$U$8:$U$60,0),0)","v":0},0,{"$f":"$E$17*Opasy!$I$17*Opasy!$J$17","v":0},{"$f":"$D$17*Opasy!$J$17","v":0},0,0,0,0,{"$f":"OFFSET(Opasy!$H$18,AG36,0)","v":0},{"$f":"OFFSET(Opasy!$H$23,AL36,0)","v":0},0,0,0]
[null,null,null,null,null,null,null,null,null,null,null,0,"-","-","-","-",null,null,null,null,null,null,{"$error":"#VALUE!"},{"$error":"#VALUE!"},{"$f":"IFERROR(MATCH(D37,Opasy!$M$17:$M$19,0),0)","v":0},{"$f":"IFERROR(MATCH(D37,Nr_stad!$U$8:$U$60,0),0)","v":0},0,{"$f":"$E$17*Opasy!$I$17*Opasy!$J$17","v":0},{"$f":"$D$17*Opasy!$J$17","v":0},0,0,0,0,{"$f":"OFFSET(Opasy!$H$18,AG37,0)","v":0},{"$f":"OFFSET(Opasy!$H$23,AL37,0)","v":0},0,0,0]
[null,null,null,null,null,null,null,null,null,null,null,0,"-","-","-","-",null,null,null,null,null,null,{"$error":"#VALUE!"},{"$error":"#VALUE!"},{"$f":"IFERROR(MATCH(D38,Opasy!$M$17:$M$19,0),0)","v":0},{"$f":"IFERROR(MATCH(D38,Nr_stad!$U$8:$U$60,0),0)","v":0},0,{"$f":"$E$17*Opasy!$I$17*Opasy!$J$17","v":0},{"$f":"$D$17*Opasy!$J$17","v":0},0,0,0,0,{"$f":"OFFSET(Opasy!$H$18,AG38,0)","v":0},{"$f":"OFFSET(Opasy!$H$23,AL38,0)","v":0},0,0,0]
[null,null,null,null,null,null,null,null,null,null,null,0,"-","-","-","-",null,null,null,null,null,null,{"$error":"#VALUE!"},{"$error":"#VALUE!"},{"$f":"IFERROR(MATCH(D39,Opasy!$M$17:$M$19,0),0)","v":0},{"$f":"IFERROR(MATCH(D39,Nr_stad!$U$8:$U$60,0),0)","v":0},0,{"$f":"$E$17*Opasy!$I$17*Opasy!$J$17","v":0},{"$f":"$D$17*Opasy!$J$17","v":0},0,0,0,0,{"$f":"OFFSET(Opasy!$H$18,AG39,0)","v":0},{"$f":"OFFSET(Opasy!$H$23,AL39,0)","v":0},0,0,0]
[null,null,null,null,null,null,null,null,null,null,null,0,"-","-","-","-",null,null,null,null,null,null,{"$error":"#VALUE!"},{"$error":"#VALUE!"},{"$f":"IFERROR(MATCH(D40,Opasy!$M$17:$M$19,0),0)","v":0},{"$f":"IFERROR(MATCH(D40,Nr_stad!$U$8:$U$60,0),0)","v":0},0,{"$f":"$E$17*Opasy!$I$17*Opasy!$J$17","v":0},{"$f":"$D$17*Opasy!$J$17","v":0},0,0,0,0,{"$f":"OFFSET(Opasy!$H$18,AG40,0)","v":0},{"$f":"OFFSET(Opasy!$H$23,AL40,0)","v":0},0,0,0]
[null,null,null,null,null,null,null,null,null,null,null,{"$f":"IFERROR(J41*K41,\"\")","v":0},{"$f":"IF(Y41=1,OFFSET(AA41,0,1),\"-\")","v":"-"},{"$f":"IF(Y41=1,OFFSET(AA41,0,2),\"-\")","v":"-"},{"$f":"IF(Y41=3,AI41,IF(Y41=2,AH41,\"-\"))","v":"-"},{"$f":"IFERROR(IF(AND(Y41=1,G41>0,H41>0),I41,X41),\"-\")","v":"-"},null,null,null,null,null,null,{"$f":"TRUNC(L41/O41,0)","v":{"$error":"#VALUE!"}},{"$f":"IF(AND(Y41=2,L41/O41<2),\"-\",W41)","v":{"$error":"#VALUE!"}},{"$f":"IFERROR(MATCH(D41,Opasy!$M$17:$M$19,0),0)","v":0},{"$f":"IFERROR(MATCH(D41,Nr_stad!$U$8:$U$60,0),0)","v":0},{"$f":"SUM(G41:P41)+Z41","v":0},{"$f":"$E$17*Opasy!$I$17*Opasy!$J$17","v":0},{"$f":"$D$17*Opasy!$J$17","v":0},{"$f":"IF(AND(F41>$AD$22,F41<=$AD$23),1,0)","v":0},{"$f":"IF(AND(F41>$AE$22,F41<=$AE$23),2,0)","v":0},{"$f":"IF(F41>$AF$22,3,0)","v":0},{"$f":"MAX(AD41:AF41)","v":0},{"$f":"OFFSET(Opasy!$H$18,AG41,0)","v":0},{"$f":"OFFSET(Opasy!$H$23,AL41,0)","v":0},{"$f":"IF(AND(F41>$AJ$22,F41<=$AJ$23),1,0)","v":0},{"$f":"IF(F41>$AK$22,2,0)","v":0},{"$f":"MAX(AJ41:AK41)","v":0}]
[null,null,null,null,null,null,null,null,null,null,null,0,"-","-","-","-",null,null,null,null,null,null,{"$error":"#VALUE!"},{"$error":"#VALUE!"},{"$f":"IFERROR(MATCH(D42,Opasy!$M$17:$M$19,0),0)","v":0},{"$f":"IFERROR(MATCH(D42,Nr_stad!$U$8:$U$60,0),0)","v":0},0,{"$f":"$E$17*Opasy!$I$17*Opasy!$J$17","v":0},{"$f":"$D$17*Opasy!$J$17","v":0},0,0,0,0,{"$f":"OFFSET(Opasy!$H$18,AG42,0)","v":0},{"$f":"OFFSET(Opasy!$H$23,AL42,0)","v":0},0,0,0]
[null,null,null,null,null,null,null,null,null,null,null,0,"-","-","-","-",null,null,null,null,null,null,{"$error":"#VALUE!"},{"$error":"#VALUE!"},{"$f":"IFERROR(MATCH(D43,Opasy!$M$17:$M$19,0),0)","v":0},{"$f":"IFERROR(MATCH(D43,Nr_stad!$U$8:$U$60,0),0)","v":0},0,{"$f":"$E$17*Opasy!$I$17*Opasy!$J$17","v":0},{"$f":"$D$17*Opasy!$J$17","v":0},0,0,0,0,{"$f":"OFFSET(Opasy!$H$18,AG43,0)","v":0},{"$f":"OFFSET(Opasy!$H$23,AL43,0)","v":0},0,0,0]
[null,null,null,null,null,null,null,null,null,null,null,0,"-","-","-","-",null,null,null,null,null,null,{"$error":"#VALUE!"},{"$error":"#VALUE!"},{"$f":"IFERROR(MATCH(D44,Opasy!$M$17:$M$19,0),0)","v":0},{"$f":"IFERROR(MATCH(D44,Nr_stad!$U$8:$U$60,0),0)","v":0},0,{"$f":"$E$17*Opasy!$I$17*Opasy!$J$17","v":0},{"$f":"$D$17*Opasy!$J$17","v":0},0,0,0,0,{"$f":"OFFSET(Opasy!$H$18,AG44,0)","v":0},{"$f":"OFFSET(Opasy!$H$23,AL44,0)","v":0},0,0,0]
[null,null,null,null,null,null,null,null,null,null,null,0,"-","-","-","-",null,null,null,null,null,null,{"$error":"#VALUE!"},{"$error":"#VALUE!"},{"$f":"IFERROR(MATCH(D45,Opasy!$M$17:$M$19,0),0)","v":0},{"$f":"IFERROR(MATCH(D45,Nr_stad!$U$8:$U$60,0),0)","v":0},0,{"$f":"$E$17*Opasy!$I$17*Opasy!$J$17","v":0},{"$f":"$D$17*Opasy!$J$17","v":0},0,0,0,0,{"$f":"OFFSET(Opasy!$H$18,AG45,0)","v":0},{"$f":"OFFSET(Opasy!$H$23,AL45,0)","v":0},0,0,0]
[null,null,null,null,null,null,null,null,null,null,null,0,"-","-","-","-",null,null,null,null,null,null,{"$error":"#VALUE!"},{"$error":"#VALUE!"},{"$f":"IFERROR(MATCH(D46,Opasy!$M$17:$M$19,0),0)","v":0},{"$f":"IFERROR(MATCH(D46,Nr_stad!$U$8:$U$60,0),0)","v":0},0,{"$f":"$E$17*Opasy!$I$17*Opasy!$J$17","v":0},{"$f":"$D$17*Opasy!$J$17","v":0},0,0,0,0,{"$f":"OFFSET(Opasy!$H$18,AG46,0)","v":0},{"$f":"OFFSET(Opasy!$H$23,AL46,0)","v":0},0,0,0]
[null,null,null,null,null,null,null,null,null,null,null,0,"-","-","-","-",null,null,null,null,null,null,{"$error":"#VALUE!"},{"$error":"#VALUE!"},{"$f":"IFERROR(MATCH(D47,Opasy!$M$17:$M$19,0),0)","v":0},{"$f":"IFERROR(MATCH(D47,Nr_stad!$U$8:$U$60,0),0)","v":0},0,{"$f":"$E$17*Opasy!$I$17*Opasy!$J$17","v":0},{"$f":"$D$17*Opasy!$J$17","v":0},0,0,0,0,{"$f":"OFFSET(Opasy!$H$18,AG47,0)","v":0},{"$f":"OFFSET(Opasy!$H$23,AL47,0)","v":0},0,0,0]
[null,null,null,null,null,null,null,null,null,null,null,0,"-","-","-","-",null,null,null,null,null,null,{"$error":"#VALUE!"},{"$error":"#VALUE!"},{"$f":"IFERROR(MATCH(D48,Opasy!$M$17:$M$19,0),0)","v":0},{"$f":"IFERROR(MATCH(D48,Nr_stad!$U$8:$U$60,0),0)","v":0},0,{"$f":"$E$17*Opasy!$I$17*Opasy!$J$17","v":0},{"$f":"$D$17*Opasy!$J$17","v":0},0,0,0,0,{"$f":"OFFSET(Opasy!$H$18,AG48,0)","v":0},{"$f":"OFFSET(Opasy!$H$23,AL48,0)","v":0},0,0,0]
[null,null,null,null,null,null,null,null,null,null,null,0,"-","-","-","-",null,null,null,null,null,null,{"$error":"#VALUE!"},{"$error":"#VALUE!"},{"$f":"IFERROR(MATCH(D49,Opasy!$M$17:$M$19,0),0)","v":0},{"$f":"IFERROR(MATCH(D49,Nr_stad!$U$8:$U$60,0),0)","v":0},0,{"$f":"$E$17*Opasy!$I$17*Opasy!$J$17","v":0},{"$f":"$D$17*Opasy!$J$17","v":0},0,0,0,0,{"$f":"OFFSET(Opasy!$H$18,AG49,0)","v":0},{"$f":"OFFSET(Opasy!$H$23,AL49,0)","v":0},0,0,0]
[null,null,null,null,null,null,null,null,null,null,null,0,"-","-","-","-",null,null,null,null,null,null,{"$error":"#VALUE!"},{"$error":"#VALUE!"},{"$f":"IFERROR(MATCH(D50,Opasy!$M$17:$M$19,0),0)","v":0},{"$f":"IFERROR(MATCH(D50,Nr_stad!$U$8:$U$60,0),0)","v":0},0,{"$f":"$E$17*Opasy!$I$17*Opasy!$J$17","v":0},{"$f":"$D$17*Opasy!$J$17","v":0},0,0,0,0,{"$f":"OFFSET(Opasy!$H$18,AG50,0)","v":0},{"$f":"OFFSET(Opasy!$H$23,AL50,0)","v":0},0,0,0]
[null,null,null,null,null,null,null,null,null,null,null,0,"-","-","-","-",null,null,null,null,null,null,{"$error":"#VALUE!"},{"$error":"#VALUE!"},{"$f":"IFERROR(MATCH(D51,Opasy!$M$17:$M$19,0),0)","v":0},{"$f":"IFERROR(MATCH(D51,Nr_stad!$U$8:$U$60,0),0)","v":0},0,{"$f":"$E$17*Opasy!$I$17*Opasy!$J$17","v":0},{"$f":"$D$17*Opasy!$J$17","v":0},0,0,0,0,{"$f":"OFFSET(Opasy!$H$18,AG51,0)","v":0},{"$f":"OFFSET(Opasy!$H$23,AL51,0)","v":0},0,0,0]
[null,null,null,null,null,null,null,null,null,null,null,0,"-","-","-","-",null,null,null,null,null,null,{"$error":"#VALUE!"},{"$error":"#VALUE!"},{"$f":"IFERROR(MATCH(D52,Opasy!$M$17:$M$19,0),0)","v":0},{"$f":"IFERROR(MATCH(D52,Nr_stad!$U$8:$U$60,0),0)","v":0},0,{"$f":"$E$17*Opasy!$I$17*Opasy!$J$17","v":0},{"$f":"$D$17*Opasy!$J$17","v":0},0,0,0,0,{"$f":"OFFSET(Opasy!$H$18,AG52,0)","v":0},{"$f":"OFFSET(Opasy!$H$23,AL52,0)","v":0},0,0,0]
[null,null,null,null,null,null,null,null,null,null,null,0,"-","-","-","-",null,null,null,null,null,null,{"$error":"#VALUE!"},{"$error":"#VALUE!"},{"$f":"IFERROR(MATCH(D53,Opasy!$M$17:$M$19,0),0)","v":0},{"$f":"IFERROR(MATCH(D53,Nr_stad!$U$8:$U$60,0),0)","v":0},0,{"$f":"$E$17*Opasy!$I$17*Opasy!$J$17","v":0},{"$f":"$D$17*Opasy!$J$17","v":0},0,0,0,0,{"$f":"OFFSET(Opasy!$H$18,AG53,0)","v":0},{"$f":"OFFSET(Opasy!$H$23,AL53,0)","v":0},0,0,0]
[null,null,null,null,null,null,null,null,null,null,null,0,"-","-","-","-",null,null,null,null,null,null,{"$error":"#VALUE!"},{"$error":"#VALUE!"},{"$f":"IFERROR(MATCH(D54,Opasy!$M$17:$M$19,0),0)","v":0},{"$f":"IFERROR(MATCH(D54,Nr_stad!$U$8:$U$60,0),0)","v":0},0,{"$f":"$E$17*Opasy!$I$17*Opasy!$J$17","v":0},{"$f":"$D$17*Opasy!$J$17","v":0},0,0,0,0,{"$f":"OFFSET(Opasy!$H$18,AG54,0)","v":0},{"$f":"OFFSET(Opasy!$H$23,AL54,0)","v":0},0,0,0]
[null,null,null,null,null,null,null,null,null,null,null,0,"-","-","-","-",null,null,null,null,null,null,{"$error":"#VALUE!"},{"$error":"#VALUE!"},{"$f":"IFERROR(MATCH(D55,Opasy!$M$17:$M$19,0),0)","v":0},{"$f":"IFERROR(MATCH(D55,Nr_stad!$U$8:$U$60,0),0)","v":0},0,{"$f":"$E$17*Opasy!$I$17*Opasy!$J$17","v":0},{"$f":"$D$17*Opasy!$J$17","v":0},0,0,0,0,{"$f":"OFFSET(Opasy!$H$18,AG55,0)","v":0},{"$f":"OFFSET(Opasy!$H$23,AL55,0)","v":0},0,0,0]
[null,null,null,null,null,null,null,null,null,null,null,0,"-","-","-","-",null,null,null,null,null,null,{"$error":"#VALUE!"},{"$error":"#VALUE!"},{"$f":"IFERROR(MATCH(D56,Opasy!$M$17:$M$19,0),0)","v":0},{"$f":"IFERROR(MATCH(D56,Nr_stad!$U$8:$U$60,0),0)","v":0},0,{"$f":"$E$17*Opasy!$I$17*Opasy!$J$17","v":0},{"$f":"$D$17*Opasy!$J$17","v":0},0,0,0,0,{"$f":"OFFSET(Opasy!$H$18,AG56,0)","v":0},{"$f":"OFFSET(Opasy!$H$23,AL56,0)","v":0},0,0,0]
[null,null,null,null,null,null,null,null,null,null,null,0,"-","-","-","-",null,null,null,null,null,null,{"$error":"#VALUE!"},{"$error":"#VALUE!"},{"$f":"IFERROR(MATCH(D57,Opasy!$M$17:$M$19,0),0)","v":0},{"$f":"IFERROR(MATCH(D57,Nr_stad!$U$8:$U$60,0),0)","v":0},0,{"$f":"$E$17*Opasy!$I$17*Opasy!$J$17","v":0},{"$f":"$D$17*Opasy!$J$17","v":0},0,0,0,0,{"$f":"OFFSET(Opasy!$H$18,AG57,0)","v":0},{"$f":"OFFSET(Opasy!$H$23,AL57,0)","v":0},0,0,0]
[null,null,null,null,null,null,null,null,null,null,null,0,"-","-","-","-",null,null,null,null,null,null,{"$error":"#VALUE!"},{"$error":"#VALUE!"},{"$f":"IFERROR(MATCH(D58,Opasy!$M$17:$M$19,0),0)","v":0},{"$f":"IFERROR(MATCH(D58,Nr_stad!$U$8:$U$60,0),0)","v":0},0,{"$f":"$E$17*Opasy!$I$17*Opasy!$J$17","v":0},{"$f":"$D$17*Opasy!$J$17","v":0},0,0,0,0,{"$f":"OFFSET(Opasy!$H$18,AG58,0)","v":0},{"$f":"OFFSET(Opasy!$H$23,AL58,0)","v":0},0,0,0]
[null,null,null,null,null,null,null,null,null,null,null,0,"-","-","-","-",null,null,null,null,null,null,{"$error":"#VALUE!"},{"$error":"#VALUE!"},{"$f":"IFERROR(MATCH(D59,Opasy!$M$17:$M$19,0),0)","v":0},{"$f":"IFERROR(MATCH(D59,Nr_stad!$U$8:$U$60,0),0)","v":0},0,{"$f":"$E$17*Opasy!$I$17*Opasy!$J$17","v":0},{"$f":"$D$17*Opasy!$J$17","v":0},0,0,0,0,{"$f":"OFFSET(Opasy!$H$18,AG59,0)","v":0},{"$f":"OFFSET(Opasy!$H$23,AL59,0)","v":0},0,0,0]
[null,null,null,null,null,null,null,null,null,null,null,0,"-","-","-","-",null,null,null,null,null,null,{"$error":"#VALUE!"},{"$error":"#VALUE!"},{"$f":"IFERROR(MATCH(D60,Opasy!$M$17:$M$19,0),0)","v":0},{"$f":"IFERROR(MATCH(D60,Nr_stad!$U$8:$U$60,0),0)","v":0},0,{"$f":"$E$17*Opasy!$I$17*Opasy!$J$17","v":0},{"$f":"$D$17*Opasy!$J$17","v":0},0,0,0,0,{"$f":"OFFSET(Opasy!$H$18,AG60,0)","v":0},{"$f":"OFFSET(Opasy!$H$23,AL60,0)","v":0},0,0,0]
[null,null,null,null,null,null,null,null,null,null,null,0,"-","-","-","-",null,null,null,null,null,null,{"$error":"#VALUE!"},{"$error":"#VALUE!"},{"$f":"IFERROR(MATCH(D61,Opasy!$M$17:$M$19,0),0)","v":0},{"$f":"IFERROR(MATCH(D61,Nr_stad!$U$8:$U$60,0),0)","v":0},0,{"$f":"$E$17*Opasy!$I$17*Opasy!$J$17","v":0},{"$f":"$D$17*Opasy!$J$17","v":0},0,0,0,0,{"$f":"OFFSET(Opasy!$H$18,AG61,0)","v":0},{"$f":"OFFSET(Opasy!$H$23,AL61,0)","v":0},0,0,0]
[null,null,null,null,null,null,null,null,null,null,null,0,"-","-","-","-",null,null,null,null,null,null,{"$error":"#VALUE!"},{"$error":"#VALUE!"},{"$f":"IFERROR(MATCH(D62,Opasy!$M$17:$M$19,0),0)","v":0},{"$f":"IFERROR(MATCH(D62,Nr_stad!$U$8:$U$60,0),0)","v":0},0,{"$f":"$E$17*Opasy!$I$17*Opasy!$J$17","v":0},{"$f":"$D$17*Opasy!$J$17","v":0},0,0,0,0,{"$f":"OFFSET(Opasy!$H$18,AG62,0)","v":0},{"$f":"OFFSET(Opasy!$H$23,AL62,0)","v":0},0,0,0]
[null,null,null,null,null,null,null,null,null,null,null,0,"-","-","-","-",null,null,null,null,null,null,{"$error":"#VALUE!"},{"$error":"#VALUE!"},{"$f":"IFERROR(MATCH(D63,Opasy!$M$17:$M$19,0),0)","v":0},{"$f":"IFERROR(MATCH(D63,Nr_stad!$U$8:$U$60,0),0)","v":0},0,{"$f":"$E$17*Opasy!$I$17*Opasy!$J$17","v":0},{"$f":"$D$17*Opasy!$J$17","v":0},0,0,0,0,{"$f":"OFFSET(Opasy!$H$18,AG63,0)","v":0},{"$f":"OFFSET(Opasy!$H$23,AL63,0)","v":0},0,0,0]
[null,null,null,null,null,null,null,null,null,null,null,0,"-","-","-","-",null,null,null,null,null,null,{"$error":"#VALUE!"},{"$error":"#VALUE!"},{"$f":"IFERROR(MATCH(D64,Opasy!$M$17:$M$19,0),0)","v":0},{"$f":"IFERROR(MATCH(D64,Nr_stad!$U$8:$U$60,0),0)","v":0},0,{"$f":"$E$17*Opasy!$I$17*Opasy!$J$17","v":0},{"$f":"$D$17*Opasy!$J$17","v":0},0,0,0,0,{"$f":"OFFSET(Opasy!$H$18,AG64,0)","v":0},{"$f":"OFFSET(Opasy!$H$23,AL64,0)","v":0},0,0,0]
[null,null,null,null,null,null,null,null,null,null,null,0,"-","-","-","-",null,null,null,null,null,null,{"$error":"#VALUE!"},{"$error":"#VALUE!"},{"$f":"IFERROR(MATCH(D65,Opasy!$M$17:$M$19,0),0)","v":0},{"$f":"IFERROR(MATCH(D65,Nr_stad!$U$8:$U$60,0),0)","v":0},0,{"$f":"$E$17*Opasy!$I$17*Opasy!$J$17","v":0},{"$f":"$D$17*Opasy!$J$17","v":0},0,0,0,0,{"$f":"OFFSET(Opasy!$H$18,AG65,0)","v":0},{"$f":"OFFSET(Opasy!$H$23,AL65,0)","v":0},0,0,0]
[null,null,null,null,null,null,null,null,null,null,null,0,"-","-","-","-",null,null,null,null,null,null,{"$error":"#VALUE!"},{"$error":"#VALUE!"},{"$f":"IFERROR(MATCH(D66,Opasy!$M$17:$M$19,0),0)","v":0},{"$f":"IFERROR(MATCH(D66,Nr_stad!$U$8:$U$60,0),0)","v":0},0,{"$f":"$E$17*Opasy!$I$17*Opasy!$J$17","v":0},{"$f":"$D$17*Opasy!$J$17","v":0},0,0,0,0,{"$f":"OFFSET(Opasy!$H$18,AG66,0)","v":0},{"$f":"OFFSET(Opasy!$H$23,AL66,0)","v":0},0,0,0]
[null,null,null,null,null,null,null,null,null,null,null,0,"-","-","-","-",null,null,null,null,null,null,{"$error":"#VALUE!"},{"$error":"#VALUE!"},{"$f":"IFERROR(MATCH(D67,Opasy!$M$17:$M$19,0),0)","v":0},{"$f":"IFERROR(MATCH(D67,Nr_stad!$U$8:$U$60,0),0)","v":0},0,{"$f":"$E$17*Opasy!$I$17*Opasy!$J$17","v":0},{"$f":"$D$17*Opasy!$J$17","v":0},0,0,0,0,{"$f":"OFFSET(Opasy!$H$18,AG67,0)","v":0},{"$f":"OFFSET(Opasy!$H$23,AL67,0)","v":0},0,0,0]
[null,null,null,null,null,null,null,null,null,null,null,0,"-","-","-","-",null,null,null,null,null,null,{"$error":"#VALUE!"},{"$error":"#VALUE!"},{"$f":"IFERROR(MATCH(D68,Opasy!$M$17:$M$19,0),0)","v":0},{"$f":"IFERROR(MATCH(D68,Nr_stad!$U$8:$U$60,0),0)","v":0},0,{"$f":"$E$17*Opasy!$I$17*Opasy!$J$17","v":0},{"$f":"$D$17*Opasy!$J$17","v":0},0,0,0,0,{"$f":"OFFSET(Opasy!$H$18,AG68,0)","v":0},{"$f":"OFFSET(Opasy!$H$23,AL68,0)","v":0},0,0,0]
[null,null,null,null,null,null,null,null,null,null,null,0,"-","-","-","-",null,null,null,null,null,null,{"$error":"#VALUE!"},{"$error":"#VALUE!"},{"$f":"IFERROR(MATCH(D69,Opasy!$M$17:$M$19,0),0)","v":0},{"$f":"IFERROR(MATCH(D69,Nr_stad!$U$8:$U$60,0),0)","v":0},0,{"$f":"$E$17*Opasy!$I$17*Opasy!$J$17","v":0},{"$f":"$D$17*Opasy!$J$17","v":0},0,0,0,0,{"$f":"OFFSET(Opasy!$H$18,AG69,0)","v":0},{"$f":"OFFSET(Opasy!$H$23,AL69,0)","v":0},0,0,0]
[null,null,null,null,null,null,null,null,null,null,null,0,"-","-","-","-",null,null,null,null,null,null,{"$error":"#VALUE!"},{"$error":"#VALUE!"},{"$f":"IFERROR(MATCH(D70,Opasy!$M$17:$M$19,0),0)","v":0},{"$f":"IFERROR(MATCH(D70,Nr_stad!$U$8:$U$60,0),0)","v":0},0,{"$f":"$E$17*Opasy!$I$17*Opasy!$J$17","v":0},{"$f":"$D$17*Opasy!$J$17","v":0},0,0,0,0,{"$f":"OFFSET(Opasy!$H$18,AG70,0)","v":0},{"$f":"OFFSET(Opasy!$H$23,AL70,0)","v":0},0,0,0]
[null,null,null,null,null,null,null,null,null,null,null,0,"-","-","-","-",null,null,null,null,null,null,{"$error":"#VALUE!"},{"$error":"#VALUE!"},{"$f":"IFERROR(MATCH(D71,Opasy!$M$17:$M$19,0),0)","v":0},{"$f":"IFERROR(MATCH(D71,Nr_stad!$U$8:$U$60,0),0)","v":0},0,{"$f":"$E$17*Opasy!$I$17*Opasy!$J$17","v":0},{"$f":"$D$17*Opasy!$J$17","v":0},0,0,0,0,{"$f":"OFFSET(Opasy!$H$18,AG71,0)","v":0},{"$f":"OFFSET(Opasy!$H$23,AL71,0)","v":0},0,0,0]
[null,null,null,null,null,null,null,null,null,null,null,0,"-","-","-","-",null,null,null,null,null,null,{"$error":"#VALUE!"},{"$error":"#VALUE!"},{"$f":"IFERROR(MATCH(D72,Opasy!$M$17:$M$19,0),0)","v":0},{"$f":"IFERROR(MATCH(D72,Nr_stad!$U$8:$U$60,0),0)","v":0},0,{"$f":"$E$17*Opasy!$I$17*Opasy!$J$17","v":0},{"$f":"$D$17*Opasy!$J$17","v":0},0,0,0,0,{"$f":"OFFSET(Opasy!$H$18,AG72,0)","v":0},{"$f":"OFFSET(Opasy!$H$23,AL72,0)","v":0},0,0,0]
[null,null,null,null,null,null,null,null,null,null,null,0,"-","-","-","-",null,null,null,null,null,null,{"$error":"#VALUE!"},{"$error":"#VALUE!"},{"$f":"IFERROR(MATCH(D73,Opasy!$M$17:$M$19,0),0)","v":0},{"$f":"IFERROR(MATCH(D73,Nr_stad!$U$8:$U$60,0),0)","v":0},0,{"$f":"$E$17*Opasy!$I$17*Opasy!$J$17","v":0},{"$f":"$D$17*Opasy!$J$17","v":0},0,0,0,0,{"$f":"OFFSET(Opasy!$H$18,AG73,0)","v":0},{"$f":"OFFSET(Opasy!$H$23,AL73,0)","v":0},0,0,0]
[null,null,null,null,null,null,null,null,null,null,null,0,"-","-","-","-",null,null,null,null,null,null,{"$error":"#VALUE!"},{"$error":"#VALUE!"},{"$f":"IFERROR(MATCH(D74,Opasy!$M$17:$M$19,0),0)","v":0},{"$f":"IFERROR(MATCH(D74,Nr_stad!$U$8:$U$60,0),0)","v":0},0,{"$f":"$E$17*Opasy!$I$17*Opasy!$J$17","v":0},{"$f":"$D$17*Opasy!$J$17","v":0},0,0,0,0,{"$f":"OFFSET(Opasy!$H$18,AG74,0)","v":0},{"$f":"OFFSET(Opasy!$H$23,AL74,0)","v":0},0,0,0]
[null,null,null,null,null,null,null,null,null,null,null,0,"-","-","-","-",null,null,null,null,null,null,{"$error":"#VALUE!"},{"$error":"#VALUE!"},{"$f":"IFERROR(MATCH(D75,Opasy!$M$17:$M$19,0),0)","v":0},{"$f":"IFERROR(MATCH(D75,Nr_stad!$U$8:$U$60,0),0)","v":0},0,{"$f":"$E$17*Opasy!$I$17*Opasy!$J$17","v":0},{"$f":"$D$17*Opasy!$J$17","v":0},0,0,0,0,{"$f":"OFFSET(Opasy!$H$18,AG75,0)","v":0},{"$f":"OFFSET(Opasy!$H$23,AL75,0)","v":0},0,0,0]
[null,null,null,null,null,null,null,null,null,null,null,0,"-","-","-","-",null,null,null,null,null,null,{"$error":"#VALUE!"},{"$error":"#VALUE!"},{"$f":"IFERROR(MATCH(D76,Opasy!$M$17:$M$19,0),0)","v":0},{"$f":"IFERROR(MATCH(D76,Nr_stad!$U$8:$U$60,0),0)","v":0},0,{"$f":"$E$17*Opasy!$I$17*Opasy!$J$17","v":0},{"$f":"$D$17*Opasy!$J$17","v":0},0,0,0,0,{"$f":"OFFSET(Opasy!$H$18,AG76,0)","v":0},{"$f":"OFFSET(Opasy!$H$23,AL76,0)","v":0},0,0,0]
[null,null,null,null,null,null,null,null,null,null,null,0,"-","-","-","-",null,null,null,null,null,null,{"$error":"#VALUE!"},{"$error":"#VALUE!"},{"$f":"IFERROR(MATCH(D77,Opasy!$M$17:$M$19,0),0)","v":0},{"$f":"IFERROR(MATCH(D77,Nr_stad!$U$8:$U$60,0),0)","v":0},0,{"$f":"$E$17*Opasy!$I$17*Opasy!$J$17","v":0},{"$f":"$D$17*Opasy!$J$17","v":0},0,0,0,0,{"$f":"OFFSET(Opasy!$H$18,AG77,0)","v":0},{"$f":"OFFSET(Opasy!$H$23,AL77,0)","v":0},0,0,0]
[null,null,null,null,null,null,null,null,null,null,null,0,"-","-","-","-",null,null,null,null,null,null,{"$error":"#VALUE!"},{"$error":"#VALUE!"},{"$f":"IFERROR(MATCH(D78,Opasy!$M$17:$M$19,0),0)","v":0},{"$f":"IFERROR(MATCH(D78,Nr_stad!$U$8:$U$60,0),0)","v":0},0,{"$f":"$E$17*Opasy!$I$17*Opasy!$J$17","v":0},{"$f":"$D$17*Opasy!$J$17","v":0},0,0,0,0,{"$f":"OFFSET(Opasy!$H$18,AG78,0)","v":0},{"$f":"OFFSET(Opasy!$H$23,AL78,0)","v":0},0,0,0]
[null,null,null,null,null,null,null,null,null,null,null,0,"-","-","-","-",null,null,null,null,null,null,{"$error":"#VALUE!"},{"$error":"#VALUE!"},{"$f":"IFERROR(MATCH(D79,Opasy!$M$17:$M$19,0),0)","v":0},{"$f":"IFERROR(MATCH(D79,Nr_stad!$U$8:$U$60,0),0)","v":0},0,{"$f":"$E$17*Opasy!$I$17*Opasy!$J$17","v":0},{"$f":"$D$17*Opasy!$J$17","v":0},0,0,0,0,{"$f":"OFFSET(Opasy!$H$18,AG79,0)","v":0},{"$f":"OFFSET(Opasy!$H$23,AL79,0)","v":0},0,0,0]
[null,null,null,null,null,null,null,null,null,null,null,0,"-","-","-","-",null,null,null,null,null,null,{"$error":"#VALUE!"},{"$error":"#VALUE!"},{"$f":"IFERROR(MATCH(D80,Opasy!$M$17:$M$19,0),0)","v":0},{"$f":"IFERROR(MATCH(D80,Nr_stad!$U$8:$U$60,0),0)","v":0},0,{"$f":"$E$17*Opasy!$I$17*Opasy!$J$17","v":0},{"$f":"$D$17*Opasy!$J$17","v":0},0,0,0,0,{"$f":"OFFSET(Opasy!$H$18,AG80,0)","v":0},{"$f":"OFFSET(Opasy!$H$23,AL80,0)","v":0},0,0,0]
[null,null,null,null,null,null,null,null,null,null,null,0,"-","-","-","-",null,null,null,null,null,null,{"$error":"#VALUE!"},{"$error":"#VALUE!"},{"$f":"IFERROR(MATCH(D81,Opasy!$M$17:$M$19,0),0)","v":0},{"$f":"IFERROR(MATCH(D81,Nr_stad!$U$8:$U$60,0),0)","v":0},0,{"$f":"$E$17*Opasy!$I$17*Opasy!$J$17","v":0},{"$f":"$D$17*Opasy!$J$17","v":0},0,0,0,0,{"$f":"OFFSET(Opasy!$H$18,AG81,0)","v":0},{"$f":"OFFSET(Opasy!$H$23,AL81,0)","v":0},0,0,0]
[null,null,null,null,null,null,null,null,null,null,null,0,"-","-","-","-",null,null,null,null,null,null,{"$error":"#VALUE!"},{"$error":"#VALUE!"},{"$f":"IFERROR(MATCH(D82,Opasy!$M$17:$M$19,0),0)","v":0},{"$f":"IFERROR(MATCH(D82,Nr_stad!$U$8:$U$60,0),0)","v":0},0,{"$f":"$E$17*Opasy!$I$17*Opasy!$J$17","v":0},{"$f":"$D$17*Opasy!$J$17","v":0},0,0,0,0,{"$f":"OFFSET(Opasy!$H$18,AG82,0)","v":0},{"$f":"OFFSET(Opasy!$H$23,AL82,0)","v":0},0,0,0]
[null,null,null,null,null,null,null,null,null,null,null,0,"-","-","-","-",null,null,null,null,null,null,{"$error":"#VALUE!"},{"$error":"#VALUE!"},{"$f":"IFERROR(MATCH(D83,Opasy!$M$17:$M$19,0),0)","v":0},{"$f":"IFERROR(MATCH(D83,Nr_stad!$U$8:$U$60,0),0)","v":0},0,{"$f":"$E$17*Opasy!$I$17*Opasy!$J$17","v":0},{"$f":"$D$17*Opasy!$J$17","v":0},0,0,0,0,{"$f":"OFFSET(Opasy!$H$18,AG83,0)","v":0},{"$f":"OFFSET(Opasy!$H$23,AL83,0)","v":0},0,0,0]
[null,null,null,null,null,null,null,null,null,null,null,0,"-","-","-","-",null,null,null,null,null,null,{"$error":"#VALUE!"},{"$error":"#VALUE!"},{"$f":"IFERROR(MATCH(D84,Opasy!$M$17:$M$19,0),0)","v":0},{"$f":"IFERROR(MATCH(D84,Nr_stad!$U$8:$U$60,0),0)","v":0},0,{"$f":"$E$17*Opasy!$I$17*Opasy!$J$17","v":0},{"$f":"$D$17*Opasy!$J$17","v":0},0,0,0,0,{"$f":"OFFSET(Opasy!$H$18,AG84,0)","v":0},{"$f":"OFFSET(Opasy!$H$23,AL84,0)","v":0},0,0,0]
[null,null,null,null,null,null,null,null,null,null,null,0,"-","-","-","-",null,null,null,null,null,null,{"$error":"#VALUE!"},{"$error":"#VALUE!"},{"$f":"IFERROR(MATCH(D85,Opasy!$M$17:$M$19,0),0)","v":0},{"$f":"IFERROR(MATCH(D85,Nr_stad!$U$8:$U$60,0),0)","v":0},0,{"$f":"$E$17*Opasy!$I$17*Opasy!$J$17","v":0},{"$f":"$D$17*Opasy!$J$17","v":0},0,0,0,0,{"$f":"OFFSET(Opasy!$H$18,AG85,0)","v":0},{"$f":"OFFSET(Opasy!$H$23,AL85,0)","v":0},0,0,0]
[null,null,null,null,null,null,null,null,null,null,null,0,"-","-","-","-",null,null,null,null,null,null,{"$error":"#VALUE!"},{"$error":"#VALUE!"},{"$f":"IFERROR(MATCH(D86,Opasy!$M$17:$M$19,0),0)","v":0},{"$f":"IFERROR(MATCH(D86,Nr_stad!$U$8:$U$60,0),0)","v":0},0,{"$f":"$E$17*Opasy!$I$17*Opasy!$J$17","v":0},{"$f":"$D$17*Opasy!$J$17","v":0},0,0,0,0,{"$f":"OFFSET(Opasy!$H$18,AG86,0)","v":0},{"$f":"OFFSET(Opasy!$H$23,AL86,0)","v":0},0,0,0]
[null,null,null,null,null,null,null,null,null,null,null,0,"-","-","-","-",null,null,null,null,null,null,{"$error":"#VALUE!"},{"$error":"#VALUE!"},{"$f":"IFERROR(MATCH(D87,Opasy!$M$17:$M$19,0),0)","v":0},{"$f":"IFERROR(MATCH(D87,Nr_stad!$U$8:$U$60,0),0)","v":0},0,{"$f":"$E$17*Opasy!$I$17*Opasy!$J$17","v":0},{"$f":"$D$17*Opasy!$J$17","v":0},0,0,0,0,{"$f":"OFFSET(Opasy!$H$18,AG87,0)","v":0},{"$f":"OFFSET(Opasy!$H$23,AL87,0)","v":0},0,0,0]
[null,null,null,null,null,null,null,null,null,null,null,0,"-","-","-","-",null,null,null,null,null,null,{"$error":"#VALUE!"},{"$error":"#VALUE!"},{"$f":"IFERROR(MATCH(D88,Opasy!$M$17:$M$19,0),0)","v":0},{"$f":"IFERROR(MATCH(D88,Nr_stad!$U$8:$U$60,0),0)","v":0},0,{"$f":"$E$17*Opasy!$I$17*Opasy!$J$17","v":0},{"$f":"$D$17*Opasy!$J$17","v":0},0,0,0,0,{"$f":"OFFSET(Opasy!$H$18,AG88,0)","v":0},{"$f":"OFFSET(Opasy!$H$23,AL88,0)","v":0},0,0,0]
[null,null,null,null,null,null,null,null,null,null,null,0,"-","-","-","-",null,null,null,null,null,null,{"$error":"#VALUE!"},{"$error":"#VALUE!"},{"$f":"IFERROR(MATCH(D89,Opasy!$M$17:$M$19,0),0)","v":0},{"$f":"IFERROR(MATCH(D89,Nr_stad!$U$8:$U$60,0),0)","v":0},0,{"$f":"$E$17*Opasy!$I$17*Opasy!$J$17","v":0},{"$f":"$D$17*Opasy!$J$17","v":0},0,0,0,0,{"$f":"OFFSET(Opasy!$H$18,AG89,0)","v":0},{"$f":"OFFSET(Opasy!$H$23,AL89,0)","v":0},0,0,0]
[null,null,null,null,null,null,null,null,null,null,null,0,"-","-","-","-",null,null,null,null,null,null,{"$error":"#VALUE!"},{"$error":"#VALUE!"},{"$f":"IFERROR(MATCH(D90,Opasy!$M$17:$M$19,0),0)","v":0},{"$f":"IFERROR(MATCH(D90,Nr_stad!$U$8:$U$60,0),0)","v":0},0,{"$f":"$E$17*Opasy!$I$17*Opasy!$J$17","v":0},{"$f":"$D$17*Opasy!$J$17","v":0},0,0,0,0,{"$f":"OFFSET(Opasy!$H$18,AG90,0)","v":0},{"$f":"OFFSET(Opasy!$H$23,AL90,0)","v":0},0,0,0]
[null,null,null,null,null,null,null,null,null,null,null,0,"-","-","-","-",null,null,null,null,null,null,{"$error":"#VALUE!"},{"$error":"#VALUE!"},{"$f":"IFERROR(MATCH(D91,Opasy!$M$17:$M$19,0),0)","v":0},{"$f":"IFERROR(MATCH(D91,Nr_stad!$U$8:$U$60,0),0)","v":0},0,{"$f":"$E$17*Opasy!$I$17*Opasy!$J$17","v":0},{"$f":"$D$17*Opasy!$J$17","v":0},0,0,0,0,{"$f":"OFFSET(Opasy!$H$18,AG91,0)","v":0},{"$f":"OFFSET(Opasy!$H$23,AL91,0)","v":0},0,0,0]
[null,null,null,null,null,null,null,null,null,null,null,0,"-","-","-","-",null,null,null,null,null,null,{"$error":"#VALUE!"},{"$error":"#VALUE!"},{"$f":"IFERROR(MATCH(D92,Opasy!$M$17:$M$19,0),0)","v":0},{"$f":"IFERROR(MATCH(D92,Nr_stad!$U$8:$U$60,0),0)","v":0},0,{"$f":"$E$17*Opasy!$I$17*Opasy!$J$17","v":0},{"$f":"$D$17*Opasy!$J$17","v":0},0,0,0,0,{"$f":"OFFSET(Opasy!$H$18,AG92,0)","v":0},{"$f":"OFFSET(Opasy!$H$23,AL92,0)","v":0},0,0,0]
[null,null,null,null,null,null,null,null,null,null,null,0,"-","-","-","-",null,null,null,null,null,null,{"$error":"#VALUE!"},{"$error":"#VALUE!"},{"$f":"IFERROR(MATCH(D93,Opasy!$M$17:$M$19,0),0)","v":0},{"$f":"IFERROR(MATCH(D93,Nr_stad!$U$8:$U$60,0),0)","v":0},0,{"$f":"$E$17*Opasy!$I$17*Opasy!$J$17","v":0},{"$f":"$D$17*Opasy!$J$17","v":0},0,0,0,0,{"$f":"OFFSET(Opasy!$H$18,AG93,0)","v":0},{"$f":"OFFSET(Opasy!$H$23,AL93,0)","v":0},0,0,0]
[null,null,null,null,null,null,null,null,null,null,null,0,"-","-","-","-",null,null,null,null,null,null,{"$error":"#VALUE!"},{"$error":"#VALUE!"},{"$f":"IFERROR(MATCH(D94,Opasy!$M$17:$M$19,0),0)","v":0},{"$f":"IFERROR(MATCH(D94,Nr_stad!$U$8:$U$60,0),0)","v":0},0,{"$f":"$E$17*Opasy!$I$17*Opasy!$J$17","v":0},{"$f":"$D$17*Opasy!$J$17","v":0},0,0,0,0,{"$f":"OFFSET(Opasy!$H$18,AG94,0)","v":0},{"$f":"OFFSET(Opasy!$H$23,AL94,0)","v":0},0,0,0]
[null,null,null,null,null,null,null,null,null,null,null,0,"-","-","-","-",null,null,null,null,null,null,{"$error":"#VALUE!"},{"$error":"#VALUE!"},{"$f":"IFERROR(MATCH(D95,Opasy!$M$17:$M$19,0),0)","v":0},{"$f":"IFERROR(MATCH(D95,Nr_stad!$U$8:$U$60,0),0)","v":0},0,{"$f":"$E$17*Opasy!$I$17*Opasy!$J$17","v":0},{"$f":"$D$17*Opasy!$J$17","v":0},0,0,0,0,{"$f":"OFFSET(Opasy!$H$18,AG95,0)","v":0},{"$f":"OFFSET(Opasy!$H$23,AL95,0)","v":0},0,0,0]
[null,null,null,null,null,null,null,null,null,null,null,0,"-","-","-","-",null,null,null,null,null,null,{"$error":"#VALUE!"},{"$error":"#VALUE!"},{"$f":"IFERROR(MATCH(D96,Opasy!$M$17:$M$19,0),0)","v":0},{"$f":"IFERROR(MATCH(D96,Nr_stad!$U$8:$U$60,0),0)","v":0},0,{"$f":"$E$17*Opasy!$I$17*Opasy!$J$17","v":0},{"$f":"$D$17*Opasy!$J$17","v":0},0,0,0,0,{"$f":"OFFSET(Opasy!$H$18,AG96,0)","v":0},{"$f":"OFFSET(Opasy!$H$23,AL96,0)","v":0},0,0,0]
[null,null,null,null,null,null,null,null,null,null,null,0,"-","-","-","-",null,null,null,null,null,null,{"$error":"#VALUE!"},{"$error":"#VALUE!"},{"$f":"IFERROR(MATCH(D97,Opasy!$M$17:$M$19,0),0)","v":0},{"$f":"IFERROR(MATCH(D97,Nr_stad!$U$8:$U$60,0),0)","v":0},0,{"$f":"$E$17*Opasy!$I$17*Opasy!$J$17","v":0},{"$f":"$D$17*Opasy!$J$17","v":0},0,0,0,0,{"$f":"OFFSET(Opasy!$H$18,AG97,0)","v":0},{"$f":"OFFSET(Opasy!$H$23,AL97,0)","v":0},0,0,0]
[null,null,null,null,null,null,null,null,null,null,null,0,"-","-","-","-",null,null,null,null,null,null,{"$error":"#VALUE!"},{"$error":"#VALUE!"},{"$f":"IFERROR(MATCH(D98,Opasy!$M$17:$M$19,0),0)","v":0},{"$f":"IFERROR(MATCH(D98,Nr_stad!$U$8:$U$60,0),0)","v":0},0,{"$f":"$E$17*Opasy!$I$17*Opasy!$J$17","v":0},{"$f":"$D$17*Opasy!$J$17","v":0},0,0,0,0,{"$f":"OFFSET(Opasy!$H$18,AG98,0)","v":0},{"$f":"OFFSET(Opasy!$H$23,AL98,0)","v":0},0,0,0]
[null,null,null,null,null,null,null,null,null,null,null,0,"-","-","-","-",null,null,null,null,null,null,{"$error":"#VALUE!"},{"$error":"#VALUE!"},{"$f":"IFERROR(MATCH(D99,Opasy!$M$17:$M$19,0),0)","v":0},{"$f":"IFERROR(MATCH(D99,Nr_stad!$U$8:$U$60,0),0)","v":0},0,{"$f":"$E$17*Opasy!$I$17*Opasy!$J$17","v":0},{"$f":"$D$17*Opasy!$J$17","v":0},0,0,0,0,{"$f":"OFFSET(Opasy!$H$18,AG99,0)","v":0},{"$f":"OFFSET(Opasy!$H$23,AL99,0)","v":0},0,0,0]
[null,null,null,null,null,null,null,null,null,null,null,0,"-","-","-","-",null,null,null,null,null,null,{"$error":"#VALUE!"},{"$error":"#VALUE!"},{"$f":"IFERROR(MATCH(D100,Opasy!$M$17:$M$19,0),0)","v":0},{"$f":"IFERROR(MATCH(D100,Nr_stad!$U$8:$U$60,0),0)","v":0},0,{"$f":"$E$17*Opasy!$I$17*Opasy!$J$17","v":0},{"$f":"$D$17*Opasy!$J$17","v":0},0,0,0,0,{"$f":"OFFSET(Opasy!$H$18,AG100,0)","v":0},{"$f":"OFFSET(Opasy!$H$23,AL100,0)","v":0},0,0,0]
[null,null,null,null,null,null,null,null,null,null,null,0,"-","-","-","-",null,null,null,null,null,null,{"$error":"#VALUE!"},{"$error":"#VALUE!"},{"$f":"IFERROR(MATCH(D101,Opasy!$M$17:$M$19,0),0)","v":0},{"$f":"IFERROR(MATCH(D101,Nr_stad!$U$8:$U$60,0),0)","v":0},0,{"$f":"$E$17*Opasy!$I$17*Opasy!$J$17","v":0},{"$f":"$D$17*Opasy!$J$17","v":0},0,0,0,0,{"$f":"OFFSET(Opasy!$H$18,AG101,0)","v":0},{"$f":"OFFSET(Opasy!$H$23,AL101,0)","v":0},0,0,0]
[null,null,null,null,null,null,null,null,null,null,null,0,"-","-","-","-",null,null,null,null,null,null,{"$error":"#VALUE!"},{"$error":"#VALUE!"},{"$f":"IFERROR(MATCH(D102,Opasy!$M$17:$M$19,0),0)","v":0},{"$f":"IFERROR(MATCH(D102,Nr_stad!$U$8:$U$60,0),0)","v":0},0,{"$f":"$E$17*Opasy!$I$17*Opasy!$J$17","v":0},{"$f":"$D$17*Opasy!$J$17","v":0},0,0,0,0,{"$f":"OFFSET(Opasy!$H$18,AG102,0)","v":0},{"$f":"OFFSET(Opasy!$H$23,AL102,0)","v":0},0,0,0]
[null,null,null,null,null,null,null,null,null,null,null,0,"-","-","-","-",null,null,null,null,null,null,{"$error":"#VALUE!"},{"$error":"#VALUE!"},{"$f":"IFERROR(MATCH(D103,Opasy!$M$17:$M$19,0),0)","v":0},{"$f":"IFERROR(MATCH(D103,Nr_stad!$U$8:$U$60,0),0)","v":0},0,{"$f":"$E$17*Opasy!$I$17*Opasy!$J$17","v":0},{"$f":"$D$17*Opasy!$J$17","v":0},0,0,0,0,{"$f":"OFFSET(Opasy!$H$18,AG103,0)","v":0},{"$f":"OFFSET(Opasy!$H$23,AL103,0)","v":0},0,0,0]
[null,null,null,null,null,null,null,null,null,null,null,0,"-","-","-","-",null,null,null,null,null,null,{"$error":"#VALUE!"},{"$error":"#VALUE!"},{"$f":"IFERROR(MATCH(D104,Opasy!$M$17:$M$19,0),0)","v":0},{"$f":"IFERROR(MATCH(D104,Nr_stad!$U$8:$U$60,0),0)","v":0},0,{"$f":"$E$17*Opasy!$I$17*Opasy!$J$17","v":0},{"$f":"$D$17*Opasy!$J$17","v":0},0,0,0,0,{"$f":"OFFSET(Opasy!$H$18,AG104,0)","v":0},{"$f":"OFFSET(Opasy!$H$23,AL104,0)","v":0},0,0,0]
[null,null,null,null,null,null,null,null,null,null,null,{"$f":"IFERROR(J105*K105,\"\")","v":0},{"$f":"IF(Y105=1,OFFSET(AA105,0,1),\"-\")","v":"-"},{"$f":"IF(Y105=1,OFFSET(AA105,0,2),\"-\")","v":"-"},{"$f":"IF(Y105=3,AI105,IF(Y105=2,AH105,\"-\"))","v":"-"},{"$f":"IFERROR(IF(AND(Y105=1,G105>0,H105>0),I105,X105),\"-\")","v":"-"},null,null,null,null,null,null,{"$f":"TRUNC(L105/O105,0)","v":{"$error":"#VALUE!"}},{"$f":"IF(AND(Y105=2,L105/O105<2),\"-\",W105)","v":{"$error":"#VALUE!"}},{"$f":"IFERROR(MATCH(D105,Opasy!$M$17:$M$19,0),0)","v":0},{"$f":"IFERROR(MATCH(D105,Nr_stad!$U$8:$U$60,0),0)","v":0},{"$f":"SUM(G105:P105)+Z105","v":0},{"$f":"$E$17*Opasy!$I$17*Opasy!$J$17","v":0},{"$f":"$D$17*Opasy!$J$17","v":0},{"$f":"IF(AND(F105>$AD$22,F105<=$AD$23),1,0)","v":0},{"$f":"IF(AND(F105>$AE$22,F105<=$AE$23),2,0)","v":0},{"$f":"IF(F105>$AF$22,3,0)","v":0},{"$f":"MAX(AD105:AF105)","v":0},{"$f":"OFFSET(Opasy!$H$18,AG105,0)","v":0},{"$f":"OFFSET(Opasy!$H$23,AL105,0)","v":0},{"$f":"IF(AND(F105>$AJ$22,F105<=$AJ$23),1,0)","v":0},{"$f":"IF(F105>$AK$22,2,0)","v":0},{"$f":"MAX(AJ105:AK105)","v":0}]
[null,null,null,null,null,null,null,null,null,null,null,0,"-","-","-","-",null,null,null,null,null,null,{"$error":"#VALUE!"},{"$error":"#VALUE!"},{"$f":"IFERROR(MATCH(D106,Opasy!$M$17:$M$19,0),0)","v":0},{"$f":"IFERROR(MATCH(D106,Nr_stad!$U$8:$U$60,0),0)","v":0},0,{"$f":"$E$17*Opasy!$I$17*Opasy!$J$17","v":0},{"$f":"$D$17*Opasy!$J$17","v":0},0,0,0,0,{"$f":"OFFSET(Opasy!$H$18,AG106,0)","v":0},{"$f":"OFFSET(Opasy!$H$23,AL106,0)","v":0},0,0,0]
[null,null,null,null,null,null,null,null,null,null,null,0,"-","-","-","-",null,null,null,null,null,null,{"$error":"#VALUE!"},{"$error":"#VALUE!"},{"$f":"IFERROR(MATCH(D107,Opasy!$M$17:$M$19,0),0)","v":0},{"$f":"IFERROR(MATCH(D107,Nr_stad!$U$8:$U$60,0),0)","v":0},0,{"$f":"$E$17*Opasy!$I$17*Opasy!$J$17","v":0},{"$f":"$D$17*Opasy!$J$17","v":0},0,0,0,0,{"$f":"OFFSET(Opasy!$H$18,AG107,0)","v":0},{"$f":"OFFSET(Opasy!$H$23,AL107,0)","v":0},0,0,0]
[null,null,null,null,null,null,null,null,null,null,null,0,"-","-","-","-",null,null,null,null,null,null,{"$error":"#VALUE!"},{"$error":"#VALUE!"},{"$f":"IFERROR(MATCH(D108,Opasy!$M$17:$M$19,0),0)","v":0},{"$f":"IFERROR(MATCH(D108,Nr_stad!$U$8:$U$60,0),0)","v":0},0,{"$f":"$E$17*Opasy!$I$17*Opasy!$J$17","v":0},{"$f":"$D$17*Opasy!$J$17","v":0},0,0,0,0,{"$f":"OFFSET(Opasy!$H$18,AG108,0)","v":0},{"$f":"OFFSET(Opasy!$H$23,AL108,0)","v":0},0,0,0]
[null,null,null,null,null,null,null,null,null,null,null,0,"-","-","-","-",null,null,null,null,null,null,{"$error":"#VALUE!"},{"$error":"#VALUE!"},{"$f":"IFERROR(MATCH(D109,Opasy!$M$17:$M$19,0),0)","v":0},{"$f":"IFERROR(MATCH(D109,Nr_stad!$U$8:$U$60,0),0)","v":0},0,{"$f":"$E$17*Opasy!$I$17*Opasy!$J$17","v":0},{"$f":"$D$17*Opasy!$J$17","v":0},0,0,0,0,{"$f":"OFFSET(Opasy!$H$18,AG109,0)","v":0},{"$f":"OFFSET(Opasy!$H$23,AL109,0)","v":0},0,0,0]
[null,null,null,null,null,null,null,null,null,null,null,0,"-","-","-","-",null,null,null,null,null,null,{"$error":"#VALUE!"},{"$error":"#VALUE!"},{"$f":"IFERROR(MATCH(D110,Opasy!$M$17:$M$19,0),0)","v":0},{"$f":"IFERROR(MATCH(D110,Nr_stad!$U$8:$U$60,0),0)","v":0},0,{"$f":"$E$17*Opasy!$I$17*Opasy!$J$17","v":0},{"$f":"$D$17*Opasy!$J$17","v":0},0,0,0,0,{"$f":"OFFSET(Opasy!$H$18,AG110,0)","v":0},{"$f":"OFFSET(Opasy!$H$23,AL110,0)","v":0},0,0,0]
[null,null,null,null,null,null,null,null,null,null,null,0,"-","-","-","-",null,null,null,null,null,null,{"$error":"#VALUE!"},{"$error":"#VALUE!"},{"$f":"IFERROR(MATCH(D111,Opasy!$M$17:$M$19,0),0)","v":0},{"$f":"IFERROR(MATCH(D111,Nr_stad!$U$8:$U$60,0),0)","v":0},0,{"$f":"$E$17*Opasy!$I$17*Opasy!$J$17","v":0},{"$f":"$D$17*Opasy!$J$17","v":0},0,0,0,0,{"$f":"OFFSET(Opasy!$H$18,AG111,0)","v":0},{"$f":"OFFSET(Opasy!$H$23,AL111,0)","v":0},0,0,0]
[null,null,null,null,null,null,null,null,null,null,null,0,"-","-","-","-",null,null,null,null,null,null,{"$error":"#VALUE!"},{"$error":"#VALUE!"},{"$f":"IFERROR(MATCH(D112,Opasy!$M$17:$M$19,0),0)","v":0},{"$f":"IFERROR(MATCH(D112,Nr_stad!$U$8:$U$60,0),0)","v":0},0,{"$f":"$E$17*Opasy!$I$17*Opasy!$J$17","v":0},{"$f":"$D$17*Opasy!$J$17","v":0},0,0,0,0,{"$f":"OFFSET(Opasy!$H$18,AG112,0)","v":0},{"$f":"OFFSET(Opasy!$H$23,AL112,0)","v":0},0,0,0]
[null,null,null,null,null,null,null,null,null,null,null,0,"-","-","-","-",null,null,null,null,null,null,{"$error":"#VALUE!"},{"$error":"#VALUE!"},{"$f":"IFERROR(MATCH(D113,Opasy!$M$17:$M$19,0),0)","v":0},{"$f":"IFERROR(MATCH(D113,Nr_stad!$U$8:$U$60,0),0)","v":0},0,{"$f":"$E$17*Opasy!$I$17*Opasy!$J$17","v":0},{"$f":"$D$17*Opasy!$J$17","v":0},0,0,0,0,{"$f":"OFFSET(Opasy!$H$18,AG113,0)","v":0},{"$f":"OFFSET(Opasy!$H$23,AL113,0)","v":0},0,0,0]
[null,null,null,null,null,null,null,null,null,null,null,0,"-","-","-","-",null,null,null,null,null,null,{"$error":"#VALUE!"},{"$error":"#VALUE!"},{"$f":"IFERROR(MATCH(D114,Opasy!$M$17:$M$19,0),0)","v":0},{"$f":"IFERROR(MATCH(D114,Nr_stad!$U$8:$U$60,0),0)","v":0},0,{"$f":"$E$17*Opasy!$I$17*Opasy!$J$17","v":0},{"$f":"$D$17*Opasy!$J$17","v":0},0,0,0,0,{"$f":"OFFSET(Opasy!$H$18,AG114,0)","v":0},{"$f":"OFFSET(Opasy!$H$23,AL114,0)","v":0},0,0,0]
[null,null,null,null,null,null,null,null,null,null,null,0,"-","-","-","-",null,null,null,null,null,null,{"$error":"#VALUE!"},{"$error":"#VALUE!"},{"$f":"IFERROR(MATCH(D115,Opasy!$M$17:$M$19,0),0)","v":0},{"$f":"IFERROR(MATCH(D115,Nr_stad!$U$8:$U$60,0),0)","v":0},0,{"$f":"$E$17*Opasy!$I$17*Opasy!$J$17","v":0},{"$f":"$D$17*Opasy!$J$17","v":0},0,0,0,0,{"$f":"OFFSET(Opasy!$H$18,AG115,0)","v":0},{"$f":"OFFSET(Opasy!$H$23,AL115,0)","v":0},0,0,0]
[null,null,null,null,null,null,null,null,null,null,null,0,"-","-","-","-",null,null,null,null,null,null,{"$error":"#VALUE!"},{"$error":"#VALUE!"},{"$f":"IFERROR(MATCH(D116,Opasy!$M$17:$M$19,0),0)","v":0},{"$f":"IFERROR(MATCH(D116,Nr_stad!$U$8:$U$60,0),0)","v":0},0,{"$f":"$E$17*Opasy!$I$17*Opasy!$J$17","v":0},{"$f":"$D$17*Opasy!$J$17","v":0},0,0,0,0,{"$f":"OFFSET(Opasy!$H$18,AG116,0)","v":0},{"$f":"OFFSET(Opasy!$H$23,AL116,0)","v":0},0,0,0]
[null,null,null,null,null,null,null,null,null,null,null,0,"-","-","-","-",null,null,null,null,null,null,{"$error":"#VALUE!"},{"$error":"#VALUE!"},{"$f":"IFERROR(MATCH(D117,Opasy!$M$17:$M$19,0),0)","v":0},{"$f":"IFERROR(MATCH(D117,Nr_stad!$U$8:$U$60,0),0)","v":0},0,{"$f":"$E$17*Opasy!$I$17*Opasy!$J$17","v":0},{"$f":"$D$17*Opasy!$J$17","v":0},0,0,0,0,{"$f":"OFFSET(Opasy!$H$18,AG117,0)","v":0},{"$f":"OFFSET(Opasy!$H$23,AL117,0)","v":0},0,0,0]
[null,null,null,null,null,null,null,null,null,null,null,0,"-","-","-","-",null,null,null,null,null,null,{"$error":"#VALUE!"},{"$error":"#VALUE!"},{"$f":"IFERROR(MATCH(D118,Opasy!$M$17:$M$19,0),0)","v":0},{"$f":"IFERROR(MATCH(D118,Nr_stad!$U$8:$U$60,0),0)","v":0},0,{"$f":"$E$17*Opasy!$I$17*Opasy!$J$17","v":0},{"$f":"$D$17*Opasy!$J$17","v":0},0,0,0,0,{"$f":"OFFSET(Opasy!$H$18,AG118,0)","v":0},{"$f":"OFFSET(Opasy!$H$23,AL118,0)","v":0},0,0,0]
[null,null,null,null,null,null,null,null,null,null,null,0,"-","-","-","-",null,null,null,null,null,null,{"$error":"#VALUE!"},{"$error":"#VALUE!"},{"$f":"IFERROR(MATCH(D119,Opasy!$M$17:$M$19,0),0)","v":0},{"$f":"IFERROR(MATCH(D119,Nr_stad!$U$8:$U$60,0),0)","v":0},0,{"$f":"$E$17*Opasy!$I$17*Opasy!$J$17","v":0},{"$f":"$D$17*Opasy!$J$17","v":0},0,0,0,0,{"$f":"OFFSET(Opasy!$H$18,AG119,0)","v":0},{"$f":"OFFSET(Opasy!$H$23,AL119,0)","v":0},0,0,0]
[null,null,null,null,null,null,null,null,null,null,null,0,"-","-","-","-",null,null,null,null,null,null,{"$error":"#VALUE!"},{"$error":"#VALUE!"},{"$f":"IFERROR(MATCH(D120,Opasy!$M$17:$M$19,0),0)","v":0},{"$f":"IFERROR(MATCH(D120,Nr_stad!$U$8:$U$60,0),0)","v":0},0,{"$f":"$E$17*Opasy!$I$17*Opasy!$J$17","v":0},{"$f":"$D$17*Opasy!$J$17","v":0},0,0,0,0,{"$f":"OFFSET(Opasy!$H$18,AG120,0)","v":0},{"$f":"OFFSET(Opasy!$H$23,AL120,0)","v":0},0,0,0]
[null,null,null,null,null,null,null,null,null,null,null,0,"-","-","-","-",null,null,null,null,null,null,{"$error":"#VALUE!"},{"$error":"#VALUE!"},{"$f":"IFERROR(MATCH(D121,Opasy!$M$17:$M$19,0),0)","v":0},{"$f":"IFERROR(MATCH(D121,Nr_stad!$U$8:$U$60,0),0)","v":0},0,{"$f":"$E$17*Opasy!$I$17*Opasy!$J$17","v":0},{"$f":"$D$17*Opasy!$J$17","v":0},0,0,0,0,{"$f":"OFFSET(Opasy!$H$18,AG121,0)","v":0},{"$f":"OFFSET(Opasy!$H$23,AL121,0)","v":0},0,0,0]
[null,null,null,null,null,null,null,null,null,null,null,null,"-","-","-","-",null,null,null,null,null,null,{"$error":"#VALUE!"},{"$error":"#VALUE!"},{"$f":"IFERROR(MATCH(D122,Opasy!$M$17:$M$19,0),0)","v":0},{"$f":"IFERROR(MATCH(D122,Nr_stad!$U$8:$U$60,0),0)","v":0},0,{"$f":"$E$17*Opasy!$I$17*Opasy!$J$17","v":0},{"$f":"$D$17*Opasy!$J$17","v":0},0,0,0,0,{"$f":"OFFSET(Opasy!$H$18,AG122,0)","v":0},{"$f":"OFFSET(Opasy!$H$23,AL122,0)","v":0},0,0,0]
[null,null,null,null,null,null,null,null,null,null,null,null,"-","-","-","-",null,null,null,null,null,null,{"$error":"#VALUE!"},{"$error":"#VALUE!"},{"$f":"IFERROR(MATCH(D123,Opasy!$M$17:$M$19,0),0)","v":0},{"$f":"IFERROR(MATCH(D123,Nr_stad!$U$8:$U$60,0),0)","v":0},0,{"$f":"$E$17*Opasy!$I$17*Opasy!$J$17","v":0},{"$f":"$D$17*Opasy!$J$17","v":0},0,0,0,0,{"$f":"OFFSET(Opasy!$H$18,AG123,0)","v":0},{"$f":"OFFSET(Opasy!$H$23,AL123,0)","v":0},0,0,0]
[null,null,null,null,null,null,null,null,null,null,null,null,"-","-","-","-",null,null,null,null,null,null,{"$error":"#VALUE!"},{"$error":"#VALUE!"},{"$f":"IFERROR(MATCH(D124,Opasy!$M$17:$M$19,0),0)","v":0},{"$f":"IFERROR(MATCH(D124,Nr_stad!$U$8:$U$60,0),0)","v":0},0,{"$f":"$E$17*Opasy!$I$17*Opasy!$J$17","v":0},{"$f":"$D$17*Opasy!$J$17","v":0},0,0,0,0,{"$f":"OFFSET(Opasy!$H$18,AG124,0)","v":0},{"$f":"OFFSET(Opasy!$H$23,AL124,0)","v":0},0,0,0]
[null,null,null,"SUMA POWIERZCHNI:",null,null,null,null,null,null,null,{"$f":"SUM(L24:L124)","v":0},"SUMA LICZBY SZT. BYDŁA:",null,null,{"$f":"SUM(P24:P124)","v":0}]
[null,null,null,null,null,null,null,null,null,"SUMA LICZBY OPASÓW",null,null,null,null,null,{"$f":"SUMIF(Y24:Y124,3,P24:P124)","v":0}]

{"sheet":"Opasy_pow_wyb","index":15,"n_rows":126,"n_cols":51,"rows_kept":126,"cut":false,"hidden":true,"merged":[[124,3,124,10],[124,12,124,14],[125,9,125,14],[8,3,8,14],[10,3,10,14],[20,12,20,13],[20,14,21,14],[20,15,21,15],[20,27,20,33],[20,34,20,37],[21,27,21,28],[19,3,19,11],[20,3,21,3],[20,4,21,4],[20,5,21,5],[20,6,20,8],[20,9,20,11],[3,2,3,15],[4,3,4,9],[5,3,5,14],[11,3,11,15],[13,3,13,4],[13,6,13,8]]}
[null,null,null,null,null,null,null,null,null,null,null,null,null,null,null,"POWRÓT",null,null,null,null,null,null,null,null,null,null,null,null,null,null,null,null,null,null,null,null,null,null,null,null,null,null,null,null,null,null,null,null,null,null,"UWAGI"]
[]
[]
[null,null,"II. Część szczegółowa  "]
[null,null,"II.11.","Wariant 11. Dobrostan opasów - zwiększona powierzchnia bytowa wraz z wybiegami"]
[null,null,"II.11.1.","Wymagania w ramach dobrostanu opasów - zwiększona powierzchnia bytowa wraz z wybiegami (wymogami objęte jest bydło opasowe w wieku kwalifikującym się do płatności):"]
[null,null,{"$f":"IF(Y7=TRUE,$Z$7,$AA$7)","v":"☒"},"utrzymywanie bez uwięzi;",null,null,null,null,null,null,null,null,null,null,null,null,null,null,null,null,null,null,null,null,true,"☒","☐"]
[null,null,{"$f":"IF(Y8=TRUE,$Z$7,$AA$7)","v":"☒"},"utrzymywanie na ściółce;",null,null,null,null,null,null,null,null,null,null,null,null,null,null,null,null,null,null,null,null,true]
[null,null,{"$f":"IF(Y9=TRUE,$Z$7,$AA$7)","v":"☒"},"zapewnienie dostępu do wybiegu przez co najmniej 4 godz. dziennie przez cały rok, z możliwością zastąpienia przebywania na wybiegu przez pastwiskowanie w sezonie wegetacyjnym;",null,null,null,null,null,null,null,null,null,null,null,null,null,null,null,null,null,null,null,null,true]
[null,null,null,"Numery działek ewidencyjnych, na których znajdują się wybiegi lub pastwiska:"]
[]
[null,null,{"$f":"IF(AA12=TRUE,AB12,AC12)","v":"☒"},"Do planu poprawy dobrostanu zwierząt dołączono szkic obiektów ze wskazanymi SEKCJAMI w których utrzymywane są opasy oraz cielęta objęte podwyższonymi wymogami Wariantu 11. wraz z wybiegami/pastwiskami",null,null,null,null,null,null,null,null,null,null,null,null,null,null,null,null,null,null,null,null,null,null,true,"☒","☐"]
[]
[null,null,"II.11.2.","Parametry określające wymiary kojców dla cieląt"]
[null,null,null,"Szerokość -  wysokość cielęcia w kłębie","Długość ciała cielęcia mierzona od czubka nosa do ogonowej krawędzi guza kulszowego"]
[null,null,null,"m","m"]
[null,null,null,null,null,null,null,null,null,null,null,null,null,null,null,null,null,null,null,null,null,null,null,null,null,null,false,{"$f":"AND(AA19=1,I17>9)","v":false}]
[null,null,null,null,null,null,null,null,null,null,null,null,null,null,null,null,null,null,null,null,null,null,null,null,null,null,"poj/grup"]
[null,null,null,null,null,null,null,null,null,null,null,null,null,null,null,null,null,null,null,null,null,null,null,null,null,null,1,"☒","☐"]
[null,null,"II.11.3.","Podwyższone wymogi dla opsów - zwiększona powierzchnia bytowa"]
[null,null,null,"Numer siedziby stada albo \nGrupa technologiczna","Nazwa obiektu/numer sekcji","Maksymalna masa \ncielęcia/opasa w kojcu","Kojce pojedyncze spełniające wymóg minimalnych wymiarów",null,null,"Powierzchnia ",null,null," Minimalne wymiary   kojcy pojedynczych",null,"Powierzchnia minimalna","Maksymalna liczba cieląt i opasów",null,null,null,null,null,null,null,null,null,null,null,"Cielęta",null,null,null,null,null,null,"Opasy"]
[null,null,null,null,null,null,"Dł.","Szer.","Liczba","Dł.","Szer.","Pow.","Dł.","Szer.",null,null,null,null,null,null,null,null,null,null,"sys","Nr stad","suma","Kojec pojedynczy",null,0,150,220,"POZ","Pow","Pow",100,300,"POZ"]
[null,null,null,null,null,"kg/szt.","m","m","szt","m","m","m2","m","m","m2/szt.","szt",null,null,null,null,null,null,null,null,null,null,null,"dł","szer",150,220,null,null,null,null,300]
[null,null,null,null,null,null,null,null,null,null,null,{"$f":"IFERROR(J24*K24,\"\")","v":0},{"$f":"IF(Y24=1,OFFSET(AA24,0,1),\"-\")","v":"-"},{"$f":"IF(Y24=1,OFFSET(AA24,0,2),\"-\")","v":"-"},{"$f":"IF(Y24=3,AI24,IF(Y24=2,AH24,\"-\"))","v":"-"},{"$f":"IFERROR(IF(AND(Y24=1,G24>0,H24>0),I24,X24),\"-\")","v":"-"},null,null,null,null,null,null,{"$f":"TRUNC(L24/O24,0)","v":{"$error":"#VALUE!"}},{"$f":"IF(AND(Y24=2,L24/O24<2),\"-\",W24)","v":{"$error":"#VALUE!"}},{"$f":"IFERROR(MATCH(D24,Opasy!$M$17:$M$19,0),0)","v":0},{"$f":"IFERROR(MATCH(D24,Nr_stad!$U$8:$U$60,0),0)","v":0},{"$f":"SUM(G24:P24)+Z24","v":0},{"$f":"$E$17*Opasy!$I$17*Opasy!$J$17","v":0},{"$f":"$D$17*Opasy!$J$17","v":0},{"$f":"IF(AND(F24>$AD$22,F24<=$AD$23),1,0)","v":0},{"$f":"IF(AND(F24>$AE$22,F24<=$AE$23),2,0)","v":0},{"$f":"IF(F24>$AF$22,3,0)","v":0},{"$f":"MAX(AD24:AF24)","v":0},{"$f":"OFFSET(Opasy!$H$18,AG24,0)","v":0},{"$f":"OFFSET(Opasy!$H$23,AL24,0)","v":0},{"$f":"IF(AND(F24>$AJ$22,F24<=$AJ$23),1,0)","v":0},{"$f":"IF(F24>$AK$22,2,0)","v":0},{"$f":"MAX(AJ24:AK24)","v":0}]
[null,null,null,null,null,null,null,null,null,null,null,0,"-","-","-","-",null,null,null,null,null,null,{"$error":"#VALUE!"},{"$error":"#VALUE!"},{"$f":"IFERROR(MATCH(D25,Opasy!$M$17:$M$19,0),0)","v":0},{"$f":"IFERROR(MATCH(D25,Nr_stad!$U$8:$U$60,0),0)","v":0},0,{"$f":"$E$17*Opasy!$I$17*Opasy!$J$17","v":0},{"$f":"$D$17*Opasy!$J$17","v":0},0,0,0,0,{"$f":"OFFSET(Opasy!$H$18,AG25,0)","v":0},{"$f":"OFFSET(Opasy!$H$23,AL25,0)","v":0},0,0,0]
[null,null,null,null,null,null,null,null,null,null,null,0,"-","-","-","-",null,null,null,null,null,null,{"$error":"#VALUE!"},{"$error":"#VALUE!"},{"$f":"IFERROR(MATCH(D26,Opasy!$M$17:$M$19,0),0)","v":0},{"$f":"IFERROR(MATCH(D26,Nr_stad!$U$8:$U$60,0),0)","v":0},0,{"$f":"$E$17*Opasy!$I$17*Opasy!$J$17","v":0},{"$f":"$D$17*Opasy!$J$17","v":0},0,0,0,0,{"$f":"OFFSET(Opasy!$H$18,AG26,0)","v":0},{"$f":"OFFSET(Opasy!$H$23,AL26,0)","v":0},0,0,0]
[null,null,null,null,null,null,null,null,null,null,null,0,"-","-","-","-",null,null,null,null,null,null,{"$error":"#VALUE!"},{"$error":"#VALUE!"},{"$f":"IFERROR(MATCH(D27,Opasy!$M$17:$M$19,0),0)","v":0},{"$f":"IFERROR(MATCH(D27,Nr_stad!$U$8:$U$60,0),0)","v":0},0,{"$f":"$E$17*Opasy!$I$17*Opasy!$J$17","v":0},{"$f":"$D$17*Opasy!$J$17","v":0},0,0,0,0,{"$f":"OFFSET(Opasy!$H$18,AG27,0)","v":0},{"$f":"OFFSET(Opasy!$H$23,AL27,0)","v":0},0,0,0]
[null,null,null,null,null,null,null,null,null,null,null,0,"-","-","-","-",null,null,null,null,null,null,{"$error":"#VALUE!"},{"$error":"#VALUE!"},{"$f":"IFERROR(MATCH(D28,Opasy!$M$17:$M$19,0),0)","v":0},{"$f":"IFERROR(MATCH(D28,Nr_stad!$U$8:$U$60,0),0)","v":0},0,{"$f":"$E$17*Opasy!$I$17*Opasy!$J$17","v":0},{"$f":"$D$17*Opasy!$J$17","v":0},0,0,0,0,{"$f":"OFFSET(Opasy!$H$18,AG28,0)","v":0},{"$f":"OFFSET(Opasy!$H$23,AL28,0)","v":0},0,0,0]
[null,null,null,null,null,null,null,null,null,null,null,0,"-","-","-","-",null,null,null,null,null,null,{"$error":"#VALUE!"},{"$error":"#VALUE!"},{"$f":"IFERROR(MATCH(D29,Opasy!$M$17:$M$19,0),0)","v":0},{"$f":"IFERROR(MATCH(D29,Nr_stad!$U$8:$U$60,0),0)","v":0},0,{"$f":"$E$17*Opasy!$I$17*Opasy!$J$17","v":0},{"$f":"$D$17*Opasy!$J$17","v":0},0,0,0,0,{"$f":"OFFSET(Opasy!$H$18,AG29,0)","v":0},{"$f":"OFFSET(Opasy!$H$23,AL29,0)","v":0},0,0,0]
[null,null,null,null,null,null,null,null,null,null,null,0,"-","-","-","-",null,null,null,null,null,null,{"$error":"#VALUE!"},{"$error":"#VALUE!"},{"$f":"IFERROR(MATCH(D30,Opasy!$M$17:$M$19,0),0)","v":0},{"$f":"IFERROR(MATCH(D30,Nr_stad!$U$8:$U$60,0),0)","v":0},0,{"$f":"$E$17*Opasy!$I$17*Opasy!$J$17","v":0},{"$f":"$D$17*Opasy!$J$17","v":0},0,0,0,0,{"$f":"OFFSET(Opasy!$H$18,AG30,0)","v":0},{"$f":"OFFSET(Opasy!$H$23,AL30,0)","v":0},0,0,0]
[null,null,null,null,null,null,null,null,null,null,null,0,{"$f":"IF(Y31=1,OFFSET(AA31,0,1),\"-\")","v":"-"},{"$f":"IF(Y31=1,OFFSET(AA31,0,2),\"-\")","v":"-"},{"$f":"IF(Y31=3,AI31,IF(Y31=2,AH31,\"-\"))","v":"-"},{"$f":"IFERROR(IF(AND(Y31=1,G31>0,H31>0),I31,X31),\"-\")","v":"-"},null,null,null,null,null,null,{"$f":"TRUNC(L31/O31,0)","v":{"$error":"#VALUE!"}},{"$f":"IF(AND(Y31=2,L31/O31<2),\"-\",W31)","v":{"$error":"#VALUE!"}},{"$f":"IFERROR(MATCH(D31,Opasy!$M$17:$M$19,0),0)","v":0},{"$f":"IFERROR(MATCH(D31,Nr_stad!$U$8:$U$60,0),0)","v":0},{"$f":"SUM(G31:P31)+Z31","v":0},{"$f":"$E$17*Opasy!$I$17*Opasy!$J$17","v":0},{"$f":"$D$17*Opasy!$J$17","v":0},{"$f":"IF(AND(F31>$AD$22,F31<=$AD$23),1,0)","v":0},{"$f":"IF(AND(F31>$AE$22,F31<=$AE$23),2,0)","v":0},{"$f":"IF(F31>$AF$22,3,0)","v":0},{"$f":"MAX(AD31:AF31)","v":0},{"$f":"OFFSET(Opasy!$H$18,AG31,0)","v":0},{"$f":"OFFSET(Opasy!$H$23,AL31,0)","v":0},{"$f":"IF(AND(F31>$AJ$22,F31<=$AJ$23),1,0)","v":0},{"$f":"IF(F31>$AK$22,2,0)","v":0},{"$f":"MAX(AJ31:AK31)","v":0}]
[null,null,null,null,null,null,null,null,null,null,null,0,"-","-","-","-",null,null,null,null,null,null,{"$error":"#VALUE!"},{"$error":"#VALUE!"},{"$f":"IFERROR(MATCH(D32,Opasy!$M$17:$M$19,0),0)","v":0},{"$f":"IFERROR(MATCH(D32,Nr_stad!$U$8:$U$60,0),0)","v":0},0,{"$f":"$E$17*Opasy!$I$17*Opasy!$J$17","v":0},{"$f":"$D$17*Opasy!$J$17","v":0},0,0,0,0,{"$f":"OFFSET(Opasy!$H$18,AG32,0)","v":0},{"$f":"OFFSET(Opasy!$H$23,AL32,0)","v":0},0,0,0]
[null,null,null,null,null,null,null,null,null,null,null,0,"-","-","-","-",null,null,null,null,null,null,{"$error":"#VALUE!"},{"$error":"#VALUE!"},{"$f":"IFERROR(MATCH(D33,Opasy!$M$17:$M$19,0),0)","v":0},{"$f":"IFERROR(MATCH(D33,Nr_stad!$U$8:$U$60,0),0)","v":0},0,{"$f":"$E$17*Opasy!$I$17*Opasy!$J$17","v":0},{"$f":"$D$17*Opasy!$J$17","v":0},0,0,0,0,{"$f":"OFFSET(Opasy!$H$18,AG33,0)","v":0},{"$f":"OFFSET(Opasy!$H$23,AL33,0)","v":0},0,0,0]
[null,null,null,null,null,null,null,null,null,null,null,0,"-","-","-","-",null,null,null,null,null,null,{"$error":"#VALUE!"},{"$error":"#VALUE!"},{"$f":"IFERROR(MATCH(D34,Opasy!$M$17:$M$19,0),0)","v":0},{"$f":"IFERROR(MATCH(D34,Nr_stad!$U$8:$U$60,0),0)","v":0},0,{"$f":"$E$17*Opasy!$I$17*Opasy!$J$17","v":0},{"$f":"$D$17*Opasy!$J$17","v":0},0,0,0,0,{"$f":"OFFSET(Opasy!$H$18,AG34,0)","v":0},{"$f":"OFFSET(Opasy!$H$23,AL34,0)","v":0},0,0,0]
[null,null,null,null,null,null,null,null,null,null,null,0,"-","-","-","-",null,null,null,null,null,null,{"$error":"#VALUE!"},{"$error":"#VALUE!"},{"$f":"IFERROR(MATCH(D35,Opasy!$M$17:$M$19,0),0)","v":0},{"$f":"IFERROR(MATCH(D35,Nr_stad!$U$8:$U$60,0),0)","v":0},0,{"$f":"$E$17*Opasy!$I$17*Opasy!$J$17","v":0},{"$f":"$D$17*Opasy!$J$17","v":0},0,0,0,0,{"$f":"OFFSET(Opasy!$H$18,AG35,0)","v":0},{"$f":"OFFSET(Opasy!$H$23,AL35,0)","v":0},0,0,0]
[null,null,null,null,null,null,null,null,null,null,null,0,"-","-","-","-",null,null,null,null,null,null,{"$error":"#VALUE!"},{"$error":"#VALUE!"},{"$f":"IFERROR(MATCH(D36,Opasy!$M$17:$M$19,0),0)","v":0},{"$f":"IFERROR(MATCH(D36,Nr_stad!$U$8:$U$60,0),0)","v":0},0,{"$f":"$E$17*Opasy!$I$17*Opasy!$J$17","v":0},{"$f":"$D$17*Opasy!$J$17","v":0},0,0,0,0,{"$f":"OFFSET(Opasy!$H$18,AG36,0)","v":0},{"$f":"OFFSET(Opasy!$H$23,AL36,0)","v":0},0,0,0]
[null,null,null,null,null,null,null,null,null,null,null,0,"-","-","-","-",null,null,null,null,null,null,{"$error":"#VALUE!"},{"$error":"#VALUE!"},{"$f":"IFERROR(MATCH(D37,Opasy!$M$17:$M$19,0),0)","v":0},{"$f":"IFERROR(MATCH(D37,Nr_stad!$U$8:$U$60,0),0)","v":0},0,{"$f":"$E$17*Opasy!$I$17*Opasy!$J$17","v":0},{"$f":"$D$17*Opasy!$J$17","v":0},0,0,0,0,{"$f":"OFFSET(Opasy!$H$18,AG37,0)","v":0},{"$f":"OFFSET(Opasy!$H$23,AL37,0)","v":0},0,0,0]
[null,null,null,null,null,null,null,null,null,null,null,0,"-","-","-","-",null,null,null,null,null,null,{"$error":"#VALUE!"},{"$error":"#VALUE!"},{"$f":"IFERROR(MATCH(D38,Opasy!$M$17:$M$19,0),0)","v":0},{"$f":"IFERROR(MATCH(D38,Nr_stad!$U$8:$U$60,0),0)","v":0},0,{"$f":"$E$17*Opasy!$I$17*Opasy!$J$17","v":0},{"$f":"$D$17*Opasy!$J$17","v":0},0,0,0,0,{"$f":"OFFSET(Opasy!$H$18,AG38,0)","v":0},{"$f":"OFFSET(Opasy!$H$23,AL38,0)","v":0},0,0,0]
[null,null,null,null,null,null,null,null,null,null,null,0,"-","-","-","-",null,null,null,null,null,null,{"$error":"#VALUE!"},{"$error":"#VALUE!"},{"$f":"IFERROR(MATCH(D39,Opasy!$M$17:$M$19,0),0)","v":0},{"$f":"IFERROR(MATCH(D39,Nr_stad!$U$8:$U$60,0),0)","v":0},0,{"$f":"$E$17*Opasy!$I$17*Opasy!$J$17","v":0},{"$f":"$D$17*Opasy!$J$17","v":0},0,0,0,0,{"$f":"OFFSET(Opasy!$H$18,AG39,0)","v":0},{"$f":"OFFSET(Opasy!$H$23,AL39,0)","v":0},0,0,0]
[null,null,null,null,null,null,null,null,null,null,null,0,"-","-","-","-",null,null,null,null,null,null,{"$error":"#VALUE!"},{"$error":"#VALUE!"},{"$f":"IFERROR(MATCH(D40,Opasy!$M$17:$M$19,0),0)","v":0},{"$f":"IFERROR(MATCH(D40,Nr_stad!$U$8:$U$60,0),0)","v":0},0,{"$f":"$E$17*Opasy!$I$17*Opasy!$J$17","v":0},{"$f":"$D$17*Opasy!$J$17","v":0},0,0,0,0,{"$f":"OFFSET(Opasy!$H$18,AG40,0)","v":0},{"$f":"OFFSET(Opasy!$H$23,AL40,0)","v":0},0,0,0]
[null,null,null,null,null,null,null,null,null,null,null,0,"-","-","-","-",null,null,null,null,null,null,{"$error":"#VALUE!"},{"$error":"#VALUE!"},{"$f":"IFERROR(MATCH(D41,Opasy!$M$17:$M$19,0),0)","v":0},{"$f":"IFERROR(MATCH(D41,Nr_stad!$U$8:$U$60,0),0)","v":0},0,{"$f":"$E$17*Opasy!$I$17*Opasy!$J$17","v":0},{"$f":"$D$17*Opasy!$J$17","v":0},0,0,0,0,{"$f":"OFFSET(Opasy!$H$18,AG41,0)","v":0},{"$f":"OFFSET(Opasy!$H$23,AL41,0)","v":0},0,0,0]
[null,null,null,null,null,null,null,null,null,null,null,0,"-","-","-","-",null,null,null,null,null,null,{"$error":"#VALUE!"},{"$error":"#VALUE!"},{"$f":"IFERROR(MATCH(D42,Opasy!$M$17:$M$19,0),0)","v":0},{"$f":"IFERROR(MATCH(D42,Nr_stad!$U$8:$U$60,0),0)","v":0},0,{"$f":"$E$17*Opasy!$I$17*Opasy!$J$17","v":0},{"$f":"$D$17*Opasy!$J$17","v":0},0,0,0,0,{"$f":"OFFSET(Opasy!$H$18,AG42,0)","v":0},{"$f":"OFFSET(Opasy!$H$23,AL42,0)","v":0},0,0,0]
[null,null,null,null,null,null,null,null,null,null,null,0,"-","-","-","-",null,null,null,null,null,null,{"$error":"#VALUE!"},{"$error":"#VALUE!"},{"$f":"IFERROR(MATCH(D43,Opasy!$M$17:$M$19,0),0)","v":0},{"$f":"IFERROR(MATCH(D43,Nr_stad!$U$8:$U$60,0),0)","v":0},0,{"$f":"$E$17*Opasy!$I$17*Opasy!$J$17","v":0},{"$f":"$D$17*Opasy!$J$17","v":0},0,0,0,0,{"$f":"OFFSET(Opasy!$H$18,AG43,0)","v":0},{"$f":"OFFSET(Opasy!$H$23,AL43,0)","v":0},0,0,0]
[null,null,null,null,null,null,null,null,null,null,null,0,"-","-","-","-",null,null,null,null,null,null,{"$error":"#VALUE!"},{"$error":"#VALUE!"},{"$f":"IFERROR(MATCH(D44,Opasy!$M$17:$M$19,0),0)","v":0},{"$f":"IFERROR(MATCH(D44,Nr_stad!$U$8:$U$60,0),0)","v":0},0,{"$f":"$E$17*Opasy!$I$17*Opasy!$J$17","v":0},{"$f":"$D$17*Opasy!$J$17","v":0},0,0,0,0,{"$f":"OFFSET(Opasy!$H$18,AG44,0)","v":0},{"$f":"OFFSET(Opasy!$H$23,AL44,0)","v":0},0,0,0]
[null,null,null,null,null,null,null,null,null,null,null,0,"-","-","-","-",null,null,null,null,null,null,{"$error":"#VALUE!"},{"$error":"#VALUE!"},{"$f":"IFERROR(MATCH(D45,Opasy!$M$17:$M$19,0),0)","v":0},{"$f":"IFERROR(MATCH(D45,Nr_stad!$U$8:$U$60,0),0)","v":0},0,{"$f":"$E$17*Opasy!$I$17*Opasy!$J$17","v":0},{"$f":"$D$17*Opasy!$J$17","v":0},0,0,0,0,{"$f":"OFFSET(Opasy!$H$18,AG45,0)","v":0},{"$f":"OFFSET(Opasy!$H$23,AL45,0)","v":0},0,0,0]
[null,null,null,null,null,null,null,null,null,null,null,0,"-","-","-","-",null,null,null,null,null,null,{"$error":"#VALUE!"},{"$error":"#VALUE!"},{"$f":"IFERROR(MATCH(D46,Opasy!$M$17:$M$19,0),0)","v":0},{"$f":"IFERROR(MATCH(D46,Nr_stad!$U$8:$U$60,0),0)","v":0},0,{"$f":"$E$17*Opasy!$I$17*Opasy!$J$17","v":0},{"$f":"$D$17*Opasy!$J$17","v":0},0,0,0,0,{"$f":"OFFSET(Opasy!$H$18,AG46,0)","v":0},{"$f":"OFFSET(Opasy!$H$23,AL46,0)","v":0},0,0,0]
[null,null,null,null,null,null,null,null,null,null,null,0,"-","-","-","-",null,null,null,null,null,null,{"$error":"#VALUE!"},{"$error":"#VALUE!"},{"$f":"IFERROR(MATCH(D47,Opasy!$M$17:$M$19,0),0)","v":0},{"$f":"IFERROR(MATCH(D47,Nr_stad!$U$8:$U$60,0),0)","v":0},0,{"$f":"$E$17*Opasy!$I$17*Opasy!$J$17","v":0},{"$f":"$D$17*Opasy!$J$17","v":0},0,0,0,0,{"$f":"OFFSET(Opasy!$H$18,AG47,0)","v":0},{"$f":"OFFSET(Opasy!$H$23,AL47,0)","v":0},0,0,0]
[null,null,null,null,null,null,null,null,null,null,null,0,"-","-","-","-",null,null,null,null,null,null,{"$error":"#VALUE!"},{"$error":"#VALUE!"},{"$f":"IFERROR(MATCH(D48,Opasy!$M$17:$M$19,0),0)","v":0},{"$f":"IFERROR(MATCH(D48,Nr_stad!$U$8:$U$60,0),0)","v":0},0,{"$f":"$E$17*Opasy!$I$17*Opasy!$J$17","v":0},{"$f":"$D$17*Opasy!$J$17","v":0},0,0,0,0,{"$f":"OFFSET(Opasy!$H$18,AG48,0)","v":0},{"$f":"OFFSET(Opasy!$H$23,AL48,0)","v":0},0,0,0]
[null,null,null,null,null,null,null,null,null,null,null,0,"-","-","-","-",null,null,null,null,null,null,{"$error":"#VALUE!"},{"$error":"#VALUE!"},{"$f":"IFERROR(MATCH(D49,Opasy!$M$17:$M$19,0),0)","v":0},{"$f":"IFERROR(MATCH(D49,Nr_stad!$U$8:$U$60,0),0)","v":0},0,{"$f":"$E$17*Opasy!$I$17*Opasy!$J$17","v":0},{"$f":"$D$17*Opasy!$J$17","v":0},0,0,0,0,{"$f":"OFFSET(Opasy!$H$18,AG49,0)","v":0},{"$f":"OFFSET(Opasy!$H$23,AL49,0)","v":0},0,0,0]
[null,null,null,null,null,null,null,null,null,null,null,0,"-","-","-","-",null,null,null,null,null,null,{"$error":"#VALUE!"},{"$error":"#VALUE!"},{"$f":"IFERROR(MATCH(D50,Opasy!$M$17:$M$19,0),0)","v":0},{"$f":"IFERROR(MATCH(D50,Nr_stad!$U$8:$U$60,0),0)","v":0},0,{"$f":"$E$17*Opasy!$I$17*Opasy!$J$17","v":0},{"$f":"$D$17*Opasy!$J$17","v":0},0,0,0,0,{"$f":"OFFSET(Opasy!$H$18,AG50,0)","v":0},{"$f":"OFFSET(Opasy!$H$23,AL50,0)","v":0},0,0,0]
[null,null,null,null,null,null,null,null,null,null,null,0,"-","-","-","-",null,null,null,null,null,null,{"$error":"#VALUE!"},{"$error":"#VALUE!"},{"$f":"IFERROR(MATCH(D51,Opasy!$M$17:$M$19,0),0)","v":0},{"$f":"IFERROR(MATCH(D51,Nr_stad!$U$8:$U$60,0),0)","v":0},0,{"$f":"$E$17*Opasy!$I$17*Opasy!$J$17","v":0},{"$f":"$D$17*Opasy!$J$17","v":0},0,0,0,0,{"$f":"OFFSET(Opasy!$H$18,AG51,0)","v":0},{"$f":"OFFSET(Opasy!$H$23,AL51,0)","v":0},0,0,0]
[null,null,null,null,null,null,null,null,null,null,null,0,"-","-","-","-",null,null,null,null,null,null,{"$error":"#VALUE!"},{"$error":"#VALUE!"},{"$f":"IFERROR(MATCH(D52,Opasy!$M$17:$M$19,0),0)","v":0},{"$f":"IFERROR(MATCH(D52,Nr_stad!$U$8:$U$60,0),0)","v":0},0,{"$f":"$E$17*Opasy!$I$17*Opasy!$J$17","v":0},{"$f":"$D$17*Opasy!$J$17","v":0},0,0,0,0,{"$f":"OFFSET(Opasy!$H$18,AG52,0)","v":0},{"$f":"OFFSET(Opasy!$H$23,AL52,0)","v":0},0,0,0]
[null,null,null,null,null,null,null,null,null,null,null,0,"-","-","-","-",null,null,null,null,null,null,{"$error":"#VALUE!"},{"$error":"#VALUE!"},{"$f":"IFERROR(MATCH(D53,Opasy!$M$17:$M$19,0),0)","v":0},{"$f":"IFERROR(MATCH(D53,Nr_stad!$U$8:$U$60,0),0)","v":0},0,{"$f":"$E$17*Opasy!$I$17*Opasy!$J$17","v":0},{"$f":"$D$17*Opasy!$J$17","v":0},0,0,0,0,{"$f":"OFFSET(Opasy!$H$18,AG53,0)","v":0},{"$f":"OFFSET(Opasy!$H$23,AL53,0)","v":0},0,0,0]
[null,null,null,null,null,null,null,null,null,null,null,0,"-","-","-","-",null,null,null,null,null,null,{"$error":"#VALUE!"},{"$error":"#VALUE!"},{"$f":"IFERROR(MATCH(D54,Opasy!$M$17:$M$19,0),0)","v":0},{"$f":"IFERROR(MATCH(D54,Nr_stad!$U$8:$U$60,0),0)","v":0},0,{"$f":"$E$17*Opasy!$I$17*Opasy!$J$17","v":0},{"$f":"$D$17*Opasy!$J$17","v":0},0,0,0,0,{"$f":"OFFSET(Opasy!$H$18,AG54,0)","v":0},{"$f":"OFFSET(Opasy!$H$23,AL54,0)","v":0},0,0,0]
[null,null,null,null,null,null,null,null,null,null,null,0,"-","-","-","-",null,null,null,null,null,null,{"$error":"#VALUE!"},{"$error":"#VALUE!"},{"$f":"IFERROR(MATCH(D55,Opasy!$M$17:$M$19,0),0)","v":0},{"$f":"IFERROR(MATCH(D55,Nr_stad!$U$8:$U$60,0),0)","v":0},0,{"$f":"$E$17*Opasy!$I$17*Opasy!$J$17","v":0},{"$f":"$D$17*Opasy!$J$17","v":0},0,0,0,0,{"$f":"OFFSET(Opasy!$H$18,AG55,0)","v":0},{"$f":"OFFSET(Opasy!$H$23,AL55,0)","v":0},0,0,0]
[null,null,null,null,null,null,null,null,null,null,null,0,"-","-","-","-",null,null,null,null,null,null,{"$error":"#VALUE!"},{"$error":"#VALUE!"},{"$f":"IFERROR(MATCH(D56,Opasy!$M$17:$M$19,0),0)","v":0},{"$f":"IFERROR(MATCH(D56,Nr_stad!$U$8:$U$60,0),0)","v":0},0,{"$f":"$E$17*Opasy!$I$17*Opasy!$J$17","v":0},{"$f":"$D$17*Opasy!$J$17","v":0},0,0,0,0,{"$f":"OFFSET(Opasy!$H$18,AG56,0)","v":0},{"$f":"OFFSET(Opasy!$H$23,AL56,0)","v":0},0,0,0]
[null,null,null,null,null,null,null,null,null,null,null,0,"-","-","-","-",null,null,null,null,null,null,{"$error":"#VALUE!"},{"$error":"#VALUE!"},{"$f":"IFERROR(MATCH(D57,Opasy!$M$17:$M$19,0),0)","v":0},{"$f":"IFERROR(MATCH(D57,Nr_stad!$U$8:$U$60,0),0)","v":0},0,{"$f":"$E$17*Opasy!$I$17*Opasy!$J$17","v":0},{"$f":"$D$17*Opasy!$J$17","v":0},0,0,0,0,{"$f":"OFFSET(Opasy!$H$18,AG57,0)","v":0},{"$f":"OFFSET(Opasy!$H$23,AL57,0)","v":0},0,0,0]
[null,null,null,null,null,null,null,null,null,null,null,0,"-","-","-","-",null,null,null,null,null,null,{"$error":"#VALUE!"},{"$error":"#VALUE!"},{"$f":"IFERROR(MATCH(D58,Opasy!$M$17:$M$19,0),0)","v":0},{"$f":"IFERROR(MATCH(D58,Nr_stad!$U$8:$U$60,0),0)","v":0},0,{"$f":"$E$17*Opasy!$I$17*Opasy!$J$17","v":0},{"$f":"$D$17*Opasy!$J$17","v":0},0,0,0,0,{"$f":"OFFSET(Opasy!$H$18,AG58,0)","v":0},{"$f":"OFFSET(Opasy!$H$23,AL58,0)","v":0},0,0,0]
[null,null,null,null,null,null,null,null,null,null,null,0,"-","-","-","-",null,null,null,null,null,null,{"$error":"#VALUE!"},{"$error":"#VALUE!"},{"$f":"IFERROR(MATCH(D59,Opasy!$M$17:$M$19,0),0)","v":0},{"$f":"IFERROR(MATCH(D59,Nr_stad!$U$8:$U$60,0),0)","v":0},0,{"$f":"$E$17*Opasy!$I$17*Opasy!$J$17","v":0},{"$f":"$D$17*Opasy!$J$17","v":0},0,0,0,0,{"$f":"OFFSET(Opasy!$H$18,AG59,0)","v":0},{"$f":"OFFSET(Opasy!$H$23,AL59,0)","v":0},0,0,0]
[null,null,null,null,null,null,null,null,null,null,null,0,"-","-","-","-",null,null,null,null,null,null,{"$error":"#VALUE!"},{"$error":"#VALUE!"},{"$f":"IFERROR(MATCH(D60,Opasy!$M$17:$M$19,0),0)","v":0},{"$f":"IFERROR(MATCH(D60,Nr_stad!$U$8:$U$60,0),0)","v":0},0,{"$f":"$E$17*Opasy!$I$17*Opasy!$J$17","v":0},{"$f":"$D$17*Opasy!$J$17","v":0},0,0,0,0,{"$f":"OFFSET(Opasy!$H$18,AG60,0)","v":0},{"$f":"OFFSET(Opasy!$H$23,AL60,0)","v":0},0,0,0]
[null,null,null,null,null,null,null,null,null,null,null,0,"-","-","-","-",null,null,null,null,null,null,{"$error":"#VALUE!"},{"$error":"#VALUE!"},{"$f":"IFERROR(MATCH(D61,Opasy!$M$17:$M$19,0),0)","v":0},{"$f":"IFERROR(MATCH(D61,Nr_stad!$U$8:$U$60,0),0)","v":0},0,{"$f":"$E$17*Opasy!$I$17*Opasy!$J$17","v":0},{"$f":"$D$17*Opasy!$J$17","v":0},0,0,0,0,{"$f":"OFFSET(Opasy!$H$18,AG61,0)","v":0},{"$f":"OFFSET(Opasy!$H$23,AL61,0)","v":0},0,0,0]
[null,null,null,null,null,null,null,null,null,null,null,0,"-","-","-","-",null,null,null,null,null,null,{"$error":"#VALUE!"},{"$error":"#VALUE!"},{"$f":"IFERROR(MATCH(D62,Opasy!$M$17:$M$19,0),0)","v":0},{"$f":"IFERROR(MATCH(D62,Nr_stad!$U$8:$U$60,0),0)","v":0},0,{"$f":"$E$17*Opasy!$I$17*Opasy!$J$17","v":0},{"$f":"$D$17*Opasy!$J$17","v":0},0,0,0,0,{"$f":"OFFSET(Opasy!$H$18,AG62,0)","v":0},{"$f":"OFFSET(Opasy!$H$23,AL62,0)","v":0},0,0,0]
[null,null,null,null,null,null,null,null,null,null,null,0,"-","-","-","-",null,null,null,null,null,null,{"$error":"#VALUE!"},{"$error":"#VALUE!"},{"$f":"IFERROR(MATCH(D63,Opasy!$M$17:$M$19,0),0)","v":0},{"$f":"IFERROR(MATCH(D63,Nr_stad!$U$8:$U$60,0),0)","v":0},0,{"$f":"$E$17*Opasy!$I$17*Opasy!$J$17","v":0},{"$f":"$D$17*Opasy!$J$17","v":0},0,0,0,0,{"$f":"OFFSET(Opasy!$H$18,AG63,0)","v":0},{"$f":"OFFSET(Opasy!$H$23,AL63,0)","v":0},0,0,0]
[null,null,null,null,null,null,null,null,null,null,null,0,"-","-","-","-",null,null,null,null,null,null,{"$error":"#VALUE!"},{"$error":"#VALUE!"},{"$f":"IFERROR(MATCH(D64,Opasy!$M$17:$M$19,0),0)","v":0},{"$f":"IFERROR(MATCH(D64,Nr_stad!$U$8:$U$60,0),0)","v":0},0,{"$f":"$E$17*Opasy!$I$17*Opasy!$J$17","v":0},{"$f":"$D$17*Opasy!$J$17","v":0},0,0,0,0,{"$f":"OFFSET(Opasy!$H$18,AG64,0)","v":0},{"$f":"OFFSET(Opasy!$H$23,AL64,0)","v":0},0,0,0]
[null,null,null,null,null,null,null,null,null,null,null,0,"-","-","-","-",null,null,null,null,null,null,{"$error":"#VALUE!"},{"$error":"#VALUE!"},{"$f":"IFERROR(MATCH(D65,Opasy!$M$17:$M$19,0),0)","v":0},{"$f":"IFERROR(MATCH(D65,Nr_stad!$U$8:$U$60,0),0)","v":0},0,{"$f":"$E$17*Opasy!$I$17*Opasy!$J$17","v":0},{"$f":"$D$17*Opasy!$J$17","v":0},0,0,0,0,{"$f":"OFFSET(Opasy!$H$18,AG65,0)","v":0},{"$f":"OFFSET(Opasy!$H$23,AL65,0)","v":0},0,0,0]
[null,null,null,null,null,null,null,null,null,null,null,0,"-","-","-","-",null,null,null,null,null,null,{"$error":"#VALUE!"},{"$error":"#VALUE!"},{"$f":"IFERROR(MATCH(D66,Opasy!$M$17:$M$19,0),0)","v":0},{"$f":"IFERROR(MATCH(D66,Nr_stad!$U$8:$U$60,0),0)","v":0},0,{"$f":"$E$17*Opasy!$I$17*Opasy!$J$17","v":0},{"$f":"$D$17*Opasy!$J$17","v":0},0,0,0,0,{"$f":"OFFSET(Opasy!$H$18,AG66,0)","v":0},{"$f":"OFFSET(Opasy!$H$23,AL66,0)","v":0},0,0,0]
[null,null,null,null,null,null,null,null,null,null,null,0,"-","-","-","-",null,null,null,null,null,null,{"$error":"#VALUE!"},{"$error":"#VALUE!"},{"$f":"IFERROR(MATCH(D67,Opasy!$M$17:$M$19,0),0)","v":0},{"$f":"IFERROR(MATCH(D67,Nr_stad!$U$8:$U$60,0),0)","v":0},0,{"$f":"$E$17*Opasy!$I$17*Opasy!$J$17","v":0},{"$f":"$D$17*Opasy!$J$17","v":0},0,0,0,0,{"$f":"OFFSET(Opasy!$H$18,AG67,0)","v":0},{"$f":"OFFSET(Opasy!$H$23,AL67,0)","v":0},0,0,0]
[null,null,null,null,null,null,null,null,null,null,null,0,"-","-","-","-",null,null,null,null,null,null,{"$error":"#VALUE!"},{"$error":"#VALUE!"},{"$f":"IFERROR(MATCH(D68,Opasy!$M$17:$M$19,0),0)","v":0},{"$f":"IFERROR(MATCH(D68,Nr_stad!$U$8:$U$60,0),0)","v":0},0,{"$f":"$E$17*Opasy!$I$17*Opasy!$J$17","v":0},{"$f":"$D$17*Opasy!$J$17","v":0},0,0,0,0,{"$f":"OFFSET(Opasy!$H$18,AG68,0)","v":0},{"$f":"OFFSET(Opasy!$H$23,AL68,0)","v":0},0,0,0]
[null,null,null,null,null,null,null,null,null,null,null,0,"-","-","-","-",null,null,null,null,null,null,{"$error":"#VALUE!"},{"$error":"#VALUE!"},{"$f":"IFERROR(MATCH(D69,Opasy!$M$17:$M$19,0),0)","v":0},{"$f":"IFERROR(MATCH(D69,Nr_stad!$U$8:$U$60,0),0)","v":0},0,{"$f":"$E$17*Opasy!$I$17*Opasy!$J$17","v":0},{"$f":"$D$17*Opasy!$J$17","v":0},0,0,0,0,{"$f":"OFFSET(Opasy!$H$18,AG69,0)","v":0},{"$f":"OFFSET(Opasy!$H$23,AL69,0)","v":0},0,0,0]
[null,null,null,null,null,null,null,null,null,null,null,0,"-","-","-","-",null,null,null,null,null,null,{"$error":"#VALUE!"},{"$error":"#VALUE!"},{"$f":"IFERROR(MATCH(D70,Opasy!$M$17:$M$19,0),0)","v":0},{"$f":"IFERROR(MATCH(D70,Nr_stad!$U$8:$U$60,0),0)","v":0},0,{"$f":"$E$17*Opasy!$I$17*Opasy!$J$17","v":0},{"$f":"$D$17*Opasy!$J$17","v":0},0,0,0,0,{"$f":"OFFSET(Opasy!$H$18,AG70,0)","v":0},{"$f":"OFFSET(Opasy!$H$23,AL70,0)","v":0},0,0,0]
[null,null,null,null,null,null,null,null,null,null,null,0,"-","-","-","-",null,null,null,null,null,null,{"$error":"#VALUE!"},{"$error":"#VALUE!"},{"$f":"IFERROR(MATCH(D71,Opasy!$M$17:$M$19,0),0)","v":0},{"$f":"IFERROR(MATCH(D71,Nr_stad!$U$8:$U$60,0),0)","v":0},0,{"$f":"$E$17*Opasy!$I$17*Opasy!$J$17","v":0},{"$f":"$D$17*Opasy!$J$17","v":0},0,0,0,0,{"$f":"OFFSET(Opasy!$H$18,AG71,0)","v":0},{"$f":"OFFSET(Opasy!$H$23,AL71,0)","v":0},0,0,0]
[null,null,null,null,null,null,null,null,null,null,null,0,"-","-","-","-",null,null,null,null,null,null,{"$error":"#VALUE!"},{"$error":"#VALUE!"},{"$f":"IFERROR(MATCH(D72,Opasy!$M$17:$M$19,0),0)","v":0},{"$f":"IFERROR(MATCH(D72,Nr_stad!$U$8:$U$60,0),0)","v":0},0,{"$f":"$E$17*Opasy!$I$17*Opasy!$J$17","v":0},{"$f":"$D$17*Opasy!$J$17","v":0},0,0,0,0,{"$f":"OFFSET(Opasy!$H$18,AG72,0)","v":0},{"$f":"OFFSET(Opasy!$H$23,AL72,0)","v":0},0,0,0]
[null,null,null,null,null,null,null,null,null,null,null,0,"-","-","-","-",null,null,null,null,null,null,{"$error":"#VALUE!"},{"$error":"#VALUE!"},{"$f":"IFERROR(MATCH(D73,Opasy!$M$17:$M$19,0),0)","v":0},{"$f":"IFERROR(MATCH(D73,Nr_stad!$U$8:$U$60,0),0)","v":0},0,{"$f":"$E$17*Opasy!$I$17*Opasy!$J$17","v":0},{"$f":"$D$17*Opasy!$J$17","v":0},0,0,0,0,{"$f":"OFFSET(Opasy!$H$18,AG73,0)","v":0},{"$f":"OFFSET(Opasy!$H$23,AL73,0)","v":0},0,0,0]
[null,null,null,null,null,null,null,null,null,null,null,0,"-","-","-","-",null,null,null,null,null,null,{"$error":"#VALUE!"},{"$error":"#VALUE!"},{"$f":"IFERROR(MATCH(D74,Opasy!$M$17:$M$19,0),0)","v":0},{"$f":"IFERROR(MATCH(D74,Nr_stad!$U$8:$U$60,0),0)","v":0},0,{"$f":"$E$17*Opasy!$I$17*Opasy!$J$17","v":0},{"$f":"$D$17*Opasy!$J$17","v":0},0,0,0,0,{"$f":"OFFSET(Opasy!$H$18,AG74,0)","v":0},{"$f":"OFFSET(Opasy!$H$23,AL74,0)","v":0},0,0,0]
[null,null,null,null,null,null,null,null,null,null,null,0,"-","-","-","-",null,null,null,null,null,null,{"$error":"#VALUE!"},{"$error":"#VALUE!"},{"$f":"IFERROR(MATCH(D75,Opasy!$M$17:$M$19,0),0)","v":0},{"$f":"IFERROR(MATCH(D75,Nr_stad!$U$8:$U$60,0),0)","v":0},0,{"$f":"$E$17*Opasy!$I$17*Opasy!$J$17","v":0},{"$f":"$D$17*Opasy!$J$17","v":0},0,0,0,0,{"$f":"OFFSET(Opasy!$H$18,AG75,0)","v":0},{"$f":"OFFSET(Opasy!$H$23,AL75,0)","v":0},0,0,0]
[null,null,null,null,null,null,null,null,null,null,null,0,"-","-","-","-",null,null,null,null,null,null,{"$error":"#VALUE!"},{"$error":"#VALUE!"},{"$f":"IFERROR(MATCH(D76,Opasy!$M$17:$M$19,0),0)","v":0},{"$f":"IFERROR(MATCH(D76,Nr_stad!$U$8:$U$60,0),0)","v":0},0,{"$f":"$E$17*Opasy!$I$17*Opasy!$J$17","v":0},{"$f":"$D$17*Opasy!$J$17","v":0},0,0,0,0,{"$f":"OFFSET(Opasy!$H$18,AG76,0)","v":0},{"$f":"OFFSET(Opasy!$H$23,AL76,0)","v":0},0,0,0]
[null,null,null,null,null,null,null,null,null,null,null,0,"-","-","-","-",null,null,null,null,null,null,{"$error":"#VALUE!"},{"$error":"#VALUE!"},{"$f":"IFERROR(MATCH(D77,Opasy!$M$17:$M$19,0),0)","v":0},{"$f":"IFERROR(MATCH(D77,Nr_stad!$U$8:$U$60,0),0)","v":0},0,{"$f":"$E$17*Opasy!$I$17*Opasy!$J$17","v":0},{"$f":"$D$17*Opasy!$J$17","v":0},0,0,0,0,{"$f":"OFFSET(Opasy!$H$18,AG77,0)","v":0},{"$f":"OFFSET(Opasy!$H$23,AL77,0)","v":0},0,0,0]
[null,null,null,null,null,null,null,null,null,null,null,0,"-","-","-","-",null,null,null,null,null,null,{"$error":"#VALUE!"},{"$error":"#VALUE!"},{"$f":"IFERROR(MATCH(D78,Opasy!$M$17:$M$19,0),0)","v":0},{"$f":"IFERROR(MATCH(D78,Nr_stad!$U$8:$U$60,0),0)","v":0},0,{"$f":"$E$17*Opasy!$I$17*Opasy!$J$17","v":0},{"$f":"$D$17*Opasy!$J$17","v":0},0,0,0,0,{"$f":"OFFSET(Opasy!$H$18,AG78,0)","v":0},{"$f":"OFFSET(Opasy!$H$23,AL78,0)","v":0},0,0,0]
[null,null,null,null,null,null,null,null,null,null,null,0,"-","-","-","-",null,null,null,null,null,null,{"$error":"#VALUE!"},{"$error":"#VALUE!"},{"$f":"IFERROR(MATCH(D79,Opasy!$M$17:$M$19,0),0)","v":0},{"$f":"IFERROR(MATCH(D79,Nr_stad!$U$8:$U$60,0),0)","v":0},0,{"$f":"$E$17*Opasy!$I$17*Opasy!$J$17","v":0},{"$f":"$D$17*Opasy!$J$17","v":0},0,0,0,0,{"$f":"OFFSET(Opasy!$H$18,AG79,0)","v":0},{"$f":"OFFSET(Opasy!$H$23,AL79,0)","v":0},0,0,0]
[null,null,null,null,null,null,null,null,null,null,null,0,"-","-","-","-",null,null,null,null,null,null,{"$error":"#VALUE!"},{"$error":"#VALUE!"},{"$f":"IFERROR(MATCH(D80,Opasy!$M$17:$M$19,0),0)","v":0},{"$f":"IFERROR(MATCH(D80,Nr_stad!$U$8:$U$60,0),0)","v":0},0,{"$f":"$E$17*Opasy!$I$17*Opasy!$J$17","v":0},{"$f":"$D$17*Opasy!$J$17","v":0},0,0,0,0,{"$f":"OFFSET(Opasy!$H$18,AG80,0)","v":0},{"$f":"OFFSET(Opasy!$H$23,AL80,0)","v":0},0,0,0]
[null,null,null,null,null,null,null,null,null,null,null,0,"-","-","-","-",null,null,null,null,null,null,{"$error":"#VALUE!"},{"$error":"#VALUE!"},{"$f":"IFERROR(MATCH(D81,Opasy!$M$17:$M$19,0),0)","v":0},{"$f":"IFERROR(MATCH(D81,Nr_stad!$U$8:$U$60,0),0)","v":0},0,{"$f":"$E$17*Opasy!$I$17*Opasy!$J$17","v":0},{"$f":"$D$17*Opasy!$J$17","v":0},0,0,0,0,{"$f":"OFFSET(Opasy!$H$18,AG81,0)","v":0},{"$f":"OFFSET(Opasy!$H$23,AL81,0)","v":0},0,0,0]
[null,null,null,null,null,null,null,null,null,null,null,0,"-","-","-","-",null,null,null,null,null,null,{"$error":"#VALUE!"},{"$error":"#VALUE!"},{"$f":"IFERROR(MATCH(D82,Opasy!$M$17:$M$19,0),0)","v":0},{"$f":"IFERROR(MATCH(D82,Nr_stad!$U$8:$U$60,0),0)","v":0},0,{"$f":"$E$17*Opasy!$I$17*Opasy!$J$17","v":0},{"$f":"$D$17*Opasy!$J$17","v":0},0,0,0,0,{"$f":"OFFSET(Opasy!$H$18,AG82,0)","v":0},{"$f":"OFFSET(Opasy!$H$23,AL82,0)","v":0},0,0,0]
[null,null,null,null,null,null,null,null,null,null,null,0,"-","-","-","-",null,null,null,null,null,null,{"$error":"#VALUE!"},{"$error":"#VALUE!"},{"$f":"IFERROR(MATCH(D83,Opasy!$M$17:$M$19,0),0)","v":0},{"$f":"IFERROR(MATCH(D83,Nr_stad!$U$8:$U$60,0),0)","v":0},0,{"$f":"$E$17*Opasy!$I$17*Opasy!$J$17","v":0},{"$f":"$D$17*Opasy!$J$17","v":0},0,0,0,0,{"$f":"OFFSET(Opasy!$H$18,AG83,0)","v":0},{"$f":"OFFSET(Opasy!$H$23,AL83,0)","v":0},0,0,0]
[null,null,null,null,null,null,null,null,null,null,null,0,"-","-","-","-",null,null,null,null,null,null,{"$error":"#VALUE!"},{"$error":"#VALUE!"},{"$f":"IFERROR(MATCH(D84,Opasy!$M$17:$M$19,0),0)","v":0},{"$f":"IFERROR(MATCH(D84,Nr_stad!$U$8:$U$60,0),0)","v":0},0,{"$f":"$E$17*Opasy!$I$17*Opasy!$J$17","v":0},{"$f":"$D$17*Opasy!$J$17","v":0},0,0,0,0,{"$f":"OFFSET(Opasy!$H$18,AG84,0)","v":0},{"$f":"OFFSET(Opasy!$H$23,AL84,0)","v":0},0,0,0]
[null,null,null,null,null,null,null,null,null,null,null,0,"-","-","-","-",null,null,null,null,null,null,{"$error":"#VALUE!"},{"$error":"#VALUE!"},{"$f":"IFERROR(MATCH(D85,Opasy!$M$17:$M$19,0),0)","v":0},{"$f":"IFERROR(MATCH(D85,Nr_stad!$U$8:$U$60,0),0)","v":0},0,{"$f":"$E$17*Opasy!$I$17*Opasy!$J$17","v":0},{"$f":"$D$17*Opasy!$J$17","v":0},0,0,0,0,{"$f":"OFFSET(Opasy!$H$18,AG85,0)","v":0},{"$f":"OFFSET(Opasy!$H$23,AL85,0)","v":0},0,0,0]
[null,null,null,null,null,null,null,null,null,null,null,0,"-","-","-","-",null,null,null,null,null,null,{"$error":"#VALUE!"},{"$error":"#VALUE!"},{"$f":"IFERROR(MATCH(D86,Opasy!$M$17:$M$19,0),0)","v":0},{"$f":"IFERROR(MATCH(D86,Nr_stad!$U$8:$U$60,0),0)","v":0},0,{"$f":"$E$17*Opasy!$I$17*Opasy!$J$17","v":0},{"$f":"$D$17*Opasy!$J$17","v":0},0,0,0,0,{"$f":"OFFSET(Opasy!$H$18,AG86,0)","v":0},{"$f":"OFFSET(Opasy!$H$23,AL86,0)","v":0},0,0,0]
[null,null,null,null,null,null,null,null,null,null,null,0,"-","-","-","-",null,null,null,null,null,null,{"$error":"#VALUE!"},{"$error":"#VALUE!"},{"$f":"IFERROR(MATCH(D87,Opasy!$M$17:$M$19,0),0)","v":0},{"$f":"IFERROR(MATCH(D87,Nr_stad!$U$8:$U$60,0),0)","v":0},0,{"$f":"$E$17*Opasy!$I$17*Opasy!$J$17","v":0},{"$f":"$D$17*Opasy!$J$17","v":0},0,0,0,0,{"$f":"OFFSET(Opasy!$H$18,AG87,0)","v":0},{"$f":"OFFSET(Opasy!$H$23,AL87,0)","v":0},0,0,0]
[null,null,null,null,null,null,null,null,null,null,null,0,"-","-","-","-",null,null,null,null,null,null,{"$error":"#VALUE!"},{"$error":"#VALUE!"},{"$f":"IFERROR(MATCH(D88,Opasy!$M$17:$M$19,0),0)","v":0},{"$f":"IFERROR(MATCH(D88,Nr_stad!$U$8:$U$60,0),0)","v":0},0,{"$f":"$E$17*Opasy!$I$17*Opasy!$J$17","v":0},{"$f":"$D$17*Opasy!$J$17","v":0},0,0,0,0,{"$f":"OFFSET(Opasy!$H$18,AG88,0)","v":0},{"$f":"OFFSET(Opasy!$H$23,AL88,0)","v":0},0,0,0]
[null,null,null,null,null,null,null,null,null,null,null,{"$f":"IFERROR(J89*K89,\"\")","v":0},"-","-","-","-",null,null,null,null,null,null,{"$error":"#VALUE!"},{"$error":"#VALUE!"},{"$f":"IFERROR(MATCH(D89,Opasy!$M$17:$M$19,0),0)","v":0},{"$f":"IFERROR(MATCH(D89,Nr_stad!$U$8:$U$60,0),0)","v":0},0,{"$f":"$E$17*Opasy!$I$17*Opasy!$J$17","v":0},{"$f":"$D$17*Opasy!$J$17","v":0},0,0,0,0,{"$f":"OFFSET(Opasy!$H$18,AG89,0)","v":0},{"$f":"OFFSET(Opasy!$H$23,AL89,0)","v":0},0,0,0]
[null,null,null,null,null,null,null,null,null,null,null,0,"-","-","-","-",null,null,null,null,null,null,{"$error":"#VALUE!"},{"$error":"#VALUE!"},{"$f":"IFERROR(MATCH(D90,Opasy!$M$17:$M$19,0),0)","v":0},{"$f":"IFERROR(MATCH(D90,Nr_stad!$U$8:$U$60,0),0)","v":0},0,{"$f":"$E$17*Opasy!$I$17*Opasy!$J$17","v":0},{"$f":"$D$17*Opasy!$J$17","v":0},0,0,0,0,{"$f":"OFFSET(Opasy!$H$18,AG90,0)","v":0},{"$f":"OFFSET(Opasy!$H$23,AL90,0)","v":0},0,0,0]
[null,null,null,null,null,null,null,null,null,null,null,0,"-","-","-","-",null,null,null,null,null,null,{"$error":"#VALUE!"},{"$error":"#VALUE!"},{"$f":"IFERROR(MATCH(D91,Opasy!$M$17:$M$19,0),0)","v":0},{"$f":"IFERROR(MATCH(D91,Nr_stad!$U$8:$U$60,0),0)","v":0},0,{"$f":"$E$17*Opasy!$I$17*Opasy!$J$17","v":0},{"$f":"$D$17*Opasy!$J$17","v":0},0,0,0,0,{"$f":"OFFSET(Opasy!$H$18,AG91,0)","v":0},{"$f":"OFFSET(Opasy!$H$23,AL91,0)","v":0},0,0,0]
[null,null,null,null,null,null,null,null,null,null,null,0,"-","-","-","-",null,null,null,null,null,null,{"$error":"#VALUE!"},{"$error":"#VALUE!"},{"$f":"IFERROR(MATCH(D92,Opasy!$M$17:$M$19,0),0)","v":0},{"$f":"IFERROR(MATCH(D92,Nr_stad!$U$8:$U$60,0),0)","v":0},0,{"$f":"$E$17*Opasy!$I$17*Opasy!$J$17","v":0},{"$f":"$D$17*Opasy!$J$17","v":0},0,0,0,0,{"$f":"OFFSET(Opasy!$H$18,AG92,0)","v":0},{"$f":"OFFSET(Opasy!$H$23,AL92,0)","v":0},0,0,0]
[null,null,null,null,null,null,null,null,null,null,null,0,"-","-","-","-",null,null,null,null,null,null,{"$error":"#VALUE!"},{"$error":"#VALUE!"},{"$f":"IFERROR(MATCH(D93,Opasy!$M$17:$M$19,0),0)","v":0},{"$f":"IFERROR(MATCH(D93,Nr_stad!$U$8:$U$60,0),0)","v":0},0,{"$f":"$E$17*Opasy!$I$17*Opasy!$J$17","v":0},{"$f":"$D$17*Opasy!$J$17","v":0},0,0,0,0,{"$f":"OFFSET(Opasy!$H$18,AG93,0)","v":0},{"$f":"OFFSET(Opasy!$H$23,AL93,0)","v":0},0,0,0]
[null,null,null,null,null,null,null,null,null,null,null,0,"-","-","-","-",null,null,null,null,null,null,{"$error":"#VALUE!"},{"$error":"#VALUE!"},{"$f":"IFERROR(MATCH(D94,Opasy!$M$17:$M$19,0),0)","v":0},{"$f":"IFERROR(MATCH(D94,Nr_stad!$U$8:$U$60,0),0)","v":0},0,{"$f":"$E$17*Opasy!$I$17*Opasy!$J$17","v":0},{"$f":"$D$17*Opasy!$J$17","v":0},0,0,0,0,{"$f":"OFFSET(Opasy!$H$18,AG94,0)","v":0},{"$f":"OFFSET(Opasy!$H$23,AL94,0)","v":0},0,0,0]
[null,null,null,null,null,null,null,null,null,null,null,0,{"$f":"IF(Y95=1,OFFSET(AA95,0,1),\"-\")","v":"-"},{"$f":"IF(Y95=1,OFFSET(AA95,0,2),\"-\")","v":"-"},{"$f":"IF(Y95=3,AI95,IF(Y95=2,AH95,\"-\"))","v":"-"},{"$f":"IFERROR(IF(AND(Y95=1,G95>0,H95>0),I95,X95),\"-\")","v":"-"},null,null,null,null,null,null,{"$f":"TRUNC(L95/O95,0)","v":{"$error":"#VALUE!"}},{"$f":"IF(AND(Y95=2,L95/O95<2),\"-\",W95)","v":{"$error":"#VALUE!"}},{"$f":"IFERROR(MATCH(D95,Opasy!$M$17:$M$19,0),0)","v":0},{"$f":"IFERROR(MATCH(D95,Nr_stad!$U$8:$U$60,0),0)","v":0},{"$f":"SUM(G95:P95)+Z95","v":0},{"$f":"$E$17*Opasy!$I$17*Opasy!$J$17","v":0},{"$f":"$D$17*Opasy!$J$17","v":0},{"$f":"IF(AND(F95>$AD$22,F95<=$AD$23),1,0)","v":0},{"$f":"IF(AND(F95>$AE$22,F95<=$AE$23),2,0)","v":0},{"$f":"IF(F95>$AF$22,3,0)","v":0},{"$f":"MAX(AD95:AF95)","v":0},{"$f":"OFFSET(Opasy!$H$18,AG95,0)","v":0},{"$f":"OFFSET(Opasy!$H$23,AL95,0)","v":0},{"$f":"IF(AND(F95>$AJ$22,F95<=$AJ$23),1,0)","v":0},{"$f":"IF(F95>$AK$22,2,0)","v":0},{"$f":"MAX(AJ95:AK95)","v":0}]
[null,null,null,null,null,null,null,null,null,null,null,0,"-","-","-","-",null,null,null,null,null,null,{"$error":"#VALUE!"},{"$error":"#VALUE!"},{"$f":"IFERROR(MATCH(D96,Opasy!$M$17:$M$19,0),0)","v":0},{"$f":"IFERROR(MATCH(D96,Nr_stad!$U$8:$U$60,0),0)","v":0},0,{"$f":"$E$17*Opasy!$I$17*Opasy!$J$17","v":0},{"$f":"$D$17*Opasy!$J$17","v":0},0,0,0,0,{"$f":"OFFSET(Opasy!$H$18,AG96,0)","v":0},{"$f":"OFFSET(Opasy!$H$23,AL96,0)","v":0},0,0,0]
[null,null,null,null,null,null,null,null,null,null,null,0,"-","-","-","-",null,null,null,null,null,null,{"$error":"#VALUE!"},{"$error":"#VALUE!"},{"$f":"IFERROR(MATCH(D97,Opasy!$M$17:$M$19,0),0)","v":0},{"$f":"IFERROR(MATCH(D97,Nr_stad!$U$8:$U$60,0),0)","v":0},0,{"$f":"$E$17*Opasy!$I$17*Opasy!$J$17","v":0},{"$f":"$D$17*Opasy!$J$17","v":0},0,0,0,0,{"$f":"OFFSET(Opasy!$H$18,AG97,0)","v":0},{"$f":"OFFSET(Opasy!$H$23,AL97,0)","v":0},0,0,0]
[null,null,null,null,null,null,null,null,null,null,null,0,"-","-","-","-",null,null,null,null,null,null,{"$error":"#VALUE!"},{"$error":"#VALUE!"},{"$f":"IFERROR(MATCH(D98,Opasy!$M$17:$M$19,0),0)","v":0},{"$f":"IFERROR(MATCH(D98,Nr_stad!$U$8:$U$60,0),0)","v":0},0,{"$f":"$E$17*Opasy!$I$17*Opasy!$J$17","v":0},{"$f":"$D$17*Opasy!$J$17","v":0},0,0,0,0,{"$f":"OFFSET(Opasy!$H$18,AG98,0)","v":0},{"$f":"OFFSET(Opasy!$H$23,AL98,0)","v":0},0,0,0]
[null,null,null,null,null,null,null,null,null,null,null,0,"-","-","-","-",null,null,null,null,null,null,{"$error":"#VALUE!"},{"$error":"#VALUE!"},{"$f":"IFERROR(MATCH(D99,Opasy!$M$17:$M$19,0),0)","v":0},{"$f":"IFERROR(MATCH(D99,Nr_stad!$U$8:$U$60,0),0)","v":0},0,{"$f":"$E$17*Opasy!$I$17*Opasy!$J$17","v":0},{"$f":"$D$17*Opasy!$J$17","v":0},0,0,0,0,{"$f":"OFFSET(Opasy!$H$18,AG99,0)","v":0},{"$f":"OFFSET(Opasy!$H$23,AL99,0)","v":0},0,0,0]
[null,null,null,null,null,null,null,null,null,null,null,0,"-","-","-","-",null,null,null,null,null,null,{"$error":"#VALUE!"},{"$error":"#VALUE!"},{"$f":"IFERROR(MATCH(D100,Opasy!$M$17:$M$19,0),0)","v":0},{"$f":"IFERROR(MATCH(D100,Nr_stad!$U$8:$U$60,0),0)","v":0},0,{"$f":"$E$17*Opasy!$I$17*Opasy!$J$17","v":0},{"$f":"$D$17*Opasy!$J$17","v":0},0,0,0,0,{"$f":"OFFSET(Opasy!$H$18,AG100,0)","v":0},{"$f":"OFFSET(Opasy!$H$23,AL100,0)","v":0},0,0,0]
[null,null,null,null,null,null,null,null,null,null,null,0,"-","-","-","-",null,null,null,null,null,null,{"$error":"#VALUE!"},{"$error":"#VALUE!"},{"$f":"IFERROR(MATCH(D101,Opasy!$M$17:$M$19,0),0)","v":0},{"$f":"IFERROR(MATCH(D101,Nr_stad!$U$8:$U$60,0),0)","v":0},0,{"$f":"$E$17*Opasy!$I$17*Opasy!$J$17","v":0},{"$f":"$D$17*Opasy!$J$17","v":0},0,0,0,0,{"$f":"OFFSET(Opasy!$H$18,AG101,0)","v":0},{"$f":"OFFSET(Opasy!$H$23,AL101,0)","v":0},0,0,0]
[null,null,null,null,null,null,null,null,null,null,null,0,"-","-","-","-",null,null,null,null,null,null,{"$error":"#VALUE!"},{"$error":"#VALUE!"},{"$f":"IFERROR(MATCH(D102,Opasy!$M$17:$M$19,0),0)","v":0},{"$f":"IFERROR(MATCH(D102,Nr_stad!$U$8:$U$60,0),0)","v":0},0,{"$f":"$E$17*Opasy!$I$17*Opasy!$J$17","v":0},{"$f":"$D$17*Opasy!$J$17","v":0},0,0,0,0,{"$f":"OFFSET(Opasy!$H$18,AG102,0)","v":0},{"$f":"OFFSET(Opasy!$H$23,AL102,0)","v":0},0,0,0]
[null,null,null,null,null,null,null,null,null,null,null,0,"-","-","-","-",null,null,null,null,null,null,{"$error":"#VALUE!"},{"$error":"#VALUE!"},{"$f":"IFERROR(MATCH(D103,Opasy!$M$17:$M$19,0),0)","v":0},{"$f":"IFERROR(MATCH(D103,Nr_stad!$U$8:$U$60,0),0)","v":0},0,{"$f":"$E$17*Opasy!$I$17*Opasy!$J$17","v":0},{"$f":"$D$17*Opasy!$J$17","v":0},0,0,0,0,{"$f":"OFFSET(Opasy!$H$18,AG103,0)","v":0},{"$f":"OFFSET(Opasy!$H$23,AL103,0)","v":0},0,0,0]
[null,null,null,null,null,null,null,null,null,null,null,0,"-","-","-","-",null,null,null,null,null,null,{"$error":"#VALUE!"},{"$error":"#VALUE!"},{"$f":"IFERROR(MATCH(D104,Opasy!$M$17:$M$19,0),0)","v":0},{"$f":"IFERROR(MATCH(D104,Nr_stad!$U$8:$U$60,0),0)","v":0},0,{"$f":"$E$17*Opasy!$I$17*Opasy!$J$17","v":0},{"$f":"$D$17*Opasy!$J$17","v":0},0,0,0,0,{"$f":"OFFSET(Opasy!$H$18,AG104,0)","v":0},{"$f":"OFFSET(Opasy!$H$23,AL104,0)","v":0},0,0,0]
[null,null,null,null,null,null,null,null,null,null,null,0,"-","-","-","-",null,null,null,null,null,null,{"$error":"#VALUE!"},{"$error":"#VALUE!"},{"$f":"IFERROR(MATCH(D105,Opasy!$M$17:$M$19,0),0)","v":0},{"$f":"IFERROR(MATCH(D105,Nr_stad!$U$8:$U$60,0),0)","v":0},0,{"$f":"$E$17*Opasy!$I$17*Opasy!$J$17","v":0},{"$f":"$D$17*Opasy!$J$17","v":0},0,0,0,0,{"$f":"OFFSET(Opasy!$H$18,AG105,0)","v":0},{"$f":"OFFSET(Opasy!$H$23,AL105,0)","v":0},0,0,0]
[null,null,null,null,null,null,null,null,null,null,null,0,"-","-","-","-",null,null,null,null,null,null,{"$error":"#VALUE!"},{"$error":"#VALUE!"},{"$f":"IFERROR(MATCH(D106,Opasy!$M$17:$M$19,0),0)","v":0},{"$f":"IFERROR(MATCH(D106,Nr_stad!$U$8:$U$60,0),0)","v":0},0,{"$f":"$E$17*Opasy!$I$17*Opasy!$J$17","v":0},{"$f":"$D$17*Opasy!$J$17","v":0},0,0,0,0,{"$f":"OFFSET(Opasy!$H$18,AG106,0)","v":0},{"$f":"OFFSET(Opasy!$H$23,AL106,0)","v":0},0,0,0]
[null,null,null,null,null,null,null,null,null,null,null,0,"-","-","-","-",null,null,null,null,null,null,{"$error":"#VALUE!"},{"$error":"#VALUE!"},{"$f":"IFERROR(MATCH(D107,Opasy!$M$17:$M$19,0),0)","v":0},{"$f":"IFERROR(MATCH(D107,Nr_stad!$U$8:$U$60,0),0)","v":0},0,{"$f":"$E$17*Opasy!$I$17*Opasy!$J$17","v":0},{"$f":"$D$17*Opasy!$J$17","v":0},0,0,0,0,{"$f":"OFFSET(Opasy!$H$18,AG107,0)","v":0},{"$f":"OFFSET(Opasy!$H$23,AL107,0)","v":0},0,0,0]
[null,null,null,null,null,null,null,null,null,null,null,0,"-","-","-","-",null,null,null,null,null,null,{"$error":"#VALUE!"},{"$error":"#VALUE!"},{"$f":"IFERROR(MATCH(D108,Opasy!$M$17:$M$19,0),0)","v":0},{"$f":"IFERROR(MATCH(D108,Nr_stad!$U$8:$U$60,0),0)","v":0},0,{"$f":"$E$17*Opasy!$I$17*Opasy!$J$17","v":0},{"$f":"$D$17*Opasy!$J$17","v":0},0,0,0,0,{"$f":"OFFSET(Opasy!$H$18,AG108,0)","v":0},{"$f":"OFFSET(Opasy!$H$23,AL108,0)","v":0},0,0,0]
[null,null,null,null,null,null,null,null,null,null,null,0,"-","-","-","-",null,null,null,null,null,null,{"$error":"#VALUE!"},{"$error":"#VALUE!"},{"$f":"IFERROR(MATCH(D109,Opasy!$M$17:$M$19,0),0)","v":0},{"$f":"IFERROR(MATCH(D109,Nr_stad!$U$8:$U$60,0),0)","v":0},0,{"$f":"$E$17*Opasy!$I$17*Opasy!$J$17","v":0},{"$f":"$D$17*Opasy!$J$17","v":0},0,0,0,0,{"$f":"OFFSET(Opasy!$H$18,AG109,0)","v":0},{"$f":"OFFSET(Opasy!$H$23,AL109,0)","v":0},0,0,0]
[null,null,null,null,null,null,null,null,null,null,null,0,"-","-","-","-",null,null,null,null,null,null,{"$error":"#VALUE!"},{"$error":"#VALUE!"},{"$f":"IFERROR(MATCH(D110,Opasy!$M$17:$M$19,0),0)","v":0},{"$f":"IFERROR(MATCH(D110,Nr_stad!$U$8:$U$60,0),0)","v":0},0,{"$f":"$E$17*Opasy!$I$17*Opasy!$J$17","v":0},{"$f":"$D$17*Opasy!$J$17","v":0},0,0,0,0,{"$f":"OFFSET(Opasy!$H$18,AG110,0)","v":0},{"$f":"OFFSET(Opasy!$H$23,AL110,0)","v":0},0,0,0]
[null,null,null,null,null,null,null,null,null,null,null,0,"-","-","-","-",null,null,null,null,null,null,{"$error":"#VALUE!"},{"$error":"#VALUE!"},{"$f":"IFERROR(MATCH(D111,Opasy!$M$17:$M$19,0),0)","v":0},{"$f":"IFERROR(MATCH(D111,Nr_stad!$U$8:$U$60,0),0)","v":0},0,{"$f":"$E$17*Opasy!$I$17*Opasy!$J$17","v":0},{"$f":"$D$17*Opasy!$J$17","v":0},0,0,0,0,{"$f":"OFFSET(Opasy!$H$18,AG111,0)","v":0},{"$f":"OFFSET(Opasy!$H$23,AL111,0)","v":0},0,0,0]
[null,null,null,null,null,null,null,null,null,null,null,0,"-","-","-","-",null,null,null,null,null,null,{"$error":"#VALUE!"},{"$error":"#VALUE!"},{"$f":"IFERROR(MATCH(D112,Opasy!$M$17:$M$19,0),0)","v":0},{"$f":"IFERROR(MATCH(D112,Nr_stad!$U$8:$U$60,0),0)","v":0},0,{"$f":"$E$17*Opasy!$I$17*Opasy!$J$17","v":0},{"$f":"$D$17*Opasy!$J$17","v":0},0,0,0,0,{"$f":"OFFSET(Opasy!$H$18,AG112,0)","v":0},{"$f":"OFFSET(Opasy!$H$23,AL112,0)","v":0},0,0,0]
[null,null,null,null,null,null,null,null,null,null,null,0,"-","-","-","-",null,null,null,null,null,null,{"$error":"#VALUE!"},{"$error":"#VALUE!"},{"$f":"IFERROR(MATCH(D113,Opasy!$M$17:$M$19,0),0)","v":0},{"$f":"IFERROR(MATCH(D113,Nr_stad!$U$8:$U$60,0),0)","v":0},0,{"$f":"$E$17*Opasy!$I$17*Opasy!$J$17","v":0},{"$f":"$D$17*Opasy!$J$17","v":0},0,0,0,0,{"$f":"OFFSET(Opasy!$H$18,AG113,0)","v":0},{"$f":"OFFSET(Opasy!$H$23,AL113,0)","v":0},0,0,0]
[null,null,null,null,null,null,null,null,null,null,null,0,"-","-","-","-",null,null,null,null,null,null,{"$error":"#VALUE!"},{"$error":"#VALUE!"},{"$f":"IFERROR(MATCH(D114,Opasy!$M$17:$M$19,0),0)","v":0},{"$f":"IFERROR(MATCH(D114,Nr_stad!$U$8:$U$60,0),0)","v":0},0,{"$f":"$E$17*Opasy!$I$17*Opasy!$J$17","v":0},{"$f":"$D$17*Opasy!$J$17","v":0},0,0,0,0,{"$f":"OFFSET(Opasy!$H$18,AG114,0)","v":0},{"$f":"OFFSET(Opasy!$H$23,AL114,0)","v":0},0,0,0]
[null,null,null,null,null,null,null,null,null,null,null,0,"-","-","-","-",null,null,null,null,null,null,{"$error":"#VALUE!"},{"$error":"#VALUE!"},{"$f":"IFERROR(MATCH(D115,Opasy!$M$17:$M$19,0),0)","v":0},{"$f":"IFERROR(MATCH(D115,Nr_stad!$U$8:$U$60,0),0)","v":0},0,{"$f":"$E$17*Opasy!$I$17*Opasy!$J$17","v":0},{"$f":"$D$17*Opasy!$J$17","v":0},0,0,0,0,{"$f":"OFFSET(Opasy!$H$18,AG115,0)","v":0},{"$f":"OFFSET(Opasy!$H$23,AL115,0)","v":0},0,0,0]
[null,null,null,null,null,null,null,null,null,null,null,0,"-","-","-","-",null,null,null,null,null,null,{"$error":"#VALUE!"},{"$error":"#VALUE!"},{"$f":"IFERROR(MATCH(D116,Opasy!$M$17:$M$19,0),0)","v":0},{"$f":"IFERROR(MATCH(D116,Nr_stad!$U$8:$U$60,0),0)","v":0},0,{"$f":"$E$17*Opasy!$I$17*Opasy!$J$17","v":0},{"$f":"$D$17*Opasy!$J$17","v":0},0,0,0,0,{"$f":"OFFSET(Opasy!$H$18,AG116,0)","v":0},{"$f":"OFFSET(Opasy!$H$23,AL116,0)","v":0},0,0,0]
[null,null,null,null,null,null,null,null,null,null,null,0,"-","-","-","-",null,null,null,null,null,null,{"$error":"#VALUE!"},{"$error":"#VALUE!"},{"$f":"IFERROR(MATCH(D117,Opasy!$M$17:$M$19,0),0)","v":0},{"$f":"IFERROR(MATCH(D117,Nr_stad!$U$8:$U$60,0),0)","v":0},0,{"$f":"$E$17*Opasy!$I$17*Opasy!$J$17","v":0},{"$f":"$D$17*Opasy!$J$17","v":0},0,0,0,0,{"$f":"OFFSET(Opasy!$H$18,AG117,0)","v":0},{"$f":"OFFSET(Opasy!$H$23,AL117,0)","v":0},0,0,0]
[null,null,null,null,null,null,null,null,null,null,null,0,"-","-","-","-",null,null,null,null,null,null,{"$error":"#VALUE!"},{"$error":"#VALUE!"},{"$f":"IFERROR(MATCH(D118,Opasy!$M$17:$M$19,0),0)","v":0},{"$f":"IFERROR(MATCH(D118,Nr_stad!$U$8:$U$60,0),0)","v":0},0,{"$f":"$E$17*Opasy!$I$17*Opasy!$J$17","v":0},{"$f":"$D$17*Opasy!$J$17","v":0},0,0,0,0,{"$f":"OFFSET(Opasy!$H$18,AG118,0)","v":0},{"$f":"OFFSET(Opasy!$H$23,AL118,0)","v":0},0,0,0]
[null,null,null,null,null,null,null,null,null,null,null,0,"-","-","-","-",null,null,null,null,null,null,{"$error":"#VALUE!"},{"$error":"#VALUE!"},{"$f":"IFERROR(MATCH(D119,Opasy!$M$17:$M$19,0),0)","v":0},{"$f":"IFERROR(MATCH(D119,Nr_stad!$U$8:$U$60,0),0)","v":0},0,{"$f":"$E$17*Opasy!$I$17*Opasy!$J$17","v":0},{"$f":"$D$17*Opasy!$J$17","v":0},0,0,0,0,{"$f":"OFFSET(Opasy!$H$18,AG119,0)","v":0},{"$f":"OFFSET(Opasy!$H$23,AL119,0)","v":0},0,0,0]
[null,null,null,null,null,null,null,null,null,null,null,0,"-","-","-","-",null,null,null,null,null,null,{"$error":"#VALUE!"},{"$error":"#VALUE!"},{"$f":"IFERROR(MATCH(D120,Opasy!$M$17:$M$19,0),0)","v":0},{"$f":"IFERROR(MATCH(D120,Nr_stad!$U$8:$U$60,0),0)","v":0},0,{"$f":"$E$17*Opasy!$I$17*Opasy!$J$17","v":0},{"$f":"$D$17*Opasy!$J$17","v":0},0,0,0,0,{"$f":"OFFSET(Opasy!$H$18,AG120,0)","v":0},{"$f":"OFFSET(Opasy!$H$23,AL120,0)","v":0},0,0,0]
[null,null,null,null,null,null,null,null,null,null,null,0,"-","-","-","-",null,null,null,null,null,null,{"$error":"#VALUE!"},{"$error":"#VALUE!"},{"$f":"IFERROR(MATCH(D121,Opasy!$M$17:$M$19,0),0)","v":0},{"$f":"IFERROR(MATCH(D121,Nr_stad!$U$8:$U$60,0),0)","v":0},0,{"$f":"$E$17*Opasy!$I$17*Opasy!$J$17","v":0},{"$f":"$D$17*Opasy!$J$17","v":0},0,0,0,0,{"$f":"OFFSET(Opasy!$H$18,AG121,0)","v":0},{"$f":"OFFSET(Opasy!$H$23,AL121,0)","v":0},0,0,0]
[null,null,null,null,null,null,null,null,null,null,null,null,"-","-","-","-",null,null,null,null,null,null,{"$error":"#VALUE!"},{"$error":"#VALUE!"},{"$f":"IFERROR(MATCH(D122,Opasy!$M$17:$M$19,0),0)","v":0},{"$f":"IFERROR(MATCH(D122,Nr_stad!$U$8:$U$60,0),0)","v":0},0,{"$f":"$E$17*Opasy!$I$17*Opasy!$J$17","v":0},{"$f":"$D$17*Opasy!$J$17","v":0},0,0,0,0,{"$f":"OFFSET(Opasy!$H$18,AG122,0)","v":0},{"$f":"OFFSET(Opasy!$H$23,AL122,0)","v":0},0,0,0]
[null,null,null,null,null,null,null,null,null,null,null,null,"-","-","-","-",null,null,null,null,null,null,{"$error":"#VALUE!"},{"$error":"#VALUE!"},{"$f":"IFERROR(MATCH(D123,Opasy!$M$17:$M$19,0),0)","v":0},{"$f":"IFERROR(MATCH(D123,Nr_stad!$U$8:$U$60,0),0)","v":0},0,{"$f":"$E$17*Opasy!$I$17*Opasy!$J$17","v":0},{"$f":"$D$17*Opasy!$J$17","v":0},0,0,0,0,{"$f":"OFFSET(Opasy!$H$18,AG123,0)","v":0},{"$f":"OFFSET(Opasy!$H$23,AL123,0)","v":0},0,0,0]
[null,null,null,null,null,null,null,null,null,null,null,null,"-","-","-","-",null,null,null,null,null,null,{"$error":"#VALUE!"},{"$error":"#VALUE!"},{"$f":"IFERROR(MATCH(D124,Opasy!$M$17:$M$19,0),0)","v":0},{"$f":"IFERROR(MATCH(D124,Nr_stad!$U$8:$U$60,0),0)","v":0},0,{"$f":"$E$17*Opasy!$I$17*Opasy!$J$17","v":0},{"$f":"$D$17*Opasy!$J$17","v":0},0,0,0,0,{"$f":"OFFSET(Opasy!$H$18,AG124,0)","v":0},{"$f":"OFFSET(Opasy!$H$23,AL124,0)","v":0},0,0,0]
[null,null,null,"SUMA POWIERZCHNI:",null,null,null,null,null,null,null,{"$f":"SUM(L24:L124)","v":0},"SUMA LICZBY SZT. BYDŁA:",null,null,{"$f":"SUM(P24:P124)","v":0}]
[null,null,null,null,null,null,null,null,null,"SUMA LICZBY OPASÓW",null,null,null,null,null,{"$f":"SUMIF(Y24:Y124,3,P24:P124)","v":0}]

{"sheet":"N_W_1_1","index":16,"n_rows":16,"n_cols":29,"rows_kept":16,"cut":false,"hidden":false,"merged":[[3,18,3,19],[1,1,1,3],[3,1,3,3],[3,15,4,15],[3,16,4,16],[3,10,4,10],[3,11,4,11]]}
[]
[null,"Wymogi wariantu 1. - dla wszystkich loch w gospodarstwie"]
[null,null,"Kwota wsparcia:",null,"zł/szt"]
[null,"Wymogi dodatkowe dla wariantu 1. Dobrostan loch – zwiększona powierzchnia w budynkach:",null,null,null,null,null,null,null,null,null,"kat","I","II","III","stałe podłoże\nm2/1 sz.","max pow. otworów odpływowych","Dł.","Szer.",null,null,null,"I","II","III"]
[null,"Lp.","Powierzchnia bytowa kojca w budynkach inwentarskich wynosi co najmniej wg grup ","kojec\nm2/1 sz.","stałe podłoże\nm2/1 sz.","max pow. otworów odpływowych",null,null,null,null,null,null,0,6,40,null,null,"min","min= <5","min >5",null,null,0,6,40]
[null,1,"lochy w okresie porodu i odchowu prosiąt ssących",4.2,"-",null,1,1,"L",1,{"$f":"IF($V$6=1,\"\",\"lochy luźne i do 4 tyg. po pokryciu utrzymywane pojedynczo\")","v":"lochy luźne i do 4 tyg. po pokryciu utrzymywane pojedynczo"},"L",1.2,1.2,1.2,"-","-",2,0.6,0.6,null,{"$f":"Lochy!AD22","v":2},1.2,1.2,1.2]
[null,2,"lochy utrzymywane pojedynczo",2.7,"-",null,1,1,"L",2,"lochy w okresie porodu i odchowu prosiąt ssących","L",4.2,4.2,4.2,"-","-",0,0,0,null,null,5.25,5.25,5.25,null,5.25,5.25,5.25]
[null,3,"lochy luźne utrzymywane grupowo do 5 sztuk w kojcu",3,"-",null,5,1,"L",3,"lochy luźne utrzymywane grupowo","L",3,2.7,2.4,"-","-",0,0,0,null,null,3.8,3.4,3,null,3.8,3.4,3]
[null,4,"lochy luźne utrzymywane grupowo od 6 do 39 sztuk w kojcu",2.7,"-",null,39,6,"L",4,"lochy prośne utrzymywane grupowo","L",3,2.7,2.4,1.3,0.15,0,2.41,2.81,null,null,3.8,3.4,3,null,3.8,3.4,3]
[null,5,"lochy luźne utrzymywane grupowo powyżej 39 sztuk w kojcu",2.4,"-",null,1000,40,"L",5,"loszki po pokryciu utrzymywane grupowo",null,2.2000000000000002,2,1.8,0.95,0.15,0,2.41,2.81,null,null,2.7,2.5,2.2000000000000002,null,2.7,2.5,2.2000000000000002]
[null,6,"lochy prośne utrzymywane grupowo do 5 sztuk w kojcu",3,1.3,0.15,5,1,"L",6,{"$f":"IF($V$6=1,\"lochy utrzymywane pojedynczo\",\"\")","v":""},"L",2.7,2.7,2.7,"-","-",2,0.6,0.6,"p",null,3.4,3.4,3.4,null,3.4,3.4,3.4]
[null,7,"lochy prośne utrzymywane grupowo od 6 do 39 sztuk w kojcu",2.7,1.3,0.15,39,6,"L",7,{"$f":"IF($V$6=1,\"loszki od 4 tyg. po pokryciu utrzymywane pojedynczo\",\"\")","v":""},null,2.7,2.7,2.7,"-","-",2,0.6,0.6,"p",null,3.4,3.4,3.4,null,3.4,3.4,3.4]
[null,8,"lochy prośne utrzymywane grupowo powyżej 39 sztuk w kojcu",2.4,1.3,0.15,1000,40,"L"]
[null,9,"loszki po pokryciu utrzymywane grupowo do 5 sztuk w kojcu",2.2000000000000002,0.95,0.15,5,1]
[null,10,"loszki po pokryciu utrzymywane grupowo od 6 do 39 sztuk w kojcu",2,0.95,0.15,39,6]
[null,11,"loszki po pokryciu utrzymywane grupowo powyżej 39 sztuk w kojcu",1.8,0.95,0.15,1000,40]

{"sheet":"N_W_1_2","index":17,"n_rows":13,"n_cols":17,"rows_kept":13,"cut":false,"hidden":false,"merged":[[2,2,2,5],[2,6,2,7],[3,1,10,1],[3,2,3,9]]}
[null,null,null,null,null,null,null,null,"POWRÓT"]
[null,"Wymogi 2. - dla wszystkich tuczników w gospodarstwie"]
[null,"Lp.",null,null,null,null,"Obowiązujące",null,0.2,0.5]
[null,1,"Powierzchnia kojca w przeliczeniu na 1 szt. , w przypadku utrzymywania grupowowego dla warchlaków i tuczników:"]
[null,null,null,null,"do",10,0.15,"m2",0.18,0.23,10,null,null,null,"warchlaki",null,"0,23 m2 "]
[null,null,"pow.",10,"do",20,0.2,"m2",0.24,0.3,20,null,null,null,"tuczniki",null,"0,3 m2 "]
[null,null,"pow.",20,"do",30,0.3,"m2",0.36,0.45,30,null,null,null,null,null,"0,45 m2 "]
[null,null,"pow.",30,"do",50,0.4,"m2",0.48,0.6,50,null,null,null,null,null,"0,6 m2 "]
[null,null,"pow.",50,"do",85,0.55000000000000004,"m2",0.66,0.83,85,null,null,null,null,null,"0,83 m2 "]
[null,null,"pow.",85,"do",110,0.65,"m2",0.78,0.98,110,null,null,null,null,null,"0,98 m2 "]
[null,null,"pow.",110,null,null,1,"m2",1.2,1.5,110,null,null,null,null,null,"1,5 m2 "]
[]
[null,null,null,null,null,"Kwota wsparcia:",null,"zł/szt"]

{"sheet":"N_W_1_1_in","index":18,"n_rows":16,"n_cols":20,"rows_kept":16,"cut":false,"hidden":false,"merged":[[3,18,3,19],[1,1,1,3],[3,1,3,3],[3,10,4,10],[3,11,4,11],[3,15,4,15],[3,16,4,16]]}
[null,null,null,null,null,null,null,null,null,null,null,null,"loch","tucz"]
[null,"Wymogi wariantu 1. - dla wszystkich loch w gospodarstwie",null,null,null,null,null,null,null,null,null,null,1,{"$f":"IF(M3=TRUE,4,9)","v":9}]
[null,null,"Kwota wsparcia:",null,"zł/szt",null,null,null,null,null,null,null,{"$f":"Info_2!R8","v":false},{"$f":"Info_2!R9","v":false},"Info_2"]
[null,"Wymogi dodatkowe dla wariantu 1. Dobrostan loch – zwiększona powierzchnia w budynkach:",null,null,null,null,null,null,null,null,null,"kat","I","II","III","stałe podłoże\nm2/1 sz.","max pow. otworów odpływowych","Dł.","Szer."]
[null,"Lp.","Powierzchnia bytowa kojca w budynkach inwentarskich wynosi co najmniej wg grup ","kojec\nm2/1 sz.","stałe podłoże\nm2/1 sz.","max pow. otworów odpływowych",null,null,null,null,null,null,0,6,40,null,null,"min","min= <5","min >5"]
[null,1,"lochy w okresie porodu i odchowu prosiąt ssących",4.2,"-",null,1,1,"L",1,"knury – krycie w kojcu ",null,10,10,10,"-","-"]
[null,2,"lochy utrzymywane pojedynczo",2.7,"-",null,1,1,"L",2,"knury – krycie poza kojcem",null,6,6,6,"-","-"]
[null,3,"lochy luźne utrzymywane grupowo do 5 sztuk w kojcu",3,"-",null,5,1,"L",3,"knurki i loszki hodowlane, 30-110 kg - pojedynczo",null,2.7,2.7,2.7,"-","-"]
[null,4,"lochy luźne utrzymywane grupowo od 6 do 39 sztuk w kojcu",2.7,"-",null,39,6,"L",4,"knurki i loszki hodowlane,  30-110 kg - grupowo",null,1.4,1.4,1.4,"-","-"]
[null,5,"lochy luźne utrzymywane grupowo powyżej 39 sztuk w kojcu",2.4,"-",null,1000,40,"L",5,"lochy utrzymywane pojedynczo","L",1.2,1.2,1.2,"-","-",2,0.6,0.6]
[null,6,"lochy prośne utrzymywane grupowo do 5 sztuk w kojcu",3,1.3,0.15,5,1,"L",6,"lochy w okresie porodu i odchowu prosiąt ssących",null,3.5,3.5,3.5,"-","-",0,0,0]
[null,7,"lochy prośne utrzymywane grupowo od 6 do 39 sztuk w kojcu",2.7,1.3,0.15,39,6,"L",7,"lochy luźne utrzymywane grupowo ","L",2.48,2.25,2.0299999999999998,"-","-",0,0,0]
[null,8,"lochy prośne utrzymywane grupowo powyżej 39 sztuk w kojcu",2.4,1.3,0.15,1000,40,"L",8,"lochy prośne utrzymywane grupowo","L",2.48,2.25,2.0299999999999998,1.3,0.15,0,2.41,2.81]
[null,9,"loszki po pokryciu utrzymywane grupowo do 5 sztuk w kojcu",2.2000000000000002,0.95,0.15,5,1,null,9,"loszki po pokryciu utrzymywane grupowo","L",1.81,1.64,1.48,0.95,0.15,0,2.41,2.81]
[null,10,"loszki po pokryciu utrzymywane grupowo od 6 do 39 sztuk w kojcu",2,0.95,0.15,39,6,null,10,"loszki po pokryciu utrzymywane pojedynczo","L",1.2,1.2,1.2,"-","-",2,0.6,0.6]
[null,11,"loszki po pokryciu utrzymywane grupowo powyżej 39 sztuk w kojcu",1.8,0.95,0.15,1000,40]

{"sheet":"N_IN_SW","index":19,"n_rows":38,"n_cols":10,"rows_kept":38,"cut":false,"hidden":false,"merged":[]}
[]
[]
[null,"Inne grupy technologiczne świń nie objęte wymogami wariantów Dobrostan świń"]
[null,null,null,null,null,null,"pw + 10%","pw - 10%"]
[null,null,"masa ","powierzchnia","długość ","szerokość ","szt","szt","podłoże stałe","otwory odpływowe max"]
[null,null,"kg","m2",null,null,null,null,"m2","%"]
[null,"knury - pojedynczo - bez krycia w kojcu",null,6]
[null,"knurów pojedynczo -  krycie w kojcu",null,10]
[null,"lochy w okresie porodu i odchowu prosiąt ssących ",null,3.5]
[null,"knurki i loszki hodowlane -  pojedynczo - o masie ciała od 30 do 110 kg",null,2.7]
[null,"lochy -  pojedynczo wymiary kojca",null,null,2,0.6]
[null,"w przypadku utrzymywania grupowo:"]
[null,"knury",null,6]
[null,"warchlaków i tuczników o masie ciała:"]
[null,"a) do 10 kg - co najmniej 0,15 m2,",10,0.15]
[null,"b) powyżej 10 do 20 kg - co najmniej 0,2 m2,",20,0.2]
[null,"c) powyżej 20 do 30 kg - co najmniej 0,3 m2,",30,0.3]
[null,"d) powyżej 30 do 50 kg - co najmniej 0,4 m2,",50,0.4]
[null,"e) powyżej 50 do 85 kg - co najmniej 0,55 m2,",85,0.55000000000000004]
[null,"f) powyżej 85 do 110 kg - co najmniej 0,65 m2,",110,0.65]
[null,"g) powyżej 110 kg - co najmniej 1 m2;",110,1]
[null,"knurki i loszki hodowlane o masie ciała powyżej 30 do 110 kg",null,1.4]
[null,"lochy luźne",null,2.25]
[null,"lochy prośne",null,2.25,null,null,null,null,1.3,0.15]
[null,"loszki po pokryciu",null,1.64,null,null,5,39,0.95,0.15]
[null,null,null,null,2.41,null,"szt<=5"]
[null,null,null,null,2.81,null,"szt>5"]
[null,"system otwarty"]
[null,"na dorosłą sztukę powinna wynosić co najmniej 15 m2.",null,15]
[]
[]
[]
[null,"knury"]
[null,"lochy "]
[null,"loszki hodowlane "]
[null,"knurki hodowlane "]
[null,"warchlaki"]
[null,"tuczniki"]

{"sheet":"B_ML_N","index":20,"n_rows":22,"n_cols":16,"rows_kept":22,"cut":false,"hidden":true,"merged":[[1,8,1,9]]}
[null,"Dane"]
[null,"Grupa technologiczna","uwięz/pojed","wolno","uwięz/pojed","wolno","wolnostanowiskowy bez wydzielonych legowisk na ściółce","wolnostanowiskowy bez wydzielonych legowisk bez ściółki","kojce pojedyńcze"]
[null,null,"długość","długość","szerokość","szerokość","pow.","pow.","długość - min 1,1 długości od czubka nosa do ogonowej krawędzi guza kulszowego","szerokość - min.wysokość  w kłębie,",null,"Systemy"]
[null,"Buhaje ",2.4,null,1.4,null,9,null,null,null,null,"uwięziowy","wolnostanowiskowy bez wydzielonych legowisk na ściółce",null,null,{"$f":"COUNTA(L4:O4)+1","v":3}]
[null,"Jałówki powyżej 7 m-ca ciąży",1.6,2.1,1.1000000000000001,1.1000000000000001,4.5,null,null,null,null,"uwięziowy","wolnostanowiskowy z wydzielonymi legowiskami","wolnostanowiskowy bez wydzielonych legowisk na ściółce",null,{"$f":"COUNTA(L5:O5)+1","v":4}]
[null,"Jałówki powyżej  19 m-ca życia do 7 m-ca ciąży",1.5,1.9,1,0.9,2.2000000000000002,2,null,null,null,"uwięziowy","wolnostanowiskowy z wydzielonymi legowiskami","wolnostanowiskowy bez wydzielonych legowisk na ściółce","wolnostanowiskowy bez wydzielonych legowisk bez ściółki",5]
[null,"Jałówki powyżej  6 m-ca życia do 19 m-ca życia",1.5,1.9,1,0.9,2.2000000000000002,1.6,null,null,null,"uwięziowy","wolnostanowiskowy z wydzielonymi legowiskami","wolnostanowiskowy bez wydzielonych legowisk na ściółce","wolnostanowiskowy bez wydzielonych legowisk bez ściółki",5]
[null,"Bydło opasowe o masie ciała do 300 kg",1.3,null,0.8,null,1.6,1.3,null,null,null,"uwięziowy","wolnostanowiskowy bez wydzielonych legowisk na ściółce","wolnostanowiskowy bez wydzielonych legowisk bez ściółki",null,4]
[null,"Bydło opasowe o masie ciała > 300 kg",1.45,null,0.95,null,2.2000000000000002,1.8,null,null,null,"uwięziowy","wolnostanowiskowy bez wydzielonych legowisk na ściółce","wolnostanowiskowy bez wydzielonych legowisk bez ściółki",null,4]
[null,"Cielęta do 150 kg",{"$f":"I10","v":0},null,{"$f":"J10","v":0},null,1.5,null,{"$f":"Bydlo_mlecz_inn!I14*1.1","v":0},{"$f":"Bydlo_mlecz_inn!H14","v":0},null,"kojce pojedyncze","wolnostanowiskowy bez wydzielonych legowisk na ściółce",null,null,3]
[null,"Cielęta > 150 kg do 220 kg",{"$f":"I11","v":0},null,{"$f":"J11","v":0},null,1.7,null,{"$f":"Bydlo_mlecz_inn!I15*1.1","v":0},{"$f":"Bydlo_mlecz_inn!H15","v":0},null,"kojce pojedyncze","wolnostanowiskowy bez wydzielonych legowisk na ściółce",null,null,3]
[null,"Cielęta >220 kg",{"$f":"I12","v":0},null,{"$f":"J12","v":0},null,1.8,null,{"$f":"Bydlo_mlecz_inn!I16*1.1","v":0},{"$f":"Bydlo_mlecz_inn!H16","v":0},null,"kojce pojedyncze","wolnostanowiskowy bez wydzielonych legowisk na ściółce",null,null,3]
[null,"Krowy",1.6,2.1,1.1000000000000001,1.1000000000000001,4.5,null,null,null,null,"uwięziowy","wolnostanowiskowy z wydzielonymi legowiskami","wolnostanowiskowy bez wydzielonych legowisk na ściółce",null,{"$f":"COUNTA(L13:O13)+1","v":4}]
[null,"Krowy mamki z cielętami do 150 kg",1.6,2.1,1.1000000000000001,1.1000000000000001,{"$f":"4.5+G10","v":6},null,null,null,null,"uwięziowy","wolnostanowiskowy z wydzielonymi legowiskami","wolnostanowiskowy bez wydzielonych legowisk na ściółce",null,{"$f":"COUNTA(L14:O14)+1","v":4}]
[null,"Krowy mamki z cielętami > 150 kg do 220 kg",1.6,2.1,1.1000000000000001,1.1000000000000001,{"$f":"4.5+G11","v":6.2},null,null,null,null,"uwięziowy","wolnostanowiskowy z wydzielonymi legowiskami","wolnostanowiskowy bez wydzielonych legowisk na ściółce",null,{"$f":"COUNTA(L15:O15)+1","v":4}]
[null,"Krowy mamki z cielętami > 220 kg",1.6,2.1,1.1000000000000001,1.1000000000000001,{"$f":"4.5+G12","v":6.3},null,null,null,null,"uwięziowy","wolnostanowiskowy z wydzielonymi legowiskami","wolnostanowiskowy bez wydzielonych legowisk na ściółce",null,{"$f":"COUNTA(L16:O16)+1","v":4}]
[null,null,null,null,null,null,null,null,null,null,null,"Lista"]
[null,null,null,null,null,null,null,null,null,null,1,"uwięziowy"]
[null,null,null,null,null,null,null,null,null,null,2,"wolnostanowiskowy z wydzielonymi legowiskami"]
[null,null,null,null,null,null,null,null,null,null,3,"wolnostanowiskowy bez wydzielonych legowisk na ściółce"]
[null,null,null,null,null,null,null,null,null,null,4,"wolnostanowiskowy bez wydzielonych legowisk bez ściółki"]
[null,null,null,null,null,null,null,null,null,null,5,"kojce pojedyncze"]

{"sheet":"N_W_2_2","index":21,"n_rows":37,"n_cols":11,"rows_kept":37,"cut":false,"hidden":false,"merged":[[9,1,9,7],[3,2,3,3],[3,4,3,5],[4,1,7,1],[4,2,4,7],[5,2,6,2],[7,4,7,5],[13,1,13,8],[14,2,14,3],[14,4,14,5],[15,1,18,1],[15,2,15,7],[16,2,17,2],[18,4,18,5]]}
[null,null,null,null,null,null,null,null,"POWRÓT"]
[]
[null,"Wymogi pkt-u 3. Dobrostan krów mlecznych "]
[null,"Lp.",null,null,"Obowiązujące",null,"wariant",0.5,0.2]
[null,1,"W systemie wolnostanowiskowym z wydzielonymi stanowiskami"]
[null,null,"wymiary wydzielonego legowiska","długość - co najmniej",2.1,"m",2.1,2.1,2.1]
[null,null,null,"szerokość  - co najmniej",1.1000000000000001,"m",1.1000000000000001,1.1000000000000001,1.1000000000000001]
[null,null,"powierzchnia odpasowo-ruchowa","co najmniej","-",null,{"$f":"IF(Krowy_MLECZNE_powierzch!$R$14=1,I8,H8)","v":4},5,4]
[null,2,"Powierzchnia, w przeliczeniu na jedną sztukę w systemie wolnostanowiskowym bez wydzielonych legowisk na ściółce","co najmniej",4.5,"m2",{"$f":"IF(Krowy_MLECZNE_powierzch!$R$14=1,I9,H9)","v":5.4},6.8,5.4]
[null,"Wymogi wariantu musząbyć spełnione dla wszystkich krów mlecznych w gospodarstwie"]
[]
[null,null,null,"Kwota wsparcia:",null,"zł/szt"]
[]
[null,"Wymogi pkt-u 4. Dobrostan krów mamek i pkt-u 5. Dobrostan opasów"]
[null,"Lp.",null,null,"Obowiązujące",null,"wariant",0.5,0.2]
[null,1,"W systemie wolnostanowiskowym z wydzielonymi stanowiskami"]
[null,null,"wymiary wydzielonego legowiska","długość - co najmniej",2.1,"m",2.1,2.1,2.1]
[null,null,null,"szerokość  - co najmniej",1.1000000000000001,"m",1.1000000000000001,1.1000000000000001,1.1000000000000001]
[null,null,"powierzchnia odpasowo-ruchowa","co najmniej","-",null,{"$f":"IF(Krowy_MIĘSNE_powierzch!$R$23=1,I19,H19)","v":4},5,4]
[null,2,"Powierzchnia, w przeliczeniu na jedną sztukę w systemie wolnostanowiskowym bez wydzielonych legowisk na ściółce"]
[null,null,null,null,null,null,{"$f":"IF(AND(Info_2!$R$11,Info_2!$R$13)=TRUE,2,0)","v":0},null,null,null,{"$f":"OFFSET(N_W_2_2!$C$21,0,0,N_W_2_2!$G$21+11)","v":0}]
[null,null,"Krowy mamki","co najmniej",4.5,"m2",{"$f":"IF(Krowy_MIĘSNE_powierzch!$R$23=1,I22,H22)","v":5.4},6.8,5.4,null,"Krowy mamki"]
[null,null,"Jałówki powyżej 7 m-ca ciąży na ściółce","co najmniej",5.5,"m2",{"$f":"IF(Krowy_MIĘSNE_powierzch!$R$23=1,I23,H23)","v":5.4},6.8,5.4,null,"Jałówki powyżej 7 m-ca ciąży na ściółce"]
[null,null,"Jałówki pow. 6 m-ca, nie dł. niż do 7 m-ca ciąży na ściółce","co najmniej",2.2000000000000002,"m2",{"$f":"IF(Krowy_MIĘSNE_powierzch!$R$23=1,I24,H24)","v":2.6},3.3,2.6,null,"Jałówki pow. 6 m-ca, nie dł. niż do 7 m-ca ciąży na ściółce"]
[null,null,"Jałówki pow. 19. m-ca ,  nie dł. niż do 7. m-ca ciąży bez ściółki","co najmniej",2,"m2",{"$f":"IF(Krowy_MIĘSNE_powierzch!$R$23=1,I25,H25)","v":2.2000000000000002},3,2.2000000000000002,null,"Jałówki pow. 19. m-ca ,  nie dł. niż do 7. m-ca ciąży bez ściółki"]
[null,null,"Jałówki pow. 6. m-ca  do 19. m-ca  bez ściółki","co najmniej",1.6,"m2",{"$f":"IF(Krowy_MIĘSNE_powierzch!$R$23=1,I26,H26)","v":1.9},2.4,1.9,null,"Jałówki pow. 6. m-ca  do 19. m-ca  bez ściółki"]
[null,null,"Cielęta do 150 kg","co najmniej",null,"m2",{"$f":"IF(Krowy_MIĘSNE_powierzch!$R$23=1,I27,H27)","v":1.8},2.2999999999999998,1.8,null,"Cielęta do 150 kg"]
[null,null,"Cielęta > 150 kg do 220 kg","co najmniej",null,"m2",{"$f":"IF(Krowy_MIĘSNE_powierzch!$R$23=1,I28,H28)","v":2},2.6,2,null,"Cielęta > 150 kg do 220 kg"]
[null,null,"Cielęta >220 kg","co najmniej",null,"m2",{"$f":"IF(Krowy_MIĘSNE_powierzch!$R$23=1,I29,H29)","v":2.2000000000000002},2.7,2.2000000000000002,null,"Cielęta >220 kg"]
[null,null,"Opasy do 300 kg na ściółce","co najmniej",null,"m2",{"$f":"IF(Krowy_MIĘSNE_powierzch!$R$23=1,I30,H30)","v":1.9},2.4,1.9,null,"Opasy do 300 kg na ściółce"]
[null,null,"Opasy do 300 kg bez ściółki","co najmniej",null,"m2",{"$f":"IF(Krowy_MIĘSNE_powierzch!$R$23=1,I31,H31)","v":1.6},2,1.6,null,"Opasy do 300 kg bez ściółki"]
[null,null,"Opasy > 300 kg na ściółce","co najmniej",null,"m2",{"$f":"IF(Krowy_MIĘSNE_powierzch!$R$23=1,I32,H32)","v":2.6},3.3,2.6]
[null,null,"Opasy > 300 kg bez ściółki","co najmniej",null,"m2",{"$f":"IF(Krowy_MIĘSNE_powierzch!$R$23=1,I33,H33)","v":2.2000000000000002},2.7,2.2000000000000002]
[]
[null,"CIELĘTA -Utrzymywane pojedynczo – wymiary kojca"]
[null,null,"szerokość - co najmniej wysokość cielęcia w kłębie ",null,null,"m",{"$f":"IF(Krowy_MIĘSNE_powierzch!$R$23=1,I36,H36)","v":1.2},{"$f":"J36*1.5","v":1.5},{"$f":"J36*1.2","v":1.2},1]
[null,null,"długość - co najmniej 1,1 długości ciała cielęcia mierzonej od czubka nosa do ogonowej krawędzi guza kulszowego;",null,null,"m",{"$f":"IF(Krowy_MIĘSNE_powierzch!$R$23=1,I37,H37)","v":1.32},{"$f":"J37*1.5","v":1.6500000000000001},{"$f":"J37*1.2","v":1.32},1.1000000000000001]

{"sheet":"N_W_2_3","index":22,"n_rows":18,"n_cols":11,"rows_kept":18,"cut":false,"hidden":true,"merged":[[14,2,14,3],[14,4,14,5],[15,1,15,7],[9,8,9,9],[11,2,11,3],[11,4,11,5],[12,2,12,3],[12,4,12,5],[13,2,13,3],[13,4,13,5],[3,1,3,6],[5,1,5,6],[6,1,6,6],[7,1,7,7],[9,2,9,5],[9,6,9,7],[8,1,8,9]]}
[null,null,null,null,null,null,null,null,null,null,"POWRÓT"]
[null,"Wymogi wariantu 5. Dobrostan krów mamek"]
[null,"1. Stosowanie wypasu"]
[null,"Stosowanie wypasu bydła w kierunku mięsnym",null,null,null,null,null,"Liczba"]
[null,"Okres wegetacyjny",null,"od","2019-05-01","do","2019-10-30",{"$f":"_xlfn.DAYS(G5,E5)","v":182}]
[null,"Mninimum dni wypasu w okersie wegetacyjnym",null,null,null,null,null,140]
[null,"Mninimum godzin wypasu dziennie"]
[null,"Wymogi wariantu musząbyć spełnione dla wszystkich kategorii bydła w gospodarstwie"]
[null,"2. Zapewnienie ww. kategoriom bydła, poza okresem wypasu, dostępu do środowiska zewnętrznego"]
[null,"Lp.",null,null,null,null,"Obowiązujące",null,"Wymogi wariantu 2.3. "]
[null,null,"Powierzchnia, na której jest utrzymywane bydło w przeliczeniu na 1 szt. Wynosi:"]
[null,1,"Cielęta",null,"co najmniej:",null,5,"m2",6,"m2"]
[null,2,"Jałówki",null,"co najmniej:",null,10,"m2",12,"m2"]
[null,3,"Opasy do 300 kg",null,"co najmniej:",null,"-",null,12,"m2"]
[null,4,"Krowy",null,"co najmniej:",null,15,"m2",18,"m2"]
[]
[]
[null,null,null,null,null,"Kwota wsparcia:",null,"zł/szt"]

{"sheet":"Owce_info","index":23,"n_rows":14,"n_cols":42,"rows_kept":14,"cut":false,"hidden":false,"merged":[[0,7,0,10],[15,3,15,5],[16,3,16,5],[3,2,3,9],[5,3,5,8],[6,3,6,8],[7,3,7,8],[8,3,8,8],[11,3,11,8],[10,2,10,3],[10,5,10,6],[12,3,12,7],[17,3,17,5],[18,3,18,5],[13,3,13,5],[14,3,14,5],[4,3,4,8],[9,7,9,8],[10,7,10,8]]}
[null,null,null,null,null,null,null,"POWRÓT",null,null,null,null,null,null,null,null,null,null,null,null,null,null,null,null,null,null,null,null,null,null,null,null,null,null,null,null,null,null,null,null,null,"UWAGI"]
[null,null,"Przejdź do:",{"$f":"IF(Nr_stad!$E$60>=1,\"I siedziby stada\",\"\")","v":""},{"$f":"IF(Nr_stad!$E$60>=2,\"II siedziby stada\",\"\")","v":""},{"$f":"IF(Nr_stad!$E$60>=3,\"III siedziby stada\",\"\")","v":""},{"$f":"IF(Nr_stad!$E$60>=4,\"IV siedziby stada\",\"\")","v":""},{"$f":"IF(Nr_stad!$E$60>=5,\"V siedziby stada\",\"\")","v":""}]
[]
[null,null,"II. Część szczegółowa  "]
[null,null,"II.7.","Dobrostan owiec"]
[null,null,null,"Informacja o stadzie owiec"]
[null,null,null,"System utrzymywania owiec w gospodarstwie jest zgodny z klasyfikacją przyjętą w rozporządzeniu Ministra Rolnictwa i Rozwoju Wsi z dnia 23 grudnia 2022 r. w sprawie szczegółowego zakresu informacji zawartych w komputerowej bazie danych (Dz.U. z 2023 r. poz. 15), z uwzględnieniem sezonowości w odniesieniu do tego utrzymywania.",null,null,null,null,null,null,null,null,null,null,null,null,null,null,null,null,null,null,null,null,null,null,null,null,null,null,null,null,null,null,null,null,null,null,null,null,null,"Uzgodnienia z MRiRW w dniu 14.03.23"]
[null,null,null,"Informacja o sposobie realizacji wymogu polegającego na wypasaniu (pastwiska) owiec lub zapewnienia tym zwierzętom dostępu do zewnętrznych powierzchni bytowych (okólników lub wybiegów) przez co najmniej 120 dni w sezonie pastwiskowym",null,null,null,null,null,null,null,null,null,null,null,null,null,null,null,null,null,null,null,null,null,null,null,null,null,null,null,null,null,null,null,null,null,null,null,null,null,"Uzgodnienia z MRiRW w dniu 14.03.23"]
[null,null,null,null,null,null,null,null,null,null,null,null,null,null,null,null,null,null,true,"☒","☐",null,null,null,null,null,null,null,null,null,null,null,null,null,null,null,null,null,null,null,null,"Uzgodnienia z MRiRW w dniu 14.03.23"]
[]
[null,null,"(miejscowość i data)",null,null,"(czytelny podpis rolnika)",null,"(czytelny podpis doradcy)"]
[null,null,{"$f":"IF(S12=TRUE,T12,U12)","v":"☒"},"Do planu poprawy dobrostanu zwierząt dołączono szkic/e obiektów ze wskazanymi zewnętrznymi powierzchniami bytowymi, w których utrzymywane są OWCE objęte podwyższonymi wymogami - Dobrostan owiec",null,null,null,null,null,null,null,null,null,null,null,null,null,null,{"$f":"S9","v":true},"☒","☐"]
[null,null,null,"Wielkości (w m2) posiadanych zewnętrznych powierzchni bytowych dotyczą łącznie wnioskodawcy i wskazanych innych posiadaczy",null,null,null,null,"NIE",null,null,null,null,null,null,null,null,"NIE"]
[null,null,null,null,null,null,null,null,null,null,null,null,null,null,null,null,null,"TAK"]

{"sheet":"Owce_pow (1)","index":24,"n_rows":51,"n_cols":46,"rows_kept":51,"cut":false,"hidden":false,"merged":[[46,3,46,10],[48,9,48,11],[14,9,15,9],[14,10,15,10],[14,11,15,11],[15,5,16,5],[15,6,16,6],[14,3,15,3],[14,4,16,4],[14,6,14,8],[47,3,47,10],[0,10,0,11],[1,2,1,3],[3,2,3,12],[45,3,45,7],[7,3,7,4],[7,5,7,6],[9,3,9,8],[10,3,10,8],[11,3,11,8],[17,4,17,11],[13,3,13,8],[4,4,4,8],[5,3,5,11],[12,3,12,8],[12,9,12,11]]}
[null,null,null,null,null,null,null,null,null,null,"POWRÓT",null,null,null,null,null,null,null,null,null,null,null,null,null,null,null,null,null,null,null,null,null,null,null,null,null,null,null,null,null,null,null,null,null,"UWAGI"]
[]
[]
[null,null,"II. Część szczegółowa  "]
[null,null,"II.7.","Dobrostan owiec"]
[null,null,"II.7.1.","Dopuszczalna maksymalna liczba sztuk owiec, które mogą przebywać jednocześnie w gospodarstwie z uwzględnieniem  wymogów - Dobrostan owiec"]
[]
[null,null,null,"1) Numer siedziby stada:"]
[]
[null,null,null,"Powierzchnia bytowa przeznaczona dla owiec w pomieszczeniach w gospodarstwie rolnym",null,null,null,null,null,null,"m2"]
[null,null,null,"Informacja o wieku odsadzenia jagniąt",null,null,null,null,null,null,"dni",null,null,null,null,null,null,null,null,null,null,null,null,null,null,null,null,null,null,null,null,null,null,null,null,null,null,null,null,null,null,null,null,null,"Uzgodnienia z MRiRW w dniu 14.03.23"]
[null,null,null,"Plenność maciorek (stosunek liczby urodzonych jagniąt do liczby maciorek)"]
[null,null,null,"Termin wykorzystania posiadanych zewnętrznych powierzchni bytowych",null,null,null,null,null,null,null,null,null,null,null,null,null,null,null,null,null,null,null,null,null,null,null,null,null,null,null,null,null,null,null,null,null,null,null,null,null,null,null,null,"Uzgodnienia z MRiRW w dniu 14.03.23"]
[null,null,null,"Powierzchnia bytowa w obiekcie dla wszystkich utrzymywanych w siedzibie stada zwierząt z gatunku owca domowa  od dnia złożenia wniosku do dnia 14 marca kolejnego roku. "]
[null,null,null,"\nGrupa zwierząt","Sposób utrzymywania","Obiekt","Utrzymywanie grupowe / pojedyncze spełniające wymóg minimalnych powierzchni",null,null," Minimalna powierzch-\nnia  na  kojec  / kojce","Powierz-\nchnia mini-\nmalna na owcę","Maksy-\nmalna liczba owiec"]
[null,null,null,null,null,"Nazwa(y) lub nr kojca/kojcy","Liczba zwierząt lub kojcy pojedyn-\nczych","Powierzchnia na sztukę utrz. grupowo lub kojca pojedynczego","Powie-\nrzchnia",null,null,null,null,null,null,null,null,null,null,null,null,"ukryj","grupa","sposób","Norma","OWCA",null,"poj/grup","poj","p/r-m","grup","g/r=m"]
[null,null,null,null,null,null,null,"m2/szt.\n(kojec)","m2","m2","m2/szt.","szt",null,null,null,null,null,null,null,null,null,null,"kat","utrz","norma","s> 12","jag"]
[null,null,null,null,{"$f":"IF(J46>J10,\"ZA MAŁA POWIERZCHNIA OBIEKTU !\",\"\")","v":""},null,null,null,null,null,null,null,null,null,null,null,null,null,null,null,null,null,"kat","utrz","norma","s> 12","jag"]
[null,null,null,null,null,null,null,null,{"$f":"G19*H19","v":0},{"$f":"IFERROR(K19*L19,\"-\")","v":"-"},{"$f":"IFERROR(Y19+AA19,\"-\")","v":"-"},{"$f":"IF(H19<K19,\"-\",IF(X19=0,G19,TRUNC(I19/K19)))","v":"-"},null,null,null,null,null,null,null,null,null,{"$f":"COUNTA(D19:H19)","v":0},{"$f":"MATCH(D19,Owce_N!$B$4:$B$11,0)-1","v":{"$error":"#N/A"}},{"$f":"MATCH(E19,Owce_N!$B$4:$D$4,0)-2","v":{"$error":"#N/A"}},{"$f":"OFFSET(Owce_N!$C$4,W19,X19)","v":{"$error":"#N/A"}},{"$f":"OFFSET(Owce_N!$C$4,W19,7)","v":{"$error":"#N/A"}},{"$f":"OFFSET(Owce_N!$C$4,W19,X19+2)*$J$12","v":{"$error":"#N/A"}},{"$f":"D19&E19","v":""},{"$f":"Owce_N!M5","v":"samiec gatunku owca domowa w wieku powyżej 12 miesięcy, z wyjątkiem samca gatunku owca domowa – skopkapojedynczo"},{"$f":"SUMIF($AB$19:$AB$45,AC19,$G$19:$G$45)","v":0},{"$f":"Owce_N!N5","v":"samiec gatunku owca domowa w wieku powyżej 12 miesięcy, z wyjątkiem samca gatunku owca domowa – skopkagrupowo"},{"$f":"SUMIF($AB$19:$AB$45,AE19,$G$19:$G$45)","v":0}]
[null,null,null,null,null,null,null,null,{"$f":"G20*H20","v":0},{"$f":"IFERROR(K20*L20,\"-\")","v":"-"},{"$f":"IFERROR(Y20+AA20,\"-\")","v":"-"},"-",null,null,null,null,null,null,null,null,null,{"$f":"COUNTA(D20:H20)","v":0},{"$f":"MATCH(D20,Owce_N!$B$4:$B$11,0)-1","v":{"$error":"#N/A"}},{"$f":"MATCH(E20,Owce_N!$B$4:$D$4,0)-2","v":{"$error":"#N/A"}},{"$f":"OFFSET(Owce_N!$C$4,W20,X20)","v":{"$error":"#N/A"}},{"$f":"OFFSET(Owce_N!$C$4,W20,7)","v":{"$error":"#N/A"}},{"$f":"OFFSET(Owce_N!$C$4,W20,X20+2)*$J$12","v":{"$error":"#N/A"}},"",{"$f":"Owce_N!M6","v":"samica gatunku owca domowa w wieku powyżej 12 miesięcypojedynczo"},{"$f":"SUMIF($AB$19:$AB$45,AC20,$G$19:$G$45)","v":0},{"$f":"Owce_N!N6","v":"samica gatunku owca domowa w wieku powyżej 12 miesięcygrupowo"},{"$f":"SUMIF($AB$19:$AB$45,AE20,$G$19:$G$45)","v":0}]
[null,null,null,null,null,null,null,null,{"$f":"G21*H21","v":0},{"$f":"IFERROR(K21*L21,\"-\")","v":"-"},"-","-",null,null,null,null,null,null,null,null,null,0,{"$f":"MATCH(D21,Owce_N!$B$4:$B$11,0)-1","v":{"$error":"#N/A"}},{"$f":"MATCH(E21,Owce_N!$B$4:$D$4,0)-2","v":{"$error":"#N/A"}},{"$f":"OFFSET(Owce_N!$C$4,W21,X21)","v":{"$error":"#N/A"}},{"$f":"OFFSET(Owce_N!$C$4,W21,7)","v":{"$error":"#N/A"}},{"$f":"OFFSET(Owce_N!$C$4,W21,X21+2)*$J$12","v":{"$error":"#N/A"}},"",{"$f":"Owce_N!M7","v":"samica gatunku owca domowa w wieku powyżej 12 miesięcy wraz z jagnięciempojedynczo"},0,{"$f":"Owce_N!N7","v":"samica gatunku owca domowa w wieku powyżej 12 miesięcy wraz z jagnięciemgrupowo"},0]
[null,null,null,null,null,null,null,null,{"$f":"G22*H22","v":0},{"$f":"IFERROR(K22*L22,\"-\")","v":"-"},"-","-",null,null,null,null,null,null,null,null,null,0,{"$f":"MATCH(D22,Owce_N!$B$4:$B$11,0)-1","v":{"$error":"#N/A"}},{"$f":"MATCH(E22,Owce_N!$B$4:$D$4,0)-2","v":{"$error":"#N/A"}},{"$f":"OFFSET(Owce_N!$C$4,W22,X22)","v":{"$error":"#N/A"}},{"$f":"OFFSET(Owce_N!$C$4,W22,7)","v":{"$error":"#N/A"}},{"$f":"OFFSET(Owce_N!$C$4,W22,X22+2)*$J$12","v":{"$error":"#N/A"}},"",{"$f":"Owce_N!M8","v":"samica gatunku owca domowa w wieku od 6 do 12 miesięcypojedynczo"},0,{"$f":"Owce_N!N8","v":"samica gatunku owca domowa w wieku od 6 do 12 miesięcygrupowo"},0]
[null,null,null,null,null,null,null,null,0,"-","-","-",null,null,null,null,null,null,null,null,null,0,{"$f":"MATCH(D23,Owce_N!$B$4:$B$11,0)-1","v":{"$error":"#N/A"}},{"$f":"MATCH(E23,Owce_N!$B$4:$D$4,0)-2","v":{"$error":"#N/A"}},{"$f":"OFFSET(Owce_N!$C$4,W23,X23)","v":{"$error":"#N/A"}},{"$f":"OFFSET(Owce_N!$C$4,W23,7)","v":{"$error":"#N/A"}},{"$f":"OFFSET(Owce_N!$C$4,W23,X23+2)*$J$12","v":{"$error":"#N/A"}},"",{"$f":"Owce_N!M9","v":"samiec gatunku owca domowa w wieku od 6 do 12 miesięcy, z wyjątkiem samca gatunku owca domowa – skopkapojedynczo"},0,{"$f":"Owce_N!N9","v":"samiec gatunku owca domowa w wieku od 6 do 12 miesięcy, z wyjątkiem samca gatunku owca domowa – skopkagrupowo"},0]
[null,null,null,null,null,null,null,null,0,"-","-","-",null,null,null,null,null,null,null,null,null,0,{"$f":"MATCH(D24,Owce_N!$B$4:$B$11,0)-1","v":{"$error":"#N/A"}},{"$f":"MATCH(E24,Owce_N!$B$4:$D$4,0)-2","v":{"$error":"#N/A"}},{"$f":"OFFSET(Owce_N!$C$4,W24,X24)","v":{"$error":"#N/A"}},{"$f":"OFFSET(Owce_N!$C$4,W24,7)","v":{"$error":"#N/A"}},{"$f":"OFFSET(Owce_N!$C$4,W24,X24+2)*$J$12","v":{"$error":"#N/A"}},"",{"$f":"Owce_N!M10","v":"samiec gatunku owca domowa - skopekpojedynczo"},0,{"$f":"Owce_N!N10","v":"samiec gatunku owca domowa - skopekgrupowo"},0]
[null,null,null,null,null,null,null,null,0,"-","-","-",null,null,null,null,null,null,null,null,null,0,{"$f":"MATCH(D25,Owce_N!$B$4:$B$11,0)-1","v":{"$error":"#N/A"}},{"$f":"MATCH(E25,Owce_N!$B$4:$D$4,0)-2","v":{"$error":"#N/A"}},{"$f":"OFFSET(Owce_N!$C$4,W25,X25)","v":{"$error":"#N/A"}},{"$f":"OFFSET(Owce_N!$C$4,W25,7)","v":{"$error":"#N/A"}},{"$f":"OFFSET(Owce_N!$C$4,W25,X25+2)*$J$12","v":{"$error":"#N/A"}},"",null,0,null,0]
[null,null,null,null,null,null,null,null,0,"-","-","-",null,null,null,null,null,null,null,null,null,0,{"$f":"MATCH(D26,Owce_N!$B$4:$B$11,0)-1","v":{"$error":"#N/A"}},{"$f":"MATCH(E26,Owce_N!$B$4:$D$4,0)-2","v":{"$error":"#N/A"}},{"$f":"OFFSET(Owce_N!$C$4,W26,X26)","v":{"$error":"#N/A"}},{"$f":"OFFSET(Owce_N!$C$4,W26,7)","v":{"$error":"#N/A"}},{"$f":"OFFSET(Owce_N!$C$4,W26,X26+2)*$J$12","v":{"$error":"#N/A"}},"",null,0,null,0]
[null,null,null,null,null,null,null,null,0,"-","-","-",null,null,null,null,null,null,null,null,null,0,{"$f":"MATCH(D27,Owce_N!$B$4:$B$11,0)-1","v":{"$error":"#N/A"}},{"$f":"MATCH(E27,Owce_N!$B$4:$D$4,0)-2","v":{"$error":"#N/A"}},{"$f":"OFFSET(Owce_N!$C$4,W27,X27)","v":{"$error":"#N/A"}},{"$f":"OFFSET(Owce_N!$C$4,W27,7)","v":{"$error":"#N/A"}},{"$f":"OFFSET(Owce_N!$C$4,W27,X27+2)*$J$12","v":{"$error":"#N/A"}},"",null,0,null,0]
[null,null,null,null,null,null,null,null,0,"-","-","-",null,null,null,null,null,null,null,null,null,0,{"$f":"MATCH(D28,Owce_N!$B$4:$B$11,0)-1","v":{"$error":"#N/A"}},{"$f":"MATCH(E28,Owce_N!$B$4:$D$4,0)-2","v":{"$error":"#N/A"}},{"$f":"OFFSET(Owce_N!$C$4,W28,X28)","v":{"$error":"#N/A"}},{"$f":"OFFSET(Owce_N!$C$4,W28,7)","v":{"$error":"#N/A"}},{"$f":"OFFSET(Owce_N!$C$4,W28,X28+2)*$J$12","v":{"$error":"#N/A"}},"",null,0,null,0]
[null,null,null,null,null,null,null,null,0,"-","-","-",null,null,null,null,null,null,null,null,null,0,{"$f":"MATCH(D29,Owce_N!$B$4:$B$11,0)-1","v":{"$error":"#N/A"}},{"$f":"MATCH(E29,Owce_N!$B$4:$D$4,0)-2","v":{"$error":"#N/A"}},{"$f":"OFFSET(Owce_N!$C$4,W29,X29)","v":{"$error":"#N/A"}},{"$f":"OFFSET(Owce_N!$C$4,W29,7)","v":{"$error":"#N/A"}},{"$f":"OFFSET(Owce_N!$C$4,W29,X29+2)*$J$12","v":{"$error":"#N/A"}},"",null,0,null,0]
[null,null,null,null,null,null,null,null,0,"-","-","-",null,null,null,null,null,null,null,null,null,0,{"$f":"MATCH(D30,Owce_N!$B$4:$B$11,0)-1","v":{"$error":"#N/A"}},{"$f":"MATCH(E30,Owce_N!$B$4:$D$4,0)-2","v":{"$error":"#N/A"}},{"$f":"OFFSET(Owce_N!$C$4,W30,X30)","v":{"$error":"#N/A"}},{"$f":"OFFSET(Owce_N!$C$4,W30,7)","v":{"$error":"#N/A"}},{"$f":"OFFSET(Owce_N!$C$4,W30,X30+2)*$J$12","v":{"$error":"#N/A"}},"",null,0,null,0]
[null,null,null,null,null,null,null,null,0,"-","-","-",null,null,null,null,null,null,null,null,null,0,{"$f":"MATCH(D31,Owce_N!$B$4:$B$11,0)-1","v":{"$error":"#N/A"}},{"$f":"MATCH(E31,Owce_N!$B$4:$D$4,0)-2","v":{"$error":"#N/A"}},{"$f":"OFFSET(Owce_N!$C$4,W31,X31)","v":{"$error":"#N/A"}},{"$f":"OFFSET(Owce_N!$C$4,W31,7)","v":{"$error":"#N/A"}},{"$f":"OFFSET(Owce_N!$C$4,W31,X31+2)*$J$12","v":{"$error":"#N/A"}},"",null,0,null,0]
[null,null,null,null,null,null,null,null,0,"-","-","-",null,null,null,null,null,null,null,null,null,0,{"$f":"MATCH(D32,Owce_N!$B$4:$B$11,0)-1","v":{"$error":"#N/A"}},{"$f":"MATCH(E32,Owce_N!$B$4:$D$4,0)-2","v":{"$error":"#N/A"}},{"$f":"OFFSET(Owce_N!$C$4,W32,X32)","v":{"$error":"#N/A"}},{"$f":"OFFSET(Owce_N!$C$4,W32,7)","v":{"$error":"#N/A"}},{"$f":"OFFSET(Owce_N!$C$4,W32,X32+2)*$J$12","v":{"$error":"#N/A"}},"",null,0,null,0]
[null,null,null,null,null,null,null,null,0,"-","-","-",null,null,null,null,null,null,null,null,null,0,{"$f":"MATCH(D33,Owce_N!$B$4:$B$11,0)-1","v":{"$error":"#N/A"}},{"$f":"MATCH(E33,Owce_N!$B$4:$D$4,0)-2","v":{"$error":"#N/A"}},{"$f":"OFFSET(Owce_N!$C$4,W33,X33)","v":{"$error":"#N/A"}},{"$f":"OFFSET(Owce_N!$C$4,W33,7)","v":{"$error":"#N/A"}},{"$f":"OFFSET(Owce_N!$C$4,W33,X33+2)*$J$12","v":{"$error":"#N/A"}},"",null,0,null,0]
[null,null,null,null,null,null,null,null,0,"-","-","-",null,null,null,null,null,null,null,null,null,0,{"$f":"MATCH(D34,Owce_N!$B$4:$B$11,0)-1","v":{"$error":"#N/A"}},{"$f":"MATCH(E34,Owce_N!$B$4:$D$4,0)-2","v":{"$error":"#N/A"}},{"$f":"OFFSET(Owce_N!$C$4,W34,X34)","v":{"$error":"#N/A"}},{"$f":"OFFSET(Owce_N!$C$4,W34,7)","v":{"$error":"#N/A"}},{"$f":"OFFSET(Owce_N!$C$4,W34,X34+2)*$J$12","v":{"$error":"#N/A"}},"",null,0,null,0]
[null,null,null,null,null,null,null,null,0,"-","-","-",null,null,null,null,null,null,null,null,null,0,{"$f":"MATCH(D35,Owce_N!$B$4:$B$11,0)-1","v":{"$error":"#N/A"}},{"$f":"MATCH(E35,Owce_N!$B$4:$D$4,0)-2","v":{"$error":"#N/A"}},{"$f":"OFFSET(Owce_N!$C$4,W35,X35)","v":{"$error":"#N/A"}},{"$f":"OFFSET(Owce_N!$C$4,W35,7)","v":{"$error":"#N/A"}},{"$f":"OFFSET(Owce_N!$C$4,W35,X35+2)*$J$12","v":{"$error":"#N/A"}},"",null,0,null,0]
[null,null,null,null,null,null,null,null,0,"-","-","-",null,null,null,null,null,null,null,null,null,0,{"$f":"MATCH(D36,Owce_N!$B$4:$B$11,0)-1","v":{"$error":"#N/A"}},{"$f":"MATCH(E36,Owce_N!$B$4:$D$4,0)-2","v":{"$error":"#N/A"}},{"$f":"OFFSET(Owce_N!$C$4,W36,X36)","v":{"$error":"#N/A"}},{"$f":"OFFSET(Owce_N!$C$4,W36,7)","v":{"$error":"#N/A"}},{"$f":"OFFSET(Owce_N!$C$4,W36,X36+2)*$J$12","v":{"$error":"#N/A"}},"",null,0,null,0]
[null,null,null,null,null,null,null,null,0,"-","-","-",null,null,null,null,null,null,null,null,null,0,{"$f":"MATCH(D37,Owce_N!$B$4:$B$11,0)-1","v":{"$error":"#N/A"}},{"$f":"MATCH(E37,Owce_N!$B$4:$D$4,0)-2","v":{"$error":"#N/A"}},{"$f":"OFFSET(Owce_N!$C$4,W37,X37)","v":{"$error":"#N/A"}},{"$f":"OFFSET(Owce_N!$C$4,W37,7)","v":{"$error":"#N/A"}},{"$f":"OFFSET(Owce_N!$C$4,W37,X37+2)*$J$12","v":{"$error":"#N/A"}},"",null,0,null,0]
[null,null,null,null,null,null,null,null,0,"-","-","-",null,null,null,null,null,null,null,null,null,0,{"$f":"MATCH(D38,Owce_N!$B$4:$B$11,0)-1","v":{"$error":"#N/A"}},{"$f":"MATCH(E38,Owce_N!$B$4:$D$4,0)-2","v":{"$error":"#N/A"}},{"$f":"OFFSET(Owce_N!$C$4,W38,X38)","v":{"$error":"#N/A"}},{"$f":"OFFSET(Owce_N!$C$4,W38,7)","v":{"$error":"#N/A"}},{"$f":"OFFSET(Owce_N!$C$4,W38,X38+2)*$J$12","v":{"$error":"#N/A"}},"",null,0,null,0]
[null,null,null,null,null,null,null,null,0,"-","-","-",null,null,null,null,null,null,null,null,null,0,{"$f":"MATCH(D39,Owce_N!$B$4:$B$11,0)-1","v":{"$error":"#N/A"}},{"$f":"MATCH(E39,Owce_N!$B$4:$D$4,0)-2","v":{"$error":"#N/A"}},{"$f":"OFFSET(Owce_N!$C$4,W39,X39)","v":{"$error":"#N/A"}},{"$f":"OFFSET(Owce_N!$C$4,W39,7)","v":{"$error":"#N/A"}},{"$f":"OFFSET(Owce_N!$C$4,W39,X39+2)*$J$12","v":{"$error":"#N/A"}},"",null,0,null,0]
[null,null,null,null,null,null,null,null,0,"-","-","-",null,null,null,null,null,null,null,null,null,0,{"$f":"MATCH(D40,Owce_N!$B$4:$B$11,0)-1","v":{"$error":"#N/A"}},{"$f":"MATCH(E40,Owce_N!$B$4:$D$4,0)-2","v":{"$error":"#N/A"}},{"$f":"OFFSET(Owce_N!$C$4,W40,X40)","v":{"$error":"#N/A"}},{"$f":"OFFSET(Owce_N!$C$4,W40,7)","v":{"$error":"#N/A"}},{"$f":"OFFSET(Owce_N!$C$4,W40,X40+2)*$J$12","v":{"$error":"#N/A"}},"",null,0,null,0]
[null,null,null,null,null,null,null,null,0,"-","-","-",null,null,null,null,null,null,null,null,null,0,{"$f":"MATCH(D41,Owce_N!$B$4:$B$11,0)-1","v":{"$error":"#N/A"}},{"$f":"MATCH(E41,Owce_N!$B$4:$D$4,0)-2","v":{"$error":"#N/A"}},{"$f":"OFFSET(Owce_N!$C$4,W41,X41)","v":{"$error":"#N/A"}},{"$f":"OFFSET(Owce_N!$C$4,W41,7)","v":{"$error":"#N/A"}},{"$f":"OFFSET(Owce_N!$C$4,W41,X41+2)*$J$12","v":{"$error":"#N/A"}},"",null,0,null,0]
[null,null,null,null,null,null,null,null,0,"-","-","-",null,null,null,null,null,null,null,null,null,0,{"$f":"MATCH(D42,Owce_N!$B$4:$B$11,0)-1","v":{"$error":"#N/A"}},{"$f":"MATCH(E42,Owce_N!$B$4:$D$4,0)-2","v":{"$error":"#N/A"}},{"$f":"OFFSET(Owce_N!$C$4,W42,X42)","v":{"$error":"#N/A"}},{"$f":"OFFSET(Owce_N!$C$4,W42,7)","v":{"$error":"#N/A"}},{"$f":"OFFSET(Owce_N!$C$4,W42,X42+2)*$J$12","v":{"$error":"#N/A"}},"",null,0,null,0]
[null,null,null,null,null,null,null,null,0,"-","-","-",null,null,null,null,null,null,null,null,null,0,{"$f":"MATCH(D43,Owce_N!$B$4:$B$11,0)-1","v":{"$error":"#N/A"}},{"$f":"MATCH(E43,Owce_N!$B$4:$D$4,0)-2","v":{"$error":"#N/A"}},{"$f":"OFFSET(Owce_N!$C$4,W43,X43)","v":{"$error":"#N/A"}},{"$f":"OFFSET(Owce_N!$C$4,W43,7)","v":{"$error":"#N/A"}},{"$f":"OFFSET(Owce_N!$C$4,W43,X43+2)*$J$12","v":{"$error":"#N/A"}},"",null,0,null,0]
[null,null,null,null,null,null,null,null,0,"-","-","-",null,null,null,null,null,null,null,null,null,0,{"$f":"MATCH(D44,Owce_N!$B$4:$B$11,0)-1","v":{"$error":"#N/A"}},{"$f":"MATCH(E44,Owce_N!$B$4:$D$4,0)-2","v":{"$error":"#N/A"}},{"$f":"OFFSET(Owce_N!$C$4,W44,X44)","v":{"$error":"#N/A"}},{"$f":"OFFSET(Owce_N!$C$4,W44,7)","v":{"$error":"#N/A"}},{"$f":"OFFSET(Owce_N!$C$4,W44,X44+2)*$J$12","v":{"$error":"#N/A"}},"",null,0,null,0]
[null,null,null,null,null,null,null,null,0,"-","-","-",null,null,null,null,null,null,null,null,null,0,{"$f":"MATCH(D45,Owce_N!$B$4:$B$11,0)-1","v":{"$error":"#N/A"}},{"$f":"MATCH(E45,Owce_N!$B$4:$D$4,0)-2","v":{"$error":"#N/A"}},{"$f":"OFFSET(Owce_N!$C$4,W45,X45)","v":{"$error":"#N/A"}},{"$f":"OFFSET(Owce_N!$C$4,W45,7)","v":{"$error":"#N/A"}},{"$f":"OFFSET(Owce_N!$C$4,W45,X45+2)*$J$12","v":{"$error":"#N/A"}},"",null,0,null,0]
[null,null,null,"SUMA POWIERZCHNI:",null,null,null,null,{"$f":"SUM(I19:I45)","v":0},{"$f":"SUM(J19:J45)","v":0},{"$f":"IFERROR(IF(S46>2,OFFSET(B_ML_N!$B$3,V46,S46+2),\"-\"),\"-\")","v":"-"},{"$f":"IFERROR(IF(X46<>TRUE,IF(AND(I46>0,S46<3),I46,TRUNC(#REF!/K46)),\"-\"),\"-\")","v":"-"},null,null,null,null,null,null,null,null,null,1,{"$f":"MATCH(D46,Owce_N!$B$4:$B$11,0)-1","v":{"$error":"#N/A"}},{"$f":"MATCH(E46,Owce_N!$B$4:$D$4,0)-2","v":{"$error":"#N/A"}},{"$f":"OFFSET(Owce_N!$C$4,W46,X46)","v":{"$error":"#N/A"}},{"$f":"OFFSET(Owce_N!$C$4,W46,7)","v":{"$error":"#N/A"}},{"$f":"OFFSET(Owce_N!$C$4,W46,X46+2)*$J$12","v":{"$error":"#N/A"}},"SUMA POWIERZCHNI:",null,0,null,0]
[null,null,null,"SUMA LICZBY OWIEC-SAMIC W WIEKU POWYŻEJ 12 MIESIĘCY:",null,null,null,null,null,null,null,{"$f":"SUMIF(Z19:Z45,\"M\",L19:L45)","v":0},null,null,null,null,null,null,null,null,null,1,{"$f":"MATCH(D47,Owce_N!$B$4:$B$11,0)-1","v":{"$error":"#N/A"}},{"$f":"MATCH(E47,Owce_N!$B$4:$D$4,0)-2","v":{"$error":"#N/A"}},{"$f":"OFFSET(Owce_N!$C$4,W47,X47)","v":{"$error":"#N/A"}},{"$f":"OFFSET(Owce_N!$C$4,W47,7)","v":{"$error":"#N/A"}},{"$f":"OFFSET(Owce_N!$C$4,W47,X47+2)*$J$12","v":{"$error":"#N/A"}},"SUMA LICZBY OWIEC-SAMIC W WIEKU POWYŻEJ 12 MIESIĘCY:",null,0,null,0]
[null,null,null,"Wielkości (w m2) posiadanych powierzchni bytowych w pomieszczeniach/budynkach dotyczą łącznie wnioskodawcy i wskazanych innych posiadaczy",null,null,null,null,null,null,null,"NIE"]
[]
[null,null,null,null,null,null,null,null,null,null,null,null,null,null,null,null,null,null,null,null,null,null,null,null,null,null,null,null,null,null,null,null,null,null,null,null,null,null,null,null,null,null,null,null,null,"NIE"]
[null,null,null,null,null,null,null,null,null,null,null,null,null,null,null,null,null,null,null,null,null,null,null,null,null,null,null,null,null,null,null,null,null,null,null,null,null,null,null,null,null,null,null,null,null,"TAK"]

{"sheet":"Owce_pow (2)","index":25,"n_rows":51,"n_cols":46,"rows_kept":51,"cut":false,"hidden":true,"merged":[[9,3,9,8],[0,10,0,11],[3,2,3,12],[7,3,7,4],[7,5,7,6],[5,3,5,11],[4,3,4,8],[10,3,10,8],[11,3,11,8],[13,3,13,8],[14,3,15,3],[14,4,16,4],[14,6,14,8],[48,9,48,11],[12,3,12,8],[12,9,12,11],[45,3,45,7],[46,3,46,10],[14,9,15,9],[14,10,15,10],[14,11,15,11],[15,5,16,5],[15,6,16,6],[17,4,17,11],[47,3,47,10]]}
[null,null,null,null,null,null,null,null,null,null,"POWRÓT",null,null,null,null,null,null,null,null,null,null,null,null,null,null,null,null,null,null,null,null,null,null,null,null,null,null,null,null,null,null,null,null,null,"UWAGI"]
[]
[]
[null,null,"II. Część szczegółowa  "]
[null,null,"II.7.","Dobrostan owiec"]
[null,null,"II.7.2.","Dopuszczalna maksymalna liczba sztuk owiec, które mogą przebywać jednocześnie w gospodarstwie z uwzględnieniem  wymogów –  Dobrostan owiec"]
[]
[null,null,null,"2) Numer siedziby stada:"]
[]
[null,null,null,"Powierzchnia bytowa przeznaczona dla owiec w pomieszczeniach w gospodarstwie rolnym",null,null,null,null,null,null,"m2"]
[null,null,null,"Informacja o wieku odsadzenia jagniąt",null,null,null,null,null,null,"dni"]
[null,null,null,"Plenność maciorek (stosunek liczby urodzonych jagniąt do liczby maciorek)"]
[null,null,null,"Termin wykorzystania posiadanych zewnętrznych powierzchni bytowych"]
[null,null,null,"Powierzchnia bytowa w obiekcie dla wszystkich utrzymywanych w siedzibie stada zwierząt z gatunku owca domowa  od dnia złożenia wniosku do dnia 14 marca kolejnego roku. "]
[null,null,null,"\nGrupa zwierząt","Sposób utrzymywania","Obiekt","Utrzymywanie grupowe / pojedyncze spełniające wymóg minimalnych powierzchni",null,null," Minimalna powierzch-\nnia  na  kojec  / kojce","Powierz-\nchnia mini-\nmalna na owcę","Maksy-\nmalna liczba owiec"]
[null,null,null,null,null,"Nazwa(y) lub nr kojca/kojcy","Liczba zwierząt lub kojcy pojedyn-\nczych","Powierzchnia na sztukę utrz. grupowo lub kojca pojedynczego","Powie-\nrzchnia",null,null,null,null,null,null,null,null,null,null,null,null,"ukryj","grupa","sposób","Norma","OWCA",null,"poj/grup","poj","p/r-m","grup","g/r=m"]
[null,null,null,null,null,null,null,"m2/szt.\n(kojec)","m2","m2","m2/szt.","szt",null,null,null,null,null,null,null,null,null,null,"kat","utrz","norma","s> 12","jag"]
[null,null,null,null,{"$f":"IF(J46>J10,\"ZA MAŁA POWIERZCHNIA OBIEKTU !\",\"\")","v":""},null,null,null,null,null,null,null,null,null,null,null,null,null,null,null,null,null,"kat","utrz","norma","s> 12","jag"]
[null,null,null,null,null,null,null,null,{"$f":"G19*H19","v":0},{"$f":"IFERROR(K19*L19,\"-\")","v":"-"},{"$f":"IFERROR(Y19+AA19,\"-\")","v":"-"},{"$f":"IF(H19<K19,\"-\",IF(X19=0,G19,TRUNC(I19/K19)))","v":"-"},null,null,null,null,null,null,null,null,null,{"$f":"COUNTA(D19:H19)","v":0},{"$f":"MATCH(D19,Owce_N!$B$4:$B$11,0)-1","v":{"$error":"#N/A"}},{"$f":"MATCH(E19,Owce_N!$B$4:$D$4,0)-2","v":{"$error":"#N/A"}},{"$f":"OFFSET(Owce_N!$C$4,W19,X19)","v":{"$error":"#N/A"}},{"$f":"OFFSET(Owce_N!$C$4,W19,7)","v":{"$error":"#N/A"}},{"$f":"OFFSET(Owce_N!$C$4,W19,X19+2)*$J$12","v":{"$error":"#N/A"}},{"$f":"D19&E19","v":""},{"$f":"Owce_N!M5","v":"samiec gatunku owca domowa w wieku powyżej 12 miesięcy, z wyjątkiem samca gatunku owca domowa – skopkapojedynczo"},{"$f":"SUMIF($AB$19:$AB$45,AC19,$G$19:$G$45)","v":0},{"$f":"Owce_N!N5","v":"samiec gatunku owca domowa w wieku powyżej 12 miesięcy, z wyjątkiem samca gatunku owca domowa – skopkagrupowo"},{"$f":"SUMIF($AB$19:$AB$45,AE19,$G$19:$G$45)","v":0}]
[null,null,null,null,null,null,null,null,{"$f":"G20*H20","v":0},{"$f":"IFERROR(K20*L20,\"-\")","v":"-"},{"$f":"IFERROR(Y20+AA20,\"-\")","v":"-"},"-",null,null,null,null,null,null,null,null,null,{"$f":"COUNTA(D20:H20)","v":0},{"$f":"MATCH(D20,Owce_N!$B$4:$B$11,0)-1","v":{"$error":"#N/A"}},{"$f":"MATCH(E20,Owce_N!$B$4:$D$4,0)-2","v":{"$error":"#N/A"}},{"$f":"OFFSET(Owce_N!$C$4,W20,X20)","v":{"$error":"#N/A"}},{"$f":"OFFSET(Owce_N!$C$4,W20,7)","v":{"$error":"#N/A"}},{"$f":"OFFSET(Owce_N!$C$4,W20,X20+2)*$J$12","v":{"$error":"#N/A"}},"",{"$f":"Owce_N!M6","v":"samica gatunku owca domowa w wieku powyżej 12 miesięcypojedynczo"},{"$f":"SUMIF($AB$19:$AB$45,AC20,$G$19:$G$45)","v":0},{"$f":"Owce_N!N6","v":"samica gatunku owca domowa w wieku powyżej 12 miesięcygrupowo"},{"$f":"SUMIF($AB$19:$AB$45,AE20,$G$19:$G$45)","v":0}]
[null,null,null,null,null,null,null,null,{"$f":"G21*H21","v":0},{"$f":"IFERROR(K21*L21,\"-\")","v":"-"},"-","-",null,null,null,null,null,null,null,null,null,0,{"$f":"MATCH(D21,Owce_N!$B$4:$B$11,0)-1","v":{"$error":"#N/A"}},{"$f":"MATCH(E21,Owce_N!$B$4:$D$4,0)-2","v":{"$error":"#N/A"}},{"$f":"OFFSET(Owce_N!$C$4,W21,X21)","v":{"$error":"#N/A"}},{"$f":"OFFSET(Owce_N!$C$4,W21,7)","v":{"$error":"#N/A"}},{"$f":"OFFSET(Owce_N!$C$4,W21,X21+2)*$J$12","v":{"$error":"#N/A"}},"",{"$f":"Owce_N!M7","v":"samica gatunku owca domowa w wieku powyżej 12 miesięcy wraz z jagnięciempojedynczo"},0,{"$f":"Owce_N!N7","v":"samica gatunku owca domowa w wieku powyżej 12 miesięcy wraz z jagnięciemgrupowo"},0]
[null,null,null,null,null,null,null,null,{"$f":"G22*H22","v":0},{"$f":"IFERROR(K22*L22,\"-\")","v":"-"},"-","-",null,null,null,null,null,null,null,null,null,0,{"$f":"MATCH(D22,Owce_N!$B$4:$B$11,0)-1","v":{"$error":"#N/A"}},{"$f":"MATCH(E22,Owce_N!$B$4:$D$4,0)-2","v":{"$error":"#N/A"}},{"$f":"OFFSET(Owce_N!$C$4,W22,X22)","v":{"$error":"#N/A"}},{"$f":"OFFSET(Owce_N!$C$4,W22,7)","v":{"$error":"#N/A"}},{"$f":"OFFSET(Owce_N!$C$4,W22,X22+2)*$J$12","v":{"$error":"#N/A"}},"",{"$f":"Owce_N!M8","v":"samica gatunku owca domowa w wieku od 6 do 12 miesięcypojedynczo"},0,{"$f":"Owce_N!N8","v":"samica gatunku owca domowa w wieku od 6 do 12 miesięcygrupowo"},0]
[null,null,null,null,null,null,null,null,0,"-","-","-",null,null,null,null,null,null,null,null,null,0,{"$f":"MATCH(D23,Owce_N!$B$4:$B$11,0)-1","v":{"$error":"#N/A"}},{"$f":"MATCH(E23,Owce_N!$B$4:$D$4,0)-2","v":{"$error":"#N/A"}},{"$f":"OFFSET(Owce_N!$C$4,W23,X23)","v":{"$error":"#N/A"}},{"$f":"OFFSET(Owce_N!$C$4,W23,7)","v":{"$error":"#N/A"}},{"$f":"OFFSET(Owce_N!$C$4,W23,X23+2)*$J$12","v":{"$error":"#N/A"}},"",{"$f":"Owce_N!M9","v":"samiec gatunku owca domowa w wieku od 6 do 12 miesięcy, z wyjątkiem samca gatunku owca domowa – skopkapojedynczo"},0,{"$f":"Owce_N!N9","v":"samiec gatunku owca domowa w wieku od 6 do 12 miesięcy, z wyjątkiem samca gatunku owca domowa – skopkagrupowo"},0]
[null,null,null,null,null,null,null,null,0,"-","-","-",null,null,null,null,null,null,null,null,null,0,{"$f":"MATCH(D24,Owce_N!$B$4:$B$11,0)-1","v":{"$error":"#N/A"}},{"$f":"MATCH(E24,Owce_N!$B$4:$D$4,0)-2","v":{"$error":"#N/A"}},{"$f":"OFFSET(Owce_N!$C$4,W24,X24)","v":{"$error":"#N/A"}},{"$f":"OFFSET(Owce_N!$C$4,W24,7)","v":{"$error":"#N/A"}},{"$f":"OFFSET(Owce_N!$C$4,W24,X24+2)*$J$12","v":{"$error":"#N/A"}},"",{"$f":"Owce_N!M10","v":"samiec gatunku owca domowa - skopekpojedynczo"},0,{"$f":"Owce_N!N10","v":"samiec gatunku owca domowa - skopekgrupowo"},0]
[null,null,null,null,null,null,null,null,0,"-","-","-",null,null,null,null,null,null,null,null,null,0,{"$f":"MATCH(D25,Owce_N!$B$4:$B$11,0)-1","v":{"$error":"#N/A"}},{"$f":"MATCH(E25,Owce_N!$B$4:$D$4,0)-2","v":{"$error":"#N/A"}},{"$f":"OFFSET(Owce_N!$C$4,W25,X25)","v":{"$error":"#N/A"}},{"$f":"OFFSET(Owce_N!$C$4,W25,7)","v":{"$error":"#N/A"}},{"$f":"OFFSET(Owce_N!$C$4,W25,X25+2)*$J$12","v":{"$error":"#N/A"}},"",null,0,null,0]
[null,null,null,null,null,null,null,null,0,"-","-","-",null,null,null,null,null,null,null,null,null,0,{"$f":"MATCH(D26,Owce_N!$B$4:$B$11,0)-1","v":{"$error":"#N/A"}},{"$f":"MATCH(E26,Owce_N!$B$4:$D$4,0)-2","v":{"$error":"#N/A"}},{"$f":"OFFSET(Owce_N!$C$4,W26,X26)","v":{"$error":"#N/A"}},{"$f":"OFFSET(Owce_N!$C$4,W26,7)","v":{"$error":"#N/A"}},{"$f":"OFFSET(Owce_N!$C$4,W26,X26+2)*$J$12","v":{"$error":"#N/A"}},"",null,0,null,0]
[null,null,null,null,null,null,null,null,0,"-","-","-",null,null,null,null,null,null,null,null,null,0,{"$f":"MATCH(D27,Owce_N!$B$4:$B$11,0)-1","v":{"$error":"#N/A"}},{"$f":"MATCH(E27,Owce_N!$B$4:$D$4,0)-2","v":{"$error":"#N/A"}},{"$f":"OFFSET(Owce_N!$C$4,W27,X27)","v":{"$error":"#N/A"}},{"$f":"OFFSET(Owce_N!$C$4,W27,7)","v":{"$error":"#N/A"}},{"$f":"OFFSET(Owce_N!$C$4,W27,X27+2)*$J$12","v":{"$error":"#N/A"}},"",null,0,null,0]
[null,null,null,null,null,null,null,null,0,"-","-","-",null,null,null,null,null,null,null,null,null,0,{"$f":"MATCH(D28,Owce_N!$B$4:$B$11,0)-1","v":{"$error":"#N/A"}},{"$f":"MATCH(E28,Owce_N!$B$4:$D$4,0)-2","v":{"$error":"#N/A"}},{"$f":"OFFSET(Owce_N!$C$4,W28,X28)","v":{"$error":"#N/A"}},{"$f":"OFFSET(Owce_N!$C$4,W28,7)","v":{"$error":"#N/A"}},{"$f":"OFFSET(Owce_N!$C$4,W28,X28+2)*$J$12","v":{"$error":"#N/A"}},"",null,0,null,0]
[null,null,null,null,null,null,null,null,0,"-","-","-",null,null,null,null,null,null,null,null,null,0,{"$f":"MATCH(D29,Owce_N!$B$4:$B$11,0)-1","v":{"$error":"#N/A"}},{"$f":"MATCH(E29,Owce_N!$B$4:$D$4,0)-2","v":{"$error":"#N/A"}},{"$f":"OFFSET(Owce_N!$C$4,W29,X29)","v":{"$error":"#N/A"}},{"$f":"OFFSET(Owce_N!$C$4,W29,7)","v":{"$error":"#N/A"}},{"$f":"OFFSET(Owce_N!$C$4,W29,X29+2)*$J$12","v":{"$error":"#N/A"}},"",null,0,null,0]
[null,null,null,null,null,null,null,null,0,"-","-","-",null,null,null,null,null,null,null,null,null,0,{"$f":"MATCH(D30,Owce_N!$B$4:$B$11,0)-1","v":{"$error":"#N/A"}},{"$f":"MATCH(E30,Owce_N!$B$4:$D$4,0)-2","v":{"$error":"#N/A"}},{"$f":"OFFSET(Owce_N!$C$4,W30,X30)","v":{"$error":"#N/A"}},{"$f":"OFFSET(Owce_N!$C$4,W30,7)","v":{"$error":"#N/A"}},{"$f":"OFFSET(Owce_N!$C$4,W30,X30+2)*$J$12","v":{"$error":"#N/A"}},"",null,0,null,0]
[null,null,null,null,null,null,null,null,0,"-","-","-",null,null,null,null,null,null,null,null,null,0,{"$f":"MATCH(D31,Owce_N!$B$4:$B$11,0)-1","v":{"$error":"#N/A"}},{"$f":"MATCH(E31,Owce_N!$B$4:$D$4,0)-2","v":{"$error":"#N/A"}},{"$f":"OFFSET(Owce_N!$C$4,W31,X31)","v":{"$error":"#N/A"}},{"$f":"OFFSET(Owce_N!$C$4,W31,7)","v":{"$error":"#N/A"}},{"$f":"OFFSET(Owce_N!$C$4,W31,X31+2)*$J$12","v":{"$error":"#N/A"}},"",null,0,null,0]
[null,null,null,null,null,null,null,null,0,"-","-","-",null,null,null,null,null,null,null,null,null,0,{"$f":"MATCH(D32,Owce_N!$B$4:$B$11,0)-1","v":{"$error":"#N/A"}},{"$f":"MATCH(E32,Owce_N!$B$4:$D$4,0)-2","v":{"$error":"#N/A"}},{"$f":"OFFSET(Owce_N!$C$4,W32,X32)","v":{"$error":"#N/A"}},{"$f":"OFFSET(Owce_N!$C$4,W32,7)","v":{"$error":"#N/A"}},{"$f":"OFFSET(Owce_N!$C$4,W32,X32+2)*$J$12","v":{"$error":"#N/A"}},"",null,0,null,0]
[null,null,null,null,null,null,null,null,0,"-","-","-",null,null,null,null,null,null,null,null,null,0,{"$f":"MATCH(D33,Owce_N!$B$4:$B$11,0)-1","v":{"$error":"#N/A"}},{"$f":"MATCH(E33,Owce_N!$B$4:$D$4,0)-2","v":{"$error":"#N/A"}},{"$f":"OFFSET(Owce_N!$C$4,W33,X33)","v":{"$error":"#N/A"}},{"$f":"OFFSET(Owce_N!$C$4,W33,7)","v":{"$error":"#N/A"}},{"$f":"OFFSET(Owce_N!$C$4,W33,X33+2)*$J$12","v":{"$error":"#N/A"}},"",null,0,null,0]
[null,null,null,null,null,null,null,null,0,"-","-","-",null,null,null,null,null,null,null,null,null,0,{"$f":"MATCH(D34,Owce_N!$B$4:$B$11,0)-1","v":{"$error":"#N/A"}},{"$f":"MATCH(E34,Owce_N!$B$4:$D$4,0)-2","v":{"$error":"#N/A"}},{"$f":"OFFSET(Owce_N!$C$4,W34,X34)","v":{"$error":"#N/A"}},{"$f":"OFFSET(Owce_N!$C$4,W34,7)","v":{"$error":"#N/A"}},{"$f":"OFFSET(Owce_N!$C$4,W34,X34+2)*$J$12","v":{"$error":"#N/A"}},"",null,0,null,0]
[null,null,null,null,null,null,null,null,0,"-","-","-",null,null,null,null,null,null,null,null,null,0,{"$f":"MATCH(D35,Owce_N!$B$4:$B$11,0)-1","v":{"$error":"#N/A"}},{"$f":"MATCH(E35,Owce_N!$B$4:$D$4,0)-2","v":{"$error":"#N/A"}},{"$f":"OFFSET(Owce_N!$C$4,W35,X35)","v":{"$error":"#N/A"}},{"$f":"OFFSET(Owce_N!$C$4,W35,7)","v":{"$error":"#N/A"}},{"$f":"OFFSET(Owce_N!$C$4,W35,X35+2)*$J$12","v":{"$error":"#N/A"}},"",null,0,null,0]
[null,null,null,null,null,null,null,null,0,"-","-","-",null,null,null,null,null,null,null,null,null,0,{"$f":"MATCH(D36,Owce_N!$B$4:$B$11,0)-1","v":{"$error":"#N/A"}},{"$f":"MATCH(E36,Owce_N!$B$4:$D$4,0)-2","v":{"$error":"#N/A"}},{"$f":"OFFSET(Owce_N!$C$4,W36,X36)","v":{"$error":"#N/A"}},{"$f":"OFFSET(Owce_N!$C$4,W36,7)","v":{"$error":"#N/A"}},{"$f":"OFFSET(Owce_N!$C$4,W36,X36+2)*$J$12","v":{"$error":"#N/A"}},"",null,0,null,0]
[null,null,null,null,null,null,null,null,0,"-","-","-",null,null,null,null,null,null,null,null,null,0,{"$f":"MATCH(D37,Owce_N!$B$4:$B$11,0)-1","v":{"$error":"#N/A"}},{"$f":"MATCH(E37,Owce_N!$B$4:$D$4,0)-2","v":{"$error":"#N/A"}},{"$f":"OFFSET(Owce_N!$C$4,W37,X37)","v":{"$error":"#N/A"}},{"$f":"OFFSET(Owce_N!$C$4,W37,7)","v":{"$error":"#N/A"}},{"$f":"OFFSET(Owce_N!$C$4,W37,X37+2)*$J$12","v":{"$error":"#N/A"}},"",null,0,null,0]
[null,null,null,null,null,null,null,null,0,"-","-","-",null,null,null,null,null,null,null,null,null,0,{"$f":"MATCH(D38,Owce_N!$B$4:$B$11,0)-1","v":{"$error":"#N/A"}},{"$f":"MATCH(E38,Owce_N!$B$4:$D$4,0)-2","v":{"$error":"#N/A"}},{"$f":"OFFSET(Owce_N!$C$4,W38,X38)","v":{"$error":"#N/A"}},{"$f":"OFFSET(Owce_N!$C$4,W38,7)","v":{"$error":"#N/A"}},{"$f":"OFFSET(Owce_N!$C$4,W38,X38+2)*$J$12","v":{"$error":"#N/A"}},"",null,0,null,0]
[null,null,null,null,null,null,null,null,0,"-","-","-",null,null,null,null,null,null,null,null,null,0,{"$f":"MATCH(D39,Owce_N!$B$4:$B$11,0)-1","v":{"$error":"#N/A"}},{"$f":"MATCH(E39,Owce_N!$B$4:$D$4,0)-2","v":{"$error":"#N/A"}},{"$f":"OFFSET(Owce_N!$C$4,W39,X39)","v":{"$error":"#N/A"}},{"$f":"OFFSET(Owce_N!$C$4,W39,7)","v":{"$error":"#N/A"}},{"$f":"OFFSET(Owce_N!$C$4,W39,X39+2)*$J$12","v":{"$error":"#N/A"}},"",null,0,null,0]
[null,null,null,null,null,null,null,null,0,"-","-","-",null,null,null,null,null,null,null,null,null,0,{"$f":"MATCH(D40,Owce_N!$B$4:$B$11,0)-1","v":{"$error":"#N/A"}},{"$f":"MATCH(E40,Owce_N!$B$4:$D$4,0)-2","v":{"$error":"#N/A"}},{"$f":"OFFSET(Owce_N!$C$4,W40,X40)","v":{"$error":"#N/A"}},{"$f":"OFFSET(Owce_N!$C$4,W40,7)","v":{"$error":"#N/A"}},{"$f":"OFFSET(Owce_N!$C$4,W40,X40+2)*$J$12","v":{"$error":"#N/A"}},"",null,0,null,0]
[null,null,null,null,null,null,null,null,0,"-","-","-",null,null,null,null,null,null,null,null,null,0,{"$f":"MATCH(D41,Owce_N!$B$4:$B$11,0)-1","v":{"$error":"#N/A"}},{"$f":"MATCH(E41,Owce_N!$B$4:$D$4,0)-2","v":{"$error":"#N/A"}},{"$f":"OFFSET(Owce_N!$C$4,W41,X41)","v":{"$error":"#N/A"}},{"$f":"OFFSET(Owce_N!$C$4,W41,7)","v":{"$error":"#N/A"}},{"$f":"OFFSET(Owce_N!$C$4,W41,X41+2)*$J$12","v":{"$error":"#N/A"}},"",null,0,null,0]
[null,null,null,null,null,null,null,null,0,"-","-","-",null,null,null,null,null,null,null,null,null,0,{"$f":"MATCH(D42,Owce_N!$B$4:$B$11,0)-1","v":{"$error":"#N/A"}},{"$f":"MATCH(E42,Owce_N!$B$4:$D$4,0)-2","v":{"$error":"#N/A"}},{"$f":"OFFSET(Owce_N!$C$4,W42,X42)","v":{"$error":"#N/A"}},{"$f":"OFFSET(Owce_N!$C$4,W42,7)","v":{"$error":"#N/A"}},{"$f":"OFFSET(Owce_N!$C$4,W42,X42+2)*$J$12","v":{"$error":"#N/A"}},"",null,0,null,0]
[null,null,null,null,null,null,null,null,0,"-","-","-",null,null,null,null,null,null,null,null,null,0,{"$f":"MATCH(D43,Owce_N!$B$4:$B$11,0)-1","v":{"$error":"#N/A"}},{"$f":"MATCH(E43,Owce_N!$B$4:$D$4,0)-2","v":{"$error":"#N/A"}},{"$f":"OFFSET(Owce_N!$C$4,W43,X43)","v":{"$error":"#N/A"}},{"$f":"OFFSET(Owce_N!$C$4,W43,7)","v":{"$error":"#N/A"}},{"$f":"OFFSET(Owce_N!$C$4,W43,X43+2)*$J$12","v":{"$error":"#N/A"}},"",null,0,null,0]
[null,null,null,null,null,null,null,null,0,"-","-","-",null,null,null,null,null,null,null,null,null,0,{"$f":"MATCH(D44,Owce_N!$B$4:$B$11,0)-1","v":{"$error":"#N/A"}},{"$f":"MATCH(E44,Owce_N!$B$4:$D$4,0)-2","v":{"$error":"#N/A"}},{"$f":"OFFSET(Owce_N!$C$4,W44,X44)","v":{"$error":"#N/A"}},{"$f":"OFFSET(Owce_N!$C$4,W44,7)","v":{"$error":"#N/A"}},{"$f":"OFFSET(Owce_N!$C$4,W44,X44+2)*$J$12","v":{"$error":"#N/A"}},"",null,0,null,0]
[null,null,null,null,null,null,null,null,0,"-","-","-",null,null,null,null,null,null,null,null,null,0,{"$f":"MATCH(D45,Owce_N!$B$4:$B$11,0)-1","v":{"$error":"#N/A"}},{"$f":"MATCH(E45,Owce_N!$B$4:$D$4,0)-2","v":{"$error":"#N/A"}},{"$f":"OFFSET(Owce_N!$C$4,W45,X45)","v":{"$error":"#N/A"}},{"$f":"OFFSET(Owce_N!$C$4,W45,7)","v":{"$error":"#N/A"}},{"$f":"OFFSET(Owce_N!$C$4,W45,X45+2)*$J$12","v":{"$error":"#N/A"}},"",null,0,null,0]
[null,null,null,"SUMA POWIERZCHNI:",null,null,null,null,{"$f":"SUM(I19:I45)","v":0},{"$f":"SUM(J19:J45)","v":0},{"$f":"IFERROR(IF(S46>2,OFFSET(B_ML_N!$B$3,V46,S46+2),\"-\"),\"-\")","v":"-"},{"$f":"IFERROR(IF(X46<>TRUE,IF(AND(I46>0,S46<3),I46,TRUNC(#REF!/K46)),\"-\"),\"-\")","v":"-"},null,null,null,null,null,null,null,null,null,1,{"$f":"MATCH(D46,Owce_N!$B$4:$B$11,0)-1","v":{"$error":"#N/A"}},{"$f":"MATCH(E46,Owce_N!$B$4:$D$4,0)-2","v":{"$error":"#N/A"}},{"$f":"OFFSET(Owce_N!$C$4,W46,X46)","v":{"$error":"#N/A"}},{"$f":"OFFSET(Owce_N!$C$4,W46,7)","v":{"$error":"#N/A"}},{"$f":"OFFSET(Owce_N!$C$4,W46,X46+2)*$J$12","v":{"$error":"#N/A"}},"SUMA POWIERZCHNI:",null,0,null,0]
[null,null,null,"SUMA LICZBY OWIEC-SAMIC W WIEKU POWYŻEJ 12 MIESIĘCY:",null,null,null,null,null,null,null,{"$f":"SUMIF(Z19:Z45,\"M\",L19:L45)","v":0},null,null,null,null,null,null,null,null,null,1,{"$f":"MATCH(D47,Owce_N!$B$4:$B$11,0)-1","v":{"$error":"#N/A"}},{"$f":"MATCH(E47,Owce_N!$B$4:$D$4,0)-2","v":{"$error":"#N/A"}},{"$f":"OFFSET(Owce_N!$C$4,W47,X47)","v":{"$error":"#N/A"}},{"$f":"OFFSET(Owce_N!$C$4,W47,7)","v":{"$error":"#N/A"}},{"$f":"OFFSET(Owce_N!$C$4,W47,X47+2)*$J$12","v":{"$error":"#N/A"}},"SUMA LICZBY OWIEC-SAMIC W WIEKU POWYŻEJ 12 MIESIĘCY:",null,0,null,0]
[null,null,null,"Wielkości (w m2) posiadanych powierzchni bytowych w pomieszczeniach/budynkach dotyczą łącznie wnioskodawcy i wskazanych innych posiadaczy",null,null,null,null,null,null,null,"NIE"]
[]
[null,null,null,null,null,null,null,null,null,null,null,null,null,null,null,null,null,null,null,null,null,null,null,null,null,null,null,null,null,null,null,null,null,null,null,null,null,null,null,null,null,null,null,null,null,"NIE"]
[null,null,null,null,null,null,null,null,null,null,null,null,null,null,null,null,null,null,null,null,null,null,null,null,null,null,null,null,null,null,null,null,null,null,null,null,null,null,null,null,null,null,null,null,null,"TAK"]

{"sheet":"Owce_pow (3)","index":26,"n_rows":51,"n_cols":46,"rows_kept":51,"cut":false,"hidden":true,"merged":[[12,9,12,11],[9,3,9,8],[0,10,0,11],[3,2,3,12],[7,3,7,4],[7,5,7,6],[4,3,4,8],[5,3,5,11],[10,3,10,8],[11,3,11,8],[13,3,13,8],[14,3,15,3],[14,4,16,4],[14,6,14,8],[12,3,12,8],[45,3,45,7],[46,3,46,10],[48,9,48,11],[14,9,15,9],[14,10,15,10],[14,11,15,11],[15,5,16,5],[15,6,16,6],[17,4,17,11],[47,3,47,10]]}
[null,null,null,null,null,null,null,null,null,null,"POWRÓT",null,null,null,null,null,null,null,null,null,null,null,null,null,null,null,null,null,null,null,null,null,null,null,null,null,null,null,null,null,null,null,null,null,"UWAGI"]
[]
[]
[null,null,"II. Część szczegółowa  "]
[null,null,"II.7.","Dobrostan owiec"]
[null,null,"II.7.3.","Dopuszczalna maksymalna liczba sztuk owiec, które mogą przebywać jednocześnie w gospodarstwie z uwzględnieniem  wymogów - Dobrostan owiec"]
[]
[null,null,null,"3) Numer siedziby stada:"]
[]
[null,null,null,"Powierzchnia bytowa przeznaczona dla owiec w pomieszczeniach w gospodarstwie rolnym:",null,null,null,null,null,null,"m2"]
[null,null,null,"Informacja o wieku odsadzenia jagniąt",null,null,null,null,null,null,"dni"]
[null,null,null,"Plenność maciorek (stosunek liczby urodzonych jagniąt do liczby maciorek):"]
[null,null,null,"Termin wykorzystania posiadanych zewnętrznych powierzchni bytowych"]
[null,null,null,"Powierzchnia bytowa w obiekcie dla wszystkich utrzymywanych w siedzibie stada zwierząt z gatunku owca domowa  od dnia złożenia wniosku do dnia 14 marca kolejnego roku. "]
[null,null,null,"\nGrupa zwierząt","Sposób utrzymywania","Obiekt","Utrzymywanie grupowe / pojedyncze spełniające wymóg minimalnych powierzchni",null,null," Minimalna powierzch-\nnia  na  kojec  / kojce","Powierz-\nchnia mini-\nmalna na owcę","Maksy-\nmalna liczba owiec"]
[null,null,null,null,null,"Nazwa(y) lub nr kojca/kojcy","Liczba zwierząt lub kojcy pojedyn-\nczych","Powierzchnia na sztukę utrz. grupowo lub kojca pojedynczego","Powie-\nrzchnia",null,null,null,null,null,null,null,null,null,null,null,null,"ukryj","grupa","sposób","Norma","OWCA",null,"poj/grup","poj","p/r-m","grup","g/r=m"]
[null,null,null,null,null,null,null,"m2/szt.\n(kojec)","m2","m2","m2/szt.","szt",null,null,null,null,null,null,null,null,null,null,"kat","utrz","norma","s> 12","jag"]
[null,null,null,null,{"$f":"IF(J46>J10,\"ZA MAŁA POWIERZCHNIA OBIEKTU !\",\"\")","v":""},null,null,null,null,null,null,null,null,null,null,null,null,null,null,null,null,null,"kat","utrz","norma","s> 12","jag"]
[null,null,null,null,null,null,null,null,{"$f":"G19*H19","v":0},{"$f":"IFERROR(K19*L19,\"-\")","v":"-"},{"$f":"IFERROR(Y19+AA19,\"-\")","v":"-"},{"$f":"IF(H19<K19,\"-\",IF(X19=0,G19,TRUNC(I19/K19)))","v":"-"},null,null,null,null,null,null,null,null,null,{"$f":"COUNTA(D19:H19)","v":0},{"$f":"MATCH(D19,Owce_N!$B$4:$B$11,0)-1","v":{"$error":"#N/A"}},{"$f":"MATCH(E19,Owce_N!$B$4:$D$4,0)-2","v":{"$error":"#N/A"}},{"$f":"OFFSET(Owce_N!$C$4,W19,X19)","v":{"$error":"#N/A"}},{"$f":"OFFSET(Owce_N!$C$4,W19,7)","v":{"$error":"#N/A"}},{"$f":"OFFSET(Owce_N!$C$4,W19,X19+2)*$J$12","v":{"$error":"#N/A"}},{"$f":"D19&E19","v":""},{"$f":"Owce_N!M5","v":"samiec gatunku owca domowa w wieku powyżej 12 miesięcy, z wyjątkiem samca gatunku owca domowa – skopkapojedynczo"},{"$f":"SUMIF($AB$19:$AB$45,AC19,$G$19:$G$45)","v":0},{"$f":"Owce_N!N5","v":"samiec gatunku owca domowa w wieku powyżej 12 miesięcy, z wyjątkiem samca gatunku owca domowa – skopkagrupowo"},{"$f":"SUMIF($AB$19:$AB$45,AE19,$G$19:$G$45)","v":0}]
[null,null,null,null,null,null,null,null,{"$f":"G20*H20","v":0},{"$f":"IFERROR(K20*L20,\"-\")","v":"-"},{"$f":"IFERROR(Y20+AA20,\"-\")","v":"-"},"-",null,null,null,null,null,null,null,null,null,{"$f":"COUNTA(D20:H20)","v":0},{"$f":"MATCH(D20,Owce_N!$B$4:$B$11,0)-1","v":{"$error":"#N/A"}},{"$f":"MATCH(E20,Owce_N!$B$4:$D$4,0)-2","v":{"$error":"#N/A"}},{"$f":"OFFSET(Owce_N!$C$4,W20,X20)","v":{"$error":"#N/A"}},{"$f":"OFFSET(Owce_N!$C$4,W20,7)","v":{"$error":"#N/A"}},{"$f":"OFFSET(Owce_N!$C$4,W20,X20+2)*$J$12","v":{"$error":"#N/A"}},"",{"$f":"Owce_N!M6","v":"samica gatunku owca domowa w wieku powyżej 12 miesięcypojedynczo"},{"$f":"SUMIF($AB$19:$AB$45,AC20,$G$19:$G$45)","v":0},{"$f":"Owce_N!N6","v":"samica gatunku owca domowa w wieku powyżej 12 miesięcygrupowo"},{"$f":"SUMIF($AB$19:$AB$45,AE20,$G$19:$G$45)","v":0}]
[null,null,null,null,null,null,null,null,{"$f":"G21*H21","v":0},{"$f":"IFERROR(K21*L21,\"-\")","v":"-"},"-","-",null,null,null,null,null,null,null,null,null,0,{"$f":"MATCH(D21,Owce_N!$B$4:$B$11,0)-1","v":{"$error":"#N/A"}},{"$f":"MATCH(E21,Owce_N!$B$4:$D$4,0)-2","v":{"$error":"#N/A"}},{"$f":"OFFSET(Owce_N!$C$4,W21,X21)","v":{"$error":"#N/A"}},{"$f":"OFFSET(Owce_N!$C$4,W21,7)","v":{"$error":"#N/A"}},{"$f":"OFFSET(Owce_N!$C$4,W21,X21+2)*$J$12","v":{"$error":"#N/A"}},"",{"$f":"Owce_N!M7","v":"samica gatunku owca domowa w wieku powyżej 12 miesięcy wraz z jagnięciempojedynczo"},0,{"$f":"Owce_N!N7","v":"samica gatunku owca domowa w wieku powyżej 12 miesięcy wraz z jagnięciemgrupowo"},0]
[null,null,null,null,null,null,null,null,{"$f":"G22*H22","v":0},{"$f":"IFERROR(K22*L22,\"-\")","v":"-"},"-","-",null,null,null,null,null,null,null,null,null,0,{"$f":"MATCH(D22,Owce_N!$B$4:$B$11,0)-1","v":{"$error":"#N/A"}},{"$f":"MATCH(E22,Owce_N!$B$4:$D$4,0)-2","v":{"$error":"#N/A"}},{"$f":"OFFSET(Owce_N!$C$4,W22,X22)","v":{"$error":"#N/A"}},{"$f":"OFFSET(Owce_N!$C$4,W22,7)","v":{"$error":"#N/A"}},{"$f":"OFFSET(Owce_N!$C$4,W22,X22+2)*$J$12","v":{"$error":"#N/A"}},"",{"$f":"Owce_N!M8","v":"samica gatunku owca domowa w wieku od 6 do 12 miesięcypojedynczo"},0,{"$f":"Owce_N!N8","v":"samica gatunku owca domowa w wieku od 6 do 12 miesięcygrupowo"},0]
[null,null,null,null,null,null,null,null,0,"-","-","-",null,null,null,null,null,null,null,null,null,0,{"$f":"MATCH(D23,Owce_N!$B$4:$B$11,0)-1","v":{"$error":"#N/A"}},{"$f":"MATCH(E23,Owce_N!$B$4:$D$4,0)-2","v":{"$error":"#N/A"}},{"$f":"OFFSET(Owce_N!$C$4,W23,X23)","v":{"$error":"#N/A"}},{"$f":"OFFSET(Owce_N!$C$4,W23,7)","v":{"$error":"#N/A"}},{"$f":"OFFSET(Owce_N!$C$4,W23,X23+2)*$J$12","v":{"$error":"#N/A"}},"",{"$f":"Owce_N!M9","v":"samiec gatunku owca domowa w wieku od 6 do 12 miesięcy, z wyjątkiem samca gatunku owca domowa – skopkapojedynczo"},0,{"$f":"Owce_N!N9","v":"samiec gatunku owca domowa w wieku od 6 do 12 miesięcy, z wyjątkiem samca gatunku owca domowa – skopkagrupowo"},0]
[null,null,null,null,null,null,null,null,0,"-","-","-",null,null,null,null,null,null,null,null,null,0,{"$f":"MATCH(D24,Owce_N!$B$4:$B$11,0)-1","v":{"$error":"#N/A"}},{"$f":"MATCH(E24,Owce_N!$B$4:$D$4,0)-2","v":{"$error":"#N/A"}},{"$f":"OFFSET(Owce_N!$C$4,W24,X24)","v":{"$error":"#N/A"}},{"$f":"OFFSET(Owce_N!$C$4,W24,7)","v":{"$error":"#N/A"}},{"$f":"OFFSET(Owce_N!$C$4,W24,X24+2)*$J$12","v":{"$error":"#N/A"}},"",{"$f":"Owce_N!M10","v":"samiec gatunku owca domowa - skopekpojedynczo"},0,{"$f":"Owce_N!N10","v":"samiec gatunku owca domowa - skopekgrupowo"},0]
[null,null,null,null,null,null,null,null,0,"-","-","-",null,null,null,null,null,null,null,null,null,0,{"$f":"MATCH(D25,Owce_N!$B$4:$B$11,0)-1","v":{"$error":"#N/A"}},{"$f":"MATCH(E25,Owce_N!$B$4:$D$4,0)-2","v":{"$error":"#N/A"}},{"$f":"OFFSET(Owce_N!$C$4,W25,X25)","v":{"$error":"#N/A"}},{"$f":"OFFSET(Owce_N!$C$4,W25,7)","v":{"$error":"#N/A"}},{"$f":"OFFSET(Owce_N!$C$4,W25,X25+2)*$J$12","v":{"$error":"#N/A"}},"",null,0,null,0]
[null,null,null,null,null,null,null,null,0,"-","-","-",null,null,null,null,null,null,null,null,null,0,{"$f":"MATCH(D26,Owce_N!$B$4:$B$11,0)-1","v":{"$error":"#N/A"}},{"$f":"MATCH(E26,Owce_N!$B$4:$D$4,0)-2","v":{"$error":"#N/A"}},{"$f":"OFFSET(Owce_N!$C$4,W26,X26)","v":{"$error":"#N/A"}},{"$f":"OFFSET(Owce_N!$C$4,W26,7)","v":{"$error":"#N/A"}},{"$f":"OFFSET(Owce_N!$C$4,W26,X26+2)*$J$12","v":{"$error":"#N/A"}},"",null,0,null,0]
[null,null,null,null,null,null,null,null,0,"-","-","-",null,null,null,null,null,null,null,null,null,0,{"$f":"MATCH(D27,Owce_N!$B$4:$B$11,0)-1","v":{"$error":"#N/A"}},{"$f":"MATCH(E27,Owce_N!$B$4:$D$4,0)-2","v":{"$error":"#N/A"}},{"$f":"OFFSET(Owce_N!$C$4,W27,X27)","v":{"$error":"#N/A"}},{"$f":"OFFSET(Owce_N!$C$4,W27,7)","v":{"$error":"#N/A"}},{"$f":"OFFSET(Owce_N!$C$4,W27,X27+2)*$J$12","v":{"$error":"#N/A"}},"",null,0,null,0]
[null,null,null,null,null,null,null,null,0,"-","-","-",null,null,null,null,null,null,null,null,null,0,{"$f":"MATCH(D28,Owce_N!$B$4:$B$11,0)-1","v":{"$error":"#N/A"}},{"$f":"MATCH(E28,Owce_N!$B$4:$D$4,0)-2","v":{"$error":"#N/A"}},{"$f":"OFFSET(Owce_N!$C$4,W28,X28)","v":{"$error":"#N/A"}},{"$f":"OFFSET(Owce_N!$C$4,W28,7)","v":{"$error":"#N/A"}},{"$f":"OFFSET(Owce_N!$C$4,W28,X28+2)*$J$12","v":{"$error":"#N/A"}},"",null,0,null,0]
[null,null,null,null,null,null,null,null,0,"-","-","-",null,null,null,null,null,null,null,null,null,0,{"$f":"MATCH(D29,Owce_N!$B$4:$B$11,0)-1","v":{"$error":"#N/A"}},{"$f":"MATCH(E29,Owce_N!$B$4:$D$4,0)-2","v":{"$error":"#N/A"}},{"$f":"OFFSET(Owce_N!$C$4,W29,X29)","v":{"$error":"#N/A"}},{"$f":"OFFSET(Owce_N!$C$4,W29,7)","v":{"$error":"#N/A"}},{"$f":"OFFSET(Owce_N!$C$4,W29,X29+2)*$J$12","v":{"$error":"#N/A"}},"",null,0,null,0]
[null,null,null,null,null,null,null,null,0,"-","-","-",null,null,null,null,null,null,null,null,null,0,{"$f":"MATCH(D30,Owce_N!$B$4:$B$11,0)-1","v":{"$error":"#N/A"}},{"$f":"MATCH(E30,Owce_N!$B$4:$D$4,0)-2","v":{"$error":"#N/A"}},{"$f":"OFFSET(Owce_N!$C$4,W30,X30)","v":{"$error":"#N/A"}},{"$f":"OFFSET(Owce_N!$C$4,W30,7)","v":{"$error":"#N/A"}},{"$f":"OFFSET(Owce_N!$C$4,W30,X30+2)*$J$12","v":{"$error":"#N/A"}},"",null,0,null,0]
[null,null,null,null,null,null,null,null,0,"-","-","-",null,null,null,null,null,null,null,null,null,0,{"$f":"MATCH(D31,Owce_N!$B$4:$B$11,0)-1","v":{"$error":"#N/A"}},{"$f":"MATCH(E31,Owce_N!$B$4:$D$4,0)-2","v":{"$error":"#N/A"}},{"$f":"OFFSET(Owce_N!$C$4,W31,X31)","v":{"$error":"#N/A"}},{"$f":"OFFSET(Owce_N!$C$4,W31,7)","v":{"$error":"#N/A"}},{"$f":"OFFSET(Owce_N!$C$4,W31,X31+2)*$J$12","v":{"$error":"#N/A"}},"",null,0,null,0]
[null,null,null,null,null,null,null,null,0,"-","-","-",null,null,null,null,null,null,null,null,null,0,{"$f":"MATCH(D32,Owce_N!$B$4:$B$11,0)-1","v":{"$error":"#N/A"}},{"$f":"MATCH(E32,Owce_N!$B$4:$D$4,0)-2","v":{"$error":"#N/A"}},{"$f":"OFFSET(Owce_N!$C$4,W32,X32)","v":{"$error":"#N/A"}},{"$f":"OFFSET(Owce_N!$C$4,W32,7)","v":{"$error":"#N/A"}},{"$f":"OFFSET(Owce_N!$C$4,W32,X32+2)*$J$12","v":{"$error":"#N/A"}},"",null,0,null,0]
[null,null,null,null,null,null,null,null,0,"-","-","-",null,null,null,null,null,null,null,null,null,0,{"$f":"MATCH(D33,Owce_N!$B$4:$B$11,0)-1","v":{"$error":"#N/A"}},{"$f":"MATCH(E33,Owce_N!$B$4:$D$4,0)-2","v":{"$error":"#N/A"}},{"$f":"OFFSET(Owce_N!$C$4,W33,X33)","v":{"$error":"#N/A"}},{"$f":"OFFSET(Owce_N!$C$4,W33,7)","v":{"$error":"#N/A"}},{"$f":"OFFSET(Owce_N!$C$4,W33,X33+2)*$J$12","v":{"$error":"#N/A"}},"",null,0,null,0]
[null,null,null,null,null,null,null,null,0,"-","-","-",null,null,null,null,null,null,null,null,null,0,{"$f":"MATCH(D34,Owce_N!$B$4:$B$11,0)-1","v":{"$error":"#N/A"}},{"$f":"MATCH(E34,Owce_N!$B$4:$D$4,0)-2","v":{"$error":"#N/A"}},{"$f":"OFFSET(Owce_N!$C$4,W34,X34)","v":{"$error":"#N/A"}},{"$f":"OFFSET(Owce_N!$C$4,W34,7)","v":{"$error":"#N/A"}},{"$f":"OFFSET(Owce_N!$C$4,W34,X34+2)*$J$12","v":{"$error":"#N/A"}},"",null,0,null,0]
[null,null,null,null,null,null,null,null,0,"-","-","-",null,null,null,null,null,null,null,null,null,0,{"$f":"MATCH(D35,Owce_N!$B$4:$B$11,0)-1","v":{"$error":"#N/A"}},{"$f":"MATCH(E35,Owce_N!$B$4:$D$4,0)-2","v":{"$error":"#N/A"}},{"$f":"OFFSET(Owce_N!$C$4,W35,X35)","v":{"$error":"#N/A"}},{"$f":"OFFSET(Owce_N!$C$4,W35,7)","v":{"$error":"#N/A"}},{"$f":"OFFSET(Owce_N!$C$4,W35,X35+2)*$J$12","v":{"$error":"#N/A"}},"",null,0,null,0]
[null,null,null,null,null,null,null,null,0,"-","-","-",null,null,null,null,null,null,null,null,null,0,{"$f":"MATCH(D36,Owce_N!$B$4:$B$11,0)-1","v":{"$error":"#N/A"}},{"$f":"MATCH(E36,Owce_N!$B$4:$D$4,0)-2","v":{"$error":"#N/A"}},{"$f":"OFFSET(Owce_N!$C$4,W36,X36)","v":{"$error":"#N/A"}},{"$f":"OFFSET(Owce_N!$C$4,W36,7)","v":{"$error":"#N/A"}},{"$f":"OFFSET(Owce_N!$C$4,W36,X36+2)*$J$12","v":{"$error":"#N/A"}},"",null,0,null,0]
[null,null,null,null,null,null,null,null,0,"-","-","-",null,null,null,null,null,null,null,null,null,0,{"$f":"MATCH(D37,Owce_N!$B$4:$B$11,0)-1","v":{"$error":"#N/A"}},{"$f":"MATCH(E37,Owce_N!$B$4:$D$4,0)-2","v":{"$error":"#N/A"}},{"$f":"OFFSET(Owce_N!$C$4,W37,X37)","v":{"$error":"#N/A"}},{"$f":"OFFSET(Owce_N!$C$4,W37,7)","v":{"$error":"#N/A"}},{"$f":"OFFSET(Owce_N!$C$4,W37,X37+2)*$J$12","v":{"$error":"#N/A"}},"",null,0,null,0]
[null,null,null,null,null,null,null,null,0,"-","-","-",null,null,null,null,null,null,null,null,null,0,{"$f":"MATCH(D38,Owce_N!$B$4:$B$11,0)-1","v":{"$error":"#N/A"}},{"$f":"MATCH(E38,Owce_N!$B$4:$D$4,0)-2","v":{"$error":"#N/A"}},{"$f":"OFFSET(Owce_N!$C$4,W38,X38)","v":{"$error":"#N/A"}},{"$f":"OFFSET(Owce_N!$C$4,W38,7)","v":{"$error":"#N/A"}},{"$f":"OFFSET(Owce_N!$C$4,W38,X38+2)*$J$12","v":{"$error":"#N/A"}},"",null,0,null,0]
[null,null,null,null,null,null,null,null,0,"-","-","-",null,null,null,null,null,null,null,null,null,0,{"$f":"MATCH(D39,Owce_N!$B$4:$B$11,0)-1","v":{"$error":"#N/A"}},{"$f":"MATCH(E39,Owce_N!$B$4:$D$4,0)-2","v":{"$error":"#N/A"}},{"$f":"OFFSET(Owce_N!$C$4,W39,X39)","v":{"$error":"#N/A"}},{"$f":"OFFSET(Owce_N!$C$4,W39,7)","v":{"$error":"#N/A"}},{"$f":"OFFSET(Owce_N!$C$4,W39,X39+2)*$J$12","v":{"$error":"#N/A"}},"",null,0,null,0]
[null,null,null,null,null,null,null,null,0,"-","-","-",null,null,null,null,null,null,null,null,null,0,{"$f":"MATCH(D40,Owce_N!$B$4:$B$11,0)-1","v":{"$error":"#N/A"}},{"$f":"MATCH(E40,Owce_N!$B$4:$D$4,0)-2","v":{"$error":"#N/A"}},{"$f":"OFFSET(Owce_N!$C$4,W40,X40)","v":{"$error":"#N/A"}},{"$f":"OFFSET(Owce_N!$C$4,W40,7)","v":{"$error":"#N/A"}},{"$f":"OFFSET(Owce_N!$C$4,W40,X40+2)*$J$12","v":{"$error":"#N/A"}},"",null,0,null,0]
[null,null,null,null,null,null,null,null,0,"-","-","-",null,null,null,null,null,null,null,null,null,0,{"$f":"MATCH(D41,Owce_N!$B$4:$B$11,0)-1","v":{"$error":"#N/A"}},{"$f":"MATCH(E41,Owce_N!$B$4:$D$4,0)-2","v":{"$error":"#N/A"}},{"$f":"OFFSET(Owce_N!$C$4,W41,X41)","v":{"$error":"#N/A"}},{"$f":"OFFSET(Owce_N!$C$4,W41,7)","v":{"$error":"#N/A"}},{"$f":"OFFSET(Owce_N!$C$4,W41,X41+2)*$J$12","v":{"$error":"#N/A"}},"",null,0,null,0]
[null,null,null,null,null,null,null,null,0,"-","-","-",null,null,null,null,null,null,null,null,null,0,{"$f":"MATCH(D42,Owce_N!$B$4:$B$11,0)-1","v":{"$error":"#N/A"}},{"$f":"MATCH(E42,Owce_N!$B$4:$D$4,0)-2","v":{"$error":"#N/A"}},{"$f":"OFFSET(Owce_N!$C$4,W42,X42)","v":{"$error":"#N/A"}},{"$f":"OFFSET(Owce_N!$C$4,W42,7)","v":{"$error":"#N/A"}},{"$f":"OFFSET(Owce_N!$C$4,W42,X42+2)*$J$12","v":{"$error":"#N/A"}},"",null,0,null,0]
[null,null,null,null,null,null,null,null,0,"-","-","-",null,null,null,null,null,null,null,null,null,0,{"$f":"MATCH(D43,Owce_N!$B$4:$B$11,0)-1","v":{"$error":"#N/A"}},{"$f":"MATCH(E43,Owce_N!$B$4:$D$4,0)-2","v":{"$error":"#N/A"}},{"$f":"OFFSET(Owce_N!$C$4,W43,X43)","v":{"$error":"#N/A"}},{"$f":"OFFSET(Owce_N!$C$4,W43,7)","v":{"$error":"#N/A"}},{"$f":"OFFSET(Owce_N!$C$4,W43,X43+2)*$J$12","v":{"$error":"#N/A"}},"",null,0,null,0]
[null,null,null,null,null,null,null,null,0,"-","-","-",null,null,null,null,null,null,null,null,null,0,{"$f":"MATCH(D44,Owce_N!$B$4:$B$11,0)-1","v":{"$error":"#N/A"}},{"$f":"MATCH(E44,Owce_N!$B$4:$D$4,0)-2","v":{"$error":"#N/A"}},{"$f":"OFFSET(Owce_N!$C$4,W44,X44)","v":{"$error":"#N/A"}},{"$f":"OFFSET(Owce_N!$C$4,W44,7)","v":{"$error":"#N/A"}},{"$f":"OFFSET(Owce_N!$C$4,W44,X44+2)*$J$12","v":{"$error":"#N/A"}},"",null,0,null,0]
[null,null,null,null,null,null,null,null,0,"-","-","-",null,null,null,null,null,null,null,null,null,0,{"$f":"MATCH(D45,Owce_N!$B$4:$B$11,0)-1","v":{"$error":"#N/A"}},{"$f":"MATCH(E45,Owce_N!$B$4:$D$4,0)-2","v":{"$error":"#N/A"}},{"$f":"OFFSET(Owce_N!$C$4,W45,X45)","v":{"$error":"#N/A"}},{"$f":"OFFSET(Owce_N!$C$4,W45,7)","v":{"$error":"#N/A"}},{"$f":"OFFSET(Owce_N!$C$4,W45,X45+2)*$J$12","v":{"$error":"#N/A"}},"",null,0,null,0]
[null,null,null,"SUMA POWIERZCHNI:",null,null,null,null,{"$f":"SUM(I19:I45)","v":0},{"$f":"SUM(J19:J45)","v":0},{"$f":"IFERROR(IF(S46>2,OFFSET(B_ML_N!$B$3,V46,S46+2),\"-\"),\"-\")","v":"-"},{"$f":"IFERROR(IF(X46<>TRUE,IF(AND(I46>0,S46<3),I46,TRUNC(#REF!/K46)),\"-\"),\"-\")","v":"-"},null,null,null,null,null,null,null,null,null,1,{"$f":"MATCH(D46,Owce_N!$B$4:$B$11,0)-1","v":{"$error":"#N/A"}},{"$f":"MATCH(E46,Owce_N!$B$4:$D$4,0)-2","v":{"$error":"#N/A"}},{"$f":"OFFSET(Owce_N!$C$4,W46,X46)","v":{"$error":"#N/A"}},{"$f":"OFFSET(Owce_N!$C$4,W46,7)","v":{"$error":"#N/A"}},{"$f":"OFFSET(Owce_N!$C$4,W46,X46+2)*$J$12","v":{"$error":"#N/A"}},"SUMA POWIERZCHNI:",null,0,null,0]
[null,null,null,"SUMA LICZBY OWIEC-SAMIC W WIEKU POWYŻEJ 12 MIESIĘCY:",null,null,null,null,null,null,null,{"$f":"SUMIF(Z19:Z45,\"M\",L19:L45)","v":0},null,null,null,null,null,null,null,null,null,1,{"$f":"MATCH(D47,Owce_N!$B$4:$B$11,0)-1","v":{"$error":"#N/A"}},{"$f":"MATCH(E47,Owce_N!$B$4:$D$4,0)-2","v":{"$error":"#N/A"}},{"$f":"OFFSET(Owce_N!$C$4,W47,X47)","v":{"$error":"#N/A"}},{"$f":"OFFSET(Owce_N!$C$4,W47,7)","v":{"$error":"#N/A"}},{"$f":"OFFSET(Owce_N!$C$4,W47,X47+2)*$J$12","v":{"$error":"#N/A"}},"SUMA LICZBY OWIEC-SAMIC W WIEKU POWYŻEJ 12 MIESIĘCY:",null,0,null,0]
[null,null,null,"Wielkości (w m2) posiadanych powierzchni bytowych w pomieszczeniach/budynkach dotyczą łącznie wnioskodawcy i wskazanych innych posiadaczy",null,null,null,null,null,null,null,"NIE"]
[]
[null,null,null,null,null,null,null,null,null,null,null,null,null,null,null,null,null,null,null,null,null,null,null,null,null,null,null,null,null,null,null,null,null,null,null,null,null,null,null,null,null,null,null,null,null,"NIE"]
[null,null,null,null,null,null,null,null,null,null,null,null,null,null,null,null,null,null,null,null,null,null,null,null,null,null,null,null,null,null,null,null,null,null,null,null,null,null,null,null,null,null,null,null,null,"TAK"]

{"sheet":"Owce_pow (4)","index":27,"n_rows":51,"n_cols":46,"rows_kept":51,"cut":false,"hidden":true,"merged":[[9,3,9,8],[0,10,0,11],[3,2,3,12],[7,3,7,4],[7,5,7,6],[4,3,4,8],[5,3,5,11],[10,3,10,8],[11,3,11,8],[13,3,13,8],[14,3,15,3],[14,4,16,4],[14,6,14,8],[12,3,12,8],[12,9,12,11],[47,3,47,10],[45,3,45,7],[46,3,46,10],[48,9,48,11],[14,9,15,9],[14,10,15,10],[14,11,15,11],[15,5,16,5],[15,6,16,6],[17,4,17,11]]}
[null,null,null,null,null,null,null,null,null,null,"POWRÓT",null,null,null,null,null,null,null,null,null,null,null,null,null,null,null,null,null,null,null,null,null,null,null,null,null,null,null,null,null,null,null,null,null,"UWAGI"]
[]
[]
[null,null,"II. Część szczegółowa  "]
[null,null,"II.7.","Dobrostan owiec"]
[null,null,"II.7.4.","Dopuszczalna maksymalna liczba sztuk owiec, które mogą przebywać jednocześnie w gospodarstwie z uwzględnieniem  wymogów  - Dobrostan owiec"]
[]
[null,null,null,"4) Numer siedziby stada:"]
[]
[null,null,null,"Powierzchnia bytowa przeznaczona dla owiec w pomieszczeniach w gospodarstwie rolnym:",null,null,null,null,null,null,"m2"]
[null,null,null,"Informacja o wieku odsadzenia jagniąt",null,null,null,null,null,null,"dni"]
[null,null,null,"Plenność maciorek (stosunek liczby urodzonych jagniąt do liczby maciorek):"]
[null,null,null,"Termin wykorzystania posiadanych zewnętrznych powierzchni bytowych"]
[null,null,null,"Powierzchnia bytowa w obiekcie dla wszystkich utrzymywanych w siedzibie stada zwierząt z gatunku owca domowa  od dnia złożenia wniosku do dnia 14 marca kolejnego roku. "]
[null,null,null,"\nGrupa zwierząt","Sposób utrzymywania","Obiekt","Utrzymywanie grupowe / pojedyncze spełniające wymóg minimalnych powierzchni",null,null," Minimalna powierzch-\nnia  na  kojec  / kojce","Powierz-\nchnia mini-\nmalna na owcę","Maksy-\nmalna liczba owiec"]
[null,null,null,null,null,"Nazwa(y) lub nr kojca/kojcy","Liczba zwierząt lub kojcy pojedyn-\nczych","Powierzchnia na sztukę utrz. grupowo lub kojca pojedynczego","Powie-\nrzchnia",null,null,null,null,null,null,null,null,null,null,null,null,"ukryj","grupa","sposób","Norma","OWCA",null,"poj/grup","poj","p/r-m","grup","g/r=m"]
[null,null,null,null,null,null,null,"m2/szt.\n(kojec)","m2","m2","m2/szt.","szt",null,null,null,null,null,null,null,null,null,null,"kat","utrz","norma","s> 12","jag"]
[null,null,null,null,{"$f":"IF(J46>J10,\"ZA MAŁA POWIERZCHNIA OBIEKTU !\",\"\")","v":""},null,null,null,null,null,null,null,null,null,null,null,null,null,null,null,null,null,"kat","utrz","norma","s> 12","jag"]
[null,null,null,null,null,null,null,null,{"$f":"G19*H19","v":0},{"$f":"IFERROR(K19*L19,\"-\")","v":"-"},{"$f":"IFERROR(Y19+AA19,\"-\")","v":"-"},{"$f":"IF(H19<K19,\"-\",IF(X19=0,G19,TRUNC(I19/K19)))","v":"-"},null,null,null,null,null,null,null,null,null,{"$f":"COUNTA(D19:H19)","v":0},{"$f":"MATCH(D19,Owce_N!$B$4:$B$11,0)-1","v":{"$error":"#N/A"}},{"$f":"MATCH(E19,Owce_N!$B$4:$D$4,0)-2","v":{"$error":"#N/A"}},{"$f":"OFFSET(Owce_N!$C$4,W19,X19)","v":{"$error":"#N/A"}},{"$f":"OFFSET(Owce_N!$C$4,W19,7)","v":{"$error":"#N/A"}},{"$f":"OFFSET(Owce_N!$C$4,W19,X19+2)*$J$12","v":{"$error":"#N/A"}},{"$f":"D19&E19","v":""},{"$f":"Owce_N!M5","v":"samiec gatunku owca domowa w wieku powyżej 12 miesięcy, z wyjątkiem samca gatunku owca domowa – skopkapojedynczo"},{"$f":"SUMIF($AB$19:$AB$45,AC19,$G$19:$G$45)","v":0},{"$f":"Owce_N!N5","v":"samiec gatunku owca domowa w wieku powyżej 12 miesięcy, z wyjątkiem samca gatunku owca domowa – skopkagrupowo"},{"$f":"SUMIF($AB$19:$AB$45,AE19,$G$19:$G$45)","v":0}]
[null,null,null,null,null,null,null,null,{"$f":"G20*H20","v":0},{"$f":"IFERROR(K20*L20,\"-\")","v":"-"},{"$f":"IFERROR(Y20+AA20,\"-\")","v":"-"},"-",null,null,null,null,null,null,null,null,null,{"$f":"COUNTA(D20:H20)","v":0},{"$f":"MATCH(D20,Owce_N!$B$4:$B$11,0)-1","v":{"$error":"#N/A"}},{"$f":"MATCH(E20,Owce_N!$B$4:$D$4,0)-2","v":{"$error":"#N/A"}},{"$f":"OFFSET(Owce_N!$C$4,W20,X20)","v":{"$error":"#N/A"}},{"$f":"OFFSET(Owce_N!$C$4,W20,7)","v":{"$error":"#N/A"}},{"$f":"OFFSET(Owce_N!$C$4,W20,X20+2)*$J$12","v":{"$error":"#N/A"}},"",{"$f":"Owce_N!M6","v":"samica gatunku owca domowa w wieku powyżej 12 miesięcypojedynczo"},{"$f":"SUMIF($AB$19:$AB$45,AC20,$G$19:$G$45)","v":0},{"$f":"Owce_N!N6","v":"samica gatunku owca domowa w wieku powyżej 12 miesięcygrupowo"},{"$f":"SUMIF($AB$19:$AB$45,AE20,$G$19:$G$45)","v":0}]
[null,null,null,null,null,null,null,null,{"$f":"G21*H21","v":0},{"$f":"IFERROR(K21*L21,\"-\")","v":"-"},"-","-",null,null,null,null,null,null,null,null,null,0,{"$f":"MATCH(D21,Owce_N!$B$4:$B$11,0)-1","v":{"$error":"#N/A"}},{"$f":"MATCH(E21,Owce_N!$B$4:$D$4,0)-2","v":{"$error":"#N/A"}},{"$f":"OFFSET(Owce_N!$C$4,W21,X21)","v":{"$error":"#N/A"}},{"$f":"OFFSET(Owce_N!$C$4,W21,7)","v":{"$error":"#N/A"}},{"$f":"OFFSET(Owce_N!$C$4,W21,X21+2)*$J$12","v":{"$error":"#N/A"}},"",{"$f":"Owce_N!M7","v":"samica gatunku owca domowa w wieku powyżej 12 miesięcy wraz z jagnięciempojedynczo"},0,{"$f":"Owce_N!N7","v":"samica gatunku owca domowa w wieku powyżej 12 miesięcy wraz z jagnięciemgrupowo"},0]
[null,null,null,null,null,null,null,null,{"$f":"G22*H22","v":0},{"$f":"IFERROR(K22*L22,\"-\")","v":"-"},"-","-",null,null,null,null,null,null,null,null,null,0,{"$f":"MATCH(D22,Owce_N!$B$4:$B$11,0)-1","v":{"$error":"#N/A"}},{"$f":"MATCH(E22,Owce_N!$B$4:$D$4,0)-2","v":{"$error":"#N/A"}},{"$f":"OFFSET(Owce_N!$C$4,W22,X22)","v":{"$error":"#N/A"}},{"$f":"OFFSET(Owce_N!$C$4,W22,7)","v":{"$error":"#N/A"}},{"$f":"OFFSET(Owce_N!$C$4,W22,X22+2)*$J$12","v":{"$error":"#N/A"}},"",{"$f":"Owce_N!M8","v":"samica gatunku owca domowa w wieku od 6 do 12 miesięcypojedynczo"},0,{"$f":"Owce_N!N8","v":"samica gatunku owca domowa w wieku od 6 do 12 miesięcygrupowo"},0]
[null,null,null,null,null,null,null,null,0,"-","-","-",null,null,null,null,null,null,null,null,null,0,{"$f":"MATCH(D23,Owce_N!$B$4:$B$11,0)-1","v":{"$error":"#N/A"}},{"$f":"MATCH(E23,Owce_N!$B$4:$D$4,0)-2","v":{"$error":"#N/A"}},{"$f":"OFFSET(Owce_N!$C$4,W23,X23)","v":{"$error":"#N/A"}},{"$f":"OFFSET(Owce_N!$C$4,W23,7)","v":{"$error":"#N/A"}},{"$f":"OFFSET(Owce_N!$C$4,W23,X23+2)*$J$12","v":{"$error":"#N/A"}},"",{"$f":"Owce_N!M9","v":"samiec gatunku owca domowa w wieku od 6 do 12 miesięcy, z wyjątkiem samca gatunku owca domowa – skopkapojedynczo"},0,{"$f":"Owce_N!N9","v":"samiec gatunku owca domowa w wieku od 6 do 12 miesięcy, z wyjątkiem samca gatunku owca domowa – skopkagrupowo"},0]
[null,null,null,null,null,null,null,null,0,"-","-","-",null,null,null,null,null,null,null,null,null,0,{"$f":"MATCH(D24,Owce_N!$B$4:$B$11,0)-1","v":{"$error":"#N/A"}},{"$f":"MATCH(E24,Owce_N!$B$4:$D$4,0)-2","v":{"$error":"#N/A"}},{"$f":"OFFSET(Owce_N!$C$4,W24,X24)","v":{"$error":"#N/A"}},{"$f":"OFFSET(Owce_N!$C$4,W24,7)","v":{"$error":"#N/A"}},{"$f":"OFFSET(Owce_N!$C$4,W24,X24+2)*$J$12","v":{"$error":"#N/A"}},"",{"$f":"Owce_N!M10","v":"samiec gatunku owca domowa - skopekpojedynczo"},0,{"$f":"Owce_N!N10","v":"samiec gatunku owca domowa - skopekgrupowo"},0]
[null,null,null,null,null,null,null,null,0,"-","-","-",null,null,null,null,null,null,null,null,null,0,{"$f":"MATCH(D25,Owce_N!$B$4:$B$11,0)-1","v":{"$error":"#N/A"}},{"$f":"MATCH(E25,Owce_N!$B$4:$D$4,0)-2","v":{"$error":"#N/A"}},{"$f":"OFFSET(Owce_N!$C$4,W25,X25)","v":{"$error":"#N/A"}},{"$f":"OFFSET(Owce_N!$C$4,W25,7)","v":{"$error":"#N/A"}},{"$f":"OFFSET(Owce_N!$C$4,W25,X25+2)*$J$12","v":{"$error":"#N/A"}},"",null,0,null,0]
[null,null,null,null,null,null,null,null,0,"-","-","-",null,null,null,null,null,null,null,null,null,0,{"$f":"MATCH(D26,Owce_N!$B$4:$B$11,0)-1","v":{"$error":"#N/A"}},{"$f":"MATCH(E26,Owce_N!$B$4:$D$4,0)-2","v":{"$error":"#N/A"}},{"$f":"OFFSET(Owce_N!$C$4,W26,X26)","v":{"$error":"#N/A"}},{"$f":"OFFSET(Owce_N!$C$4,W26,7)","v":{"$error":"#N/A"}},{"$f":"OFFSET(Owce_N!$C$4,W26,X26+2)*$J$12","v":{"$error":"#N/A"}},"",null,0,null,0]
[null,null,null,null,null,null,null,null,0,"-","-","-",null,null,null,null,null,null,null,null,null,0,{"$f":"MATCH(D27,Owce_N!$B$4:$B$11,0)-1","v":{"$error":"#N/A"}},{"$f":"MATCH(E27,Owce_N!$B$4:$D$4,0)-2","v":{"$error":"#N/A"}},{"$f":"OFFSET(Owce_N!$C$4,W27,X27)","v":{"$error":"#N/A"}},{"$f":"OFFSET(Owce_N!$C$4,W27,7)","v":{"$error":"#N/A"}},{"$f":"OFFSET(Owce_N!$C$4,W27,X27+2)*$J$12","v":{"$error":"#N/A"}},"",null,0,null,0]
[null,null,null,null,null,null,null,null,0,"-","-","-",null,null,null,null,null,null,null,null,null,0,{"$f":"MATCH(D28,Owce_N!$B$4:$B$11,0)-1","v":{"$error":"#N/A"}},{"$f":"MATCH(E28,Owce_N!$B$4:$D$4,0)-2","v":{"$error":"#N/A"}},{"$f":"OFFSET(Owce_N!$C$4,W28,X28)","v":{"$error":"#N/A"}},{"$f":"OFFSET(Owce_N!$C$4,W28,7)","v":{"$error":"#N/A"}},{"$f":"OFFSET(Owce_N!$C$4,W28,X28+2)*$J$12","v":{"$error":"#N/A"}},"",null,0,null,0]
[null,null,null,null,null,null,null,null,0,"-","-","-",null,null,null,null,null,null,null,null,null,0,{"$f":"MATCH(D29,Owce_N!$B$4:$B$11,0)-1","v":{"$error":"#N/A"}},{"$f":"MATCH(E29,Owce_N!$B$4:$D$4,0)-2","v":{"$error":"#N/A"}},{"$f":"OFFSET(Owce_N!$C$4,W29,X29)","v":{"$error":"#N/A"}},{"$f":"OFFSET(Owce_N!$C$4,W29,7)","v":{"$error":"#N/A"}},{"$f":"OFFSET(Owce_N!$C$4,W29,X29+2)*$J$12","v":{"$error":"#N/A"}},"",null,0,null,0]
[null,null,null,null,null,null,null,null,0,"-","-","-",null,null,null,null,null,null,null,null,null,0,{"$f":"MATCH(D30,Owce_N!$B$4:$B$11,0)-1","v":{"$error":"#N/A"}},{"$f":"MATCH(E30,Owce_N!$B$4:$D$4,0)-2","v":{"$error":"#N/A"}},{"$f":"OFFSET(Owce_N!$C$4,W30,X30)","v":{"$error":"#N/A"}},{"$f":"OFFSET(Owce_N!$C$4,W30,7)","v":{"$error":"#N/A"}},{"$f":"OFFSET(Owce_N!$C$4,W30,X30+2)*$J$12","v":{"$error":"#N/A"}},"",null,0,null,0]
[null,null,null,null,null,null,null,null,0,"-","-","-",null,null,null,null,null,null,null,null,null,0,{"$f":"MATCH(D31,Owce_N!$B$4:$B$11,0)-1","v":{"$error":"#N/A"}},{"$f":"MATCH(E31,Owce_N!$B$4:$D$4,0)-2","v":{"$error":"#N/A"}},{"$f":"OFFSET(Owce_N!$C$4,W31,X31)","v":{"$error":"#N/A"}},{"$f":"OFFSET(Owce_N!$C$4,W31,7)","v":{"$error":"#N/A"}},{"$f":"OFFSET(Owce_N!$C$4,W31,X31+2)*$J$12","v":{"$error":"#N/A"}},"",null,0,null,0]
[null,null,null,null,null,null,null,null,0,"-","-","-",null,null,null,null,null,null,null,null,null,0,{"$f":"MATCH(D32,Owce_N!$B$4:$B$11,0)-1","v":{"$error":"#N/A"}},{"$f":"MATCH(E32,Owce_N!$B$4:$D$4,0)-2","v":{"$error":"#N/A"}},{"$f":"OFFSET(Owce_N!$C$4,W32,X32)","v":{"$error":"#N/A"}},{"$f":"OFFSET(Owce_N!$C$4,W32,7)","v":{"$error":"#N/A"}},{"$f":"OFFSET(Owce_N!$C$4,W32,X32+2)*$J$12","v":{"$error":"#N/A"}},"",null,0,null,0]
[null,null,null,null,null,null,null,null,0,"-","-","-",null,null,null,null,null,null,null,null,null,0,{"$f":"MATCH(D33,Owce_N!$B$4:$B$11,0)-1","v":{"$error":"#N/A"}},{"$f":"MATCH(E33,Owce_N!$B$4:$D$4,0)-2","v":{"$error":"#N/A"}},{"$f":"OFFSET(Owce_N!$C$4,W33,X33)","v":{"$error":"#N/A"}},{"$f":"OFFSET(Owce_N!$C$4,W33,7)","v":{"$error":"#N/A"}},{"$f":"OFFSET(Owce_N!$C$4,W33,X33+2)*$J$12","v":{"$error":"#N/A"}},"",null,0,null,0]
[null,null,null,null,null,null,null,null,0,"-","-","-",null,null,null,null,null,null,null,null,null,0,{"$f":"MATCH(D34,Owce_N!$B$4:$B$11,0)-1","v":{"$error":"#N/A"}},{"$f":"MATCH(E34,Owce_N!$B$4:$D$4,0)-2","v":{"$error":"#N/A"}},{"$f":"OFFSET(Owce_N!$C$4,W34,X34)","v":{"$error":"#N/A"}},{"$f":"OFFSET(Owce_N!$C$4,W34,7)","v":{"$error":"#N/A"}},{"$f":"OFFSET(Owce_N!$C$4,W34,X34+2)*$J$12","v":{"$error":"#N/A"}},"",null,0,null,0]
[null,null,null,null,null,null,null,null,0,"-","-","-",null,null,null,null,null,null,null,null,null,0,{"$f":"MATCH(D35,Owce_N!$B$4:$B$11,0)-1","v":{"$error":"#N/A"}},{"$f":"MATCH(E35,Owce_N!$B$4:$D$4,0)-2","v":{"$error":"#N/A"}},{"$f":"OFFSET(Owce_N!$C$4,W35,X35)","v":{"$error":"#N/A"}},{"$f":"OFFSET(Owce_N!$C$4,W35,7)","v":{"$error":"#N/A"}},{"$f":"OFFSET(Owce_N!$C$4,W35,X35+2)*$J$12","v":{"$error":"#N/A"}},"",null,0,null,0]
[null,null,null,null,null,null,null,null,0,"-","-","-",null,null,null,null,null,null,null,null,null,0,{"$f":"MATCH(D36,Owce_N!$B$4:$B$11,0)-1","v":{"$error":"#N/A"}},{"$f":"MATCH(E36,Owce_N!$B$4:$D$4,0)-2","v":{"$error":"#N/A"}},{"$f":"OFFSET(Owce_N!$C$4,W36,X36)","v":{"$error":"#N/A"}},{"$f":"OFFSET(Owce_N!$C$4,W36,7)","v":{"$error":"#N/A"}},{"$f":"OFFSET(Owce_N!$C$4,W36,X36+2)*$J$12","v":{"$error":"#N/A"}},"",null,0,null,0]
[null,null,null,null,null,null,null,null,0,"-","-","-",null,null,null,null,null,null,null,null,null,0,{"$f":"MATCH(D37,Owce_N!$B$4:$B$11,0)-1","v":{"$error":"#N/A"}},{"$f":"MATCH(E37,Owce_N!$B$4:$D$4,0)-2","v":{"$error":"#N/A"}},{"$f":"OFFSET(Owce_N!$C$4,W37,X37)","v":{"$error":"#N/A"}},{"$f":"OFFSET(Owce_N!$C$4,W37,7)","v":{"$error":"#N/A"}},{"$f":"OFFSET(Owce_N!$C$4,W37,X37+2)*$J$12","v":{"$error":"#N/A"}},"",null,0,null,0]
[null,null,null,null,null,null,null,null,0,"-","-","-",null,null,null,null,null,null,null,null,null,0,{"$f":"MATCH(D38,Owce_N!$B$4:$B$11,0)-1","v":{"$error":"#N/A"}},{"$f":"MATCH(E38,Owce_N!$B$4:$D$4,0)-2","v":{"$error":"#N/A"}},{"$f":"OFFSET(Owce_N!$C$4,W38,X38)","v":{"$error":"#N/A"}},{"$f":"OFFSET(Owce_N!$C$4,W38,7)","v":{"$error":"#N/A"}},{"$f":"OFFSET(Owce_N!$C$4,W38,X38+2)*$J$12","v":{"$error":"#N/A"}},"",null,0,null,0]
[null,null,null,null,null,null,null,null,0,"-","-","-",null,null,null,null,null,null,null,null,null,0,{"$f":"MATCH(D39,Owce_N!$B$4:$B$11,0)-1","v":{"$error":"#N/A"}},{"$f":"MATCH(E39,Owce_N!$B$4:$D$4,0)-2","v":{"$error":"#N/A"}},{"$f":"OFFSET(Owce_N!$C$4,W39,X39)","v":{"$error":"#N/A"}},{"$f":"OFFSET(Owce_N!$C$4,W39,7)","v":{"$error":"#N/A"}},{"$f":"OFFSET(Owce_N!$C$4,W39,X39+2)*$J$12","v":{"$error":"#N/A"}},"",null,0,null,0]
[null,null,null,null,null,null,null,null,0,"-","-","-",null,null,null,null,null,null,null,null,null,0,{"$f":"MATCH(D40,Owce_N!$B$4:$B$11,0)-1","v":{"$error":"#N/A"}},{"$f":"MATCH(E40,Owce_N!$B$4:$D$4,0)-2","v":{"$error":"#N/A"}},{"$f":"OFFSET(Owce_N!$C$4,W40,X40)","v":{"$error":"#N/A"}},{"$f":"OFFSET(Owce_N!$C$4,W40,7)","v":{"$error":"#N/A"}},{"$f":"OFFSET(Owce_N!$C$4,W40,X40+2)*$J$12","v":{"$error":"#N/A"}},"",null,0,null,0]
[null,null,null,null,null,null,null,null,0,"-","-","-",null,null,null,null,null,null,null,null,null,0,{"$f":"MATCH(D41,Owce_N!$B$4:$B$11,0)-1","v":{"$error":"#N/A"}},{"$f":"MATCH(E41,Owce_N!$B$4:$D$4,0)-2","v":{"$error":"#N/A"}},{"$f":"OFFSET(Owce_N!$C$4,W41,X41)","v":{"$error":"#N/A"}},{"$f":"OFFSET(Owce_N!$C$4,W41,7)","v":{"$error":"#N/A"}},{"$f":"OFFSET(Owce_N!$C$4,W41,X41+2)*$J$12","v":{"$error":"#N/A"}},"",null,0,null,0]
[null,null,null,null,null,null,null,null,0,"-","-","-",null,null,null,null,null,null,null,null,null,0,{"$f":"MATCH(D42,Owce_N!$B$4:$B$11,0)-1","v":{"$error":"#N/A"}},{"$f":"MATCH(E42,Owce_N!$B$4:$D$4,0)-2","v":{"$error":"#N/A"}},{"$f":"OFFSET(Owce_N!$C$4,W42,X42)","v":{"$error":"#N/A"}},{"$f":"OFFSET(Owce_N!$C$4,W42,7)","v":{"$error":"#N/A"}},{"$f":"OFFSET(Owce_N!$C$4,W42,X42+2)*$J$12","v":{"$error":"#N/A"}},"",null,0,null,0]
[null,null,null,null,null,null,null,null,0,"-","-","-",null,null,null,null,null,null,null,null,null,0,{"$f":"MATCH(D43,Owce_N!$B$4:$B$11,0)-1","v":{"$error":"#N/A"}},{"$f":"MATCH(E43,Owce_N!$B$4:$D$4,0)-2","v":{"$error":"#N/A"}},{"$f":"OFFSET(Owce_N!$C$4,W43,X43)","v":{"$error":"#N/A"}},{"$f":"OFFSET(Owce_N!$C$4,W43,7)","v":{"$error":"#N/A"}},{"$f":"OFFSET(Owce_N!$C$4,W43,X43+2)*$J$12","v":{"$error":"#N/A"}},"",null,0,null,0]
[null,null,null,null,null,null,null,null,0,"-","-","-",null,null,null,null,null,null,null,null,null,0,{"$f":"MATCH(D44,Owce_N!$B$4:$B$11,0)-1","v":{"$error":"#N/A"}},{"$f":"MATCH(E44,Owce_N!$B$4:$D$4,0)-2","v":{"$error":"#N/A"}},{"$f":"OFFSET(Owce_N!$C$4,W44,X44)","v":{"$error":"#N/A"}},{"$f":"OFFSET(Owce_N!$C$4,W44,7)","v":{"$error":"#N/A"}},{"$f":"OFFSET(Owce_N!$C$4,W44,X44+2)*$J$12","v":{"$error":"#N/A"}},"",null,0,null,0]
[null,null,null,null,null,null,null,null,0,"-","-","-",null,null,null,null,null,null,null,null,null,0,{"$f":"MATCH(D45,Owce_N!$B$4:$B$11,0)-1","v":{"$error":"#N/A"}},{"$f":"MATCH(E45,Owce_N!$B$4:$D$4,0)-2","v":{"$error":"#N/A"}},{"$f":"OFFSET(Owce_N!$C$4,W45,X45)","v":{"$error":"#N/A"}},{"$f":"OFFSET(Owce_N!$C$4,W45,7)","v":{"$error":"#N/A"}},{"$f":"OFFSET(Owce_N!$C$4,W45,X45+2)*$J$12","v":{"$error":"#N/A"}},"",null,0,null,0]
[null,null,null,"SUMA POWIERZCHNI:",null,null,null,null,{"$f":"SUM(I19:I45)","v":0},{"$f":"SUM(J19:J45)","v":0},{"$f":"IFERROR(IF(S46>2,OFFSET(B_ML_N!$B$3,V46,S46+2),\"-\"),\"-\")","v":"-"},{"$f":"IFERROR(IF(X46<>TRUE,IF(AND(I46>0,S46<3),I46,TRUNC(#REF!/K46)),\"-\"),\"-\")","v":"-"},null,null,null,null,null,null,null,null,null,1,{"$f":"MATCH(D46,Owce_N!$B$4:$B$11,0)-1","v":{"$error":"#N/A"}},{"$f":"MATCH(E46,Owce_N!$B$4:$D$4,0)-2","v":{"$error":"#N/A"}},{"$f":"OFFSET(Owce_N!$C$4,W46,X46)","v":{"$error":"#N/A"}},{"$f":"OFFSET(Owce_N!$C$4,W46,7)","v":{"$error":"#N/A"}},{"$f":"OFFSET(Owce_N!$C$4,W46,X46+2)*$J$12","v":{"$error":"#N/A"}},"SUMA POWIERZCHNI:",null,0,null,0]
[null,null,null,"SUMA LICZBY OWIEC-SAMIC W WIEKU POWYŻEJ 12 MIESIĘCY:",null,null,null,null,null,null,null,{"$f":"SUMIF(Z19:Z45,\"M\",L19:L45)","v":0},null,null,null,null,null,null,null,null,null,1,{"$f":"MATCH(D47,Owce_N!$B$4:$B$11,0)-1","v":{"$error":"#N/A"}},{"$f":"MATCH(E47,Owce_N!$B$4:$D$4,0)-2","v":{"$error":"#N/A"}},{"$f":"OFFSET(Owce_N!$C$4,W47,X47)","v":{"$error":"#N/A"}},{"$f":"OFFSET(Owce_N!$C$4,W47,7)","v":{"$error":"#N/A"}},{"$f":"OFFSET(Owce_N!$C$4,W47,X47+2)*$J$12","v":{"$error":"#N/A"}},"SUMA LICZBY OWIEC-SAMIC W WIEKU POWYŻEJ 12 MIESIĘCY:",null,0,null,0]
[null,null,null,"Wielkości (w m2) posiadanych powierzchni bytowych w pomieszczeniach/budynkach dotyczą łącznie wnioskodawcy i wskazanych innych posiadaczy",null,null,null,null,null,null,null,"NIE"]
[]
[null,null,null,null,null,null,null,null,null,null,null,null,null,null,null,null,null,null,null,null,null,null,null,null,null,null,null,null,null,null,null,null,null,null,null,null,null,null,null,null,null,null,null,null,null,"NIE"]
[null,null,null,null,null,null,null,null,null,null,null,null,null,null,null,null,null,null,null,null,null,null,null,null,null,null,null,null,null,null,null,null,null,null,null,null,null,null,null,null,null,null,null,null,null,"TAK"]

{"sheet":"Owce_pow (5)","index":28,"n_rows":51,"n_cols":46,"rows_kept":51,"cut":false,"hidden":true,"merged":[[9,3,9,8],[0,10,0,11],[3,2,3,12],[7,3,7,4],[7,5,7,6],[4,3,4,8],[5,3,5,11],[10,3,10,8],[11,3,11,8],[13,3,13,8],[14,3,15,3],[14,4,16,4],[14,6,14,8],[12,3,12,8],[12,9,12,11],[47,3,47,10],[45,3,45,7],[46,3,46,10],[48,9,48,11],[14,9,15,9],[14,10,15,10],[14,11,15,11],[15,5,16,5],[15,6,16,6],[17,4,17,11]]}
[null,null,null,null,null,null,null,null,null,null,"POWRÓT",null,null,null,null,null,null,null,null,null,null,null,null,null,null,null,null,null,null,null,null,null,null,null,null,null,null,null,null,null,null,null,null,null,"UWAGI"]
[]
[]
[null,null,"II. Część szczegółowa  "]
[null,null,"II.7.","Dobrostan owiec"]
[null,null,"II.7.5.","Dopuszczalna maksymalna liczba sztuk owiec, które mogą przebywać jednocześnie w gospodarstwie z uwzględnieniem  wymogów  - Dobrostan owiec"]
[]
[null,null,null,"5) Numer siedziby stada:"]
[]
[null,null,null,"Powierzchnia bytowa przeznaczona dla owiec w pomieszczeniach w gospodarstwie rolnym:",null,null,null,null,null,null,"m2"]
[null,null,null,"Informacja o wieku odsadzenia jagniąt",null,null,null,null,null,null,"dni"]
[null,null,null,"Plenność maciorek (stosunek liczby urodzonych jagniąt do liczby maciorek):"]
[null,null,null,"Termin wykorzystania posiadanych zewnętrznych powierzchni bytowych"]
[null,null,null,"Powierzchnia bytowa w obiekcie dla wszystkich utrzymywanych w siedzibie stada zwierząt z gatunku owca domowa  od dnia złożenia wniosku do dnia 14 marca kolejnego roku. "]
[null,null,null,"\nGrupa zwierząt","Sposób utrzymywania","Obiekt","Utrzymywanie grupowe / pojedyncze spełniające wymóg minimalnych powierzchni",null,null," Minimalna powierzch-\nnia  na  kojec  / kojce","Powierz-\nchnia mini-\nmalna na owcę","Maksy-\nmalna liczba owiec"]
[null,null,null,null,null,"Nazwa(y) lub nr kojca/kojcy","Liczba zwierząt lub kojcy pojedyn-\nczych","Powierzchnia na sztukę utrz. grupowo lub kojca pojedynczego","Powie-\nrzchnia",null,null,null,null,null,null,null,null,null,null,null,null,"ukryj","grupa","sposób","Norma","OWCA",null,"poj/grup","poj","p/r-m","grup","g/r=m"]
[null,null,null,null,null,null,null,"m2/szt.\n(kojec)","m2","m2","m2/szt.","szt",null,null,null,null,null,null,null,null,null,null,"kat","utrz","norma","s> 12","jag"]
[null,null,null,null,{"$f":"IF(J46>J10,\"ZA MAŁA POWIERZCHNIA OBIEKTU !\",\"\")","v":""},null,null,null,null,null,null,null,null,null,null,null,null,null,null,null,null,null,"kat","utrz","norma","s> 12","jag"]
[null,null,null,null,null,null,null,null,{"$f":"G19*H19","v":0},{"$f":"IFERROR(K19*L19,\"-\")","v":"-"},{"$f":"IFERROR(Y19+AA19,\"-\")","v":"-"},{"$f":"IF(H19<K19,\"-\",IF(X19=0,G19,TRUNC(I19/K19)))","v":"-"},null,null,null,null,null,null,null,null,null,{"$f":"COUNTA(D19:H19)","v":0},{"$f":"MATCH(D19,Owce_N!$B$4:$B$11,0)-1","v":{"$error":"#N/A"}},{"$f":"MATCH(E19,Owce_N!$B$4:$D$4,0)-2","v":{"$error":"#N/A"}},{"$f":"OFFSET(Owce_N!$C$4,W19,X19)","v":{"$error":"#N/A"}},{"$f":"OFFSET(Owce_N!$C$4,W19,7)","v":{"$error":"#N/A"}},{"$f":"OFFSET(Owce_N!$C$4,W19,X19+2)*$J$12","v":{"$error":"#N/A"}},{"$f":"D19&E19","v":""},{"$f":"Owce_N!M5","v":"samiec gatunku owca domowa w wieku powyżej 12 miesięcy, z wyjątkiem samca gatunku owca domowa – skopkapojedynczo"},{"$f":"SUMIF($AB$19:$AB$45,AC19,$G$19:$G$45)","v":0},{"$f":"Owce_N!N5","v":"samiec gatunku owca domowa w wieku powyżej 12 miesięcy, z wyjątkiem samca gatunku owca domowa – skopkagrupowo"},{"$f":"SUMIF($AB$19:$AB$45,AE19,$G$19:$G$45)","v":0}]
[null,null,null,null,null,null,null,null,{"$f":"G20*H20","v":0},{"$f":"IFERROR(K20*L20,\"-\")","v":"-"},{"$f":"IFERROR(Y20+AA20,\"-\")","v":"-"},"-",null,null,null,null,null,null,null,null,null,{"$f":"COUNTA(D20:H20)","v":0},{"$f":"MATCH(D20,Owce_N!$B$4:$B$11,0)-1","v":{"$error":"#N/A"}},{"$f":"MATCH(E20,Owce_N!$B$4:$D$4,0)-2","v":{"$error":"#N/A"}},{"$f":"OFFSET(Owce_N!$C$4,W20,X20)","v":{"$error":"#N/A"}},{"$f":"OFFSET(Owce_N!$C$4,W20,7)","v":{"$error":"#N/A"}},{"$f":"OFFSET(Owce_N!$C$4,W20,X20+2)*$J$12","v":{"$error":"#N/A"}},"",{"$f":"Owce_N!M6","v":"samica gatunku owca domowa w wieku powyżej 12 miesięcypojedynczo"},{"$f":"SUMIF($AB$19:$AB$45,AC20,$G$19:$G$45)","v":0},{"$f":"Owce_N!N6","v":"samica gatunku owca domowa w wieku powyżej 12 miesięcygrupowo"},{"$f":"SUMIF($AB$19:$AB$45,AE20,$G$19:$G$45)","v":0}]
[null,null,null,null,null,null,null,null,{"$f":"G21*H21","v":0},{"$f":"IFERROR(K21*L21,\"-\")","v":"-"},"-","-",null,null,null,null,null,null,null,null,null,0,{"$f":"MATCH(D21,Owce_N!$B$4:$B$11,0)-1","v":{"$error":"#N/A"}},{"$f":"MATCH(E21,Owce_N!$B$4:$D$4,0)-2","v":{"$error":"#N/A"}},{"$f":"OFFSET(Owce_N!$C$4,W21,X21)","v":{"$error":"#N/A"}},{"$f":"OFFSET(Owce_N!$C$4,W21,7)","v":{"$error":"#N/A"}},{"$f":"OFFSET(Owce_N!$C$4,W21,X21+2)*$J$12","v":{"$error":"#N/A"}},"",{"$f":"Owce_N!M7","v":"samica gatunku owca domowa w wieku powyżej 12 miesięcy wraz z jagnięciempojedynczo"},0,{"$f":"Owce_N!N7","v":"samica gatunku owca domowa w wieku powyżej 12 miesięcy wraz z jagnięciemgrupowo"},0]
[null,null,null,null,null,null,null,null,{"$f":"G22*H22","v":0},{"$f":"IFERROR(K22*L22,\"-\")","v":"-"},"-","-",null,null,null,null,null,null,null,null,null,0,{"$f":"MATCH(D22,Owce_N!$B$4:$B$11,0)-1","v":{"$error":"#N/A"}},{"$f":"MATCH(E22,Owce_N!$B$4:$D$4,0)-2","v":{"$error":"#N/A"}},{"$f":"OFFSET(Owce_N!$C$4,W22,X22)","v":{"$error":"#N/A"}},{"$f":"OFFSET(Owce_N!$C$4,W22,7)","v":{"$error":"#N/A"}},{"$f":"OFFSET(Owce_N!$C$4,W22,X22+2)*$J$12","v":{"$error":"#N/A"}},"",{"$f":"Owce_N!M8","v":"samica gatunku owca domowa w wieku od 6 do 12 miesięcypojedynczo"},0,{"$f":"Owce_N!N8","v":"samica gatunku owca domowa w wieku od 6 do 12 miesięcygrupowo"},0]
[null,null,null,null,null,null,null,null,0,"-","-","-",null,null,null,null,null,null,null,null,null,0,{"$f":"MATCH(D23,Owce_N!$B$4:$B$11,0)-1","v":{"$error":"#N/A"}},{"$f":"MATCH(E23,Owce_N!$B$4:$D$4,0)-2","v":{"$error":"#N/A"}},{"$f":"OFFSET(Owce_N!$C$4,W23,X23)","v":{"$error":"#N/A"}},{"$f":"OFFSET(Owce_N!$C$4,W23,7)","v":{"$error":"#N/A"}},{"$f":"OFFSET(Owce_N!$C$4,W23,X23+2)*$J$12","v":{"$error":"#N/A"}},"",{"$f":"Owce_N!M9","v":"samiec gatunku owca domowa w wieku od 6 do 12 miesięcy, z wyjątkiem samca gatunku owca domowa – skopkapojedynczo"},0,{"$f":"Owce_N!N9","v":"samiec gatunku owca domowa w wieku od 6 do 12 miesięcy, z wyjątkiem samca gatunku owca domowa – skopkagrupowo"},0]
[null,null,null,null,null,null,null,null,0,"-","-","-",null,null,null,null,null,null,null,null,null,0,{"$f":"MATCH(D24,Owce_N!$B$4:$B$11,0)-1","v":{"$error":"#N/A"}},{"$f":"MATCH(E24,Owce_N!$B$4:$D$4,0)-2","v":{"$error":"#N/A"}},{"$f":"OFFSET(Owce_N!$C$4,W24,X24)","v":{"$error":"#N/A"}},{"$f":"OFFSET(Owce_N!$C$4,W24,7)","v":{"$error":"#N/A"}},{"$f":"OFFSET(Owce_N!$C$4,W24,X24+2)*$J$12","v":{"$error":"#N/A"}},"",{"$f":"Owce_N!M10","v":"samiec gatunku owca domowa - skopekpojedynczo"},0,{"$f":"Owce_N!N10","v":"samiec gatunku owca domowa - skopekgrupowo"},0]
[null,null,null,null,null,null,null,null,0,"-","-","-",null,null,null,null,null,null,null,null,null,0,{"$f":"MATCH(D25,Owce_N!$B$4:$B$11,0)-1","v":{"$error":"#N/A"}},{"$f":"MATCH(E25,Owce_N!$B$4:$D$4,0)-2","v":{"$error":"#N/A"}},{"$f":"OFFSET(Owce_N!$C$4,W25,X25)","v":{"$error":"#N/A"}},{"$f":"OFFSET(Owce_N!$C$4,W25,7)","v":{"$error":"#N/A"}},{"$f":"OFFSET(Owce_N!$C$4,W25,X25+2)*$J$12","v":{"$error":"#N/A"}},"",null,0,null,0]
[null,null,null,null,null,null,null,null,0,"-","-","-",null,null,null,null,null,null,null,null,null,0,{"$f":"MATCH(D26,Owce_N!$B$4:$B$11,0)-1","v":{"$error":"#N/A"}},{"$f":"MATCH(E26,Owce_N!$B$4:$D$4,0)-2","v":{"$error":"#N/A"}},{"$f":"OFFSET(Owce_N!$C$4,W26,X26)","v":{"$error":"#N/A"}},{"$f":"OFFSET(Owce_N!$C$4,W26,7)","v":{"$error":"#N/A"}},{"$f":"OFFSET(Owce_N!$C$4,W26,X26+2)*$J$12","v":{"$error":"#N/A"}},"",null,0,null,0]
[null,null,null,null,null,null,null,null,0,"-","-","-",null,null,null,null,null,null,null,null,null,0,{"$f":"MATCH(D27,Owce_N!$B$4:$B$11,0)-1","v":{"$error":"#N/A"}},{"$f":"MATCH(E27,Owce_N!$B$4:$D$4,0)-2","v":{"$error":"#N/A"}},{"$f":"OFFSET(Owce_N!$C$4,W27,X27)","v":{"$error":"#N/A"}},{"$f":"OFFSET(Owce_N!$C$4,W27,7)","v":{"$error":"#N/A"}},{"$f":"OFFSET(Owce_N!$C$4,W27,X27+2)*$J$12","v":{"$error":"#N/A"}},"",null,0,null,0]
[null,null,null,null,null,null,null,null,0,"-","-","-",null,null,null,null,null,null,null,null,null,0,{"$f":"MATCH(D28,Owce_N!$B$4:$B$11,0)-1","v":{"$error":"#N/A"}},{"$f":"MATCH(E28,Owce_N!$B$4:$D$4,0)-2","v":{"$error":"#N/A"}},{"$f":"OFFSET(Owce_N!$C$4,W28,X28)","v":{"$error":"#N/A"}},{"$f":"OFFSET(Owce_N!$C$4,W28,7)","v":{"$error":"#N/A"}},{"$f":"OFFSET(Owce_N!$C$4,W28,X28+2)*$J$12","v":{"$error":"#N/A"}},"",null,0,null,0]
[null,null,null,null,null,null,null,null,0,"-","-","-",null,null,null,null,null,null,null,null,null,0,{"$f":"MATCH(D29,Owce_N!$B$4:$B$11,0)-1","v":{"$error":"#N/A"}},{"$f":"MATCH(E29,Owce_N!$B$4:$D$4,0)-2","v":{"$error":"#N/A"}},{"$f":"OFFSET(Owce_N!$C$4,W29,X29)","v":{"$error":"#N/A"}},{"$f":"OFFSET(Owce_N!$C$4,W29,7)","v":{"$error":"#N/A"}},{"$f":"OFFSET(Owce_N!$C$4,W29,X29+2)*$J$12","v":{"$error":"#N/A"}},"",null,0,null,0]
[null,null,null,null,null,null,null,null,0,"-","-","-",null,null,null,null,null,null,null,null,null,0,{"$f":"MATCH(D30,Owce_N!$B$4:$B$11,0)-1","v":{"$error":"#N/A"}},{"$f":"MATCH(E30,Owce_N!$B$4:$D$4,0)-2","v":{"$error":"#N/A"}},{"$f":"OFFSET(Owce_N!$C$4,W30,X30)","v":{"$error":"#N/A"}},{"$f":"OFFSET(Owce_N!$C$4,W30,7)","v":{"$error":"#N/A"}},{"$f":"OFFSET(Owce_N!$C$4,W30,X30+2)*$J$12","v":{"$error":"#N/A"}},"",null,0,null,0]
[null,null,null,null,null,null,null,null,0,"-","-","-",null,null,null,null,null,null,null,null,null,0,{"$f":"MATCH(D31,Owce_N!$B$4:$B$11,0)-1","v":{"$error":"#N/A"}},{"$f":"MATCH(E31,Owce_N!$B$4:$D$4,0)-2","v":{"$error":"#N/A"}},{"$f":"OFFSET(Owce_N!$C$4,W31,X31)","v":{"$error":"#N/A"}},{"$f":"OFFSET(Owce_N!$C$4,W31,7)","v":{"$error":"#N/A"}},{"$f":"OFFSET(Owce_N!$C$4,W31,X31+2)*$J$12","v":{"$error":"#N/A"}},"",null,0,null,0]
[null,null,null,null,null,null,null,null,0,"-","-","-",null,null,null,null,null,null,null,null,null,0,{"$f":"MATCH(D32,Owce_N!$B$4:$B$11,0)-1","v":{"$error":"#N/A"}},{"$f":"MATCH(E32,Owce_N!$B$4:$D$4,0)-2","v":{"$error":"#N/A"}},{"$f":"OFFSET(Owce_N!$C$4,W32,X32)","v":{"$error":"#N/A"}},{"$f":"OFFSET(Owce_N!$C$4,W32,7)","v":{"$error":"#N/A"}},{"$f":"OFFSET(Owce_N!$C$4,W32,X32+2)*$J$12","v":{"$error":"#N/A"}},"",null,0,null,0]
[null,null,null,null,null,null,null,null,0,"-","-","-",null,null,null,null,null,null,null,null,null,0,{"$f":"MATCH(D33,Owce_N!$B$4:$B$11,0)-1","v":{"$error":"#N/A"}},{"$f":"MATCH(E33,Owce_N!$B$4:$D$4,0)-2","v":{"$error":"#N/A"}},{"$f":"OFFSET(Owce_N!$C$4,W33,X33)","v":{"$error":"#N/A"}},{"$f":"OFFSET(Owce_N!$C$4,W33,7)","v":{"$error":"#N/A"}},{"$f":"OFFSET(Owce_N!$C$4,W33,X33+2)*$J$12","v":{"$error":"#N/A"}},"",null,0,null,0]
[null,null,null,null,null,null,null,null,0,"-","-","-",null,null,null,null,null,null,null,null,null,0,{"$f":"MATCH(D34,Owce_N!$B$4:$B$11,0)-1","v":{"$error":"#N/A"}},{"$f":"MATCH(E34,Owce_N!$B$4:$D$4,0)-2","v":{"$error":"#N/A"}},{"$f":"OFFSET(Owce_N!$C$4,W34,X34)","v":{"$error":"#N/A"}},{"$f":"OFFSET(Owce_N!$C$4,W34,7)","v":{"$error":"#N/A"}},{"$f":"OFFSET(Owce_N!$C$4,W34,X34+2)*$J$12","v":{"$error":"#N/A"}},"",null,0,null,0]
[null,null,null,null,null,null,null,null,0,"-","-","-",null,null,null,null,null,null,null,null,null,0,{"$f":"MATCH(D35,Owce_N!$B$4:$B$11,0)-1","v":{"$error":"#N/A"}},{"$f":"MATCH(E35,Owce_N!$B$4:$D$4,0)-2","v":{"$error":"#N/A"}},{"$f":"OFFSET(Owce_N!$C$4,W35,X35)","v":{"$error":"#N/A"}},{"$f":"OFFSET(Owce_N!$C$4,W35,7)","v":{"$error":"#N/A"}},{"$f":"OFFSET(Owce_N!$C$4,W35,X35+2)*$J$12","v":{"$error":"#N/A"}},"",null,0,null,0]
[null,null,null,null,null,null,null,null,0,"-","-","-",null,null,null,null,null,null,null,null,null,0,{"$f":"MATCH(D36,Owce_N!$B$4:$B$11,0)-1","v":{"$error":"#N/A"}},{"$f":"MATCH(E36,Owce_N!$B$4:$D$4,0)-2","v":{"$error":"#N/A"}},{"$f":"OFFSET(Owce_N!$C$4,W36,X36)","v":{"$error":"#N/A"}},{"$f":"OFFSET(Owce_N!$C$4,W36,7)","v":{"$error":"#N/A"}},{"$f":"OFFSET(Owce_N!$C$4,W36,X36+2)*$J$12","v":{"$error":"#N/A"}},"",null,0,null,0]
[null,null,null,null,null,null,null,null,0,"-","-","-",null,null,null,null,null,null,null,null,null,0,{"$f":"MATCH(D37,Owce_N!$B$4:$B$11,0)-1","v":{"$error":"#N/A"}},{"$f":"MATCH(E37,Owce_N!$B$4:$D$4,0)-2","v":{"$error":"#N/A"}},{"$f":"OFFSET(Owce_N!$C$4,W37,X37)","v":{"$error":"#N/A"}},{"$f":"OFFSET(Owce_N!$C$4,W37,7)","v":{"$error":"#N/A"}},{"$f":"OFFSET(Owce_N!$C$4,W37,X37+2)*$J$12","v":{"$error":"#N/A"}},"",null,0,null,0]
[null,null,null,null,null,null,null,null,0,"-","-","-",null,null,null,null,null,null,null,null,null,0,{"$f":"MATCH(D38,Owce_N!$B$4:$B$11,0)-1","v":{"$error":"#N/A"}},{"$f":"MATCH(E38,Owce_N!$B$4:$D$4,0)-2","v":{"$error":"#N/A"}},{"$f":"OFFSET(Owce_N!$C$4,W38,X38)","v":{"$error":"#N/A"}},{"$f":"OFFSET(Owce_N!$C$4,W38,7)","v":{"$error":"#N/A"}},{"$f":"OFFSET(Owce_N!$C$4,W38,X38+2)*$J$12","v":{"$error":"#N/A"}},"",null,0,null,0]
[null,null,null,null,null,null,null,null,0,"-","-","-",null,null,null,null,null,null,null,null,null,0,{"$f":"MATCH(D39,Owce_N!$B$4:$B$11,0)-1","v":{"$error":"#N/A"}},{"$f":"MATCH(E39,Owce_N!$B$4:$D$4,0)-2","v":{"$error":"#N/A"}},{"$f":"OFFSET(Owce_N!$C$4,W39,X39)","v":{"$error":"#N/A"}},{"$f":"OFFSET(Owce_N!$C$4,W39,7)","v":{"$error":"#N/A"}},{"$f":"OFFSET(Owce_N!$C$4,W39,X39+2)*$J$12","v":{"$error":"#N/A"}},"",null,0,null,0]
[null,null,null,null,null,null,null,null,0,"-","-","-",null,null,null,null,null,null,null,null,null,0,{"$f":"MATCH(D40,Owce_N!$B$4:$B$11,0)-1","v":{"$error":"#N/A"}},{"$f":"MATCH(E40,Owce_N!$B$4:$D$4,0)-2","v":{"$error":"#N/A"}},{"$f":"OFFSET(Owce_N!$C$4,W40,X40)","v":{"$error":"#N/A"}},{"$f":"OFFSET(Owce_N!$C$4,W40,7)","v":{"$error":"#N/A"}},{"$f":"OFFSET(Owce_N!$C$4,W40,X40+2)*$J$12","v":{"$error":"#N/A"}},"",null,0,null,0]
[null,null,null,null,null,null,null,null,0,"-","-","-",null,null,null,null,null,null,null,null,null,0,{"$f":"MATCH(D41,Owce_N!$B$4:$B$11,0)-1","v":{"$error":"#N/A"}},{"$f":"MATCH(E41,Owce_N!$B$4:$D$4,0)-2","v":{"$error":"#N/A"}},{"$f":"OFFSET(Owce_N!$C$4,W41,X41)","v":{"$error":"#N/A"}},{"$f":"OFFSET(Owce_N!$C$4,W41,7)","v":{"$error":"#N/A"}},{"$f":"OFFSET(Owce_N!$C$4,W41,X41+2)*$J$12","v":{"$error":"#N/A"}},"",null,0,null,0]
[null,null,null,null,null,null,null,null,0,"-","-","-",null,null,null,null,null,null,null,null,null,0,{"$f":"MATCH(D42,Owce_N!$B$4:$B$11,0)-1","v":{"$error":"#N/A"}},{"$f":"MATCH(E42,Owce_N!$B$4:$D$4,0)-2","v":{"$error":"#N/A"}},{"$f":"OFFSET(Owce_N!$C$4,W42,X42)","v":{"$error":"#N/A"}},{"$f":"OFFSET(Owce_N!$C$4,W42,7)","v":{"$error":"#N/A"}},{"$f":"OFFSET(Owce_N!$C$4,W42,X42+2)*$J$12","v":{"$error":"#N/A"}},"",null,0,null,0]
[null,null,null,null,null,null,null,null,0,"-","-","-",null,null,null,null,null,null,null,null,null,0,{"$f":"MATCH(D43,Owce_N!$B$4:$B$11,0)-1","v":{"$error":"#N/A"}},{"$f":"MATCH(E43,Owce_N!$B$4:$D$4,0)-2","v":{"$error":"#N/A"}},{"$f":"OFFSET(Owce_N!$C$4,W43,X43)","v":{"$error":"#N/A"}},{"$f":"OFFSET(Owce_N!$C$4,W43,7)","v":{"$error":"#N/A"}},{"$f":"OFFSET(Owce_N!$C$4,W43,X43+2)*$J$12","v":{"$error":"#N/A"}},"",null,0,null,0]
[null,null,null,null,null,null,null,null,0,"-","-","-",null,null,null,null,null,null,null,null,null,0,{"$f":"MATCH(D44,Owce_N!$B$4:$B$11,0)-1","v":{"$error":"#N/A"}},{"$f":"MATCH(E44,Owce_N!$B$4:$D$4,0)-2","v":{"$error":"#N/A"}},{"$f":"OFFSET(Owce_N!$C$4,W44,X44)","v":{"$error":"#N/A"}},{"$f":"OFFSET(Owce_N!$C$4,W44,7)","v":{"$error":"#N/A"}},{"$f":"OFFSET(Owce_N!$C$4,W44,X44+2)*$J$12","v":{"$error":"#N/A"}},"",null,0,null,0]
[null,null,null,null,null,null,null,null,0,"-","-","-",null,null,null,null,null,null,null,null,null,0,{"$f":"MATCH(D45,Owce_N!$B$4:$B$11,0)-1","v":{"$error":"#N/A"}},{"$f":"MATCH(E45,Owce_N!$B$4:$D$4,0)-2","v":{"$error":"#N/A"}},{"$f":"OFFSET(Owce_N!$C$4,W45,X45)","v":{"$error":"#N/A"}},{"$f":"OFFSET(Owce_N!$C$4,W45,7)","v":{"$error":"#N/A"}},{"$f":"OFFSET(Owce_N!$C$4,W45,X45+2)*$J$12","v":{"$error":"#N/A"}},"",null,0,null,0]
[null,null,null,"SUMA POWIERZCHNI:",null,null,null,null,{"$f":"SUM(I19:I45)","v":0},{"$f":"SUM(J19:J45)","v":0},{"$f":"IFERROR(IF(S46>2,OFFSET(B_ML_N!$B$3,V46,S46+2),\"-\"),\"-\")","v":"-"},{"$f":"IFERROR(IF(X46<>TRUE,IF(AND(I46>0,S46<3),I46,TRUNC(#REF!/K46)),\"-\"),\"-\")","v":"-"},null,null,null,null,null,null,null,null,null,1,{"$f":"MATCH(D46,Owce_N!$B$4:$B$11,0)-1","v":{"$error":"#N/A"}},{"$f":"MATCH(E46,Owce_N!$B$4:$D$4,0)-2","v":{"$error":"#N/A"}},{"$f":"OFFSET(Owce_N!$C$4,W46,X46)","v":{"$error":"#N/A"}},{"$f":"OFFSET(Owce_N!$C$4,W46,7)","v":{"$error":"#N/A"}},{"$f":"OFFSET(Owce_N!$C$4,W46,X46+2)*$J$12","v":{"$error":"#N/A"}},"SUMA POWIERZCHNI:",null,0,null,0]
[null,null,null,"SUMA LICZBY OWIEC-SAMIC W WIEKU POWYŻEJ 12 MIESIĘCY:",null,null,null,null,null,null,null,{"$f":"SUMIF(Z19:Z45,\"M\",L19:L45)","v":0},null,null,null,null,null,null,null,null,null,1,{"$f":"MATCH(D47,Owce_N!$B$4:$B$11,0)-1","v":{"$error":"#N/A"}},{"$f":"MATCH(E47,Owce_N!$B$4:$D$4,0)-2","v":{"$error":"#N/A"}},{"$f":"OFFSET(Owce_N!$C$4,W47,X47)","v":{"$error":"#N/A"}},{"$f":"OFFSET(Owce_N!$C$4,W47,7)","v":{"$error":"#N/A"}},{"$f":"OFFSET(Owce_N!$C$4,W47,X47+2)*$J$12","v":{"$error":"#N/A"}},"SUMA LICZBY OWIEC-SAMIC W WIEKU POWYŻEJ 12 MIESIĘCY:",null,0,null,0]
[null,null,null,"Wielkości (w m2) posiadanych powierzchni bytowych w pomieszczeniach/budynkach dotyczą łącznie wnioskodawcy i wskazanych innych posiadaczy",null,null,null,null,null,null,null,"NIE"]
[]
[null,null,null,null,null,null,null,null,null,null,null,null,null,null,null,null,null,null,null,null,null,null,null,null,null,null,null,null,null,null,null,null,null,null,null,null,null,null,null,null,null,null,null,null,null,"NIE"]
[null,null,null,null,null,null,null,null,null,null,null,null,null,null,null,null,null,null,null,null,null,null,null,null,null,null,null,null,null,null,null,null,null,null,null,null,null,null,null,null,null,null,null,null,null,"TAK"]

{"sheet":"Owce_N","index":29,"n_rows":11,"n_cols":14,"rows_kept":11,"cut":false,"hidden":true,"merged":[[2,2,2,3],[2,4,2,5],[1,2,1,8],[2,6,2,7]]}
[null,"Normy - owce"]
[null,"Kategoria technologiczna","powierzchnie - budynki"]
[null,null,"rozgęszcz",null,"liczba jagniąt - 1",null,"podst",null,"eko",null,"Lista",null,"poj","grup"]
[null,null,"pojedynczo","grupowo","pojedynczo","grupowo","pojedynczo","grupowo"]
[null,"samiec gatunku owca domowa w wieku powyżej 12 miesięcy, z wyjątkiem samca gatunku owca domowa – skopka",3.6,2.4,null,null,3,2,null,null,"samiec gatunku owca domowa w wieku powyżej 12 miesięcy, z wyjątkiem samca gatunku owca domowa – skopka",null,{"$f":"K5&$C$4","v":"samiec gatunku owca domowa w wieku powyżej 12 miesięcy, z wyjątkiem samca gatunku owca domowa – skopkapojedynczo"},{"$f":"K5&$D$4","v":"samiec gatunku owca domowa w wieku powyżej 12 miesięcy, z wyjątkiem samca gatunku owca domowa – skopkagrupowo"}]
[null,"samica gatunku owca domowa w wieku powyżej 12 miesięcy",2.16,1.2,null,null,null,null,1.5,"M","samica gatunku owca domowa w wieku powyżej 12 miesięcy",2.5,{"$f":"K6&$C$4","v":"samica gatunku owca domowa w wieku powyżej 12 miesięcypojedynczo"},{"$f":"K6&$D$4","v":"samica gatunku owca domowa w wieku powyżej 12 miesięcygrupowo"}]
[null,"samica gatunku owca domowa w wieku powyżej 12 miesięcy wraz z jagnięciem",2.16,1.2,0.84,0.6,2.5,1.5,null,"M","samica gatunku owca domowa w wieku powyżej 12 miesięcy wraz z jagnięciem",null,"samica gatunku owca domowa w wieku powyżej 12 miesięcy wraz z jagnięciempojedynczo","samica gatunku owca domowa w wieku powyżej 12 miesięcy wraz z jagnięciemgrupowo"]
[null,"dodatkowo dla każdego następnego jagnięcia ssącego,",0.84,0.6,null,null,0.7,0.5,0.35,null,"samica gatunku owca domowa w wieku od 6 do 12 miesięcy",0.5,"samica gatunku owca domowa w wieku od 6 do 12 miesięcypojedynczo","samica gatunku owca domowa w wieku od 6 do 12 miesięcygrupowo"]
[null,"samica gatunku owca domowa w wieku od 6 do 12 miesięcy",1.8,0.96,null,null,1.5,0.8,null,null,"samiec gatunku owca domowa w wieku od 6 do 12 miesięcy, z wyjątkiem samca gatunku owca domowa – skopka",null,"samiec gatunku owca domowa w wieku od 6 do 12 miesięcy, z wyjątkiem samca gatunku owca domowa – skopkapojedynczo","samiec gatunku owca domowa w wieku od 6 do 12 miesięcy, z wyjątkiem samca gatunku owca domowa – skopkagrupowo"]
[null,"samiec gatunku owca domowa w wieku od 6 do 12 miesięcy, z wyjątkiem samca gatunku owca domowa – skopka",2.4,1.8,null,null,2,1.5,null,null,"samiec gatunku owca domowa - skopek",null,"samiec gatunku owca domowa - skopekpojedynczo","samiec gatunku owca domowa - skopekgrupowo"]
[null,"samiec gatunku owca domowa - skopek",0.96,0.72]

{"sheet":"Kury_nioski_pow","index":30,"n_rows":120,"n_cols":28,"rows_kept":120,"cut":false,"hidden":false,"merged":[[58,3,58,4],[49,3,49,4],[50,3,50,4],[51,3,51,4],[52,3,52,4],[53,3,53,4],[64,3,64,4],[65,3,65,4],[66,3,66,4],[59,3,59,4],[60,3,60,4],[61,3,61,4],[62,3,62,4],[63,3,63,4],[21,14,22,14],[21,18,21,20],[19,3,19,9],[22,8,23,8],[21,8,21,11],[54,3,54,4],[55,3,55,4],[56,3,56,4],[57,3,57,4],[12,4,12,11],[25,3,25,4],[26,3,26,4],[27,3,27,4],[21,3,23,4],[21,5,21,7],[24,3,24,4],[21,12,21,13],[38,3,38,4],[30,3,30,4],[18,3,18,4],[18,6,18,8],[18,10,18,12],[15,2,15,11],[15,12,15,13],[3,3,3,12],[46,3,46,4],[47,3,47,4],[48,3,48,4],[39,3,39,4],[40,3,40,4],[41,3,41,4],[42,3,42,4],[43,3,43,4],[4,3,4,12],[37,3,37,4],[34,3,34,4],[35,3,35,4],[36,3,36,4],[31,3,31,4],[32,3,32,4],[33,3,33,4],[28,3,28,4],[9,4,9,12],[10,4,10,12],[7,3,7,12],[44,3,44,4],[45,3,45,4],[29,3,29,4],[74,3,74,4],[75,3,75,4],[76,3,76,4],[87,3,87,4],[67,3,67,4],[69,3,69,4],[70,3,70,4],[71,3,71,4],[72,3,72,4],[73,3,73,4],[84,3,84,4],[85,3,85,4],[68,3,68,4],[88,3,88,4],[79,3,79,4],[80,3,80,4],[81,3,81,4],[82,3,82,4],[83,3,83,4],[94,3,94,4],[77,3,77,4],[78,3,78,4],[117,3,117,4],[118,3,118,4],[109,3,109,4],[110,3,110,4],[111,3,111,4],[112,3,112,4],[113,3,113,4],[104,3,104,4],[105,3,105,4],[106,3,106,4],[107,3,107,4],[108,3,108,4],[8,4,8,12],[5,3,5,13],[14,3,14,13],[6,3,6,4],[6,6,6,8],[6,10,6,12],[114,3,114,4],[115,3,115,4],[116,3,116,4],[99,3,99,4],[100,3,100,4],[101,3,101,4],[102,3,102,4],[103,3,103,4],[95,3,95,4],[96,3,96,4],[97,3,97,4],[98,3,98,4],[89,3,89,4],[90,3,90,4],[91,3,91,4],[92,3,92,4],[93,3,93,4],[86,3,86,4]]}
[null,null,"Uwaga !!! Po wydrukowaniu uzupełnić ręcznie Oświadczenie i czytelnie podpisać",null,null,null,null,null,null,null,null,null,"POWRÓT",null,null,null,null,null,null,null,null,null,null,null,"UWAGI","Uwagi"]
[]
[null,null,"II. Część szczegółowa  "]
[null,null,"II.8.","Dobrostan kur niosek"]
[null,null,"II.8.1.","Informacja o stadzie kur niosek",null,null,null,null,null,null,null,null,null,null,null,null,null,null,null,null,null,null,null,null,null,null,null,"-        zakaz przycinania dziobów;"]
[null,null,null,"System utrzymywania i kierunek produkcji kur niosek w gospodarstwie jest zgodny z klasyfikacją przyjętą w rozporządzeniu Ministra Rolnictwa i Rozwoju Wsi z dnia 23 grudnia 2022 r. w sprawie szczegółowego zakresu informacji zawartych w komputerowej bazie danych (Dz.U. z 2023 r. poz. 15).",null,null,null,null,null,null,null,null,null,null,null,null,null,true,null,null,null,null,null,null,"Uzgodnienia z MRiRW w dniu 14.03.23",null,null,"-        zapewnienie utrzymania bez klatek na ściółce;"]
[null,null,null,"(miejscowość i data)",null,null,"(czytelny podpis rolnika)",null,null,null,"(czytelny podpis doradcy)",null,null,null,null,null,null,true,null,null,null,null,null,null,null,null,null,"-        zapewnienie zwiększonej powierzchni bytowej w kurniku – obsada nie większa niż 7 szt./m2 powierzchni użytkowej podłogi;"]
[null,null,"II.8.2.","W ramach dobrostanu kur niosek:",null,null,null,null,null,null,null,null,null,null,null,null,null,true,null,null,null,null,null,null,null,null,null,"-        zapewnienie zwiększonej dostępności gniazd: w przypadku stosowania gniazd pojedynczych – nie więcej niż 5 kur niosek/gniazdo, a w przypadku gniazd grupowych – nie więcej niż 96 kur niosek/m2 powierzchni gniazda;"]
[null,null,null,{"$f":"IF(R9=TRUE,$S$15,$T$15)","v":"☐"}," w gospodarstwie nie przeprowadza się zabiegu przycinania dziobów;",null,null,null,null,null,null,null,null,null,null,null,null,false,null,null,null,null,null,null,"Uzgodnienia z MRiRW w dniu 14.03.23",null,null,"-        zapewnienie grzędy o długości min. 0,2 m/kurę nioskę;"]
[null,null,null,{"$f":"IF(R10=TRUE,$S$15,$T$15)","v":"☐"}," zapewnienie utrzymywania bez klatek na ściółce;",null,null,null,null,null,null,null,null,null,null,null,null,false,null,null,null,null,null,null,null,null,null,"-        zapewnienie stałego dostępu do materiałów lub przedmiotów absorbujących uwagę o jakości niewywierającej szkodliwego wpływu na zdrowie."]
[null,null,null,{"$f":"IF(R11=TRUE,$S$15,$T$15)","v":"☐"}," zapewnienie stałego dostępu do materiałów lub przedmiotów absorbujących uwagę o jakości niewywierającej szkodliwego wpływu na ich zdrowie.",null,null,null,null,null,null,null,null,null,null,null,null,false]
[]
[null,null,null,null,null,null,null,null,null,null,null,null,null,null,null,null,null,false,"☒","☐"]
[null,null,null,null,null,null,null,null,null,null,null,null,null,null,null,null,null,null,"☒","☐"]
[null,null,{"$f":"IF(R15=TRUE,$S$15,$T$15)","v":"☒"},"Do planu poprawy dobrostanu zwierząt dołączono szkic/e obiektów ze wskazanymi powierzchniami na których utrzymywane są KURY NIOSKI objęte podwyższonymi wymogami  Dobrostan kur niosek",null,null,null,null,null,null,null,null,null,null,null,null,null,true,"☒","☐"]
[null,null,"Liczba posiadanych w gospodarstwie stanowisk zgodnie z powszechnie obowiązującymi przepisami: "]
[]
[]
[null,null,null,"(miejscowość i data)",null,null,"(czytelny podpis rolnika)",null,null,null,"(czytelny podpis doradcy)"]
[null,null,"II.8.3.","Podwyższone wymogi dla kur niosek"]
[]
[null,null,null,"Numer zakładu drobiu /Nazwa obiektu - \n sekcja (hala) kur niosek",null,"Obsada - powierzchnia bytowa w kurniku ",null,null,"Gniazda",null,null,null,"Grzędy",null,"Maksy-\nmalna liczba kur niosek",null,null,null,"Wymogi obowiązujące w dobrostanie "]
[null,null,null,null,null,"długość","szerokość","powierzch\n-nia","Rodzaj gniazd","długość","szerokość","liczba","długość grzędy","ilość grzęd",null,null,null,null,"Pow [szt./m²]","Gn. Poj  [szt./gniazdo]","Gn. Grp niosek/m2","Gęrz. m/szt."]
[null,null,null,null,null,"m","m","m2",null,"m","m","szt","m","szt","szt",null,null,null,{"$f":"Kury_nioski!G8","v":7},{"$f":"Kury_nioski!G9","v":5},{"$f":"Kury_nioski!G10","v":96},{"$f":"Kury_nioski!G11","v":0.2}]
[null,null,null,null,null,null,null,{"$f":"F25*G25","v":0},null,null,null,null,null,null,{"$f":"MIN(S25:V25)","v":0},null,null,{"$f":"SUM(F25:M25)+V25","v":0},{"$f":"$S$24*H25","v":0},{"$f":"IF(I25=\"pojedyncze\",L25*$T$24,\"-\")","v":"-"},{"$f":"IF(I25=\"grupowe\",J25*K25*L25*$U$24,\"-\")","v":"-"},{"$f":"(M25*N25)/$V$24","v":0},{"$f":"IFERROR(MATCH(D25,Nr_stad!$U$8:$U$60,0),0)","v":0}]
[null,null,null,null,null,null,null,{"$f":"F26*G26","v":0},null,null,null,null,null,null,{"$f":"MIN(S26:V26)","v":0},null,null,{"$f":"SUM(F26:M26)+V26","v":0},{"$f":"$S$24*H26","v":0},{"$f":"IF(I26=\"pojedyncze\",L26*$T$24,\"-\")","v":"-"},{"$f":"IF(I26=\"grupowe\",J26*K26*L26*$U$24,\"-\")","v":"-"},{"$f":"(M26*N26)/$V$24","v":0},{"$f":"IFERROR(MATCH(D26,Nr_stad!$U$8:$U$60,0),0)","v":0}]
[null,null,null,null,null,null,null,0,null,null,null,null,null,null,0,null,null,0,0,"-","-",0,{"$f":"IFERROR(MATCH(D27,Nr_stad!$U$8:$U$60,0),0)","v":0}]
[null,null,null,null,null,null,null,0,null,null,null,null,null,null,0,null,null,0,0,"-","-",0,{"$f":"IFERROR(MATCH(D28,Nr_stad!$U$8:$U$60,0),0)","v":0}]
[null,null,null,null,null,null,null,0,null,null,null,null,null,null,0,null,null,0,0,"-","-",0,{"$f":"IFERROR(MATCH(D29,Nr_stad!$U$8:$U$60,0),0)","v":0}]
[null,null,null,null,null,null,null,0,null,null,null,null,null,null,0,null,null,0,0,"-","-",0,{"$f":"IFERROR(MATCH(D30,Nr_stad!$U$8:$U$60,0),0)","v":0}]
[null,null,null,null,null,null,null,0,null,null,null,null,null,null,0,null,null,0,0,"-","-",0,{"$f":"IFERROR(MATCH(D31,Nr_stad!$U$8:$U$60,0),0)","v":0}]
[null,null,null,null,null,null,null,0,null,null,null,null,null,null,0,null,null,0,0,"-","-",0,{"$f":"IFERROR(MATCH(D32,Nr_stad!$U$8:$U$60,0),0)","v":0}]
[null,null,null,null,null,null,null,0,null,null,null,null,null,null,0,null,null,0,0,"-","-",0,{"$f":"IFERROR(MATCH(D33,Nr_stad!$U$8:$U$60,0),0)","v":0}]
[null,null,null,null,null,null,null,0,null,null,null,null,null,null,0,null,null,0,0,"-","-",0,{"$f":"IFERROR(MATCH(D34,Nr_stad!$U$8:$U$60,0),0)","v":0}]
[null,null,null,null,null,null,null,0,null,null,null,null,null,null,0,null,null,0,0,"-","-",0,{"$f":"IFERROR(MATCH(D35,Nr_stad!$U$8:$U$60,0),0)","v":0}]
[null,null,null,null,null,null,null,0,null,null,null,null,null,null,0,null,null,0,0,"-","-",0,{"$f":"IFERROR(MATCH(D36,Nr_stad!$U$8:$U$60,0),0)","v":0}]
[null,null,null,null,null,null,null,0,null,null,null,null,null,null,0,null,null,0,0,"-","-",0,{"$f":"IFERROR(MATCH(D37,Nr_stad!$U$8:$U$60,0),0)","v":0}]
[null,null,null,null,null,null,null,0,null,null,null,null,null,null,0,null,null,0,0,"-","-",0,{"$f":"IFERROR(MATCH(D38,Nr_stad!$U$8:$U$60,0),0)","v":0}]
[null,null,null,null,null,null,null,0,null,null,null,null,null,null,0,null,null,0,0,"-","-",0,{"$f":"IFERROR(MATCH(D39,Nr_stad!$U$8:$U$60,0),0)","v":0}]
[null,null,null,null,null,null,null,{"$f":"F40*G40","v":0},null,null,null,null,null,null,{"$f":"MIN(S40:V40)","v":0},null,null,0,0,"-","-",0,{"$f":"IFERROR(MATCH(D40,Nr_stad!$U$8:$U$60,0),0)","v":0}]
[null,null,null,null,null,null,null,{"$f":"F41*G41","v":0},null,null,null,null,null,null,0,null,null,0,0,"-","-",0,{"$f":"IFERROR(MATCH(D41,Nr_stad!$U$8:$U$60,0),0)","v":0}]
[null,null,null,null,null,null,null,0,null,null,null,null,null,null,0,null,null,0,0,"-","-",0,{"$f":"IFERROR(MATCH(D42,Nr_stad!$U$8:$U$60,0),0)","v":0}]
[null,null,null,null,null,null,null,0,null,null,null,null,null,null,0,null,null,0,0,"-","-",0,{"$f":"IFERROR(MATCH(D43,Nr_stad!$U$8:$U$60,0),0)","v":0}]
[null,null,null,null,null,null,null,0,null,null,null,null,null,null,0,null,null,0,0,"-","-",0,{"$f":"IFERROR(MATCH(D44,Nr_stad!$U$8:$U$60,0),0)","v":0}]
[null,null,null,null,null,null,null,0,null,null,null,null,null,null,0,null,null,0,0,"-","-",0,{"$f":"IFERROR(MATCH(D45,Nr_stad!$U$8:$U$60,0),0)","v":0}]
[null,null,null,null,null,null,null,0,null,null,null,null,null,null,0,null,null,0,0,"-","-",0,{"$f":"IFERROR(MATCH(D46,Nr_stad!$U$8:$U$60,0),0)","v":0}]
[null,null,null,null,null,null,null,0,null,null,null,null,null,null,0,null,null,0,0,"-","-",0,{"$f":"IFERROR(MATCH(D47,Nr_stad!$U$8:$U$60,0),0)","v":0}]
[null,null,null,null,null,null,null,0,null,null,null,null,null,null,0,null,null,0,0,"-","-",0,{"$f":"IFERROR(MATCH(D48,Nr_stad!$U$8:$U$60,0),0)","v":0}]
[null,null,null,null,null,null,null,0,null,null,null,null,null,null,0,null,null,0,0,"-","-",0,{"$f":"IFERROR(MATCH(D49,Nr_stad!$U$8:$U$60,0),0)","v":0}]
[null,null,null,null,null,null,null,0,null,null,null,null,null,null,0,null,null,0,0,"-","-",0,{"$f":"IFERROR(MATCH(D50,Nr_stad!$U$8:$U$60,0),0)","v":0}]
[null,null,null,null,null,null,null,0,null,null,null,null,null,null,0,null,null,0,0,"-","-",0,{"$f":"IFERROR(MATCH(D51,Nr_stad!$U$8:$U$60,0),0)","v":0}]
[null,null,null,null,null,null,null,0,null,null,null,null,null,null,0,null,null,0,0,"-","-",0,{"$f":"IFERROR(MATCH(D52,Nr_stad!$U$8:$U$60,0),0)","v":0}]
[null,null,null,null,null,null,null,0,null,null,null,null,null,null,0,null,null,0,0,"-","-",0,{"$f":"IFERROR(MATCH(D53,Nr_stad!$U$8:$U$60,0),0)","v":0}]
[null,null,null,null,null,null,null,0,null,null,null,null,null,null,0,null,null,0,0,"-","-",0,{"$f":"IFERROR(MATCH(D54,Nr_stad!$U$8:$U$60,0),0)","v":0}]
[null,null,null,null,null,null,null,0,null,null,null,null,null,null,0,null,null,0,0,"-","-",0,{"$f":"IFERROR(MATCH(D55,Nr_stad!$U$8:$U$60,0),0)","v":0}]
[null,null,null,null,null,null,null,0,null,null,null,null,null,null,0,null,null,0,0,"-","-",0,{"$f":"IFERROR(MATCH(D56,Nr_stad!$U$8:$U$60,0),0)","v":0}]
[null,null,null,null,null,null,null,0,null,null,null,null,null,null,0,null,null,0,0,"-","-",0,{"$f":"IFERROR(MATCH(D57,Nr_stad!$U$8:$U$60,0),0)","v":0}]
[null,null,null,null,null,null,null,0,null,null,null,null,null,null,0,null,null,0,0,"-","-",0,{"$f":"IFERROR(MATCH(D58,Nr_stad!$U$8:$U$60,0),0)","v":0}]
[null,null,null,null,null,null,null,0,null,null,null,null,null,null,0,null,null,0,0,"-","-",0,{"$f":"IFERROR(MATCH(D59,Nr_stad!$U$8:$U$60,0),0)","v":0}]
[null,null,null,null,null,null,null,0,null,null,null,null,null,null,0,null,null,0,0,"-","-",0,{"$f":"IFERROR(MATCH(D60,Nr_stad!$U$8:$U$60,0),0)","v":0}]
[null,null,null,null,null,null,null,0,null,null,null,null,null,null,0,null,null,0,0,"-","-",0,{"$f":"IFERROR(MATCH(D61,Nr_stad!$U$8:$U$60,0),0)","v":0}]
[null,null,null,null,null,null,null,0,null,null,null,null,null,null,0,null,null,0,0,"-","-",0,{"$f":"IFERROR(MATCH(D62,Nr_stad!$U$8:$U$60,0),0)","v":0}]
[null,null,null,null,null,null,null,0,null,null,null,null,null,null,0,null,null,0,0,"-","-",0,{"$f":"IFERROR(MATCH(D63,Nr_stad!$U$8:$U$60,0),0)","v":0}]
[null,null,null,null,null,null,null,0,null,null,null,null,null,null,0,null,null,0,0,"-","-",0,{"$f":"IFERROR(MATCH(D64,Nr_stad!$U$8:$U$60,0),0)","v":0}]
[null,null,null,null,null,null,null,0,null,null,null,null,null,null,0,null,null,0,0,"-","-",0,{"$f":"IFERROR(MATCH(D65,Nr_stad!$U$8:$U$60,0),0)","v":0}]
[null,null,null,null,null,null,null,0,null,null,null,null,null,null,0,null,null,0,0,"-","-",0,{"$f":"IFERROR(MATCH(D66,Nr_stad!$U$8:$U$60,0),0)","v":0}]
[null,null,null,null,null,null,null,0,null,null,null,null,null,null,0,null,null,0,0,"-","-",0,{"$f":"IFERROR(MATCH(D67,Nr_stad!$U$8:$U$60,0),0)","v":0}]
[null,null,null,null,null,null,null,0,null,null,null,null,null,null,0,null,null,0,0,"-","-",0,{"$f":"IFERROR(MATCH(D68,Nr_stad!$U$8:$U$60,0),0)","v":0}]
[null,null,null,null,null,null,null,0,null,null,null,null,null,null,0,null,null,0,0,"-","-",0,{"$f":"IFERROR(MATCH(D69,Nr_stad!$U$8:$U$60,0),0)","v":0}]
[null,null,null,null,null,null,null,0,null,null,null,null,null,null,0,null,null,0,0,"-","-",0,{"$f":"IFERROR(MATCH(D70,Nr_stad!$U$8:$U$60,0),0)","v":0}]
[null,null,null,null,null,null,null,0,null,null,null,null,null,null,0,null,null,0,0,"-","-",0,{"$f":"IFERROR(MATCH(D71,Nr_stad!$U$8:$U$60,0),0)","v":0}]
[null,null,null,null,null,null,null,0,null,null,null,null,null,null,0,null,null,0,0,"-","-",0,{"$f":"IFERROR(MATCH(D72,Nr_stad!$U$8:$U$60,0),0)","v":0}]
[null,null,null,null,null,null,null,0,null,null,null,null,null,null,0,null,null,0,0,"-","-",0,{"$f":"IFERROR(MATCH(D73,Nr_stad!$U$8:$U$60,0),0)","v":0}]
[null,null,null,null,null,null,null,0,null,null,null,null,null,null,0,null,null,0,0,"-","-",0,{"$f":"IFERROR(MATCH(D74,Nr_stad!$U$8:$U$60,0),0)","v":0}]
[null,null,null,null,null,null,null,0,null,null,null,null,null,null,0,null,null,0,0,"-","-",0,{"$f":"IFERROR(MATCH(D75,Nr_stad!$U$8:$U$60,0),0)","v":0}]
[null,null,null,null,null,null,null,0,null,null,null,null,null,null,0,null,null,0,0,"-","-",0,{"$f":"IFERROR(MATCH(D76,Nr_stad!$U$8:$U$60,0),0)","v":0}]
[null,null,null,null,null,null,null,0,null,null,null,null,null,null,0,null,null,0,0,"-","-",0,{"$f":"IFERROR(MATCH(D77,Nr_stad!$U$8:$U$60,0),0)","v":0}]
[null,null,null,null,null,null,null,0,null,null,null,null,null,null,0,null,null,0,0,"-","-",0,{"$f":"IFERROR(MATCH(D78,Nr_stad!$U$8:$U$60,0),0)","v":0}]
[null,null,null,null,null,null,null,0,null,null,null,null,null,null,0,null,null,0,0,"-","-",0,{"$f":"IFERROR(MATCH(D79,Nr_stad!$U$8:$U$60,0),0)","v":0}]
[null,null,null,null,null,null,null,0,null,null,null,null,null,null,0,null,null,0,0,"-","-",0,{"$f":"IFERROR(MATCH(D80,Nr_stad!$U$8:$U$60,0),0)","v":0}]
[null,null,null,null,null,null,null,0,null,null,null,null,null,null,0,null,null,0,0,"-","-",0,{"$f":"IFERROR(MATCH(D81,Nr_stad!$U$8:$U$60,0),0)","v":0}]
[null,null,null,null,null,null,null,0,null,null,null,null,null,null,0,null,null,0,0,"-","-",0,{"$f":"IFERROR(MATCH(D82,Nr_stad!$U$8:$U$60,0),0)","v":0}]
[null,null,null,null,null,null,null,0,null,null,null,null,null,null,0,null,null,0,0,"-","-",0,{"$f":"IFERROR(MATCH(D83,Nr_stad!$U$8:$U$60,0),0)","v":0}]
[null,null,null,null,null,null,null,0,null,null,null,null,null,null,0,null,null,0,0,"-","-",0,{"$f":"IFERROR(MATCH(D84,Nr_stad!$U$8:$U$60,0),0)","v":0}]
[null,null,null,null,null,null,null,0,null,null,null,null,null,null,0,null,null,0,0,"-","-",0,{"$f":"IFERROR(MATCH(D85,Nr_stad!$U$8:$U$60,0),0)","v":0}]
[null,null,null,null,null,null,null,0,null,null,null,null,null,null,0,null,null,0,0,"-","-",0,{"$f":"IFERROR(MATCH(D86,Nr_stad!$U$8:$U$60,0),0)","v":0}]
[null,null,null,null,null,null,null,0,null,null,null,null,null,null,0,null,null,0,0,"-","-",0,{"$f":"IFERROR(MATCH(D87,Nr_stad!$U$8:$U$60,0),0)","v":0}]
[null,null,null,null,null,null,null,0,null,null,null,null,null,null,0,null,null,0,0,"-","-",0,{"$f":"IFERROR(MATCH(D88,Nr_stad!$U$8:$U$60,0),0)","v":0}]
[null,null,null,null,null,null,null,0,null,null,null,null,null,null,0,null,null,0,0,"-","-",0,{"$f":"IFERROR(MATCH(D89,Nr_stad!$U$8:$U$60,0),0)","v":0}]
[null,null,null,null,null,null,null,0,null,null,null,null,null,null,0,null,null,{"$f":"SUM(F90:M90)+V90","v":0},{"$f":"$S$24*H90","v":0},{"$f":"IF(I90=\"pojedyncze\",L90*$T$24,\"-\")","v":"-"},{"$f":"IF(I90=\"grupowe\",J90*K90*L90*$U$24,\"-\")","v":"-"},{"$f":"(M90*N90)/$V$24","v":0},{"$f":"IFERROR(MATCH(D90,Nr_stad!$U$8:$U$60,0),0)","v":0}]
[null,null,null,null,null,null,null,0,null,null,null,null,null,null,0,null,null,0,0,"-","-",0,{"$f":"IFERROR(MATCH(D91,Nr_stad!$U$8:$U$60,0),0)","v":0}]
[null,null,null,null,null,null,null,0,null,null,null,null,null,null,0,null,null,0,0,"-","-",0,{"$f":"IFERROR(MATCH(D92,Nr_stad!$U$8:$U$60,0),0)","v":0}]
[null,null,null,null,null,null,null,0,null,null,null,null,null,null,0,null,null,0,0,"-","-",0,{"$f":"IFERROR(MATCH(D93,Nr_stad!$U$8:$U$60,0),0)","v":0}]
[null,null,null,null,null,null,null,0,null,null,null,null,null,null,0,null,null,0,0,"-","-",0,{"$f":"IFERROR(MATCH(D94,Nr_stad!$U$8:$U$60,0),0)","v":0}]
[null,null,null,null,null,null,null,0,null,null,null,null,null,null,0,null,null,0,0,"-","-",0,{"$f":"IFERROR(MATCH(D95,Nr_stad!$U$8:$U$60,0),0)","v":0}]
[null,null,null,null,null,null,null,0,null,null,null,null,null,null,0,null,null,0,0,"-","-",0,{"$f":"IFERROR(MATCH(D96,Nr_stad!$U$8:$U$60,0),0)","v":0}]
[null,null,null,null,null,null,null,0,null,null,null,null,null,null,0,null,null,0,0,"-","-",0,{"$f":"IFERROR(MATCH(D97,Nr_stad!$U$8:$U$60,0),0)","v":0}]
[null,null,null,null,null,null,null,0,null,null,null,null,null,null,0,null,null,0,0,"-","-",0,{"$f":"IFERROR(MATCH(D98,Nr_stad!$U$8:$U$60,0),0)","v":0}]
[null,null,null,null,null,null,null,0,null,null,null,null,null,null,0,null,null,0,0,"-","-",0,{"$f":"IFERROR(MATCH(D99,Nr_stad!$U$8:$U$60,0),0)","v":0}]
[null,null,null,null,null,null,null,0,null,null,null,null,null,null,0,null,null,0,0,"-","-",0,{"$f":"IFERROR(MATCH(D100,Nr_stad!$U$8:$U$60,0),0)","v":0}]
[null,null,null,null,null,null,null,0,null,null,null,null,null,null,0,null,null,0,0,"-","-",0,{"$f":"IFERROR(MATCH(D101,Nr_stad!$U$8:$U$60,0),0)","v":0}]
[null,null,null,null,null,null,null,0,null,null,null,null,null,null,0,null,null,0,0,"-","-",0,{"$f":"IFERROR(MATCH(D102,Nr_stad!$U$8:$U$60,0),0)","v":0}]
[null,null,null,null,null,null,null,0,null,null,null,null,null,null,0,null,null,0,0,"-","-",0,{"$f":"IFERROR(MATCH(D103,Nr_stad!$U$8:$U$60,0),0)","v":0}]
[null,null,null,null,null,null,null,0,null,null,null,null,null,null,{"$f":"MIN(S104:V104)","v":0},null,null,0,0,"-","-",0,{"$f":"IFERROR(MATCH(D104,Nr_stad!$U$8:$U$60,0),0)","v":0}]
[null,null,null,null,null,null,null,{"$f":"F105*G105","v":0},null,null,null,null,null,null,0,null,null,0,0,"-","-",0,{"$f":"IFERROR(MATCH(D105,Nr_stad!$U$8:$U$60,0),0)","v":0}]
[null,null,null,null,null,null,null,0,null,null,null,null,null,null,0,null,null,0,0,"-","-",0,{"$f":"IFERROR(MATCH(D106,Nr_stad!$U$8:$U$60,0),0)","v":0}]
[null,null,null,null,null,null,null,0,null,null,null,null,null,null,0,null,null,0,0,"-","-",0,{"$f":"IFERROR(MATCH(D107,Nr_stad!$U$8:$U$60,0),0)","v":0}]
[null,null,null,null,null,null,null,0,null,null,null,null,null,null,0,null,null,0,0,"-","-",0,{"$f":"IFERROR(MATCH(D108,Nr_stad!$U$8:$U$60,0),0)","v":0}]
[null,null,null,null,null,null,null,0,null,null,null,null,null,null,0,null,null,0,0,"-","-",0,{"$f":"IFERROR(MATCH(D109,Nr_stad!$U$8:$U$60,0),0)","v":0}]
[null,null,null,null,null,null,null,0,null,null,null,null,null,null,0,null,null,0,0,"-","-",0,{"$f":"IFERROR(MATCH(D110,Nr_stad!$U$8:$U$60,0),0)","v":0}]
[null,null,null,null,null,null,null,0,null,null,null,null,null,null,0,null,null,0,0,"-","-",0,{"$f":"IFERROR(MATCH(D111,Nr_stad!$U$8:$U$60,0),0)","v":0}]
[null,null,null,null,null,null,null,0,null,null,null,null,null,null,0,null,null,0,0,"-","-",0,{"$f":"IFERROR(MATCH(D112,Nr_stad!$U$8:$U$60,0),0)","v":0}]
[null,null,null,null,null,null,null,0,null,null,null,null,null,null,0,null,null,0,0,"-","-",0,{"$f":"IFERROR(MATCH(D113,Nr_stad!$U$8:$U$60,0),0)","v":0}]
[null,null,null,null,null,null,null,0,null,null,null,null,null,null,0,null,null,0,0,"-","-",0,{"$f":"IFERROR(MATCH(D114,Nr_stad!$U$8:$U$60,0),0)","v":0}]
[null,null,null,null,null,null,null,0,null,null,null,null,null,null,0,null,null,0,0,"-","-",0,{"$f":"IFERROR(MATCH(D115,Nr_stad!$U$8:$U$60,0),0)","v":0}]
[null,null,null,null,null,null,null,0,null,null,null,null,null,null,0,null,null,0,0,"-","-",0,{"$f":"IFERROR(MATCH(D116,Nr_stad!$U$8:$U$60,0),0)","v":0}]
[null,null,null,null,null,null,null,0,null,null,null,null,null,null,0,null,null,0,0,"-","-",0,{"$f":"IFERROR(MATCH(D117,Nr_stad!$U$8:$U$60,0),0)","v":0}]
[null,null,null,null,null,null,null,0,null,null,null,null,null,null,0,null,null,0,0,"-","-",0]
[null,null,null,null,null,null,null,0,null,null,null,null,null,null,0,null,null,0,0,"-","-",0]
[null,null,null,"RAZEM:",null,null,null,{"$f":"SUM(H25:H119)","v":0},null,null,null,null,null,null,{"$f":"SUM(O25:O119)","v":0},null,null,0]

{"sheet":"Kury_nioski","index":31,"n_rows":15,"n_cols":7,"rows_kept":15,"cut":false,"hidden":true,"merged":[[2,2,2,6],[3,2,3,6],[4,2,4,6],[11,1,11,6]]}
[]
[null,null,"Kury nioski "]
[null,"-"," zakaz przycinania dziobów;"]
[null,"-"," zapewnienie utrzymania bez klatek na ściółce;"]
[null,"-"," zapewnienie stałego dostępu do materiałów lub przedmiotów absorbujących uwagę o jakości niewywierającej szkodliwego wpływu na zdrowie."]
[]
[null,"Lp","Wyszczególnienie","warunek\nmax/min","jed.","Obowiązujące normy prawne*","Wymogi obowiązujące w dobrostanie "]
[null,1,"Obsada","max","szt./m2",9,7]
[null,2,"Gniazdo pojedyncze","max","niosek/gniazdo",7,5]
[null,3,"Gniazdo grupowe","max","niosek/m2",120,96]
[null,4,"Grzęda","min","m x liczba kur niosek ",0.15,0.2]
[null,"(*) Rozporządzenie MRiRW z dnia 15 lutego 2010 r. w sprawie wymagań i sposobu postępowania przy utrzymywaniu gatunków zwierząt gospodarskich, dla których normy ochrony zostały określone w przepisach Unii Europejskiej (Dz. U. Nr 56, poz. 344, z późn. zm.)."]
[]
[null,null,"pojedyncze"]
[null,null,"grupowe"]

{"sheet":"Brojlery_kur_pow","index":32,"n_rows":120,"n_cols":28,"rows_kept":120,"cut":false,"hidden":false,"merged":[[3,3,3,7],[116,3,116,4],[111,3,111,4],[112,3,112,4],[113,3,113,4],[114,3,114,4],[115,3,115,4],[106,3,106,4],[107,3,107,4],[108,3,108,4],[109,3,109,4],[110,3,110,4],[101,3,101,4],[102,3,102,4],[103,3,103,4],[104,3,104,4],[105,3,105,4],[96,3,96,4],[97,3,97,4],[98,3,98,4],[99,3,99,4],[100,3,100,4],[91,3,91,4],[92,3,92,4],[93,3,93,4],[94,3,94,4],[95,3,95,4],[86,3,86,4],[87,3,87,4],[88,3,88,4],[89,3,89,4],[90,3,90,4],[81,3,81,4],[82,3,82,4],[83,3,83,4],[84,3,84,4],[85,3,85,4],[65,3,65,4],[76,3,76,4],[77,3,77,4],[78,3,78,4],[79,3,79,4],[80,3,80,4],[71,3,71,4],[72,3,72,4],[73,3,73,4],[74,3,74,4],[75,3,75,4],[12,3,12,4],[12,6,12,8],[12,10,12,12],[21,12,21,13],[21,14,22,14],[19,3,19,9],[57,3,57,4],[58,3,58,4],[14,4,14,14],[18,3,18,4],[18,6,18,8],[18,10,18,12],[16,2,16,11],[16,12,16,13],[51,3,51,4],[52,3,52,4],[53,3,53,4],[54,3,54,4],[55,3,55,4],[4,3,4,12],[8,3,8,12],[10,4,10,12],[9,4,9,13],[5,3,5,13],[6,3,6,14],[7,3,7,4],[7,6,7,8],[7,10,7,12],[119,3,119,7],[24,3,24,4],[25,3,25,4],[21,3,23,4],[21,5,21,7],[28,3,28,4],[29,3,29,4],[30,3,30,4],[31,3,31,4],[39,3,39,4],[40,3,40,4],[41,3,41,4],[42,3,42,4],[43,3,43,4],[44,3,44,4],[45,3,45,4],[117,3,117,4],[46,3,46,4],[47,3,47,4],[48,3,48,4],[49,3,49,4],[50,3,50,4],[56,3,56,4],[59,3,59,4],[118,3,118,6],[20,20,20,23],[38,3,38,4],[21,8,22,8],[21,9,21,10],[21,11,22,11],[32,3,32,4],[33,3,33,4],[34,3,34,4],[35,3,35,4],[36,3,36,4],[37,3,37,4],[26,3,26,4],[27,3,27,4],[60,3,60,4],[66,3,66,4],[67,3,67,4],[68,3,68,4],[69,3,69,4],[70,3,70,4],[61,3,61,4],[62,3,62,4],[63,3,63,4],[64,3,64,4]]}
[null,null,"Uwaga !!! Po wydrukowaniu uzupełnić ręcznie Oświadczenie i czytelnie podpisać",null,null,null,null,null,null,null,null,null,"POWRÓT",null,null,null,null,null,null,null,null,null,null,null,null,null,"UWAGI","Uwagi"]
[]
[null,null,"II. Część szczegółowa  "]
[null,null,"II.9.","Dobrostan kurcząt brojlerów"]
[null,null,"II.9.1.","Wymagania w ramach dobrostanu  kurcząt brojlerów"]
[null,null,"II.9.2.","Informacja o stadzie kurcząt brojlerów",null,null,null,null,null,null,null,null,null,null,null,null,null,null,null,false]
[null,null,null,"System utrzymywania i kierunek produkcji kurcząt brojlerów w gospodarstwie jest zgodny z klasyfikacją przyjętą w rozporządzeniu Ministra Rolnictwa i Rozwoju Wsi z dnia 23 grudnia 2022 r. w sprawie szczegółowego zakresu informacji zawartych w komputerowej bazie danych (Dz.U. z 2023 r. poz. 15).",null,null,null,null,null,null,null,null,null,null,null,null,null,null,null,null,null,null,null,null,null,null,"Uzgodnienia z MRiRW w dniu 14.03.23"]
[null,null,null,"(miejscowość i data)",null,null,"(czytelny podpis rolnika)",null,null,null,"(czytelny podpis doradcy)",null,null,null,null,null,null,null,null,true]
[null,null,"II.9.3.","W ramach dobrostanu  kurcząt brojlerów"]
[null,null,null,{"$f":"IF(T10=TRUE,$U$15,$V$15)","v":"☐"}," Zapewnienie co najmniej 6 godzin nieprzerwanej ciemności podczas doby;",null,null,null,null,null,null,null,null,null,null,null,null,null,null,{"$f":"T6","v":false}]
[null,null,null,{"$f":"IF(T11=TRUE,$U$15,$V$15)","v":"☐"},"Zapewnienie stałego dostępu do materiałów lub przedmiotów absorbujących uwagę, nieszkodliwych dla ich zdrowia;",null,null,null,null,null,null,null,null,null,null,null,null,null,null,false]
[]
[null,null,null,null,null,null,null,null,null,null,null,null,null,null,null,null,null,null,null,false,"☒","☐"]
[null,null,null,null,null,null,null,null,null,null,null,null,null,null,null,null,null,null,null,null,"☒","☐"]
[null,null,null,{"$f":"IF(T15=TRUE,U15,V15)","v":"☐"},"Do planu poprawy dobrostanu zwierząt dołączono szkic/e obiektów ze wskazanymi powierzchniami na których utrzymywane są kurczęta brojlery objęte podwyższonymi wymogami  Dobrostan kurcząt brojlerów.",null,null,null,null,null,null,null,null,null,null,null,null,null,null,false,"☒","☐"]
[]
[null,null,"Liczba posiadanych w gospodarstwie stanowisk zgodnie z powszechnie obowiązującymi przepisami: "]
[]
[null,null,null,"(miejscowość i data)",null,null,"(czytelny podpis rolnika)",null,null,null,"(czytelny podpis doradcy)"]
[null,null,"II.9.4.","Podwyższone wymogi dla kurcząt brojlerów"]
[null,null,null,null,null,null,null,null,null,null,null,null,null,null,null,null,null,null,null,null,"Wymogi obowiązujące w dobrostanie "]
[null,null,null,"Numer zakładu drobiu / \nNazwa obiektu /\n sekcja (hala) kurcząt brojlerów",null,"Obsada - powierzchnia bytowa w kurniku ",null,null,"Maksy-\nmalna liczba przed I przebiórką","I przebiórka brojlerów",null,"Maksy-\nmalna liczba przed II przebiórką","II przebiórka brojlerów",null,"Maksy-\nmalna liczba na koniec cyklu","Koniec cyklu",null,null,null,null,null,"I przeb","II przeb","koniec"]
[null,null,null,null,null,"długość","szerokość","powierzch\n-nia",null,"Ilość\nmin.","średnia masa",null,"Ilość\nmin.","średnia masa",null,"średnia masa",null,null,null,null,"Pow [kg./m²]","Obsada\nszt./m2","Obsada\nszt./m2","Obsada\nszt./m2","Obsada\nmax"]
[null,null,null,null,null,"m","m","m2","szt","szt.","kg","szt","szt.","kg","szt","kg",null,null,null,null,{"$f":"Brojlery_kur!G6","v":30},{"$f":"Brojlery_kur!G7","v":20},20,20,20]
[null,null,null,null,null,null,null,{"$f":"F25*G25","v":0},{"$f":"IFERROR(IF((U25/K25)>Y25,Y25,U25/K25),\"-\")","v":"-"},{"$f":"IFERROR(IF(L25=\"-\",I25-O25,I25-L25),\"-\")","v":"-"},null,{"$f":"IFERROR(IF(U25/N25>Y25,Y25,U25/N25),\"-\")","v":"-"},{"$f":"IFERROR(L25-O25,\"-\")","v":"-"},null,{"$f":"IFERROR(IF(U25/P25>Y25,Y25,U25/P25),\"-\")","v":"-"},null,null,null,null,{"$f":"IFERROR(SUM(F25:M25)+X25,0)","v":0},{"$f":"$U$24*H25","v":0},{"$f":"I25/H25","v":{"$error":"#VALUE!"}},{"$f":"L25/H25","v":{"$error":"#VALUE!"}},{"$f":"O25/H25","v":{"$error":"#VALUE!"}},{"$f":"$V$24*H25","v":0},{"$f":"IFERROR(MATCH(D25,Nr_stad!$U$8:$U$60,0),0)","v":0}]
[null,null,null,null,null,null,null,0,{"$f":"IFERROR(IF((U26/K26)>Y26,Y26,U26/K26),\"-\")","v":"-"},{"$f":"IFERROR(IF(L26=\"-\",I26-O26,I26-L26),\"-\")","v":"-"},null,{"$f":"IFERROR(IF(U26/N26>Y26,Y26,U26/N26),\"-\")","v":"-"},{"$f":"IFERROR(L26-O26,\"-\")","v":"-"},null,{"$f":"IFERROR(IF(U26/P26>Y26,Y26,U26/P26),\"-\")","v":"-"},null,null,null,null,{"$f":"IFERROR(SUM(F26:M26)+X26,0)","v":0},0,{"$f":"I26/H26","v":{"$error":"#VALUE!"}},{"$f":"L26/H26","v":{"$error":"#VALUE!"}},{"$f":"O26/H26","v":{"$error":"#VALUE!"}},{"$f":"$V$24*H26","v":0},{"$f":"IFERROR(MATCH(D26,Nr_stad!$U$8:$U$60,0),0)","v":0}]
[null,null,null,null,null,null,null,0,"-","-",null,"-","-",null,"-",null,null,null,null,0,0,{"$error":"#VALUE!"},{"$error":"#VALUE!"},{"$error":"#VALUE!"},0,{"$f":"IFERROR(MATCH(D27,Nr_stad!$U$8:$U$60,0),0)","v":0}]
[null,null,null,null,null,null,null,0,"-","-",null,"-","-",null,"-",null,null,null,null,0,0,{"$error":"#VALUE!"},{"$error":"#VALUE!"},{"$error":"#VALUE!"},0,{"$f":"IFERROR(MATCH(D28,Nr_stad!$U$8:$U$60,0),0)","v":0}]
[null,null,null,null,null,null,null,0,"-","-",null,"-","-",null,"-",null,null,null,null,0,0,{"$error":"#VALUE!"},{"$error":"#VALUE!"},{"$error":"#VALUE!"},0,{"$f":"IFERROR(MATCH(D29,Nr_stad!$U$8:$U$60,0),0)","v":0}]
[null,null,null,null,null,null,null,0,"-","-",null,"-","-",null,"-",null,null,null,null,0,0,{"$error":"#VALUE!"},{"$error":"#VALUE!"},{"$error":"#VALUE!"},0,{"$f":"IFERROR(MATCH(D30,Nr_stad!$U$8:$U$60,0),0)","v":0}]
[null,null,null,null,null,null,null,0,"-","-",null,"-","-",null,"-",null,null,null,null,0,0,{"$error":"#VALUE!"},{"$error":"#VALUE!"},{"$error":"#VALUE!"},0,{"$f":"IFERROR(MATCH(D31,Nr_stad!$U$8:$U$60,0),0)","v":0}]
[null,null,null,null,null,null,null,0,"-","-",null,"-","-",null,"-",null,null,null,null,0,0,{"$error":"#VALUE!"},{"$error":"#VALUE!"},{"$error":"#VALUE!"},0,{"$f":"IFERROR(MATCH(D32,Nr_stad!$U$8:$U$60,0),0)","v":0}]
[null,null,null,null,null,null,null,0,"-","-",null,"-","-",null,"-",null,null,null,null,0,0,{"$error":"#VALUE!"},{"$error":"#VALUE!"},{"$error":"#VALUE!"},0,{"$f":"IFERROR(MATCH(D33,Nr_stad!$U$8:$U$60,0),0)","v":0}]
[null,null,null,null,null,null,null,0,"-","-",null,"-","-",null,"-",null,null,null,null,0,0,{"$error":"#VALUE!"},{"$error":"#VALUE!"},{"$error":"#VALUE!"},0,{"$f":"IFERROR(MATCH(D34,Nr_stad!$U$8:$U$60,0),0)","v":0}]
[null,null,null,null,null,null,null,0,"-","-",null,"-","-",null,"-",null,null,null,null,0,0,{"$error":"#VALUE!"},{"$error":"#VALUE!"},{"$error":"#VALUE!"},0,{"$f":"IFERROR(MATCH(D35,Nr_stad!$U$8:$U$60,0),0)","v":0}]
[null,null,null,null,null,null,null,0,"-","-",null,"-","-",null,"-",null,null,null,null,0,0,{"$error":"#VALUE!"},{"$error":"#VALUE!"},{"$error":"#VALUE!"},0,{"$f":"IFERROR(MATCH(D36,Nr_stad!$U$8:$U$60,0),0)","v":0}]
[null,null,null,null,null,null,null,0,"-","-",null,"-","-",null,"-",null,null,null,null,0,0,{"$error":"#VALUE!"},{"$error":"#VALUE!"},{"$error":"#VALUE!"},0,{"$f":"IFERROR(MATCH(D37,Nr_stad!$U$8:$U$60,0),0)","v":0}]
[null,null,null,null,null,null,null,0,"-","-",null,"-","-",null,"-",null,null,null,null,0,0,{"$error":"#VALUE!"},{"$error":"#VALUE!"},{"$error":"#VALUE!"},0,{"$f":"IFERROR(MATCH(D38,Nr_stad!$U$8:$U$60,0),0)","v":0}]
[null,null,null,null,null,null,null,0,"-","-",null,"-","-",null,"-",null,null,null,null,0,0,{"$error":"#VALUE!"},{"$error":"#VALUE!"},{"$error":"#VALUE!"},0,{"$f":"IFERROR(MATCH(D39,Nr_stad!$U$8:$U$60,0),0)","v":0}]
[null,null,null,null,null,null,null,{"$f":"F40*G40","v":0},{"$f":"IFERROR(IF((U40/K40)>Y40,Y40,U40/K40),\"-\")","v":"-"},{"$f":"IFERROR(IF(L40=\"-\",I40-O40,I40-L40),\"-\")","v":"-"},null,{"$f":"IFERROR(IF(U40/N40>Y40,Y40,U40/N40),\"-\")","v":"-"},{"$f":"IFERROR(L40-O40,\"-\")","v":"-"},null,{"$f":"IFERROR(IF(U40/P40>Y40,Y40,U40/P40),\"-\")","v":"-"},null,null,null,null,{"$f":"IFERROR(SUM(F40:M40)+X40,0)","v":0},{"$f":"$U$24*H40","v":0},{"$f":"I40/H40","v":{"$error":"#VALUE!"}},{"$f":"L40/H40","v":{"$error":"#VALUE!"}},{"$f":"O40/H40","v":{"$error":"#VALUE!"}},{"$f":"$V$24*H40","v":0},{"$f":"IFERROR(MATCH(D40,Nr_stad!$U$8:$U$60,0),0)","v":0}]
[null,null,null,null,null,null,null,0,"-","-",null,"-","-",null,"-",null,null,null,null,0,0,{"$error":"#VALUE!"},{"$error":"#VALUE!"},{"$error":"#VALUE!"},0,{"$f":"IFERROR(MATCH(D41,Nr_stad!$U$8:$U$60,0),0)","v":0}]
[null,null,null,null,null,null,null,0,"-","-",null,"-","-",null,"-",null,null,null,null,0,0,{"$error":"#VALUE!"},{"$error":"#VALUE!"},{"$error":"#VALUE!"},0,{"$f":"IFERROR(MATCH(D42,Nr_stad!$U$8:$U$60,0),0)","v":0}]
[null,null,null,null,null,null,null,0,"-","-",null,"-","-",null,"-",null,null,null,null,0,0,{"$error":"#VALUE!"},{"$error":"#VALUE!"},{"$error":"#VALUE!"},0,{"$f":"IFERROR(MATCH(D43,Nr_stad!$U$8:$U$60,0),0)","v":0}]
[null,null,null,null,null,null,null,0,"-","-",null,"-","-",null,"-",null,null,null,null,0,0,{"$error":"#VALUE!"},{"$error":"#VALUE!"},{"$error":"#VALUE!"},0,{"$f":"IFERROR(MATCH(D44,Nr_stad!$U$8:$U$60,0),0)","v":0}]
[null,null,null,null,null,null,null,0,"-","-",null,"-","-",null,"-",null,null,null,null,0,0,{"$error":"#VALUE!"},{"$error":"#VALUE!"},{"$error":"#VALUE!"},0,{"$f":"IFERROR(MATCH(D45,Nr_stad!$U$8:$U$60,0),0)","v":0}]
[null,null,null,null,null,null,null,0,"-","-",null,"-","-",null,"-",null,null,null,null,0,0,{"$error":"#VALUE!"},{"$error":"#VALUE!"},{"$error":"#VALUE!"},0,{"$f":"IFERROR(MATCH(D46,Nr_stad!$U$8:$U$60,0),0)","v":0}]
[null,null,null,null,null,null,null,0,"-","-",null,"-","-",null,"-",null,null,null,null,0,0,{"$error":"#VALUE!"},{"$error":"#VALUE!"},{"$error":"#VALUE!"},0,{"$f":"IFERROR(MATCH(D47,Nr_stad!$U$8:$U$60,0),0)","v":0}]
[null,null,null,null,null,null,null,0,"-","-",null,"-","-",null,"-",null,null,null,null,0,0,{"$error":"#VALUE!"},{"$error":"#VALUE!"},{"$error":"#VALUE!"},0,{"$f":"IFERROR(MATCH(D48,Nr_stad!$U$8:$U$60,0),0)","v":0}]
[null,null,null,null,null,null,null,0,"-","-",null,"-","-",null,"-",null,null,null,null,0,0,{"$error":"#VALUE!"},{"$error":"#VALUE!"},{"$error":"#VALUE!"},0,{"$f":"IFERROR(MATCH(D49,Nr_stad!$U$8:$U$60,0),0)","v":0}]
[null,null,null,null,null,null,null,0,"-","-",null,"-","-",null,"-",null,null,null,null,0,0,{"$error":"#VALUE!"},{"$error":"#VALUE!"},{"$error":"#VALUE!"},0,{"$f":"IFERROR(MATCH(D50,Nr_stad!$U$8:$U$60,0),0)","v":0}]
[null,null,null,null,null,null,null,0,"-","-",null,"-","-",null,"-",null,null,null,null,0,0,{"$error":"#VALUE!"},{"$error":"#VALUE!"},{"$error":"#VALUE!"},0,{"$f":"IFERROR(MATCH(D51,Nr_stad!$U$8:$U$60,0),0)","v":0}]
[null,null,null,null,null,null,null,0,"-","-",null,"-","-",null,"-",null,null,null,null,0,0,{"$error":"#VALUE!"},{"$error":"#VALUE!"},{"$error":"#VALUE!"},0,{"$f":"IFERROR(MATCH(D52,Nr_stad!$U$8:$U$60,0),0)","v":0}]
[null,null,null,null,null,null,null,0,"-","-",null,"-","-",null,"-",null,null,null,null,0,0,{"$error":"#VALUE!"},{"$error":"#VALUE!"},{"$error":"#VALUE!"},0,{"$f":"IFERROR(MATCH(D53,Nr_stad!$U$8:$U$60,0),0)","v":0}]
[null,null,null,null,null,null,null,0,"-","-",null,"-","-",null,"-",null,null,null,null,0,0,{"$error":"#VALUE!"},{"$error":"#VALUE!"},{"$error":"#VALUE!"},0,{"$f":"IFERROR(MATCH(D54,Nr_stad!$U$8:$U$60,0),0)","v":0}]
[null,null,null,null,null,null,null,0,"-","-",null,"-","-",null,"-",null,null,null,null,0,0,{"$error":"#VALUE!"},{"$error":"#VALUE!"},{"$error":"#VALUE!"},0,{"$f":"IFERROR(MATCH(D55,Nr_stad!$U$8:$U$60,0),0)","v":0}]
[null,null,null,null,null,null,null,0,"-","-",null,"-","-",null,"-",null,null,null,null,0,0,{"$error":"#VALUE!"},{"$error":"#VALUE!"},{"$error":"#VALUE!"},0,{"$f":"IFERROR(MATCH(D56,Nr_stad!$U$8:$U$60,0),0)","v":0}]
[null,null,null,null,null,null,null,0,"-","-",null,"-","-",null,"-",null,null,null,null,0,0,{"$error":"#VALUE!"},{"$error":"#VALUE!"},{"$error":"#VALUE!"},0,{"$f":"IFERROR(MATCH(D57,Nr_stad!$U$8:$U$60,0),0)","v":0}]
[null,null,null,null,null,null,null,0,"-","-",null,"-","-",null,"-",null,null,null,null,0,0,{"$error":"#VALUE!"},{"$error":"#VALUE!"},{"$error":"#VALUE!"},0,{"$f":"IFERROR(MATCH(D58,Nr_stad!$U$8:$U$60,0),0)","v":0}]
[null,null,null,null,null,null,null,0,"-","-",null,"-","-",null,"-",null,null,null,null,0,0,{"$error":"#VALUE!"},{"$error":"#VALUE!"},{"$error":"#VALUE!"},0,{"$f":"IFERROR(MATCH(D59,Nr_stad!$U$8:$U$60,0),0)","v":0}]
[null,null,null,null,null,null,null,0,"-","-",null,"-","-",null,"-",null,null,null,null,0,0,{"$error":"#VALUE!"},{"$error":"#VALUE!"},{"$error":"#VALUE!"},0,{"$f":"IFERROR(MATCH(D60,Nr_stad!$U$8:$U$60,0),0)","v":0}]
[null,null,null,null,null,null,null,0,"-","-",null,"-","-",null,"-",null,null,null,null,0,0,{"$error":"#VALUE!"},{"$error":"#VALUE!"},{"$error":"#VALUE!"},0,{"$f":"IFERROR(MATCH(D61,Nr_stad!$U$8:$U$60,0),0)","v":0}]
[null,null,null,null,null,null,null,0,"-","-",null,"-","-",null,"-",null,null,null,null,0,0,{"$error":"#VALUE!"},{"$error":"#VALUE!"},{"$error":"#VALUE!"},0,{"$f":"IFERROR(MATCH(D62,Nr_stad!$U$8:$U$60,0),0)","v":0}]
[null,null,null,null,null,null,null,0,"-","-",null,"-","-",null,"-",null,null,null,null,0,0,{"$error":"#VALUE!"},{"$error":"#VALUE!"},{"$error":"#VALUE!"},0,{"$f":"IFERROR(MATCH(D63,Nr_stad!$U$8:$U$60,0),0)","v":0}]
[null,null,null,null,null,null,null,0,"-","-",null,"-","-",null,"-",null,null,null,null,0,0,{"$error":"#VALUE!"},{"$error":"#VALUE!"},{"$error":"#VALUE!"},0,{"$f":"IFERROR(MATCH(D64,Nr_stad!$U$8:$U$60,0),0)","v":0}]
[null,null,null,null,null,null,null,0,"-","-",null,"-","-",null,"-",null,null,null,null,0,0,{"$error":"#VALUE!"},{"$error":"#VALUE!"},{"$error":"#VALUE!"},0,{"$f":"IFERROR(MATCH(D65,Nr_stad!$U$8:$U$60,0),0)","v":0}]
[null,null,null,null,null,null,null,0,"-","-",null,"-","-",null,"-",null,null,null,null,0,0,{"$error":"#VALUE!"},{"$error":"#VALUE!"},{"$error":"#VALUE!"},0,{"$f":"IFERROR(MATCH(D66,Nr_stad!$U$8:$U$60,0),0)","v":0}]
[null,null,null,null,null,null,null,0,"-","-",null,"-","-",null,"-",null,null,null,null,0,0,{"$error":"#VALUE!"},{"$error":"#VALUE!"},{"$error":"#VALUE!"},0,{"$f":"IFERROR(MATCH(D67,Nr_stad!$U$8:$U$60,0),0)","v":0}]
[null,null,null,null,null,null,null,0,"-","-",null,"-","-",null,"-",null,null,null,null,0,0,{"$error":"#VALUE!"},{"$error":"#VALUE!"},{"$error":"#VALUE!"},0,{"$f":"IFERROR(MATCH(D68,Nr_stad!$U$8:$U$60,0),0)","v":0}]
[null,null,null,null,null,null,null,0,"-","-",null,"-","-",null,"-",null,null,null,null,0,0,{"$error":"#VALUE!"},{"$error":"#VALUE!"},{"$error":"#VALUE!"},0,{"$f":"IFERROR(MATCH(D69,Nr_stad!$U$8:$U$60,0),0)","v":0}]
[null,null,null,null,null,null,null,0,"-","-",null,"-","-",null,"-",null,null,null,null,0,0,{"$error":"#VALUE!"},{"$error":"#VALUE!"},{"$error":"#VALUE!"},0,{"$f":"IFERROR(MATCH(D70,Nr_stad!$U$8:$U$60,0),0)","v":0}]
[null,null,null,null,null,null,null,0,"-","-",null,"-","-",null,"-",null,null,null,null,0,0,{"$error":"#VALUE!"},{"$error":"#VALUE!"},{"$error":"#VALUE!"},0,{"$f":"IFERROR(MATCH(D71,Nr_stad!$U$8:$U$60,0),0)","v":0}]
[null,null,null,null,null,null,null,0,"-","-",null,"-","-",null,"-",null,null,null,null,0,0,{"$error":"#VALUE!"},{"$error":"#VALUE!"},{"$error":"#VALUE!"},0,{"$f":"IFERROR(MATCH(D72,Nr_stad!$U$8:$U$60,0),0)","v":0}]
[null,null,null,null,null,null,null,0,"-","-",null,"-","-",null,"-",null,null,null,null,0,0,{"$error":"#VALUE!"},{"$error":"#VALUE!"},{"$error":"#VALUE!"},0,{"$f":"IFERROR(MATCH(D73,Nr_stad!$U$8:$U$60,0),0)","v":0}]
[null,null,null,null,null,null,null,0,"-","-",null,"-","-",null,"-",null,null,null,null,0,0,{"$error":"#VALUE!"},{"$error":"#VALUE!"},{"$error":"#VALUE!"},0,{"$f":"IFERROR(MATCH(D74,Nr_stad!$U$8:$U$60,0),0)","v":0}]
[null,null,null,null,null,null,null,0,"-","-",null,"-","-",null,"-",null,null,null,null,0,0,{"$error":"#VALUE!"},{"$error":"#VALUE!"},{"$error":"#VALUE!"},0,{"$f":"IFERROR(MATCH(D75,Nr_stad!$U$8:$U$60,0),0)","v":0}]
[null,null,null,null,null,null,null,0,"-","-",null,"-","-",null,"-",null,null,null,null,0,0,{"$error":"#VALUE!"},{"$error":"#VALUE!"},{"$error":"#VALUE!"},0,{"$f":"IFERROR(MATCH(D76,Nr_stad!$U$8:$U$60,0),0)","v":0}]
[null,null,null,null,null,null,null,0,"-","-",null,"-","-",null,"-",null,null,null,null,0,0,{"$error":"#VALUE!"},{"$error":"#VALUE!"},{"$error":"#VALUE!"},0,{"$f":"IFERROR(MATCH(D77,Nr_stad!$U$8:$U$60,0),0)","v":0}]
[null,null,null,null,null,null,null,0,"-","-",null,"-","-",null,"-",null,null,null,null,0,0,{"$error":"#VALUE!"},{"$error":"#VALUE!"},{"$error":"#VALUE!"},0,{"$f":"IFERROR(MATCH(D78,Nr_stad!$U$8:$U$60,0),0)","v":0}]
[null,null,null,null,null,null,null,0,"-","-",null,"-","-",null,"-",null,null,null,null,0,0,{"$error":"#VALUE!"},{"$error":"#VALUE!"},{"$error":"#VALUE!"},0,{"$f":"IFERROR(MATCH(D79,Nr_stad!$U$8:$U$60,0),0)","v":0}]
[null,null,null,null,null,null,null,0,"-","-",null,"-","-",null,"-",null,null,null,null,0,0,{"$error":"#VALUE!"},{"$error":"#VALUE!"},{"$error":"#VALUE!"},0,{"$f":"IFERROR(MATCH(D80,Nr_stad!$U$8:$U$60,0),0)","v":0}]
[null,null,null,null,null,null,null,0,"-","-",null,"-","-",null,"-",null,null,null,null,0,0,{"$error":"#VALUE!"},{"$error":"#VALUE!"},{"$error":"#VALUE!"},0,{"$f":"IFERROR(MATCH(D81,Nr_stad!$U$8:$U$60,0),0)","v":0}]
[null,null,null,null,null,null,null,0,"-","-",null,"-","-",null,"-",null,null,null,null,0,0,{"$error":"#VALUE!"},{"$error":"#VALUE!"},{"$error":"#VALUE!"},0,{"$f":"IFERROR(MATCH(D82,Nr_stad!$U$8:$U$60,0),0)","v":0}]
[null,null,null,null,null,null,null,0,"-","-",null,"-","-",null,"-",null,null,null,null,0,0,{"$error":"#VALUE!"},{"$error":"#VALUE!"},{"$error":"#VALUE!"},0,{"$f":"IFERROR(MATCH(D83,Nr_stad!$U$8:$U$60,0),0)","v":0}]
[null,null,null,null,null,null,null,0,"-","-",null,"-","-",null,"-",null,null,null,null,0,0,{"$error":"#VALUE!"},{"$error":"#VALUE!"},{"$error":"#VALUE!"},0,{"$f":"IFERROR(MATCH(D84,Nr_stad!$U$8:$U$60,0),0)","v":0}]
[null,null,null,null,null,null,null,0,"-","-",null,"-","-",null,"-",null,null,null,null,0,0,{"$error":"#VALUE!"},{"$error":"#VALUE!"},{"$error":"#VALUE!"},0,{"$f":"IFERROR(MATCH(D85,Nr_stad!$U$8:$U$60,0),0)","v":0}]
[null,null,null,null,null,null,null,0,"-","-",null,"-","-",null,"-",null,null,null,null,0,0,{"$error":"#VALUE!"},{"$error":"#VALUE!"},{"$error":"#VALUE!"},0,{"$f":"IFERROR(MATCH(D86,Nr_stad!$U$8:$U$60,0),0)","v":0}]
[null,null,null,null,null,null,null,0,"-","-",null,"-","-",null,"-",null,null,null,null,0,0,{"$error":"#VALUE!"},{"$error":"#VALUE!"},{"$error":"#VALUE!"},0,{"$f":"IFERROR(MATCH(D87,Nr_stad!$U$8:$U$60,0),0)","v":0}]
[null,null,null,null,null,null,null,0,"-","-",null,"-","-",null,"-",null,null,null,null,0,0,{"$error":"#VALUE!"},{"$error":"#VALUE!"},{"$error":"#VALUE!"},0,{"$f":"IFERROR(MATCH(D88,Nr_stad!$U$8:$U$60,0),0)","v":0}]
[null,null,null,null,null,null,null,0,"-","-",null,"-","-",null,"-",null,null,null,null,0,0,{"$error":"#VALUE!"},{"$error":"#VALUE!"},{"$error":"#VALUE!"},0,{"$f":"IFERROR(MATCH(D89,Nr_stad!$U$8:$U$60,0),0)","v":0}]
[null,null,null,null,null,null,null,0,"-","-",null,"-","-",null,"-",null,null,null,null,0,0,{"$error":"#VALUE!"},{"$error":"#VALUE!"},{"$error":"#VALUE!"},0,{"$f":"IFERROR(MATCH(D90,Nr_stad!$U$8:$U$60,0),0)","v":0}]
[null,null,null,null,null,null,null,0,"-","-",null,"-","-",null,"-",null,null,null,null,0,0,{"$error":"#VALUE!"},{"$error":"#VALUE!"},{"$error":"#VALUE!"},0,{"$f":"IFERROR(MATCH(D91,Nr_stad!$U$8:$U$60,0),0)","v":0}]
[null,null,null,null,null,null,null,0,"-","-",null,"-","-",null,"-",null,null,null,null,0,0,{"$error":"#VALUE!"},{"$error":"#VALUE!"},{"$error":"#VALUE!"},0,{"$f":"IFERROR(MATCH(D92,Nr_stad!$U$8:$U$60,0),0)","v":0}]
[null,null,null,null,null,null,null,0,"-","-",null,"-","-",null,"-",null,null,null,null,0,0,{"$error":"#VALUE!"},{"$error":"#VALUE!"},{"$error":"#VALUE!"},0,{"$f":"IFERROR(MATCH(D93,Nr_stad!$U$8:$U$60,0),0)","v":0}]
[null,null,null,null,null,null,null,0,"-","-",null,"-","-",null,"-",null,null,null,null,0,0,{"$error":"#VALUE!"},{"$error":"#VALUE!"},{"$error":"#VALUE!"},0,{"$f":"IFERROR(MATCH(D94,Nr_stad!$U$8:$U$60,0),0)","v":0}]
[null,null,null,null,null,null,null,0,"-","-",null,"-","-",null,"-",null,null,null,null,0,0,{"$error":"#VALUE!"},{"$error":"#VALUE!"},{"$error":"#VALUE!"},0,{"$f":"IFERROR(MATCH(D95,Nr_stad!$U$8:$U$60,0),0)","v":0}]
[null,null,null,null,null,null,null,0,"-","-",null,"-","-",null,"-",null,null,null,null,0,0,{"$error":"#VALUE!"},{"$error":"#VALUE!"},{"$error":"#VALUE!"},0,{"$f":"IFERROR(MATCH(D96,Nr_stad!$U$8:$U$60,0),0)","v":0}]
[null,null,null,null,null,null,null,0,"-","-",null,"-","-",null,"-",null,null,null,null,0,0,{"$error":"#VALUE!"},{"$error":"#VALUE!"},{"$error":"#VALUE!"},0,{"$f":"IFERROR(MATCH(D97,Nr_stad!$U$8:$U$60,0),0)","v":0}]
[null,null,null,null,null,null,null,0,"-","-",null,"-","-",null,"-",null,null,null,null,0,0,{"$error":"#VALUE!"},{"$error":"#VALUE!"},{"$error":"#VALUE!"},0,{"$f":"IFERROR(MATCH(D98,Nr_stad!$U$8:$U$60,0),0)","v":0}]
[null,null,null,null,null,null,null,0,"-","-",null,"-","-",null,"-",null,null,null,null,0,0,{"$error":"#VALUE!"},{"$error":"#VALUE!"},{"$error":"#VALUE!"},0,{"$f":"IFERROR(MATCH(D99,Nr_stad!$U$8:$U$60,0),0)","v":0}]
[null,null,null,null,null,null,null,0,"-","-",null,"-","-",null,"-",null,null,null,null,0,0,{"$error":"#VALUE!"},{"$error":"#VALUE!"},{"$error":"#VALUE!"},0,{"$f":"IFERROR(MATCH(D100,Nr_stad!$U$8:$U$60,0),0)","v":0}]
[null,null,null,null,null,null,null,0,"-","-",null,"-","-",null,"-",null,null,null,null,0,0,{"$error":"#VALUE!"},{"$error":"#VALUE!"},{"$error":"#VALUE!"},0,{"$f":"IFERROR(MATCH(D101,Nr_stad!$U$8:$U$60,0),0)","v":0}]
[null,null,null,null,null,null,null,0,"-","-",null,"-","-",null,"-",null,null,null,null,0,0,{"$error":"#VALUE!"},{"$error":"#VALUE!"},{"$error":"#VALUE!"},0,{"$f":"IFERROR(MATCH(D102,Nr_stad!$U$8:$U$60,0),0)","v":0}]
[null,null,null,null,null,null,null,0,"-","-",null,"-","-",null,"-",null,null,null,null,0,0,{"$error":"#VALUE!"},{"$error":"#VALUE!"},{"$error":"#VALUE!"},0,{"$f":"IFERROR(MATCH(D103,Nr_stad!$U$8:$U$60,0),0)","v":0}]
[null,null,null,null,null,null,null,{"$f":"F104*G104","v":0},{"$f":"IFERROR(IF((U104/K104)>Y104,Y104,U104/K104),\"-\")","v":"-"},{"$f":"IFERROR(IF(L104=\"-\",I104-O104,I104-L104),\"-\")","v":"-"},null,{"$f":"IFERROR(IF(U104/N104>Y104,Y104,U104/N104),\"-\")","v":"-"},{"$f":"IFERROR(L104-O104,\"-\")","v":"-"},null,{"$f":"IFERROR(IF(U104/P104>Y104,Y104,U104/P104),\"-\")","v":"-"},null,null,null,null,{"$f":"IFERROR(SUM(F104:M104)+X104,0)","v":0},{"$f":"$U$24*H104","v":0},{"$f":"I104/H104","v":{"$error":"#VALUE!"}},{"$f":"L104/H104","v":{"$error":"#VALUE!"}},{"$f":"O104/H104","v":{"$error":"#VALUE!"}},{"$f":"$V$24*H104","v":0},{"$f":"IFERROR(MATCH(D104,Nr_stad!$U$8:$U$60,0),0)","v":0}]
[null,null,null,null,null,null,null,0,"-","-",null,"-","-",null,"-",null,null,null,null,0,0,{"$error":"#VALUE!"},{"$error":"#VALUE!"},{"$error":"#VALUE!"},0,{"$f":"IFERROR(MATCH(D105,Nr_stad!$U$8:$U$60,0),0)","v":0}]
[null,null,null,null,null,null,null,0,"-","-",null,"-","-",null,"-",null,null,null,null,0,0,{"$error":"#VALUE!"},{"$error":"#VALUE!"},{"$error":"#VALUE!"},0,{"$f":"IFERROR(MATCH(D106,Nr_stad!$U$8:$U$60,0),0)","v":0}]
[null,null,null,null,null,null,null,0,"-","-",null,"-","-",null,"-",null,null,null,null,0,0,{"$error":"#VALUE!"},{"$error":"#VALUE!"},{"$error":"#VALUE!"},0,{"$f":"IFERROR(MATCH(D107,Nr_stad!$U$8:$U$60,0),0)","v":0}]
[null,null,null,null,null,null,null,0,"-","-",null,"-","-",null,"-",null,null,null,null,0,0,{"$error":"#VALUE!"},{"$error":"#VALUE!"},{"$error":"#VALUE!"},0,{"$f":"IFERROR(MATCH(D108,Nr_stad!$U$8:$U$60,0),0)","v":0}]
[null,null,null,null,null,null,null,0,"-","-",null,"-","-",null,"-",null,null,null,null,0,0,{"$error":"#VALUE!"},{"$error":"#VALUE!"},{"$error":"#VALUE!"},0,{"$f":"IFERROR(MATCH(D109,Nr_stad!$U$8:$U$60,0),0)","v":0}]
[null,null,null,null,null,null,null,0,"-","-",null,"-","-",null,"-",null,null,null,null,0,0,{"$error":"#VALUE!"},{"$error":"#VALUE!"},{"$error":"#VALUE!"},0,{"$f":"IFERROR(MATCH(D110,Nr_stad!$U$8:$U$60,0),0)","v":0}]
[null,null,null,null,null,null,null,0,"-","-",null,"-","-",null,"-",null,null,null,null,0,0,{"$error":"#VALUE!"},{"$error":"#VALUE!"},{"$error":"#VALUE!"},0,{"$f":"IFERROR(MATCH(D111,Nr_stad!$U$8:$U$60,0),0)","v":0}]
[null,null,null,null,null,null,null,0,"-","-",null,"-","-",null,"-",null,null,null,null,0,0,{"$error":"#VALUE!"},{"$error":"#VALUE!"},{"$error":"#VALUE!"},0,{"$f":"IFERROR(MATCH(D112,Nr_stad!$U$8:$U$60,0),0)","v":0}]
[null,null,null,null,null,null,null,0,"-","-",null,"-","-",null,"-",null,null,null,null,0,0,{"$error":"#VALUE!"},{"$error":"#VALUE!"},{"$error":"#VALUE!"},0,{"$f":"IFERROR(MATCH(D113,Nr_stad!$U$8:$U$60,0),0)","v":0}]
[null,null,null,null,null,null,null,0,"-","-",null,"-","-",null,"-",null,null,null,null,0,0,{"$error":"#VALUE!"},{"$error":"#VALUE!"},{"$error":"#VALUE!"},0,{"$f":"IFERROR(MATCH(D114,Nr_stad!$U$8:$U$60,0),0)","v":0}]
[null,null,null,null,null,null,null,0,"-","-",null,"-","-",null,"-",null,null,null,null,0,0,{"$error":"#VALUE!"},{"$error":"#VALUE!"},{"$error":"#VALUE!"},0,{"$f":"IFERROR(MATCH(D115,Nr_stad!$U$8:$U$60,0),0)","v":0}]
[null,null,null,null,null,null,null,0,"-","-",null,"-","-",null,"-",null,null,null,null,0,0,{"$error":"#VALUE!"},{"$error":"#VALUE!"},{"$error":"#VALUE!"},0,{"$f":"IFERROR(MATCH(D116,Nr_stad!$U$8:$U$60,0),0)","v":0}]
[null,null,null,null,null,null,null,0,"-","-",null,"-","-",null,"-",null,null,null,null,0,0,{"$error":"#VALUE!"},{"$error":"#VALUE!"},{"$error":"#VALUE!"},0,{"$f":"IFERROR(MATCH(D117,Nr_stad!$U$8:$U$60,0),0)","v":0}]
[null,null,null,null,null,null,null,{"$f":"F118*G118","v":0},{"$f":"IFERROR(IF((U118/K118)>Y118,Y118,U118/K118),\"-\")","v":"-"},{"$f":"IFERROR(IF(L118=\"-\",I118-O118,I118-L118),\"-\")","v":"-"},null,{"$f":"IFERROR(IF(U118/N118>Y118,Y118,U118/N118),\"-\")","v":"-"},{"$f":"IFERROR(L118-O118,\"-\")","v":"-"},null,{"$f":"IFERROR(IF(U118/P118>Y118,Y118,U118/P118),\"-\")","v":"-"},null,null,null,null,{"$f":"IFERROR(SUM(F118:M118)+X118,0)","v":0},{"$f":"$U$24*H118","v":0},{"$f":"I118/H118","v":{"$error":"#VALUE!"}},{"$f":"L118/H118","v":{"$error":"#VALUE!"}},{"$f":"(M118*N118)/$X$24","v":{"$error":"#VALUE!"}},{"$f":"$V$24*H118","v":0},{"$f":"IFERROR(MATCH(D118,Nr_stad!$U$8:$U$60,0),0)","v":0}]
[null,null,null,"POWIERZCHNIA BYTOWA - RAZEM:",null,null,null,{"$f":"SUM(H25:H118)","v":0},{"$f":"IFERROR((U119/K119),\"-\")","v":"-"},"-","-",{"$f":"IFERROR(U119/N119,\"-\")","v":"-"},"-","-",{"$f":"IFERROR(U119/P119,\"-\")","v":"-"},"-",null,null,null,10,null,null,null,null,null,{"$f":"IFERROR(MATCH(D119,Nr_stad!$U$8:$U$60,0),0)","v":0}]
[null,null,null,"RAZEM:",null,null,null,null,{"$f":"SUM(I25:I119)","v":0},"-","-",{"$f":"SUM(L25:L119)","v":0},"-","-",{"$f":"SUM(O25:O119)","v":0},"-",null,null,null,{"$f":"SUM(F120:M120)+X120","v":0},null,null,null,null,{"$f":"SUM(Y25:Y119)","v":0}]

{"sheet":"Brojlery_kur","index":33,"n_rows":9,"n_cols":7,"rows_kept":9,"cut":false,"hidden":true,"merged":[[2,2,2,6],[5,1,6,1],[5,2,6,2],[8,1,8,6]]}
[]
[null,null,"Kurczęta brojlery"]
[null,"-","stały dostęp do materiałów lub przedmiotów absorbujących uwagę o jakości niewywierającej szkodliwego wpływu na zdrowie"]
[]
[null,"Lp","Wyszczególnienie","warunek\nmax/min","jed.","Obowiązujące normy prawne*","Wymogi obowiązujące w dobrostanie "]
[null,1,"Obsada","max","kg/m2",33,30]
[null,null,null,"max","szt/m2","-",20]
[null,2,"Dzień świetlny - faza ciemna","min","godz/dobę","w okresie 7 dni od dnia umieszczenia kurcząt brojlerów w kurniku, a także w okresie 3 dni przed przewidywanym dniem ich uboju oświetlenie dostosowuje się do 24-godzinnego rytmu, z okresami zaciemnienia trwającymi co najmniej 6 godzin ogółem i co najmniej z jednym okresem nieprzerwanego zaciemnienia trwającym przynajmniej 4 godziny, z wyłączeniem okresów przyciemniania",6]
[null,"(*) Rozporządzenie MRiRW z dnia 15 lutego 2010 r. w sprawie wymagań i sposobu postępowania przy utrzymywaniu gatunków zwierząt gospodarskich, dla których normy ochrony zostały określone w przepisach Unii Europejskiej (Dz. U. Nr 56, poz. 344, z późn. zm.)."]

{"sheet":"Brojlery_ind_pow","index":34,"n_rows":120,"n_cols":28,"rows_kept":120,"cut":false,"hidden":false,"merged":[[50,3,50,4],[51,3,51,4],[52,3,52,4],[30,3,30,4],[31,3,31,4],[32,3,32,4],[35,3,35,4],[36,3,36,4],[37,3,37,4],[38,3,38,4],[119,3,119,7],[39,3,39,4],[40,3,40,4],[41,3,41,4],[42,3,42,4],[43,3,43,4],[44,3,44,4],[45,3,45,4],[46,3,46,4],[47,3,47,4],[48,3,48,4],[49,3,49,4],[55,3,55,4],[56,3,56,4],[57,3,57,4],[58,3,58,4],[59,3,59,4],[75,3,75,4],[76,3,76,4],[77,3,77,4],[78,3,78,4],[79,3,79,4],[70,3,70,4],[71,3,71,4],[27,3,27,4],[28,3,28,4],[21,3,23,4],[21,5,21,7],[21,8,22,8],[21,9,21,10],[21,11,22,11],[21,12,21,13],[29,3,29,4],[20,20,20,23],[12,4,12,11],[14,4,14,14],[11,4,11,12],[17,3,17,5],[17,7,17,8],[17,10,17,12],[15,2,15,11],[15,12,15,13],[3,3,3,12],[53,3,53,4],[54,3,54,4],[65,3,65,4],[66,3,66,4],[67,3,67,4],[68,3,68,4],[69,3,69,4],[60,3,60,4],[61,3,61,4],[62,3,62,4],[63,3,63,4],[64,3,64,4],[7,4,7,12],[8,3,8,12],[4,3,4,15],[33,3,33,4],[34,3,34,4],[21,14,22,14],[24,3,24,4],[25,3,25,4],[26,3,26,4],[10,4,10,13],[9,3,9,15],[72,3,72,4],[73,3,73,4],[74,3,74,4],[85,3,85,4],[86,3,86,4],[87,3,87,4],[88,3,88,4],[89,3,89,4],[80,3,80,4],[81,3,81,4],[82,3,82,4],[83,3,83,4],[84,3,84,4],[96,3,96,4],[97,3,97,4],[98,3,98,4],[99,3,99,4],[90,3,90,4],[91,3,91,4],[92,3,92,4],[93,3,93,4],[94,3,94,4],[118,3,118,6],[5,3,5,14],[6,3,6,5],[6,7,6,8],[6,10,6,12],[115,3,115,4],[116,3,116,4],[117,3,117,4],[110,3,110,4],[111,3,111,4],[112,3,112,4],[113,3,113,4],[114,3,114,4],[105,3,105,4],[106,3,106,4],[107,3,107,4],[108,3,108,4],[109,3,109,4],[100,3,100,4],[101,3,101,4],[102,3,102,4],[103,3,103,4],[104,3,104,4],[95,3,95,4]]}
[null,null,"Uwaga !!! Po wydrukowaniu uzupełnić ręcznie Oświadczenie i czytelnie podpisać",null,null,null,null,null,null,null,null,null,"POWRÓT",null,null,null,null,null,null,null,null,null,null,null,null,null,"UWAGI","Uwagi"]
[]
[null,null,"II. Część szczegółowa  "]
[null,null,"II.10.","Dobrostan indyków utrzymywanych z przeznaczeniem do produkcji mięsa"]
[null,null,"II.10.1.","Informacja o stadzie indyków utrzymywanych z przeznaczeniem do produkcji mięsa",null,null,null,null,null,null,null,null,null,null,null,null,null,null,null,null,null,null,null,null,null,null,"Uzgodnienia z MRiRW w dniu 14.03.23"]
[null,null,null,"System utrzymywania i kierunek produkcji indyków utrzymywanych z przeznaczeniem do produkcji mięsa w gospodarstwie jest zgodny z klasyfikacją przyjętą w rozporządzeniu Ministra Rolnictwa i Rozwoju Wsi z dnia 23 grudnia 2022 r. w sprawie szczegółowego zakresu informacji zawartych w komputerowej bazie danych (Dz.U. z 2023 r. poz. 15).",null,null,null,null,null,null,null,null,null,null,null,null,null,null,null,false]
[null,null,null,"(miejscowość i data)",null,null,null,"(czytelny podpis rolnika)",null,null,"(czytelny podpis doradcy"]
[null,null,null,null,null,null,null,null,null,null,null,null,null,null,null,null,null,null,null,false]
[]
[null,null,"II.10.2.","W ramach dobrostanu indyków utrzymywanych z przeznaczeniem do produkcji mięsa:"]
[null,null,null,{"$f":"IF(T11=TRUE,$U$15,$V$15)","v":"☐"}," zapewnienie co najmniej 8 godzin nieprzerwanej ciemności podczas doby;",null,null,null,null,null,null,null,null,null,null,null,null,null,null,{"$f":"T6","v":false}]
[null,null,null,{"$f":"IF(T12=TRUE,$U$15,$V$15)","v":"☐"}," zapewnienie stałego dostępu do materiałów lub przedmiotów absorbujących uwagę, nieszkodliwych dla ich zdrowia.",null,null,null,null,null,null,null,null,null,null,null,null,null,null,{"$f":"T6","v":false}]
[null,null,null,null,null,null,null,null,null,null,null,null,null,null,null,null,null,null,null,false,"☒","☐"]
[null,null,null,null,null,null,null,null,null,null,null,null,null,null,null,null,null,null,null,null,"☒","☐"]
[null,null,null,{"$f":"IF(T15=TRUE,U15,V15)","v":"☐"},"Do planu poprawy dobrostanu zwierząt dołączono szkic/e obiektów ze wskazanymi powierzchniami na których utrzymywane są indyki utrzymywane z przeznaczeniem do produkcji mięsa objęte podwyższonymi wymogami Dobrostan indyków utrzymywanych z przeznaczeniem do produkcji mięsa.",null,null,null,null,null,null,null,null,null,null,null,null,null,null,false,"☒","☐"]
[null,null,"Liczba posiadanych w gospodarstwie stanowisk zgodnie z powszechnie obowiązującymi przepisami: "]
[]
[null,null,null,"(miejscowość i data)",null,null,null,"(czytelny podpis rolnika)",null,null,"(czytelny podpis doradcy"]
[]
[null,null,"II.10.3.","Podwyższone wymogi dla indyków utrzymywanych z przeznaczeniem do produkcji mięsa"]
[null,null,null,null,null,null,null,null,null,null,null,null,null,null,null,null,null,null,null,null,"Wymogi obowiązujące w dobrostanie "]
[null,null,null,"Numer zakładu drobiu / \nNazwa obiektu /\n sekcja (hala) indyków",null,"Obsada - powierzchnia bytowa w budynku ",null,null,"Maksy-\nmalna liczba przed I przebiórką","I przebiórka indyków",null,"Maksy-\nmalna liczba przed II przebiórką","II przebiórka indyków",null,"Maksy-\nmalna liczba na koniec cyklu","Koniec cyklu",null,null,null,null,null,"I przeb","II przeb","koniec"]
[null,null,null,null,null,"długość","szerokość","powierzch\n-nia",null,"Ilość\nmin.","średnia masa",null,"Ilość\nmin.","średnia masa",null,"średnia masa",null,null,null,null,"Pow [kg./m²]","Obsada\nszt./m2","Obsada\nszt./m3","Obsada\nszt./m4","Obsada\nmax"]
[null,null,null,null,null,"m","m","m2","szt","szt.","kg","szt","szt.","kg","szt","kg",null,null,null,null,{"$f":"Brojlery_ind!G6","v":50}]
[null,null,null,null,null,null,null,{"$f":"F25*G25","v":0},{"$f":"IFERROR((U25/K25),\"-\")","v":"-"},{"$f":"IFERROR(IF(L25=\"-\",I25-O25,I25-L25),\"-\")","v":"-"},null,{"$f":"IFERROR(U25/N25,\"-\")","v":"-"},{"$f":"IFERROR(L25-O25,\"-\")","v":"-"},null,{"$f":"IFERROR(U25/P25,\"-\")","v":"-"},null,null,null,null,{"$f":"IFERROR(SUM(F25:M25)+X25,0)","v":0},{"$f":"$U$24*H25","v":0},{"$f":"U25/K25","v":{"$error":"#DIV/0!"}},{"$f":"L25/H25","v":{"$error":"#VALUE!"}},{"$f":"O25/H25","v":{"$error":"#VALUE!"}},{"$f":"MAX(I25,L25,O25)","v":0},{"$f":"IFERROR(MATCH(D25,Nr_stad!$U$8:$U$60,0),0)","v":0}]
[null,null,null,null,null,null,null,0,{"$f":"IFERROR((U26/K26),\"-\")","v":"-"},{"$f":"IFERROR(IF(L26=\"-\",I26-O26,I26-L26),\"-\")","v":"-"},null,{"$f":"IFERROR(U26/N26,\"-\")","v":"-"},{"$f":"IFERROR(L26-O26,\"-\")","v":"-"},null,{"$f":"IFERROR(U26/P26,\"-\")","v":"-"},null,null,null,null,{"$f":"IFERROR(SUM(F26:M26)+X26,0)","v":0},0,{"$error":"#DIV/0!"},{"$error":"#VALUE!"},{"$error":"#VALUE!"},{"$f":"MAX(I26,L26,O26)","v":0},{"$f":"IFERROR(MATCH(D26,Nr_stad!$U$8:$U$60,0),0)","v":0}]
[null,null,null,null,null,null,null,0,"-","-",null,"-","-",null,"-",null,null,null,null,0,0,{"$error":"#DIV/0!"},{"$error":"#VALUE!"},{"$error":"#VALUE!"},0,{"$f":"IFERROR(MATCH(D27,Nr_stad!$U$8:$U$60,0),0)","v":0}]
[null,null,null,null,null,null,null,0,"-","-",null,"-","-",null,"-",null,null,null,null,0,0,{"$error":"#DIV/0!"},{"$error":"#VALUE!"},{"$error":"#VALUE!"},0,{"$f":"IFERROR(MATCH(D28,Nr_stad!$U$8:$U$60,0),0)","v":0}]
[null,null,null,null,null,null,null,0,"-","-",null,"-","-",null,"-",null,null,null,null,0,0,{"$error":"#DIV/0!"},{"$error":"#VALUE!"},{"$error":"#VALUE!"},0,{"$f":"IFERROR(MATCH(D29,Nr_stad!$U$8:$U$60,0),0)","v":0}]
[null,null,null,null,null,null,null,0,"-","-",null,"-","-",null,"-",null,null,null,null,0,0,{"$error":"#DIV/0!"},{"$error":"#VALUE!"},{"$error":"#VALUE!"},0,{"$f":"IFERROR(MATCH(D30,Nr_stad!$U$8:$U$60,0),0)","v":0}]
[null,null,null,null,null,null,null,0,"-","-",null,"-","-",null,"-",null,null,null,null,0,0,{"$error":"#DIV/0!"},{"$error":"#VALUE!"},{"$error":"#VALUE!"},0,{"$f":"IFERROR(MATCH(D31,Nr_stad!$U$8:$U$60,0),0)","v":0}]
[null,null,null,null,null,null,null,0,"-","-",null,"-","-",null,"-",null,null,null,null,0,0,{"$error":"#DIV/0!"},{"$error":"#VALUE!"},{"$error":"#VALUE!"},0,{"$f":"IFERROR(MATCH(D32,Nr_stad!$U$8:$U$60,0),0)","v":0}]
[null,null,null,null,null,null,null,0,"-","-",null,"-","-",null,"-",null,null,null,null,0,0,{"$error":"#DIV/0!"},{"$error":"#VALUE!"},{"$error":"#VALUE!"},0,{"$f":"IFERROR(MATCH(D33,Nr_stad!$U$8:$U$60,0),0)","v":0}]
[null,null,null,null,null,null,null,0,"-","-",null,"-","-",null,"-",null,null,null,null,0,0,{"$error":"#DIV/0!"},{"$error":"#VALUE!"},{"$error":"#VALUE!"},0,{"$f":"IFERROR(MATCH(D34,Nr_stad!$U$8:$U$60,0),0)","v":0}]
[null,null,null,null,null,null,null,0,"-","-",null,"-","-",null,"-",null,null,null,null,0,0,{"$error":"#DIV/0!"},{"$error":"#VALUE!"},{"$error":"#VALUE!"},0,{"$f":"IFERROR(MATCH(D35,Nr_stad!$U$8:$U$60,0),0)","v":0}]
[null,null,null,null,null,null,null,0,"-","-",null,"-","-",null,"-",null,null,null,null,0,0,{"$error":"#DIV/0!"},{"$error":"#VALUE!"},{"$error":"#VALUE!"},0,{"$f":"IFERROR(MATCH(D36,Nr_stad!$U$8:$U$60,0),0)","v":0}]
[null,null,null,null,null,null,null,0,"-","-",null,"-","-",null,"-",null,null,null,null,0,0,{"$error":"#DIV/0!"},{"$error":"#VALUE!"},{"$error":"#VALUE!"},0,{"$f":"IFERROR(MATCH(D37,Nr_stad!$U$8:$U$60,0),0)","v":0}]
[null,null,null,null,null,null,null,0,"-","-",null,"-","-",null,"-",null,null,null,null,0,0,{"$error":"#DIV/0!"},{"$error":"#VALUE!"},{"$error":"#VALUE!"},0,{"$f":"IFERROR(MATCH(D38,Nr_stad!$U$8:$U$60,0),0)","v":0}]
[null,null,null,null,null,null,null,0,"-","-",null,"-","-",null,"-",null,null,null,null,0,0,{"$error":"#DIV/0!"},{"$error":"#VALUE!"},{"$error":"#VALUE!"},0,{"$f":"IFERROR(MATCH(D39,Nr_stad!$U$8:$U$60,0),0)","v":0}]
[null,null,null,null,null,null,null,{"$f":"F40*G40","v":0},{"$f":"IFERROR((U40/K40),\"-\")","v":"-"},{"$f":"IFERROR(IF(L40=\"-\",I40-O40,I40-L40),\"-\")","v":"-"},null,{"$f":"IFERROR(U40/N40,\"-\")","v":"-"},{"$f":"IFERROR(L40-O40,\"-\")","v":"-"},null,{"$f":"IFERROR(U40/P40,\"-\")","v":"-"},null,null,null,null,0,{"$f":"$U$24*H40","v":0},{"$f":"U40/K40","v":{"$error":"#DIV/0!"}},{"$f":"L40/H40","v":{"$error":"#VALUE!"}},{"$f":"O40/H40","v":{"$error":"#VALUE!"}},{"$f":"MAX(I40,L40,O40)","v":0},{"$f":"IFERROR(MATCH(D40,Nr_stad!$U$8:$U$60,0),0)","v":0}]
[null,null,null,null,null,null,null,0,"-","-",null,"-","-",null,"-",null,null,null,null,0,0,{"$error":"#DIV/0!"},{"$error":"#VALUE!"},{"$error":"#VALUE!"},0,{"$f":"IFERROR(MATCH(D41,Nr_stad!$U$8:$U$60,0),0)","v":0}]
[null,null,null,null,null,null,null,0,"-","-",null,"-","-",null,"-",null,null,null,null,0,0,{"$error":"#DIV/0!"},{"$error":"#VALUE!"},{"$error":"#VALUE!"},0,{"$f":"IFERROR(MATCH(D42,Nr_stad!$U$8:$U$60,0),0)","v":0}]
[null,null,null,null,null,null,null,0,"-","-",null,"-","-",null,"-",null,null,null,null,0,0,{"$error":"#DIV/0!"},{"$error":"#VALUE!"},{"$error":"#VALUE!"},0,{"$f":"IFERROR(MATCH(D43,Nr_stad!$U$8:$U$60,0),0)","v":0}]
[null,null,null,null,null,null,null,0,"-","-",null,"-","-",null,"-",null,null,null,null,0,0,{"$error":"#DIV/0!"},{"$error":"#VALUE!"},{"$error":"#VALUE!"},0,{"$f":"IFERROR(MATCH(D44,Nr_stad!$U$8:$U$60,0),0)","v":0}]
[null,null,null,null,null,null,null,0,"-","-",null,"-","-",null,"-",null,null,null,null,0,0,{"$error":"#DIV/0!"},{"$error":"#VALUE!"},{"$error":"#VALUE!"},0,{"$f":"IFERROR(MATCH(D45,Nr_stad!$U$8:$U$60,0),0)","v":0}]
[null,null,null,null,null,null,null,0,"-","-",null,"-","-",null,"-",null,null,null,null,0,0,{"$error":"#DIV/0!"},{"$error":"#VALUE!"},{"$error":"#VALUE!"},0,{"$f":"IFERROR(MATCH(D46,Nr_stad!$U$8:$U$60,0),0)","v":0}]
[null,null,null,null,null,null,null,0,"-","-",null,"-","-",null,"-",null,null,null,null,0,0,{"$error":"#DIV/0!"},{"$error":"#VALUE!"},{"$error":"#VALUE!"},0,{"$f":"IFERROR(MATCH(D47,Nr_stad!$U$8:$U$60,0),0)","v":0}]
[null,null,null,null,null,null,null,0,"-","-",null,"-","-",null,"-",null,null,null,null,0,0,{"$error":"#DIV/0!"},{"$error":"#VALUE!"},{"$error":"#VALUE!"},0,{"$f":"IFERROR(MATCH(D48,Nr_stad!$U$8:$U$60,0),0)","v":0}]
[null,null,null,null,null,null,null,0,"-","-",null,"-","-",null,"-",null,null,null,null,0,0,{"$error":"#DIV/0!"},{"$error":"#VALUE!"},{"$error":"#VALUE!"},0,{"$f":"IFERROR(MATCH(D49,Nr_stad!$U$8:$U$60,0),0)","v":0}]
[null,null,null,null,null,null,null,0,"-","-",null,"-","-",null,"-",null,null,null,null,0,0,{"$error":"#DIV/0!"},{"$error":"#VALUE!"},{"$error":"#VALUE!"},0,{"$f":"IFERROR(MATCH(D50,Nr_stad!$U$8:$U$60,0),0)","v":0}]
[null,null,null,null,null,null,null,0,"-","-",null,"-","-",null,"-",null,null,null,null,0,0,{"$error":"#DIV/0!"},{"$error":"#VALUE!"},{"$error":"#VALUE!"},0,{"$f":"IFERROR(MATCH(D51,Nr_stad!$U$8:$U$60,0),0)","v":0}]
[null,null,null,null,null,null,null,0,"-","-",null,"-","-",null,"-",null,null,null,null,0,0,{"$error":"#DIV/0!"},{"$error":"#VALUE!"},{"$error":"#VALUE!"},0,{"$f":"IFERROR(MATCH(D52,Nr_stad!$U$8:$U$60,0),0)","v":0}]
[null,null,null,null,null,null,null,0,"-","-",null,"-","-",null,"-",null,null,null,null,0,0,{"$error":"#DIV/0!"},{"$error":"#VALUE!"},{"$error":"#VALUE!"},0,{"$f":"IFERROR(MATCH(D53,Nr_stad!$U$8:$U$60,0),0)","v":0}]
[null,null,null,null,null,null,null,0,"-","-",null,"-","-",null,"-",null,null,null,null,0,0,{"$error":"#DIV/0!"},{"$error":"#VALUE!"},{"$error":"#VALUE!"},0,{"$f":"IFERROR(MATCH(D54,Nr_stad!$U$8:$U$60,0),0)","v":0}]
[null,null,null,null,null,null,null,0,"-","-",null,"-","-",null,"-",null,null,null,null,0,0,{"$error":"#DIV/0!"},{"$error":"#VALUE!"},{"$error":"#VALUE!"},0,{"$f":"IFERROR(MATCH(D55,Nr_stad!$U$8:$U$60,0),0)","v":0}]
[null,null,null,null,null,null,null,0,"-","-",null,"-","-",null,"-",null,null,null,null,0,0,{"$error":"#DIV/0!"},{"$error":"#VALUE!"},{"$error":"#VALUE!"},0,{"$f":"IFERROR(MATCH(D56,Nr_stad!$U$8:$U$60,0),0)","v":0}]
[null,null,null,null,null,null,null,0,"-","-",null,"-","-",null,"-",null,null,null,null,0,0,{"$error":"#DIV/0!"},{"$error":"#VALUE!"},{"$error":"#VALUE!"},0,{"$f":"IFERROR(MATCH(D57,Nr_stad!$U$8:$U$60,0),0)","v":0}]
[null,null,null,null,null,null,null,0,"-","-",null,"-","-",null,"-",null,null,null,null,0,0,{"$error":"#DIV/0!"},{"$error":"#VALUE!"},{"$error":"#VALUE!"},0,{"$f":"IFERROR(MATCH(D58,Nr_stad!$U$8:$U$60,0),0)","v":0}]
[null,null,null,null,null,null,null,0,"-","-",null,"-","-",null,"-",null,null,null,null,0,0,{"$error":"#DIV/0!"},{"$error":"#VALUE!"},{"$error":"#VALUE!"},0,{"$f":"IFERROR(MATCH(D59,Nr_stad!$U$8:$U$60,0),0)","v":0}]
[null,null,null,null,null,null,null,0,"-","-",null,"-","-",null,"-",null,null,null,null,0,0,{"$error":"#DIV/0!"},{"$error":"#VALUE!"},{"$error":"#VALUE!"},0,{"$f":"IFERROR(MATCH(D60,Nr_stad!$U$8:$U$60,0),0)","v":0}]
[null,null,null,null,null,null,null,0,"-","-",null,"-","-",null,"-",null,null,null,null,0,0,{"$error":"#DIV/0!"},{"$error":"#VALUE!"},{"$error":"#VALUE!"},0,{"$f":"IFERROR(MATCH(D61,Nr_stad!$U$8:$U$60,0),0)","v":0}]
[null,null,null,null,null,null,null,0,"-","-",null,"-","-",null,"-",null,null,null,null,0,0,{"$error":"#DIV/0!"},{"$error":"#VALUE!"},{"$error":"#VALUE!"},0,{"$f":"IFERROR(MATCH(D62,Nr_stad!$U$8:$U$60,0),0)","v":0}]
[null,null,null,null,null,null,null,0,"-","-",null,"-","-",null,"-",null,null,null,null,0,0,{"$error":"#DIV/0!"},{"$error":"#VALUE!"},{"$error":"#VALUE!"},0,{"$f":"IFERROR(MATCH(D63,Nr_stad!$U$8:$U$60,0),0)","v":0}]
[null,null,null,null,null,null,null,0,"-","-",null,"-","-",null,"-",null,null,null,null,0,0,{"$error":"#DIV/0!"},{"$error":"#VALUE!"},{"$error":"#VALUE!"},0,{"$f":"IFERROR(MATCH(D64,Nr_stad!$U$8:$U$60,0),0)","v":0}]
[null,null,null,null,null,null,null,0,"-","-",null,"-","-",null,"-",null,null,null,null,0,0,{"$error":"#DIV/0!"},{"$error":"#VALUE!"},{"$error":"#VALUE!"},0,{"$f":"IFERROR(MATCH(D65,Nr_stad!$U$8:$U$60,0),0)","v":0}]
[null,null,null,null,null,null,null,0,"-","-",null,"-","-",null,"-",null,null,null,null,0,0,{"$error":"#DIV/0!"},{"$error":"#VALUE!"},{"$error":"#VALUE!"},0,{"$f":"IFERROR(MATCH(D66,Nr_stad!$U$8:$U$60,0),0)","v":0}]
[null,null,null,null,null,null,null,0,"-","-",null,"-","-",null,"-",null,null,null,null,0,0,{"$error":"#DIV/0!"},{"$error":"#VALUE!"},{"$error":"#VALUE!"},0,{"$f":"IFERROR(MATCH(D67,Nr_stad!$U$8:$U$60,0),0)","v":0}]
[null,null,null,null,null,null,null,0,"-","-",null,"-","-",null,"-",null,null,null,null,0,0,{"$error":"#DIV/0!"},{"$error":"#VALUE!"},{"$error":"#VALUE!"},0,{"$f":"IFERROR(MATCH(D68,Nr_stad!$U$8:$U$60,0),0)","v":0}]
[null,null,null,null,null,null,null,0,"-","-",null,"-","-",null,"-",null,null,null,null,0,0,{"$error":"#DIV/0!"},{"$error":"#VALUE!"},{"$error":"#VALUE!"},0,{"$f":"IFERROR(MATCH(D69,Nr_stad!$U$8:$U$60,0),0)","v":0}]
[null,null,null,null,null,null,null,0,"-","-",null,"-","-",null,"-",null,null,null,null,0,0,{"$error":"#DIV/0!"},{"$error":"#VALUE!"},{"$error":"#VALUE!"},0,{"$f":"IFERROR(MATCH(D70,Nr_stad!$U$8:$U$60,0),0)","v":0}]
[null,null,null,null,null,null,null,0,"-","-",null,"-","-",null,"-",null,null,null,null,0,0,{"$error":"#DIV/0!"},{"$error":"#VALUE!"},{"$error":"#VALUE!"},0,{"$f":"IFERROR(MATCH(D71,Nr_stad!$U$8:$U$60,0),0)","v":0}]
[null,null,null,null,null,null,null,0,"-","-",null,"-","-",null,"-",null,null,null,null,0,0,{"$error":"#DIV/0!"},{"$error":"#VALUE!"},{"$error":"#VALUE!"},0,{"$f":"IFERROR(MATCH(D72,Nr_stad!$U$8:$U$60,0),0)","v":0}]
[null,null,null,null,null,null,null,0,"-","-",null,"-","-",null,"-",null,null,null,null,0,0,{"$error":"#DIV/0!"},{"$error":"#VALUE!"},{"$error":"#VALUE!"},0,{"$f":"IFERROR(MATCH(D73,Nr_stad!$U$8:$U$60,0),0)","v":0}]
[null,null,null,null,null,null,null,0,"-","-",null,"-","-",null,"-",null,null,null,null,0,0,{"$error":"#DIV/0!"},{"$error":"#VALUE!"},{"$error":"#VALUE!"},0,{"$f":"IFERROR(MATCH(D74,Nr_stad!$U$8:$U$60,0),0)","v":0}]
[null,null,null,null,null,null,null,0,"-","-",null,"-","-",null,"-",null,null,null,null,0,0,{"$error":"#DIV/0!"},{"$error":"#VALUE!"},{"$error":"#VALUE!"},0,{"$f":"IFERROR(MATCH(D75,Nr_stad!$U$8:$U$60,0),0)","v":0}]
[null,null,null,null,null,null,null,0,"-","-",null,"-","-",null,"-",null,null,null,null,0,0,{"$error":"#DIV/0!"},{"$error":"#VALUE!"},{"$error":"#VALUE!"},0,{"$f":"IFERROR(MATCH(D76,Nr_stad!$U$8:$U$60,0),0)","v":0}]
[null,null,null,null,null,null,null,0,"-","-",null,"-","-",null,"-",null,null,null,null,0,0,{"$error":"#DIV/0!"},{"$error":"#VALUE!"},{"$error":"#VALUE!"},0,{"$f":"IFERROR(MATCH(D77,Nr_stad!$U$8:$U$60,0),0)","v":0}]
[null,null,null,null,null,null,null,0,"-","-",null,"-","-",null,"-",null,null,null,null,0,0,{"$error":"#DIV/0!"},{"$error":"#VALUE!"},{"$error":"#VALUE!"},0,{"$f":"IFERROR(MATCH(D78,Nr_stad!$U$8:$U$60,0),0)","v":0}]
[null,null,null,null,null,null,null,0,"-","-",null,"-","-",null,"-",null,null,null,null,0,0,{"$error":"#DIV/0!"},{"$error":"#VALUE!"},{"$error":"#VALUE!"},0,{"$f":"IFERROR(MATCH(D79,Nr_stad!$U$8:$U$60,0),0)","v":0}]
[null,null,null,null,null,null,null,0,"-","-",null,"-","-",null,"-",null,null,null,null,0,0,{"$error":"#DIV/0!"},{"$error":"#VALUE!"},{"$error":"#VALUE!"},0,{"$f":"IFERROR(MATCH(D80,Nr_stad!$U$8:$U$60,0),0)","v":0}]
[null,null,null,null,null,null,null,0,"-","-",null,"-","-",null,"-",null,null,null,null,0,0,{"$error":"#DIV/0!"},{"$error":"#VALUE!"},{"$error":"#VALUE!"},0,{"$f":"IFERROR(MATCH(D81,Nr_stad!$U$8:$U$60,0),0)","v":0}]
[null,null,null,null,null,null,null,0,"-","-",null,"-","-",null,"-",null,null,null,null,0,0,{"$error":"#DIV/0!"},{"$error":"#VALUE!"},{"$error":"#VALUE!"},0,{"$f":"IFERROR(MATCH(D82,Nr_stad!$U$8:$U$60,0),0)","v":0}]
[null,null,null,null,null,null,null,0,"-","-",null,"-","-",null,"-",null,null,null,null,0,0,{"$error":"#DIV/0!"},{"$error":"#VALUE!"},{"$error":"#VALUE!"},0,{"$f":"IFERROR(MATCH(D83,Nr_stad!$U$8:$U$60,0),0)","v":0}]
[null,null,null,null,null,null,null,0,"-","-",null,"-","-",null,"-",null,null,null,null,0,0,{"$error":"#DIV/0!"},{"$error":"#VALUE!"},{"$error":"#VALUE!"},0,{"$f":"IFERROR(MATCH(D84,Nr_stad!$U$8:$U$60,0),0)","v":0}]
[null,null,null,null,null,null,null,0,"-","-",null,"-","-",null,"-",null,null,null,null,0,0,{"$error":"#DIV/0!"},{"$error":"#VALUE!"},{"$error":"#VALUE!"},0,{"$f":"IFERROR(MATCH(D85,Nr_stad!$U$8:$U$60,0),0)","v":0}]
[null,null,null,null,null,null,null,0,"-","-",null,"-","-",null,"-",null,null,null,null,0,0,{"$error":"#DIV/0!"},{"$error":"#VALUE!"},{"$error":"#VALUE!"},0,{"$f":"IFERROR(MATCH(D86,Nr_stad!$U$8:$U$60,0),0)","v":0}]
[null,null,null,null,null,null,null,0,"-","-",null,"-","-",null,"-",null,null,null,null,0,0,{"$error":"#DIV/0!"},{"$error":"#VALUE!"},{"$error":"#VALUE!"},0,{"$f":"IFERROR(MATCH(D87,Nr_stad!$U$8:$U$60,0),0)","v":0}]
[null,null,null,null,null,null,null,0,"-","-",null,"-","-",null,"-",null,null,null,null,0,0,{"$error":"#DIV/0!"},{"$error":"#VALUE!"},{"$error":"#VALUE!"},0,{"$f":"IFERROR(MATCH(D88,Nr_stad!$U$8:$U$60,0),0)","v":0}]
[null,null,null,null,null,null,null,0,"-","-",null,"-","-",null,"-",null,null,null,null,0,0,{"$error":"#DIV/0!"},{"$error":"#VALUE!"},{"$error":"#VALUE!"},0,{"$f":"IFERROR(MATCH(D89,Nr_stad!$U$8:$U$60,0),0)","v":0}]
[null,null,null,null,null,null,null,0,"-","-",null,"-","-",null,"-",null,null,null,null,{"$f":"IFERROR(SUM(F90:M90)+X90,0)","v":0},0,{"$error":"#DIV/0!"},{"$error":"#VALUE!"},{"$error":"#VALUE!"},0,{"$f":"IFERROR(MATCH(D90,Nr_stad!$U$8:$U$60,0),0)","v":0}]
[null,null,null,null,null,null,null,0,"-","-",null,"-","-",null,"-",null,null,null,null,0,0,{"$error":"#DIV/0!"},{"$error":"#VALUE!"},{"$error":"#VALUE!"},0,{"$f":"IFERROR(MATCH(D91,Nr_stad!$U$8:$U$60,0),0)","v":0}]
[null,null,null,null,null,null,null,0,"-","-",null,"-","-",null,"-",null,null,null,null,0,0,{"$error":"#DIV/0!"},{"$error":"#VALUE!"},{"$error":"#VALUE!"},0,{"$f":"IFERROR(MATCH(D92,Nr_stad!$U$8:$U$60,0),0)","v":0}]
[null,null,null,null,null,null,null,0,"-","-",null,"-","-",null,"-",null,null,null,null,0,0,{"$error":"#DIV/0!"},{"$error":"#VALUE!"},{"$error":"#VALUE!"},0,{"$f":"IFERROR(MATCH(D93,Nr_stad!$U$8:$U$60,0),0)","v":0}]
[null,null,null,null,null,null,null,0,"-","-",null,"-","-",null,"-",null,null,null,null,0,0,{"$error":"#DIV/0!"},{"$error":"#VALUE!"},{"$error":"#VALUE!"},0,{"$f":"IFERROR(MATCH(D94,Nr_stad!$U$8:$U$60,0),0)","v":0}]
[null,null,null,null,null,null,null,0,"-","-",null,"-","-",null,"-",null,null,null,null,0,0,{"$error":"#DIV/0!"},{"$error":"#VALUE!"},{"$error":"#VALUE!"},0,{"$f":"IFERROR(MATCH(D95,Nr_stad!$U$8:$U$60,0),0)","v":0}]
[null,null,null,null,null,null,null,0,"-","-",null,"-","-",null,"-",null,null,null,null,0,0,{"$error":"#DIV/0!"},{"$error":"#VALUE!"},{"$error":"#VALUE!"},0,{"$f":"IFERROR(MATCH(D96,Nr_stad!$U$8:$U$60,0),0)","v":0}]
[null,null,null,null,null,null,null,0,"-","-",null,"-","-",null,"-",null,null,null,null,0,0,{"$error":"#DIV/0!"},{"$error":"#VALUE!"},{"$error":"#VALUE!"},0,{"$f":"IFERROR(MATCH(D97,Nr_stad!$U$8:$U$60,0),0)","v":0}]
[null,null,null,null,null,null,null,0,"-","-",null,"-","-",null,"-",null,null,null,null,0,0,{"$error":"#DIV/0!"},{"$error":"#VALUE!"},{"$error":"#VALUE!"},0,{"$f":"IFERROR(MATCH(D98,Nr_stad!$U$8:$U$60,0),0)","v":0}]
[null,null,null,null,null,null,null,0,"-","-",null,"-","-",null,"-",null,null,null,null,0,0,{"$error":"#DIV/0!"},{"$error":"#VALUE!"},{"$error":"#VALUE!"},0,{"$f":"IFERROR(MATCH(D99,Nr_stad!$U$8:$U$60,0),0)","v":0}]
[null,null,null,null,null,null,null,0,"-","-",null,"-","-",null,"-",null,null,null,null,0,0,{"$error":"#DIV/0!"},{"$error":"#VALUE!"},{"$error":"#VALUE!"},0,{"$f":"IFERROR(MATCH(D100,Nr_stad!$U$8:$U$60,0),0)","v":0}]
[null,null,null,null,null,null,null,0,"-","-",null,"-","-",null,"-",null,null,null,null,0,0,{"$error":"#DIV/0!"},{"$error":"#VALUE!"},{"$error":"#VALUE!"},0,{"$f":"IFERROR(MATCH(D101,Nr_stad!$U$8:$U$60,0),0)","v":0}]
[null,null,null,null,null,null,null,0,"-","-",null,"-","-",null,"-",null,null,null,null,0,0,{"$error":"#DIV/0!"},{"$error":"#VALUE!"},{"$error":"#VALUE!"},0,{"$f":"IFERROR(MATCH(D102,Nr_stad!$U$8:$U$60,0),0)","v":0}]
[null,null,null,null,null,null,null,0,"-","-",null,"-","-",null,"-",null,null,null,null,0,0,{"$error":"#DIV/0!"},{"$error":"#VALUE!"},{"$error":"#VALUE!"},0,{"$f":"IFERROR(MATCH(D103,Nr_stad!$U$8:$U$60,0),0)","v":0}]
[null,null,null,null,null,null,null,{"$f":"F104*G104","v":0},{"$f":"IFERROR((U104/K104),\"-\")","v":"-"},{"$f":"IFERROR(IF(L104=\"-\",I104-O104,I104-L104),\"-\")","v":"-"},null,{"$f":"IFERROR(U104/N104,\"-\")","v":"-"},{"$f":"IFERROR(L104-O104,\"-\")","v":"-"},null,{"$f":"IFERROR(U104/P104,\"-\")","v":"-"},null,null,null,null,0,{"$f":"$U$24*H104","v":0},{"$f":"U104/K104","v":{"$error":"#DIV/0!"}},{"$f":"L104/H104","v":{"$error":"#VALUE!"}},{"$f":"O104/H104","v":{"$error":"#VALUE!"}},{"$f":"MAX(I104,L104,O104)","v":0},{"$f":"IFERROR(MATCH(D104,Nr_stad!$U$8:$U$60,0),0)","v":0}]
[null,null,null,null,null,null,null,0,"-","-",null,"-","-",null,"-",null,null,null,null,0,0,{"$error":"#DIV/0!"},{"$error":"#VALUE!"},{"$error":"#VALUE!"},0,{"$f":"IFERROR(MATCH(D105,Nr_stad!$U$8:$U$60,0),0)","v":0}]
[null,null,null,null,null,null,null,0,"-","-",null,"-","-",null,"-",null,null,null,null,0,0,{"$error":"#DIV/0!"},{"$error":"#VALUE!"},{"$error":"#VALUE!"},0,{"$f":"IFERROR(MATCH(D106,Nr_stad!$U$8:$U$60,0),0)","v":0}]
[null,null,null,null,null,null,null,0,"-","-",null,"-","-",null,"-",null,null,null,null,0,0,{"$error":"#DIV/0!"},{"$error":"#VALUE!"},{"$error":"#VALUE!"},0,{"$f":"IFERROR(MATCH(D107,Nr_stad!$U$8:$U$60,0),0)","v":0}]
[null,null,null,null,null,null,null,0,"-","-",null,"-","-",null,"-",null,null,null,null,0,0,{"$error":"#DIV/0!"},{"$error":"#VALUE!"},{"$error":"#VALUE!"},0,{"$f":"IFERROR(MATCH(D108,Nr_stad!$U$8:$U$60,0),0)","v":0}]
[null,null,null,null,null,null,null,0,"-","-",null,"-","-",null,"-",null,null,null,null,0,0,{"$error":"#DIV/0!"},{"$error":"#VALUE!"},{"$error":"#VALUE!"},0,{"$f":"IFERROR(MATCH(D109,Nr_stad!$U$8:$U$60,0),0)","v":0}]
[null,null,null,null,null,null,null,0,"-","-",null,"-","-",null,"-",null,null,null,null,0,0,{"$error":"#DIV/0!"},{"$error":"#VALUE!"},{"$error":"#VALUE!"},0,{"$f":"IFERROR(MATCH(D110,Nr_stad!$U$8:$U$60,0),0)","v":0}]
[null,null,null,null,null,null,null,0,"-","-",null,"-","-",null,"-",null,null,null,null,0,0,{"$error":"#DIV/0!"},{"$error":"#VALUE!"},{"$error":"#VALUE!"},0,{"$f":"IFERROR(MATCH(D111,Nr_stad!$U$8:$U$60,0),0)","v":0}]
[null,null,null,null,null,null,null,0,"-","-",null,"-","-",null,"-",null,null,null,null,0,0,{"$error":"#DIV/0!"},{"$error":"#VALUE!"},{"$error":"#VALUE!"},0,{"$f":"IFERROR(MATCH(D112,Nr_stad!$U$8:$U$60,0),0)","v":0}]
[null,null,null,null,null,null,null,0,"-","-",null,"-","-",null,"-",null,null,null,null,0,0,{"$error":"#DIV/0!"},{"$error":"#VALUE!"},{"$error":"#VALUE!"},0,{"$f":"IFERROR(MATCH(D113,Nr_stad!$U$8:$U$60,0),0)","v":0}]
[null,null,null,null,null,null,null,0,"-","-",null,"-","-",null,"-",null,null,null,null,0,0,{"$error":"#DIV/0!"},{"$error":"#VALUE!"},{"$error":"#VALUE!"},0,{"$f":"IFERROR(MATCH(D114,Nr_stad!$U$8:$U$60,0),0)","v":0}]
[null,null,null,null,null,null,null,0,"-","-",null,"-","-",null,"-",null,null,null,null,0,0,{"$error":"#DIV/0!"},{"$error":"#VALUE!"},{"$error":"#VALUE!"},0,{"$f":"IFERROR(MATCH(D115,Nr_stad!$U$8:$U$60,0),0)","v":0}]
[null,null,null,null,null,null,null,0,"-","-",null,"-","-",null,"-",null,null,null,null,0,0,{"$error":"#DIV/0!"},{"$error":"#VALUE!"},{"$error":"#VALUE!"},0,{"$f":"IFERROR(MATCH(D116,Nr_stad!$U$8:$U$60,0),0)","v":0}]
[null,null,null,null,null,null,null,0,"-","-",null,"-","-",null,"-",null,null,null,null,0,0,{"$error":"#DIV/0!"},{"$error":"#VALUE!"},{"$error":"#VALUE!"},0,{"$f":"IFERROR(MATCH(D117,Nr_stad!$U$8:$U$60,0),0)","v":0}]
[null,null,null,"HALA",null,null,null,0,"-","-",null,"-","-",null,"-",null,null,null,null,0,0,{"$error":"#DIV/0!"},{"$error":"#VALUE!"},{"$error":"#VALUE!"},0,{"$f":"IFERROR(MATCH(D118,Nr_stad!$U$8:$U$60,0),0)","v":0}]
[null,null,null,"POWIERZCHNIA BYTOWA - RAZEM:",null,null,null,{"$f":"SUM(H25:H118)","v":0},"-","-","-","-","-","-","-","-",null,null,null,10,0,{"$error":"#VALUE!"},{"$error":"#VALUE!"},{"$error":"#VALUE!"},0,{"$f":"IFERROR(MATCH(D119,Nr_stad!$U$8:$U$60,0),0)","v":0}]
[null,null,null,"RAZEM:",null,null,null,null,{"$f":"SUM(I25:I119)","v":0},"-","-",{"$f":"SUM(L25:L119)","v":0},"-","-",{"$f":"SUM(O25:O119)","v":0},"-",null,null,null,{"$f":"SUM(F120:M120)+X120","v":0},null,null,null,null,{"$f":"SUM(Y25:Y119)","v":0}]

{"sheet":"Brojlery_ind","index":35,"n_rows":8,"n_cols":7,"rows_kept":8,"cut":false,"hidden":true,"merged":[[2,2,2,6],[7,1,7,6]]}
[]
[null,null,"Indyki utrzymywane z przeznaczeniem na produkcję mięsa"]
[null,"-","zapewnienie stałego dostępu do materiałów lub przedmiotów absorbujących uwagę o jakości niewywierającej szkodliwego wpływu na zdrowie"]
[]
[null,"Lp","Wyszczególnienie","warunek\nmax/min","jed.","Obowiązujące normy prawne*","Wymogi obowiązujące w dobrostanie "]
[null,1,"Obsada","max","kg/m2",57,50]
[null,2,"Dzień świetlny - faza ciemna","min","godz/dobę","-",8]
[null,"(*)Rozporządzenie Ministra Rolnictwa i Rozwoju Wsi z dnia 28 czerwca 2010 r. w sprawie minimalnych warunków utrzymywania gatunków zwierząt gospodarskich innych niż te, dla których normy ochrony zostały określone w przepisach Unii Europejskiej (t. j. Dz. U. z 2019, poz. 1966)."]

{"sheet":"Opasy","index":36,"n_rows":26,"n_cols":18,"rows_kept":26,"cut":false,"hidden":true,"merged":[[25,1,25,8],[21,1,21,8],[22,5,22,6],[23,5,23,6],[24,5,24,6],[10,2,10,8],[12,5,12,6],[12,7,12,8],[14,1,14,8],[17,5,17,6],[13,8,13,9],[9,2,9,8],[3,2,3,8],[4,2,4,8],[5,2,5,8],[7,2,7,8],[8,2,8,8]]}
[]
[null,null,"Opasy"]
[null,"a) ","zwiększona powierzchnia bytowa:"]
[null,"-","wymogami objęte jest bydło opasowe w wieku kwalifikującym się do płatności;"]
[null,"-","utrzymywanie bez uwięzi;"]
[null,"-","utrzymywanie na ściółce;"]
[null,"b)","zwiększona powierzchnia bytowa wraz z wybiegami:"]
[null,"-","wymogami objęte jest bydło opasowe w wieku kwalifikującym się do płatności;"]
[null,"-","utrzymywanie bez uwięzi;"]
[null,"-","utrzymywanie na ściółce;"]
[null,"-","zapewnienie dostępu do wybiegu przez co najmniej 4 godz. dziennie przez cały rok, z możliwością zastąpienia przebywania na wybiegu przez pastwiskowanie w sezonie wegetacyjnym;"]
[]
[null,"Lp","Wyszczególnienie","warunek\nmax/min","jed.","Obowiązujące normy prawne*",null,"Wymogi obowiązujące w dobrostanie "]
[null,null,null,null,null,"szerokość ","długość ","szerokość ","długość "]
[null,"CIELĘTA (*)",null,null,null,null,null,null,null,null,null,null,null,null,"dl","p_dł","%"]
[null,1,"Utrzymywane pojedynczo – wymiary kojca***","min","m","wysokość w kłębie","1,1 długości od czubka nosa do ogonowej krawędzi guza kulszowego","wysokość w kłębie + 20%","1,1 długości ",0.2,null,null,null,null,1.2,{"$f":"O16*1.1","v":1.32},{"$f":"P16*0.2","v":0.26400000000000001},{"$f":"P16+Q16","v":1.5840000000000001}]
[null,null,null,null,null,null,null,1.2,1.1000000000000001,1.2,null,null,"Cielęta utrzymywane pojedynczo"]
[null,2,"Utrzymywane grupowo – powierzchnia kojca w przeliczeniu na jedną sztukę",null,null,"Powierzchnia",null,null,"Powierzchnia",null,null,null,"Cielęta utrzymywane grupowo"]
[null,"-","dla cieląt o masie ciała do 150 kg","min","m2",1.5,null,1.8,null,null,null,null,"Opasy utrzymywane na ściółce i bez uwięzi"]
[null,"-","dla cieląt o masie ciała do 150 - 220 kg","min","m2",1.7,null,2]
[null,"-","dla cieląt o masie ciała powyżej 220 kg","min","m2",1.8,null,2.2000000000000002]
[null,"OPASY(**)"]
[null,3,"Utrzymywane bez uwięzi wolnostanowiskowo  bez wydzielonych legowisk na ściółce",null,null,"Powierzchnia",null,null,"Powierzchnia"]
[null,"-","bydło opasowe o masie ciała do 300 kg ","min","m2/szt",1.6,null,1.9]
[null,"-","bydło opasowe o masie ciała powyżej 300 kg ","min","m2/szt",2.2000000000000002,null,2.6]
[null,"(*) Rozporządzenie MRiRW z dnia 15 lutego 2010 r. w sprawie wymagań i sposobu postępowania przy utrzymywaniu gatunków zwierząt gospodarskich, dla których normy ochrony zostały określone w przepisach Unii Europejskiej (Dz. U. Nr 56, poz. 344, z późn. zm.).\n(**) Rozporządzenie Ministra Rolnictwa i Rozwoju Wsi z dnia 28 czerwca 2010 r. w sprawie minimalnych warunków utrzymywania gatunków zwierząt gospodarskich innych niż te, dla których normy ochrony zostały określone w przepisach Unii Europejskiej (t. j. Dz. U. z 2019, poz. 1966).\n(***) pojedynczo można utrzymywać cielęta w wieku powyżej 8 tygodni tylko w gospodarstwach, które posiadają mniej niż 6 sztuk cieląt (w gospodarstwach utrzymujących co najmniej 6 cieląt – zabrania się utrzymania pojedynczo cieląt w wieku powyżej 8 tygodnia życia).\n"]

{"sheet":"Konie_byt","index":37,"n_rows":130,"n_cols":39,"rows_kept":130,"cut":false,"hidden":false,"merged":[[125,3,125,12],[11,3,11,5],[11,7,11,9],[11,13,11,15],[5,3,5,9],[4,3,4,15],[17,11,17,13],[8,3,8,8],[12,3,12,12],[16,11,16,12],[10,3,10,15],[105,6,105,7],[106,3,106,5],[106,6,106,7],[102,6,102,7],[101,3,101,5],[101,6,101,7],[102,3,102,5],[100,3,100,5],[100,6,100,7],[104,3,104,5],[104,6,104,7],[45,3,45,5],[45,6,45,7],[73,3,73,5],[73,6,73,7],[74,3,74,5],[74,6,74,7],[75,3,75,5],[75,6,75,7],[88,3,88,5],[78,3,78,5],[78,6,78,7],[79,3,79,5],[79,6,79,7],[76,3,76,5],[86,3,86,5],[86,6,86,7],[87,3,87,5],[87,6,87,7],[83,3,83,5],[83,6,83,7],[84,3,84,5],[84,6,84,7],[85,3,85,5],[85,6,85,7],[76,6,76,7],[77,3,77,5],[23,26,23,27],[27,3,27,5],[27,6,27,7],[28,3,28,5],[28,6,28,7],[29,3,29,5],[29,6,29,7],[25,6,25,7],[26,3,26,5],[26,6,26,7],[23,22,23,25],[22,3,24,5],[22,6,24,7],[22,15,23,15],[22,14,23,14],[22,10,22,13],[129,12,129,14],[117,3,117,5],[117,6,117,7],[118,3,118,5],[118,6,118,7],[112,3,112,5],[112,6,112,7],[113,3,113,5],[113,6,113,7],[122,3,122,5],[122,6,122,7],[123,3,123,5],[123,6,123,7],[124,3,124,5],[124,6,124,7],[119,3,119,5],[119,6,119,7],[120,3,120,5],[120,6,120,7],[121,3,121,5],[121,6,121,7],[115,6,115,7],[126,13,126,14],[126,3,126,8],[97,3,97,5],[116,3,116,5],[116,6,116,7],[109,3,109,5],[109,6,109,7],[110,3,110,5],[110,6,110,7],[111,3,111,5],[111,6,111,7],[107,3,107,5],[107,6,107,7],[108,3,108,5],[108,6,108,7],[103,3,103,5],[103,6,103,7],[114,3,114,5],[114,6,114,7],[115,3,115,5],[97,6,97,7],[98,3,98,5],[98,6,98,7],[105,3,105,5],[99,3,99,5],[99,6,99,7],[96,3,96,5],[96,6,96,7],[91,6,91,7],[92,3,92,5],[92,6,92,7],[93,3,93,5],[93,6,93,7],[94,6,94,7],[95,3,95,5],[95,6,95,7],[91,3,91,5],[94,3,94,5],[77,6,77,7],[89,3,89,5],[89,6,89,7],[90,3,90,5],[90,6,90,7],[81,3,81,5],[81,6,81,7],[82,3,82,5],[82,6,82,7],[80,3,80,5],[80,6,80,7],[88,6,88,7],[62,3,62,5],[62,6,62,7],[70,3,70,5],[70,6,70,7],[71,3,71,5],[71,6,71,7],[72,3,72,5],[72,6,72,7],[63,3,63,5],[63,6,63,7],[64,3,64,5],[64,6,64,7],[68,3,68,5],[68,6,68,7],[69,3,69,5],[69,6,69,7],[65,3,65,5],[65,6,65,7],[66,3,66,5],[66,6,66,7],[67,3,67,5],[67,6,67,7],[35,3,35,5],[35,6,35,7],[36,3,36,5],[36,6,36,7],[37,3,37,5],[61,3,61,5],[61,6,61,7],[52,3,52,5],[52,6,52,7],[53,3,53,5],[53,6,53,7],[54,3,54,5],[54,6,54,7],[55,3,55,5],[55,6,55,7],[56,3,56,5],[56,6,56,7],[57,3,57,5],[57,6,57,7],[58,3,58,5],[58,6,58,7],[59,3,59,5],[59,6,59,7],[60,3,60,5],[60,6,60,7],[40,3,40,5],[40,6,40,7],[41,3,41,5],[41,6,41,7],[42,3,42,5],[42,6,42,7],[43,3,43,5],[43,6,43,7],[44,3,44,5],[44,6,44,7],[37,6,37,7],[38,3,38,5],[38,6,38,7],[39,3,39,5],[39,6,39,7],[50,3,50,5],[50,6,50,7],[51,3,51,5],[51,6,51,7],[47,3,47,5],[47,6,47,7],[48,3,48,5],[48,6,48,7],[49,3,49,5],[49,6,49,7],[46,3,46,5],[46,6,46,7],[34,3,34,5],[34,6,34,7],[32,3,32,5],[32,6,32,7],[22,8,22,9],[30,3,30,5],[30,6,30,7],[31,3,31,5],[31,6,31,7],[23,8,24,8],[25,3,25,5],[33,6,33,7],[21,3,21,12],[33,3,33,5],[2,3,2,9],[3,3,3,13],[18,3,18,15],[19,3,19,11],[6,3,6,15],[7,3,7,12],[13,3,14,7],[15,3,15,7],[16,3,16,7],[13,9,13,10],[14,9,14,10],[15,9,15,10],[16,9,16,10],[13,11,13,12],[14,11,14,12],[15,11,15,12],[9,3,9,8],[9,9,9,11],[9,12,9,15],[17,3,17,8],[21,13,21,14]]}
[null,null,"Uwaga !!! Po wydrukowaniu uzupełnić ręcznie Oświadczenie i czytelnie podpisać",null,null,null,null,null,null,null,null,null,null,null,null,"POWRÓT",null,null,null,null,null,null,null,null,null,null,null,null,null,null,null,null,null,null,"UWAGI",null,null,null,"UWAGI"]
[null,null,"II. Część szczegółowa  "]
[null,null,"II.11.","Dobrostan koni utrzymywanych w pomieszczeniach lub w budynkach"]
[null,null,"II.11.1.","Informacja o stadzie koni utrzymywanych w pomieszczeniach lub w budynkach"]
[null,null,null,"System utrzymywania koni w gospodarstwie jest zgodny z klasyfikacją przyjętą w rozporządzeniu Ministra Rolnictwa i Rozwoju Wsi z dnia 23 grudnia 2022r. w sprawie szczegółowego zakresu informacji zawartych w komputerowej bazie danych (Dz.U. z 2023 r. poz. 15).",null,null,null,null,null,null,null,null,null,null,null,null,null,null,null,null,null,null,null,null,null,null,null,null,null,null,null,null,null,null,"Uzgodnienia z MRiRW w dniu 14.03.23",null,null,null,"Uzgodnienia z MRiRW w dniu 14.03.23"]
[null,null,null,"Informacja w jakim wieku odsadzane są źrebięta:",null,null,null,null,null,null,null,"dni",null,null,null,null,null,null,null,true]
[null,null,"II.11.2.","W ramach dobrostanu koni - zwiększona powierzchnia bytowa:",null,null,null,null,null,null,null,null,null,null,null,null,null,null,null,false]
[null,null,{"$f":"IF(T8=TRUE,$U$9,$V$9)","v":"☐"},"utrzymywanie bez uwięzi;",null,null,null,null,null,null,null,null,null,null,null,null,null,null,null,false,"☒","☐"]
[null,null,{"$f":"IF(T9=TRUE,$U$9,$V$9)","v":"☒"},"w sezonie pastwiskowym - wypas lub dostęp do powierzchni zewnętrznych przez co najmniej 140 dni (przez min. 6 godz. dziennie);",null,null,null,null,null,null,null,null,null,null,null,null,null,null,true,true,"☒","☐"]
[null,null,{"$f":"IF(T10=TRUE,$U$9,$V$9)","v":"☐"},"poza sezonem pastwiskowym - dostęp do powierzchni zewnętrznych lub biegalni przez min. 2 godz. Dziennie.",null,null,null,null,null,"Termin wykorzystania posiadanych zewnętrznych powierzchni bytowych:",null,null,null,null,null,null,null,null,null,false]
[null,null,{"$f":"IF(T12=TRUE,$U$9,$V$9)","v":"☐"},"Do planu poprawy dobrostanu zwierząt dołączono szkic gospodarstwa ze wskazanymi działkami ewidencyjnymi, na których są zlokalizowane zewnętrzne powierzchnie bytowe (pastwiska, wybiegi lub okólniki) przeznaczone dla zwierząt objętych wymogami praktyki i wariantu. "]
[null,null,null,"(miejscowość i data)",null,null,null,"(czytelny podpis rolnika)",null,null,null,null,null,"(czytelny podpis doradcy)",null,null,null,null,null,false]
[null,null,"II.11.3.","Powierzchnie zewnętrzne lub biegalnie dostępne przez min. 2 godz. dziennie - poza sezonem pastwiskowym",null,null,null,null,null,null,null,null,null,null,null,null,null,null,null,{"$f":"OR(T14,T15)","v":true}]
[null,null,null,"Grupa zwierząt",null,null,null,null,"Powierzchnie zewnętrzne lub biegalnie","Krotność dostępu do powierzchni zewnętrznej/biegalni dziennie",null,"Powierzchnia minimalna dla grupy zwierząt",null,"Powierzchnia minimalna \n","Maksymalna liczba koni",null,null,null,null,true,"☒","☐"]
[null,null,null,null,null,null,null,null,"m2",null,null,"m2",null,"m2/ szt","szt",null,null,null,null,true,"☒","☐"]
[null,null,null,"Konie dorosłe/ młodzież",null,null,null,null,null,null,null,{"$f":"IFERROR(S16*N16,\"-\")","v":"-"},null,{"$f":"Konie!D8","v":70},{"$f":"AD127","v":0},null,null,null,{"$f":"_xlfn.CEILING.MATH(O16/J16)","v":{"$error":"#DIV/0!"}},true,"☒","☐"]
[null,null,null,"Klacze ze źrebiętami",null,null,null,null,null,null,null,{"$f":"IFERROR(S17*N17,\"-\")","v":"-"},null,{"$f":"Konie!D9","v":85},{"$f":"AE127","v":0},null,null,null,{"$f":"_xlfn.CEILING.MATH(O17/J17)","v":{"$error":"#DIV/0!"}}]
[null,null,null,"Wielkości (w m2) posiadanych zewnętrznych powierzchni bytowych dotyczą łącznie wnioskodawcy i wskazanych innych posiadaczy",null,null,null,null,null,"NIE",null,"SUMA LICZBY KONI:",null,null,{"$f":"O16+O17","v":0},null,null,null,"NIE"]
[null,null,"II.11.4.","Powierzchnia bytowa dla koni w pomieszczeniach",null,null,null,null,null,null,null,null,null,null,null,null,null,null,"TAK"]
[null,null,null,"Podanie powierzchni bytowej przeznaczonej dla koni w pomieszczeniach w gospodarstwie rolnym ",null,null,null,null,null,null,null,null,600,"m2"]
[]
[null,null,"II.11.5.","Dopuszczalna maksymalna liczba koni, które mogą przebywać jednocześnie w gospodarstwie z uwzględnieniem wymogów -  Dobrostan koni – zwiększona powierzchnia bytowa",null,null,null,null,null,null,null,null,null,{"$f":"IF(S127>M20,\"Brak Powierzchni!\",\" \")","v":" "}]
[null,null,null,"Numer siedziby stada \nalbo nazwa obiektu - nr sekcji",null,null,"Sposób utrzymywania",null,"Grupa zwierząt",null,"Powierzchnia bytowa boksu/pomieszczenia",null,null,null,"Powierzchnia minimalna","Maksymalna liczba koni",null,null,null,null,null,null,null,null,null,null,null,null,"do 1,47"]
[null,null,null,null,null,null,null,null,"Nazwa grupy","Maksymalna wysokość w kłębie\nkonia w kojcu","Liczba boksów pojedynczych","Dł.","Szer.","Pow.",null,null,null,null,null,null,null,null,"boksy",null,null,null,"wolnost",null,"powyż. 1,47"]
[null,null,null,null,null,null,null,null,null,"m","szt.","m","m","m2","m2/szt.","szt.",null,null,null,null,null,"wyb utrz.","poz. Gr","kon","klacz","pow","pow","poz Gr","wyb","konie","klacze","GR","GR -sum"]
[null,null,null,null,null,null,null,null,null,null,null,null,null,{"$f":"IFERROR(L26*M26*K26,L26*M26)","v":0},{"$f":"IFERROR(IF(V26=1,Z26,AA26),\"-\")","v":0},{"$f":"IFERROR(IF(N26<O26,\"-\",IF(V26=1,K26,TRUNC(N26/O26))),\"-\")","v":"-"},null,null,{"$f":"IFERROR(O26*P26,0)","v":0},{"$f":"IFERROR(MATCH(D26,Nr_stad!$U$8:$U$60,0),0)","v":0},{"$f":"SUM(H26:P26)+T26","v":0},{"$f":"IFERROR(MATCH(G26,Konie!$I$12:$I$13,0),0)","v":0},{"$f":"IFERROR(MATCH(I26,Konie!$K$12:$K$13,0),0)","v":0},{"$f":"IF(J26=\"\",0,IF(W26=1,IF(J26=\"do 1,47\",Konie!$G$12,Konie!$G$13),0))","v":0},{"$f":"IF(W26=2,Konie!$G$14,0)","v":0},{"$f":"MAX(X26:Y26)","v":0},{"$f":"IFERROR(IF(AB26=2,Konie!$G$17,Konie!$G$16),0)","v":0},{"$f":"MATCH(I26,Konie!$L$12:$L$13,0)","v":{"$error":"#N/A"}},null,null,null,{"$f":"IFERROR(AB26,0)","v":0},{"$f":"MAX(W26,AF26)","v":0}]
[null,null,null,null,null,null,null,null,null,null,null,null,null,{"$f":"IFERROR(L27*M27*K27,L27*M27)","v":0},{"$f":"IFERROR(IF(V27=1,Z27,AA27),\"-\")","v":0},{"$f":"IFERROR(IF(N27<O27,\"-\",IF(V27=1,K27,TRUNC(N27/O27))),\"-\")","v":"-"},null,null,{"$f":"IFERROR(O27*P27,0)","v":0},{"$f":"IFERROR(MATCH(D27,Nr_stad!$U$8:$U$60,0),0)","v":0},{"$f":"SUM(H27:P27)+T27","v":0},{"$f":"IFERROR(MATCH(G27,Konie!$I$12:$I$13,0),0)","v":0},{"$f":"IFERROR(MATCH(I27,Konie!$K$12:$K$13,0),0)","v":0},{"$f":"IF(J27=\"\",0,IF(W27=1,IF(J27=\"do 1,47\",Konie!$G$12,Konie!$G$13),0))","v":0},{"$f":"IF(W27=2,Konie!$G$14,0)","v":0},{"$f":"MAX(X27:Y27)","v":0},{"$f":"IFERROR(IF(AB27=2,Konie!$G$17,Konie!$G$16),0)","v":0},{"$f":"MATCH(I27,Konie!$L$12:$L$13,0)","v":{"$error":"#N/A"}},null,null,null,{"$f":"IFERROR(AB27,0)","v":0},{"$f":"MAX(W27,AF27)","v":0}]
[null,null,null,null,null,null,null,null,null,null,null,null,null,0,0,"-",null,null,0,{"$f":"IFERROR(MATCH(D28,Nr_stad!$U$8:$U$60,0),0)","v":0},0,{"$f":"IFERROR(MATCH(G28,Konie!$I$12:$I$13,0),0)","v":0},{"$f":"IFERROR(MATCH(I28,Konie!$K$12:$K$13,0),0)","v":0},{"$f":"IF(J28=\"\",0,IF(W28=1,IF(J28=\"do 1,47\",Konie!$G$12,Konie!$G$13),0))","v":0},{"$f":"IF(W28=2,Konie!$G$14,0)","v":0},0,{"$f":"IFERROR(IF(AB28=2,Konie!$G$17,Konie!$G$16),0)","v":0},{"$f":"MATCH(I28,Konie!$L$12:$L$13,0)","v":{"$error":"#N/A"}},null,null,null,0,0]
[null,null,null,null,null,null,null,null,null,null,null,null,null,0,0,"-",null,null,0,{"$f":"IFERROR(MATCH(D29,Nr_stad!$U$8:$U$60,0),0)","v":0},0,{"$f":"IFERROR(MATCH(G29,Konie!$I$12:$I$13,0),0)","v":0},{"$f":"IFERROR(MATCH(I29,Konie!$K$12:$K$13,0),0)","v":0},{"$f":"IF(J29=\"\",0,IF(W29=1,IF(J29=\"do 1,47\",Konie!$G$12,Konie!$G$13),0))","v":0},{"$f":"IF(W29=2,Konie!$G$14,0)","v":0},0,{"$f":"IFERROR(IF(AB29=2,Konie!$G$17,Konie!$G$16),0)","v":0},{"$f":"MATCH(I29,Konie!$L$12:$L$13,0)","v":{"$error":"#N/A"}},null,null,null,0,0]
[null,null,null,null,null,null,null,null,null,null,null,null,null,0,0,"-",null,null,0,{"$f":"IFERROR(MATCH(D30,Nr_stad!$U$8:$U$60,0),0)","v":0},0,{"$f":"IFERROR(MATCH(G30,Konie!$I$12:$I$13,0),0)","v":0},{"$f":"IFERROR(MATCH(I30,Konie!$K$12:$K$13,0),0)","v":0},{"$f":"IF(J30=\"\",0,IF(W30=1,IF(J30=\"do 1,47\",Konie!$G$12,Konie!$G$13),0))","v":0},{"$f":"IF(W30=2,Konie!$G$14,0)","v":0},0,{"$f":"IFERROR(IF(AB30=2,Konie!$G$17,Konie!$G$16),0)","v":0},{"$f":"MATCH(I30,Konie!$L$12:$L$13,0)","v":{"$error":"#N/A"}},null,null,null,0,0]
[null,null,null,null,null,null,null,null,null,null,null,null,null,0,0,"-",null,null,0,{"$f":"IFERROR(MATCH(D31,Nr_stad!$U$8:$U$60,0),0)","v":0},0,{"$f":"IFERROR(MATCH(G31,Konie!$I$12:$I$13,0),0)","v":0},{"$f":"IFERROR(MATCH(I31,Konie!$K$12:$K$13,0),0)","v":0},{"$f":"IF(J31=\"\",0,IF(W31=1,IF(J31=\"do 1,47\",Konie!$G$12,Konie!$G$13),0))","v":0},{"$f":"IF(W31=2,Konie!$G$14,0)","v":0},0,{"$f":"IFERROR(IF(AB31=2,Konie!$G$17,Konie!$G$16),0)","v":0},{"$f":"MATCH(I31,Konie!$L$12:$L$13,0)","v":{"$error":"#N/A"}},null,null,null,0,0]
[null,null,null,null,null,null,null,null,null,null,null,null,null,0,0,"-",null,null,0,{"$f":"IFERROR(MATCH(D32,Nr_stad!$U$8:$U$60,0),0)","v":0},0,{"$f":"IFERROR(MATCH(G32,Konie!$I$12:$I$13,0),0)","v":0},{"$f":"IFERROR(MATCH(I32,Konie!$K$12:$K$13,0),0)","v":0},{"$f":"IF(J32=\"\",0,IF(W32=1,IF(J32=\"do 1,47\",Konie!$G$12,Konie!$G$13),0))","v":0},{"$f":"IF(W32=2,Konie!$G$14,0)","v":0},0,{"$f":"IFERROR(IF(AB32=2,Konie!$G$17,Konie!$G$16),0)","v":0},{"$f":"MATCH(I32,Konie!$L$12:$L$13,0)","v":{"$error":"#N/A"}},null,null,null,0,0]
[null,null,null,null,null,null,null,null,null,null,null,null,null,0,0,"-",null,null,0,{"$f":"IFERROR(MATCH(D33,Nr_stad!$U$8:$U$60,0),0)","v":0},0,{"$f":"IFERROR(MATCH(G33,Konie!$I$12:$I$13,0),0)","v":0},{"$f":"IFERROR(MATCH(I33,Konie!$K$12:$K$13,0),0)","v":0},{"$f":"IF(J33=\"\",0,IF(W33=1,IF(J33=\"do 1,47\",Konie!$G$12,Konie!$G$13),0))","v":0},{"$f":"IF(W33=2,Konie!$G$14,0)","v":0},0,{"$f":"IFERROR(IF(AB33=2,Konie!$G$17,Konie!$G$16),0)","v":0},{"$f":"MATCH(I33,Konie!$L$12:$L$13,0)","v":{"$error":"#N/A"}},null,null,null,0,0]
[null,null,null,null,null,null,null,null,null,null,null,null,null,0,0,"-",null,null,0,{"$f":"IFERROR(MATCH(D34,Nr_stad!$U$8:$U$60,0),0)","v":0},0,{"$f":"IFERROR(MATCH(G34,Konie!$I$12:$I$13,0),0)","v":0},{"$f":"IFERROR(MATCH(I34,Konie!$K$12:$K$13,0),0)","v":0},{"$f":"IF(J34=\"\",0,IF(W34=1,IF(J34=\"do 1,47\",Konie!$G$12,Konie!$G$13),0))","v":0},{"$f":"IF(W34=2,Konie!$G$14,0)","v":0},0,{"$f":"IFERROR(IF(AB34=2,Konie!$G$17,Konie!$G$16),0)","v":0},{"$f":"MATCH(I34,Konie!$L$12:$L$13,0)","v":{"$error":"#N/A"}},null,null,null,0,0]
[null,null,null,null,null,null,null,null,null,null,null,null,null,0,0,"-",null,null,0,{"$f":"IFERROR(MATCH(D35,Nr_stad!$U$8:$U$60,0),0)","v":0},0,{"$f":"IFERROR(MATCH(G35,Konie!$I$12:$I$13,0),0)","v":0},{"$f":"IFERROR(MATCH(I35,Konie!$K$12:$K$13,0),0)","v":0},{"$f":"IF(J35=\"\",0,IF(W35=1,IF(J35=\"do 1,47\",Konie!$G$12,Konie!$G$13),0))","v":0},{"$f":"IF(W35=2,Konie!$G$14,0)","v":0},0,{"$f":"IFERROR(IF(AB35=2,Konie!$G$17,Konie!$G$16),0)","v":0},{"$f":"MATCH(I35,Konie!$L$12:$L$13,0)","v":{"$error":"#N/A"}},null,null,null,0,0]
[null,null,null,null,null,null,null,null,null,null,null,null,null,0,0,"-",null,null,0,{"$f":"IFERROR(MATCH(D36,Nr_stad!$U$8:$U$60,0),0)","v":0},0,{"$f":"IFERROR(MATCH(G36,Konie!$I$12:$I$13,0),0)","v":0},{"$f":"IFERROR(MATCH(I36,Konie!$K$12:$K$13,0),0)","v":0},{"$f":"IF(J36=\"\",0,IF(W36=1,IF(J36=\"do 1,47\",Konie!$G$12,Konie!$G$13),0))","v":0},{"$f":"IF(W36=2,Konie!$G$14,0)","v":0},0,{"$f":"IFERROR(IF(AB36=2,Konie!$G$17,Konie!$G$16),0)","v":0},{"$f":"MATCH(I36,Konie!$L$12:$L$13,0)","v":{"$error":"#N/A"}},null,null,null,0,0]
[null,null,null,null,null,null,null,null,null,null,null,null,null,0,0,"-",null,null,0,{"$f":"IFERROR(MATCH(D37,Nr_stad!$U$8:$U$60,0),0)","v":0},0,{"$f":"IFERROR(MATCH(G37,Konie!$I$12:$I$13,0),0)","v":0},{"$f":"IFERROR(MATCH(I37,Konie!$K$12:$K$13,0),0)","v":0},{"$f":"IF(J37=\"\",0,IF(W37=1,IF(J37=\"do 1,47\",Konie!$G$12,Konie!$G$13),0))","v":0},{"$f":"IF(W37=2,Konie!$G$14,0)","v":0},0,{"$f":"IFERROR(IF(AB37=2,Konie!$G$17,Konie!$G$16),0)","v":0},{"$f":"MATCH(I37,Konie!$L$12:$L$13,0)","v":{"$error":"#N/A"}},null,null,null,0,0]
[null,null,null,null,null,null,null,null,null,null,null,null,null,0,0,"-",null,null,0,{"$f":"IFERROR(MATCH(D38,Nr_stad!$U$8:$U$60,0),0)","v":0},0,{"$f":"IFERROR(MATCH(G38,Konie!$I$12:$I$13,0),0)","v":0},{"$f":"IFERROR(MATCH(I38,Konie!$K$12:$K$13,0),0)","v":0},{"$f":"IF(J38=\"\",0,IF(W38=1,IF(J38=\"do 1,47\",Konie!$G$12,Konie!$G$13),0))","v":0},{"$f":"IF(W38=2,Konie!$G$14,0)","v":0},0,{"$f":"IFERROR(IF(AB38=2,Konie!$G$17,Konie!$G$16),0)","v":0},{"$f":"MATCH(I38,Konie!$L$12:$L$13,0)","v":{"$error":"#N/A"}},null,null,null,0,0]
[null,null,null,null,null,null,null,null,null,null,null,null,null,0,0,"-",null,null,0,{"$f":"IFERROR(MATCH(D39,Nr_stad!$U$8:$U$60,0),0)","v":0},0,{"$f":"IFERROR(MATCH(G39,Konie!$I$12:$I$13,0),0)","v":0},{"$f":"IFERROR(MATCH(I39,Konie!$K$12:$K$13,0),0)","v":0},{"$f":"IF(J39=\"\",0,IF(W39=1,IF(J39=\"do 1,47\",Konie!$G$12,Konie!$G$13),0))","v":0},{"$f":"IF(W39=2,Konie!$G$14,0)","v":0},0,{"$f":"IFERROR(IF(AB39=2,Konie!$G$17,Konie!$G$16),0)","v":0},{"$f":"MATCH(I39,Konie!$L$12:$L$13,0)","v":{"$error":"#N/A"}},null,null,null,0,0]
[null,null,null,null,null,null,null,null,null,null,null,null,null,0,0,"-",null,null,0,{"$f":"IFERROR(MATCH(D40,Nr_stad!$U$8:$U$60,0),0)","v":0},0,{"$f":"IFERROR(MATCH(G40,Konie!$I$12:$I$13,0),0)","v":0},{"$f":"IFERROR(MATCH(I40,Konie!$K$12:$K$13,0),0)","v":0},{"$f":"IF(J40=\"\",0,IF(W40=1,IF(J40=\"do 1,47\",Konie!$G$12,Konie!$G$13),0))","v":0},{"$f":"IF(W40=2,Konie!$G$14,0)","v":0},0,{"$f":"IFERROR(IF(AB40=2,Konie!$G$17,Konie!$G$16),0)","v":0},{"$f":"MATCH(I40,Konie!$L$12:$L$13,0)","v":{"$error":"#N/A"}},null,null,null,0,0]
[null,null,null,null,null,null,null,null,null,null,null,null,null,0,0,"-",null,null,0,{"$f":"IFERROR(MATCH(D41,Nr_stad!$U$8:$U$60,0),0)","v":0},0,{"$f":"IFERROR(MATCH(G41,Konie!$I$12:$I$13,0),0)","v":0},{"$f":"IFERROR(MATCH(I41,Konie!$K$12:$K$13,0),0)","v":0},{"$f":"IF(J41=\"\",0,IF(W41=1,IF(J41=\"do 1,47\",Konie!$G$12,Konie!$G$13),0))","v":0},{"$f":"IF(W41=2,Konie!$G$14,0)","v":0},0,{"$f":"IFERROR(IF(AB41=2,Konie!$G$17,Konie!$G$16),0)","v":0},{"$f":"MATCH(I41,Konie!$L$12:$L$13,0)","v":{"$error":"#N/A"}},null,null,null,0,0]
[null,null,null,null,null,null,null,null,null,null,null,null,null,0,0,"-",null,null,0,{"$f":"IFERROR(MATCH(D42,Nr_stad!$U$8:$U$60,0),0)","v":0},0,{"$f":"IFERROR(MATCH(G42,Konie!$I$12:$I$13,0),0)","v":0},{"$f":"IFERROR(MATCH(I42,Konie!$K$12:$K$13,0),0)","v":0},{"$f":"IF(J42=\"\",0,IF(W42=1,IF(J42=\"do 1,47\",Konie!$G$12,Konie!$G$13),0))","v":0},{"$f":"IF(W42=2,Konie!$G$14,0)","v":0},0,{"$f":"IFERROR(IF(AB42=2,Konie!$G$17,Konie!$G$16),0)","v":0},{"$f":"MATCH(I42,Konie!$L$12:$L$13,0)","v":{"$error":"#N/A"}},null,null,null,0,0]
[null,null,null,null,null,null,null,null,null,null,null,null,null,0,0,"-",null,null,0,{"$f":"IFERROR(MATCH(D43,Nr_stad!$U$8:$U$60,0),0)","v":0},0,{"$f":"IFERROR(MATCH(G43,Konie!$I$12:$I$13,0),0)","v":0},{"$f":"IFERROR(MATCH(I43,Konie!$K$12:$K$13,0),0)","v":0},{"$f":"IF(J43=\"\",0,IF(W43=1,IF(J43=\"do 1,47\",Konie!$G$12,Konie!$G$13),0))","v":0},{"$f":"IF(W43=2,Konie!$G$14,0)","v":0},0,{"$f":"IFERROR(IF(AB43=2,Konie!$G$17,Konie!$G$16),0)","v":0},{"$f":"MATCH(I43,Konie!$L$12:$L$13,0)","v":{"$error":"#N/A"}},null,null,null,0,0]
[null,null,null,null,null,null,null,null,null,null,null,null,null,0,0,"-",null,null,0,{"$f":"IFERROR(MATCH(D44,Nr_stad!$U$8:$U$60,0),0)","v":0},0,{"$f":"IFERROR(MATCH(G44,Konie!$I$12:$I$13,0),0)","v":0},{"$f":"IFERROR(MATCH(I44,Konie!$K$12:$K$13,0),0)","v":0},{"$f":"IF(J44=\"\",0,IF(W44=1,IF(J44=\"do 1,47\",Konie!$G$12,Konie!$G$13),0))","v":0},{"$f":"IF(W44=2,Konie!$G$14,0)","v":0},0,{"$f":"IFERROR(IF(AB44=2,Konie!$G$17,Konie!$G$16),0)","v":0},{"$f":"MATCH(I44,Konie!$L$12:$L$13,0)","v":{"$error":"#N/A"}},null,null,null,0,0]
[null,null,null,null,null,null,null,null,null,null,null,null,null,0,0,"-",null,null,0,{"$f":"IFERROR(MATCH(D45,Nr_stad!$U$8:$U$60,0),0)","v":0},0,{"$f":"IFERROR(MATCH(G45,Konie!$I$12:$I$13,0),0)","v":0},{"$f":"IFERROR(MATCH(I45,Konie!$K$12:$K$13,0),0)","v":0},{"$f":"IF(J45=\"\",0,IF(W45=1,IF(J45=\"do 1,47\",Konie!$G$12,Konie!$G$13),0))","v":0},{"$f":"IF(W45=2,Konie!$G$14,0)","v":0},0,{"$f":"IFERROR(IF(AB45=2,Konie!$G$17,Konie!$G$16),0)","v":0},{"$f":"MATCH(I45,Konie!$L$12:$L$13,0)","v":{"$error":"#N/A"}},null,null,null,0,0]
[null,null,null,null,null,null,null,null,null,null,null,null,null,0,0,"-",null,null,0,{"$f":"IFERROR(MATCH(D46,Nr_stad!$U$8:$U$60,0),0)","v":0},0,{"$f":"IFERROR(MATCH(G46,Konie!$I$12:$I$13,0),0)","v":0},{"$f":"IFERROR(MATCH(I46,Konie!$K$12:$K$13,0),0)","v":0},{"$f":"IF(J46=\"\",0,IF(W46=1,IF(J46=\"do 1,47\",Konie!$G$12,Konie!$G$13),0))","v":0},{"$f":"IF(W46=2,Konie!$G$14,0)","v":0},0,{"$f":"IFERROR(IF(AB46=2,Konie!$G$17,Konie!$G$16),0)","v":0},{"$f":"MATCH(I46,Konie!$L$12:$L$13,0)","v":{"$error":"#N/A"}},null,null,null,0,0]
[null,null,null,null,null,null,null,null,null,null,null,null,null,0,0,"-",null,null,0,{"$f":"IFERROR(MATCH(D47,Nr_stad!$U$8:$U$60,0),0)","v":0},0,{"$f":"IFERROR(MATCH(G47,Konie!$I$12:$I$13,0),0)","v":0},{"$f":"IFERROR(MATCH(I47,Konie!$K$12:$K$13,0),0)","v":0},{"$f":"IF(J47=\"\",0,IF(W47=1,IF(J47=\"do 1,47\",Konie!$G$12,Konie!$G$13),0))","v":0},{"$f":"IF(W47=2,Konie!$G$14,0)","v":0},0,{"$f":"IFERROR(IF(AB47=2,Konie!$G$17,Konie!$G$16),0)","v":0},{"$f":"MATCH(I47,Konie!$L$12:$L$13,0)","v":{"$error":"#N/A"}},null,null,null,0,0]
[null,null,null,null,null,null,null,null,null,null,null,null,null,0,0,"-",null,null,0,{"$f":"IFERROR(MATCH(D48,Nr_stad!$U$8:$U$60,0),0)","v":0},0,{"$f":"IFERROR(MATCH(G48,Konie!$I$12:$I$13,0),0)","v":0},{"$f":"IFERROR(MATCH(I48,Konie!$K$12:$K$13,0),0)","v":0},{"$f":"IF(J48=\"\",0,IF(W48=1,IF(J48=\"do 1,47\",Konie!$G$12,Konie!$G$13),0))","v":0},{"$f":"IF(W48=2,Konie!$G$14,0)","v":0},0,{"$f":"IFERROR(IF(AB48=2,Konie!$G$17,Konie!$G$16),0)","v":0},{"$f":"MATCH(I48,Konie!$L$12:$L$13,0)","v":{"$error":"#N/A"}},null,null,null,0,0]
[null,null,null,null,null,null,null,null,null,null,null,null,null,0,0,"-",null,null,0,{"$f":"IFERROR(MATCH(D49,Nr_stad!$U$8:$U$60,0),0)","v":0},0,{"$f":"IFERROR(MATCH(G49,Konie!$I$12:$I$13,0),0)","v":0},{"$f":"IFERROR(MATCH(I49,Konie!$K$12:$K$13,0),0)","v":0},{"$f":"IF(J49=\"\",0,IF(W49=1,IF(J49=\"do 1,47\",Konie!$G$12,Konie!$G$13),0))","v":0},{"$f":"IF(W49=2,Konie!$G$14,0)","v":0},0,{"$f":"IFERROR(IF(AB49=2,Konie!$G$17,Konie!$G$16),0)","v":0},{"$f":"MATCH(I49,Konie!$L$12:$L$13,0)","v":{"$error":"#N/A"}},null,null,null,0,0]
[null,null,null,null,null,null,null,null,null,null,null,null,null,0,0,"-",null,null,0,{"$f":"IFERROR(MATCH(D50,Nr_stad!$U$8:$U$60,0),0)","v":0},0,{"$f":"IFERROR(MATCH(G50,Konie!$I$12:$I$13,0),0)","v":0},{"$f":"IFERROR(MATCH(I50,Konie!$K$12:$K$13,0),0)","v":0},{"$f":"IF(J50=\"\",0,IF(W50=1,IF(J50=\"do 1,47\",Konie!$G$12,Konie!$G$13),0))","v":0},{"$f":"IF(W50=2,Konie!$G$14,0)","v":0},0,{"$f":"IFERROR(IF(AB50=2,Konie!$G$17,Konie!$G$16),0)","v":0},{"$f":"MATCH(I50,Konie!$L$12:$L$13,0)","v":{"$error":"#N/A"}},null,null,null,0,0]
[null,null,null,null,null,null,null,null,null,null,null,null,null,0,0,"-",null,null,0,{"$f":"IFERROR(MATCH(D51,Nr_stad!$U$8:$U$60,0),0)","v":0},0,{"$f":"IFERROR(MATCH(G51,Konie!$I$12:$I$13,0),0)","v":0},{"$f":"IFERROR(MATCH(I51,Konie!$K$12:$K$13,0),0)","v":0},{"$f":"IF(J51=\"\",0,IF(W51=1,IF(J51=\"do 1,47\",Konie!$G$12,Konie!$G$13),0))","v":0},{"$f":"IF(W51=2,Konie!$G$14,0)","v":0},0,{"$f":"IFERROR(IF(AB51=2,Konie!$G$17,Konie!$G$16),0)","v":0},{"$f":"MATCH(I51,Konie!$L$12:$L$13,0)","v":{"$error":"#N/A"}},null,null,null,0,0]
[null,null,null,null,null,null,null,null,null,null,null,null,null,0,0,"-",null,null,0,{"$f":"IFERROR(MATCH(D52,Nr_stad!$U$8:$U$60,0),0)","v":0},0,{"$f":"IFERROR(MATCH(G52,Konie!$I$12:$I$13,0),0)","v":0},{"$f":"IFERROR(MATCH(I52,Konie!$K$12:$K$13,0),0)","v":0},{"$f":"IF(J52=\"\",0,IF(W52=1,IF(J52=\"do 1,47\",Konie!$G$12,Konie!$G$13),0))","v":0},{"$f":"IF(W52=2,Konie!$G$14,0)","v":0},0,{"$f":"IFERROR(IF(AB52=2,Konie!$G$17,Konie!$G$16),0)","v":0},{"$f":"MATCH(I52,Konie!$L$12:$L$13,0)","v":{"$error":"#N/A"}},null,null,null,0,0]
[null,null,null,null,null,null,null,null,null,null,null,null,null,0,0,"-",null,null,0,{"$f":"IFERROR(MATCH(D53,Nr_stad!$U$8:$U$60,0),0)","v":0},0,{"$f":"IFERROR(MATCH(G53,Konie!$I$12:$I$13,0),0)","v":0},{"$f":"IFERROR(MATCH(I53,Konie!$K$12:$K$13,0),0)","v":0},{"$f":"IF(J53=\"\",0,IF(W53=1,IF(J53=\"do 1,47\",Konie!$G$12,Konie!$G$13),0))","v":0},{"$f":"IF(W53=2,Konie!$G$14,0)","v":0},0,{"$f":"IFERROR(IF(AB53=2,Konie!$G$17,Konie!$G$16),0)","v":0},{"$f":"MATCH(I53,Konie!$L$12:$L$13,0)","v":{"$error":"#N/A"}},null,null,null,0,0]
[null,null,null,null,null,null,null,null,null,null,null,null,null,0,0,"-",null,null,0,{"$f":"IFERROR(MATCH(D54,Nr_stad!$U$8:$U$60,0),0)","v":0},0,{"$f":"IFERROR(MATCH(G54,Konie!$I$12:$I$13,0),0)","v":0},{"$f":"IFERROR(MATCH(I54,Konie!$K$12:$K$13,0),0)","v":0},{"$f":"IF(J54=\"\",0,IF(W54=1,IF(J54=\"do 1,47\",Konie!$G$12,Konie!$G$13),0))","v":0},{"$f":"IF(W54=2,Konie!$G$14,0)","v":0},0,{"$f":"IFERROR(IF(AB54=2,Konie!$G$17,Konie!$G$16),0)","v":0},{"$f":"MATCH(I54,Konie!$L$12:$L$13,0)","v":{"$error":"#N/A"}},null,null,null,0,0]
[null,null,null,null,null,null,null,null,null,null,null,null,null,0,0,"-",null,null,0,{"$f":"IFERROR(MATCH(D55,Nr_stad!$U$8:$U$60,0),0)","v":0},0,{"$f":"IFERROR(MATCH(G55,Konie!$I$12:$I$13,0),0)","v":0},{"$f":"IFERROR(MATCH(I55,Konie!$K$12:$K$13,0),0)","v":0},{"$f":"IF(J55=\"\",0,IF(W55=1,IF(J55=\"do 1,47\",Konie!$G$12,Konie!$G$13),0))","v":0},{"$f":"IF(W55=2,Konie!$G$14,0)","v":0},0,{"$f":"IFERROR(IF(AB55=2,Konie!$G$17,Konie!$G$16),0)","v":0},{"$f":"MATCH(I55,Konie!$L$12:$L$13,0)","v":{"$error":"#N/A"}},null,null,null,0,0]
[null,null,null,null,null,null,null,null,null,null,null,null,null,0,0,"-",null,null,0,{"$f":"IFERROR(MATCH(D56,Nr_stad!$U$8:$U$60,0),0)","v":0},0,{"$f":"IFERROR(MATCH(G56,Konie!$I$12:$I$13,0),0)","v":0},{"$f":"IFERROR(MATCH(I56,Konie!$K$12:$K$13,0),0)","v":0},{"$f":"IF(J56=\"\",0,IF(W56=1,IF(J56=\"do 1,47\",Konie!$G$12,Konie!$G$13),0))","v":0},{"$f":"IF(W56=2,Konie!$G$14,0)","v":0},0,{"$f":"IFERROR(IF(AB56=2,Konie!$G$17,Konie!$G$16),0)","v":0},{"$f":"MATCH(I56,Konie!$L$12:$L$13,0)","v":{"$error":"#N/A"}},null,null,null,0,0]
[null,null,null,null,null,null,null,null,null,null,null,null,null,0,0,"-",null,null,0,{"$f":"IFERROR(MATCH(D57,Nr_stad!$U$8:$U$60,0),0)","v":0},0,{"$f":"IFERROR(MATCH(G57,Konie!$I$12:$I$13,0),0)","v":0},{"$f":"IFERROR(MATCH(I57,Konie!$K$12:$K$13,0),0)","v":0},{"$f":"IF(J57=\"\",0,IF(W57=1,IF(J57=\"do 1,47\",Konie!$G$12,Konie!$G$13),0))","v":0},{"$f":"IF(W57=2,Konie!$G$14,0)","v":0},0,{"$f":"IFERROR(IF(AB57=2,Konie!$G$17,Konie!$G$16),0)","v":0},{"$f":"MATCH(I57,Konie!$L$12:$L$13,0)","v":{"$error":"#N/A"}},null,null,null,0,0]
[null,null,null,null,null,null,null,null,null,null,null,null,null,0,0,"-",null,null,0,{"$f":"IFERROR(MATCH(D58,Nr_stad!$U$8:$U$60,0),0)","v":0},0,{"$f":"IFERROR(MATCH(G58,Konie!$I$12:$I$13,0),0)","v":0},{"$f":"IFERROR(MATCH(I58,Konie!$K$12:$K$13,0),0)","v":0},{"$f":"IF(J58=\"\",0,IF(W58=1,IF(J58=\"do 1,47\",Konie!$G$12,Konie!$G$13),0))","v":0},{"$f":"IF(W58=2,Konie!$G$14,0)","v":0},0,{"$f":"IFERROR(IF(AB58=2,Konie!$G$17,Konie!$G$16),0)","v":0},{"$f":"MATCH(I58,Konie!$L$12:$L$13,0)","v":{"$error":"#N/A"}},null,null,null,0,0]
[null,null,null,null,null,null,null,null,null,null,null,null,null,0,0,"-",null,null,0,{"$f":"IFERROR(MATCH(D59,Nr_stad!$U$8:$U$60,0),0)","v":0},0,{"$f":"IFERROR(MATCH(G59,Konie!$I$12:$I$13,0),0)","v":0},{"$f":"IFERROR(MATCH(I59,Konie!$K$12:$K$13,0),0)","v":0},{"$f":"IF(J59=\"\",0,IF(W59=1,IF(J59=\"do 1,47\",Konie!$G$12,Konie!$G$13),0))","v":0},{"$f":"IF(W59=2,Konie!$G$14,0)","v":0},0,{"$f":"IFERROR(IF(AB59=2,Konie!$G$17,Konie!$G$16),0)","v":0},{"$f":"MATCH(I59,Konie!$L$12:$L$13,0)","v":{"$error":"#N/A"}},null,null,null,0,0]
[null,null,null,null,null,null,null,null,null,null,null,null,null,0,0,"-",null,null,0,{"$f":"IFERROR(MATCH(D60,Nr_stad!$U$8:$U$60,0),0)","v":0},0,{"$f":"IFERROR(MATCH(G60,Konie!$I$12:$I$13,0),0)","v":0},{"$f":"IFERROR(MATCH(I60,Konie!$K$12:$K$13,0),0)","v":0},{"$f":"IF(J60=\"\",0,IF(W60=1,IF(J60=\"do 1,47\",Konie!$G$12,Konie!$G$13),0))","v":0},{"$f":"IF(W60=2,Konie!$G$14,0)","v":0},0,{"$f":"IFERROR(IF(AB60=2,Konie!$G$17,Konie!$G$16),0)","v":0},{"$f":"MATCH(I60,Konie!$L$12:$L$13,0)","v":{"$error":"#N/A"}},null,null,null,0,0]
[null,null,null,null,null,null,null,null,null,null,null,null,null,0,0,"-",null,null,0,{"$f":"IFERROR(MATCH(D61,Nr_stad!$U$8:$U$60,0),0)","v":0},0,{"$f":"IFERROR(MATCH(G61,Konie!$I$12:$I$13,0),0)","v":0},{"$f":"IFERROR(MATCH(I61,Konie!$K$12:$K$13,0),0)","v":0},{"$f":"IF(J61=\"\",0,IF(W61=1,IF(J61=\"do 1,47\",Konie!$G$12,Konie!$G$13),0))","v":0},{"$f":"IF(W61=2,Konie!$G$14,0)","v":0},0,{"$f":"IFERROR(IF(AB61=2,Konie!$G$17,Konie!$G$16),0)","v":0},{"$f":"MATCH(I61,Konie!$L$12:$L$13,0)","v":{"$error":"#N/A"}},null,null,null,0,0]
[null,null,null,null,null,null,null,null,null,null,null,null,null,0,0,"-",null,null,0,{"$f":"IFERROR(MATCH(D62,Nr_stad!$U$8:$U$60,0),0)","v":0},0,{"$f":"IFERROR(MATCH(G62,Konie!$I$12:$I$13,0),0)","v":0},{"$f":"IFERROR(MATCH(I62,Konie!$K$12:$K$13,0),0)","v":0},{"$f":"IF(J62=\"\",0,IF(W62=1,IF(J62=\"do 1,47\",Konie!$G$12,Konie!$G$13),0))","v":0},{"$f":"IF(W62=2,Konie!$G$14,0)","v":0},0,{"$f":"IFERROR(IF(AB62=2,Konie!$G$17,Konie!$G$16),0)","v":0},{"$f":"MATCH(I62,Konie!$L$12:$L$13,0)","v":{"$error":"#N/A"}},null,null,null,0,0]
[null,null,null,null,null,null,null,null,null,null,null,null,null,0,0,"-",null,null,0,{"$f":"IFERROR(MATCH(D63,Nr_stad!$U$8:$U$60,0),0)","v":0},0,{"$f":"IFERROR(MATCH(G63,Konie!$I$12:$I$13,0),0)","v":0},{"$f":"IFERROR(MATCH(I63,Konie!$K$12:$K$13,0),0)","v":0},{"$f":"IF(J63=\"\",0,IF(W63=1,IF(J63=\"do 1,47\",Konie!$G$12,Konie!$G$13),0))","v":0},{"$f":"IF(W63=2,Konie!$G$14,0)","v":0},0,{"$f":"IFERROR(IF(AB63=2,Konie!$G$17,Konie!$G$16),0)","v":0},{"$f":"MATCH(I63,Konie!$L$12:$L$13,0)","v":{"$error":"#N/A"}},null,null,null,0,0]
[null,null,null,null,null,null,null,null,null,null,null,null,null,0,0,"-",null,null,0,{"$f":"IFERROR(MATCH(D64,Nr_stad!$U$8:$U$60,0),0)","v":0},0,{"$f":"IFERROR(MATCH(G64,Konie!$I$12:$I$13,0),0)","v":0},{"$f":"IFERROR(MATCH(I64,Konie!$K$12:$K$13,0),0)","v":0},{"$f":"IF(J64=\"\",0,IF(W64=1,IF(J64=\"do 1,47\",Konie!$G$12,Konie!$G$13),0))","v":0},{"$f":"IF(W64=2,Konie!$G$14,0)","v":0},0,{"$f":"IFERROR(IF(AB64=2,Konie!$G$17,Konie!$G$16),0)","v":0},{"$f":"MATCH(I64,Konie!$L$12:$L$13,0)","v":{"$error":"#N/A"}},null,null,null,0,0]
[null,null,null,null,null,null,null,null,null,null,null,null,null,0,0,"-",null,null,0,{"$f":"IFERROR(MATCH(D65,Nr_stad!$U$8:$U$60,0),0)","v":0},0,{"$f":"IFERROR(MATCH(G65,Konie!$I$12:$I$13,0),0)","v":0},{"$f":"IFERROR(MATCH(I65,Konie!$K$12:$K$13,0),0)","v":0},{"$f":"IF(J65=\"\",0,IF(W65=1,IF(J65=\"do 1,47\",Konie!$G$12,Konie!$G$13),0))","v":0},{"$f":"IF(W65=2,Konie!$G$14,0)","v":0},0,{"$f":"IFERROR(IF(AB65=2,Konie!$G$17,Konie!$G$16),0)","v":0},{"$f":"MATCH(I65,Konie!$L$12:$L$13,0)","v":{"$error":"#N/A"}},null,null,null,0,0]
[null,null,null,null,null,null,null,null,null,null,null,null,null,0,0,"-",null,null,0,{"$f":"IFERROR(MATCH(D66,Nr_stad!$U$8:$U$60,0),0)","v":0},0,{"$f":"IFERROR(MATCH(G66,Konie!$I$12:$I$13,0),0)","v":0},{"$f":"IFERROR(MATCH(I66,Konie!$K$12:$K$13,0),0)","v":0},{"$f":"IF(J66=\"\",0,IF(W66=1,IF(J66=\"do 1,47\",Konie!$G$12,Konie!$G$13),0))","v":0},{"$f":"IF(W66=2,Konie!$G$14,0)","v":0},0,{"$f":"IFERROR(IF(AB66=2,Konie!$G$17,Konie!$G$16),0)","v":0},{"$f":"MATCH(I66,Konie!$L$12:$L$13,0)","v":{"$error":"#N/A"}},null,null,null,0,0]
[null,null,null,null,null,null,null,null,null,null,null,null,null,0,0,"-",null,null,0,{"$f":"IFERROR(MATCH(D67,Nr_stad!$U$8:$U$60,0),0)","v":0},0,{"$f":"IFERROR(MATCH(G67,Konie!$I$12:$I$13,0),0)","v":0},{"$f":"IFERROR(MATCH(I67,Konie!$K$12:$K$13,0),0)","v":0},{"$f":"IF(J67=\"\",0,IF(W67=1,IF(J67=\"do 1,47\",Konie!$G$12,Konie!$G$13),0))","v":0},{"$f":"IF(W67=2,Konie!$G$14,0)","v":0},0,{"$f":"IFERROR(IF(AB67=2,Konie!$G$17,Konie!$G$16),0)","v":0},{"$f":"MATCH(I67,Konie!$L$12:$L$13,0)","v":{"$error":"#N/A"}},null,null,null,0,0]
[null,null,null,null,null,null,null,null,null,null,null,null,null,0,0,"-",null,null,0,{"$f":"IFERROR(MATCH(D68,Nr_stad!$U$8:$U$60,0),0)","v":0},0,{"$f":"IFERROR(MATCH(G68,Konie!$I$12:$I$13,0),0)","v":0},{"$f":"IFERROR(MATCH(I68,Konie!$K$12:$K$13,0),0)","v":0},{"$f":"IF(J68=\"\",0,IF(W68=1,IF(J68=\"do 1,47\",Konie!$G$12,Konie!$G$13),0))","v":0},{"$f":"IF(W68=2,Konie!$G$14,0)","v":0},0,{"$f":"IFERROR(IF(AB68=2,Konie!$G$17,Konie!$G$16),0)","v":0},{"$f":"MATCH(I68,Konie!$L$12:$L$13,0)","v":{"$error":"#N/A"}},null,null,null,0,0]
[null,null,null,null,null,null,null,null,null,null,null,null,null,0,0,"-",null,null,0,{"$f":"IFERROR(MATCH(D69,Nr_stad!$U$8:$U$60,0),0)","v":0},0,{"$f":"IFERROR(MATCH(G69,Konie!$I$12:$I$13,0),0)","v":0},{"$f":"IFERROR(MATCH(I69,Konie!$K$12:$K$13,0),0)","v":0},{"$f":"IF(J69=\"\",0,IF(W69=1,IF(J69=\"do 1,47\",Konie!$G$12,Konie!$G$13),0))","v":0},{"$f":"IF(W69=2,Konie!$G$14,0)","v":0},0,{"$f":"IFERROR(IF(AB69=2,Konie!$G$17,Konie!$G$16),0)","v":0},{"$f":"MATCH(I69,Konie!$L$12:$L$13,0)","v":{"$error":"#N/A"}},null,null,null,0,0]
[null,null,null,null,null,null,null,null,null,null,null,null,null,0,0,"-",null,null,0,{"$f":"IFERROR(MATCH(D70,Nr_stad!$U$8:$U$60,0),0)","v":0},0,{"$f":"IFERROR(MATCH(G70,Konie!$I$12:$I$13,0),0)","v":0},{"$f":"IFERROR(MATCH(I70,Konie!$K$12:$K$13,0),0)","v":0},{"$f":"IF(J70=\"\",0,IF(W70=1,IF(J70=\"do 1,47\",Konie!$G$12,Konie!$G$13),0))","v":0},{"$f":"IF(W70=2,Konie!$G$14,0)","v":0},0,{"$f":"IFERROR(IF(AB70=2,Konie!$G$17,Konie!$G$16),0)","v":0},{"$f":"MATCH(I70,Konie!$L$12:$L$13,0)","v":{"$error":"#N/A"}},null,null,null,0,0]
[null,null,null,null,null,null,null,null,null,null,null,null,null,0,0,"-",null,null,0,{"$f":"IFERROR(MATCH(D71,Nr_stad!$U$8:$U$60,0),0)","v":0},0,{"$f":"IFERROR(MATCH(G71,Konie!$I$12:$I$13,0),0)","v":0},{"$f":"IFERROR(MATCH(I71,Konie!$K$12:$K$13,0),0)","v":0},{"$f":"IF(J71=\"\",0,IF(W71=1,IF(J71=\"do 1,47\",Konie!$G$12,Konie!$G$13),0))","v":0},{"$f":"IF(W71=2,Konie!$G$14,0)","v":0},0,{"$f":"IFERROR(IF(AB71=2,Konie!$G$17,Konie!$G$16),0)","v":0},{"$f":"MATCH(I71,Konie!$L$12:$L$13,0)","v":{"$error":"#N/A"}},null,null,null,0,0]
[null,null,null,null,null,null,null,null,null,null,null,null,null,0,0,"-",null,null,0,{"$f":"IFERROR(MATCH(D72,Nr_stad!$U$8:$U$60,0),0)","v":0},0,{"$f":"IFERROR(MATCH(G72,Konie!$I$12:$I$13,0),0)","v":0},{"$f":"IFERROR(MATCH(I72,Konie!$K$12:$K$13,0),0)","v":0},{"$f":"IF(J72=\"\",0,IF(W72=1,IF(J72=\"do 1,47\",Konie!$G$12,Konie!$G$13),0))","v":0},{"$f":"IF(W72=2,Konie!$G$14,0)","v":0},0,{"$f":"IFERROR(IF(AB72=2,Konie!$G$17,Konie!$G$16),0)","v":0},{"$f":"MATCH(I72,Konie!$L$12:$L$13,0)","v":{"$error":"#N/A"}},null,null,null,0,0]
[null,null,null,null,null,null,null,null,null,null,null,null,null,0,0,"-",null,null,0,{"$f":"IFERROR(MATCH(D73,Nr_stad!$U$8:$U$60,0),0)","v":0},0,{"$f":"IFERROR(MATCH(G73,Konie!$I$12:$I$13,0),0)","v":0},{"$f":"IFERROR(MATCH(I73,Konie!$K$12:$K$13,0),0)","v":0},{"$f":"IF(J73=\"\",0,IF(W73=1,IF(J73=\"do 1,47\",Konie!$G$12,Konie!$G$13),0))","v":0},{"$f":"IF(W73=2,Konie!$G$14,0)","v":0},0,{"$f":"IFERROR(IF(AB73=2,Konie!$G$17,Konie!$G$16),0)","v":0},{"$f":"MATCH(I73,Konie!$L$12:$L$13,0)","v":{"$error":"#N/A"}},null,null,null,0,0]
[null,null,null,null,null,null,null,null,null,null,null,null,null,0,0,"-",null,null,0,{"$f":"IFERROR(MATCH(D74,Nr_stad!$U$8:$U$60,0),0)","v":0},0,{"$f":"IFERROR(MATCH(G74,Konie!$I$12:$I$13,0),0)","v":0},{"$f":"IFERROR(MATCH(I74,Konie!$K$12:$K$13,0),0)","v":0},{"$f":"IF(J74=\"\",0,IF(W74=1,IF(J74=\"do 1,47\",Konie!$G$12,Konie!$G$13),0))","v":0},{"$f":"IF(W74=2,Konie!$G$14,0)","v":0},0,{"$f":"IFERROR(IF(AB74=2,Konie!$G$17,Konie!$G$16),0)","v":0},{"$f":"MATCH(I74,Konie!$L$12:$L$13,0)","v":{"$error":"#N/A"}},null,null,null,0,0]
[null,null,null,null,null,null,null,null,null,null,null,null,null,0,0,"-",null,null,0,{"$f":"IFERROR(MATCH(D75,Nr_stad!$U$8:$U$60,0),0)","v":0},0,{"$f":"IFERROR(MATCH(G75,Konie!$I$12:$I$13,0),0)","v":0},{"$f":"IFERROR(MATCH(I75,Konie!$K$12:$K$13,0),0)","v":0},{"$f":"IF(J75=\"\",0,IF(W75=1,IF(J75=\"do 1,47\",Konie!$G$12,Konie!$G$13),0))","v":0},{"$f":"IF(W75=2,Konie!$G$14,0)","v":0},0,{"$f":"IFERROR(IF(AB75=2,Konie!$G$17,Konie!$G$16),0)","v":0},{"$f":"MATCH(I75,Konie!$L$12:$L$13,0)","v":{"$error":"#N/A"}},null,null,null,0,0]
[null,null,null,null,null,null,null,null,null,null,null,null,null,0,0,"-",null,null,0,{"$f":"IFERROR(MATCH(D76,Nr_stad!$U$8:$U$60,0),0)","v":0},0,{"$f":"IFERROR(MATCH(G76,Konie!$I$12:$I$13,0),0)","v":0},{"$f":"IFERROR(MATCH(I76,Konie!$K$12:$K$13,0),0)","v":0},{"$f":"IF(J76=\"\",0,IF(W76=1,IF(J76=\"do 1,47\",Konie!$G$12,Konie!$G$13),0))","v":0},{"$f":"IF(W76=2,Konie!$G$14,0)","v":0},0,{"$f":"IFERROR(IF(AB76=2,Konie!$G$17,Konie!$G$16),0)","v":0},{"$f":"MATCH(I76,Konie!$L$12:$L$13,0)","v":{"$error":"#N/A"}},null,null,null,0,0]
[null,null,null,null,null,null,null,null,null,null,null,null,null,0,0,"-",null,null,0,{"$f":"IFERROR(MATCH(D77,Nr_stad!$U$8:$U$60,0),0)","v":0},0,{"$f":"IFERROR(MATCH(G77,Konie!$I$12:$I$13,0),0)","v":0},{"$f":"IFERROR(MATCH(I77,Konie!$K$12:$K$13,0),0)","v":0},{"$f":"IF(J77=\"\",0,IF(W77=1,IF(J77=\"do 1,47\",Konie!$G$12,Konie!$G$13),0))","v":0},{"$f":"IF(W77=2,Konie!$G$14,0)","v":0},0,{"$f":"IFERROR(IF(AB77=2,Konie!$G$17,Konie!$G$16),0)","v":0},{"$f":"MATCH(I77,Konie!$L$12:$L$13,0)","v":{"$error":"#N/A"}},null,null,null,0,0]
[null,null,null,null,null,null,null,null,null,null,null,null,null,0,0,"-",null,null,0,{"$f":"IFERROR(MATCH(D78,Nr_stad!$U$8:$U$60,0),0)","v":0},0,{"$f":"IFERROR(MATCH(G78,Konie!$I$12:$I$13,0),0)","v":0},{"$f":"IFERROR(MATCH(I78,Konie!$K$12:$K$13,0),0)","v":0},{"$f":"IF(J78=\"\",0,IF(W78=1,IF(J78=\"do 1,47\",Konie!$G$12,Konie!$G$13),0))","v":0},{"$f":"IF(W78=2,Konie!$G$14,0)","v":0},0,{"$f":"IFERROR(IF(AB78=2,Konie!$G$17,Konie!$G$16),0)","v":0},{"$f":"MATCH(I78,Konie!$L$12:$L$13,0)","v":{"$error":"#N/A"}},null,null,null,0,0]
[null,null,null,null,null,null,null,null,null,null,null,null,null,0,0,"-",null,null,0,{"$f":"IFERROR(MATCH(D79,Nr_stad!$U$8:$U$60,0),0)","v":0},0,{"$f":"IFERROR(MATCH(G79,Konie!$I$12:$I$13,0),0)","v":0},{"$f":"IFERROR(MATCH(I79,Konie!$K$12:$K$13,0),0)","v":0},{"$f":"IF(J79=\"\",0,IF(W79=1,IF(J79=\"do 1,47\",Konie!$G$12,Konie!$G$13),0))","v":0},{"$f":"IF(W79=2,Konie!$G$14,0)","v":0},0,{"$f":"IFERROR(IF(AB79=2,Konie!$G$17,Konie!$G$16),0)","v":0},{"$f":"MATCH(I79,Konie!$L$12:$L$13,0)","v":{"$error":"#N/A"}},null,null,null,0,0]
[null,null,null,null,null,null,null,null,null,null,null,null,null,0,0,"-",null,null,0,{"$f":"IFERROR(MATCH(D80,Nr_stad!$U$8:$U$60,0),0)","v":0},0,{"$f":"IFERROR(MATCH(G80,Konie!$I$12:$I$13,0),0)","v":0},{"$f":"IFERROR(MATCH(I80,Konie!$K$12:$K$13,0),0)","v":0},{"$f":"IF(J80=\"\",0,IF(W80=1,IF(J80=\"do 1,47\",Konie!$G$12,Konie!$G$13),0))","v":0},{"$f":"IF(W80=2,Konie!$G$14,0)","v":0},0,{"$f":"IFERROR(IF(AB80=2,Konie!$G$17,Konie!$G$16),0)","v":0},{"$f":"MATCH(I80,Konie!$L$12:$L$13,0)","v":{"$error":"#N/A"}},null,null,null,0,0]
[null,null,null,null,null,null,null,null,null,null,null,null,null,0,0,"-",null,null,0,{"$f":"IFERROR(MATCH(D81,Nr_stad!$U$8:$U$60,0),0)","v":0},0,{"$f":"IFERROR(MATCH(G81,Konie!$I$12:$I$13,0),0)","v":0},{"$f":"IFERROR(MATCH(I81,Konie!$K$12:$K$13,0),0)","v":0},{"$f":"IF(J81=\"\",0,IF(W81=1,IF(J81=\"do 1,47\",Konie!$G$12,Konie!$G$13),0))","v":0},{"$f":"IF(W81=2,Konie!$G$14,0)","v":0},0,{"$f":"IFERROR(IF(AB81=2,Konie!$G$17,Konie!$G$16),0)","v":0},{"$f":"MATCH(I81,Konie!$L$12:$L$13,0)","v":{"$error":"#N/A"}},null,null,null,0,0]
[null,null,null,null,null,null,null,null,null,null,null,null,null,0,0,"-",null,null,0,{"$f":"IFERROR(MATCH(D82,Nr_stad!$U$8:$U$60,0),0)","v":0},0,{"$f":"IFERROR(MATCH(G82,Konie!$I$12:$I$13,0),0)","v":0},{"$f":"IFERROR(MATCH(I82,Konie!$K$12:$K$13,0),0)","v":0},{"$f":"IF(J82=\"\",0,IF(W82=1,IF(J82=\"do 1,47\",Konie!$G$12,Konie!$G$13),0))","v":0},{"$f":"IF(W82=2,Konie!$G$14,0)","v":0},0,{"$f":"IFERROR(IF(AB82=2,Konie!$G$17,Konie!$G$16),0)","v":0},{"$f":"MATCH(I82,Konie!$L$12:$L$13,0)","v":{"$error":"#N/A"}},null,null,null,0,0]
[null,null,null,null,null,null,null,null,null,null,null,null,null,0,0,"-",null,null,0,{"$f":"IFERROR(MATCH(D83,Nr_stad!$U$8:$U$60,0),0)","v":0},0,{"$f":"IFERROR(MATCH(G83,Konie!$I$12:$I$13,0),0)","v":0},{"$f":"IFERROR(MATCH(I83,Konie!$K$12:$K$13,0),0)","v":0},{"$f":"IF(J83=\"\",0,IF(W83=1,IF(J83=\"do 1,47\",Konie!$G$12,Konie!$G$13),0))","v":0},{"$f":"IF(W83=2,Konie!$G$14,0)","v":0},0,{"$f":"IFERROR(IF(AB83=2,Konie!$G$17,Konie!$G$16),0)","v":0},{"$f":"MATCH(I83,Konie!$L$12:$L$13,0)","v":{"$error":"#N/A"}},null,null,null,0,0]
[null,null,null,null,null,null,null,null,null,null,null,null,null,0,0,"-",null,null,0,{"$f":"IFERROR(MATCH(D84,Nr_stad!$U$8:$U$60,0),0)","v":0},0,{"$f":"IFERROR(MATCH(G84,Konie!$I$12:$I$13,0),0)","v":0},{"$f":"IFERROR(MATCH(I84,Konie!$K$12:$K$13,0),0)","v":0},{"$f":"IF(J84=\"\",0,IF(W84=1,IF(J84=\"do 1,47\",Konie!$G$12,Konie!$G$13),0))","v":0},{"$f":"IF(W84=2,Konie!$G$14,0)","v":0},0,{"$f":"IFERROR(IF(AB84=2,Konie!$G$17,Konie!$G$16),0)","v":0},{"$f":"MATCH(I84,Konie!$L$12:$L$13,0)","v":{"$error":"#N/A"}},null,null,null,0,0]
[null,null,null,null,null,null,null,null,null,null,null,null,null,0,0,"-",null,null,0,{"$f":"IFERROR(MATCH(D85,Nr_stad!$U$8:$U$60,0),0)","v":0},0,{"$f":"IFERROR(MATCH(G85,Konie!$I$12:$I$13,0),0)","v":0},{"$f":"IFERROR(MATCH(I85,Konie!$K$12:$K$13,0),0)","v":0},{"$f":"IF(J85=\"\",0,IF(W85=1,IF(J85=\"do 1,47\",Konie!$G$12,Konie!$G$13),0))","v":0},{"$f":"IF(W85=2,Konie!$G$14,0)","v":0},0,{"$f":"IFERROR(IF(AB85=2,Konie!$G$17,Konie!$G$16),0)","v":0},{"$f":"MATCH(I85,Konie!$L$12:$L$13,0)","v":{"$error":"#N/A"}},null,null,null,0,0]
[null,null,null,null,null,null,null,null,null,null,null,null,null,0,0,"-",null,null,0,{"$f":"IFERROR(MATCH(D86,Nr_stad!$U$8:$U$60,0),0)","v":0},0,{"$f":"IFERROR(MATCH(G86,Konie!$I$12:$I$13,0),0)","v":0},{"$f":"IFERROR(MATCH(I86,Konie!$K$12:$K$13,0),0)","v":0},{"$f":"IF(J86=\"\",0,IF(W86=1,IF(J86=\"do 1,47\",Konie!$G$12,Konie!$G$13),0))","v":0},{"$f":"IF(W86=2,Konie!$G$14,0)","v":0},0,{"$f":"IFERROR(IF(AB86=2,Konie!$G$17,Konie!$G$16),0)","v":0},{"$f":"MATCH(I86,Konie!$L$12:$L$13,0)","v":{"$error":"#N/A"}},null,null,null,0,0]
[null,null,null,null,null,null,null,null,null,null,null,null,null,0,0,"-",null,null,0,{"$f":"IFERROR(MATCH(D87,Nr_stad!$U$8:$U$60,0),0)","v":0},0,{"$f":"IFERROR(MATCH(G87,Konie!$I$12:$I$13,0),0)","v":0},{"$f":"IFERROR(MATCH(I87,Konie!$K$12:$K$13,0),0)","v":0},{"$f":"IF(J87=\"\",0,IF(W87=1,IF(J87=\"do 1,47\",Konie!$G$12,Konie!$G$13),0))","v":0},{"$f":"IF(W87=2,Konie!$G$14,0)","v":0},0,{"$f":"IFERROR(IF(AB87=2,Konie!$G$17,Konie!$G$16),0)","v":0},{"$f":"MATCH(I87,Konie!$L$12:$L$13,0)","v":{"$error":"#N/A"}},null,null,null,0,0]
[null,null,null,null,null,null,null,null,null,null,null,null,null,0,0,"-",null,null,0,{"$f":"IFERROR(MATCH(D88,Nr_stad!$U$8:$U$60,0),0)","v":0},0,{"$f":"IFERROR(MATCH(G88,Konie!$I$12:$I$13,0),0)","v":0},{"$f":"IFERROR(MATCH(I88,Konie!$K$12:$K$13,0),0)","v":0},{"$f":"IF(J88=\"\",0,IF(W88=1,IF(J88=\"do 1,47\",Konie!$G$12,Konie!$G$13),0))","v":0},{"$f":"IF(W88=2,Konie!$G$14,0)","v":0},0,{"$f":"IFERROR(IF(AB88=2,Konie!$G$17,Konie!$G$16),0)","v":0},{"$f":"MATCH(I88,Konie!$L$12:$L$13,0)","v":{"$error":"#N/A"}},null,null,null,0,0]
[null,null,null,null,null,null,null,null,null,null,null,null,null,0,0,"-",null,null,0,{"$f":"IFERROR(MATCH(D89,Nr_stad!$U$8:$U$60,0),0)","v":0},0,{"$f":"IFERROR(MATCH(G89,Konie!$I$12:$I$13,0),0)","v":0},{"$f":"IFERROR(MATCH(I89,Konie!$K$12:$K$13,0),0)","v":0},{"$f":"IF(J89=\"\",0,IF(W89=1,IF(J89=\"do 1,47\",Konie!$G$12,Konie!$G$13),0))","v":0},{"$f":"IF(W89=2,Konie!$G$14,0)","v":0},0,{"$f":"IFERROR(IF(AB89=2,Konie!$G$17,Konie!$G$16),0)","v":0},{"$f":"MATCH(I89,Konie!$L$12:$L$13,0)","v":{"$error":"#N/A"}},null,null,null,0,0]
[null,null,null,null,null,null,null,null,null,null,null,null,null,0,0,"-",null,null,0,{"$f":"IFERROR(MATCH(D90,Nr_stad!$U$8:$U$60,0),0)","v":0},0,{"$f":"IFERROR(MATCH(G90,Konie!$I$12:$I$13,0),0)","v":0},{"$f":"IFERROR(MATCH(I90,Konie!$K$12:$K$13,0),0)","v":0},{"$f":"IF(J90=\"\",0,IF(W90=1,IF(J90=\"do 1,47\",Konie!$G$12,Konie!$G$13),0))","v":0},{"$f":"IF(W90=2,Konie!$G$14,0)","v":0},0,{"$f":"IFERROR(IF(AB90=2,Konie!$G$17,Konie!$G$16),0)","v":0},{"$f":"MATCH(I90,Konie!$L$12:$L$13,0)","v":{"$error":"#N/A"}},null,null,null,0,0]
[null,null,null,null,null,null,null,null,null,null,null,null,null,{"$f":"IFERROR(L91*M91*K91,L91*M91)","v":0},{"$f":"IFERROR(IF(V91=1,Z91,AA91),\"-\")","v":0},{"$f":"IFERROR(IF(N91<O91,\"-\",IF(V91=1,K91,TRUNC(N91/O91))),\"-\")","v":"-"},null,null,{"$f":"IFERROR(O91*P91,0)","v":0},{"$f":"IFERROR(MATCH(D91,Nr_stad!$U$8:$U$60,0),0)","v":0},{"$f":"SUM(H91:P91)+T91","v":0},{"$f":"IFERROR(MATCH(G91,Konie!$I$12:$I$13,0),0)","v":0},{"$f":"IFERROR(MATCH(I91,Konie!$K$12:$K$13,0),0)","v":0},{"$f":"IF(J91=\"\",0,IF(W91=1,IF(J91=\"do 1,47\",Konie!$G$12,Konie!$G$13),0))","v":0},{"$f":"IF(W91=2,Konie!$G$14,0)","v":0},{"$f":"MAX(X91:Y91)","v":0},{"$f":"IFERROR(IF(AB91=2,Konie!$G$17,Konie!$G$16),0)","v":0},{"$f":"MATCH(I91,Konie!$L$12:$L$13,0)","v":{"$error":"#N/A"}},null,null,null,{"$f":"IFERROR(AB91,0)","v":0},{"$f":"MAX(W91,AF91)","v":0}]
[null,null,null,null,null,null,null,null,null,null,null,null,null,0,0,"-",null,null,0,{"$f":"IFERROR(MATCH(D92,Nr_stad!$U$8:$U$60,0),0)","v":0},0,{"$f":"IFERROR(MATCH(G92,Konie!$I$12:$I$13,0),0)","v":0},{"$f":"IFERROR(MATCH(I92,Konie!$K$12:$K$13,0),0)","v":0},{"$f":"IF(J92=\"\",0,IF(W92=1,IF(J92=\"do 1,47\",Konie!$G$12,Konie!$G$13),0))","v":0},{"$f":"IF(W92=2,Konie!$G$14,0)","v":0},0,{"$f":"IFERROR(IF(AB92=2,Konie!$G$17,Konie!$G$16),0)","v":0},{"$f":"MATCH(I92,Konie!$L$12:$L$13,0)","v":{"$error":"#N/A"}},null,null,null,0,0]
[null,null,null,null,null,null,null,null,null,null,null,null,null,0,0,"-",null,null,0,{"$f":"IFERROR(MATCH(D93,Nr_stad!$U$8:$U$60,0),0)","v":0},0,{"$f":"IFERROR(MATCH(G93,Konie!$I$12:$I$13,0),0)","v":0},{"$f":"IFERROR(MATCH(I93,Konie!$K$12:$K$13,0),0)","v":0},{"$f":"IF(J93=\"\",0,IF(W93=1,IF(J93=\"do 1,47\",Konie!$G$12,Konie!$G$13),0))","v":0},{"$f":"IF(W93=2,Konie!$G$14,0)","v":0},0,{"$f":"IFERROR(IF(AB93=2,Konie!$G$17,Konie!$G$16),0)","v":0},{"$f":"MATCH(I93,Konie!$L$12:$L$13,0)","v":{"$error":"#N/A"}},null,null,null,0,0]
[null,null,null,null,null,null,null,null,null,null,null,null,null,0,0,"-",null,null,0,{"$f":"IFERROR(MATCH(D94,Nr_stad!$U$8:$U$60,0),0)","v":0},0,{"$f":"IFERROR(MATCH(G94,Konie!$I$12:$I$13,0),0)","v":0},{"$f":"IFERROR(MATCH(I94,Konie!$K$12:$K$13,0),0)","v":0},{"$f":"IF(J94=\"\",0,IF(W94=1,IF(J94=\"do 1,47\",Konie!$G$12,Konie!$G$13),0))","v":0},{"$f":"IF(W94=2,Konie!$G$14,0)","v":0},0,{"$f":"IFERROR(IF(AB94=2,Konie!$G$17,Konie!$G$16),0)","v":0},{"$f":"MATCH(I94,Konie!$L$12:$L$13,0)","v":{"$error":"#N/A"}},null,null,null,0,0]
[null,null,null,null,null,null,null,null,null,null,null,null,null,0,0,"-",null,null,0,{"$f":"IFERROR(MATCH(D95,Nr_stad!$U$8:$U$60,0),0)","v":0},0,{"$f":"IFERROR(MATCH(G95,Konie!$I$12:$I$13,0),0)","v":0},{"$f":"IFERROR(MATCH(I95,Konie!$K$12:$K$13,0),0)","v":0},{"$f":"IF(J95=\"\",0,IF(W95=1,IF(J95=\"do 1,47\",Konie!$G$12,Konie!$G$13),0))","v":0},{"$f":"IF(W95=2,Konie!$G$14,0)","v":0},0,{"$f":"IFERROR(IF(AB95=2,Konie!$G$17,Konie!$G$16),0)","v":0},{"$f":"MATCH(I95,Konie!$L$12:$L$13,0)","v":{"$error":"#N/A"}},null,null,null,0,0]
[null,null,null,null,null,null,null,null,null,null,null,null,null,0,0,"-",null,null,0,{"$f":"IFERROR(MATCH(D96,Nr_stad!$U$8:$U$60,0),0)","v":0},0,{"$f":"IFERROR(MATCH(G96,Konie!$I$12:$I$13,0),0)","v":0},{"$f":"IFERROR(MATCH(I96,Konie!$K$12:$K$13,0),0)","v":0},{"$f":"IF(J96=\"\",0,IF(W96=1,IF(J96=\"do 1,47\",Konie!$G$12,Konie!$G$13),0))","v":0},{"$f":"IF(W96=2,Konie!$G$14,0)","v":0},0,{"$f":"IFERROR(IF(AB96=2,Konie!$G$17,Konie!$G$16),0)","v":0},{"$f":"MATCH(I96,Konie!$L$12:$L$13,0)","v":{"$error":"#N/A"}},null,null,null,0,0]
[null,null,null,null,null,null,null,null,null,null,null,null,null,0,0,"-",null,null,0,{"$f":"IFERROR(MATCH(D97,Nr_stad!$U$8:$U$60,0),0)","v":0},0,{"$f":"IFERROR(MATCH(G97,Konie!$I$12:$I$13,0),0)","v":0},{"$f":"IFERROR(MATCH(I97,Konie!$K$12:$K$13,0),0)","v":0},{"$f":"IF(J97=\"\",0,IF(W97=1,IF(J97=\"do 1,47\",Konie!$G$12,Konie!$G$13),0))","v":0},{"$f":"IF(W97=2,Konie!$G$14,0)","v":0},0,{"$f":"IFERROR(IF(AB97=2,Konie!$G$17,Konie!$G$16),0)","v":0},{"$f":"MATCH(I97,Konie!$L$12:$L$13,0)","v":{"$error":"#N/A"}},null,null,null,0,0]
[null,null,null,null,null,null,null,null,null,null,null,null,null,0,0,"-",null,null,0,{"$f":"IFERROR(MATCH(D98,Nr_stad!$U$8:$U$60,0),0)","v":0},0,{"$f":"IFERROR(MATCH(G98,Konie!$I$12:$I$13,0),0)","v":0},{"$f":"IFERROR(MATCH(I98,Konie!$K$12:$K$13,0),0)","v":0},{"$f":"IF(J98=\"\",0,IF(W98=1,IF(J98=\"do 1,47\",Konie!$G$12,Konie!$G$13),0))","v":0},{"$f":"IF(W98=2,Konie!$G$14,0)","v":0},0,{"$f":"IFERROR(IF(AB98=2,Konie!$G$17,Konie!$G$16),0)","v":0},{"$f":"MATCH(I98,Konie!$L$12:$L$13,0)","v":{"$error":"#N/A"}},null,null,null,0,0]
[null,null,null,null,null,null,null,null,null,null,null,null,null,0,0,"-",null,null,0,{"$f":"IFERROR(MATCH(D99,Nr_stad!$U$8:$U$60,0),0)","v":0},0,{"$f":"IFERROR(MATCH(G99,Konie!$I$12:$I$13,0),0)","v":0},{"$f":"IFERROR(MATCH(I99,Konie!$K$12:$K$13,0),0)","v":0},{"$f":"IF(J99=\"\",0,IF(W99=1,IF(J99=\"do 1,47\",Konie!$G$12,Konie!$G$13),0))","v":0},{"$f":"IF(W99=2,Konie!$G$14,0)","v":0},0,{"$f":"IFERROR(IF(AB99=2,Konie!$G$17,Konie!$G$16),0)","v":0},{"$f":"MATCH(I99,Konie!$L$12:$L$13,0)","v":{"$error":"#N/A"}},null,null,null,0,0]
[null,null,null,null,null,null,null,null,null,null,null,null,null,0,0,"-",null,null,0,{"$f":"IFERROR(MATCH(D100,Nr_stad!$U$8:$U$60,0),0)","v":0},0,{"$f":"IFERROR(MATCH(G100,Konie!$I$12:$I$13,0),0)","v":0},{"$f":"IFERROR(MATCH(I100,Konie!$K$12:$K$13,0),0)","v":0},{"$f":"IF(J100=\"\",0,IF(W100=1,IF(J100=\"do 1,47\",Konie!$G$12,Konie!$G$13),0))","v":0},{"$f":"IF(W100=2,Konie!$G$14,0)","v":0},0,{"$f":"IFERROR(IF(AB100=2,Konie!$G$17,Konie!$G$16),0)","v":0},{"$f":"MATCH(I100,Konie!$L$12:$L$13,0)","v":{"$error":"#N/A"}},null,null,null,0,0]
[null,null,null,null,null,null,null,null,null,null,null,null,null,0,0,"-",null,null,0,{"$f":"IFERROR(MATCH(D101,Nr_stad!$U$8:$U$60,0),0)","v":0},0,{"$f":"IFERROR(MATCH(G101,Konie!$I$12:$I$13,0),0)","v":0},{"$f":"IFERROR(MATCH(I101,Konie!$K$12:$K$13,0),0)","v":0},{"$f":"IF(J101=\"\",0,IF(W101=1,IF(J101=\"do 1,47\",Konie!$G$12,Konie!$G$13),0))","v":0},{"$f":"IF(W101=2,Konie!$G$14,0)","v":0},0,{"$f":"IFERROR(IF(AB101=2,Konie!$G$17,Konie!$G$16),0)","v":0},{"$f":"MATCH(I101,Konie!$L$12:$L$13,0)","v":{"$error":"#N/A"}},null,null,null,0,0]
[null,null,null,null,null,null,null,null,null,null,null,null,null,0,0,"-",null,null,0,{"$f":"IFERROR(MATCH(D102,Nr_stad!$U$8:$U$60,0),0)","v":0},0,{"$f":"IFERROR(MATCH(G102,Konie!$I$12:$I$13,0),0)","v":0},{"$f":"IFERROR(MATCH(I102,Konie!$K$12:$K$13,0),0)","v":0},{"$f":"IF(J102=\"\",0,IF(W102=1,IF(J102=\"do 1,47\",Konie!$G$12,Konie!$G$13),0))","v":0},{"$f":"IF(W102=2,Konie!$G$14,0)","v":0},0,{"$f":"IFERROR(IF(AB102=2,Konie!$G$17,Konie!$G$16),0)","v":0},{"$f":"MATCH(I102,Konie!$L$12:$L$13,0)","v":{"$error":"#N/A"}},null,null,null,0,0]
[null,null,null,null,null,null,null,null,null,null,null,null,null,0,0,"-",null,null,0,{"$f":"IFERROR(MATCH(D103,Nr_stad!$U$8:$U$60,0),0)","v":0},0,{"$f":"IFERROR(MATCH(G103,Konie!$I$12:$I$13,0),0)","v":0},{"$f":"IFERROR(MATCH(I103,Konie!$K$12:$K$13,0),0)","v":0},{"$f":"IF(J103=\"\",0,IF(W103=1,IF(J103=\"do 1,47\",Konie!$G$12,Konie!$G$13),0))","v":0},{"$f":"IF(W103=2,Konie!$G$14,0)","v":0},0,{"$f":"IFERROR(IF(AB103=2,Konie!$G$17,Konie!$G$16),0)","v":0},{"$f":"MATCH(I103,Konie!$L$12:$L$13,0)","v":{"$error":"#N/A"}},null,null,null,0,0]
[null,null,null,null,null,null,null,null,null,null,null,null,null,0,0,"-",null,null,0,{"$f":"IFERROR(MATCH(D104,Nr_stad!$U$8:$U$60,0),0)","v":0},0,{"$f":"IFERROR(MATCH(G104,Konie!$I$12:$I$13,0),0)","v":0},{"$f":"IFERROR(MATCH(I104,Konie!$K$12:$K$13,0),0)","v":0},{"$f":"IF(J104=\"\",0,IF(W104=1,IF(J104=\"do 1,47\",Konie!$G$12,Konie!$G$13),0))","v":0},{"$f":"IF(W104=2,Konie!$G$14,0)","v":0},0,{"$f":"IFERROR(IF(AB104=2,Konie!$G$17,Konie!$G$16),0)","v":0},{"$f":"MATCH(I104,Konie!$L$12:$L$13,0)","v":{"$error":"#N/A"}},null,null,null,0,0]
[null,null,null,null,null,null,null,null,null,null,null,null,null,0,0,"-",null,null,0,{"$f":"IFERROR(MATCH(D105,Nr_stad!$U$8:$U$60,0),0)","v":0},0,{"$f":"IFERROR(MATCH(G105,Konie!$I$12:$I$13,0),0)","v":0},{"$f":"IFERROR(MATCH(I105,Konie!$K$12:$K$13,0),0)","v":0},{"$f":"IF(J105=\"\",0,IF(W105=1,IF(J105=\"do 1,47\",Konie!$G$12,Konie!$G$13),0))","v":0},{"$f":"IF(W105=2,Konie!$G$14,0)","v":0},0,{"$f":"IFERROR(IF(AB105=2,Konie!$G$17,Konie!$G$16),0)","v":0},{"$f":"MATCH(I105,Konie!$L$12:$L$13,0)","v":{"$error":"#N/A"}},null,null,null,0,0]
[null,null,null,null,null,null,null,null,null,null,null,null,null,0,0,"-",null,null,0,{"$f":"IFERROR(MATCH(D106,Nr_stad!$U$8:$U$60,0),0)","v":0},0,{"$f":"IFERROR(MATCH(G106,Konie!$I$12:$I$13,0),0)","v":0},{"$f":"IFERROR(MATCH(I106,Konie!$K$12:$K$13,0),0)","v":0},{"$f":"IF(J106=\"\",0,IF(W106=1,IF(J106=\"do 1,47\",Konie!$G$12,Konie!$G$13),0))","v":0},{"$f":"IF(W106=2,Konie!$G$14,0)","v":0},0,{"$f":"IFERROR(IF(AB106=2,Konie!$G$17,Konie!$G$16),0)","v":0},{"$f":"MATCH(I106,Konie!$L$12:$L$13,0)","v":{"$error":"#N/A"}},null,null,null,0,0]
[null,null,null,null,null,null,null,null,null,null,null,null,null,0,0,"-",null,null,0,{"$f":"IFERROR(MATCH(D107,Nr_stad!$U$8:$U$60,0),0)","v":0},0,{"$f":"IFERROR(MATCH(G107,Konie!$I$12:$I$13,0),0)","v":0},{"$f":"IFERROR(MATCH(I107,Konie!$K$12:$K$13,0),0)","v":0},{"$f":"IF(J107=\"\",0,IF(W107=1,IF(J107=\"do 1,47\",Konie!$G$12,Konie!$G$13),0))","v":0},{"$f":"IF(W107=2,Konie!$G$14,0)","v":0},0,{"$f":"IFERROR(IF(AB107=2,Konie!$G$17,Konie!$G$16),0)","v":0},{"$f":"MATCH(I107,Konie!$L$12:$L$13,0)","v":{"$error":"#N/A"}},null,null,null,0,0]
[null,null,null,null,null,null,null,null,null,null,null,null,null,0,0,"-",null,null,0,{"$f":"IFERROR(MATCH(D108,Nr_stad!$U$8:$U$60,0),0)","v":0},0,{"$f":"IFERROR(MATCH(G108,Konie!$I$12:$I$13,0),0)","v":0},{"$f":"IFERROR(MATCH(I108,Konie!$K$12:$K$13,0),0)","v":0},{"$f":"IF(J108=\"\",0,IF(W108=1,IF(J108=\"do 1,47\",Konie!$G$12,Konie!$G$13),0))","v":0},{"$f":"IF(W108=2,Konie!$G$14,0)","v":0},0,{"$f":"IFERROR(IF(AB108=2,Konie!$G$17,Konie!$G$16),0)","v":0},{"$f":"MATCH(I108,Konie!$L$12:$L$13,0)","v":{"$error":"#N/A"}},null,null,null,0,0]
[null,null,null,null,null,null,null,null,null,null,null,null,null,0,0,"-",null,null,0,{"$f":"IFERROR(MATCH(D109,Nr_stad!$U$8:$U$60,0),0)","v":0},0,{"$f":"IFERROR(MATCH(G109,Konie!$I$12:$I$13,0),0)","v":0},{"$f":"IFERROR(MATCH(I109,Konie!$K$12:$K$13,0),0)","v":0},{"$f":"IF(J109=\"\",0,IF(W109=1,IF(J109=\"do 1,47\",Konie!$G$12,Konie!$G$13),0))","v":0},{"$f":"IF(W109=2,Konie!$G$14,0)","v":0},0,{"$f":"IFERROR(IF(AB109=2,Konie!$G$17,Konie!$G$16),0)","v":0},{"$f":"MATCH(I109,Konie!$L$12:$L$13,0)","v":{"$error":"#N/A"}},null,null,null,0,0]
[null,null,null,null,null,null,null,null,null,null,null,null,null,0,0,"-",null,null,0,{"$f":"IFERROR(MATCH(D110,Nr_stad!$U$8:$U$60,0),0)","v":0},0,{"$f":"IFERROR(MATCH(G110,Konie!$I$12:$I$13,0),0)","v":0},{"$f":"IFERROR(MATCH(I110,Konie!$K$12:$K$13,0),0)","v":0},{"$f":"IF(J110=\"\",0,IF(W110=1,IF(J110=\"do 1,47\",Konie!$G$12,Konie!$G$13),0))","v":0},{"$f":"IF(W110=2,Konie!$G$14,0)","v":0},0,{"$f":"IFERROR(IF(AB110=2,Konie!$G$17,Konie!$G$16),0)","v":0},{"$f":"MATCH(I110,Konie!$L$12:$L$13,0)","v":{"$error":"#N/A"}},null,null,null,0,0]
[null,null,null,null,null,null,null,null,null,null,null,null,null,0,0,"-",null,null,0,{"$f":"IFERROR(MATCH(D111,Nr_stad!$U$8:$U$60,0),0)","v":0},0,{"$f":"IFERROR(MATCH(G111,Konie!$I$12:$I$13,0),0)","v":0},{"$f":"IFERROR(MATCH(I111,Konie!$K$12:$K$13,0),0)","v":0},{"$f":"IF(J111=\"\",0,IF(W111=1,IF(J111=\"do 1,47\",Konie!$G$12,Konie!$G$13),0))","v":0},{"$f":"IF(W111=2,Konie!$G$14,0)","v":0},0,{"$f":"IFERROR(IF(AB111=2,Konie!$G$17,Konie!$G$16),0)","v":0},{"$f":"MATCH(I111,Konie!$L$12:$L$13,0)","v":{"$error":"#N/A"}},null,null,null,0,0]
[null,null,null,null,null,null,null,null,null,null,null,null,null,0,0,"-",null,null,0,{"$f":"IFERROR(MATCH(D112,Nr_stad!$U$8:$U$60,0),0)","v":0},0,{"$f":"IFERROR(MATCH(G112,Konie!$I$12:$I$13,0),0)","v":0},{"$f":"IFERROR(MATCH(I112,Konie!$K$12:$K$13,0),0)","v":0},{"$f":"IF(J112=\"\",0,IF(W112=1,IF(J112=\"do 1,47\",Konie!$G$12,Konie!$G$13),0))","v":0},{"$f":"IF(W112=2,Konie!$G$14,0)","v":0},0,{"$f":"IFERROR(IF(AB112=2,Konie!$G$17,Konie!$G$16),0)","v":0},{"$f":"MATCH(I112,Konie!$L$12:$L$13,0)","v":{"$error":"#N/A"}},null,null,null,0,0]
[null,null,null,null,null,null,null,null,null,null,null,null,null,0,0,"-",null,null,0,{"$f":"IFERROR(MATCH(D113,Nr_stad!$U$8:$U$60,0),0)","v":0},0,{"$f":"IFERROR(MATCH(G113,Konie!$I$12:$I$13,0),0)","v":0},{"$f":"IFERROR(MATCH(I113,Konie!$K$12:$K$13,0),0)","v":0},{"$f":"IF(J113=\"\",0,IF(W113=1,IF(J113=\"do 1,47\",Konie!$G$12,Konie!$G$13),0))","v":0},{"$f":"IF(W113=2,Konie!$G$14,0)","v":0},0,{"$f":"IFERROR(IF(AB113=2,Konie!$G$17,Konie!$G$16),0)","v":0},{"$f":"MATCH(I113,Konie!$L$12:$L$13,0)","v":{"$error":"#N/A"}},null,null,null,0,0]
[null,null,null,null,null,null,null,null,null,null,null,null,null,0,0,"-",null,null,0,{"$f":"IFERROR(MATCH(D114,Nr_stad!$U$8:$U$60,0),0)","v":0},0,{"$f":"IFERROR(MATCH(G114,Konie!$I$12:$I$13,0),0)","v":0},{"$f":"IFERROR(MATCH(I114,Konie!$K$12:$K$13,0),0)","v":0},{"$f":"IF(J114=\"\",0,IF(W114=1,IF(J114=\"do 1,47\",Konie!$G$12,Konie!$G$13),0))","v":0},{"$f":"IF(W114=2,Konie!$G$14,0)","v":0},0,{"$f":"IFERROR(IF(AB114=2,Konie!$G$17,Konie!$G$16),0)","v":0},{"$f":"MATCH(I114,Konie!$L$12:$L$13,0)","v":{"$error":"#N/A"}},null,null,null,0,0]
[null,null,null,null,null,null,null,null,null,null,null,null,null,0,0,"-",null,null,0,{"$f":"IFERROR(MATCH(D115,Nr_stad!$U$8:$U$60,0),0)","v":0},0,{"$f":"IFERROR(MATCH(G115,Konie!$I$12:$I$13,0),0)","v":0},{"$f":"IFERROR(MATCH(I115,Konie!$K$12:$K$13,0),0)","v":0},{"$f":"IF(J115=\"\",0,IF(W115=1,IF(J115=\"do 1,47\",Konie!$G$12,Konie!$G$13),0))","v":0},{"$f":"IF(W115=2,Konie!$G$14,0)","v":0},0,{"$f":"IFERROR(IF(AB115=2,Konie!$G$17,Konie!$G$16),0)","v":0},{"$f":"MATCH(I115,Konie!$L$12:$L$13,0)","v":{"$error":"#N/A"}},null,null,null,0,0]
[null,null,null,null,null,null,null,null,null,null,null,null,null,0,0,"-",null,null,0,{"$f":"IFERROR(MATCH(D116,Nr_stad!$U$8:$U$60,0),0)","v":0},0,{"$f":"IFERROR(MATCH(G116,Konie!$I$12:$I$13,0),0)","v":0},{"$f":"IFERROR(MATCH(I116,Konie!$K$12:$K$13,0),0)","v":0},{"$f":"IF(J116=\"\",0,IF(W116=1,IF(J116=\"do 1,47\",Konie!$G$12,Konie!$G$13),0))","v":0},{"$f":"IF(W116=2,Konie!$G$14,0)","v":0},0,{"$f":"IFERROR(IF(AB116=2,Konie!$G$17,Konie!$G$16),0)","v":0},{"$f":"MATCH(I116,Konie!$L$12:$L$13,0)","v":{"$error":"#N/A"}},null,null,null,0,0]
[null,null,null,null,null,null,null,null,null,null,null,null,null,0,0,"-",null,null,0,{"$f":"IFERROR(MATCH(D117,Nr_stad!$U$8:$U$60,0),0)","v":0},0,{"$f":"IFERROR(MATCH(G117,Konie!$I$12:$I$13,0),0)","v":0},{"$f":"IFERROR(MATCH(I117,Konie!$K$12:$K$13,0),0)","v":0},{"$f":"IF(J117=\"\",0,IF(W117=1,IF(J117=\"do 1,47\",Konie!$G$12,Konie!$G$13),0))","v":0},{"$f":"IF(W117=2,Konie!$G$14,0)","v":0},0,{"$f":"IFERROR(IF(AB117=2,Konie!$G$17,Konie!$G$16),0)","v":0},{"$f":"MATCH(I117,Konie!$L$12:$L$13,0)","v":{"$error":"#N/A"}},null,null,null,0,0]
[null,null,null,null,null,null,null,null,null,null,null,null,null,0,0,"-",null,null,0,{"$f":"IFERROR(MATCH(D118,Nr_stad!$U$8:$U$60,0),0)","v":0},0,{"$f":"IFERROR(MATCH(G118,Konie!$I$12:$I$13,0),0)","v":0},{"$f":"IFERROR(MATCH(I118,Konie!$K$12:$K$13,0),0)","v":0},{"$f":"IF(J118=\"\",0,IF(W118=1,IF(J118=\"do 1,47\",Konie!$G$12,Konie!$G$13),0))","v":0},{"$f":"IF(W118=2,Konie!$G$14,0)","v":0},0,{"$f":"IFERROR(IF(AB118=2,Konie!$G$17,Konie!$G$16),0)","v":0},{"$f":"MATCH(I118,Konie!$L$12:$L$13,0)","v":{"$error":"#N/A"}},null,null,null,0,0]
[null,null,null,null,null,null,null,null,null,null,null,null,null,0,0,"-",null,null,0,{"$f":"IFERROR(MATCH(D119,Nr_stad!$U$8:$U$60,0),0)","v":0},0,{"$f":"IFERROR(MATCH(G119,Konie!$I$12:$I$13,0),0)","v":0},{"$f":"IFERROR(MATCH(I119,Konie!$K$12:$K$13,0),0)","v":0},{"$f":"IF(J119=\"\",0,IF(W119=1,IF(J119=\"do 1,47\",Konie!$G$12,Konie!$G$13),0))","v":0},{"$f":"IF(W119=2,Konie!$G$14,0)","v":0},0,{"$f":"IFERROR(IF(AB119=2,Konie!$G$17,Konie!$G$16),0)","v":0},{"$f":"MATCH(I119,Konie!$L$12:$L$13,0)","v":{"$error":"#N/A"}},null,null,null,0,0]
[null,null,null,null,null,null,null,null,null,null,null,null,null,0,0,"-",null,null,0,{"$f":"IFERROR(MATCH(D120,Nr_stad!$U$8:$U$60,0),0)","v":0},0,{"$f":"IFERROR(MATCH(G120,Konie!$I$12:$I$13,0),0)","v":0},{"$f":"IFERROR(MATCH(I120,Konie!$K$12:$K$13,0),0)","v":0},{"$f":"IF(J120=\"\",0,IF(W120=1,IF(J120=\"do 1,47\",Konie!$G$12,Konie!$G$13),0))","v":0},{"$f":"IF(W120=2,Konie!$G$14,0)","v":0},0,{"$f":"IFERROR(IF(AB120=2,Konie!$G$17,Konie!$G$16),0)","v":0},{"$f":"MATCH(I120,Konie!$L$12:$L$13,0)","v":{"$error":"#N/A"}},null,null,null,0,0]
[null,null,null,null,null,null,null,null,null,null,null,null,null,0,0,"-",null,null,0,{"$f":"IFERROR(MATCH(D121,Nr_stad!$U$8:$U$60,0),0)","v":0},0,{"$f":"IFERROR(MATCH(G121,Konie!$I$12:$I$13,0),0)","v":0},{"$f":"IFERROR(MATCH(I121,Konie!$K$12:$K$13,0),0)","v":0},{"$f":"IF(J121=\"\",0,IF(W121=1,IF(J121=\"do 1,47\",Konie!$G$12,Konie!$G$13),0))","v":0},{"$f":"IF(W121=2,Konie!$G$14,0)","v":0},0,{"$f":"IFERROR(IF(AB121=2,Konie!$G$17,Konie!$G$16),0)","v":0},{"$f":"MATCH(I121,Konie!$L$12:$L$13,0)","v":{"$error":"#N/A"}},null,null,null,0,0]
[null,null,null,null,null,null,null,null,null,null,null,null,null,0,0,"-",null,null,0,{"$f":"IFERROR(MATCH(D122,Nr_stad!$U$8:$U$60,0),0)","v":0},0,{"$f":"IFERROR(MATCH(G122,Konie!$I$12:$I$13,0),0)","v":0},{"$f":"IFERROR(MATCH(I122,Konie!$K$12:$K$13,0),0)","v":0},{"$f":"IF(J122=\"\",0,IF(W122=1,IF(J122=\"do 1,47\",Konie!$G$12,Konie!$G$13),0))","v":0},{"$f":"IF(W122=2,Konie!$G$14,0)","v":0},0,{"$f":"IFERROR(IF(AB122=2,Konie!$G$17,Konie!$G$16),0)","v":0},{"$f":"MATCH(I122,Konie!$L$12:$L$13,0)","v":{"$error":"#N/A"}},null,null,null,0,0]
[null,null,null,null,null,null,null,null,null,null,null,null,null,0,0,"-",null,null,0,{"$f":"IFERROR(MATCH(D123,Nr_stad!$U$8:$U$60,0),0)","v":0},0,{"$f":"IFERROR(MATCH(G123,Konie!$I$12:$I$13,0),0)","v":0},{"$f":"IFERROR(MATCH(I123,Konie!$K$12:$K$13,0),0)","v":0},{"$f":"IF(J123=\"\",0,IF(W123=1,IF(J123=\"do 1,47\",Konie!$G$12,Konie!$G$13),0))","v":0},{"$f":"IF(W123=2,Konie!$G$14,0)","v":0},0,{"$f":"IFERROR(IF(AB123=2,Konie!$G$17,Konie!$G$16),0)","v":0},{"$f":"MATCH(I123,Konie!$L$12:$L$13,0)","v":{"$error":"#N/A"}},null,null,null,0,0]
[null,null,null,null,null,null,null,null,null,null,null,null,null,0,0,"-",null,null,0,{"$f":"IFERROR(MATCH(D124,Nr_stad!$U$8:$U$60,0),0)","v":0},0,{"$f":"IFERROR(MATCH(G124,Konie!$I$12:$I$13,0),0)","v":0},{"$f":"IFERROR(MATCH(I124,Konie!$K$12:$K$13,0),0)","v":0},{"$f":"IF(J124=\"\",0,IF(W124=1,IF(J124=\"do 1,47\",Konie!$G$12,Konie!$G$13),0))","v":0},{"$f":"IF(W124=2,Konie!$G$14,0)","v":0},0,{"$f":"IFERROR(IF(AB124=2,Konie!$G$17,Konie!$G$16),0)","v":0},{"$f":"MATCH(I124,Konie!$L$12:$L$13,0)","v":{"$error":"#N/A"}},null,null,null,0,0]
[null,null,null,null,null,null,null,null,null,null,null,null,null,0,0,"-",null,null,0,{"$f":"IFERROR(MATCH(D125,Nr_stad!$U$8:$U$60,0),0)","v":0},0,{"$f":"IFERROR(MATCH(G125,Konie!$I$12:$I$13,0),0)","v":0},{"$f":"IFERROR(MATCH(I125,Konie!$K$12:$K$13,0),0)","v":0},{"$f":"IF(J125=\"\",0,IF(W125=1,IF(J125=\"do 1,47\",Konie!$G$12,Konie!$G$13),0))","v":0},{"$f":"IF(W125=2,Konie!$G$14,0)","v":0},0,{"$f":"IFERROR(IF(AB125=2,Konie!$G$17,Konie!$G$16),0)","v":0},{"$f":"MATCH(I125,Konie!$L$12:$L$13,0)","v":{"$error":"#N/A"}},null,null,null,0,0]
[null,null,null,"POWIERZCHNIA BYTOWA RAZEM:",null,null,null,null,null,null,null,null,null,{"$f":"SUM(N26:N125)","v":0},0,"-",null,null,0,{"$f":"IFERROR(MATCH(D126,Nr_stad!$U$8:$U$60,0),0)","v":0},10,{"$f":"IFERROR(MATCH(G126,Konie!$I$12:$I$13,0),0)","v":0},{"$f":"IFERROR(MATCH(I126,Konie!$K$12:$K$13,0),0)","v":0},{"$f":"IF(J126=\"\",0,IF(W126=1,IF(J126=\"do 1,47\",Konie!$G$12,Konie!$G$13),0))","v":0},{"$f":"IF(W126=2,Konie!$G$14,0)","v":0},0,{"$f":"IFERROR(IF(AB126=2,Konie!$G$17,Konie!$G$16),0)","v":0},{"$f":"MATCH(I126,Konie!$L$12:$L$13,0)","v":{"$error":"#N/A"}},null,null,null,0,0]
[null,null,null,"Wielkości (w m2) posiadanych powierzchni bytowych w pomieszczeniach/budynkach dotyczą łącznie wnioskodawcy i wskazanych innych posiadaczy",null,null,null,null,null,"NIE",null,null,null,"SUMA LICZBY KONI:",null,{"$f":"SUM(P26:P126)","v":0},null,null,{"$f":"SUM(S26:S126)","v":0},null,null,null,null,null,null,null,null,null,null,{"$f":"SUMIF(AG26:AG127,1,P26:P126)","v":0},{"$f":"SUMIF(AG26:AG127,2,P26:P126)","v":0}]
[]
[]
[null,null,null,null,null,null,null,null,null,null,null,null,null,null,null,{"$f":"IFERROR(TRUNC(U95+U125),\"\")","v":0}]

{"sheet":"Konie_otw","index":38,"n_rows":131,"n_cols":35,"rows_kept":131,"cut":false,"hidden":false,"merged":[[120,9,120,10],[121,9,121,10],[122,9,122,10],[123,9,123,10],[124,9,124,10],[125,9,125,10],[126,9,126,10],[21,3,21,15],[111,9,111,10],[112,9,112,10],[113,9,113,10],[114,9,114,10],[115,9,115,10],[116,9,116,10],[117,9,117,10],[118,9,118,10],[119,9,119,10],[102,9,102,10],[103,9,103,10],[104,9,104,10],[105,9,105,10],[106,9,106,10],[107,9,107,10],[108,9,108,10],[90,9,90,10],[91,9,91,10],[92,9,92,10],[109,9,109,10],[110,9,110,10],[93,9,93,10],[94,9,94,10],[95,9,95,10],[96,9,96,10],[97,9,97,10],[98,9,98,10],[99,9,99,10],[100,9,100,10],[101,9,101,10],[81,9,81,10],[82,9,82,10],[83,9,83,10],[84,9,84,10],[85,9,85,10],[86,9,86,10],[87,9,87,10],[88,9,88,10],[89,9,89,10],[72,9,72,10],[73,9,73,10],[74,9,74,10],[75,9,75,10],[76,9,76,10],[77,9,77,10],[78,9,78,10],[79,9,79,10],[80,9,80,10],[63,9,63,10],[64,9,64,10],[65,9,65,10],[66,9,66,10],[67,9,67,10],[68,9,68,10],[69,9,69,10],[70,9,70,10],[71,9,71,10],[54,9,54,10],[55,9,55,10],[56,9,56,10],[57,9,57,10],[58,9,58,10],[59,9,59,10],[60,9,60,10],[61,9,61,10],[62,9,62,10],[45,9,45,10],[46,9,46,10],[47,9,47,10],[48,9,48,10],[49,9,49,10],[50,9,50,10],[51,9,51,10],[52,9,52,10],[53,9,53,10],[36,9,36,10],[37,9,37,10],[38,9,38,10],[39,9,39,10],[40,9,40,10],[41,9,41,10],[42,9,42,10],[43,9,43,10],[44,9,44,10],[27,9,27,10],[28,9,28,10],[29,9,29,10],[30,9,30,10],[31,9,31,10],[32,9,32,10],[33,9,33,10],[34,9,34,10],[35,9,35,10],[23,9,23,10],[24,9,24,10],[12,3,12,14],[13,4,13,11],[14,4,14,9],[15,3,15,8],[15,9,15,15],[17,3,17,7],[10,3,10,5],[10,7,10,11],[10,13,10,15],[11,3,11,5],[11,7,11,11],[11,13,11,15],[27,3,27,5],[27,6,27,7],[28,3,28,5],[28,6,28,7],[29,3,29,5],[29,6,29,7],[3,3,3,14],[23,22,23,25],[23,26,23,27],[25,3,25,5],[25,6,25,7],[26,3,26,5],[26,6,26,7],[19,3,19,8],[19,9,19,15],[23,3,24,5],[25,9,25,10],[26,9,26,10],[4,3,4,11],[5,3,5,15],[6,3,6,15],[9,3,9,15],[23,6,23,7],[24,6,24,7],[33,3,33,5],[33,6,33,7],[34,3,34,5],[34,6,34,7],[35,3,35,5],[35,6,35,7],[30,3,30,5],[30,6,30,7],[31,3,31,5],[31,6,31,7],[32,3,32,5],[32,6,32,7],[39,3,39,5],[39,6,39,7],[40,3,40,5],[40,6,40,7],[41,3,41,5],[41,6,41,7],[36,3,36,5],[36,6,36,7],[37,3,37,5],[37,6,37,7],[38,3,38,5],[38,6,38,7],[45,3,45,5],[45,6,45,7],[46,3,46,5],[46,6,46,7],[47,3,47,5],[47,6,47,7],[42,3,42,5],[42,6,42,7],[43,3,43,5],[43,6,43,7],[44,3,44,5],[44,6,44,7],[51,3,51,5],[51,6,51,7],[52,3,52,5],[52,6,52,7],[53,3,53,5],[53,6,53,7],[48,3,48,5],[48,6,48,7],[49,3,49,5],[49,6,49,7],[50,3,50,5],[50,6,50,7],[57,3,57,5],[57,6,57,7],[58,3,58,5],[58,6,58,7],[59,3,59,5],[59,6,59,7],[54,3,54,5],[54,6,54,7],[55,3,55,5],[55,6,55,7],[56,3,56,5],[56,6,56,7],[63,3,63,5],[63,6,63,7],[64,3,64,5],[64,6,64,7],[65,3,65,5],[65,6,65,7],[60,3,60,5],[60,6,60,7],[61,3,61,5],[61,6,61,7],[62,3,62,5],[62,6,62,7],[69,3,69,5],[69,6,69,7],[70,3,70,5],[70,6,70,7],[71,3,71,5],[71,6,71,7],[66,3,66,5],[66,6,66,7],[67,3,67,5],[67,6,67,7],[68,3,68,5],[68,6,68,7],[75,3,75,5],[75,6,75,7],[76,3,76,5],[76,6,76,7],[77,3,77,5],[77,6,77,7],[72,3,72,5],[72,6,72,7],[73,3,73,5],[73,6,73,7],[74,3,74,5],[74,6,74,7],[81,3,81,5],[81,6,81,7],[82,3,82,5],[82,6,82,7],[83,3,83,5],[83,6,83,7],[78,3,78,5],[78,6,78,7],[79,3,79,5],[79,6,79,7],[80,3,80,5],[80,6,80,7],[87,3,87,5],[87,6,87,7],[88,3,88,5],[88,6,88,7],[89,3,89,5],[89,6,89,7],[84,3,84,5],[84,6,84,7],[85,3,85,5],[85,6,85,7],[86,3,86,5],[86,6,86,7],[93,3,93,5],[93,6,93,7],[94,3,94,5],[94,6,94,7],[95,3,95,5],[95,6,95,7],[90,3,90,5],[90,6,90,7],[91,3,91,5],[91,6,91,7],[92,3,92,5],[92,6,92,7],[99,3,99,5],[99,6,99,7],[100,3,100,5],[100,6,100,7],[101,3,101,5],[101,6,101,7],[96,3,96,5],[96,6,96,7],[97,3,97,5],[97,6,97,7],[98,3,98,5],[98,6,98,7],[105,3,105,5],[105,6,105,7],[106,3,106,5],[106,6,106,7],[107,3,107,5],[107,6,107,7],[102,3,102,5],[102,6,102,7],[103,3,103,5],[103,6,103,7],[104,3,104,5],[104,6,104,7],[111,3,111,5],[111,6,111,7],[112,3,112,5],[112,6,112,7],[113,3,113,5],[113,6,113,7],[108,3,108,5],[108,6,108,7],[109,3,109,5],[109,6,109,7],[110,3,110,5],[110,6,110,7],[118,6,118,7],[119,3,119,5],[119,6,119,7],[114,3,114,5],[114,6,114,7],[115,3,115,5],[115,6,115,7],[116,3,116,5],[116,6,116,7],[130,8,130,17],[8,4,8,8],[8,10,8,13],[8,14,8,15],[127,3,127,8],[126,3,126,5],[126,6,126,7],[129,12,129,14],[7,3,7,15],[123,3,123,5],[123,6,123,7],[124,3,124,5],[124,6,124,7],[125,3,125,5],[125,6,125,7],[120,3,120,5],[120,6,120,7],[121,3,121,5],[121,6,121,7],[122,3,122,5],[122,6,122,7],[117,3,117,5],[117,6,117,7],[118,3,118,5]]}
[null,null,"Uwaga !!! Po wydrukowaniu uzupełnić ręcznie Oświadczenie i czytelnie podpisać",null,null,null,null,null,null,null,null,null,null,null,null,"POWRÓT",null,null,null,null,null,null,null,null,null,null,null,null,null,null,null,null,null,null,"UWAGI"]
[]
[null,null,"II. Część szczegółowa  "]
[null,null,"II.12."," Dobrostan koni – system otwarty"]
[null,null,"II.12.1.","W ramach dobrostanu koni - system otwarty"]
[null,null,{"$f":"IF(T6=TRUE,$U$9,$V$9)","v":"☐"},"utrzymywanie bez uwięzi",null,null,null,null,null,null,null,null,null,null,null,null,null,null,null,false]
[null,null,{"$f":"IF(T7=TRUE,$U$9,$V$9)","v":"☐"},"zadaszenie o powierzchni pozwalającej na jednoczesne przebywanie wszystkich koni pod tym zadaszeniem",null,null,null,null,null,null,null,null,null,null,null,null,null,null,null,false]
[null,null,{"$f":"IF(T8=TRUE,$U$9,$V$9)","v":"☐"},"ściółka pod zadaszeniem",null,null,null,null,null,null,null,null,null,null,null,null,null,null,null,false]
[null,null,null,{"$f":"IF(T9=TRUE,U9,V9)","v":"☐"},"Do planu poprawy dobrostanu zwierząt dołączono szkic z powierzchniami zewnętrznymi",null,null,null,null,null,"Termin wykorzystania posiadanych zewnętrznych powierzchni bytowych",null,null,null,null,null,null,null,true,false,"☒","☐"]
[null,null,null,"System utrzymywania koni w gospodarstwie jest zgodny z klasyfikacją przyjętą w rozporządzeniu Ministra Rolnictwa i Rozwoju Wsi z dnia 23 grudnia 2022 r. w sprawie szczegółowego zakresu informacji zawartych w komputerowej bazie danych (Dz.U. z 2023 r. poz. 15)."]
[]
[null,null,null,"(miejscowość i data)",null,null,null,"(czytelny podpis rolnika)",null,null,null,null,null,"(czytelny podpis doradcy)"]
[null,null,null,null,null,null,null,null,null,null,null,null,null,null,null,null,null,null,null,{"$f":"OR(T14,T15)","v":true}]
[null,null,null,null,null,null,null,null,null,null,null,null,null,null,null,null,null,null,null,true,"☒","☐"]
[null,null,null,null,null,null,null,null,null,null,null,null,null,null,null,null,null,null,null,true,"☒","☐"]
[]
[]
[]
[]
[]
[]
[null,null,"II.12.2.","Dopuszczalna maksymalna liczba koni, które mogą przebywać jednocześnie w gospodarstwie z uwzględnieniem wymogów - Dobrostan koni – system otwarty\n"]
[]
[null,null,null,"Numer siedziby stada \nalbo numer działki ewidencyjnej",null,null,"Powierzchnia zewnętrzna na działce ewidencyjnej",null,"Powierzchnia minimalna","Maksymalna liczba koni",null,null,null,null,null,null,null,null,null,null,null,null,"boksy",null,null,null,"wolnost"]
[null,null,null,null,null,null,"ha",null,"ha/szt.","szt.",null,null,null,null,null,null,null,null,null,null,null,"wyb utrz.","poz. Gr","kon","klacz","pow","pow","poz gr","wyb","licz. Min","sum tucz"]
[null,null,null,null,null,null,null,null,{"$f":"IF(G26>0,Konie!$G$25,\"\")","v":""},{"$f":"IFERROR(QUOTIENT(G26,I26),0)","v":0},null,null,null,null,null,null,null,null,null,{"$f":"IFERROR(MATCH(D26,Nr_stad!$U$8:$U$60,0),0)","v":0},{"$f":"SUM(H26:P26)+T26","v":0},{"$f":"IFERROR(MATCH(G26,Konie!$I$12:$I$13,0),0)","v":0},{"$f":"IFERROR(MATCH(I26,Konie!$K$12:$K$13,0),0)","v":0},{"$f":"IF(W26=1,IF(#REF!<=Konie!$M$12,Konie!$G$12,Konie!$G$13),0)","v":0},{"$f":"IF(W26=2,Konie!$G$14,0)","v":0},{"$f":"MAX(X26:Y26)","v":0},{"$f":"IFERROR(IF(AB26=2,Konie!$G$17,Konie!$G$16),0)","v":0},{"$f":"MATCH(I26,Konie!$L$12:$L$13,0)","v":{"$error":"#N/A"}}]
[null,null,null,null,null,null,null,null,{"$f":"IF(G27>0,Konie!$G$25,\"\")","v":""},{"$f":"IFERROR(QUOTIENT(G27,I27),0)","v":0},null,null,null,null,null,null,null,null,null,{"$f":"IFERROR(MATCH(D27,Nr_stad!$U$8:$U$60,0),0)","v":0},{"$f":"SUM(H27:P27)+T27","v":0},{"$f":"IFERROR(MATCH(G27,Konie!$I$12:$I$13,0),0)","v":0},{"$f":"IFERROR(MATCH(I27,Konie!$K$12:$K$13,0),0)","v":0},{"$f":"IF(W27=1,IF(J27<=Konie!$M$12,Konie!$G$12,Konie!$G$13),0)","v":0},{"$f":"IF(W27=2,Konie!$G$14,0)","v":0},{"$f":"MAX(X27:Y27)","v":0},{"$f":"IFERROR(IF(AB27=2,Konie!$G$17,Konie!$G$16),0)","v":0},{"$f":"MATCH(I27,Konie!$L$12:$L$13,0)","v":{"$error":"#N/A"}}]
[null,null,null,null,null,null,null,null,{"$f":"IF(G28>0,Konie!$G$25,\"\")","v":""},0,null,null,null,null,null,null,null,null,null,{"$f":"IFERROR(MATCH(D28,Nr_stad!$U$8:$U$60,0),0)","v":0},0,{"$f":"IFERROR(MATCH(G28,Konie!$I$12:$I$13,0),0)","v":0},{"$f":"IFERROR(MATCH(I28,Konie!$K$12:$K$13,0),0)","v":0},{"$f":"IF(W28=1,IF(J28<=Konie!$M$12,Konie!$G$12,Konie!$G$13),0)","v":0},{"$f":"IF(W28=2,Konie!$G$14,0)","v":0},0,{"$f":"IFERROR(IF(AB28=2,Konie!$G$17,Konie!$G$16),0)","v":0},{"$f":"MATCH(I28,Konie!$L$12:$L$13,0)","v":{"$error":"#N/A"}}]
[null,null,null,null,null,null,null,null,{"$f":"IF(G29>0,Konie!$G$25,\"\")","v":""},0,null,null,null,null,null,null,null,null,null,{"$f":"IFERROR(MATCH(D29,Nr_stad!$U$8:$U$60,0),0)","v":0},0,{"$f":"IFERROR(MATCH(G29,Konie!$I$12:$I$13,0),0)","v":0},{"$f":"IFERROR(MATCH(I29,Konie!$K$12:$K$13,0),0)","v":0},{"$f":"IF(W29=1,IF(J29<=Konie!$M$12,Konie!$G$12,Konie!$G$13),0)","v":0},{"$f":"IF(W29=2,Konie!$G$14,0)","v":0},0,{"$f":"IFERROR(IF(AB29=2,Konie!$G$17,Konie!$G$16),0)","v":0},{"$f":"MATCH(I29,Konie!$L$12:$L$13,0)","v":{"$error":"#N/A"}}]
[null,null,null,null,null,null,null,null,{"$f":"IF(G30>0,Konie!$G$25,\"\")","v":""},0,null,null,null,null,null,null,null,null,null,{"$f":"IFERROR(MATCH(D30,Nr_stad!$U$8:$U$60,0),0)","v":0},0,{"$f":"IFERROR(MATCH(G30,Konie!$I$12:$I$13,0),0)","v":0},{"$f":"IFERROR(MATCH(I30,Konie!$K$12:$K$13,0),0)","v":0},{"$f":"IF(W30=1,IF(J30<=Konie!$M$12,Konie!$G$12,Konie!$G$13),0)","v":0},{"$f":"IF(W30=2,Konie!$G$14,0)","v":0},0,{"$f":"IFERROR(IF(AB30=2,Konie!$G$17,Konie!$G$16),0)","v":0},{"$f":"MATCH(I30,Konie!$L$12:$L$13,0)","v":{"$error":"#N/A"}}]
[null,null,null,null,null,null,null,null,{"$f":"IF(G31>0,Konie!$G$25,\"\")","v":""},0,null,null,null,null,null,null,null,null,null,{"$f":"IFERROR(MATCH(D31,Nr_stad!$U$8:$U$60,0),0)","v":0},0,{"$f":"IFERROR(MATCH(G31,Konie!$I$12:$I$13,0),0)","v":0},{"$f":"IFERROR(MATCH(I31,Konie!$K$12:$K$13,0),0)","v":0},{"$f":"IF(W31=1,IF(J31<=Konie!$M$12,Konie!$G$12,Konie!$G$13),0)","v":0},{"$f":"IF(W31=2,Konie!$G$14,0)","v":0},0,{"$f":"IFERROR(IF(AB31=2,Konie!$G$17,Konie!$G$16),0)","v":0},{"$f":"MATCH(I31,Konie!$L$12:$L$13,0)","v":{"$error":"#N/A"}}]
[null,null,null,null,null,null,null,null,{"$f":"IF(G32>0,Konie!$G$25,\"\")","v":""},0,null,null,null,null,null,null,null,null,null,{"$f":"IFERROR(MATCH(D32,Nr_stad!$U$8:$U$60,0),0)","v":0},0,{"$f":"IFERROR(MATCH(G32,Konie!$I$12:$I$13,0),0)","v":0},{"$f":"IFERROR(MATCH(I32,Konie!$K$12:$K$13,0),0)","v":0},{"$f":"IF(W32=1,IF(J32<=Konie!$M$12,Konie!$G$12,Konie!$G$13),0)","v":0},{"$f":"IF(W32=2,Konie!$G$14,0)","v":0},0,{"$f":"IFERROR(IF(AB32=2,Konie!$G$17,Konie!$G$16),0)","v":0},{"$f":"MATCH(I32,Konie!$L$12:$L$13,0)","v":{"$error":"#N/A"}}]
[null,null,null,null,null,null,null,null,{"$f":"IF(G33>0,Konie!$G$25,\"\")","v":""},0,null,null,null,null,null,null,null,null,null,{"$f":"IFERROR(MATCH(D33,Nr_stad!$U$8:$U$60,0),0)","v":0},0,{"$f":"IFERROR(MATCH(G33,Konie!$I$12:$I$13,0),0)","v":0},{"$f":"IFERROR(MATCH(I33,Konie!$K$12:$K$13,0),0)","v":0},{"$f":"IF(W33=1,IF(J33<=Konie!$M$12,Konie!$G$12,Konie!$G$13),0)","v":0},{"$f":"IF(W33=2,Konie!$G$14,0)","v":0},0,{"$f":"IFERROR(IF(AB33=2,Konie!$G$17,Konie!$G$16),0)","v":0},{"$f":"MATCH(I33,Konie!$L$12:$L$13,0)","v":{"$error":"#N/A"}}]
[null,null,null,null,null,null,null,null,{"$f":"IF(G34>0,Konie!$G$25,\"\")","v":""},0,null,null,null,null,null,null,null,null,null,{"$f":"IFERROR(MATCH(D34,Nr_stad!$U$8:$U$60,0),0)","v":0},0,{"$f":"IFERROR(MATCH(G34,Konie!$I$12:$I$13,0),0)","v":0},{"$f":"IFERROR(MATCH(I34,Konie!$K$12:$K$13,0),0)","v":0},{"$f":"IF(W34=1,IF(J34<=Konie!$M$12,Konie!$G$12,Konie!$G$13),0)","v":0},{"$f":"IF(W34=2,Konie!$G$14,0)","v":0},0,{"$f":"IFERROR(IF(AB34=2,Konie!$G$17,Konie!$G$16),0)","v":0},{"$f":"MATCH(I34,Konie!$L$12:$L$13,0)","v":{"$error":"#N/A"}}]
[null,null,null,null,null,null,null,null,{"$f":"IF(G35>0,Konie!$G$25,\"\")","v":""},0,null,null,null,null,null,null,null,null,null,{"$f":"IFERROR(MATCH(D35,Nr_stad!$U$8:$U$60,0),0)","v":0},0,{"$f":"IFERROR(MATCH(G35,Konie!$I$12:$I$13,0),0)","v":0},{"$f":"IFERROR(MATCH(I35,Konie!$K$12:$K$13,0),0)","v":0},{"$f":"IF(W35=1,IF(J35<=Konie!$M$12,Konie!$G$12,Konie!$G$13),0)","v":0},{"$f":"IF(W35=2,Konie!$G$14,0)","v":0},0,{"$f":"IFERROR(IF(AB35=2,Konie!$G$17,Konie!$G$16),0)","v":0},{"$f":"MATCH(I35,Konie!$L$12:$L$13,0)","v":{"$error":"#N/A"}}]
[null,null,null,null,null,null,null,null,{"$f":"IF(G36>0,Konie!$G$25,\"\")","v":""},0,null,null,null,null,null,null,null,null,null,{"$f":"IFERROR(MATCH(D36,Nr_stad!$U$8:$U$60,0),0)","v":0},0,{"$f":"IFERROR(MATCH(G36,Konie!$I$12:$I$13,0),0)","v":0},{"$f":"IFERROR(MATCH(I36,Konie!$K$12:$K$13,0),0)","v":0},{"$f":"IF(W36=1,IF(J36<=Konie!$M$12,Konie!$G$12,Konie!$G$13),0)","v":0},{"$f":"IF(W36=2,Konie!$G$14,0)","v":0},0,{"$f":"IFERROR(IF(AB36=2,Konie!$G$17,Konie!$G$16),0)","v":0},{"$f":"MATCH(I36,Konie!$L$12:$L$13,0)","v":{"$error":"#N/A"}}]
[null,null,null,null,null,null,null,null,{"$f":"IF(G37>0,Konie!$G$25,\"\")","v":""},0,null,null,null,null,null,null,null,null,null,{"$f":"IFERROR(MATCH(D37,Nr_stad!$U$8:$U$60,0),0)","v":0},0,{"$f":"IFERROR(MATCH(G37,Konie!$I$12:$I$13,0),0)","v":0},{"$f":"IFERROR(MATCH(I37,Konie!$K$12:$K$13,0),0)","v":0},{"$f":"IF(W37=1,IF(J37<=Konie!$M$12,Konie!$G$12,Konie!$G$13),0)","v":0},{"$f":"IF(W37=2,Konie!$G$14,0)","v":0},0,{"$f":"IFERROR(IF(AB37=2,Konie!$G$17,Konie!$G$16),0)","v":0},{"$f":"MATCH(I37,Konie!$L$12:$L$13,0)","v":{"$error":"#N/A"}}]
[null,null,null,null,null,null,null,null,{"$f":"IF(G38>0,Konie!$G$25,\"\")","v":""},0,null,null,null,null,null,null,null,null,null,{"$f":"IFERROR(MATCH(D38,Nr_stad!$U$8:$U$60,0),0)","v":0},0,{"$f":"IFERROR(MATCH(G38,Konie!$I$12:$I$13,0),0)","v":0},{"$f":"IFERROR(MATCH(I38,Konie!$K$12:$K$13,0),0)","v":0},{"$f":"IF(W38=1,IF(J38<=Konie!$M$12,Konie!$G$12,Konie!$G$13),0)","v":0},{"$f":"IF(W38=2,Konie!$G$14,0)","v":0},0,{"$f":"IFERROR(IF(AB38=2,Konie!$G$17,Konie!$G$16),0)","v":0},{"$f":"MATCH(I38,Konie!$L$12:$L$13,0)","v":{"$error":"#N/A"}}]
[null,null,null,null,null,null,null,null,{"$f":"IF(G39>0,Konie!$G$25,\"\")","v":""},0,null,null,null,null,null,null,null,null,null,{"$f":"IFERROR(MATCH(D39,Nr_stad!$U$8:$U$60,0),0)","v":0},0,{"$f":"IFERROR(MATCH(G39,Konie!$I$12:$I$13,0),0)","v":0},{"$f":"IFERROR(MATCH(I39,Konie!$K$12:$K$13,0),0)","v":0},{"$f":"IF(W39=1,IF(J39<=Konie!$M$12,Konie!$G$12,Konie!$G$13),0)","v":0},{"$f":"IF(W39=2,Konie!$G$14,0)","v":0},0,{"$f":"IFERROR(IF(AB39=2,Konie!$G$17,Konie!$G$16),0)","v":0},{"$f":"MATCH(I39,Konie!$L$12:$L$13,0)","v":{"$error":"#N/A"}}]
[null,null,null,null,null,null,null,null,{"$f":"IF(G40>0,Konie!$G$25,\"\")","v":""},0,null,null,null,null,null,null,null,null,null,{"$f":"IFERROR(MATCH(D40,Nr_stad!$U$8:$U$60,0),0)","v":0},0,{"$f":"IFERROR(MATCH(G40,Konie!$I$12:$I$13,0),0)","v":0},{"$f":"IFERROR(MATCH(I40,Konie!$K$12:$K$13,0),0)","v":0},{"$f":"IF(W40=1,IF(J40<=Konie!$M$12,Konie!$G$12,Konie!$G$13),0)","v":0},{"$f":"IF(W40=2,Konie!$G$14,0)","v":0},0,{"$f":"IFERROR(IF(AB40=2,Konie!$G$17,Konie!$G$16),0)","v":0},{"$f":"MATCH(I40,Konie!$L$12:$L$13,0)","v":{"$error":"#N/A"}}]
[null,null,null,null,null,null,null,null,{"$f":"IF(G41>0,Konie!$G$25,\"\")","v":""},0,null,null,null,null,null,null,null,null,null,{"$f":"IFERROR(MATCH(D41,Nr_stad!$U$8:$U$60,0),0)","v":0},0,{"$f":"IFERROR(MATCH(G41,Konie!$I$12:$I$13,0),0)","v":0},{"$f":"IFERROR(MATCH(I41,Konie!$K$12:$K$13,0),0)","v":0},{"$f":"IF(W41=1,IF(J41<=Konie!$M$12,Konie!$G$12,Konie!$G$13),0)","v":0},{"$f":"IF(W41=2,Konie!$G$14,0)","v":0},0,{"$f":"IFERROR(IF(AB41=2,Konie!$G$17,Konie!$G$16),0)","v":0},{"$f":"MATCH(I41,Konie!$L$12:$L$13,0)","v":{"$error":"#N/A"}}]
[null,null,null,null,null,null,null,null,{"$f":"IF(G42>0,Konie!$G$25,\"\")","v":""},0,null,null,null,null,null,null,null,null,null,{"$f":"IFERROR(MATCH(D42,Nr_stad!$U$8:$U$60,0),0)","v":0},0,{"$f":"IFERROR(MATCH(G42,Konie!$I$12:$I$13,0),0)","v":0},{"$f":"IFERROR(MATCH(I42,Konie!$K$12:$K$13,0),0)","v":0},{"$f":"IF(W42=1,IF(J42<=Konie!$M$12,Konie!$G$12,Konie!$G$13),0)","v":0},{"$f":"IF(W42=2,Konie!$G$14,0)","v":0},0,{"$f":"IFERROR(IF(AB42=2,Konie!$G$17,Konie!$G$16),0)","v":0},{"$f":"MATCH(I42,Konie!$L$12:$L$13,0)","v":{"$error":"#N/A"}}]
[null,null,null,null,null,null,null,null,{"$f":"IF(G43>0,Konie!$G$25,\"\")","v":""},0,null,null,null,null,null,null,null,null,null,{"$f":"IFERROR(MATCH(D43,Nr_stad!$U$8:$U$60,0),0)","v":0},0,{"$f":"IFERROR(MATCH(G43,Konie!$I$12:$I$13,0),0)","v":0},{"$f":"IFERROR(MATCH(I43,Konie!$K$12:$K$13,0),0)","v":0},{"$f":"IF(W43=1,IF(J43<=Konie!$M$12,Konie!$G$12,Konie!$G$13),0)","v":0},{"$f":"IF(W43=2,Konie!$G$14,0)","v":0},0,{"$f":"IFERROR(IF(AB43=2,Konie!$G$17,Konie!$G$16),0)","v":0},{"$f":"MATCH(I43,Konie!$L$12:$L$13,0)","v":{"$error":"#N/A"}}]
[null,null,null,null,null,null,null,null,{"$f":"IF(G44>0,Konie!$G$25,\"\")","v":""},0,null,null,null,null,null,null,null,null,null,{"$f":"IFERROR(MATCH(D44,Nr_stad!$U$8:$U$60,0),0)","v":0},0,{"$f":"IFERROR(MATCH(G44,Konie!$I$12:$I$13,0),0)","v":0},{"$f":"IFERROR(MATCH(I44,Konie!$K$12:$K$13,0),0)","v":0},{"$f":"IF(W44=1,IF(J44<=Konie!$M$12,Konie!$G$12,Konie!$G$13),0)","v":0},{"$f":"IF(W44=2,Konie!$G$14,0)","v":0},0,{"$f":"IFERROR(IF(AB44=2,Konie!$G$17,Konie!$G$16),0)","v":0},{"$f":"MATCH(I44,Konie!$L$12:$L$13,0)","v":{"$error":"#N/A"}}]
[null,null,null,null,null,null,null,null,{"$f":"IF(G45>0,Konie!$G$25,\"\")","v":""},0,null,null,null,null,null,null,null,null,null,{"$f":"IFERROR(MATCH(D45,Nr_stad!$U$8:$U$60,0),0)","v":0},0,{"$f":"IFERROR(MATCH(G45,Konie!$I$12:$I$13,0),0)","v":0},{"$f":"IFERROR(MATCH(I45,Konie!$K$12:$K$13,0),0)","v":0},{"$f":"IF(W45=1,IF(J45<=Konie!$M$12,Konie!$G$12,Konie!$G$13),0)","v":0},{"$f":"IF(W45=2,Konie!$G$14,0)","v":0},0,{"$f":"IFERROR(IF(AB45=2,Konie!$G$17,Konie!$G$16),0)","v":0},{"$f":"MATCH(I45,Konie!$L$12:$L$13,0)","v":{"$error":"#N/A"}}]
[null,null,null,null,null,null,null,null,{"$f":"IF(G46>0,Konie!$G$25,\"\")","v":""},0,null,null,null,null,null,null,null,null,null,{"$f":"IFERROR(MATCH(D46,Nr_stad!$U$8:$U$60,0),0)","v":0},0,{"$f":"IFERROR(MATCH(G46,Konie!$I$12:$I$13,0),0)","v":0},{"$f":"IFERROR(MATCH(I46,Konie!$K$12:$K$13,0),0)","v":0},{"$f":"IF(W46=1,IF(J46<=Konie!$M$12,Konie!$G$12,Konie!$G$13),0)","v":0},{"$f":"IF(W46=2,Konie!$G$14,0)","v":0},0,{"$f":"IFERROR(IF(AB46=2,Konie!$G$17,Konie!$G$16),0)","v":0},{"$f":"MATCH(I46,Konie!$L$12:$L$13,0)","v":{"$error":"#N/A"}}]
[null,null,null,null,null,null,null,null,{"$f":"IF(G47>0,Konie!$G$25,\"\")","v":""},0,null,null,null,null,null,null,null,null,null,{"$f":"IFERROR(MATCH(D47,Nr_stad!$U$8:$U$60,0),0)","v":0},0,{"$f":"IFERROR(MATCH(G47,Konie!$I$12:$I$13,0),0)","v":0},{"$f":"IFERROR(MATCH(I47,Konie!$K$12:$K$13,0),0)","v":0},{"$f":"IF(W47=1,IF(J47<=Konie!$M$12,Konie!$G$12,Konie!$G$13),0)","v":0},{"$f":"IF(W47=2,Konie!$G$14,0)","v":0},0,{"$f":"IFERROR(IF(AB47=2,Konie!$G$17,Konie!$G$16),0)","v":0},{"$f":"MATCH(I47,Konie!$L$12:$L$13,0)","v":{"$error":"#N/A"}}]
[null,null,null,null,null,null,null,null,{"$f":"IF(G48>0,Konie!$G$25,\"\")","v":""},0,null,null,null,null,null,null,null,null,null,{"$f":"IFERROR(MATCH(D48,Nr_stad!$U$8:$U$60,0),0)","v":0},0,{"$f":"IFERROR(MATCH(G48,Konie!$I$12:$I$13,0),0)","v":0},{"$f":"IFERROR(MATCH(I48,Konie!$K$12:$K$13,0),0)","v":0},{"$f":"IF(W48=1,IF(J48<=Konie!$M$12,Konie!$G$12,Konie!$G$13),0)","v":0},{"$f":"IF(W48=2,Konie!$G$14,0)","v":0},0,{"$f":"IFERROR(IF(AB48=2,Konie!$G$17,Konie!$G$16),0)","v":0},{"$f":"MATCH(I48,Konie!$L$12:$L$13,0)","v":{"$error":"#N/A"}}]
[null,null,null,null,null,null,null,null,{"$f":"IF(G49>0,Konie!$G$25,\"\")","v":""},0,null,null,null,null,null,null,null,null,null,{"$f":"IFERROR(MATCH(D49,Nr_stad!$U$8:$U$60,0),0)","v":0},0,{"$f":"IFERROR(MATCH(G49,Konie!$I$12:$I$13,0),0)","v":0},{"$f":"IFERROR(MATCH(I49,Konie!$K$12:$K$13,0),0)","v":0},{"$f":"IF(W49=1,IF(J49<=Konie!$M$12,Konie!$G$12,Konie!$G$13),0)","v":0},{"$f":"IF(W49=2,Konie!$G$14,0)","v":0},0,{"$f":"IFERROR(IF(AB49=2,Konie!$G$17,Konie!$G$16),0)","v":0},{"$f":"MATCH(I49,Konie!$L$12:$L$13,0)","v":{"$error":"#N/A"}}]
[null,null,null,null,null,null,null,null,{"$f":"IF(G50>0,Konie!$G$25,\"\")","v":""},0,null,null,null,null,null,null,null,null,null,{"$f":"IFERROR(MATCH(D50,Nr_stad!$U$8:$U$60,0),0)","v":0},0,{"$f":"IFERROR(MATCH(G50,Konie!$I$12:$I$13,0),0)","v":0},{"$f":"IFERROR(MATCH(I50,Konie!$K$12:$K$13,0),0)","v":0},{"$f":"IF(W50=1,IF(J50<=Konie!$M$12,Konie!$G$12,Konie!$G$13),0)","v":0},{"$f":"IF(W50=2,Konie!$G$14,0)","v":0},0,{"$f":"IFERROR(IF(AB50=2,Konie!$G$17,Konie!$G$16),0)","v":0},{"$f":"MATCH(I50,Konie!$L$12:$L$13,0)","v":{"$error":"#N/A"}}]
[null,null,null,null,null,null,null,null,{"$f":"IF(G51>0,Konie!$G$25,\"\")","v":""},0,null,null,null,null,null,null,null,null,null,{"$f":"IFERROR(MATCH(D51,Nr_stad!$U$8:$U$60,0),0)","v":0},0,{"$f":"IFERROR(MATCH(G51,Konie!$I$12:$I$13,0),0)","v":0},{"$f":"IFERROR(MATCH(I51,Konie!$K$12:$K$13,0),0)","v":0},{"$f":"IF(W51=1,IF(J51<=Konie!$M$12,Konie!$G$12,Konie!$G$13),0)","v":0},{"$f":"IF(W51=2,Konie!$G$14,0)","v":0},0,{"$f":"IFERROR(IF(AB51=2,Konie!$G$17,Konie!$G$16),0)","v":0},{"$f":"MATCH(I51,Konie!$L$12:$L$13,0)","v":{"$error":"#N/A"}}]
[null,null,null,null,null,null,null,null,{"$f":"IF(G52>0,Konie!$G$25,\"\")","v":""},0,null,null,null,null,null,null,null,null,null,{"$f":"IFERROR(MATCH(D52,Nr_stad!$U$8:$U$60,0),0)","v":0},0,{"$f":"IFERROR(MATCH(G52,Konie!$I$12:$I$13,0),0)","v":0},{"$f":"IFERROR(MATCH(I52,Konie!$K$12:$K$13,0),0)","v":0},{"$f":"IF(W52=1,IF(J52<=Konie!$M$12,Konie!$G$12,Konie!$G$13),0)","v":0},{"$f":"IF(W52=2,Konie!$G$14,0)","v":0},0,{"$f":"IFERROR(IF(AB52=2,Konie!$G$17,Konie!$G$16),0)","v":0},{"$f":"MATCH(I52,Konie!$L$12:$L$13,0)","v":{"$error":"#N/A"}}]
[null,null,null,null,null,null,null,null,{"$f":"IF(G53>0,Konie!$G$25,\"\")","v":""},0,null,null,null,null,null,null,null,null,null,{"$f":"IFERROR(MATCH(D53,Nr_stad!$U$8:$U$60,0),0)","v":0},0,{"$f":"IFERROR(MATCH(G53,Konie!$I$12:$I$13,0),0)","v":0},{"$f":"IFERROR(MATCH(I53,Konie!$K$12:$K$13,0),0)","v":0},{"$f":"IF(W53=1,IF(J53<=Konie!$M$12,Konie!$G$12,Konie!$G$13),0)","v":0},{"$f":"IF(W53=2,Konie!$G$14,0)","v":0},0,{"$f":"IFERROR(IF(AB53=2,Konie!$G$17,Konie!$G$16),0)","v":0},{"$f":"MATCH(I53,Konie!$L$12:$L$13,0)","v":{"$error":"#N/A"}}]
[null,null,null,null,null,null,null,null,{"$f":"IF(G54>0,Konie!$G$25,\"\")","v":""},0,null,null,null,null,null,null,null,null,null,{"$f":"IFERROR(MATCH(D54,Nr_stad!$U$8:$U$60,0),0)","v":0},0,{"$f":"IFERROR(MATCH(G54,Konie!$I$12:$I$13,0),0)","v":0},{"$f":"IFERROR(MATCH(I54,Konie!$K$12:$K$13,0),0)","v":0},{"$f":"IF(W54=1,IF(J54<=Konie!$M$12,Konie!$G$12,Konie!$G$13),0)","v":0},{"$f":"IF(W54=2,Konie!$G$14,0)","v":0},0,{"$f":"IFERROR(IF(AB54=2,Konie!$G$17,Konie!$G$16),0)","v":0},{"$f":"MATCH(I54,Konie!$L$12:$L$13,0)","v":{"$error":"#N/A"}}]
[null,null,null,null,null,null,null,null,{"$f":"IF(G55>0,Konie!$G$25,\"\")","v":""},0,null,null,null,null,null,null,null,null,null,{"$f":"IFERROR(MATCH(D55,Nr_stad!$U$8:$U$60,0),0)","v":0},0,{"$f":"IFERROR(MATCH(G55,Konie!$I$12:$I$13,0),0)","v":0},{"$f":"IFERROR(MATCH(I55,Konie!$K$12:$K$13,0),0)","v":0},{"$f":"IF(W55=1,IF(J55<=Konie!$M$12,Konie!$G$12,Konie!$G$13),0)","v":0},{"$f":"IF(W55=2,Konie!$G$14,0)","v":0},0,{"$f":"IFERROR(IF(AB55=2,Konie!$G$17,Konie!$G$16),0)","v":0},{"$f":"MATCH(I55,Konie!$L$12:$L$13,0)","v":{"$error":"#N/A"}}]
[null,null,null,null,null,null,null,null,{"$f":"IF(G56>0,Konie!$G$25,\"\")","v":""},0,null,null,null,null,null,null,null,null,null,{"$f":"IFERROR(MATCH(D56,Nr_stad!$U$8:$U$60,0),0)","v":0},0,{"$f":"IFERROR(MATCH(G56,Konie!$I$12:$I$13,0),0)","v":0},{"$f":"IFERROR(MATCH(I56,Konie!$K$12:$K$13,0),0)","v":0},{"$f":"IF(W56=1,IF(J56<=Konie!$M$12,Konie!$G$12,Konie!$G$13),0)","v":0},{"$f":"IF(W56=2,Konie!$G$14,0)","v":0},0,{"$f":"IFERROR(IF(AB56=2,Konie!$G$17,Konie!$G$16),0)","v":0},{"$f":"MATCH(I56,Konie!$L$12:$L$13,0)","v":{"$error":"#N/A"}}]
[null,null,null,null,null,null,null,null,{"$f":"IF(G57>0,Konie!$G$25,\"\")","v":""},0,null,null,null,null,null,null,null,null,null,{"$f":"IFERROR(MATCH(D57,Nr_stad!$U$8:$U$60,0),0)","v":0},0,{"$f":"IFERROR(MATCH(G57,Konie!$I$12:$I$13,0),0)","v":0},{"$f":"IFERROR(MATCH(I57,Konie!$K$12:$K$13,0),0)","v":0},{"$f":"IF(W57=1,IF(J57<=Konie!$M$12,Konie!$G$12,Konie!$G$13),0)","v":0},{"$f":"IF(W57=2,Konie!$G$14,0)","v":0},0,{"$f":"IFERROR(IF(AB57=2,Konie!$G$17,Konie!$G$16),0)","v":0},{"$f":"MATCH(I57,Konie!$L$12:$L$13,0)","v":{"$error":"#N/A"}}]
[null,null,null,null,null,null,null,null,{"$f":"IF(G58>0,Konie!$G$25,\"\")","v":""},0,null,null,null,null,null,null,null,null,null,{"$f":"IFERROR(MATCH(D58,Nr_stad!$U$8:$U$60,0),0)","v":0},0,{"$f":"IFERROR(MATCH(G58,Konie!$I$12:$I$13,0),0)","v":0},{"$f":"IFERROR(MATCH(I58,Konie!$K$12:$K$13,0),0)","v":0},{"$f":"IF(W58=1,IF(J58<=Konie!$M$12,Konie!$G$12,Konie!$G$13),0)","v":0},{"$f":"IF(W58=2,Konie!$G$14,0)","v":0},0,{"$f":"IFERROR(IF(AB58=2,Konie!$G$17,Konie!$G$16),0)","v":0},{"$f":"MATCH(I58,Konie!$L$12:$L$13,0)","v":{"$error":"#N/A"}}]
[null,null,null,null,null,null,null,null,{"$f":"IF(G59>0,Konie!$G$25,\"\")","v":""},0,null,null,null,null,null,null,null,null,null,{"$f":"IFERROR(MATCH(D59,Nr_stad!$U$8:$U$60,0),0)","v":0},0,{"$f":"IFERROR(MATCH(G59,Konie!$I$12:$I$13,0),0)","v":0},{"$f":"IFERROR(MATCH(I59,Konie!$K$12:$K$13,0),0)","v":0},{"$f":"IF(W59=1,IF(J59<=Konie!$M$12,Konie!$G$12,Konie!$G$13),0)","v":0},{"$f":"IF(W59=2,Konie!$G$14,0)","v":0},0,{"$f":"IFERROR(IF(AB59=2,Konie!$G$17,Konie!$G$16),0)","v":0},{"$f":"MATCH(I59,Konie!$L$12:$L$13,0)","v":{"$error":"#N/A"}}]
[null,null,null,null,null,null,null,null,{"$f":"IF(G60>0,Konie!$G$25,\"\")","v":""},0,null,null,null,null,null,null,null,null,null,{"$f":"IFERROR(MATCH(D60,Nr_stad!$U$8:$U$60,0),0)","v":0},0,{"$f":"IFERROR(MATCH(G60,Konie!$I$12:$I$13,0),0)","v":0},{"$f":"IFERROR(MATCH(I60,Konie!$K$12:$K$13,0),0)","v":0},{"$f":"IF(W60=1,IF(J60<=Konie!$M$12,Konie!$G$12,Konie!$G$13),0)","v":0},{"$f":"IF(W60=2,Konie!$G$14,0)","v":0},0,{"$f":"IFERROR(IF(AB60=2,Konie!$G$17,Konie!$G$16),0)","v":0},{"$f":"MATCH(I60,Konie!$L$12:$L$13,0)","v":{"$error":"#N/A"}}]
[null,null,null,null,null,null,null,null,{"$f":"IF(G61>0,Konie!$G$25,\"\")","v":""},0,null,null,null,null,null,null,null,null,null,{"$f":"IFERROR(MATCH(D61,Nr_stad!$U$8:$U$60,0),0)","v":0},0,{"$f":"IFERROR(MATCH(G61,Konie!$I$12:$I$13,0),0)","v":0},{"$f":"IFERROR(MATCH(I61,Konie!$K$12:$K$13,0),0)","v":0},{"$f":"IF(W61=1,IF(J61<=Konie!$M$12,Konie!$G$12,Konie!$G$13),0)","v":0},{"$f":"IF(W61=2,Konie!$G$14,0)","v":0},0,{"$f":"IFERROR(IF(AB61=2,Konie!$G$17,Konie!$G$16),0)","v":0},{"$f":"MATCH(I61,Konie!$L$12:$L$13,0)","v":{"$error":"#N/A"}}]
[null,null,null,null,null,null,null,null,{"$f":"IF(G62>0,Konie!$G$25,\"\")","v":""},0,null,null,null,null,null,null,null,null,null,{"$f":"IFERROR(MATCH(D62,Nr_stad!$U$8:$U$60,0),0)","v":0},0,{"$f":"IFERROR(MATCH(G62,Konie!$I$12:$I$13,0),0)","v":0},{"$f":"IFERROR(MATCH(I62,Konie!$K$12:$K$13,0),0)","v":0},{"$f":"IF(W62=1,IF(J62<=Konie!$M$12,Konie!$G$12,Konie!$G$13),0)","v":0},{"$f":"IF(W62=2,Konie!$G$14,0)","v":0},0,{"$f":"IFERROR(IF(AB62=2,Konie!$G$17,Konie!$G$16),0)","v":0},{"$f":"MATCH(I62,Konie!$L$12:$L$13,0)","v":{"$error":"#N/A"}}]
[null,null,null,null,null,null,null,null,{"$f":"IF(G63>0,Konie!$G$25,\"\")","v":""},0,null,null,null,null,null,null,null,null,null,{"$f":"IFERROR(MATCH(D63,Nr_stad!$U$8:$U$60,0),0)","v":0},0,{"$f":"IFERROR(MATCH(G63,Konie!$I$12:$I$13,0),0)","v":0},{"$f":"IFERROR(MATCH(I63,Konie!$K$12:$K$13,0),0)","v":0},{"$f":"IF(W63=1,IF(J63<=Konie!$M$12,Konie!$G$12,Konie!$G$13),0)","v":0},{"$f":"IF(W63=2,Konie!$G$14,0)","v":0},0,{"$f":"IFERROR(IF(AB63=2,Konie!$G$17,Konie!$G$16),0)","v":0},{"$f":"MATCH(I63,Konie!$L$12:$L$13,0)","v":{"$error":"#N/A"}}]
[null,null,null,null,null,null,null,null,{"$f":"IF(G64>0,Konie!$G$25,\"\")","v":""},0,null,null,null,null,null,null,null,null,null,{"$f":"IFERROR(MATCH(D64,Nr_stad!$U$8:$U$60,0),0)","v":0},0,{"$f":"IFERROR(MATCH(G64,Konie!$I$12:$I$13,0),0)","v":0},{"$f":"IFERROR(MATCH(I64,Konie!$K$12:$K$13,0),0)","v":0},{"$f":"IF(W64=1,IF(J64<=Konie!$M$12,Konie!$G$12,Konie!$G$13),0)","v":0},{"$f":"IF(W64=2,Konie!$G$14,0)","v":0},0,{"$f":"IFERROR(IF(AB64=2,Konie!$G$17,Konie!$G$16),0)","v":0},{"$f":"MATCH(I64,Konie!$L$12:$L$13,0)","v":{"$error":"#N/A"}}]
[null,null,null,null,null,null,null,null,{"$f":"IF(G65>0,Konie!$G$25,\"\")","v":""},0,null,null,null,null,null,null,null,null,null,{"$f":"IFERROR(MATCH(D65,Nr_stad!$U$8:$U$60,0),0)","v":0},0,{"$f":"IFERROR(MATCH(G65,Konie!$I$12:$I$13,0),0)","v":0},{"$f":"IFERROR(MATCH(I65,Konie!$K$12:$K$13,0),0)","v":0},{"$f":"IF(W65=1,IF(J65<=Konie!$M$12,Konie!$G$12,Konie!$G$13),0)","v":0},{"$f":"IF(W65=2,Konie!$G$14,0)","v":0},0,{"$f":"IFERROR(IF(AB65=2,Konie!$G$17,Konie!$G$16),0)","v":0},{"$f":"MATCH(I65,Konie!$L$12:$L$13,0)","v":{"$error":"#N/A"}}]
[null,null,null,null,null,null,null,null,{"$f":"IF(G66>0,Konie!$G$25,\"\")","v":""},0,null,null,null,null,null,null,null,null,null,{"$f":"IFERROR(MATCH(D66,Nr_stad!$U$8:$U$60,0),0)","v":0},0,{"$f":"IFERROR(MATCH(G66,Konie!$I$12:$I$13,0),0)","v":0},{"$f":"IFERROR(MATCH(I66,Konie!$K$12:$K$13,0),0)","v":0},{"$f":"IF(W66=1,IF(J66<=Konie!$M$12,Konie!$G$12,Konie!$G$13),0)","v":0},{"$f":"IF(W66=2,Konie!$G$14,0)","v":0},0,{"$f":"IFERROR(IF(AB66=2,Konie!$G$17,Konie!$G$16),0)","v":0},{"$f":"MATCH(I66,Konie!$L$12:$L$13,0)","v":{"$error":"#N/A"}}]
[null,null,null,null,null,null,null,null,{"$f":"IF(G67>0,Konie!$G$25,\"\")","v":""},0,null,null,null,null,null,null,null,null,null,{"$f":"IFERROR(MATCH(D67,Nr_stad!$U$8:$U$60,0),0)","v":0},0,{"$f":"IFERROR(MATCH(G67,Konie!$I$12:$I$13,0),0)","v":0},{"$f":"IFERROR(MATCH(I67,Konie!$K$12:$K$13,0),0)","v":0},{"$f":"IF(W67=1,IF(J67<=Konie!$M$12,Konie!$G$12,Konie!$G$13),0)","v":0},{"$f":"IF(W67=2,Konie!$G$14,0)","v":0},0,{"$f":"IFERROR(IF(AB67=2,Konie!$G$17,Konie!$G$16),0)","v":0},{"$f":"MATCH(I67,Konie!$L$12:$L$13,0)","v":{"$error":"#N/A"}}]
[null,null,null,null,null,null,null,null,{"$f":"IF(G68>0,Konie!$G$25,\"\")","v":""},0,null,null,null,null,null,null,null,null,null,{"$f":"IFERROR(MATCH(D68,Nr_stad!$U$8:$U$60,0),0)","v":0},0,{"$f":"IFERROR(MATCH(G68,Konie!$I$12:$I$13,0),0)","v":0},{"$f":"IFERROR(MATCH(I68,Konie!$K$12:$K$13,0),0)","v":0},{"$f":"IF(W68=1,IF(J68<=Konie!$M$12,Konie!$G$12,Konie!$G$13),0)","v":0},{"$f":"IF(W68=2,Konie!$G$14,0)","v":0},0,{"$f":"IFERROR(IF(AB68=2,Konie!$G$17,Konie!$G$16),0)","v":0},{"$f":"MATCH(I68,Konie!$L$12:$L$13,0)","v":{"$error":"#N/A"}}]
[null,null,null,null,null,null,null,null,{"$f":"IF(G69>0,Konie!$G$25,\"\")","v":""},0,null,null,null,null,null,null,null,null,null,{"$f":"IFERROR(MATCH(D69,Nr_stad!$U$8:$U$60,0),0)","v":0},0,{"$f":"IFERROR(MATCH(G69,Konie!$I$12:$I$13,0),0)","v":0},{"$f":"IFERROR(MATCH(I69,Konie!$K$12:$K$13,0),0)","v":0},{"$f":"IF(W69=1,IF(J69<=Konie!$M$12,Konie!$G$12,Konie!$G$13),0)","v":0},{"$f":"IF(W69=2,Konie!$G$14,0)","v":0},0,{"$f":"IFERROR(IF(AB69=2,Konie!$G$17,Konie!$G$16),0)","v":0},{"$f":"MATCH(I69,Konie!$L$12:$L$13,0)","v":{"$error":"#N/A"}}]
[null,null,null,null,null,null,null,null,{"$f":"IF(G70>0,Konie!$G$25,\"\")","v":""},0,null,null,null,null,null,null,null,null,null,{"$f":"IFERROR(MATCH(D70,Nr_stad!$U$8:$U$60,0),0)","v":0},0,{"$f":"IFERROR(MATCH(G70,Konie!$I$12:$I$13,0),0)","v":0},{"$f":"IFERROR(MATCH(I70,Konie!$K$12:$K$13,0),0)","v":0},{"$f":"IF(W70=1,IF(J70<=Konie!$M$12,Konie!$G$12,Konie!$G$13),0)","v":0},{"$f":"IF(W70=2,Konie!$G$14,0)","v":0},0,{"$f":"IFERROR(IF(AB70=2,Konie!$G$17,Konie!$G$16),0)","v":0},{"$f":"MATCH(I70,Konie!$L$12:$L$13,0)","v":{"$error":"#N/A"}}]
[null,null,null,null,null,null,null,null,{"$f":"IF(G71>0,Konie!$G$25,\"\")","v":""},0,null,null,null,null,null,null,null,null,null,{"$f":"IFERROR(MATCH(D71,Nr_stad!$U$8:$U$60,0),0)","v":0},0,{"$f":"IFERROR(MATCH(G71,Konie!$I$12:$I$13,0),0)","v":0},{"$f":"IFERROR(MATCH(I71,Konie!$K$12:$K$13,0),0)","v":0},{"$f":"IF(W71=1,IF(J71<=Konie!$M$12,Konie!$G$12,Konie!$G$13),0)","v":0},{"$f":"IF(W71=2,Konie!$G$14,0)","v":0},0,{"$f":"IFERROR(IF(AB71=2,Konie!$G$17,Konie!$G$16),0)","v":0},{"$f":"MATCH(I71,Konie!$L$12:$L$13,0)","v":{"$error":"#N/A"}}]
[null,null,null,null,null,null,null,null,{"$f":"IF(G72>0,Konie!$G$25,\"\")","v":""},0,null,null,null,null,null,null,null,null,null,{"$f":"IFERROR(MATCH(D72,Nr_stad!$U$8:$U$60,0),0)","v":0},0,{"$f":"IFERROR(MATCH(G72,Konie!$I$12:$I$13,0),0)","v":0},{"$f":"IFERROR(MATCH(I72,Konie!$K$12:$K$13,0),0)","v":0},{"$f":"IF(W72=1,IF(J72<=Konie!$M$12,Konie!$G$12,Konie!$G$13),0)","v":0},{"$f":"IF(W72=2,Konie!$G$14,0)","v":0},0,{"$f":"IFERROR(IF(AB72=2,Konie!$G$17,Konie!$G$16),0)","v":0},{"$f":"MATCH(I72,Konie!$L$12:$L$13,0)","v":{"$error":"#N/A"}}]
[null,null,null,null,null,null,null,null,{"$f":"IF(G73>0,Konie!$G$25,\"\")","v":""},0,null,null,null,null,null,null,null,null,null,{"$f":"IFERROR(MATCH(D73,Nr_stad!$U$8:$U$60,0),0)","v":0},0,{"$f":"IFERROR(MATCH(G73,Konie!$I$12:$I$13,0),0)","v":0},{"$f":"IFERROR(MATCH(I73,Konie!$K$12:$K$13,0),0)","v":0},{"$f":"IF(W73=1,IF(J73<=Konie!$M$12,Konie!$G$12,Konie!$G$13),0)","v":0},{"$f":"IF(W73=2,Konie!$G$14,0)","v":0},0,{"$f":"IFERROR(IF(AB73=2,Konie!$G$17,Konie!$G$16),0)","v":0},{"$f":"MATCH(I73,Konie!$L$12:$L$13,0)","v":{"$error":"#N/A"}}]
[null,null,null,null,null,null,null,null,{"$f":"IF(G74>0,Konie!$G$25,\"\")","v":""},0,null,null,null,null,null,null,null,null,null,{"$f":"IFERROR(MATCH(D74,Nr_stad!$U$8:$U$60,0),0)","v":0},0,{"$f":"IFERROR(MATCH(G74,Konie!$I$12:$I$13,0),0)","v":0},{"$f":"IFERROR(MATCH(I74,Konie!$K$12:$K$13,0),0)","v":0},{"$f":"IF(W74=1,IF(J74<=Konie!$M$12,Konie!$G$12,Konie!$G$13),0)","v":0},{"$f":"IF(W74=2,Konie!$G$14,0)","v":0},0,{"$f":"IFERROR(IF(AB74=2,Konie!$G$17,Konie!$G$16),0)","v":0},{"$f":"MATCH(I74,Konie!$L$12:$L$13,0)","v":{"$error":"#N/A"}}]
[null,null,null,null,null,null,null,null,{"$f":"IF(G75>0,Konie!$G$25,\"\")","v":""},0,null,null,null,null,null,null,null,null,null,{"$f":"IFERROR(MATCH(D75,Nr_stad!$U$8:$U$60,0),0)","v":0},0,{"$f":"IFERROR(MATCH(G75,Konie!$I$12:$I$13,0),0)","v":0},{"$f":"IFERROR(MATCH(I75,Konie!$K$12:$K$13,0),0)","v":0},{"$f":"IF(W75=1,IF(J75<=Konie!$M$12,Konie!$G$12,Konie!$G$13),0)","v":0},{"$f":"IF(W75=2,Konie!$G$14,0)","v":0},0,{"$f":"IFERROR(IF(AB75=2,Konie!$G$17,Konie!$G$16),0)","v":0},{"$f":"MATCH(I75,Konie!$L$12:$L$13,0)","v":{"$error":"#N/A"}}]
[null,null,null,null,null,null,null,null,{"$f":"IF(G76>0,Konie!$G$25,\"\")","v":""},0,null,null,null,null,null,null,null,null,null,{"$f":"IFERROR(MATCH(D76,Nr_stad!$U$8:$U$60,0),0)","v":0},0,{"$f":"IFERROR(MATCH(G76,Konie!$I$12:$I$13,0),0)","v":0},{"$f":"IFERROR(MATCH(I76,Konie!$K$12:$K$13,0),0)","v":0},{"$f":"IF(W76=1,IF(J76<=Konie!$M$12,Konie!$G$12,Konie!$G$13),0)","v":0},{"$f":"IF(W76=2,Konie!$G$14,0)","v":0},0,{"$f":"IFERROR(IF(AB76=2,Konie!$G$17,Konie!$G$16),0)","v":0},{"$f":"MATCH(I76,Konie!$L$12:$L$13,0)","v":{"$error":"#N/A"}}]
[null,null,null,null,null,null,null,null,{"$f":"IF(G77>0,Konie!$G$25,\"\")","v":""},0,null,null,null,null,null,null,null,null,null,{"$f":"IFERROR(MATCH(D77,Nr_stad!$U$8:$U$60,0),0)","v":0},0,{"$f":"IFERROR(MATCH(G77,Konie!$I$12:$I$13,0),0)","v":0},{"$f":"IFERROR(MATCH(I77,Konie!$K$12:$K$13,0),0)","v":0},{"$f":"IF(W77=1,IF(J77<=Konie!$M$12,Konie!$G$12,Konie!$G$13),0)","v":0},{"$f":"IF(W77=2,Konie!$G$14,0)","v":0},0,{"$f":"IFERROR(IF(AB77=2,Konie!$G$17,Konie!$G$16),0)","v":0},{"$f":"MATCH(I77,Konie!$L$12:$L$13,0)","v":{"$error":"#N/A"}}]
[null,null,null,null,null,null,null,null,{"$f":"IF(G78>0,Konie!$G$25,\"\")","v":""},0,null,null,null,null,null,null,null,null,null,{"$f":"IFERROR(MATCH(D78,Nr_stad!$U$8:$U$60,0),0)","v":0},0,{"$f":"IFERROR(MATCH(G78,Konie!$I$12:$I$13,0),0)","v":0},{"$f":"IFERROR(MATCH(I78,Konie!$K$12:$K$13,0),0)","v":0},{"$f":"IF(W78=1,IF(J78<=Konie!$M$12,Konie!$G$12,Konie!$G$13),0)","v":0},{"$f":"IF(W78=2,Konie!$G$14,0)","v":0},0,{"$f":"IFERROR(IF(AB78=2,Konie!$G$17,Konie!$G$16),0)","v":0},{"$f":"MATCH(I78,Konie!$L$12:$L$13,0)","v":{"$error":"#N/A"}}]
[null,null,null,null,null,null,null,null,{"$f":"IF(G79>0,Konie!$G$25,\"\")","v":""},0,null,null,null,null,null,null,null,null,null,{"$f":"IFERROR(MATCH(D79,Nr_stad!$U$8:$U$60,0),0)","v":0},0,{"$f":"IFERROR(MATCH(G79,Konie!$I$12:$I$13,0),0)","v":0},{"$f":"IFERROR(MATCH(I79,Konie!$K$12:$K$13,0),0)","v":0},{"$f":"IF(W79=1,IF(J79<=Konie!$M$12,Konie!$G$12,Konie!$G$13),0)","v":0},{"$f":"IF(W79=2,Konie!$G$14,0)","v":0},0,{"$f":"IFERROR(IF(AB79=2,Konie!$G$17,Konie!$G$16),0)","v":0},{"$f":"MATCH(I79,Konie!$L$12:$L$13,0)","v":{"$error":"#N/A"}}]
[null,null,null,null,null,null,null,null,{"$f":"IF(G80>0,Konie!$G$25,\"\")","v":""},0,null,null,null,null,null,null,null,null,null,{"$f":"IFERROR(MATCH(D80,Nr_stad!$U$8:$U$60,0),0)","v":0},0,{"$f":"IFERROR(MATCH(G80,Konie!$I$12:$I$13,0),0)","v":0},{"$f":"IFERROR(MATCH(I80,Konie!$K$12:$K$13,0),0)","v":0},{"$f":"IF(W80=1,IF(J80<=Konie!$M$12,Konie!$G$12,Konie!$G$13),0)","v":0},{"$f":"IF(W80=2,Konie!$G$14,0)","v":0},0,{"$f":"IFERROR(IF(AB80=2,Konie!$G$17,Konie!$G$16),0)","v":0},{"$f":"MATCH(I80,Konie!$L$12:$L$13,0)","v":{"$error":"#N/A"}}]
[null,null,null,null,null,null,null,null,{"$f":"IF(G81>0,Konie!$G$25,\"\")","v":""},0,null,null,null,null,null,null,null,null,null,{"$f":"IFERROR(MATCH(D81,Nr_stad!$U$8:$U$60,0),0)","v":0},0,{"$f":"IFERROR(MATCH(G81,Konie!$I$12:$I$13,0),0)","v":0},{"$f":"IFERROR(MATCH(I81,Konie!$K$12:$K$13,0),0)","v":0},{"$f":"IF(W81=1,IF(J81<=Konie!$M$12,Konie!$G$12,Konie!$G$13),0)","v":0},{"$f":"IF(W81=2,Konie!$G$14,0)","v":0},0,{"$f":"IFERROR(IF(AB81=2,Konie!$G$17,Konie!$G$16),0)","v":0},{"$f":"MATCH(I81,Konie!$L$12:$L$13,0)","v":{"$error":"#N/A"}}]
[null,null,null,null,null,null,null,null,{"$f":"IF(G82>0,Konie!$G$25,\"\")","v":""},0,null,null,null,null,null,null,null,null,null,{"$f":"IFERROR(MATCH(D82,Nr_stad!$U$8:$U$60,0),0)","v":0},0,{"$f":"IFERROR(MATCH(G82,Konie!$I$12:$I$13,0),0)","v":0},{"$f":"IFERROR(MATCH(I82,Konie!$K$12:$K$13,0),0)","v":0},{"$f":"IF(W82=1,IF(J82<=Konie!$M$12,Konie!$G$12,Konie!$G$13),0)","v":0},{"$f":"IF(W82=2,Konie!$G$14,0)","v":0},0,{"$f":"IFERROR(IF(AB82=2,Konie!$G$17,Konie!$G$16),0)","v":0},{"$f":"MATCH(I82,Konie!$L$12:$L$13,0)","v":{"$error":"#N/A"}}]
[null,null,null,null,null,null,null,null,{"$f":"IF(G83>0,Konie!$G$25,\"\")","v":""},0,null,null,null,null,null,null,null,null,null,{"$f":"IFERROR(MATCH(D83,Nr_stad!$U$8:$U$60,0),0)","v":0},0,{"$f":"IFERROR(MATCH(G83,Konie!$I$12:$I$13,0),0)","v":0},{"$f":"IFERROR(MATCH(I83,Konie!$K$12:$K$13,0),0)","v":0},{"$f":"IF(W83=1,IF(J83<=Konie!$M$12,Konie!$G$12,Konie!$G$13),0)","v":0},{"$f":"IF(W83=2,Konie!$G$14,0)","v":0},0,{"$f":"IFERROR(IF(AB83=2,Konie!$G$17,Konie!$G$16),0)","v":0},{"$f":"MATCH(I83,Konie!$L$12:$L$13,0)","v":{"$error":"#N/A"}}]
[null,null,null,null,null,null,null,null,{"$f":"IF(G84>0,Konie!$G$25,\"\")","v":""},0,null,null,null,null,null,null,null,null,null,{"$f":"IFERROR(MATCH(D84,Nr_stad!$U$8:$U$60,0),0)","v":0},0,{"$f":"IFERROR(MATCH(G84,Konie!$I$12:$I$13,0),0)","v":0},{"$f":"IFERROR(MATCH(I84,Konie!$K$12:$K$13,0),0)","v":0},{"$f":"IF(W84=1,IF(J84<=Konie!$M$12,Konie!$G$12,Konie!$G$13),0)","v":0},{"$f":"IF(W84=2,Konie!$G$14,0)","v":0},0,{"$f":"IFERROR(IF(AB84=2,Konie!$G$17,Konie!$G$16),0)","v":0},{"$f":"MATCH(I84,Konie!$L$12:$L$13,0)","v":{"$error":"#N/A"}}]
[null,null,null,null,null,null,null,null,{"$f":"IF(G85>0,Konie!$G$25,\"\")","v":""},0,null,null,null,null,null,null,null,null,null,{"$f":"IFERROR(MATCH(D85,Nr_stad!$U$8:$U$60,0),0)","v":0},0,{"$f":"IFERROR(MATCH(G85,Konie!$I$12:$I$13,0),0)","v":0},{"$f":"IFERROR(MATCH(I85,Konie!$K$12:$K$13,0),0)","v":0},{"$f":"IF(W85=1,IF(J85<=Konie!$M$12,Konie!$G$12,Konie!$G$13),0)","v":0},{"$f":"IF(W85=2,Konie!$G$14,0)","v":0},0,{"$f":"IFERROR(IF(AB85=2,Konie!$G$17,Konie!$G$16),0)","v":0},{"$f":"MATCH(I85,Konie!$L$12:$L$13,0)","v":{"$error":"#N/A"}}]
[null,null,null,null,null,null,null,null,{"$f":"IF(G86>0,Konie!$G$25,\"\")","v":""},0,null,null,null,null,null,null,null,null,null,{"$f":"IFERROR(MATCH(D86,Nr_stad!$U$8:$U$60,0),0)","v":0},0,{"$f":"IFERROR(MATCH(G86,Konie!$I$12:$I$13,0),0)","v":0},{"$f":"IFERROR(MATCH(I86,Konie!$K$12:$K$13,0),0)","v":0},{"$f":"IF(W86=1,IF(J86<=Konie!$M$12,Konie!$G$12,Konie!$G$13),0)","v":0},{"$f":"IF(W86=2,Konie!$G$14,0)","v":0},0,{"$f":"IFERROR(IF(AB86=2,Konie!$G$17,Konie!$G$16),0)","v":0},{"$f":"MATCH(I86,Konie!$L$12:$L$13,0)","v":{"$error":"#N/A"}}]
[null,null,null,null,null,null,null,null,{"$f":"IF(G87>0,Konie!$G$25,\"\")","v":""},0,null,null,null,null,null,null,null,null,null,{"$f":"IFERROR(MATCH(D87,Nr_stad!$U$8:$U$60,0),0)","v":0},0,{"$f":"IFERROR(MATCH(G87,Konie!$I$12:$I$13,0),0)","v":0},{"$f":"IFERROR(MATCH(I87,Konie!$K$12:$K$13,0),0)","v":0},{"$f":"IF(W87=1,IF(J87<=Konie!$M$12,Konie!$G$12,Konie!$G$13),0)","v":0},{"$f":"IF(W87=2,Konie!$G$14,0)","v":0},0,{"$f":"IFERROR(IF(AB87=2,Konie!$G$17,Konie!$G$16),0)","v":0},{"$f":"MATCH(I87,Konie!$L$12:$L$13,0)","v":{"$error":"#N/A"}}]
[null,null,null,null,null,null,null,null,{"$f":"IF(G88>0,Konie!$G$25,\"\")","v":""},0,null,null,null,null,null,null,null,null,null,{"$f":"IFERROR(MATCH(D88,Nr_stad!$U$8:$U$60,0),0)","v":0},0,{"$f":"IFERROR(MATCH(G88,Konie!$I$12:$I$13,0),0)","v":0},{"$f":"IFERROR(MATCH(I88,Konie!$K$12:$K$13,0),0)","v":0},{"$f":"IF(W88=1,IF(J88<=Konie!$M$12,Konie!$G$12,Konie!$G$13),0)","v":0},{"$f":"IF(W88=2,Konie!$G$14,0)","v":0},0,{"$f":"IFERROR(IF(AB88=2,Konie!$G$17,Konie!$G$16),0)","v":0},{"$f":"MATCH(I88,Konie!$L$12:$L$13,0)","v":{"$error":"#N/A"}}]
[null,null,null,null,null,null,null,null,{"$f":"IF(G89>0,Konie!$G$25,\"\")","v":""},0,null,null,null,null,null,null,null,null,null,{"$f":"IFERROR(MATCH(D89,Nr_stad!$U$8:$U$60,0),0)","v":0},0,{"$f":"IFERROR(MATCH(G89,Konie!$I$12:$I$13,0),0)","v":0},{"$f":"IFERROR(MATCH(I89,Konie!$K$12:$K$13,0),0)","v":0},{"$f":"IF(W89=1,IF(J89<=Konie!$M$12,Konie!$G$12,Konie!$G$13),0)","v":0},{"$f":"IF(W89=2,Konie!$G$14,0)","v":0},0,{"$f":"IFERROR(IF(AB89=2,Konie!$G$17,Konie!$G$16),0)","v":0},{"$f":"MATCH(I89,Konie!$L$12:$L$13,0)","v":{"$error":"#N/A"}}]
[null,null,null,null,null,null,null,null,{"$f":"IF(G90>0,Konie!$G$25,\"\")","v":""},0,null,null,null,null,null,null,null,null,null,{"$f":"IFERROR(MATCH(D90,Nr_stad!$U$8:$U$60,0),0)","v":0},0,{"$f":"IFERROR(MATCH(G90,Konie!$I$12:$I$13,0),0)","v":0},{"$f":"IFERROR(MATCH(I90,Konie!$K$12:$K$13,0),0)","v":0},{"$f":"IF(W90=1,IF(J90<=Konie!$M$12,Konie!$G$12,Konie!$G$13),0)","v":0},{"$f":"IF(W90=2,Konie!$G$14,0)","v":0},0,{"$f":"IFERROR(IF(AB90=2,Konie!$G$17,Konie!$G$16),0)","v":0},{"$f":"MATCH(I90,Konie!$L$12:$L$13,0)","v":{"$error":"#N/A"}}]
[null,null,null,null,null,null,null,null,{"$f":"IF(G91>0,Konie!$G$25,\"\")","v":""},{"$f":"IFERROR(QUOTIENT(G91,I91),0)","v":0},null,null,null,null,null,null,null,null,null,{"$f":"IFERROR(MATCH(D91,Nr_stad!$U$8:$U$60,0),0)","v":0},{"$f":"SUM(H91:P91)+T91","v":0},{"$f":"IFERROR(MATCH(G91,Konie!$I$12:$I$13,0),0)","v":0},{"$f":"IFERROR(MATCH(I91,Konie!$K$12:$K$13,0),0)","v":0},{"$f":"IF(W91=1,IF(J91<=Konie!$M$12,Konie!$G$12,Konie!$G$13),0)","v":0},{"$f":"IF(W91=2,Konie!$G$14,0)","v":0},{"$f":"MAX(X91:Y91)","v":0},{"$f":"IFERROR(IF(AB91=2,Konie!$G$17,Konie!$G$16),0)","v":0},{"$f":"MATCH(I91,Konie!$L$12:$L$13,0)","v":{"$error":"#N/A"}}]
[null,null,null,null,null,null,null,null,{"$f":"IF(G92>0,Konie!$G$25,\"\")","v":""},0,null,null,null,null,null,null,null,null,null,{"$f":"IFERROR(MATCH(D92,Nr_stad!$U$8:$U$60,0),0)","v":0},0,{"$f":"IFERROR(MATCH(G92,Konie!$I$12:$I$13,0),0)","v":0},{"$f":"IFERROR(MATCH(I92,Konie!$K$12:$K$13,0),0)","v":0},{"$f":"IF(W92=1,IF(J92<=Konie!$M$12,Konie!$G$12,Konie!$G$13),0)","v":0},{"$f":"IF(W92=2,Konie!$G$14,0)","v":0},0,{"$f":"IFERROR(IF(AB92=2,Konie!$G$17,Konie!$G$16),0)","v":0},{"$f":"MATCH(I92,Konie!$L$12:$L$13,0)","v":{"$error":"#N/A"}}]
[null,null,null,null,null,null,null,null,{"$f":"IF(G93>0,Konie!$G$25,\"\")","v":""},0,null,null,null,null,null,null,null,null,null,{"$f":"IFERROR(MATCH(D93,Nr_stad!$U$8:$U$60,0),0)","v":0},0,{"$f":"IFERROR(MATCH(G93,Konie!$I$12:$I$13,0),0)","v":0},{"$f":"IFERROR(MATCH(I93,Konie!$K$12:$K$13,0),0)","v":0},{"$f":"IF(W93=1,IF(J93<=Konie!$M$12,Konie!$G$12,Konie!$G$13),0)","v":0},{"$f":"IF(W93=2,Konie!$G$14,0)","v":0},0,{"$f":"IFERROR(IF(AB93=2,Konie!$G$17,Konie!$G$16),0)","v":0},{"$f":"MATCH(I93,Konie!$L$12:$L$13,0)","v":{"$error":"#N/A"}}]
[null,null,null,null,null,null,null,null,{"$f":"IF(G94>0,Konie!$G$25,\"\")","v":""},0,null,null,null,null,null,null,null,null,null,{"$f":"IFERROR(MATCH(D94,Nr_stad!$U$8:$U$60,0),0)","v":0},0,{"$f":"IFERROR(MATCH(G94,Konie!$I$12:$I$13,0),0)","v":0},{"$f":"IFERROR(MATCH(I94,Konie!$K$12:$K$13,0),0)","v":0},{"$f":"IF(W94=1,IF(J94<=Konie!$M$12,Konie!$G$12,Konie!$G$13),0)","v":0},{"$f":"IF(W94=2,Konie!$G$14,0)","v":0},0,{"$f":"IFERROR(IF(AB94=2,Konie!$G$17,Konie!$G$16),0)","v":0},{"$f":"MATCH(I94,Konie!$L$12:$L$13,0)","v":{"$error":"#N/A"}}]
[null,null,null,null,null,null,null,null,{"$f":"IF(G95>0,Konie!$G$25,\"\")","v":""},0,null,null,null,null,null,null,null,null,null,{"$f":"IFERROR(MATCH(D95,Nr_stad!$U$8:$U$60,0),0)","v":0},0,{"$f":"IFERROR(MATCH(G95,Konie!$I$12:$I$13,0),0)","v":0},{"$f":"IFERROR(MATCH(I95,Konie!$K$12:$K$13,0),0)","v":0},{"$f":"IF(W95=1,IF(J95<=Konie!$M$12,Konie!$G$12,Konie!$G$13),0)","v":0},{"$f":"IF(W95=2,Konie!$G$14,0)","v":0},0,{"$f":"IFERROR(IF(AB95=2,Konie!$G$17,Konie!$G$16),0)","v":0},{"$f":"MATCH(I95,Konie!$L$12:$L$13,0)","v":{"$error":"#N/A"}}]
[null,null,null,null,null,null,null,null,{"$f":"IF(G96>0,Konie!$G$25,\"\")","v":""},0,null,null,null,null,null,null,null,null,null,{"$f":"IFERROR(MATCH(D96,Nr_stad!$U$8:$U$60,0),0)","v":0},0,{"$f":"IFERROR(MATCH(G96,Konie!$I$12:$I$13,0),0)","v":0},{"$f":"IFERROR(MATCH(I96,Konie!$K$12:$K$13,0),0)","v":0},{"$f":"IF(W96=1,IF(J96<=Konie!$M$12,Konie!$G$12,Konie!$G$13),0)","v":0},{"$f":"IF(W96=2,Konie!$G$14,0)","v":0},0,{"$f":"IFERROR(IF(AB96=2,Konie!$G$17,Konie!$G$16),0)","v":0},{"$f":"MATCH(I96,Konie!$L$12:$L$13,0)","v":{"$error":"#N/A"}}]
[null,null,null,null,null,null,null,null,{"$f":"IF(G97>0,Konie!$G$25,\"\")","v":""},0,null,null,null,null,null,null,null,null,null,{"$f":"IFERROR(MATCH(D97,Nr_stad!$U$8:$U$60,0),0)","v":0},0,{"$f":"IFERROR(MATCH(G97,Konie!$I$12:$I$13,0),0)","v":0},{"$f":"IFERROR(MATCH(I97,Konie!$K$12:$K$13,0),0)","v":0},{"$f":"IF(W97=1,IF(J97<=Konie!$M$12,Konie!$G$12,Konie!$G$13),0)","v":0},{"$f":"IF(W97=2,Konie!$G$14,0)","v":0},0,{"$f":"IFERROR(IF(AB97=2,Konie!$G$17,Konie!$G$16),0)","v":0},{"$f":"MATCH(I97,Konie!$L$12:$L$13,0)","v":{"$error":"#N/A"}}]
[null,null,null,null,null,null,null,null,{"$f":"IF(G98>0,Konie!$G$25,\"\")","v":""},0,null,null,null,null,null,null,null,null,null,{"$f":"IFERROR(MATCH(D98,Nr_stad!$U$8:$U$60,0),0)","v":0},0,{"$f":"IFERROR(MATCH(G98,Konie!$I$12:$I$13,0),0)","v":0},{"$f":"IFERROR(MATCH(I98,Konie!$K$12:$K$13,0),0)","v":0},{"$f":"IF(W98=1,IF(J98<=Konie!$M$12,Konie!$G$12,Konie!$G$13),0)","v":0},{"$f":"IF(W98=2,Konie!$G$14,0)","v":0},0,{"$f":"IFERROR(IF(AB98=2,Konie!$G$17,Konie!$G$16),0)","v":0},{"$f":"MATCH(I98,Konie!$L$12:$L$13,0)","v":{"$error":"#N/A"}}]
[null,null,null,null,null,null,null,null,{"$f":"IF(G99>0,Konie!$G$25,\"\")","v":""},0,null,null,null,null,null,null,null,null,null,{"$f":"IFERROR(MATCH(D99,Nr_stad!$U$8:$U$60,0),0)","v":0},0,{"$f":"IFERROR(MATCH(G99,Konie!$I$12:$I$13,0),0)","v":0},{"$f":"IFERROR(MATCH(I99,Konie!$K$12:$K$13,0),0)","v":0},{"$f":"IF(W99=1,IF(J99<=Konie!$M$12,Konie!$G$12,Konie!$G$13),0)","v":0},{"$f":"IF(W99=2,Konie!$G$14,0)","v":0},0,{"$f":"IFERROR(IF(AB99=2,Konie!$G$17,Konie!$G$16),0)","v":0},{"$f":"MATCH(I99,Konie!$L$12:$L$13,0)","v":{"$error":"#N/A"}}]
[null,null,null,null,null,null,null,null,{"$f":"IF(G100>0,Konie!$G$25,\"\")","v":""},0,null,null,null,null,null,null,null,null,null,{"$f":"IFERROR(MATCH(D100,Nr_stad!$U$8:$U$60,0),0)","v":0},0,{"$f":"IFERROR(MATCH(G100,Konie!$I$12:$I$13,0),0)","v":0},{"$f":"IFERROR(MATCH(I100,Konie!$K$12:$K$13,0),0)","v":0},{"$f":"IF(W100=1,IF(J100<=Konie!$M$12,Konie!$G$12,Konie!$G$13),0)","v":0},{"$f":"IF(W100=2,Konie!$G$14,0)","v":0},0,{"$f":"IFERROR(IF(AB100=2,Konie!$G$17,Konie!$G$16),0)","v":0},{"$f":"MATCH(I100,Konie!$L$12:$L$13,0)","v":{"$error":"#N/A"}}]
[null,null,null,null,null,null,null,null,{"$f":"IF(G101>0,Konie!$G$25,\"\")","v":""},0,null,null,null,null,null,null,null,null,null,{"$f":"IFERROR(MATCH(D101,Nr_stad!$U$8:$U$60,0),0)","v":0},0,{"$f":"IFERROR(MATCH(G101,Konie!$I$12:$I$13,0),0)","v":0},{"$f":"IFERROR(MATCH(I101,Konie!$K$12:$K$13,0),0)","v":0},{"$f":"IF(W101=1,IF(J101<=Konie!$M$12,Konie!$G$12,Konie!$G$13),0)","v":0},{"$f":"IF(W101=2,Konie!$G$14,0)","v":0},0,{"$f":"IFERROR(IF(AB101=2,Konie!$G$17,Konie!$G$16),0)","v":0},{"$f":"MATCH(I101,Konie!$L$12:$L$13,0)","v":{"$error":"#N/A"}}]
[null,null,null,null,null,null,null,null,{"$f":"IF(G102>0,Konie!$G$25,\"\")","v":""},0,null,null,null,null,null,null,null,null,null,{"$f":"IFERROR(MATCH(D102,Nr_stad!$U$8:$U$60,0),0)","v":0},0,{"$f":"IFERROR(MATCH(G102,Konie!$I$12:$I$13,0),0)","v":0},{"$f":"IFERROR(MATCH(I102,Konie!$K$12:$K$13,0),0)","v":0},{"$f":"IF(W102=1,IF(J102<=Konie!$M$12,Konie!$G$12,Konie!$G$13),0)","v":0},{"$f":"IF(W102=2,Konie!$G$14,0)","v":0},0,{"$f":"IFERROR(IF(AB102=2,Konie!$G$17,Konie!$G$16),0)","v":0},{"$f":"MATCH(I102,Konie!$L$12:$L$13,0)","v":{"$error":"#N/A"}}]
[null,null,null,null,null,null,null,null,{"$f":"IF(G103>0,Konie!$G$25,\"\")","v":""},0,null,null,null,null,null,null,null,null,null,{"$f":"IFERROR(MATCH(D103,Nr_stad!$U$8:$U$60,0),0)","v":0},0,{"$f":"IFERROR(MATCH(G103,Konie!$I$12:$I$13,0),0)","v":0},{"$f":"IFERROR(MATCH(I103,Konie!$K$12:$K$13,0),0)","v":0},{"$f":"IF(W103=1,IF(J103<=Konie!$M$12,Konie!$G$12,Konie!$G$13),0)","v":0},{"$f":"IF(W103=2,Konie!$G$14,0)","v":0},0,{"$f":"IFERROR(IF(AB103=2,Konie!$G$17,Konie!$G$16),0)","v":0},{"$f":"MATCH(I103,Konie!$L$12:$L$13,0)","v":{"$error":"#N/A"}}]
[null,null,null,null,null,null,null,null,{"$f":"IF(G104>0,Konie!$G$25,\"\")","v":""},0,null,null,null,null,null,null,null,null,null,{"$f":"IFERROR(MATCH(D104,Nr_stad!$U$8:$U$60,0),0)","v":0},0,{"$f":"IFERROR(MATCH(G104,Konie!$I$12:$I$13,0),0)","v":0},{"$f":"IFERROR(MATCH(I104,Konie!$K$12:$K$13,0),0)","v":0},{"$f":"IF(W104=1,IF(J104<=Konie!$M$12,Konie!$G$12,Konie!$G$13),0)","v":0},{"$f":"IF(W104=2,Konie!$G$14,0)","v":0},0,{"$f":"IFERROR(IF(AB104=2,Konie!$G$17,Konie!$G$16),0)","v":0},{"$f":"MATCH(I104,Konie!$L$12:$L$13,0)","v":{"$error":"#N/A"}}]
[null,null,null,null,null,null,null,null,{"$f":"IF(G105>0,Konie!$G$25,\"\")","v":""},0,null,null,null,null,null,null,null,null,null,{"$f":"IFERROR(MATCH(D105,Nr_stad!$U$8:$U$60,0),0)","v":0},0,{"$f":"IFERROR(MATCH(G105,Konie!$I$12:$I$13,0),0)","v":0},{"$f":"IFERROR(MATCH(I105,Konie!$K$12:$K$13,0),0)","v":0},{"$f":"IF(W105=1,IF(J105<=Konie!$M$12,Konie!$G$12,Konie!$G$13),0)","v":0},{"$f":"IF(W105=2,Konie!$G$14,0)","v":0},0,{"$f":"IFERROR(IF(AB105=2,Konie!$G$17,Konie!$G$16),0)","v":0},{"$f":"MATCH(I105,Konie!$L$12:$L$13,0)","v":{"$error":"#N/A"}}]
[null,null,null,null,null,null,null,null,{"$f":"IF(G106>0,Konie!$G$25,\"\")","v":""},0,null,null,null,null,null,null,null,null,null,{"$f":"IFERROR(MATCH(D106,Nr_stad!$U$8:$U$60,0),0)","v":0},0,{"$f":"IFERROR(MATCH(G106,Konie!$I$12:$I$13,0),0)","v":0},{"$f":"IFERROR(MATCH(I106,Konie!$K$12:$K$13,0),0)","v":0},{"$f":"IF(W106=1,IF(J106<=Konie!$M$12,Konie!$G$12,Konie!$G$13),0)","v":0},{"$f":"IF(W106=2,Konie!$G$14,0)","v":0},0,{"$f":"IFERROR(IF(AB106=2,Konie!$G$17,Konie!$G$16),0)","v":0},{"$f":"MATCH(I106,Konie!$L$12:$L$13,0)","v":{"$error":"#N/A"}}]
[null,null,null,null,null,null,null,null,{"$f":"IF(G107>0,Konie!$G$25,\"\")","v":""},0,null,null,null,null,null,null,null,null,null,{"$f":"IFERROR(MATCH(D107,Nr_stad!$U$8:$U$60,0),0)","v":0},0,{"$f":"IFERROR(MATCH(G107,Konie!$I$12:$I$13,0),0)","v":0},{"$f":"IFERROR(MATCH(I107,Konie!$K$12:$K$13,0),0)","v":0},{"$f":"IF(W107=1,IF(J107<=Konie!$M$12,Konie!$G$12,Konie!$G$13),0)","v":0},{"$f":"IF(W107=2,Konie!$G$14,0)","v":0},0,{"$f":"IFERROR(IF(AB107=2,Konie!$G$17,Konie!$G$16),0)","v":0},{"$f":"MATCH(I107,Konie!$L$12:$L$13,0)","v":{"$error":"#N/A"}}]
[null,null,null,null,null,null,null,null,{"$f":"IF(G108>0,Konie!$G$25,\"\")","v":""},0,null,null,null,null,null,null,null,null,null,{"$f":"IFERROR(MATCH(D108,Nr_stad!$U$8:$U$60,0),0)","v":0},0,{"$f":"IFERROR(MATCH(G108,Konie!$I$12:$I$13,0),0)","v":0},{"$f":"IFERROR(MATCH(I108,Konie!$K$12:$K$13,0),0)","v":0},{"$f":"IF(W108=1,IF(J108<=Konie!$M$12,Konie!$G$12,Konie!$G$13),0)","v":0},{"$f":"IF(W108=2,Konie!$G$14,0)","v":0},0,{"$f":"IFERROR(IF(AB108=2,Konie!$G$17,Konie!$G$16),0)","v":0},{"$f":"MATCH(I108,Konie!$L$12:$L$13,0)","v":{"$error":"#N/A"}}]
[null,null,null,null,null,null,null,null,{"$f":"IF(G109>0,Konie!$G$25,\"\")","v":""},0,null,null,null,null,null,null,null,null,null,{"$f":"IFERROR(MATCH(D109,Nr_stad!$U$8:$U$60,0),0)","v":0},0,{"$f":"IFERROR(MATCH(G109,Konie!$I$12:$I$13,0),0)","v":0},{"$f":"IFERROR(MATCH(I109,Konie!$K$12:$K$13,0),0)","v":0},{"$f":"IF(W109=1,IF(J109<=Konie!$M$12,Konie!$G$12,Konie!$G$13),0)","v":0},{"$f":"IF(W109=2,Konie!$G$14,0)","v":0},0,{"$f":"IFERROR(IF(AB109=2,Konie!$G$17,Konie!$G$16),0)","v":0},{"$f":"MATCH(I109,Konie!$L$12:$L$13,0)","v":{"$error":"#N/A"}}]
[null,null,null,null,null,null,null,null,{"$f":"IF(G110>0,Konie!$G$25,\"\")","v":""},0,null,null,null,null,null,null,null,null,null,{"$f":"IFERROR(MATCH(D110,Nr_stad!$U$8:$U$60,0),0)","v":0},0,{"$f":"IFERROR(MATCH(G110,Konie!$I$12:$I$13,0),0)","v":0},{"$f":"IFERROR(MATCH(I110,Konie!$K$12:$K$13,0),0)","v":0},{"$f":"IF(W110=1,IF(J110<=Konie!$M$12,Konie!$G$12,Konie!$G$13),0)","v":0},{"$f":"IF(W110=2,Konie!$G$14,0)","v":0},0,{"$f":"IFERROR(IF(AB110=2,Konie!$G$17,Konie!$G$16),0)","v":0},{"$f":"MATCH(I110,Konie!$L$12:$L$13,0)","v":{"$error":"#N/A"}}]
[null,null,null,null,null,null,null,null,{"$f":"IF(G111>0,Konie!$G$25,\"\")","v":""},0,null,null,null,null,null,null,null,null,null,{"$f":"IFERROR(MATCH(D111,Nr_stad!$U$8:$U$60,0),0)","v":0},0,{"$f":"IFERROR(MATCH(G111,Konie!$I$12:$I$13,0),0)","v":0},{"$f":"IFERROR(MATCH(I111,Konie!$K$12:$K$13,0),0)","v":0},{"$f":"IF(W111=1,IF(J111<=Konie!$M$12,Konie!$G$12,Konie!$G$13),0)","v":0},{"$f":"IF(W111=2,Konie!$G$14,0)","v":0},0,{"$f":"IFERROR(IF(AB111=2,Konie!$G$17,Konie!$G$16),0)","v":0},{"$f":"MATCH(I111,Konie!$L$12:$L$13,0)","v":{"$error":"#N/A"}}]
[null,null,null,null,null,null,null,null,{"$f":"IF(G112>0,Konie!$G$25,\"\")","v":""},0,null,null,null,null,null,null,null,null,null,{"$f":"IFERROR(MATCH(D112,Nr_stad!$U$8:$U$60,0),0)","v":0},0,{"$f":"IFERROR(MATCH(G112,Konie!$I$12:$I$13,0),0)","v":0},{"$f":"IFERROR(MATCH(I112,Konie!$K$12:$K$13,0),0)","v":0},{"$f":"IF(W112=1,IF(J112<=Konie!$M$12,Konie!$G$12,Konie!$G$13),0)","v":0},{"$f":"IF(W112=2,Konie!$G$14,0)","v":0},0,{"$f":"IFERROR(IF(AB112=2,Konie!$G$17,Konie!$G$16),0)","v":0},{"$f":"MATCH(I112,Konie!$L$12:$L$13,0)","v":{"$error":"#N/A"}}]
[null,null,null,null,null,null,null,null,{"$f":"IF(G113>0,Konie!$G$25,\"\")","v":""},0,null,null,null,null,null,null,null,null,null,{"$f":"IFERROR(MATCH(D113,Nr_stad!$U$8:$U$60,0),0)","v":0},0,{"$f":"IFERROR(MATCH(G113,Konie!$I$12:$I$13,0),0)","v":0},{"$f":"IFERROR(MATCH(I113,Konie!$K$12:$K$13,0),0)","v":0},{"$f":"IF(W113=1,IF(J113<=Konie!$M$12,Konie!$G$12,Konie!$G$13),0)","v":0},{"$f":"IF(W113=2,Konie!$G$14,0)","v":0},0,{"$f":"IFERROR(IF(AB113=2,Konie!$G$17,Konie!$G$16),0)","v":0},{"$f":"MATCH(I113,Konie!$L$12:$L$13,0)","v":{"$error":"#N/A"}}]
[null,null,null,null,null,null,null,null,{"$f":"IF(G114>0,Konie!$G$25,\"\")","v":""},0,null,null,null,null,null,null,null,null,null,{"$f":"IFERROR(MATCH(D114,Nr_stad!$U$8:$U$60,0),0)","v":0},0,{"$f":"IFERROR(MATCH(G114,Konie!$I$12:$I$13,0),0)","v":0},{"$f":"IFERROR(MATCH(I114,Konie!$K$12:$K$13,0),0)","v":0},{"$f":"IF(W114=1,IF(J114<=Konie!$M$12,Konie!$G$12,Konie!$G$13),0)","v":0},{"$f":"IF(W114=2,Konie!$G$14,0)","v":0},0,{"$f":"IFERROR(IF(AB114=2,Konie!$G$17,Konie!$G$16),0)","v":0},{"$f":"MATCH(I114,Konie!$L$12:$L$13,0)","v":{"$error":"#N/A"}}]
[null,null,null,null,null,null,null,null,{"$f":"IF(G115>0,Konie!$G$25,\"\")","v":""},0,null,null,null,null,null,null,null,null,null,{"$f":"IFERROR(MATCH(D115,Nr_stad!$U$8:$U$60,0),0)","v":0},0,{"$f":"IFERROR(MATCH(G115,Konie!$I$12:$I$13,0),0)","v":0},{"$f":"IFERROR(MATCH(I115,Konie!$K$12:$K$13,0),0)","v":0},{"$f":"IF(W115=1,IF(J115<=Konie!$M$12,Konie!$G$12,Konie!$G$13),0)","v":0},{"$f":"IF(W115=2,Konie!$G$14,0)","v":0},0,{"$f":"IFERROR(IF(AB115=2,Konie!$G$17,Konie!$G$16),0)","v":0},{"$f":"MATCH(I115,Konie!$L$12:$L$13,0)","v":{"$error":"#N/A"}}]
[null,null,null,null,null,null,null,null,{"$f":"IF(G116>0,Konie!$G$25,\"\")","v":""},0,null,null,null,null,null,null,null,null,null,{"$f":"IFERROR(MATCH(D116,Nr_stad!$U$8:$U$60,0),0)","v":0},0,{"$f":"IFERROR(MATCH(G116,Konie!$I$12:$I$13,0),0)","v":0},{"$f":"IFERROR(MATCH(I116,Konie!$K$12:$K$13,0),0)","v":0},{"$f":"IF(W116=1,IF(J116<=Konie!$M$12,Konie!$G$12,Konie!$G$13),0)","v":0},{"$f":"IF(W116=2,Konie!$G$14,0)","v":0},0,{"$f":"IFERROR(IF(AB116=2,Konie!$G$17,Konie!$G$16),0)","v":0},{"$f":"MATCH(I116,Konie!$L$12:$L$13,0)","v":{"$error":"#N/A"}}]
[null,null,null,null,null,null,null,null,{"$f":"IF(G117>0,Konie!$G$25,\"\")","v":""},0,null,null,null,null,null,null,null,null,null,{"$f":"IFERROR(MATCH(D117,Nr_stad!$U$8:$U$60,0),0)","v":0},0,{"$f":"IFERROR(MATCH(G117,Konie!$I$12:$I$13,0),0)","v":0},{"$f":"IFERROR(MATCH(I117,Konie!$K$12:$K$13,0),0)","v":0},{"$f":"IF(W117=1,IF(J117<=Konie!$M$12,Konie!$G$12,Konie!$G$13),0)","v":0},{"$f":"IF(W117=2,Konie!$G$14,0)","v":0},0,{"$f":"IFERROR(IF(AB117=2,Konie!$G$17,Konie!$G$16),0)","v":0},{"$f":"MATCH(I117,Konie!$L$12:$L$13,0)","v":{"$error":"#N/A"}}]
[null,null,null,null,null,null,null,null,{"$f":"IF(G118>0,Konie!$G$25,\"\")","v":""},0,null,null,null,null,null,null,null,null,null,{"$f":"IFERROR(MATCH(D118,Nr_stad!$U$8:$U$60,0),0)","v":0},0,{"$f":"IFERROR(MATCH(G118,Konie!$I$12:$I$13,0),0)","v":0},{"$f":"IFERROR(MATCH(I118,Konie!$K$12:$K$13,0),0)","v":0},{"$f":"IF(W118=1,IF(J118<=Konie!$M$12,Konie!$G$12,Konie!$G$13),0)","v":0},{"$f":"IF(W118=2,Konie!$G$14,0)","v":0},0,{"$f":"IFERROR(IF(AB118=2,Konie!$G$17,Konie!$G$16),0)","v":0},{"$f":"MATCH(I118,Konie!$L$12:$L$13,0)","v":{"$error":"#N/A"}}]
[null,null,null,null,null,null,null,null,{"$f":"IF(G119>0,Konie!$G$25,\"\")","v":""},0,null,null,null,null,null,null,null,null,null,{"$f":"IFERROR(MATCH(D119,Nr_stad!$U$8:$U$60,0),0)","v":0},0,{"$f":"IFERROR(MATCH(G119,Konie!$I$12:$I$13,0),0)","v":0},{"$f":"IFERROR(MATCH(I119,Konie!$K$12:$K$13,0),0)","v":0},{"$f":"IF(W119=1,IF(J119<=Konie!$M$12,Konie!$G$12,Konie!$G$13),0)","v":0},{"$f":"IF(W119=2,Konie!$G$14,0)","v":0},0,{"$f":"IFERROR(IF(AB119=2,Konie!$G$17,Konie!$G$16),0)","v":0},{"$f":"MATCH(I119,Konie!$L$12:$L$13,0)","v":{"$error":"#N/A"}}]
[null,null,null,null,null,null,null,null,{"$f":"IF(G120>0,Konie!$G$25,\"\")","v":""},0,null,null,null,null,null,null,null,null,null,{"$f":"IFERROR(MATCH(D120,Nr_stad!$U$8:$U$60,0),0)","v":0},0,{"$f":"IFERROR(MATCH(G120,Konie!$I$12:$I$13,0),0)","v":0},{"$f":"IFERROR(MATCH(I120,Konie!$K$12:$K$13,0),0)","v":0},{"$f":"IF(W120=1,IF(J120<=Konie!$M$12,Konie!$G$12,Konie!$G$13),0)","v":0},{"$f":"IF(W120=2,Konie!$G$14,0)","v":0},0,{"$f":"IFERROR(IF(AB120=2,Konie!$G$17,Konie!$G$16),0)","v":0},{"$f":"MATCH(I120,Konie!$L$12:$L$13,0)","v":{"$error":"#N/A"}}]
[null,null,null,null,null,null,null,null,{"$f":"IF(G121>0,Konie!$G$25,\"\")","v":""},0,null,null,null,null,null,null,null,null,null,{"$f":"IFERROR(MATCH(D121,Nr_stad!$U$8:$U$60,0),0)","v":0},0,{"$f":"IFERROR(MATCH(G121,Konie!$I$12:$I$13,0),0)","v":0},{"$f":"IFERROR(MATCH(I121,Konie!$K$12:$K$13,0),0)","v":0},{"$f":"IF(W121=1,IF(J121<=Konie!$M$12,Konie!$G$12,Konie!$G$13),0)","v":0},{"$f":"IF(W121=2,Konie!$G$14,0)","v":0},0,{"$f":"IFERROR(IF(AB121=2,Konie!$G$17,Konie!$G$16),0)","v":0},{"$f":"MATCH(I121,Konie!$L$12:$L$13,0)","v":{"$error":"#N/A"}}]
[null,null,null,null,null,null,null,null,{"$f":"IF(G122>0,Konie!$G$25,\"\")","v":""},0,null,null,null,null,null,null,null,null,null,{"$f":"IFERROR(MATCH(D122,Nr_stad!$U$8:$U$60,0),0)","v":0},0,{"$f":"IFERROR(MATCH(G122,Konie!$I$12:$I$13,0),0)","v":0},{"$f":"IFERROR(MATCH(I122,Konie!$K$12:$K$13,0),0)","v":0},{"$f":"IF(W122=1,IF(J122<=Konie!$M$12,Konie!$G$12,Konie!$G$13),0)","v":0},{"$f":"IF(W122=2,Konie!$G$14,0)","v":0},0,{"$f":"IFERROR(IF(AB122=2,Konie!$G$17,Konie!$G$16),0)","v":0},{"$f":"MATCH(I122,Konie!$L$12:$L$13,0)","v":{"$error":"#N/A"}}]
[null,null,null,null,null,null,null,null,{"$f":"IF(G123>0,Konie!$G$25,\"\")","v":""},0,null,null,null,null,null,null,null,null,null,{"$f":"IFERROR(MATCH(D123,Nr_stad!$U$8:$U$60,0),0)","v":0},0,{"$f":"IFERROR(MATCH(G123,Konie!$I$12:$I$13,0),0)","v":0},{"$f":"IFERROR(MATCH(I123,Konie!$K$12:$K$13,0),0)","v":0},{"$f":"IF(W123=1,IF(J123<=Konie!$M$12,Konie!$G$12,Konie!$G$13),0)","v":0},{"$f":"IF(W123=2,Konie!$G$14,0)","v":0},0,{"$f":"IFERROR(IF(AB123=2,Konie!$G$17,Konie!$G$16),0)","v":0},{"$f":"MATCH(I123,Konie!$L$12:$L$13,0)","v":{"$error":"#N/A"}}]
[null,null,null,null,null,null,null,null,{"$f":"IF(G124>0,Konie!$G$25,\"\")","v":""},0,null,null,null,null,null,null,null,null,null,{"$f":"IFERROR(MATCH(D124,Nr_stad!$U$8:$U$60,0),0)","v":0},0,{"$f":"IFERROR(MATCH(G124,Konie!$I$12:$I$13,0),0)","v":0},{"$f":"IFERROR(MATCH(I124,Konie!$K$12:$K$13,0),0)","v":0},{"$f":"IF(W124=1,IF(J124<=Konie!$M$12,Konie!$G$12,Konie!$G$13),0)","v":0},{"$f":"IF(W124=2,Konie!$G$14,0)","v":0},0,{"$f":"IFERROR(IF(AB124=2,Konie!$G$17,Konie!$G$16),0)","v":0},{"$f":"MATCH(I124,Konie!$L$12:$L$13,0)","v":{"$error":"#N/A"}}]
[null,null,null,null,null,null,null,null,{"$f":"IF(G125>0,Konie!$G$25,\"\")","v":""},0,null,null,null,null,null,null,null,null,null,{"$f":"IFERROR(MATCH(D125,Nr_stad!$U$8:$U$60,0),0)","v":0},0,{"$f":"IFERROR(MATCH(G125,Konie!$I$12:$I$13,0),0)","v":0},{"$f":"IFERROR(MATCH(I125,Konie!$K$12:$K$13,0),0)","v":0},{"$f":"IF(W125=1,IF(J125<=Konie!$M$12,Konie!$G$12,Konie!$G$13),0)","v":0},{"$f":"IF(W125=2,Konie!$G$14,0)","v":0},0,{"$f":"IFERROR(IF(AB125=2,Konie!$G$17,Konie!$G$16),0)","v":0},{"$f":"MATCH(I125,Konie!$L$12:$L$13,0)","v":{"$error":"#N/A"}}]
[null,null,null,null,null,null,null,null,{"$f":"IF(G126>0,Konie!$G$25,\"\")","v":""},0,null,null,null,null,null,null,null,null,null,{"$f":"IFERROR(MATCH(D126,Nr_stad!$U$8:$U$60,0),0)","v":0},0,{"$f":"IFERROR(MATCH(G126,Konie!$I$12:$I$13,0),0)","v":0},{"$f":"IFERROR(MATCH(I126,Konie!$K$12:$K$13,0),0)","v":0},{"$f":"IF(W126=1,IF(J126<=Konie!$M$12,Konie!$G$12,Konie!$G$13),0)","v":0},{"$f":"IF(W126=2,Konie!$G$14,0)","v":0},0,{"$f":"IFERROR(IF(AB126=2,Konie!$G$17,Konie!$G$16),0)","v":0},{"$f":"MATCH(I126,Konie!$L$12:$L$13,0)","v":{"$error":"#N/A"}}]
[null,null,null,"SUMA POWIERZCHNI:",null,null,{"$f":"SUM(G26:H126)","v":0},null,"SUMA LICZBY KONI:",{"$f":"SUM(J26:J126)","v":0}]
[null,null,null,"Wielkości (w m2) posiadanych zewnętrznych powierzchni bytowych dotyczą łącznie wnioskodawcy i wskazanych innych posiadaczy",null,null,null,null,null,"NIE",null,null,null,null,null,null,null,null,"NIE"]
[null,null,null,null,null,null,null,null,null,null,null,null,null,null,null,null,null,null,"TAK"]
[null,null,null,null,null,null,null,null,null,null,null,null,null,null,null,{"$f":"IFERROR(TRUNC(U95+U125),\"\")","v":0}]
[null,null,null,null,null,null,null,null,"Ogiery utrzymywane w pomieszczeniach lub w budynkach"]

{"sheet":"Konie","index":39,"n_rows":27,"n_cols":13,"rows_kept":27,"cut":false,"hidden":true,"merged":[[26,1,26,6],[5,2,5,6],[6,2,6,6],[17,1,17,6],[19,2,19,6],[25,1,25,6]]}
[]
[null,null,"Konie (dorosłe/młodzież/ klacz ze źrebięciem)"]
[null,"-","utrzymywanie bez uwięzi"]
[null,"-"," zapewnienie: "]
[null,"a)"," zwiększona powierzchnia bytowa:"]
[null,"-","w sezonie wegetacyjnym - wypasu lub dostępu do powierzchni zewnętrznych przez co najmniej 140 dni (przez min. 6 godz. dziennie);"]
[null,"-"," poza sezonem wegetacyjnym - dostępu do powierzchni zewnętrznych lub biegalni przez min. 2 godz. dziennie o powierzchni w przypadku: "]
[null,null,"koni dorosłych/ młodzieży –",70,"m2/szt"]
[null,null," klaczy ze źrebięciem –",85,"m2/szt",null,null,null,null,null,{"$f":"MATCH(K13,K11:K13,0)","v":3}]
[null,"Lp","Wyszczególnienie","warunek\nmax/min","jed.","Obowiązujące normy prawne*","Wymogi obowiązujące w dobrostanie ",null,"lista utrzm",null,"konie - boksy","konie - wolnost","kłąb"]
[null,1,"Powierzchnia boksu "]
[null,"-","konie dorosłe, których wysokość w kłębie wynosi do 1,47 m ","min","m2/szt",6,7.2,null,"boksy",null,"koń dorosły","konie dorosłe lub młodzież",1.47]
[null,"-","konie dorosłe, których wysokość w kłębie wynosi powyżej 1,47 m","min","m2/szt",9,10.8,null,"wolnostanowiskowy",null,"klacz ze źrebięciem ","klacze ze źrebiętami"]
[null,"-","klacz ze źrebięciem ","min","m2/szt",12,14.4]
[null,2,"Powierzchnia w przypadku utrzymywania w systemie wolnostanowiskowym bez uwięzi"]
[null,"-","konie dorosłe lub młodzież po odsadzeniu od matki","min","m2/szt",10,12]
[null,"-","klacz ze źrebięciem","min","m2/szt",12,14.4]
[null," (*) Rozporządzenie Ministra Rolnictwa i Rozwoju Wsi z dnia 28 czerwca 2010 r. w sprawie minimalnych warunków utrzymywania gatunków zwierząt gospodarskich innych niż te, dla których normy ochrony zostały określone w przepisach Unii Europejskiej (t. j. Dz. U. z 2019, poz. 1966)."]
[null,"b)","system otwarty: "]
[null,"-","zadaszenia o powierzchni pozwalającej na jednoczesne przebywanie wszystkich koni pod tym zadaszeniem;"]
[null,"-","ściółki pod zadaszeniem; "]
[null,"Lp","Wyszczególnienie","warunek\nmax/min","jed.","Obowiązujące normy prawne*","Wymogi obowiązujące w dobrostanie "]
[null,1,"Powierzchnia w systemie otwartym "]
[null,"-","koń dorosły ","min","ha/szt",0.1,"-"]
[null,"-","koń** ","min","ha/szt","-",0.12]
[null,"(*) Rozporządzenie Ministra Rolnictwa i Rozwoju Wsi z dnia 28 czerwca 2010 r. w sprawie minimalnych warunków utrzymywania gatunków zwierząt gospodarskich innych niż te, dla których normy ochrony zostały określone w przepisach Unii Europejskiej (t. j. Dz. U. z 2019, poz. 1966),"]
[null," (**) niezależnie od wieku i płci"]

{"sheet":"Konie_ogiery","index":40,"n_rows":130,"n_cols":39,"rows_kept":130,"cut":false,"hidden":false,"merged":[[126,13,126,14],[129,12,129,14],[5,3,5,15],[6,3,6,12],[6,13,6,15],[123,3,123,5],[123,6,123,7],[124,3,124,5],[124,6,124,7],[125,3,125,12],[126,3,126,8],[120,3,120,5],[120,6,120,7],[121,3,121,5],[121,6,121,7],[122,3,122,5],[122,6,122,7],[117,3,117,5],[117,6,117,7],[118,3,118,5],[118,6,118,7],[119,3,119,5],[119,6,119,7],[114,3,114,5],[114,6,114,7],[115,3,115,5],[115,6,115,7],[116,3,116,5],[116,6,116,7],[111,3,111,5],[111,6,111,7],[112,3,112,5],[112,6,112,7],[113,3,113,5],[113,6,113,7],[108,3,108,5],[108,6,108,7],[109,3,109,5],[109,6,109,7],[110,3,110,5],[110,6,110,7],[105,3,105,5],[105,6,105,7],[106,3,106,5],[106,6,106,7],[107,3,107,5],[107,6,107,7],[102,3,102,5],[102,6,102,7],[103,3,103,5],[103,6,103,7],[104,3,104,5],[104,6,104,7],[99,3,99,5],[99,6,99,7],[100,3,100,5],[100,6,100,7],[101,3,101,5],[101,6,101,7],[96,3,96,5],[96,6,96,7],[97,3,97,5],[97,6,97,7],[98,3,98,5],[98,6,98,7],[93,3,93,5],[93,6,93,7],[94,3,94,5],[94,6,94,7],[95,3,95,5],[95,6,95,7],[90,3,90,5],[90,6,90,7],[91,3,91,5],[91,6,91,7],[92,3,92,5],[92,6,92,7],[87,3,87,5],[87,6,87,7],[88,3,88,5],[88,6,88,7],[89,3,89,5],[89,6,89,7],[84,3,84,5],[84,6,84,7],[85,3,85,5],[85,6,85,7],[86,3,86,5],[86,6,86,7],[81,3,81,5],[81,6,81,7],[82,3,82,5],[82,6,82,7],[83,3,83,5],[83,6,83,7],[78,3,78,5],[78,6,78,7],[79,3,79,5],[79,6,79,7],[80,3,80,5],[80,6,80,7],[75,3,75,5],[75,6,75,7],[76,3,76,5],[76,6,76,7],[77,3,77,5],[77,6,77,7],[72,3,72,5],[72,6,72,7],[73,3,73,5],[73,6,73,7],[74,3,74,5],[74,6,74,7],[69,3,69,5],[69,6,69,7],[70,3,70,5],[70,6,70,7],[71,3,71,5],[71,6,71,7],[66,3,66,5],[66,6,66,7],[67,3,67,5],[67,6,67,7],[68,3,68,5],[68,6,68,7],[63,3,63,5],[63,6,63,7],[64,3,64,5],[64,6,64,7],[65,3,65,5],[65,6,65,7],[60,3,60,5],[60,6,60,7],[61,3,61,5],[61,6,61,7],[62,3,62,5],[62,6,62,7],[57,3,57,5],[57,6,57,7],[58,3,58,5],[58,6,58,7],[59,3,59,5],[59,6,59,7],[54,3,54,5],[54,6,54,7],[55,3,55,5],[55,6,55,7],[56,3,56,5],[56,6,56,7],[51,3,51,5],[51,6,51,7],[52,3,52,5],[52,6,52,7],[53,3,53,5],[53,6,53,7],[48,3,48,5],[48,6,48,7],[49,3,49,5],[49,6,49,7],[50,3,50,5],[50,6,50,7],[45,3,45,5],[45,6,45,7],[46,3,46,5],[46,6,46,7],[47,3,47,5],[47,6,47,7],[42,3,42,5],[42,6,42,7],[43,3,43,5],[43,6,43,7],[44,3,44,5],[44,6,44,7],[39,3,39,5],[39,6,39,7],[40,3,40,5],[40,6,40,7],[41,3,41,5],[41,6,41,7],[36,3,36,5],[36,6,36,7],[37,3,37,5],[37,6,37,7],[38,3,38,5],[38,6,38,7],[33,3,33,5],[33,6,33,7],[34,3,34,5],[34,6,34,7],[35,3,35,5],[35,6,35,7],[30,3,30,5],[30,6,30,7],[31,3,31,5],[31,6,31,7],[32,3,32,5],[32,6,32,7],[27,3,27,5],[27,6,27,7],[28,3,28,5],[28,6,28,7],[29,3,29,5],[29,6,29,7],[25,3,25,5],[25,6,25,7],[26,3,26,5],[26,6,26,7],[22,3,24,5],[22,6,24,7],[22,8,22,9],[22,10,22,13],[22,14,23,14],[23,8,24,8],[21,13,21,14],[15,3,15,7],[15,9,15,10],[15,11,15,12],[16,3,16,7],[16,9,16,10],[16,11,16,12],[23,22,23,25],[23,26,23,27],[22,15,23,15],[2,3,2,9],[3,3,3,13],[4,3,4,15],[7,3,7,12],[130,9,130,17],[12,3,12,12],[13,3,14,7],[13,9,13,10],[13,11,13,12],[14,9,14,10],[14,11,14,12],[8,3,8,8],[9,3,9,8],[9,9,9,11],[9,12,9,15],[10,3,10,15],[11,3,11,5],[11,7,11,9],[11,13,11,15],[17,3,17,8],[17,11,17,13],[18,3,18,15],[19,3,19,11],[21,3,21,12]]}
[null,null,"Uwaga !!! Po wydrukowaniu uzupełnić ręcznie Oświadczenie i czytelnie podpisać",null,null,null,null,null,null,null,null,null,null,null,null,"POWRÓT",null,null,null,null,null,null,null,null,null,null,null,null,null,null,null,null,null,null,"UWAGI",null,null,null,"UWAGI"]
[null,null,"II. Część szczegółowa  "]
[]
[]
[null,null,null,null,null,null,null,null,null,null,null,null,null,null,null,null,null,null,null,null,null,null,null,null,null,null,null,null,null,null,null,null,null,null,"Uzgodnienia z MRiRW w dniu 14.03.23",null,null,null,"Uzgodnienia z MRiRW w dniu 14.03.23"]
[null,null,"II.12.3.","Ogiery utrzymywane zgodnie z wymogami – Dobrostanu koni utrzymywanych w pomieszczeniach lub w budynkach",null,null,null,null,null,null,null,null,null,null,null,null,null,null,null,true]
[null,null,{"$f":"IF(T7=TRUE,$U$9,$V$9)","v":"☐"},"ogiery utrzymuje w pomieszczeniach;",null,null,null,null,null,null,null,null,null,null,null,null,null,null,null,false,"☒","☐"]
[null,null,{"$f":"IF(T8=TRUE,$U$9,$V$9)","v":"☐"},"utrzymywanie bez uwięzi;",null,null,null,null,null,null,null,null,null,null,null,null,null,null,null,false,"☒","☐"]
[null,null,{"$f":"IF(T9=TRUE,$U$9,$V$9)","v":"☐"},"w sezonie pastwiskowym - wypas lub dostęp do powierzchni zewnętrznych przez co najmniej 140 dni (przez min. 6 godz. dziennie);",null,null,null,null,null,null,null,null,null,null,null,null,null,null,true,false,"☒","☐"]
[null,null,{"$f":"IF(T10=TRUE,$U$9,$V$9)","v":"☐"},"poza sezonem pastwiskowym - dostęp do powierzchni zewnętrznych lub biegalni przez min. 2 godz. Dziennie.",null,null,null,null,null,"Termin wykorzystania posiadanych zewnętrznych powierzchni bytowych:",null,null,null,null,null,null,null,null,null,false]
[null,null,{"$f":"IF(T12=TRUE,$U$9,$V$9)","v":"☐"},"do planu poprawy dobrostanu zwierząt dołączono szkic gospodarstwa ze wskazanymi działkami ewidencyjnymi, na których są zlokalizowane zewnętrzne powierzchnie bytowe (pastwiska, wybiegi lub okólniki) przeznaczone dla ogierów objętych podwyższonymi wymogami – Dobrostan koni utrzymywanych w systemie otwartym."]
[null,null,null,"(miejscowość i data)",null,null,null,"(czytelny podpis rolnika)",null,null,null,null,null,"(czytelny podpis doradcy)",null,null,null,null,null,false]
[null,null,"II.12.4.","Powierzchnie zewnętrzne lub biegalnie dostępne przez min. 2 godz. dziennie - poza sezonem pastwiskowym",null,null,null,null,null,null,null,null,null,null,null,null,null,null,null,{"$f":"OR(T14,T15)","v":true}]
[null,null,null,"Grupa zwierząt",null,null,null,null,"Powierzchnie zewnętrzne lub biegalnie","Krotność dostępu do powierzchni zewnętrznej/biegalni dziennie",null,"Powierzchnia minimalna dla grupy zwierząt",null,"Powierzchnia minimalna \n","Maksymalna liczba ogierów",null,null,null,null,true,"☒","☐"]
[null,null,null,null,null,null,null,null,"m2",null,null,"m2",null,"m2/ szt","szt",null,null,null,null,true,"☒","☐"]
[null,null,null,"Konie ogiery",null,null,null,null,null,null,null,{"$f":"IFERROR(S16*N16,\"-\")","v":"-"},null,{"$f":"Konie!D8","v":70},{"$f":"AD127","v":0},null,null,null,{"$f":"_xlfn.CEILING.MATH(O16/J16)","v":{"$error":"#DIV/0!"}},true,"☒","☐"]
[null,null,null,null,null,null,null,null,null,null,null,{"$f":"IFERROR(S17*N17,\"-\")","v":"-"},null,null,null,null,null,null,{"$f":"_xlfn.CEILING.MATH(O17/J17)","v":{"$error":"#DIV/0!"}}]
[null,null,null,null,null,null,null,null,null,null,null,"LICZBA OGIERÓW:",null,null,{"$f":"O16+O17","v":0},null,null,null,"NIE"]
[null,null,null,null,null,null,null,null,null,null,null,null,null,null,null,null,null,null,"TAK"]
[null,null,null,"Podanie powierzchni bytowej przeznaczonej dla ogierów w pomieszczeniach w gospodarstwie rolnym",null,null,null,null,null,null,null,null,null,"m2"]
[]
[null,null,"II.11.5.","Dopuszczalna maksymalna liczba ogierów, które mogą przebywać jednocześnie w gospodarstwie z uwzględnieniem wymogów - Dobrostan koni utrzymywanych w pomieszczeniach/budynkach",null,null,null,null,null,null,null,null,null,{"$f":"IF(S127>M20,\"Brak Powierzchni!\",\" \")","v":" "}]
[null,null,null,"Numer siedziby stada \nalbo nazwa obiektu - nr sekcji",null,null,"Sposób utrzymywania",null,"Grupa zwierząt",null,"Powierzchnia bytowa boksu/pomieszczenia",null,null,null,"Powierzchnia minimalna","Maksymalna liczba koni",null,null,null,null,null,null,null,null,null,null,null,null,"do 1,47"]
[null,null,null,null,null,null,null,null,"Nazwa grupy","Maksymalna wysokość w kłębie\nkonia w kojcu","Liczba boksów pojedynczych","Dł.","Szer.","Pow.",null,null,null,null,null,null,null,null,"boksy",null,null,null,"wolnost",null,"powyż. 1,47"]
[null,null,null,null,null,null,null,null,null,"m","szt.","m","m","m2","m2/szt.","szt.",null,null,null,null,null,"wyb utrz.","poz. Gr","kon","klacz","pow","pow","poz Gr","wyb","konie","klacze","GR","GR -sum"]
[null,null,null,null,null,null,null,null,null,null,null,null,null,{"$f":"IFERROR(L26*M26*K26,L26*M26)","v":0},{"$f":"IFERROR(IF(V26=1,Z26,AA26),\"-\")","v":""},{"$f":"IFERROR(IF(N26<O26,\"-\",IF(V26=1,K26,TRUNC(N26/O26))),\"-\")","v":"-"},null,null,{"$f":"IFERROR(O26*P26,0)","v":0},{"$f":"IFERROR(MATCH(D26,Nr_stad!$U$8:$U$60,0),0)","v":0},{"$f":"SUM(H26:P26)+T26","v":0},{"$f":"IFERROR(MATCH(G26,Konie!$I$12:$I$13,0),0)","v":0},1,{"$f":"IF(J26=\"\",0,IF(W26=1,IF(J26=\"do 1,47\",Konie!$G$12,Konie!$G$13),0))","v":0},{"$f":"IF(W26=2,Konie!$G$14,0)","v":0},{"$f":"MAX(X26:Y26)","v":0},{"$f":"IF(V26=2,12,\"\")","v":""},{"$f":"MATCH(I26,Konie!$L$12:$L$13,0)","v":{"$error":"#N/A"}},null,null,null,{"$f":"IFERROR(AB26,0)","v":0},{"$f":"MAX(W26,AF26)","v":1}]
[null,null,null,null,null,null,null,null,null,null,null,null,null,{"$f":"IFERROR(L27*M27*K27,L27*M27)","v":0},{"$f":"IFERROR(IF(V27=1,Z27,AA27),\"-\")","v":""},{"$f":"IFERROR(IF(N27<O27,\"-\",IF(V27=1,K27,TRUNC(N27/O27))),\"-\")","v":"-"},null,null,{"$f":"IFERROR(O27*P27,0)","v":0},{"$f":"IFERROR(MATCH(D27,Nr_stad!$U$8:$U$60,0),0)","v":0},{"$f":"SUM(H27:P27)+T27","v":0},{"$f":"IFERROR(MATCH(G27,Konie!$I$12:$I$13,0),0)","v":0},1,{"$f":"IF(J27=\"\",0,IF(W27=1,IF(J27=\"do 1,47\",Konie!$G$12,Konie!$G$13),0))","v":0},{"$f":"IF(W27=2,Konie!$G$14,0)","v":0},{"$f":"MAX(X27:Y27)","v":0},{"$f":"IF(V27=2,12,\"\")","v":""},{"$f":"MATCH(I27,Konie!$L$12:$L$13,0)","v":{"$error":"#N/A"}},null,null,null,{"$f":"IFERROR(AB27,0)","v":0},{"$f":"MAX(W27,AF27)","v":1}]
[null,null,null,null,null,null,null,null,null,null,null,null,null,0,"","-",null,null,0,{"$f":"IFERROR(MATCH(D28,Nr_stad!$U$8:$U$60,0),0)","v":0},0,{"$f":"IFERROR(MATCH(G28,Konie!$I$12:$I$13,0),0)","v":0},1,{"$f":"IF(J28=\"\",0,IF(W28=1,IF(J28=\"do 1,47\",Konie!$G$12,Konie!$G$13),0))","v":0},{"$f":"IF(W28=2,Konie!$G$14,0)","v":0},0,"",{"$f":"MATCH(I28,Konie!$L$12:$L$13,0)","v":{"$error":"#N/A"}},null,null,null,0,1]
[null,null,null,null,null,null,null,null,null,null,null,null,null,0,"","-",null,null,0,{"$f":"IFERROR(MATCH(D29,Nr_stad!$U$8:$U$60,0),0)","v":0},0,{"$f":"IFERROR(MATCH(G29,Konie!$I$12:$I$13,0),0)","v":0},1,{"$f":"IF(J29=\"\",0,IF(W29=1,IF(J29=\"do 1,47\",Konie!$G$12,Konie!$G$13),0))","v":0},{"$f":"IF(W29=2,Konie!$G$14,0)","v":0},0,"",{"$f":"MATCH(I29,Konie!$L$12:$L$13,0)","v":{"$error":"#N/A"}},null,null,null,0,1]
[null,null,null,null,null,null,null,null,null,null,null,null,null,0,"","-",null,null,0,{"$f":"IFERROR(MATCH(D30,Nr_stad!$U$8:$U$60,0),0)","v":0},0,{"$f":"IFERROR(MATCH(G30,Konie!$I$12:$I$13,0),0)","v":0},1,{"$f":"IF(J30=\"\",0,IF(W30=1,IF(J30=\"do 1,47\",Konie!$G$12,Konie!$G$13),0))","v":0},{"$f":"IF(W30=2,Konie!$G$14,0)","v":0},0,"",{"$f":"MATCH(I30,Konie!$L$12:$L$13,0)","v":{"$error":"#N/A"}},null,null,null,0,1]
[null,null,null,null,null,null,null,null,null,null,null,null,null,0,"","-",null,null,0,{"$f":"IFERROR(MATCH(D31,Nr_stad!$U$8:$U$60,0),0)","v":0},0,{"$f":"IFERROR(MATCH(G31,Konie!$I$12:$I$13,0),0)","v":0},1,{"$f":"IF(J31=\"\",0,IF(W31=1,IF(J31=\"do 1,47\",Konie!$G$12,Konie!$G$13),0))","v":0},{"$f":"IF(W31=2,Konie!$G$14,0)","v":0},0,"",{"$f":"MATCH(I31,Konie!$L$12:$L$13,0)","v":{"$error":"#N/A"}},null,null,null,0,1]
[null,null,null,null,null,null,null,null,null,null,null,null,null,0,"","-",null,null,0,{"$f":"IFERROR(MATCH(D32,Nr_stad!$U$8:$U$60,0),0)","v":0},0,{"$f":"IFERROR(MATCH(G32,Konie!$I$12:$I$13,0),0)","v":0},1,{"$f":"IF(J32=\"\",0,IF(W32=1,IF(J32=\"do 1,47\",Konie!$G$12,Konie!$G$13),0))","v":0},{"$f":"IF(W32=2,Konie!$G$14,0)","v":0},0,"",{"$f":"MATCH(I32,Konie!$L$12:$L$13,0)","v":{"$error":"#N/A"}},null,null,null,0,1]
[null,null,null,null,null,null,null,null,null,null,null,null,null,0,"","-",null,null,0,{"$f":"IFERROR(MATCH(D33,Nr_stad!$U$8:$U$60,0),0)","v":0},0,{"$f":"IFERROR(MATCH(G33,Konie!$I$12:$I$13,0),0)","v":0},1,{"$f":"IF(J33=\"\",0,IF(W33=1,IF(J33=\"do 1,47\",Konie!$G$12,Konie!$G$13),0))","v":0},{"$f":"IF(W33=2,Konie!$G$14,0)","v":0},0,"",{"$f":"MATCH(I33,Konie!$L$12:$L$13,0)","v":{"$error":"#N/A"}},null,null,null,0,1]
[null,null,null,null,null,null,null,null,null,null,null,null,null,0,"","-",null,null,0,{"$f":"IFERROR(MATCH(D34,Nr_stad!$U$8:$U$60,0),0)","v":0},0,{"$f":"IFERROR(MATCH(G34,Konie!$I$12:$I$13,0),0)","v":0},1,{"$f":"IF(J34=\"\",0,IF(W34=1,IF(J34=\"do 1,47\",Konie!$G$12,Konie!$G$13),0))","v":0},{"$f":"IF(W34=2,Konie!$G$14,0)","v":0},0,"",{"$f":"MATCH(I34,Konie!$L$12:$L$13,0)","v":{"$error":"#N/A"}},null,null,null,0,1]
[null,null,null,null,null,null,null,null,null,null,null,null,null,0,"","-",null,null,0,{"$f":"IFERROR(MATCH(D35,Nr_stad!$U$8:$U$60,0),0)","v":0},0,{"$f":"IFERROR(MATCH(G35,Konie!$I$12:$I$13,0),0)","v":0},1,{"$f":"IF(J35=\"\",0,IF(W35=1,IF(J35=\"do 1,47\",Konie!$G$12,Konie!$G$13),0))","v":0},{"$f":"IF(W35=2,Konie!$G$14,0)","v":0},0,"",{"$f":"MATCH(I35,Konie!$L$12:$L$13,0)","v":{"$error":"#N/A"}},null,null,null,0,1]
[null,null,null,null,null,null,null,null,null,null,null,null,null,0,"","-",null,null,0,{"$f":"IFERROR(MATCH(D36,Nr_stad!$U$8:$U$60,0),0)","v":0},0,{"$f":"IFERROR(MATCH(G36,Konie!$I$12:$I$13,0),0)","v":0},1,{"$f":"IF(J36=\"\",0,IF(W36=1,IF(J36=\"do 1,47\",Konie!$G$12,Konie!$G$13),0))","v":0},{"$f":"IF(W36=2,Konie!$G$14,0)","v":0},0,"",{"$f":"MATCH(I36,Konie!$L$12:$L$13,0)","v":{"$error":"#N/A"}},null,null,null,0,1]
[null,null,null,null,null,null,null,null,null,null,null,null,null,0,"","-",null,null,0,{"$f":"IFERROR(MATCH(D37,Nr_stad!$U$8:$U$60,0),0)","v":0},0,{"$f":"IFERROR(MATCH(G37,Konie!$I$12:$I$13,0),0)","v":0},1,{"$f":"IF(J37=\"\",0,IF(W37=1,IF(J37=\"do 1,47\",Konie!$G$12,Konie!$G$13),0))","v":0},{"$f":"IF(W37=2,Konie!$G$14,0)","v":0},0,"",{"$f":"MATCH(I37,Konie!$L$12:$L$13,0)","v":{"$error":"#N/A"}},null,null,null,0,1]
[null,null,null,null,null,null,null,null,null,null,null,null,null,0,"","-",null,null,0,{"$f":"IFERROR(MATCH(D38,Nr_stad!$U$8:$U$60,0),0)","v":0},0,{"$f":"IFERROR(MATCH(G38,Konie!$I$12:$I$13,0),0)","v":0},1,{"$f":"IF(J38=\"\",0,IF(W38=1,IF(J38=\"do 1,47\",Konie!$G$12,Konie!$G$13),0))","v":0},{"$f":"IF(W38=2,Konie!$G$14,0)","v":0},0,"",{"$f":"MATCH(I38,Konie!$L$12:$L$13,0)","v":{"$error":"#N/A"}},null,null,null,0,1]
[null,null,null,null,null,null,null,null,null,null,null,null,null,0,"","-",null,null,0,{"$f":"IFERROR(MATCH(D39,Nr_stad!$U$8:$U$60,0),0)","v":0},0,{"$f":"IFERROR(MATCH(G39,Konie!$I$12:$I$13,0),0)","v":0},1,{"$f":"IF(J39=\"\",0,IF(W39=1,IF(J39=\"do 1,47\",Konie!$G$12,Konie!$G$13),0))","v":0},{"$f":"IF(W39=2,Konie!$G$14,0)","v":0},0,"",{"$f":"MATCH(I39,Konie!$L$12:$L$13,0)","v":{"$error":"#N/A"}},null,null,null,0,1]
[null,null,null,null,null,null,null,null,null,null,null,null,null,0,"","-",null,null,0,{"$f":"IFERROR(MATCH(D40,Nr_stad!$U$8:$U$60,0),0)","v":0},0,{"$f":"IFERROR(MATCH(G40,Konie!$I$12:$I$13,0),0)","v":0},1,{"$f":"IF(J40=\"\",0,IF(W40=1,IF(J40=\"do 1,47\",Konie!$G$12,Konie!$G$13),0))","v":0},{"$f":"IF(W40=2,Konie!$G$14,0)","v":0},0,"",{"$f":"MATCH(I40,Konie!$L$12:$L$13,0)","v":{"$error":"#N/A"}},null,null,null,0,1]
[null,null,null,null,null,null,null,null,null,null,null,null,null,0,"","-",null,null,0,{"$f":"IFERROR(MATCH(D41,Nr_stad!$U$8:$U$60,0),0)","v":0},0,{"$f":"IFERROR(MATCH(G41,Konie!$I$12:$I$13,0),0)","v":0},1,{"$f":"IF(J41=\"\",0,IF(W41=1,IF(J41=\"do 1,47\",Konie!$G$12,Konie!$G$13),0))","v":0},{"$f":"IF(W41=2,Konie!$G$14,0)","v":0},0,"",{"$f":"MATCH(I41,Konie!$L$12:$L$13,0)","v":{"$error":"#N/A"}},null,null,null,0,1]
[null,null,null,null,null,null,null,null,null,null,null,null,null,0,"","-",null,null,0,{"$f":"IFERROR(MATCH(D42,Nr_stad!$U$8:$U$60,0),0)","v":0},0,{"$f":"IFERROR(MATCH(G42,Konie!$I$12:$I$13,0),0)","v":0},1,{"$f":"IF(J42=\"\",0,IF(W42=1,IF(J42=\"do 1,47\",Konie!$G$12,Konie!$G$13),0))","v":0},{"$f":"IF(W42=2,Konie!$G$14,0)","v":0},0,"",{"$f":"MATCH(I42,Konie!$L$12:$L$13,0)","v":{"$error":"#N/A"}},null,null,null,0,1]
[null,null,null,null,null,null,null,null,null,null,null,null,null,0,"","-",null,null,0,{"$f":"IFERROR(MATCH(D43,Nr_stad!$U$8:$U$60,0),0)","v":0},0,{"$f":"IFERROR(MATCH(G43,Konie!$I$12:$I$13,0),0)","v":0},1,{"$f":"IF(J43=\"\",0,IF(W43=1,IF(J43=\"do 1,47\",Konie!$G$12,Konie!$G$13),0))","v":0},{"$f":"IF(W43=2,Konie!$G$14,0)","v":0},0,"",{"$f":"MATCH(I43,Konie!$L$12:$L$13,0)","v":{"$error":"#N/A"}},null,null,null,0,1]
[null,null,null,null,null,null,null,null,null,null,null,null,null,0,"","-",null,null,0,{"$f":"IFERROR(MATCH(D44,Nr_stad!$U$8:$U$60,0),0)","v":0},0,{"$f":"IFERROR(MATCH(G44,Konie!$I$12:$I$13,0),0)","v":0},1,{"$f":"IF(J44=\"\",0,IF(W44=1,IF(J44=\"do 1,47\",Konie!$G$12,Konie!$G$13),0))","v":0},{"$f":"IF(W44=2,Konie!$G$14,0)","v":0},0,"",{"$f":"MATCH(I44,Konie!$L$12:$L$13,0)","v":{"$error":"#N/A"}},null,null,null,0,1]
[null,null,null,null,null,null,null,null,null,null,null,null,null,0,"","-",null,null,0,{"$f":"IFERROR(MATCH(D45,Nr_stad!$U$8:$U$60,0),0)","v":0},0,{"$f":"IFERROR(MATCH(G45,Konie!$I$12:$I$13,0),0)","v":0},1,{"$f":"IF(J45=\"\",0,IF(W45=1,IF(J45=\"do 1,47\",Konie!$G$12,Konie!$G$13),0))","v":0},{"$f":"IF(W45=2,Konie!$G$14,0)","v":0},0,"",{"$f":"MATCH(I45,Konie!$L$12:$L$13,0)","v":{"$error":"#N/A"}},null,null,null,0,1]
[null,null,null,null,null,null,null,null,null,null,null,null,null,0,"","-",null,null,0,{"$f":"IFERROR(MATCH(D46,Nr_stad!$U$8:$U$60,0),0)","v":0},0,{"$f":"IFERROR(MATCH(G46,Konie!$I$12:$I$13,0),0)","v":0},1,{"$f":"IF(J46=\"\",0,IF(W46=1,IF(J46=\"do 1,47\",Konie!$G$12,Konie!$G$13),0))","v":0},{"$f":"IF(W46=2,Konie!$G$14,0)","v":0},0,"",{"$f":"MATCH(I46,Konie!$L$12:$L$13,0)","v":{"$error":"#N/A"}},null,null,null,0,1]
[null,null,null,null,null,null,null,null,null,null,null,null,null,0,"","-",null,null,0,{"$f":"IFERROR(MATCH(D47,Nr_stad!$U$8:$U$60,0),0)","v":0},0,{"$f":"IFERROR(MATCH(G47,Konie!$I$12:$I$13,0),0)","v":0},1,{"$f":"IF(J47=\"\",0,IF(W47=1,IF(J47=\"do 1,47\",Konie!$G$12,Konie!$G$13),0))","v":0},{"$f":"IF(W47=2,Konie!$G$14,0)","v":0},0,"",{"$f":"MATCH(I47,Konie!$L$12:$L$13,0)","v":{"$error":"#N/A"}},null,null,null,0,1]
[null,null,null,null,null,null,null,null,null,null,null,null,null,0,"","-",null,null,0,{"$f":"IFERROR(MATCH(D48,Nr_stad!$U$8:$U$60,0),0)","v":0},0,{"$f":"IFERROR(MATCH(G48,Konie!$I$12:$I$13,0),0)","v":0},1,{"$f":"IF(J48=\"\",0,IF(W48=1,IF(J48=\"do 1,47\",Konie!$G$12,Konie!$G$13),0))","v":0},{"$f":"IF(W48=2,Konie!$G$14,0)","v":0},0,"",{"$f":"MATCH(I48,Konie!$L$12:$L$13,0)","v":{"$error":"#N/A"}},null,null,null,0,1]
[null,null,null,null,null,null,null,null,null,null,null,null,null,0,"","-",null,null,0,{"$f":"IFERROR(MATCH(D49,Nr_stad!$U$8:$U$60,0),0)","v":0},0,{"$f":"IFERROR(MATCH(G49,Konie!$I$12:$I$13,0),0)","v":0},1,{"$f":"IF(J49=\"\",0,IF(W49=1,IF(J49=\"do 1,47\",Konie!$G$12,Konie!$G$13),0))","v":0},{"$f":"IF(W49=2,Konie!$G$14,0)","v":0},0,"",{"$f":"MATCH(I49,Konie!$L$12:$L$13,0)","v":{"$error":"#N/A"}},null,null,null,0,1]
[null,null,null,null,null,null,null,null,null,null,null,null,null,0,"","-",null,null,0,{"$f":"IFERROR(MATCH(D50,Nr_stad!$U$8:$U$60,0),0)","v":0},0,{"$f":"IFERROR(MATCH(G50,Konie!$I$12:$I$13,0),0)","v":0},1,{"$f":"IF(J50=\"\",0,IF(W50=1,IF(J50=\"do 1,47\",Konie!$G$12,Konie!$G$13),0))","v":0},{"$f":"IF(W50=2,Konie!$G$14,0)","v":0},0,"",{"$f":"MATCH(I50,Konie!$L$12:$L$13,0)","v":{"$error":"#N/A"}},null,null,null,0,1]
[null,null,null,null,null,null,null,null,null,null,null,null,null,0,"","-",null,null,0,{"$f":"IFERROR(MATCH(D51,Nr_stad!$U$8:$U$60,0),0)","v":0},0,{"$f":"IFERROR(MATCH(G51,Konie!$I$12:$I$13,0),0)","v":0},1,{"$f":"IF(J51=\"\",0,IF(W51=1,IF(J51=\"do 1,47\",Konie!$G$12,Konie!$G$13),0))","v":0},{"$f":"IF(W51=2,Konie!$G$14,0)","v":0},0,"",{"$f":"MATCH(I51,Konie!$L$12:$L$13,0)","v":{"$error":"#N/A"}},null,null,null,0,1]
[null,null,null,null,null,null,null,null,null,null,null,null,null,0,"","-",null,null,0,{"$f":"IFERROR(MATCH(D52,Nr_stad!$U$8:$U$60,0),0)","v":0},0,{"$f":"IFERROR(MATCH(G52,Konie!$I$12:$I$13,0),0)","v":0},1,{"$f":"IF(J52=\"\",0,IF(W52=1,IF(J52=\"do 1,47\",Konie!$G$12,Konie!$G$13),0))","v":0},{"$f":"IF(W52=2,Konie!$G$14,0)","v":0},0,"",{"$f":"MATCH(I52,Konie!$L$12:$L$13,0)","v":{"$error":"#N/A"}},null,null,null,0,1]
[null,null,null,null,null,null,null,null,null,null,null,null,null,0,"","-",null,null,0,{"$f":"IFERROR(MATCH(D53,Nr_stad!$U$8:$U$60,0),0)","v":0},0,{"$f":"IFERROR(MATCH(G53,Konie!$I$12:$I$13,0),0)","v":0},1,{"$f":"IF(J53=\"\",0,IF(W53=1,IF(J53=\"do 1,47\",Konie!$G$12,Konie!$G$13),0))","v":0},{"$f":"IF(W53=2,Konie!$G$14,0)","v":0},0,"",{"$f":"MATCH(I53,Konie!$L$12:$L$13,0)","v":{"$error":"#N/A"}},null,null,null,0,1]
[null,null,null,null,null,null,null,null,null,null,null,null,null,0,"","-",null,null,0,{"$f":"IFERROR(MATCH(D54,Nr_stad!$U$8:$U$60,0),0)","v":0},0,{"$f":"IFERROR(MATCH(G54,Konie!$I$12:$I$13,0),0)","v":0},1,{"$f":"IF(J54=\"\",0,IF(W54=1,IF(J54=\"do 1,47\",Konie!$G$12,Konie!$G$13),0))","v":0},{"$f":"IF(W54=2,Konie!$G$14,0)","v":0},0,"",{"$f":"MATCH(I54,Konie!$L$12:$L$13,0)","v":{"$error":"#N/A"}},null,null,null,0,1]
[null,null,null,null,null,null,null,null,null,null,null,null,null,0,"","-",null,null,0,{"$f":"IFERROR(MATCH(D55,Nr_stad!$U$8:$U$60,0),0)","v":0},0,{"$f":"IFERROR(MATCH(G55,Konie!$I$12:$I$13,0),0)","v":0},1,{"$f":"IF(J55=\"\",0,IF(W55=1,IF(J55=\"do 1,47\",Konie!$G$12,Konie!$G$13),0))","v":0},{"$f":"IF(W55=2,Konie!$G$14,0)","v":0},0,"",{"$f":"MATCH(I55,Konie!$L$12:$L$13,0)","v":{"$error":"#N/A"}},null,null,null,0,1]
[null,null,null,null,null,null,null,null,null,null,null,null,null,0,"","-",null,null,0,{"$f":"IFERROR(MATCH(D56,Nr_stad!$U$8:$U$60,0),0)","v":0},0,{"$f":"IFERROR(MATCH(G56,Konie!$I$12:$I$13,0),0)","v":0},1,{"$f":"IF(J56=\"\",0,IF(W56=1,IF(J56=\"do 1,47\",Konie!$G$12,Konie!$G$13),0))","v":0},{"$f":"IF(W56=2,Konie!$G$14,0)","v":0},0,"",{"$f":"MATCH(I56,Konie!$L$12:$L$13,0)","v":{"$error":"#N/A"}},null,null,null,0,1]
[null,null,null,null,null,null,null,null,null,null,null,null,null,0,"","-",null,null,0,{"$f":"IFERROR(MATCH(D57,Nr_stad!$U$8:$U$60,0),0)","v":0},0,{"$f":"IFERROR(MATCH(G57,Konie!$I$12:$I$13,0),0)","v":0},1,{"$f":"IF(J57=\"\",0,IF(W57=1,IF(J57=\"do 1,47\",Konie!$G$12,Konie!$G$13),0))","v":0},{"$f":"IF(W57=2,Konie!$G$14,0)","v":0},0,"",{"$f":"MATCH(I57,Konie!$L$12:$L$13,0)","v":{"$error":"#N/A"}},null,null,null,0,1]
[null,null,null,null,null,null,null,null,null,null,null,null,null,0,"","-",null,null,0,{"$f":"IFERROR(MATCH(D58,Nr_stad!$U$8:$U$60,0),0)","v":0},0,{"$f":"IFERROR(MATCH(G58,Konie!$I$12:$I$13,0),0)","v":0},1,{"$f":"IF(J58=\"\",0,IF(W58=1,IF(J58=\"do 1,47\",Konie!$G$12,Konie!$G$13),0))","v":0},{"$f":"IF(W58=2,Konie!$G$14,0)","v":0},0,"",{"$f":"MATCH(I58,Konie!$L$12:$L$13,0)","v":{"$error":"#N/A"}},null,null,null,0,1]
[null,null,null,null,null,null,null,null,null,null,null,null,null,0,"","-",null,null,0,{"$f":"IFERROR(MATCH(D59,Nr_stad!$U$8:$U$60,0),0)","v":0},0,{"$f":"IFERROR(MATCH(G59,Konie!$I$12:$I$13,0),0)","v":0},1,{"$f":"IF(J59=\"\",0,IF(W59=1,IF(J59=\"do 1,47\",Konie!$G$12,Konie!$G$13),0))","v":0},{"$f":"IF(W59=2,Konie!$G$14,0)","v":0},0,"",{"$f":"MATCH(I59,Konie!$L$12:$L$13,0)","v":{"$error":"#N/A"}},null,null,null,0,1]
[null,null,null,null,null,null,null,null,null,null,null,null,null,0,"","-",null,null,0,{"$f":"IFERROR(MATCH(D60,Nr_stad!$U$8:$U$60,0),0)","v":0},0,{"$f":"IFERROR(MATCH(G60,Konie!$I$12:$I$13,0),0)","v":0},1,{"$f":"IF(J60=\"\",0,IF(W60=1,IF(J60=\"do 1,47\",Konie!$G$12,Konie!$G$13),0))","v":0},{"$f":"IF(W60=2,Konie!$G$14,0)","v":0},0,"",{"$f":"MATCH(I60,Konie!$L$12:$L$13,0)","v":{"$error":"#N/A"}},null,null,null,0,1]
[null,null,null,null,null,null,null,null,null,null,null,null,null,0,"","-",null,null,0,{"$f":"IFERROR(MATCH(D61,Nr_stad!$U$8:$U$60,0),0)","v":0},0,{"$f":"IFERROR(MATCH(G61,Konie!$I$12:$I$13,0),0)","v":0},1,{"$f":"IF(J61=\"\",0,IF(W61=1,IF(J61=\"do 1,47\",Konie!$G$12,Konie!$G$13),0))","v":0},{"$f":"IF(W61=2,Konie!$G$14,0)","v":0},0,"",{"$f":"MATCH(I61,Konie!$L$12:$L$13,0)","v":{"$error":"#N/A"}},null,null,null,0,1]
[null,null,null,null,null,null,null,null,null,null,null,null,null,0,"","-",null,null,0,{"$f":"IFERROR(MATCH(D62,Nr_stad!$U$8:$U$60,0),0)","v":0},0,{"$f":"IFERROR(MATCH(G62,Konie!$I$12:$I$13,0),0)","v":0},1,{"$f":"IF(J62=\"\",0,IF(W62=1,IF(J62=\"do 1,47\",Konie!$G$12,Konie!$G$13),0))","v":0},{"$f":"IF(W62=2,Konie!$G$14,0)","v":0},0,"",{"$f":"MATCH(I62,Konie!$L$12:$L$13,0)","v":{"$error":"#N/A"}},null,null,null,0,1]
[null,null,null,null,null,null,null,null,null,null,null,null,null,0,"","-",null,null,0,{"$f":"IFERROR(MATCH(D63,Nr_stad!$U$8:$U$60,0),0)","v":0},0,{"$f":"IFERROR(MATCH(G63,Konie!$I$12:$I$13,0),0)","v":0},1,{"$f":"IF(J63=\"\",0,IF(W63=1,IF(J63=\"do 1,47\",Konie!$G$12,Konie!$G$13),0))","v":0},{"$f":"IF(W63=2,Konie!$G$14,0)","v":0},0,"",{"$f":"MATCH(I63,Konie!$L$12:$L$13,0)","v":{"$error":"#N/A"}},null,null,null,0,1]
[null,null,null,null,null,null,null,null,null,null,null,null,null,0,"","-",null,null,0,{"$f":"IFERROR(MATCH(D64,Nr_stad!$U$8:$U$60,0),0)","v":0},0,{"$f":"IFERROR(MATCH(G64,Konie!$I$12:$I$13,0),0)","v":0},1,{"$f":"IF(J64=\"\",0,IF(W64=1,IF(J64=\"do 1,47\",Konie!$G$12,Konie!$G$13),0))","v":0},{"$f":"IF(W64=2,Konie!$G$14,0)","v":0},0,"",{"$f":"MATCH(I64,Konie!$L$12:$L$13,0)","v":{"$error":"#N/A"}},null,null,null,0,1]
[null,null,null,null,null,null,null,null,null,null,null,null,null,0,"","-",null,null,0,{"$f":"IFERROR(MATCH(D65,Nr_stad!$U$8:$U$60,0),0)","v":0},0,{"$f":"IFERROR(MATCH(G65,Konie!$I$12:$I$13,0),0)","v":0},1,{"$f":"IF(J65=\"\",0,IF(W65=1,IF(J65=\"do 1,47\",Konie!$G$12,Konie!$G$13),0))","v":0},{"$f":"IF(W65=2,Konie!$G$14,0)","v":0},0,"",{"$f":"MATCH(I65,Konie!$L$12:$L$13,0)","v":{"$error":"#N/A"}},null,null,null,0,1]
[null,null,null,null,null,null,null,null,null,null,null,null,null,0,"","-",null,null,0,{"$f":"IFERROR(MATCH(D66,Nr_stad!$U$8:$U$60,0),0)","v":0},0,{"$f":"IFERROR(MATCH(G66,Konie!$I$12:$I$13,0),0)","v":0},1,{"$f":"IF(J66=\"\",0,IF(W66=1,IF(J66=\"do 1,47\",Konie!$G$12,Konie!$G$13),0))","v":0},{"$f":"IF(W66=2,Konie!$G$14,0)","v":0},0,"",{"$f":"MATCH(I66,Konie!$L$12:$L$13,0)","v":{"$error":"#N/A"}},null,null,null,0,1]
[null,null,null,null,null,null,null,null,null,null,null,null,null,0,"","-",null,null,0,{"$f":"IFERROR(MATCH(D67,Nr_stad!$U$8:$U$60,0),0)","v":0},0,{"$f":"IFERROR(MATCH(G67,Konie!$I$12:$I$13,0),0)","v":0},1,{"$f":"IF(J67=\"\",0,IF(W67=1,IF(J67=\"do 1,47\",Konie!$G$12,Konie!$G$13),0))","v":0},{"$f":"IF(W67=2,Konie!$G$14,0)","v":0},0,"",{"$f":"MATCH(I67,Konie!$L$12:$L$13,0)","v":{"$error":"#N/A"}},null,null,null,0,1]
[null,null,null,null,null,null,null,null,null,null,null,null,null,0,"","-",null,null,0,{"$f":"IFERROR(MATCH(D68,Nr_stad!$U$8:$U$60,0),0)","v":0},0,{"$f":"IFERROR(MATCH(G68,Konie!$I$12:$I$13,0),0)","v":0},1,{"$f":"IF(J68=\"\",0,IF(W68=1,IF(J68=\"do 1,47\",Konie!$G$12,Konie!$G$13),0))","v":0},{"$f":"IF(W68=2,Konie!$G$14,0)","v":0},0,"",{"$f":"MATCH(I68,Konie!$L$12:$L$13,0)","v":{"$error":"#N/A"}},null,null,null,0,1]
[null,null,null,null,null,null,null,null,null,null,null,null,null,0,"","-",null,null,0,{"$f":"IFERROR(MATCH(D69,Nr_stad!$U$8:$U$60,0),0)","v":0},0,{"$f":"IFERROR(MATCH(G69,Konie!$I$12:$I$13,0),0)","v":0},1,{"$f":"IF(J69=\"\",0,IF(W69=1,IF(J69=\"do 1,47\",Konie!$G$12,Konie!$G$13),0))","v":0},{"$f":"IF(W69=2,Konie!$G$14,0)","v":0},0,"",{"$f":"MATCH(I69,Konie!$L$12:$L$13,0)","v":{"$error":"#N/A"}},null,null,null,0,1]
[null,null,null,null,null,null,null,null,null,null,null,null,null,0,"","-",null,null,0,{"$f":"IFERROR(MATCH(D70,Nr_stad!$U$8:$U$60,0),0)","v":0},0,{"$f":"IFERROR(MATCH(G70,Konie!$I$12:$I$13,0),0)","v":0},1,{"$f":"IF(J70=\"\",0,IF(W70=1,IF(J70=\"do 1,47\",Konie!$G$12,Konie!$G$13),0))","v":0},{"$f":"IF(W70=2,Konie!$G$14,0)","v":0},0,"",{"$f":"MATCH(I70,Konie!$L$12:$L$13,0)","v":{"$error":"#N/A"}},null,null,null,0,1]
[null,null,null,null,null,null,null,null,null,null,null,null,null,0,"","-",null,null,0,{"$f":"IFERROR(MATCH(D71,Nr_stad!$U$8:$U$60,0),0)","v":0},0,{"$f":"IFERROR(MATCH(G71,Konie!$I$12:$I$13,0),0)","v":0},1,{"$f":"IF(J71=\"\",0,IF(W71=1,IF(J71=\"do 1,47\",Konie!$G$12,Konie!$G$13),0))","v":0},{"$f":"IF(W71=2,Konie!$G$14,0)","v":0},0,"",{"$f":"MATCH(I71,Konie!$L$12:$L$13,0)","v":{"$error":"#N/A"}},null,null,null,0,1]
[null,null,null,null,null,null,null,null,null,null,null,null,null,0,"","-",null,null,0,{"$f":"IFERROR(MATCH(D72,Nr_stad!$U$8:$U$60,0),0)","v":0},0,{"$f":"IFERROR(MATCH(G72,Konie!$I$12:$I$13,0),0)","v":0},1,{"$f":"IF(J72=\"\",0,IF(W72=1,IF(J72=\"do 1,47\",Konie!$G$12,Konie!$G$13),0))","v":0},{"$f":"IF(W72=2,Konie!$G$14,0)","v":0},0,"",{"$f":"MATCH(I72,Konie!$L$12:$L$13,0)","v":{"$error":"#N/A"}},null,null,null,0,1]
[null,null,null,null,null,null,null,null,null,null,null,null,null,0,"","-",null,null,0,{"$f":"IFERROR(MATCH(D73,Nr_stad!$U$8:$U$60,0),0)","v":0},0,{"$f":"IFERROR(MATCH(G73,Konie!$I$12:$I$13,0),0)","v":0},1,{"$f":"IF(J73=\"\",0,IF(W73=1,IF(J73=\"do 1,47\",Konie!$G$12,Konie!$G$13),0))","v":0},{"$f":"IF(W73=2,Konie!$G$14,0)","v":0},0,"",{"$f":"MATCH(I73,Konie!$L$12:$L$13,0)","v":{"$error":"#N/A"}},null,null,null,0,1]
[null,null,null,null,null,null,null,null,null,null,null,null,null,0,"","-",null,null,0,{"$f":"IFERROR(MATCH(D74,Nr_stad!$U$8:$U$60,0),0)","v":0},0,{"$f":"IFERROR(MATCH(G74,Konie!$I$12:$I$13,0),0)","v":0},1,{"$f":"IF(J74=\"\",0,IF(W74=1,IF(J74=\"do 1,47\",Konie!$G$12,Konie!$G$13),0))","v":0},{"$f":"IF(W74=2,Konie!$G$14,0)","v":0},0,"",{"$f":"MATCH(I74,Konie!$L$12:$L$13,0)","v":{"$error":"#N/A"}},null,null,null,0,1]
[null,null,null,null,null,null,null,null,null,null,null,null,null,0,"","-",null,null,0,{"$f":"IFERROR(MATCH(D75,Nr_stad!$U$8:$U$60,0),0)","v":0},0,{"$f":"IFERROR(MATCH(G75,Konie!$I$12:$I$13,0),0)","v":0},1,{"$f":"IF(J75=\"\",0,IF(W75=1,IF(J75=\"do 1,47\",Konie!$G$12,Konie!$G$13),0))","v":0},{"$f":"IF(W75=2,Konie!$G$14,0)","v":0},0,"",{"$f":"MATCH(I75,Konie!$L$12:$L$13,0)","v":{"$error":"#N/A"}},null,null,null,0,1]
[null,null,null,null,null,null,null,null,null,null,null,null,null,0,"","-",null,null,0,{"$f":"IFERROR(MATCH(D76,Nr_stad!$U$8:$U$60,0),0)","v":0},0,{"$f":"IFERROR(MATCH(G76,Konie!$I$12:$I$13,0),0)","v":0},1,{"$f":"IF(J76=\"\",0,IF(W76=1,IF(J76=\"do 1,47\",Konie!$G$12,Konie!$G$13),0))","v":0},{"$f":"IF(W76=2,Konie!$G$14,0)","v":0},0,"",{"$f":"MATCH(I76,Konie!$L$12:$L$13,0)","v":{"$error":"#N/A"}},null,null,null,0,1]
[null,null,null,null,null,null,null,null,null,null,null,null,null,0,"","-",null,null,0,{"$f":"IFERROR(MATCH(D77,Nr_stad!$U$8:$U$60,0),0)","v":0},0,{"$f":"IFERROR(MATCH(G77,Konie!$I$12:$I$13,0),0)","v":0},1,{"$f":"IF(J77=\"\",0,IF(W77=1,IF(J77=\"do 1,47\",Konie!$G$12,Konie!$G$13),0))","v":0},{"$f":"IF(W77=2,Konie!$G$14,0)","v":0},0,"",{"$f":"MATCH(I77,Konie!$L$12:$L$13,0)","v":{"$error":"#N/A"}},null,null,null,0,1]
[null,null,null,null,null,null,null,null,null,null,null,null,null,0,"","-",null,null,0,{"$f":"IFERROR(MATCH(D78,Nr_stad!$U$8:$U$60,0),0)","v":0},0,{"$f":"IFERROR(MATCH(G78,Konie!$I$12:$I$13,0),0)","v":0},1,{"$f":"IF(J78=\"\",0,IF(W78=1,IF(J78=\"do 1,47\",Konie!$G$12,Konie!$G$13),0))","v":0},{"$f":"IF(W78=2,Konie!$G$14,0)","v":0},0,"",{"$f":"MATCH(I78,Konie!$L$12:$L$13,0)","v":{"$error":"#N/A"}},null,null,null,0,1]
[null,null,null,null,null,null,null,null,null,null,null,null,null,0,"","-",null,null,0,{"$f":"IFERROR(MATCH(D79,Nr_stad!$U$8:$U$60,0),0)","v":0},0,{"$f":"IFERROR(MATCH(G79,Konie!$I$12:$I$13,0),0)","v":0},1,{"$f":"IF(J79=\"\",0,IF(W79=1,IF(J79=\"do 1,47\",Konie!$G$12,Konie!$G$13),0))","v":0},{"$f":"IF(W79=2,Konie!$G$14,0)","v":0},0,"",{"$f":"MATCH(I79,Konie!$L$12:$L$13,0)","v":{"$error":"#N/A"}},null,null,null,0,1]
[null,null,null,null,null,null,null,null,null,null,null,null,null,0,"","-",null,null,0,{"$f":"IFERROR(MATCH(D80,Nr_stad!$U$8:$U$60,0),0)","v":0},0,{"$f":"IFERROR(MATCH(G80,Konie!$I$12:$I$13,0),0)","v":0},1,{"$f":"IF(J80=\"\",0,IF(W80=1,IF(J80=\"do 1,47\",Konie!$G$12,Konie!$G$13),0))","v":0},{"$f":"IF(W80=2,Konie!$G$14,0)","v":0},0,"",{"$f":"MATCH(I80,Konie!$L$12:$L$13,0)","v":{"$error":"#N/A"}},null,null,null,0,1]
[null,null,null,null,null,null,null,null,null,null,null,null,null,0,"","-",null,null,0,{"$f":"IFERROR(MATCH(D81,Nr_stad!$U$8:$U$60,0),0)","v":0},0,{"$f":"IFERROR(MATCH(G81,Konie!$I$12:$I$13,0),0)","v":0},1,{"$f":"IF(J81=\"\",0,IF(W81=1,IF(J81=\"do 1,47\",Konie!$G$12,Konie!$G$13),0))","v":0},{"$f":"IF(W81=2,Konie!$G$14,0)","v":0},0,"",{"$f":"MATCH(I81,Konie!$L$12:$L$13,0)","v":{"$error":"#N/A"}},null,null,null,0,1]
[null,null,null,null,null,null,null,null,null,null,null,null,null,0,"","-",null,null,0,{"$f":"IFERROR(MATCH(D82,Nr_stad!$U$8:$U$60,0),0)","v":0},0,{"$f":"IFERROR(MATCH(G82,Konie!$I$12:$I$13,0),0)","v":0},1,{"$f":"IF(J82=\"\",0,IF(W82=1,IF(J82=\"do 1,47\",Konie!$G$12,Konie!$G$13),0))","v":0},{"$f":"IF(W82=2,Konie!$G$14,0)","v":0},0,"",{"$f":"MATCH(I82,Konie!$L$12:$L$13,0)","v":{"$error":"#N/A"}},null,null,null,0,1]
[null,null,null,null,null,null,null,null,null,null,null,null,null,0,"","-",null,null,0,{"$f":"IFERROR(MATCH(D83,Nr_stad!$U$8:$U$60,0),0)","v":0},0,{"$f":"IFERROR(MATCH(G83,Konie!$I$12:$I$13,0),0)","v":0},1,{"$f":"IF(J83=\"\",0,IF(W83=1,IF(J83=\"do 1,47\",Konie!$G$12,Konie!$G$13),0))","v":0},{"$f":"IF(W83=2,Konie!$G$14,0)","v":0},0,"",{"$f":"MATCH(I83,Konie!$L$12:$L$13,0)","v":{"$error":"#N/A"}},null,null,null,0,1]
[null,null,null,null,null,null,null,null,null,null,null,null,null,0,"","-",null,null,0,{"$f":"IFERROR(MATCH(D84,Nr_stad!$U$8:$U$60,0),0)","v":0},0,{"$f":"IFERROR(MATCH(G84,Konie!$I$12:$I$13,0),0)","v":0},1,{"$f":"IF(J84=\"\",0,IF(W84=1,IF(J84=\"do 1,47\",Konie!$G$12,Konie!$G$13),0))","v":0},{"$f":"IF(W84=2,Konie!$G$14,0)","v":0},0,"",{"$f":"MATCH(I84,Konie!$L$12:$L$13,0)","v":{"$error":"#N/A"}},null,null,null,0,1]
[null,null,null,null,null,null,null,null,null,null,null,null,null,0,"","-",null,null,0,{"$f":"IFERROR(MATCH(D85,Nr_stad!$U$8:$U$60,0),0)","v":0},0,{"$f":"IFERROR(MATCH(G85,Konie!$I$12:$I$13,0),0)","v":0},1,{"$f":"IF(J85=\"\",0,IF(W85=1,IF(J85=\"do 1,47\",Konie!$G$12,Konie!$G$13),0))","v":0},{"$f":"IF(W85=2,Konie!$G$14,0)","v":0},0,"",{"$f":"MATCH(I85,Konie!$L$12:$L$13,0)","v":{"$error":"#N/A"}},null,null,null,0,1]
[null,null,null,null,null,null,null,null,null,null,null,null,null,0,"","-",null,null,0,{"$f":"IFERROR(MATCH(D86,Nr_stad!$U$8:$U$60,0),0)","v":0},0,{"$f":"IFERROR(MATCH(G86,Konie!$I$12:$I$13,0),0)","v":0},1,{"$f":"IF(J86=\"\",0,IF(W86=1,IF(J86=\"do 1,47\",Konie!$G$12,Konie!$G$13),0))","v":0},{"$f":"IF(W86=2,Konie!$G$14,0)","v":0},0,"",{"$f":"MATCH(I86,Konie!$L$12:$L$13,0)","v":{"$error":"#N/A"}},null,null,null,0,1]
[null,null,null,null,null,null,null,null,null,null,null,null,null,0,"","-",null,null,0,{"$f":"IFERROR(MATCH(D87,Nr_stad!$U$8:$U$60,0),0)","v":0},0,{"$f":"IFERROR(MATCH(G87,Konie!$I$12:$I$13,0),0)","v":0},1,{"$f":"IF(J87=\"\",0,IF(W87=1,IF(J87=\"do 1,47\",Konie!$G$12,Konie!$G$13),0))","v":0},{"$f":"IF(W87=2,Konie!$G$14,0)","v":0},0,"",{"$f":"MATCH(I87,Konie!$L$12:$L$13,0)","v":{"$error":"#N/A"}},null,null,null,0,1]
[null,null,null,null,null,null,null,null,null,null,null,null,null,0,"","-",null,null,0,{"$f":"IFERROR(MATCH(D88,Nr_stad!$U$8:$U$60,0),0)","v":0},0,{"$f":"IFERROR(MATCH(G88,Konie!$I$12:$I$13,0),0)","v":0},1,{"$f":"IF(J88=\"\",0,IF(W88=1,IF(J88=\"do 1,47\",Konie!$G$12,Konie!$G$13),0))","v":0},{"$f":"IF(W88=2,Konie!$G$14,0)","v":0},0,"",{"$f":"MATCH(I88,Konie!$L$12:$L$13,0)","v":{"$error":"#N/A"}},null,null,null,0,1]
[null,null,null,null,null,null,null,null,null,null,null,null,null,0,"","-",null,null,0,{"$f":"IFERROR(MATCH(D89,Nr_stad!$U$8:$U$60,0),0)","v":0},0,{"$f":"IFERROR(MATCH(G89,Konie!$I$12:$I$13,0),0)","v":0},1,{"$f":"IF(J89=\"\",0,IF(W89=1,IF(J89=\"do 1,47\",Konie!$G$12,Konie!$G$13),0))","v":0},{"$f":"IF(W89=2,Konie!$G$14,0)","v":0},0,"",{"$f":"MATCH(I89,Konie!$L$12:$L$13,0)","v":{"$error":"#N/A"}},null,null,null,0,1]
[null,null,null,null,null,null,null,null,null,null,null,null,null,0,"","-",null,null,0,{"$f":"IFERROR(MATCH(D90,Nr_stad!$U$8:$U$60,0),0)","v":0},0,{"$f":"IFERROR(MATCH(G90,Konie!$I$12:$I$13,0),0)","v":0},1,{"$f":"IF(J90=\"\",0,IF(W90=1,IF(J90=\"do 1,47\",Konie!$G$12,Konie!$G$13),0))","v":0},{"$f":"IF(W90=2,Konie!$G$14,0)","v":0},0,"",{"$f":"MATCH(I90,Konie!$L$12:$L$13,0)","v":{"$error":"#N/A"}},null,null,null,0,1]
[null,null,null,null,null,null,null,null,null,null,null,null,null,{"$f":"IFERROR(L91*M91*K91,L91*M91)","v":0},{"$f":"IFERROR(IF(V91=1,Z91,AA91),\"-\")","v":""},{"$f":"IFERROR(IF(N91<O91,\"-\",IF(V91=1,K91,TRUNC(N91/O91))),\"-\")","v":"-"},null,null,{"$f":"IFERROR(O91*P91,0)","v":0},{"$f":"IFERROR(MATCH(D91,Nr_stad!$U$8:$U$60,0),0)","v":0},{"$f":"SUM(H91:P91)+T91","v":0},{"$f":"IFERROR(MATCH(G91,Konie!$I$12:$I$13,0),0)","v":0},1,{"$f":"IF(J91=\"\",0,IF(W91=1,IF(J91=\"do 1,47\",Konie!$G$12,Konie!$G$13),0))","v":0},{"$f":"IF(W91=2,Konie!$G$14,0)","v":0},{"$f":"MAX(X91:Y91)","v":0},{"$f":"IF(V91=2,12,\"\")","v":""},{"$f":"MATCH(I91,Konie!$L$12:$L$13,0)","v":{"$error":"#N/A"}},null,null,null,{"$f":"IFERROR(AB91,0)","v":0},{"$f":"MAX(W91,AF91)","v":1}]
[null,null,null,null,null,null,null,null,null,null,null,null,null,0,"","-",null,null,0,{"$f":"IFERROR(MATCH(D92,Nr_stad!$U$8:$U$60,0),0)","v":0},0,{"$f":"IFERROR(MATCH(G92,Konie!$I$12:$I$13,0),0)","v":0},1,{"$f":"IF(J92=\"\",0,IF(W92=1,IF(J92=\"do 1,47\",Konie!$G$12,Konie!$G$13),0))","v":0},{"$f":"IF(W92=2,Konie!$G$14,0)","v":0},0,"",{"$f":"MATCH(I92,Konie!$L$12:$L$13,0)","v":{"$error":"#N/A"}},null,null,null,0,1]
[null,null,null,null,null,null,null,null,null,null,null,null,null,0,"","-",null,null,0,{"$f":"IFERROR(MATCH(D93,Nr_stad!$U$8:$U$60,0),0)","v":0},0,{"$f":"IFERROR(MATCH(G93,Konie!$I$12:$I$13,0),0)","v":0},1,{"$f":"IF(J93=\"\",0,IF(W93=1,IF(J93=\"do 1,47\",Konie!$G$12,Konie!$G$13),0))","v":0},{"$f":"IF(W93=2,Konie!$G$14,0)","v":0},0,"",{"$f":"MATCH(I93,Konie!$L$12:$L$13,0)","v":{"$error":"#N/A"}},null,null,null,0,1]
[null,null,null,null,null,null,null,null,null,null,null,null,null,0,"","-",null,null,0,{"$f":"IFERROR(MATCH(D94,Nr_stad!$U$8:$U$60,0),0)","v":0},0,{"$f":"IFERROR(MATCH(G94,Konie!$I$12:$I$13,0),0)","v":0},1,{"$f":"IF(J94=\"\",0,IF(W94=1,IF(J94=\"do 1,47\",Konie!$G$12,Konie!$G$13),0))","v":0},{"$f":"IF(W94=2,Konie!$G$14,0)","v":0},0,"",{"$f":"MATCH(I94,Konie!$L$12:$L$13,0)","v":{"$error":"#N/A"}},null,null,null,0,1]
[null,null,null,null,null,null,null,null,null,null,null,null,null,0,"","-",null,null,0,{"$f":"IFERROR(MATCH(D95,Nr_stad!$U$8:$U$60,0),0)","v":0},0,{"$f":"IFERROR(MATCH(G95,Konie!$I$12:$I$13,0),0)","v":0},1,{"$f":"IF(J95=\"\",0,IF(W95=1,IF(J95=\"do 1,47\",Konie!$G$12,Konie!$G$13),0))","v":0},{"$f":"IF(W95=2,Konie!$G$14,0)","v":0},0,"",{"$f":"MATCH(I95,Konie!$L$12:$L$13,0)","v":{"$error":"#N/A"}},null,null,null,0,1]
[null,null,null,null,null,null,null,null,null,null,null,null,null,0,"","-",null,null,0,{"$f":"IFERROR(MATCH(D96,Nr_stad!$U$8:$U$60,0),0)","v":0},0,{"$f":"IFERROR(MATCH(G96,Konie!$I$12:$I$13,0),0)","v":0},1,{"$f":"IF(J96=\"\",0,IF(W96=1,IF(J96=\"do 1,47\",Konie!$G$12,Konie!$G$13),0))","v":0},{"$f":"IF(W96=2,Konie!$G$14,0)","v":0},0,"",{"$f":"MATCH(I96,Konie!$L$12:$L$13,0)","v":{"$error":"#N/A"}},null,null,null,0,1]
[null,null,null,null,null,null,null,null,null,null,null,null,null,0,"","-",null,null,0,{"$f":"IFERROR(MATCH(D97,Nr_stad!$U$8:$U$60,0),0)","v":0},0,{"$f":"IFERROR(MATCH(G97,Konie!$I$12:$I$13,0),0)","v":0},1,{"$f":"IF(J97=\"\",0,IF(W97=1,IF(J97=\"do 1,47\",Konie!$G$12,Konie!$G$13),0))","v":0},{"$f":"IF(W97=2,Konie!$G$14,0)","v":0},0,"",{"$f":"MATCH(I97,Konie!$L$12:$L$13,0)","v":{"$error":"#N/A"}},null,null,null,0,1]
[null,null,null,null,null,null,null,null,null,null,null,null,null,0,"","-",null,null,0,{"$f":"IFERROR(MATCH(D98,Nr_stad!$U$8:$U$60,0),0)","v":0},0,{"$f":"IFERROR(MATCH(G98,Konie!$I$12:$I$13,0),0)","v":0},1,{"$f":"IF(J98=\"\",0,IF(W98=1,IF(J98=\"do 1,47\",Konie!$G$12,Konie!$G$13),0))","v":0},{"$f":"IF(W98=2,Konie!$G$14,0)","v":0},0,"",{"$f":"MATCH(I98,Konie!$L$12:$L$13,0)","v":{"$error":"#N/A"}},null,null,null,0,1]
[null,null,null,null,null,null,null,null,null,null,null,null,null,0,"","-",null,null,0,{"$f":"IFERROR(MATCH(D99,Nr_stad!$U$8:$U$60,0),0)","v":0},0,{"$f":"IFERROR(MATCH(G99,Konie!$I$12:$I$13,0),0)","v":0},1,{"$f":"IF(J99=\"\",0,IF(W99=1,IF(J99=\"do 1,47\",Konie!$G$12,Konie!$G$13),0))","v":0},{"$f":"IF(W99=2,Konie!$G$14,0)","v":0},0,"",{"$f":"MATCH(I99,Konie!$L$12:$L$13,0)","v":{"$error":"#N/A"}},null,null,null,0,1]
[null,null,null,null,null,null,null,null,null,null,null,null,null,0,"","-",null,null,0,{"$f":"IFERROR(MATCH(D100,Nr_stad!$U$8:$U$60,0),0)","v":0},0,{"$f":"IFERROR(MATCH(G100,Konie!$I$12:$I$13,0),0)","v":0},1,{"$f":"IF(J100=\"\",0,IF(W100=1,IF(J100=\"do 1,47\",Konie!$G$12,Konie!$G$13),0))","v":0},{"$f":"IF(W100=2,Konie!$G$14,0)","v":0},0,"",{"$f":"MATCH(I100,Konie!$L$12:$L$13,0)","v":{"$error":"#N/A"}},null,null,null,0,1]
[null,null,null,null,null,null,null,null,null,null,null,null,null,0,"","-",null,null,0,{"$f":"IFERROR(MATCH(D101,Nr_stad!$U$8:$U$60,0),0)","v":0},0,{"$f":"IFERROR(MATCH(G101,Konie!$I$12:$I$13,0),0)","v":0},1,{"$f":"IF(J101=\"\",0,IF(W101=1,IF(J101=\"do 1,47\",Konie!$G$12,Konie!$G$13),0))","v":0},{"$f":"IF(W101=2,Konie!$G$14,0)","v":0},0,"",{"$f":"MATCH(I101,Konie!$L$12:$L$13,0)","v":{"$error":"#N/A"}},null,null,null,0,1]
[null,null,null,null,null,null,null,null,null,null,null,null,null,0,"","-",null,null,0,{"$f":"IFERROR(MATCH(D102,Nr_stad!$U$8:$U$60,0),0)","v":0},0,{"$f":"IFERROR(MATCH(G102,Konie!$I$12:$I$13,0),0)","v":0},1,{"$f":"IF(J102=\"\",0,IF(W102=1,IF(J102=\"do 1,47\",Konie!$G$12,Konie!$G$13),0))","v":0},{"$f":"IF(W102=2,Konie!$G$14,0)","v":0},0,"",{"$f":"MATCH(I102,Konie!$L$12:$L$13,0)","v":{"$error":"#N/A"}},null,null,null,0,1]
[null,null,null,null,null,null,null,null,null,null,null,null,null,0,"","-",null,null,0,{"$f":"IFERROR(MATCH(D103,Nr_stad!$U$8:$U$60,0),0)","v":0},0,{"$f":"IFERROR(MATCH(G103,Konie!$I$12:$I$13,0),0)","v":0},1,{"$f":"IF(J103=\"\",0,IF(W103=1,IF(J103=\"do 1,47\",Konie!$G$12,Konie!$G$13),0))","v":0},{"$f":"IF(W103=2,Konie!$G$14,0)","v":0},0,"",{"$f":"MATCH(I103,Konie!$L$12:$L$13,0)","v":{"$error":"#N/A"}},null,null,null,0,1]
[null,null,null,null,null,null,null,null,null,null,null,null,null,0,"","-",null,null,0,{"$f":"IFERROR(MATCH(D104,Nr_stad!$U$8:$U$60,0),0)","v":0},0,{"$f":"IFERROR(MATCH(G104,Konie!$I$12:$I$13,0),0)","v":0},1,{"$f":"IF(J104=\"\",0,IF(W104=1,IF(J104=\"do 1,47\",Konie!$G$12,Konie!$G$13),0))","v":0},{"$f":"IF(W104=2,Konie!$G$14,0)","v":0},0,"",{"$f":"MATCH(I104,Konie!$L$12:$L$13,0)","v":{"$error":"#N/A"}},null,null,null,0,1]
[null,null,null,null,null,null,null,null,null,null,null,null,null,0,"","-",null,null,0,{"$f":"IFERROR(MATCH(D105,Nr_stad!$U$8:$U$60,0),0)","v":0},0,{"$f":"IFERROR(MATCH(G105,Konie!$I$12:$I$13,0),0)","v":0},1,{"$f":"IF(J105=\"\",0,IF(W105=1,IF(J105=\"do 1,47\",Konie!$G$12,Konie!$G$13),0))","v":0},{"$f":"IF(W105=2,Konie!$G$14,0)","v":0},0,"",{"$f":"MATCH(I105,Konie!$L$12:$L$13,0)","v":{"$error":"#N/A"}},null,null,null,0,1]
[null,null,null,null,null,null,null,null,null,null,null,null,null,0,"","-",null,null,0,{"$f":"IFERROR(MATCH(D106,Nr_stad!$U$8:$U$60,0),0)","v":0},0,{"$f":"IFERROR(MATCH(G106,Konie!$I$12:$I$13,0),0)","v":0},1,{"$f":"IF(J106=\"\",0,IF(W106=1,IF(J106=\"do 1,47\",Konie!$G$12,Konie!$G$13),0))","v":0},{"$f":"IF(W106=2,Konie!$G$14,0)","v":0},0,"",{"$f":"MATCH(I106,Konie!$L$12:$L$13,0)","v":{"$error":"#N/A"}},null,null,null,0,1]
[null,null,null,null,null,null,null,null,null,null,null,null,null,0,"","-",null,null,0,{"$f":"IFERROR(MATCH(D107,Nr_stad!$U$8:$U$60,0),0)","v":0},0,{"$f":"IFERROR(MATCH(G107,Konie!$I$12:$I$13,0),0)","v":0},1,{"$f":"IF(J107=\"\",0,IF(W107=1,IF(J107=\"do 1,47\",Konie!$G$12,Konie!$G$13),0))","v":0},{"$f":"IF(W107=2,Konie!$G$14,0)","v":0},0,"",{"$f":"MATCH(I107,Konie!$L$12:$L$13,0)","v":{"$error":"#N/A"}},null,null,null,0,1]
[null,null,null,null,null,null,null,null,null,null,null,null,null,0,"","-",null,null,0,{"$f":"IFERROR(MATCH(D108,Nr_stad!$U$8:$U$60,0),0)","v":0},0,{"$f":"IFERROR(MATCH(G108,Konie!$I$12:$I$13,0),0)","v":0},1,{"$f":"IF(J108=\"\",0,IF(W108=1,IF(J108=\"do 1,47\",Konie!$G$12,Konie!$G$13),0))","v":0},{"$f":"IF(W108=2,Konie!$G$14,0)","v":0},0,"",{"$f":"MATCH(I108,Konie!$L$12:$L$13,0)","v":{"$error":"#N/A"}},null,null,null,0,1]
[null,null,null,null,null,null,null,null,null,null,null,null,null,0,"","-",null,null,0,{"$f":"IFERROR(MATCH(D109,Nr_stad!$U$8:$U$60,0),0)","v":0},0,{"$f":"IFERROR(MATCH(G109,Konie!$I$12:$I$13,0),0)","v":0},1,{"$f":"IF(J109=\"\",0,IF(W109=1,IF(J109=\"do 1,47\",Konie!$G$12,Konie!$G$13),0))","v":0},{"$f":"IF(W109=2,Konie!$G$14,0)","v":0},0,"",{"$f":"MATCH(I109,Konie!$L$12:$L$13,0)","v":{"$error":"#N/A"}},null,null,null,0,1]
[null,null,null,null,null,null,null,null,null,null,null,null,null,0,"","-",null,null,0,{"$f":"IFERROR(MATCH(D110,Nr_stad!$U$8:$U$60,0),0)","v":0},0,{"$f":"IFERROR(MATCH(G110,Konie!$I$12:$I$13,0),0)","v":0},1,{"$f":"IF(J110=\"\",0,IF(W110=1,IF(J110=\"do 1,47\",Konie!$G$12,Konie!$G$13),0))","v":0},{"$f":"IF(W110=2,Konie!$G$14,0)","v":0},0,"",{"$f":"MATCH(I110,Konie!$L$12:$L$13,0)","v":{"$error":"#N/A"}},null,null,null,0,1]
[null,null,null,null,null,null,null,null,null,null,null,null,null,0,"","-",null,null,0,{"$f":"IFERROR(MATCH(D111,Nr_stad!$U$8:$U$60,0),0)","v":0},0,{"$f":"IFERROR(MATCH(G111,Konie!$I$12:$I$13,0),0)","v":0},1,{"$f":"IF(J111=\"\",0,IF(W111=1,IF(J111=\"do 1,47\",Konie!$G$12,Konie!$G$13),0))","v":0},{"$f":"IF(W111=2,Konie!$G$14,0)","v":0},0,"",{"$f":"MATCH(I111,Konie!$L$12:$L$13,0)","v":{"$error":"#N/A"}},null,null,null,0,1]
[null,null,null,null,null,null,null,null,null,null,null,null,null,0,"","-",null,null,0,{"$f":"IFERROR(MATCH(D112,Nr_stad!$U$8:$U$60,0),0)","v":0},0,{"$f":"IFERROR(MATCH(G112,Konie!$I$12:$I$13,0),0)","v":0},1,{"$f":"IF(J112=\"\",0,IF(W112=1,IF(J112=\"do 1,47\",Konie!$G$12,Konie!$G$13),0))","v":0},{"$f":"IF(W112=2,Konie!$G$14,0)","v":0},0,"",{"$f":"MATCH(I112,Konie!$L$12:$L$13,0)","v":{"$error":"#N/A"}},null,null,null,0,1]
[null,null,null,null,null,null,null,null,null,null,null,null,null,0,"","-",null,null,0,{"$f":"IFERROR(MATCH(D113,Nr_stad!$U$8:$U$60,0),0)","v":0},0,{"$f":"IFERROR(MATCH(G113,Konie!$I$12:$I$13,0),0)","v":0},1,{"$f":"IF(J113=\"\",0,IF(W113=1,IF(J113=\"do 1,47\",Konie!$G$12,Konie!$G$13),0))","v":0},{"$f":"IF(W113=2,Konie!$G$14,0)","v":0},0,"",{"$f":"MATCH(I113,Konie!$L$12:$L$13,0)","v":{"$error":"#N/A"}},null,null,null,0,1]
[null,null,null,null,null,null,null,null,null,null,null,null,null,0,"","-",null,null,0,{"$f":"IFERROR(MATCH(D114,Nr_stad!$U$8:$U$60,0),0)","v":0},0,{"$f":"IFERROR(MATCH(G114,Konie!$I$12:$I$13,0),0)","v":0},1,{"$f":"IF(J114=\"\",0,IF(W114=1,IF(J114=\"do 1,47\",Konie!$G$12,Konie!$G$13),0))","v":0},{"$f":"IF(W114=2,Konie!$G$14,0)","v":0},0,"",{"$f":"MATCH(I114,Konie!$L$12:$L$13,0)","v":{"$error":"#N/A"}},null,null,null,0,1]
[null,null,null,null,null,null,null,null,null,null,null,null,null,0,"","-",null,null,0,{"$f":"IFERROR(MATCH(D115,Nr_stad!$U$8:$U$60,0),0)","v":0},0,{"$f":"IFERROR(MATCH(G115,Konie!$I$12:$I$13,0),0)","v":0},1,{"$f":"IF(J115=\"\",0,IF(W115=1,IF(J115=\"do 1,47\",Konie!$G$12,Konie!$G$13),0))","v":0},{"$f":"IF(W115=2,Konie!$G$14,0)","v":0},0,"",{"$f":"MATCH(I115,Konie!$L$12:$L$13,0)","v":{"$error":"#N/A"}},null,null,null,0,1]
[null,null,null,null,null,null,null,null,null,null,null,null,null,0,"","-",null,null,0,{"$f":"IFERROR(MATCH(D116,Nr_stad!$U$8:$U$60,0),0)","v":0},0,{"$f":"IFERROR(MATCH(G116,Konie!$I$12:$I$13,0),0)","v":0},1,{"$f":"IF(J116=\"\",0,IF(W116=1,IF(J116=\"do 1,47\",Konie!$G$12,Konie!$G$13),0))","v":0},{"$f":"IF(W116=2,Konie!$G$14,0)","v":0},0,"",{"$f":"MATCH(I116,Konie!$L$12:$L$13,0)","v":{"$error":"#N/A"}},null,null,null,0,1]
[null,null,null,null,null,null,null,null,null,"-","-",null,null,0,"","-",null,null,0,{"$f":"IFERROR(MATCH(D117,Nr_stad!$U$8:$U$60,0),0)","v":0},0,{"$f":"IFERROR(MATCH(G117,Konie!$I$12:$I$13,0),0)","v":0},1,{"$f":"IF(J117=\"\",0,IF(W117=1,IF(J117=\"do 1,47\",Konie!$G$12,Konie!$G$13),0))","v":10.8},{"$f":"IF(W117=2,Konie!$G$14,0)","v":0},10.8,"",{"$f":"MATCH(I117,Konie!$L$12:$L$13,0)","v":{"$error":"#N/A"}},null,null,null,0,1]
[null,null,null,null,null,null,null,null,null,null,null,null,null,0,"","-",null,null,0,{"$f":"IFERROR(MATCH(D118,Nr_stad!$U$8:$U$60,0),0)","v":0},0,{"$f":"IFERROR(MATCH(G118,Konie!$I$12:$I$13,0),0)","v":0},1,{"$f":"IF(J118=\"\",0,IF(W118=1,IF(J118=\"do 1,47\",Konie!$G$12,Konie!$G$13),0))","v":0},{"$f":"IF(W118=2,Konie!$G$14,0)","v":0},0,"",{"$f":"MATCH(I118,Konie!$L$12:$L$13,0)","v":{"$error":"#N/A"}},null,null,null,0,1]
[null,null,null,null,null,null,null,null,null,null,null,null,null,0,"","-",null,null,0,{"$f":"IFERROR(MATCH(D119,Nr_stad!$U$8:$U$60,0),0)","v":0},0,{"$f":"IFERROR(MATCH(G119,Konie!$I$12:$I$13,0),0)","v":0},1,{"$f":"IF(J119=\"\",0,IF(W119=1,IF(J119=\"do 1,47\",Konie!$G$12,Konie!$G$13),0))","v":0},{"$f":"IF(W119=2,Konie!$G$14,0)","v":0},0,"",{"$f":"MATCH(I119,Konie!$L$12:$L$13,0)","v":{"$error":"#N/A"}},null,null,null,0,1]
[null,null,null,null,null,null,null,null,null,null,null,null,null,0,"","-",null,null,0,{"$f":"IFERROR(MATCH(D120,Nr_stad!$U$8:$U$60,0),0)","v":0},0,{"$f":"IFERROR(MATCH(G120,Konie!$I$12:$I$13,0),0)","v":0},1,{"$f":"IF(J120=\"\",0,IF(W120=1,IF(J120=\"do 1,47\",Konie!$G$12,Konie!$G$13),0))","v":0},{"$f":"IF(W120=2,Konie!$G$14,0)","v":0},0,"",{"$f":"MATCH(I120,Konie!$L$12:$L$13,0)","v":{"$error":"#N/A"}},null,null,null,0,1]
[null,null,null,null,null,null,null,null,null,null,null,null,null,0,"","-",null,null,0,{"$f":"IFERROR(MATCH(D121,Nr_stad!$U$8:$U$60,0),0)","v":0},0,{"$f":"IFERROR(MATCH(G121,Konie!$I$12:$I$13,0),0)","v":0},1,{"$f":"IF(J121=\"\",0,IF(W121=1,IF(J121=\"do 1,47\",Konie!$G$12,Konie!$G$13),0))","v":0},{"$f":"IF(W121=2,Konie!$G$14,0)","v":0},0,"",{"$f":"MATCH(I121,Konie!$L$12:$L$13,0)","v":{"$error":"#N/A"}},null,null,null,0,1]
[null,null,null,null,null,null,null,null,null,null,null,null,null,0,"","-",null,null,0,{"$f":"IFERROR(MATCH(D122,Nr_stad!$U$8:$U$60,0),0)","v":0},0,{"$f":"IFERROR(MATCH(G122,Konie!$I$12:$I$13,0),0)","v":0},1,{"$f":"IF(J122=\"\",0,IF(W122=1,IF(J122=\"do 1,47\",Konie!$G$12,Konie!$G$13),0))","v":0},{"$f":"IF(W122=2,Konie!$G$14,0)","v":0},0,"",{"$f":"MATCH(I122,Konie!$L$12:$L$13,0)","v":{"$error":"#N/A"}},null,null,null,0,1]
[null,null,null,null,null,null,null,null,null,null,null,null,null,0,"","-",null,null,0,{"$f":"IFERROR(MATCH(D123,Nr_stad!$U$8:$U$60,0),0)","v":0},0,{"$f":"IFERROR(MATCH(G123,Konie!$I$12:$I$13,0),0)","v":0},1,{"$f":"IF(J123=\"\",0,IF(W123=1,IF(J123=\"do 1,47\",Konie!$G$12,Konie!$G$13),0))","v":0},{"$f":"IF(W123=2,Konie!$G$14,0)","v":0},0,"",{"$f":"MATCH(I123,Konie!$L$12:$L$13,0)","v":{"$error":"#N/A"}},null,null,null,0,1]
[null,null,null,null,null,null,null,null,null,null,null,null,null,0,"","-",null,null,0,{"$f":"IFERROR(MATCH(D124,Nr_stad!$U$8:$U$60,0),0)","v":0},0,{"$f":"IFERROR(MATCH(G124,Konie!$I$12:$I$13,0),0)","v":0},1,{"$f":"IF(J124=\"\",0,IF(W124=1,IF(J124=\"do 1,47\",Konie!$G$12,Konie!$G$13),0))","v":0},{"$f":"IF(W124=2,Konie!$G$14,0)","v":0},0,"",{"$f":"MATCH(I124,Konie!$L$12:$L$13,0)","v":{"$error":"#N/A"}},null,null,null,0,1]
[null,null,null,null,null,null,null,null,null,null,null,null,null,0,"","-",null,null,0,{"$f":"IFERROR(MATCH(D125,Nr_stad!$U$8:$U$60,0),0)","v":0},0,{"$f":"IFERROR(MATCH(G125,Konie!$I$12:$I$13,0),0)","v":0},1,{"$f":"IF(J125=\"\",0,IF(W125=1,IF(J125=\"do 1,47\",Konie!$G$12,Konie!$G$13),0))","v":0},{"$f":"IF(W125=2,Konie!$G$14,0)","v":0},0,"",{"$f":"MATCH(I125,Konie!$L$12:$L$13,0)","v":{"$error":"#N/A"}},null,null,null,0,1]
[null,null,null,"POWIERZCHNIA BYTOWA RAZEM:",null,null,null,null,null,null,null,null,null,{"$f":"SUM(N26:N125)","v":0},"","-",null,null,0,{"$f":"IFERROR(MATCH(D126,Nr_stad!$U$8:$U$60,0),0)","v":0},10,{"$f":"IFERROR(MATCH(G126,Konie!$I$12:$I$13,0),0)","v":0},1,{"$f":"IF(J126=\"\",0,IF(W126=1,IF(J126=\"do 1,47\",Konie!$G$12,Konie!$G$13),0))","v":0},{"$f":"IF(W126=2,Konie!$G$14,0)","v":0},0,"",{"$f":"MATCH(I126,Konie!$L$12:$L$13,0)","v":{"$error":"#N/A"}},null,null,null,0,1]
[null,null,null,"Wielkości (w m2) posiadanych powierzchni bytowych w pomieszczeniach/budynkach dotyczą łącznie wnioskodawcy i wskazanych innych posiadaczy",null,null,null,null,null,"NIE",null,null,null,"SUMA LICZBY KONI:",null,{"$f":"SUM(P26:P126)","v":0},null,null,{"$f":"SUM(S26:S126)","v":0},null,null,null,null,null,null,null,null,null,null,{"$f":"SUMIF(AG26:AG127,1,P26:P126)","v":0},{"$f":"SUMIF(AG26:AG127,2,P26:P126)","v":0}]
[]
[]
[null,null,null,null,null,null,null,null,null,null,null,null,null,null,null,{"$f":"IFERROR(TRUNC(U95+U125),\"\")","v":0}]

{"sheet":"Kozy_info","index":41,"n_rows":16,"n_cols":42,"rows_kept":16,"cut":false,"hidden":false,"merged":[[15,2,15,3],[15,5,15,6],[12,3,12,8],[0,7,0,10],[3,2,3,9],[5,3,5,8],[10,4,10,8],[7,3,7,8],[8,3,8,8],[9,3,9,8],[4,3,4,8],[6,3,6,6],[11,3,11,8],[13,3,13,7],[15,7,15,8]]}
[null,null,null,null,null,null,null,"POWRÓT",null,null,null,null,null,null,null,null,null,null,null,null,null,null,null,null,null,null,null,null,null,null,null,null,null,null,null,null,null,null,null,null,null,"UWAGI"]
[null,null,"Przejdź do:",{"$f":"IF(Nr_stad!$E$60>=1,\"I siedziby stada\",\"\")","v":""},{"$f":"IF(Nr_stad!$E$60>=2,\"II siedziby stada\",\"\")","v":""},{"$f":"IF(Nr_stad!$E$60>=3,\"III siedziby stada\",\"\")","v":""}]
[]
[null,null,"II. Część szczegółowa  "]
[null,null,"II.13.","Dobrostan kóz"]
[null,null,"II.13.1.","Informacja o stadzie kóz\nSystem utrzymywania kóz w gospodarstwie jest zgodny z klasyfikacją przyjętą w rozporządzeniu Ministra Rolnictwa i Rozwoju Wsi z dnia 23 grudnia 2022 r. w sprawie szczegółowego zakresu informacji zawartych w komputerowej bazie danych (Dz.U. z 2023 r. poz. 15)."]
[null,null,"II.13.2.","W ramach dobrostanu kóz:"]
[null,null,{"$f":"IF(S8=TRUE,T8,U8)","v":"☐"},"utrzymywanie bez uwięzi",null,null,null,null,null,null,null,null,null,null,null,null,null,null,false,"☒","☐"]
[null,null,{"$f":"IF(S9=TRUE,T9,U9)","v":"☐"},"dostęp do wybiegu przez cały rok - o powierzchni zwiększonej co najmniej o 20%,",null,null,null,null,null,null,null,null,null,null,null,null,null,null,false,"☒","☐"]
[null,null,{"$f":"IF(S10=TRUE,T10,U10)","v":"☐"},"wypas przez co najmniej 120 dni w sezonie pastwiskowym ",null,null,null,null,null,null,null,null,null,null,null,null,null,null,false,"☒","☐"]
[null,null,null,{"$f":"IF(S11=TRUE,$T$11,$U$11)","v":"☒"},"Do planu poprawy dobrostanu zwierząt dołączono szkic/e obiektów ze wskazanymi powierzchniami i wybiegami, na których utrzymywane są kozy objęte podwyższonymi wymogami, jeśli dotyczy, kilku  posiadaczy wraz ze wskazanymi sekcjami w których utrzymywane są kozy",null,null,null,null,null,null,null,null,null,null,null,null,null,true,"☒","☐"]
[null,null,"II.13.3.","Informacja o sposobie realizacji wymogu polegającego na wypasaniu (pastwiska) kóz lub zapewnienia tym zwierzętom dostępu do zewnętrznych powierzchni bytowych (okólników lub wybiegów) przez co najmniej 120 dni w sezonie pastwiskowym"]
[]
[null,null,null,"Wielkości (w m2) posiadanych zewnętrznych powierzchni bytowych dotyczą łącznie wnioskodawcy i wskazanych innych posiadaczy",null,null,null,null,"NIE"]
[null,null,null,null,null,null,null,null,null,null,null,null,null,null,null,null,null,"NIE"]
[null,null,"(miejscowość i data)",null,null,"(czytelny podpis rolnika)",null,"(czytelny podpis doradcy)",null,null,null,null,null,null,null,null,null,"TAK"]

{"sheet":"Kozy_pow (1)","index":42,"n_rows":56,"n_cols":38,"rows_kept":56,"cut":false,"hidden":false,"merged":[[51,6,51,7],[52,6,52,7],[53,6,53,7],[49,10,49,11],[50,10,50,11],[51,10,51,11],[52,10,52,11],[49,8,49,9],[50,8,50,9],[51,8,51,9],[52,8,52,9],[51,5,52,5],[53,3,53,5],[7,3,7,4],[7,5,7,6],[49,6,49,7],[50,6,50,7],[49,3,50,4],[48,3,48,6],[9,3,9,8],[10,3,10,8],[11,3,11,8],[13,3,13,8],[14,4,16,4],[14,6,14,8],[51,3,51,4],[52,3,52,4],[0,10,0,11],[1,2,1,3],[3,2,3,12],[5,3,5,11],[4,3,4,5],[54,3,54,5],[12,3,12,8],[12,9,12,11],[46,8,46,10],[46,3,46,5],[45,3,45,7],[47,9,47,11],[14,3,16,3],[14,9,15,9],[14,10,15,10],[14,11,15,11],[15,5,16,5],[15,6,16,6],[17,4,17,11],[53,8,53,9],[53,10,53,11]]}
[null,null,null,null,null,null,null,null,null,null,"POWRÓT",null,null,null,null,null,null,null,null,null,null,null,null,null,null,null,null,null,null,null,null,null,null,null,null,null,null,"UWAGI"]
[]
[]
[null,null,"II. Część szczegółowa  "]
[null,null,"II.13."," Dobrostan kóz"]
[null,null,"II.13.4.1","Dopuszczalna maksymalna liczba sztuk kóz, które mogą przebywać jednocześnie w obiektach z uwzględnieniem  wymogów Dobrostan kóz"]
[]
[null,null,null,"1) Numer siedziby stada:"]
[]
[null,null,null,"Powierzchnia bytowa przeznaczona dla kóz w pomieszczeniach w gospodarstwie rolnym",null,null,null,null,null,null,"m2"]
[null,null,null,"Informacja w jakim wieku odsadzane są koźlęta",null,null,null,null,null,null,"dni",null,null,null,null,null,null,null,null,null,null,null,null,null,null,null,null,null,null,null,null,null,null,null,null,null,null,"Uzgodnienia z MRiRW w dniu 14.03.23"]
[null,null,null,"Plenność kóz (stosunek liczby urodzonych koźląt do liczby kóz - matek"]
[null,null,null,"Termin wykorzystania posiadanych zewnętrznych powierzchni bytowych"]
[null,null,null,"Powierzchnia bytowa w obiekcie dla wszystkich utrzymywanych w siedzibie stada zwierząt z gatunku koza domowa  od dnia złożenia wniosku do dnia 14 marca kolejnego roku. "]
[null,null,null,"Sposób utrzymywania","Grupa zwierząt","Obiekt","Utrzymywanie grupowe / pojedyncze spełniające wymóg minimalnych powierzchni",null,null," Minimalna powierzch-\nnia  na  kojec  / kojce","Powierz-\nchnia mini-\nmalna na kozę","Maksy-\nmalna liczba kóz"]
[null,null,null,null,null,"Nazwa(y) lub nr kojca/kojcy","Liczba zwierząt lub kojcy pojedyn-\nczych","Powierzchnia na sztukę utrz. grupowo lub kojca pojedynczego","Powie-\nrzchnia",null,null,null,null,null,null,null,null,null,null,null,null,"ukryj","grupa","sposób","Norma","+kozle","M+12","S"]
[null,null,null,null,null,null,null,"m2/szt.\n(kojec)","m2","m2","m2/szt","szt",null,null,null,null,null,null,null,null,null,null,"kat","utrz","norma"]
[null,null,null,null,{"$f":"IF(J46>J10,\"ZA MAŁA POWIERZCHNIA OBIEKTU !\",\"\")","v":""}]
[null,null,null,null,null,null,null,null,{"$f":"G19*H19","v":0},{"$f":"IFERROR(K19*L19,\"-\")","v":"-"},{"$f":"IFERROR(Z19+Y19,\"-\")","v":"-"},{"$f":"IFERROR(IF(H19<K19,\"-\",IF(X19=0,G19,TRUNC(I19/K19))),\"-\")","v":"-"},null,null,null,null,null,null,null,null,null,{"$f":"COUNTA(D19:H19)","v":0},{"$f":"MATCH(E19,Kozy_N!$K$5:$K$9,0)","v":{"$error":"#N/A"}},{"$f":"MATCH(D19,Kozy_N!$C$4:$D$4,0)","v":{"$error":"#N/A"}},{"$f":"OFFSET(Kozy_N!$D$4,W19,0)","v":{"$error":"#N/A"}},{"$f":"IF(W19=3,Kozy_N!$D$10,0)*(IF($J$12-1<0,0,$J$12-1))","v":{"$error":"#N/A"}},{"$f":"OFFSET(Kozy_N!$J$4,W19,0)","v":{"$error":"#N/A"}}]
[null,null,null,null,null,null,null,null,{"$f":"G20*H20","v":0},{"$f":"IFERROR(K20*L20,\"-\")","v":"-"},{"$f":"IFERROR(Z20+Y20,\"-\")","v":"-"},{"$f":"IFERROR(IF(H20<K20,\"-\",IF(X20=0,G20,TRUNC(I20/K20))),\"-\")","v":"-"},null,null,null,null,null,null,null,null,null,{"$f":"COUNTA(D20:H20)","v":0},{"$f":"MATCH(E20,Kozy_N!$K$5:$K$9,0)","v":{"$error":"#N/A"}},{"$f":"MATCH(D20,Kozy_N!$C$4:$D$4,0)","v":{"$error":"#N/A"}},{"$f":"OFFSET(Kozy_N!$D$4,W20,0)","v":{"$error":"#N/A"}},{"$f":"IF(W20=3,Kozy_N!$D$10,0)*(IF($J$12-1<0,0,$J$12-1))","v":{"$error":"#N/A"}},{"$f":"OFFSET(Kozy_N!$J$4,W20,0)","v":{"$error":"#N/A"}}]
[null,null,null,null,null,null,null,null,{"$f":"G21*H21","v":0},{"$f":"IFERROR(K21*L21,\"-\")","v":"-"},{"$f":"IFERROR(Z21+Y21,\"-\")","v":"-"},{"$f":"IFERROR(IF(H21<K21,\"-\",IF(X21=0,G21,TRUNC(I21/K21))),\"-\")","v":"-"},null,null,null,null,null,null,null,null,null,0,{"$f":"MATCH(E21,Kozy_N!$K$5:$K$9,0)","v":{"$error":"#N/A"}},{"$f":"MATCH(D21,Kozy_N!$C$4:$D$4,0)","v":{"$error":"#N/A"}},{"$f":"OFFSET(Kozy_N!$D$4,W21,0)","v":{"$error":"#N/A"}},{"$f":"IF(W21=3,Kozy_N!$D$10,0)*(IF($J$12-1<0,0,$J$12-1))","v":{"$error":"#N/A"}},{"$f":"OFFSET(Kozy_N!$J$4,W21,0)","v":{"$error":"#N/A"}}]
[null,null,null,null,null,null,null,null,0,"-","-","-",null,null,null,null,null,null,null,null,null,0,{"$f":"MATCH(E22,Kozy_N!$K$5:$K$9,0)","v":{"$error":"#N/A"}},{"$f":"MATCH(D22,Kozy_N!$C$4:$D$4,0)","v":{"$error":"#N/A"}},{"$f":"OFFSET(Kozy_N!$D$4,W22,0)","v":{"$error":"#N/A"}},{"$f":"IF(W22=3,Kozy_N!$D$10,0)*(IF($J$12-1<0,0,$J$12-1))","v":{"$error":"#N/A"}},{"$f":"OFFSET(Kozy_N!$J$4,W22,0)","v":{"$error":"#N/A"}}]
[null,null,null,null,null,null,null,null,0,"-","-","-",null,null,null,null,null,null,null,null,null,0,{"$f":"MATCH(E23,Kozy_N!$K$5:$K$9,0)","v":{"$error":"#N/A"}},{"$f":"MATCH(D23,Kozy_N!$C$4:$D$4,0)","v":{"$error":"#N/A"}},{"$f":"OFFSET(Kozy_N!$D$4,W23,0)","v":{"$error":"#N/A"}},{"$f":"IF(W23=3,Kozy_N!$D$10,0)*(IF($J$12-1<0,0,$J$12-1))","v":{"$error":"#N/A"}},{"$f":"OFFSET(Kozy_N!$J$4,W23,0)","v":{"$error":"#N/A"}}]
[null,null,null,null,null,null,null,null,0,"-","-","-",null,null,null,null,null,null,null,null,null,0,{"$f":"MATCH(E24,Kozy_N!$K$5:$K$9,0)","v":{"$error":"#N/A"}},{"$f":"MATCH(D24,Kozy_N!$C$4:$D$4,0)","v":{"$error":"#N/A"}},{"$f":"OFFSET(Kozy_N!$D$4,W24,0)","v":{"$error":"#N/A"}},{"$f":"IF(W24=3,Kozy_N!$D$10,0)*(IF($J$12-1<0,0,$J$12-1))","v":{"$error":"#N/A"}},{"$f":"OFFSET(Kozy_N!$J$4,W24,0)","v":{"$error":"#N/A"}}]
[null,null,null,null,null,null,null,null,0,"-","-","-",null,null,null,null,null,null,null,null,null,0,{"$f":"MATCH(E25,Kozy_N!$K$5:$K$9,0)","v":{"$error":"#N/A"}},{"$f":"MATCH(D25,Kozy_N!$C$4:$D$4,0)","v":{"$error":"#N/A"}},{"$f":"OFFSET(Kozy_N!$D$4,W25,0)","v":{"$error":"#N/A"}},{"$f":"IF(W25=3,Kozy_N!$D$10,0)*(IF($J$12-1<0,0,$J$12-1))","v":{"$error":"#N/A"}},{"$f":"OFFSET(Kozy_N!$J$4,W25,0)","v":{"$error":"#N/A"}}]
[null,null,null,null,null,null,null,null,0,"-","-","-",null,null,null,null,null,null,null,null,null,0,{"$f":"MATCH(E26,Kozy_N!$K$5:$K$9,0)","v":{"$error":"#N/A"}},{"$f":"MATCH(D26,Kozy_N!$C$4:$D$4,0)","v":{"$error":"#N/A"}},{"$f":"OFFSET(Kozy_N!$D$4,W26,0)","v":{"$error":"#N/A"}},{"$f":"IF(W26=3,Kozy_N!$D$10,0)*(IF($J$12-1<0,0,$J$12-1))","v":{"$error":"#N/A"}},{"$f":"OFFSET(Kozy_N!$J$4,W26,0)","v":{"$error":"#N/A"}}]
[null,null,null,null,null,null,null,null,0,"-","-","-",null,null,null,null,null,null,null,null,null,0,{"$f":"MATCH(E27,Kozy_N!$K$5:$K$9,0)","v":{"$error":"#N/A"}},{"$f":"MATCH(D27,Kozy_N!$C$4:$D$4,0)","v":{"$error":"#N/A"}},{"$f":"OFFSET(Kozy_N!$D$4,W27,0)","v":{"$error":"#N/A"}},{"$f":"IF(W27=3,Kozy_N!$D$10,0)*(IF($J$12-1<0,0,$J$12-1))","v":{"$error":"#N/A"}},{"$f":"OFFSET(Kozy_N!$J$4,W27,0)","v":{"$error":"#N/A"}}]
[null,null,null,null,null,null,null,null,0,"-","-","-",null,null,null,null,null,null,null,null,null,0,{"$f":"MATCH(E28,Kozy_N!$K$5:$K$9,0)","v":{"$error":"#N/A"}},{"$f":"MATCH(D28,Kozy_N!$C$4:$D$4,0)","v":{"$error":"#N/A"}},{"$f":"OFFSET(Kozy_N!$D$4,W28,0)","v":{"$error":"#N/A"}},{"$f":"IF(W28=3,Kozy_N!$D$10,0)*(IF($J$12-1<0,0,$J$12-1))","v":{"$error":"#N/A"}},{"$f":"OFFSET(Kozy_N!$J$4,W28,0)","v":{"$error":"#N/A"}}]
[null,null,null,null,null,null,null,null,0,"-","-","-",null,null,null,null,null,null,null,null,null,0,{"$f":"MATCH(E29,Kozy_N!$K$5:$K$9,0)","v":{"$error":"#N/A"}},{"$f":"MATCH(D29,Kozy_N!$C$4:$D$4,0)","v":{"$error":"#N/A"}},{"$f":"OFFSET(Kozy_N!$D$4,W29,0)","v":{"$error":"#N/A"}},{"$f":"IF(W29=3,Kozy_N!$D$10,0)*(IF($J$12-1<0,0,$J$12-1))","v":{"$error":"#N/A"}},{"$f":"OFFSET(Kozy_N!$J$4,W29,0)","v":{"$error":"#N/A"}}]
[null,null,null,null,null,null,null,null,0,"-","-","-",null,null,null,null,null,null,null,null,null,0,{"$f":"MATCH(E30,Kozy_N!$K$5:$K$9,0)","v":{"$error":"#N/A"}},{"$f":"MATCH(D30,Kozy_N!$C$4:$D$4,0)","v":{"$error":"#N/A"}},{"$f":"OFFSET(Kozy_N!$D$4,W30,0)","v":{"$error":"#N/A"}},{"$f":"IF(W30=3,Kozy_N!$D$10,0)*(IF($J$12-1<0,0,$J$12-1))","v":{"$error":"#N/A"}},{"$f":"OFFSET(Kozy_N!$J$4,W30,0)","v":{"$error":"#N/A"}}]
[null,null,null,null,null,null,null,null,0,"-","-","-",null,null,null,null,null,null,null,null,null,0,{"$f":"MATCH(E31,Kozy_N!$K$5:$K$9,0)","v":{"$error":"#N/A"}},{"$f":"MATCH(D31,Kozy_N!$C$4:$D$4,0)","v":{"$error":"#N/A"}},{"$f":"OFFSET(Kozy_N!$D$4,W31,0)","v":{"$error":"#N/A"}},{"$f":"IF(W31=3,Kozy_N!$D$10,0)*(IF($J$12-1<0,0,$J$12-1))","v":{"$error":"#N/A"}},{"$f":"OFFSET(Kozy_N!$J$4,W31,0)","v":{"$error":"#N/A"}}]
[null,null,null,null,null,null,null,null,0,"-","-","-",null,null,null,null,null,null,null,null,null,0,{"$f":"MATCH(E32,Kozy_N!$K$5:$K$9,0)","v":{"$error":"#N/A"}},{"$f":"MATCH(D32,Kozy_N!$C$4:$D$4,0)","v":{"$error":"#N/A"}},{"$f":"OFFSET(Kozy_N!$D$4,W32,0)","v":{"$error":"#N/A"}},{"$f":"IF(W32=3,Kozy_N!$D$10,0)*(IF($J$12-1<0,0,$J$12-1))","v":{"$error":"#N/A"}},{"$f":"OFFSET(Kozy_N!$J$4,W32,0)","v":{"$error":"#N/A"}}]
[null,null,null,null,null,null,null,null,0,"-","-","-",null,null,null,null,null,null,null,null,null,0,{"$f":"MATCH(E33,Kozy_N!$K$5:$K$9,0)","v":{"$error":"#N/A"}},{"$f":"MATCH(D33,Kozy_N!$C$4:$D$4,0)","v":{"$error":"#N/A"}},{"$f":"OFFSET(Kozy_N!$D$4,W33,0)","v":{"$error":"#N/A"}},{"$f":"IF(W33=3,Kozy_N!$D$10,0)*(IF($J$12-1<0,0,$J$12-1))","v":{"$error":"#N/A"}},{"$f":"OFFSET(Kozy_N!$J$4,W33,0)","v":{"$error":"#N/A"}}]
[null,null,null,null,null,null,null,null,0,"-","-","-",null,null,null,null,null,null,null,null,null,0,{"$f":"MATCH(E34,Kozy_N!$K$5:$K$9,0)","v":{"$error":"#N/A"}},{"$f":"MATCH(D34,Kozy_N!$C$4:$D$4,0)","v":{"$error":"#N/A"}},{"$f":"OFFSET(Kozy_N!$D$4,W34,0)","v":{"$error":"#N/A"}},{"$f":"IF(W34=3,Kozy_N!$D$10,0)*(IF($J$12-1<0,0,$J$12-1))","v":{"$error":"#N/A"}},{"$f":"OFFSET(Kozy_N!$J$4,W34,0)","v":{"$error":"#N/A"}}]
[null,null,null,null,null,null,null,null,0,"-","-","-",null,null,null,null,null,null,null,null,null,0,{"$f":"MATCH(E35,Kozy_N!$K$5:$K$9,0)","v":{"$error":"#N/A"}},{"$f":"MATCH(D35,Kozy_N!$C$4:$D$4,0)","v":{"$error":"#N/A"}},{"$f":"OFFSET(Kozy_N!$D$4,W35,0)","v":{"$error":"#N/A"}},{"$f":"IF(W35=3,Kozy_N!$D$10,0)*(IF($J$12-1<0,0,$J$12-1))","v":{"$error":"#N/A"}},{"$f":"OFFSET(Kozy_N!$J$4,W35,0)","v":{"$error":"#N/A"}}]
[null,null,null,null,null,null,null,null,0,"-","-","-",null,null,null,null,null,null,null,null,null,0,{"$f":"MATCH(E36,Kozy_N!$K$5:$K$9,0)","v":{"$error":"#N/A"}},{"$f":"MATCH(D36,Kozy_N!$C$4:$D$4,0)","v":{"$error":"#N/A"}},{"$f":"OFFSET(Kozy_N!$D$4,W36,0)","v":{"$error":"#N/A"}},{"$f":"IF(W36=3,Kozy_N!$D$10,0)*(IF($J$12-1<0,0,$J$12-1))","v":{"$error":"#N/A"}},{"$f":"OFFSET(Kozy_N!$J$4,W36,0)","v":{"$error":"#N/A"}}]
[null,null,null,null,null,null,null,null,0,"-","-","-",null,null,null,null,null,null,null,null,null,0,{"$f":"MATCH(E37,Kozy_N!$K$5:$K$9,0)","v":{"$error":"#N/A"}},{"$f":"MATCH(D37,Kozy_N!$C$4:$D$4,0)","v":{"$error":"#N/A"}},{"$f":"OFFSET(Kozy_N!$D$4,W37,0)","v":{"$error":"#N/A"}},{"$f":"IF(W37=3,Kozy_N!$D$10,0)*(IF($J$12-1<0,0,$J$12-1))","v":{"$error":"#N/A"}},{"$f":"OFFSET(Kozy_N!$J$4,W37,0)","v":{"$error":"#N/A"}}]
[null,null,null,null,null,null,null,null,0,"-","-","-",null,null,null,null,null,null,null,null,null,0,{"$f":"MATCH(E38,Kozy_N!$K$5:$K$9,0)","v":{"$error":"#N/A"}},{"$f":"MATCH(D38,Kozy_N!$C$4:$D$4,0)","v":{"$error":"#N/A"}},{"$f":"OFFSET(Kozy_N!$D$4,W38,0)","v":{"$error":"#N/A"}},{"$f":"IF(W38=3,Kozy_N!$D$10,0)*(IF($J$12-1<0,0,$J$12-1))","v":{"$error":"#N/A"}},{"$f":"OFFSET(Kozy_N!$J$4,W38,0)","v":{"$error":"#N/A"}}]
[null,null,null,null,null,null,null,null,0,"-","-","-",null,null,null,null,null,null,null,null,null,0,{"$f":"MATCH(E39,Kozy_N!$K$5:$K$9,0)","v":{"$error":"#N/A"}},{"$f":"MATCH(D39,Kozy_N!$C$4:$D$4,0)","v":{"$error":"#N/A"}},{"$f":"OFFSET(Kozy_N!$D$4,W39,0)","v":{"$error":"#N/A"}},{"$f":"IF(W39=3,Kozy_N!$D$10,0)*(IF($J$12-1<0,0,$J$12-1))","v":{"$error":"#N/A"}},{"$f":"OFFSET(Kozy_N!$J$4,W39,0)","v":{"$error":"#N/A"}}]
[null,null,null,null,null,null,null,null,0,"-","-","-",null,null,null,null,null,null,null,null,null,0,{"$f":"MATCH(E40,Kozy_N!$K$5:$K$9,0)","v":{"$error":"#N/A"}},{"$f":"MATCH(D40,Kozy_N!$C$4:$D$4,0)","v":{"$error":"#N/A"}},{"$f":"OFFSET(Kozy_N!$D$4,W40,0)","v":{"$error":"#N/A"}},{"$f":"IF(W40=3,Kozy_N!$D$10,0)*(IF($J$12-1<0,0,$J$12-1))","v":{"$error":"#N/A"}},{"$f":"OFFSET(Kozy_N!$J$4,W40,0)","v":{"$error":"#N/A"}}]
[null,null,null,null,null,null,null,null,0,"-","-","-",null,null,null,null,null,null,null,null,null,0,{"$f":"MATCH(E41,Kozy_N!$K$5:$K$9,0)","v":{"$error":"#N/A"}},{"$f":"MATCH(D41,Kozy_N!$C$4:$D$4,0)","v":{"$error":"#N/A"}},{"$f":"OFFSET(Kozy_N!$D$4,W41,0)","v":{"$error":"#N/A"}},{"$f":"IF(W41=3,Kozy_N!$D$10,0)*(IF($J$12-1<0,0,$J$12-1))","v":{"$error":"#N/A"}},{"$f":"OFFSET(Kozy_N!$J$4,W41,0)","v":{"$error":"#N/A"}}]
[null,null,null,null,null,null,null,null,0,"-","-","-",null,null,null,null,null,null,null,null,null,0,{"$f":"MATCH(E42,Kozy_N!$K$5:$K$9,0)","v":{"$error":"#N/A"}},{"$f":"MATCH(D42,Kozy_N!$C$4:$D$4,0)","v":{"$error":"#N/A"}},{"$f":"OFFSET(Kozy_N!$D$4,W42,0)","v":{"$error":"#N/A"}},{"$f":"IF(W42=3,Kozy_N!$D$10,0)*(IF($J$12-1<0,0,$J$12-1))","v":{"$error":"#N/A"}},{"$f":"OFFSET(Kozy_N!$J$4,W42,0)","v":{"$error":"#N/A"}}]
[null,null,null,null,null,null,null,null,0,"-","-","-",null,null,null,null,null,null,null,null,null,0,{"$f":"MATCH(E43,Kozy_N!$K$5:$K$9,0)","v":{"$error":"#N/A"}},{"$f":"MATCH(D43,Kozy_N!$C$4:$D$4,0)","v":{"$error":"#N/A"}},{"$f":"OFFSET(Kozy_N!$D$4,W43,0)","v":{"$error":"#N/A"}},{"$f":"IF(W43=3,Kozy_N!$D$10,0)*(IF($J$12-1<0,0,$J$12-1))","v":{"$error":"#N/A"}},{"$f":"OFFSET(Kozy_N!$J$4,W43,0)","v":{"$error":"#N/A"}}]
[null,null,null,null,null,null,null,null,0,"-","-","-",null,null,null,null,null,null,null,null,null,0,{"$f":"MATCH(E44,Kozy_N!$K$5:$K$9,0)","v":{"$error":"#N/A"}},{"$f":"MATCH(D44,Kozy_N!$C$4:$D$4,0)","v":{"$error":"#N/A"}},{"$f":"OFFSET(Kozy_N!$D$4,W44,0)","v":{"$error":"#N/A"}},{"$f":"IF(W44=3,Kozy_N!$D$10,0)*(IF($J$12-1<0,0,$J$12-1))","v":{"$error":"#N/A"}},{"$f":"OFFSET(Kozy_N!$J$4,W44,0)","v":{"$error":"#N/A"}}]
[null,null,null,null,null,null,null,null,0,"-","-","-",null,null,null,null,null,null,null,null,null,0,{"$f":"MATCH(E45,Kozy_N!$K$5:$K$9,0)","v":{"$error":"#N/A"}},{"$f":"MATCH(D45,Kozy_N!$C$4:$D$4,0)","v":{"$error":"#N/A"}},{"$f":"OFFSET(Kozy_N!$D$4,W45,0)","v":{"$error":"#N/A"}},{"$f":"IF(W45=3,Kozy_N!$D$10,0)*(IF($J$12-1<0,0,$J$12-1))","v":{"$error":"#N/A"}},{"$f":"OFFSET(Kozy_N!$J$4,W45,0)","v":{"$error":"#N/A"}}]
[null,null,null,"SUMA:",null,null,null,null,{"$f":"SUM(I19:I45)","v":0},{"$f":"SUM(J19:J45)","v":0},"-",{"$f":"SUM(L19:L45)","v":0},null,null,null,null,null,null,null,null,null,1,{"$f":"MATCH(E46,Kozy_N!$K$5:$K$9,0)","v":{"$error":"#N/A"}},{"$f":"MATCH(E46,Owce_N!$B$4:$D$4,0)-2","v":{"$error":"#N/A"}},{"$f":"OFFSET(Owce_N!$C$4,W46,X46)","v":{"$error":"#N/A"}}]
[null,null,null,"Wielkości (w m2) posiadanych powierzchni bytowych w pomieszczeniach/budynkach dotyczą łącznie wnioskodawcy i wskazanych innych posiadaczy",null,null,"NIE",null,"SUMA LICZBY KÓZ-SAMIC W WIEKU POWYŻEJ 12 M-CY:",null,null,{"$f":"SUMIF(AA19:AA45,Kozy_N!$J$6,L19:L45)","v":0},null,null,null,null,null,null,null,null,"NIE",2,{"$f":"MATCH(E47,Kozy_N!$K$5:$K$9,0)","v":{"$error":"#N/A"}},{"$f":"MATCH(E47,Owce_N!$B$4:$D$4,0)-2","v":{"$error":"#N/A"}},{"$f":"OFFSET(Owce_N!$C$4,W47,X47)","v":{"$error":"#N/A"}}]
[null,null,null,null,null,null,null,null,null,null,null,null,null,null,null,null,null,null,null,null,"TAK",0]
[null,null,null,"Powierzchnie wybiegów - dostęp do wybiegu przez cały rok",null,null,null,null,null,null,null,null,null,null,null,null,null,null,null,null,null,1]
[null,null,null,"Grupa zwierząt",null,"Powierzchnie wybiegów","Powierzchnia minimalna dla grupy zwierząt",null,"Powierzchnia minimalna \n",null,"Maksymalna liczba kóz",null,null,null,null,null,null,null,null,null,null,3]
[null,null,null,null,null,"m2","m2",null,"m2/ szt",null,"szt",null,null,null,null,null,null,null,null,null,null,2]
[null,null,null,"wszystkie grupy zwierząt poza samcami w wieku powyżej 12 miesięcy, w tym również samcami w tym wieku przeznaczonym do rozrodu",null,null,{"$f":"I52*K52","v":0},null,{"$f":"Kozy_N!I6","v":4.8},null,{"$f":"L46-K53","v":0},null,null,null,null,null,null,null,null,null,null,2]
[null,null,null,"samce w wieku powyżej 12 miesięcy, w tym również samce w tym wieku przeznaczone do rozrodu",null,null,{"$f":"I53*K53","v":0},null,{"$f":"Kozy_N!I5","v":7.2},null,{"$f":"SUMIF(AA19:AA45,Kozy_N!$J$5,L19:L45)","v":0},null,null,null,null,null,null,null,null,null,null,2]
[null,null,null,"RAZEM:",null,null,{"$f":"G52+G53","v":0},null,"-",null,{"$f":"K52+K53","v":0},null,null,null,null,null,null,null,null,null,null,2]
[null,null,null,"Wielkości (w m2) posiadanych zewnętrznych powierzchni bytowych dotyczą łącznie wnioskodawcy i wskazanych innych posiadaczy",null,null,"NIE",null,null,null,null,null,null,null,null,null,null,null,null,null,null,2]
[null,null,null,null,null,null,null,null,null,null,null,null,null,null,null,null,null,null,null,null,null,0]

{"sheet":"Kozy_N","index":43,"n_rows":10,"n_cols":11,"rows_kept":10,"cut":false,"hidden":true,"merged":[[1,2,1,8],[2,2,2,3],[2,4,2,5],[2,6,2,7]]}
[null,"Normy - kozy"]
[null,"Kategoria technologiczna","powierzchnie - budynki"]
[null,null,"rozgęszcz",null,null,null,null,null,null,null,"Lista"]
[null,null,"pojedynczo","grupowo",null,null,null,null,"wybiegi"]
[null,"samiec gatunku koza domowa w wieku powyżej 12 miesięcy przeznaczonego do rozrodu",3.6,3.6,null,null,null,null,7.2,"S","samiec powyżej 12 m-cy do rozrodu"]
[null,"samica gatunku owca domowa w wieku powyżej 12 miesięcy",1.8,1.8,null,null,null,null,4.8,"M","samica powyżej 12 m-cy"]
[null,"samica gatunku owca domowa w wieku powyżej 12 miesięcy wraz z jagnięciem",1.8,1.8,null,null,null,null,4.8,"M","samica powyżej 12 m-cy z koźlęciem ssącym "]
[null,"samiec gatunku koza domowa w wieku powyżej 12 miesięcy",1.8,1.8,null,null,null,null,7.2,"S","samiec powyżej 12 m-cy"]
[null,"samica lub samiec od odsadzenia do osiągnięcia dojrzałości płciowej tj. do ukończenia 12 miesięcy",null,1.2,null,null,null,null,4.8,null,"samica lub samiec od odsadzenia do ukończenia 12 m-ca"]
[null,"dodatkowo dla każdego następnego jagnięcia ssącego,",0.36,0.36]

{"sheet":"Kozy","index":44,"n_rows":23,"n_cols":7,"rows_kept":23,"cut":false,"hidden":true,"merged":[[6,2,6,6],[12,2,12,6],[19,2,19,6],[22,1,22,6]]}
[]
[null,null,"Kozy"]
[null,"-","utrzymywanie bez uwięzi;"]
[null,"-","dostęp do wybiegu przez cały rok - o powierzchni zwiększonej co najmniej o 20%, zgodnie z poniższą tabelą;"]
[null,"-","wypas przez co najmniej 120 dni w sezonie wegetacyjnym;"]
[null,"Lp","Wyszczególnienie","warunek\nmax/min","jed.","Obowiązujące normy prawne*","Wymogi obowiązujące w dobrostanie "]
[null,1,"Powierzchnia kojca w przypadku utrzymywania pojedynczego w przeliczeniu na jedną sztukę powinna wynosić w przypadku utrzymywania:"]
[null,"-","samicy gatunku koza domowa w wieku powyżej 12 miesięcy","min","m2/szt",1.5,1.8]
[null,"-","samicy gatunku koza domowa w wieku powyżej 12 miesięcy z koźlęciem ssącym ","min","m2/szt",1.5,1.8]
[null,null,"dla każdego następnego koźlęcia ssącego","min","m2/szt",0.3,0.36]
[null,"-","samca gatunku koza domowa w wieku powyżej 12 miesięcy","min","m2/szt",1.5,1.8]
[null,"-","samca gatunku koza domowa w wieku powyżej 12 miesięcy przeznaczonego do rozrodu","min","m2/szt",3,3.6]
[null,2,"Powierzchnia kojca w przypadku utrzymywania grupowego w przeliczeniu na jedną sztukę powinna wynosić \nw przypadku utrzymywania:"]
[null,"-","samicy gatunku koza domowa w wieku powyżej 12 miesięcy","min","m2/szt",1.5,1.8]
[null,"-","samicy gatunku koza domowa w wieku powyżej 12 miesięcy z koźlęciem ssącym ","min","m2/szt",1.5,1.8]
[null,null,"dla każdego następnego koźlęcia ssącego","min","m2/szt",0.3,0.36]
[null,"-","samca gatunku koza domowa w wieku powyżej 12 miesięcy","min","m2/szt",1.5,1.8]
[null,"-","samca gatunku koza domowa w wieku powyżej 12 miesięcy przeznaczonego do rozrodu","min","m2/szt",3,3.6]
[null,"-","samicy lub samca od odsadzenia do osiągnięcia dojrzałości płciowej tj. do ukończenia 12 miesięcy.","min","m2/szt",1,1.2]
[null,3,"Powierzchnia wybiegu w przeliczeniu na jedną sztukę powinna wynosić w przypadku utrzymywania:"]
[null,"-","wszystkie grupy technologiczne z gatunku koza poza samcem w wieku powyżej 12 miesięcy, w tym również samcem w tym wieku przeznaczonym do rozrodu","min","m2/szt",4,4.8]
[null,"-","samca gatunku koza domowa w wieku powyżej 12 miesięcy, w tym również samca w tym wieku przeznaczonego do rozrodu","min","m2/szt",6,7.2]
[null,"(*) Rozporządzenie MRiRW z dnia 28 czerwca 2010 r. w sprawie minimalnych warunków utrzymywania gatunków zwierząt gospodarskich innych niż te, dla których normy ochrony zostały określone w przepisach Unii Europejskiej (Dz. U. z 2019 r., poz. 1966)"]

{"sheet":"Kozy_pow (2)","index":45,"n_rows":56,"n_cols":38,"rows_kept":56,"cut":false,"hidden":false,"merged":[[53,3,53,5],[53,6,53,7],[53,8,53,9],[53,10,53,11],[50,10,50,11],[51,3,51,4],[51,5,52,5],[51,6,51,7],[51,8,51,9],[51,10,51,11],[52,3,52,4],[52,6,52,7],[52,8,52,9],[52,10,52,11],[49,3,50,4],[49,6,49,7],[49,8,49,9],[49,10,49,11],[50,6,50,7],[50,8,50,9],[12,3,12,8],[12,9,12,11],[45,3,45,7],[47,9,47,11],[48,3,48,6],[46,8,46,10],[46,3,46,5],[14,9,15,9],[14,10,15,10],[14,11,15,11],[15,5,16,5],[15,6,16,6],[54,3,54,5],[7,3,7,4],[7,5,7,6],[0,10,0,11],[1,2,1,3],[3,2,3,12],[4,3,4,5],[5,3,5,11],[17,4,17,11],[9,3,9,8],[10,3,10,8],[11,3,11,8],[13,3,13,8],[14,3,16,3],[14,4,16,4],[14,6,14,8]]}
[null,null,null,null,null,null,null,null,null,null,"POWRÓT",null,null,null,null,null,null,null,null,null,null,null,null,null,null,null,null,null,null,null,null,null,null,null,null,null,null,"UWAGI"]
[]
[]
[null,null,"II. Część szczegółowa  "]
[null,null,"II.13."," Dobrostan kóz"]
[null,null,"II.13.4.2","Dopuszczalna maksymalna liczba sztuk kóz, które mogą przebywać jednocześnie w obiektach z uwzględnieniem  wymogów  Dobrostan kóz"]
[]
[null,null,null,"2) Numer siedziby stada:"]
[]
[null,null,null,"Powierzchnia bytowa przeznaczona dla kóz w pomieszczeniach w gospodarstwie rolnym:",null,null,null,null,null,null,"m2"]
[null,null,null,"Informacja w jakim wieku odsadzane są koźlęta",null,null,null,null,null,null,"dni"]
[null,null,null,"Plenność kóz (stosunek liczby urodzonych koźląt do liczby kóz - matek"]
[null,null,null,"Termin wykorzystania posiadanych zewnętrznych powierzchni bytowych"]
[null,null,null,"Powierzchnia bytowa w obiekcie dla wszystkich utrzymywanych w siedzibie stada zwierząt z gatunku koza domowa  od dnia złożenia wniosku do dnia 14 marca kolejnego roku. "]
[null,null,null,"Sposób utrzymywania","Grupa zwierząt","Obiekt","Utrzymywanie grupowe / pojedyncze spełniające wymóg minimalnych powierzchni",null,null," Minimalna powierzch-\nnia  na  kojec  / kojce","Powierz-\nchnia mini-\nmalna na kozę","Maksy-\nmalna liczba kóz"]
[null,null,null,null,null,"Nazwa(y) lub nr kojca/kojcy","Liczba zwierząt lub kojcy pojedyn-\nczych","Powierzchnia na sztukę utrz. grupowo lub kojca pojedynczego","Powie-\nrzchnia",null,null,null,null,null,null,null,null,null,null,null,null,"ukryj","grupa","sposób","Norma","+kozle","M+12","S"]
[null,null,null,null,null,null,null,"m2/szt.\n(kojec)","m2","m2","m2/szt","szt",null,null,null,null,null,null,null,null,null,null,"kat","utrz","norma"]
[null,null,null,null,{"$f":"IF(J46>J10,\"ZA MAŁA POWIERZCHNIA OBIEKTU !\",\"\")","v":""}]
[null,null,null,null,null,null,null,null,{"$f":"G19*H19","v":0},{"$f":"IFERROR(K19*L19,\"-\")","v":"-"},{"$f":"IFERROR(Z19+Y19,\"-\")","v":"-"},{"$f":"IFERROR(IF(H19<K19,\"-\",IF(X19=0,G19,TRUNC(I19/K19))),\"-\")","v":"-"},null,null,null,null,null,null,null,null,null,{"$f":"COUNTA(D19:H19)","v":0},{"$f":"MATCH(E19,Kozy_N!$K$5:$K$9,0)","v":{"$error":"#N/A"}},{"$f":"MATCH(D19,Kozy_N!$C$4:$D$4,0)","v":{"$error":"#N/A"}},{"$f":"OFFSET(Kozy_N!$D$4,W19,0)","v":{"$error":"#N/A"}},{"$f":"IF(W19=3,Kozy_N!$D$10,0)*(IF($J$12-1<0,0,$J$12-1))","v":{"$error":"#N/A"}},{"$f":"OFFSET(Kozy_N!$J$4,W19,0)","v":{"$error":"#N/A"}}]
[null,null,null,null,null,null,null,null,{"$f":"G20*H20","v":0},{"$f":"IFERROR(K20*L20,\"-\")","v":"-"},{"$f":"IFERROR(Z20+Y20,\"-\")","v":"-"},{"$f":"IFERROR(IF(H20<K20,\"-\",IF(X20=0,G20,TRUNC(I20/K20))),\"-\")","v":"-"},null,null,null,null,null,null,null,null,null,{"$f":"COUNTA(D20:H20)","v":0},{"$f":"MATCH(E20,Kozy_N!$K$5:$K$9,0)","v":{"$error":"#N/A"}},{"$f":"MATCH(D20,Kozy_N!$C$4:$D$4,0)","v":{"$error":"#N/A"}},{"$f":"OFFSET(Kozy_N!$D$4,W20,0)","v":{"$error":"#N/A"}},{"$f":"IF(W20=3,Kozy_N!$D$10,0)*(IF($J$12-1<0,0,$J$12-1))","v":{"$error":"#N/A"}},{"$f":"OFFSET(Kozy_N!$J$4,W20,0)","v":{"$error":"#N/A"}}]
[null,null,null,null,null,null,null,null,{"$f":"G21*H21","v":0},{"$f":"IFERROR(K21*L21,\"-\")","v":"-"},{"$f":"IFERROR(Z21+Y21,\"-\")","v":"-"},{"$f":"IFERROR(IF(H21<K21,\"-\",IF(X21=0,G21,TRUNC(I21/K21))),\"-\")","v":"-"},null,null,null,null,null,null,null,null,null,0,{"$f":"MATCH(E21,Kozy_N!$K$5:$K$9,0)","v":{"$error":"#N/A"}},{"$f":"MATCH(D21,Kozy_N!$C$4:$D$4,0)","v":{"$error":"#N/A"}},{"$f":"OFFSET(Kozy_N!$D$4,W21,0)","v":{"$error":"#N/A"}},{"$f":"IF(W21=3,Kozy_N!$D$10,0)*(IF($J$12-1<0,0,$J$12-1))","v":{"$error":"#N/A"}},{"$f":"OFFSET(Kozy_N!$J$4,W21,0)","v":{"$error":"#N/A"}}]
[null,null,null,null,null,null,null,null,0,"-","-","-",null,null,null,null,null,null,null,null,null,0,{"$f":"MATCH(E22,Kozy_N!$K$5:$K$9,0)","v":{"$error":"#N/A"}},{"$f":"MATCH(D22,Kozy_N!$C$4:$D$4,0)","v":{"$error":"#N/A"}},{"$f":"OFFSET(Kozy_N!$D$4,W22,0)","v":{"$error":"#N/A"}},{"$f":"IF(W22=3,Kozy_N!$D$10,0)*(IF($J$12-1<0,0,$J$12-1))","v":{"$error":"#N/A"}},{"$f":"OFFSET(Kozy_N!$J$4,W22,0)","v":{"$error":"#N/A"}}]
[null,null,null,null,null,null,null,null,0,"-","-","-",null,null,null,null,null,null,null,null,null,0,{"$f":"MATCH(E23,Kozy_N!$K$5:$K$9,0)","v":{"$error":"#N/A"}},{"$f":"MATCH(D23,Kozy_N!$C$4:$D$4,0)","v":{"$error":"#N/A"}},{"$f":"OFFSET(Kozy_N!$D$4,W23,0)","v":{"$error":"#N/A"}},{"$f":"IF(W23=3,Kozy_N!$D$10,0)*(IF($J$12-1<0,0,$J$12-1))","v":{"$error":"#N/A"}},{"$f":"OFFSET(Kozy_N!$J$4,W23,0)","v":{"$error":"#N/A"}}]
[null,null,null,null,null,null,null,null,0,"-","-","-",null,null,null,null,null,null,null,null,null,0,{"$f":"MATCH(E24,Kozy_N!$K$5:$K$9,0)","v":{"$error":"#N/A"}},{"$f":"MATCH(D24,Kozy_N!$C$4:$D$4,0)","v":{"$error":"#N/A"}},{"$f":"OFFSET(Kozy_N!$D$4,W24,0)","v":{"$error":"#N/A"}},{"$f":"IF(W24=3,Kozy_N!$D$10,0)*(IF($J$12-1<0,0,$J$12-1))","v":{"$error":"#N/A"}},{"$f":"OFFSET(Kozy_N!$J$4,W24,0)","v":{"$error":"#N/A"}}]
[null,null,null,null,null,null,null,null,0,"-","-","-",null,null,null,null,null,null,null,null,null,0,{"$f":"MATCH(E25,Kozy_N!$K$5:$K$9,0)","v":{"$error":"#N/A"}},{"$f":"MATCH(D25,Kozy_N!$C$4:$D$4,0)","v":{"$error":"#N/A"}},{"$f":"OFFSET(Kozy_N!$D$4,W25,0)","v":{"$error":"#N/A"}},{"$f":"IF(W25=3,Kozy_N!$D$10,0)*(IF($J$12-1<0,0,$J$12-1))","v":{"$error":"#N/A"}},{"$f":"OFFSET(Kozy_N!$J$4,W25,0)","v":{"$error":"#N/A"}}]
[null,null,null,null,null,null,null,null,0,"-","-","-",null,null,null,null,null,null,null,null,null,0,{"$f":"MATCH(E26,Kozy_N!$K$5:$K$9,0)","v":{"$error":"#N/A"}},{"$f":"MATCH(D26,Kozy_N!$C$4:$D$4,0)","v":{"$error":"#N/A"}},{"$f":"OFFSET(Kozy_N!$D$4,W26,0)","v":{"$error":"#N/A"}},{"$f":"IF(W26=3,Kozy_N!$D$10,0)*(IF($J$12-1<0,0,$J$12-1))","v":{"$error":"#N/A"}},{"$f":"OFFSET(Kozy_N!$J$4,W26,0)","v":{"$error":"#N/A"}}]
[null,null,null,null,null,null,null,null,0,"-","-","-",null,null,null,null,null,null,null,null,null,0,{"$f":"MATCH(E27,Kozy_N!$K$5:$K$9,0)","v":{"$error":"#N/A"}},{"$f":"MATCH(D27,Kozy_N!$C$4:$D$4,0)","v":{"$error":"#N/A"}},{"$f":"OFFSET(Kozy_N!$D$4,W27,0)","v":{"$error":"#N/A"}},{"$f":"IF(W27=3,Kozy_N!$D$10,0)*(IF($J$12-1<0,0,$J$12-1))","v":{"$error":"#N/A"}},{"$f":"OFFSET(Kozy_N!$J$4,W27,0)","v":{"$error":"#N/A"}}]
[null,null,null,null,null,null,null,null,0,"-","-","-",null,null,null,null,null,null,null,null,null,0,{"$f":"MATCH(E28,Kozy_N!$K$5:$K$9,0)","v":{"$error":"#N/A"}},{"$f":"MATCH(D28,Kozy_N!$C$4:$D$4,0)","v":{"$error":"#N/A"}},{"$f":"OFFSET(Kozy_N!$D$4,W28,0)","v":{"$error":"#N/A"}},{"$f":"IF(W28=3,Kozy_N!$D$10,0)*(IF($J$12-1<0,0,$J$12-1))","v":{"$error":"#N/A"}},{"$f":"OFFSET(Kozy_N!$J$4,W28,0)","v":{"$error":"#N/A"}}]
[null,null,null,null,null,null,null,null,0,"-","-","-",null,null,null,null,null,null,null,null,null,0,{"$f":"MATCH(E29,Kozy_N!$K$5:$K$9,0)","v":{"$error":"#N/A"}},{"$f":"MATCH(D29,Kozy_N!$C$4:$D$4,0)","v":{"$error":"#N/A"}},{"$f":"OFFSET(Kozy_N!$D$4,W29,0)","v":{"$error":"#N/A"}},{"$f":"IF(W29=3,Kozy_N!$D$10,0)*(IF($J$12-1<0,0,$J$12-1))","v":{"$error":"#N/A"}},{"$f":"OFFSET(Kozy_N!$J$4,W29,0)","v":{"$error":"#N/A"}}]
[null,null,null,null,null,null,null,null,0,"-","-","-",null,null,null,null,null,null,null,null,null,0,{"$f":"MATCH(E30,Kozy_N!$K$5:$K$9,0)","v":{"$error":"#N/A"}},{"$f":"MATCH(D30,Kozy_N!$C$4:$D$4,0)","v":{"$error":"#N/A"}},{"$f":"OFFSET(Kozy_N!$D$4,W30,0)","v":{"$error":"#N/A"}},{"$f":"IF(W30=3,Kozy_N!$D$10,0)*(IF($J$12-1<0,0,$J$12-1))","v":{"$error":"#N/A"}},{"$f":"OFFSET(Kozy_N!$J$4,W30,0)","v":{"$error":"#N/A"}}]
[null,null,null,null,null,null,null,null,0,"-","-","-",null,null,null,null,null,null,null,null,null,0,{"$f":"MATCH(E31,Kozy_N!$K$5:$K$9,0)","v":{"$error":"#N/A"}},{"$f":"MATCH(D31,Kozy_N!$C$4:$D$4,0)","v":{"$error":"#N/A"}},{"$f":"OFFSET(Kozy_N!$D$4,W31,0)","v":{"$error":"#N/A"}},{"$f":"IF(W31=3,Kozy_N!$D$10,0)*(IF($J$12-1<0,0,$J$12-1))","v":{"$error":"#N/A"}},{"$f":"OFFSET(Kozy_N!$J$4,W31,0)","v":{"$error":"#N/A"}}]
[null,null,null,null,null,null,null,null,0,"-","-","-",null,null,null,null,null,null,null,null,null,0,{"$f":"MATCH(E32,Kozy_N!$K$5:$K$9,0)","v":{"$error":"#N/A"}},{"$f":"MATCH(D32,Kozy_N!$C$4:$D$4,0)","v":{"$error":"#N/A"}},{"$f":"OFFSET(Kozy_N!$D$4,W32,0)","v":{"$error":"#N/A"}},{"$f":"IF(W32=3,Kozy_N!$D$10,0)*(IF($J$12-1<0,0,$J$12-1))","v":{"$error":"#N/A"}},{"$f":"OFFSET(Kozy_N!$J$4,W32,0)","v":{"$error":"#N/A"}}]
[null,null,null,null,null,null,null,null,0,"-","-","-",null,null,null,null,null,null,null,null,null,0,{"$f":"MATCH(E33,Kozy_N!$K$5:$K$9,0)","v":{"$error":"#N/A"}},{"$f":"MATCH(D33,Kozy_N!$C$4:$D$4,0)","v":{"$error":"#N/A"}},{"$f":"OFFSET(Kozy_N!$D$4,W33,0)","v":{"$error":"#N/A"}},{"$f":"IF(W33=3,Kozy_N!$D$10,0)*(IF($J$12-1<0,0,$J$12-1))","v":{"$error":"#N/A"}},{"$f":"OFFSET(Kozy_N!$J$4,W33,0)","v":{"$error":"#N/A"}}]
[null,null,null,null,null,null,null,null,0,"-","-","-",null,null,null,null,null,null,null,null,null,0,{"$f":"MATCH(E34,Kozy_N!$K$5:$K$9,0)","v":{"$error":"#N/A"}},{"$f":"MATCH(D34,Kozy_N!$C$4:$D$4,0)","v":{"$error":"#N/A"}},{"$f":"OFFSET(Kozy_N!$D$4,W34,0)","v":{"$error":"#N/A"}},{"$f":"IF(W34=3,Kozy_N!$D$10,0)*(IF($J$12-1<0,0,$J$12-1))","v":{"$error":"#N/A"}},{"$f":"OFFSET(Kozy_N!$J$4,W34,0)","v":{"$error":"#N/A"}}]
[null,null,null,null,null,null,null,null,0,"-","-","-",null,null,null,null,null,null,null,null,null,0,{"$f":"MATCH(E35,Kozy_N!$K$5:$K$9,0)","v":{"$error":"#N/A"}},{"$f":"MATCH(D35,Kozy_N!$C$4:$D$4,0)","v":{"$error":"#N/A"}},{"$f":"OFFSET(Kozy_N!$D$4,W35,0)","v":{"$error":"#N/A"}},{"$f":"IF(W35=3,Kozy_N!$D$10,0)*(IF($J$12-1<0,0,$J$12-1))","v":{"$error":"#N/A"}},{"$f":"OFFSET(Kozy_N!$J$4,W35,0)","v":{"$error":"#N/A"}}]
[null,null,null,null,null,null,null,null,0,"-","-","-",null,null,null,null,null,null,null,null,null,0,{"$f":"MATCH(E36,Kozy_N!$K$5:$K$9,0)","v":{"$error":"#N/A"}},{"$f":"MATCH(D36,Kozy_N!$C$4:$D$4,0)","v":{"$error":"#N/A"}},{"$f":"OFFSET(Kozy_N!$D$4,W36,0)","v":{"$error":"#N/A"}},{"$f":"IF(W36=3,Kozy_N!$D$10,0)*(IF($J$12-1<0,0,$J$12-1))","v":{"$error":"#N/A"}},{"$f":"OFFSET(Kozy_N!$J$4,W36,0)","v":{"$error":"#N/A"}}]
[null,null,null,null,null,null,null,null,0,"-","-","-",null,null,null,null,null,null,null,null,null,0,{"$f":"MATCH(E37,Kozy_N!$K$5:$K$9,0)","v":{"$error":"#N/A"}},{"$f":"MATCH(D37,Kozy_N!$C$4:$D$4,0)","v":{"$error":"#N/A"}},{"$f":"OFFSET(Kozy_N!$D$4,W37,0)","v":{"$error":"#N/A"}},{"$f":"IF(W37=3,Kozy_N!$D$10,0)*(IF($J$12-1<0,0,$J$12-1))","v":{"$error":"#N/A"}},{"$f":"OFFSET(Kozy_N!$J$4,W37,0)","v":{"$error":"#N/A"}}]
[null,null,null,null,null,null,null,null,0,"-","-","-",null,null,null,null,null,null,null,null,null,0,{"$f":"MATCH(E38,Kozy_N!$K$5:$K$9,0)","v":{"$error":"#N/A"}},{"$f":"MATCH(D38,Kozy_N!$C$4:$D$4,0)","v":{"$error":"#N/A"}},{"$f":"OFFSET(Kozy_N!$D$4,W38,0)","v":{"$error":"#N/A"}},{"$f":"IF(W38=3,Kozy_N!$D$10,0)*(IF($J$12-1<0,0,$J$12-1))","v":{"$error":"#N/A"}},{"$f":"OFFSET(Kozy_N!$J$4,W38,0)","v":{"$error":"#N/A"}}]
[null,null,null,null,null,null,null,null,0,"-","-","-",null,null,null,null,null,null,null,null,null,0,{"$f":"MATCH(E39,Kozy_N!$K$5:$K$9,0)","v":{"$error":"#N/A"}},{"$f":"MATCH(D39,Kozy_N!$C$4:$D$4,0)","v":{"$error":"#N/A"}},{"$f":"OFFSET(Kozy_N!$D$4,W39,0)","v":{"$error":"#N/A"}},{"$f":"IF(W39=3,Kozy_N!$D$10,0)*(IF($J$12-1<0,0,$J$12-1))","v":{"$error":"#N/A"}},{"$f":"OFFSET(Kozy_N!$J$4,W39,0)","v":{"$error":"#N/A"}}]
[null,null,null,null,null,null,null,null,0,"-","-","-",null,null,null,null,null,null,null,null,null,0,{"$f":"MATCH(E40,Kozy_N!$K$5:$K$9,0)","v":{"$error":"#N/A"}},{"$f":"MATCH(D40,Kozy_N!$C$4:$D$4,0)","v":{"$error":"#N/A"}},{"$f":"OFFSET(Kozy_N!$D$4,W40,0)","v":{"$error":"#N/A"}},{"$f":"IF(W40=3,Kozy_N!$D$10,0)*(IF($J$12-1<0,0,$J$12-1))","v":{"$error":"#N/A"}},{"$f":"OFFSET(Kozy_N!$J$4,W40,0)","v":{"$error":"#N/A"}}]
[null,null,null,null,null,null,null,null,0,"-","-","-",null,null,null,null,null,null,null,null,null,0,{"$f":"MATCH(E41,Kozy_N!$K$5:$K$9,0)","v":{"$error":"#N/A"}},{"$f":"MATCH(D41,Kozy_N!$C$4:$D$4,0)","v":{"$error":"#N/A"}},{"$f":"OFFSET(Kozy_N!$D$4,W41,0)","v":{"$error":"#N/A"}},{"$f":"IF(W41=3,Kozy_N!$D$10,0)*(IF($J$12-1<0,0,$J$12-1))","v":{"$error":"#N/A"}},{"$f":"OFFSET(Kozy_N!$J$4,W41,0)","v":{"$error":"#N/A"}}]
[null,null,null,null,null,null,null,null,0,"-","-","-",null,null,null,null,null,null,null,null,null,0,{"$f":"MATCH(E42,Kozy_N!$K$5:$K$9,0)","v":{"$error":"#N/A"}},{"$f":"MATCH(D42,Kozy_N!$C$4:$D$4,0)","v":{"$error":"#N/A"}},{"$f":"OFFSET(Kozy_N!$D$4,W42,0)","v":{"$error":"#N/A"}},{"$f":"IF(W42=3,Kozy_N!$D$10,0)*(IF($J$12-1<0,0,$J$12-1))","v":{"$error":"#N/A"}},{"$f":"OFFSET(Kozy_N!$J$4,W42,0)","v":{"$error":"#N/A"}}]
[null,null,null,null,null,null,null,null,0,"-","-","-",null,null,null,null,null,null,null,null,null,0,{"$f":"MATCH(E43,Kozy_N!$K$5:$K$9,0)","v":{"$error":"#N/A"}},{"$f":"MATCH(D43,Kozy_N!$C$4:$D$4,0)","v":{"$error":"#N/A"}},{"$f":"OFFSET(Kozy_N!$D$4,W43,0)","v":{"$error":"#N/A"}},{"$f":"IF(W43=3,Kozy_N!$D$10,0)*(IF($J$12-1<0,0,$J$12-1))","v":{"$error":"#N/A"}},{"$f":"OFFSET(Kozy_N!$J$4,W43,0)","v":{"$error":"#N/A"}}]
[null,null,null,null,null,null,null,null,0,"-","-","-",null,null,null,null,null,null,null,null,null,0,{"$f":"MATCH(E44,Kozy_N!$K$5:$K$9,0)","v":{"$error":"#N/A"}},{"$f":"MATCH(D44,Kozy_N!$C$4:$D$4,0)","v":{"$error":"#N/A"}},{"$f":"OFFSET(Kozy_N!$D$4,W44,0)","v":{"$error":"#N/A"}},{"$f":"IF(W44=3,Kozy_N!$D$10,0)*(IF($J$12-1<0,0,$J$12-1))","v":{"$error":"#N/A"}},{"$f":"OFFSET(Kozy_N!$J$4,W44,0)","v":{"$error":"#N/A"}}]
[null,null,null,null,null,null,null,null,0,"-","-","-",null,null,null,null,null,null,null,null,null,0,{"$f":"MATCH(E45,Kozy_N!$K$5:$K$9,0)","v":{"$error":"#N/A"}},{"$f":"MATCH(D45,Kozy_N!$C$4:$D$4,0)","v":{"$error":"#N/A"}},{"$f":"OFFSET(Kozy_N!$D$4,W45,0)","v":{"$error":"#N/A"}},{"$f":"IF(W45=3,Kozy_N!$D$10,0)*(IF($J$12-1<0,0,$J$12-1))","v":{"$error":"#N/A"}},{"$f":"OFFSET(Kozy_N!$J$4,W45,0)","v":{"$error":"#N/A"}}]
[null,null,null,"SUMA:",null,null,null,null,{"$f":"SUM(I19:I45)","v":0},{"$f":"SUM(J19:J45)","v":0},"-",{"$f":"SUM(L19:L45)","v":0},null,null,null,null,null,null,null,null,null,1,{"$f":"MATCH(E46,Kozy_N!$K$5:$K$9,0)","v":{"$error":"#N/A"}},{"$f":"MATCH(E46,Owce_N!$B$4:$D$4,0)-2","v":{"$error":"#N/A"}},{"$f":"OFFSET(Owce_N!$C$4,W46,X46)","v":{"$error":"#N/A"}}]
[null,null,null,"Wielkości (w m2) posiadanych powierzchni bytowych w pomieszczeniach/budynkach dotyczą łącznie wnioskodawcy i wskazanych innych posiadaczy",null,null,"NIE",null,"SUMA LICZBY KÓZ-SAMIC W WIEKU POWYŻEJ 12 M_CY:",null,null,{"$f":"SUMIF(AA19:AA45,Kozy_N!$J$6,L19:L45)","v":0},null,null,null,null,null,null,null,null,"NIE",2,{"$f":"MATCH(E47,Kozy_N!$K$5:$K$9,0)","v":{"$error":"#N/A"}},{"$f":"MATCH(E47,Owce_N!$B$4:$D$4,0)-2","v":{"$error":"#N/A"}},{"$f":"OFFSET(Owce_N!$C$4,W47,X47)","v":{"$error":"#N/A"}}]
[null,null,null,null,null,null,null,null,null,null,null,null,null,null,null,null,null,null,null,null,"TAK",0]
[null,null,null,"Powierzchnie wybiegów - dostęp do wybiegu przez cały rok",null,null,null,null,null,null,null,null,null,null,null,null,null,null,null,null,null,1]
[null,null,null,"Grupa zwierząt",null,"Powierzchnie wybiegów","Powierzchnia minimalna dla grupy zwierząt",null,"Powierzchnia minimalna \n",null,"Maksymalna liczba kóz",null,null,null,null,null,null,null,null,null,null,3]
[null,null,null,null,null,"m2","m2",null,"m2/ szt",null,"szt",null,null,null,null,null,null,null,null,null,null,2]
[null,null,null,"wszystkie grupy zwierząt poza samcami w wieku powyżej 12 miesięcy, w tym również samcami w tym wieku przeznaczonym do rozrodu",null,null,{"$f":"I52*K52","v":0},null,{"$f":"Kozy_N!I6","v":4.8},null,{"$f":"L46-K53","v":0},null,null,null,null,null,null,null,null,null,null,2]
[null,null,null,"samce w wieku powyżej 12 miesięcy, w tym również samce w tym wieku przeznaczone do rozrodu",null,null,{"$f":"I53*K53","v":0},null,{"$f":"Kozy_N!I5","v":7.2},null,{"$f":"SUMIF(AA19:AA45,Kozy_N!$J$5,L19:L45)","v":0},null,null,null,null,null,null,null,null,null,null,2]
[null,null,null,"RAZEM:",null,null,{"$f":"G52+G53","v":0},null,"-",null,{"$f":"K52+K53","v":0},null,null,null,null,null,null,null,null,null,null,2]
[null,null,null,"Wielkości (w m2) posiadanych zewnętrznych powierzchni bytowych dotyczą łącznie wnioskodawcy i wskazanych innych posiadaczy",null,null,"NIE",null,null,null,null,null,null,null,null,null,null,null,null,null,null,2]
[null,null,null,null,null,null,null,null,null,null,null,null,null,null,null,null,null,null,null,null,null,0]

{"sheet":"Kozy_pow (3)","index":46,"n_rows":56,"n_cols":38,"rows_kept":56,"cut":false,"hidden":false,"merged":[[53,3,53,5],[53,6,53,7],[53,8,53,9],[53,10,53,11],[50,10,50,11],[51,3,51,4],[51,5,52,5],[51,6,51,7],[51,8,51,9],[51,10,51,11],[52,3,52,4],[52,6,52,7],[52,8,52,9],[52,10,52,11],[49,3,50,4],[49,6,49,7],[49,8,49,9],[49,10,49,11],[50,6,50,7],[50,8,50,9],[12,3,12,8],[12,9,12,11],[45,3,45,7],[47,9,47,11],[48,3,48,6],[46,8,46,10],[46,3,46,5],[14,9,15,9],[14,10,15,10],[14,11,15,11],[15,5,16,5],[15,6,16,6],[54,3,54,5],[7,3,7,4],[7,5,7,6],[0,10,0,11],[1,2,1,3],[3,2,3,12],[4,3,4,5],[5,3,5,11],[17,4,17,11],[9,3,9,8],[10,3,10,8],[11,3,11,8],[13,3,13,8],[14,3,16,3],[14,4,16,4],[14,6,14,8]]}
[null,null,null,null,null,null,null,null,null,null,"POWRÓT",null,null,null,null,null,null,null,null,null,null,null,null,null,null,null,null,null,null,null,null,null,null,null,null,null,null,"UWAGI"]
[]
[]
[null,null,"II. Część szczegółowa  "]
[null,null,"II.13."," Dobrostan kóz"]
[null,null,"II.12.4.3.","Dopuszczalna maksymalna liczba sztuk kóz, które mogą przebywać jednocześnie w obiektach z uwzględnieniem  wymogów Dobrostan kóz"]
[]
[null,null,null,"3) Numer siedziby stada:"]
[]
[null,null,null,"Powierzchnia bytowa przeznaczona dla kóz w pomieszczeniach w gospodarstwie rolnym:",null,null,null,null,null,null,"m2"]
[null,null,null,"Informacja w jakim wieku odsadzane są koźlęta",null,null,null,null,null,null,"dni"]
[null,null,null,"Plenność kóz (stosunek liczby urodzonych koźląt do liczby kóz - matek"]
[null,null,null,"Termin wykorzystania posiadanych zewnętrznych powierzchni bytowych"]
[null,null,null,"Powierzchnia bytowa w obiekcie dla wszystkich utrzymywanych w siedzibie stada zwierząt z gatunku koza domowa  od dnia złożenia wniosku do dnia 14 marca kolejnego roku. "]
[null,null,null,"Sposób utrzymywania","Grupa zwierząt","Obiekt","Utrzymywanie grupowe / pojedyncze spełniające wymóg minimalnych powierzchni",null,null," Minimalna powierzch-\nnia  na  kojec  / kojce","Powierz-\nchnia mini-\nmalna na kozę","Maksy-\nmalna liczba kóz"]
[null,null,null,null,null,"Nazwa(y) lub nr kojca/kojcy","Liczba zwierząt lub kojcy pojedyn-\nczych","Powierzchnia na sztukę utrz. grupowo lub kojca pojedynczego","Powie-\nrzchnia",null,null,null,null,null,null,null,null,null,null,null,null,"ukryj","grupa","sposób","Norma","+kozle","M+12","S"]
[null,null,null,null,null,null,null,"m2/szt.\n(kojec)","m2","m2","m2/szt","szt",null,null,null,null,null,null,null,null,null,null,"kat","utrz","norma"]
[null,null,null,null,{"$f":"IF(J46>J10,\"ZA MAŁA POWIERZCHNIA OBIEKTU !\",\"\")","v":""}]
[null,null,null,null,null,null,null,null,{"$f":"G19*H19","v":0},{"$f":"IFERROR(K19*L19,\"-\")","v":"-"},{"$f":"IFERROR(Z19+Y19,\"-\")","v":"-"},{"$f":"IFERROR(IF(H19<K19,\"-\",IF(X19=0,G19,TRUNC(I19/K19))),\"-\")","v":"-"},null,null,null,null,null,null,null,null,null,{"$f":"COUNTA(D19:H19)","v":0},{"$f":"MATCH(E19,Kozy_N!$K$5:$K$9,0)","v":{"$error":"#N/A"}},{"$f":"MATCH(D19,Kozy_N!$C$4:$D$4,0)","v":{"$error":"#N/A"}},{"$f":"OFFSET(Kozy_N!$D$4,W19,0)","v":{"$error":"#N/A"}},{"$f":"IF(W19=3,Kozy_N!$D$10,0)*(IF($J$12-1<0,0,$J$12-1))","v":{"$error":"#N/A"}},{"$f":"OFFSET(Kozy_N!$J$4,W19,0)","v":{"$error":"#N/A"}}]
[null,null,null,null,null,null,null,null,{"$f":"G20*H20","v":0},{"$f":"IFERROR(K20*L20,\"-\")","v":"-"},{"$f":"IFERROR(Z20+Y20,\"-\")","v":"-"},{"$f":"IFERROR(IF(H20<K20,\"-\",IF(X20=0,G20,TRUNC(I20/K20))),\"-\")","v":"-"},null,null,null,null,null,null,null,null,null,{"$f":"COUNTA(D20:H20)","v":0},{"$f":"MATCH(E20,Kozy_N!$K$5:$K$9,0)","v":{"$error":"#N/A"}},{"$f":"MATCH(D20,Kozy_N!$C$4:$D$4,0)","v":{"$error":"#N/A"}},{"$f":"OFFSET(Kozy_N!$D$4,W20,0)","v":{"$error":"#N/A"}},{"$f":"IF(W20=3,Kozy_N!$D$10,0)*(IF($J$12-1<0,0,$J$12-1))","v":{"$error":"#N/A"}},{"$f":"OFFSET(Kozy_N!$J$4,W20,0)","v":{"$error":"#N/A"}}]
[null,null,null,null,null,null,null,null,{"$f":"G21*H21","v":0},{"$f":"IFERROR(K21*L21,\"-\")","v":"-"},{"$f":"IFERROR(Z21+Y21,\"-\")","v":"-"},{"$f":"IFERROR(IF(H21<K21,\"-\",IF(X21=0,G21,TRUNC(I21/K21))),\"-\")","v":"-"},null,null,null,null,null,null,null,null,null,0,{"$f":"MATCH(E21,Kozy_N!$K$5:$K$9,0)","v":{"$error":"#N/A"}},{"$f":"MATCH(D21,Kozy_N!$C$4:$D$4,0)","v":{"$error":"#N/A"}},{"$f":"OFFSET(Kozy_N!$D$4,W21,0)","v":{"$error":"#N/A"}},{"$f":"IF(W21=3,Kozy_N!$D$10,0)*(IF($J$12-1<0,0,$J$12-1))","v":{"$error":"#N/A"}},{"$f":"OFFSET(Kozy_N!$J$4,W21,0)","v":{"$error":"#N/A"}}]
[null,null,null,null,null,null,null,null,0,"-","-","-",null,null,null,null,null,null,null,null,null,0,{"$f":"MATCH(E22,Kozy_N!$K$5:$K$9,0)","v":{"$error":"#N/A"}},{"$f":"MATCH(D22,Kozy_N!$C$4:$D$4,0)","v":{"$error":"#N/A"}},{"$f":"OFFSET(Kozy_N!$D$4,W22,0)","v":{"$error":"#N/A"}},{"$f":"IF(W22=3,Kozy_N!$D$10,0)*(IF($J$12-1<0,0,$J$12-1))","v":{"$error":"#N/A"}},{"$f":"OFFSET(Kozy_N!$J$4,W22,0)","v":{"$error":"#N/A"}}]
[null,null,null,null,null,null,null,null,0,"-","-","-",null,null,null,null,null,null,null,null,null,0,{"$f":"MATCH(E23,Kozy_N!$K$5:$K$9,0)","v":{"$error":"#N/A"}},{"$f":"MATCH(D23,Kozy_N!$C$4:$D$4,0)","v":{"$error":"#N/A"}},{"$f":"OFFSET(Kozy_N!$D$4,W23,0)","v":{"$error":"#N/A"}},{"$f":"IF(W23=3,Kozy_N!$D$10,0)*(IF($J$12-1<0,0,$J$12-1))","v":{"$error":"#N/A"}},{"$f":"OFFSET(Kozy_N!$J$4,W23,0)","v":{"$error":"#N/A"}}]
[null,null,null,null,null,null,null,null,0,"-","-","-",null,null,null,null,null,null,null,null,null,0,{"$f":"MATCH(E24,Kozy_N!$K$5:$K$9,0)","v":{"$error":"#N/A"}},{"$f":"MATCH(D24,Kozy_N!$C$4:$D$4,0)","v":{"$error":"#N/A"}},{"$f":"OFFSET(Kozy_N!$D$4,W24,0)","v":{"$error":"#N/A"}},{"$f":"IF(W24=3,Kozy_N!$D$10,0)*(IF($J$12-1<0,0,$J$12-1))","v":{"$error":"#N/A"}},{"$f":"OFFSET(Kozy_N!$J$4,W24,0)","v":{"$error":"#N/A"}}]
[null,null,null,null,null,null,null,null,0,"-","-","-",null,null,null,null,null,null,null,null,null,0,{"$f":"MATCH(E25,Kozy_N!$K$5:$K$9,0)","v":{"$error":"#N/A"}},{"$f":"MATCH(D25,Kozy_N!$C$4:$D$4,0)","v":{"$error":"#N/A"}},{"$f":"OFFSET(Kozy_N!$D$4,W25,0)","v":{"$error":"#N/A"}},{"$f":"IF(W25=3,Kozy_N!$D$10,0)*(IF($J$12-1<0,0,$J$12-1))","v":{"$error":"#N/A"}},{"$f":"OFFSET(Kozy_N!$J$4,W25,0)","v":{"$error":"#N/A"}}]
[null,null,null,null,null,null,null,null,0,"-","-","-",null,null,null,null,null,null,null,null,null,0,{"$f":"MATCH(E26,Kozy_N!$K$5:$K$9,0)","v":{"$error":"#N/A"}},{"$f":"MATCH(D26,Kozy_N!$C$4:$D$4,0)","v":{"$error":"#N/A"}},{"$f":"OFFSET(Kozy_N!$D$4,W26,0)","v":{"$error":"#N/A"}},{"$f":"IF(W26=3,Kozy_N!$D$10,0)*(IF($J$12-1<0,0,$J$12-1))","v":{"$error":"#N/A"}},{"$f":"OFFSET(Kozy_N!$J$4,W26,0)","v":{"$error":"#N/A"}}]
[null,null,null,null,null,null,null,null,0,"-","-","-",null,null,null,null,null,null,null,null,null,0,{"$f":"MATCH(E27,Kozy_N!$K$5:$K$9,0)","v":{"$error":"#N/A"}},{"$f":"MATCH(D27,Kozy_N!$C$4:$D$4,0)","v":{"$error":"#N/A"}},{"$f":"OFFSET(Kozy_N!$D$4,W27,0)","v":{"$error":"#N/A"}},{"$f":"IF(W27=3,Kozy_N!$D$10,0)*(IF($J$12-1<0,0,$J$12-1))","v":{"$error":"#N/A"}},{"$f":"OFFSET(Kozy_N!$J$4,W27,0)","v":{"$error":"#N/A"}}]
[null,null,null,null,null,null,null,null,0,"-","-","-",null,null,null,null,null,null,null,null,null,0,{"$f":"MATCH(E28,Kozy_N!$K$5:$K$9,0)","v":{"$error":"#N/A"}},{"$f":"MATCH(D28,Kozy_N!$C$4:$D$4,0)","v":{"$error":"#N/A"}},{"$f":"OFFSET(Kozy_N!$D$4,W28,0)","v":{"$error":"#N/A"}},{"$f":"IF(W28=3,Kozy_N!$D$10,0)*(IF($J$12-1<0,0,$J$12-1))","v":{"$error":"#N/A"}},{"$f":"OFFSET(Kozy_N!$J$4,W28,0)","v":{"$error":"#N/A"}}]
[null,null,null,null,null,null,null,null,0,"-","-","-",null,null,null,null,null,null,null,null,null,0,{"$f":"MATCH(E29,Kozy_N!$K$5:$K$9,0)","v":{"$error":"#N/A"}},{"$f":"MATCH(D29,Kozy_N!$C$4:$D$4,0)","v":{"$error":"#N/A"}},{"$f":"OFFSET(Kozy_N!$D$4,W29,0)","v":{"$error":"#N/A"}},{"$f":"IF(W29=3,Kozy_N!$D$10,0)*(IF($J$12-1<0,0,$J$12-1))","v":{"$error":"#N/A"}},{"$f":"OFFSET(Kozy_N!$J$4,W29,0)","v":{"$error":"#N/A"}}]
[null,null,null,null,null,null,null,null,0,"-","-","-",null,null,null,null,null,null,null,null,null,0,{"$f":"MATCH(E30,Kozy_N!$K$5:$K$9,0)","v":{"$error":"#N/A"}},{"$f":"MATCH(D30,Kozy_N!$C$4:$D$4,0)","v":{"$error":"#N/A"}},{"$f":"OFFSET(Kozy_N!$D$4,W30,0)","v":{"$error":"#N/A"}},{"$f":"IF(W30=3,Kozy_N!$D$10,0)*(IF($J$12-1<0,0,$J$12-1))","v":{"$error":"#N/A"}},{"$f":"OFFSET(Kozy_N!$J$4,W30,0)","v":{"$error":"#N/A"}}]
[null,null,null,null,null,null,null,null,0,"-","-","-",null,null,null,null,null,null,null,null,null,0,{"$f":"MATCH(E31,Kozy_N!$K$5:$K$9,0)","v":{"$error":"#N/A"}},{"$f":"MATCH(D31,Kozy_N!$C$4:$D$4,0)","v":{"$error":"#N/A"}},{"$f":"OFFSET(Kozy_N!$D$4,W31,0)","v":{"$error":"#N/A"}},{"$f":"IF(W31=3,Kozy_N!$D$10,0)*(IF($J$12-1<0,0,$J$12-1))","v":{"$error":"#N/A"}},{"$f":"OFFSET(Kozy_N!$J$4,W31,0)","v":{"$error":"#N/A"}}]
[null,null,null,null,null,null,null,null,0,"-","-","-",null,null,null,null,null,null,null,null,null,0,{"$f":"MATCH(E32,Kozy_N!$K$5:$K$9,0)","v":{"$error":"#N/A"}},{"$f":"MATCH(D32,Kozy_N!$C$4:$D$4,0)","v":{"$error":"#N/A"}},{"$f":"OFFSET(Kozy_N!$D$4,W32,0)","v":{"$error":"#N/A"}},{"$f":"IF(W32=3,Kozy_N!$D$10,0)*(IF($J$12-1<0,0,$J$12-1))","v":{"$error":"#N/A"}},{"$f":"OFFSET(Kozy_N!$J$4,W32,0)","v":{"$error":"#N/A"}}]
[null,null,null,null,null,null,null,null,0,"-","-","-",null,null,null,null,null,null,null,null,null,0,{"$f":"MATCH(E33,Kozy_N!$K$5:$K$9,0)","v":{"$error":"#N/A"}},{"$f":"MATCH(D33,Kozy_N!$C$4:$D$4,0)","v":{"$error":"#N/A"}},{"$f":"OFFSET(Kozy_N!$D$4,W33,0)","v":{"$error":"#N/A"}},{"$f":"IF(W33=3,Kozy_N!$D$10,0)*(IF($J$12-1<0,0,$J$12-1))","v":{"$error":"#N/A"}},{"$f":"OFFSET(Kozy_N!$J$4,W33,0)","v":{"$error":"#N/A"}}]
[null,null,null,null,null,null,null,null,0,"-","-","-",null,null,null,null,null,null,null,null,null,0,{"$f":"MATCH(E34,Kozy_N!$K$5:$K$9,0)","v":{"$error":"#N/A"}},{"$f":"MATCH(D34,Kozy_N!$C$4:$D$4,0)","v":{"$error":"#N/A"}},{"$f":"OFFSET(Kozy_N!$D$4,W34,0)","v":{"$error":"#N/A"}},{"$f":"IF(W34=3,Kozy_N!$D$10,0)*(IF($J$12-1<0,0,$J$12-1))","v":{"$error":"#N/A"}},{"$f":"OFFSET(Kozy_N!$J$4,W34,0)","v":{"$error":"#N/A"}}]
[null,null,null,null,null,null,null,null,0,"-","-","-",null,null,null,null,null,null,null,null,null,0,{"$f":"MATCH(E35,Kozy_N!$K$5:$K$9,0)","v":{"$error":"#N/A"}},{"$f":"MATCH(D35,Kozy_N!$C$4:$D$4,0)","v":{"$error":"#N/A"}},{"$f":"OFFSET(Kozy_N!$D$4,W35,0)","v":{"$error":"#N/A"}},{"$f":"IF(W35=3,Kozy_N!$D$10,0)*(IF($J$12-1<0,0,$J$12-1))","v":{"$error":"#N/A"}},{"$f":"OFFSET(Kozy_N!$J$4,W35,0)","v":{"$error":"#N/A"}}]
[null,null,null,null,null,null,null,null,0,"-","-","-",null,null,null,null,null,null,null,null,null,0,{"$f":"MATCH(E36,Kozy_N!$K$5:$K$9,0)","v":{"$error":"#N/A"}},{"$f":"MATCH(D36,Kozy_N!$C$4:$D$4,0)","v":{"$error":"#N/A"}},{"$f":"OFFSET(Kozy_N!$D$4,W36,0)","v":{"$error":"#N/A"}},{"$f":"IF(W36=3,Kozy_N!$D$10,0)*(IF($J$12-1<0,0,$J$12-1))","v":{"$error":"#N/A"}},{"$f":"OFFSET(Kozy_N!$J$4,W36,0)","v":{"$error":"#N/A"}}]
[null,null,null,null,null,null,null,null,0,"-","-","-",null,null,null,null,null,null,null,null,null,0,{"$f":"MATCH(E37,Kozy_N!$K$5:$K$9,0)","v":{"$error":"#N/A"}},{"$f":"MATCH(D37,Kozy_N!$C$4:$D$4,0)","v":{"$error":"#N/A"}},{"$f":"OFFSET(Kozy_N!$D$4,W37,0)","v":{"$error":"#N/A"}},{"$f":"IF(W37=3,Kozy_N!$D$10,0)*(IF($J$12-1<0,0,$J$12-1))","v":{"$error":"#N/A"}},{"$f":"OFFSET(Kozy_N!$J$4,W37,0)","v":{"$error":"#N/A"}}]
[null,null,null,null,null,null,null,null,0,"-","-","-",null,null,null,null,null,null,null,null,null,0,{"$f":"MATCH(E38,Kozy_N!$K$5:$K$9,0)","v":{"$error":"#N/A"}},{"$f":"MATCH(D38,Kozy_N!$C$4:$D$4,0)","v":{"$error":"#N/A"}},{"$f":"OFFSET(Kozy_N!$D$4,W38,0)","v":{"$error":"#N/A"}},{"$f":"IF(W38=3,Kozy_N!$D$10,0)*(IF($J$12-1<0,0,$J$12-1))","v":{"$error":"#N/A"}},{"$f":"OFFSET(Kozy_N!$J$4,W38,0)","v":{"$error":"#N/A"}}]
[null,null,null,null,null,null,null,null,0,"-","-","-",null,null,null,null,null,null,null,null,null,0,{"$f":"MATCH(E39,Kozy_N!$K$5:$K$9,0)","v":{"$error":"#N/A"}},{"$f":"MATCH(D39,Kozy_N!$C$4:$D$4,0)","v":{"$error":"#N/A"}},{"$f":"OFFSET(Kozy_N!$D$4,W39,0)","v":{"$error":"#N/A"}},{"$f":"IF(W39=3,Kozy_N!$D$10,0)*(IF($J$12-1<0,0,$J$12-1))","v":{"$error":"#N/A"}},{"$f":"OFFSET(Kozy_N!$J$4,W39,0)","v":{"$error":"#N/A"}}]
[null,null,null,null,null,null,null,null,0,"-","-","-",null,null,null,null,null,null,null,null,null,0,{"$f":"MATCH(E40,Kozy_N!$K$5:$K$9,0)","v":{"$error":"#N/A"}},{"$f":"MATCH(D40,Kozy_N!$C$4:$D$4,0)","v":{"$error":"#N/A"}},{"$f":"OFFSET(Kozy_N!$D$4,W40,0)","v":{"$error":"#N/A"}},{"$f":"IF(W40=3,Kozy_N!$D$10,0)*(IF($J$12-1<0,0,$J$12-1))","v":{"$error":"#N/A"}},{"$f":"OFFSET(Kozy_N!$J$4,W40,0)","v":{"$error":"#N/A"}}]
[null,null,null,null,null,null,null,null,0,"-","-","-",null,null,null,null,null,null,null,null,null,0,{"$f":"MATCH(E41,Kozy_N!$K$5:$K$9,0)","v":{"$error":"#N/A"}},{"$f":"MATCH(D41,Kozy_N!$C$4:$D$4,0)","v":{"$error":"#N/A"}},{"$f":"OFFSET(Kozy_N!$D$4,W41,0)","v":{"$error":"#N/A"}},{"$f":"IF(W41=3,Kozy_N!$D$10,0)*(IF($J$12-1<0,0,$J$12-1))","v":{"$error":"#N/A"}},{"$f":"OFFSET(Kozy_N!$J$4,W41,0)","v":{"$error":"#N/A"}}]
[null,null,null,null,null,null,null,null,0,"-","-","-",null,null,null,null,null,null,null,null,null,0,{"$f":"MATCH(E42,Kozy_N!$K$5:$K$9,0)","v":{"$error":"#N/A"}},{"$f":"MATCH(D42,Kozy_N!$C$4:$D$4,0)","v":{"$error":"#N/A"}},{"$f":"OFFSET(Kozy_N!$D$4,W42,0)","v":{"$error":"#N/A"}},{"$f":"IF(W42=3,Kozy_N!$D$10,0)*(IF($J$12-1<0,0,$J$12-1))","v":{"$error":"#N/A"}},{"$f":"OFFSET(Kozy_N!$J$4,W42,0)","v":{"$error":"#N/A"}}]
[null,null,null,null,null,null,null,null,0,"-","-","-",null,null,null,null,null,null,null,null,null,0,{"$f":"MATCH(E43,Kozy_N!$K$5:$K$9,0)","v":{"$error":"#N/A"}},{"$f":"MATCH(D43,Kozy_N!$C$4:$D$4,0)","v":{"$error":"#N/A"}},{"$f":"OFFSET(Kozy_N!$D$4,W43,0)","v":{"$error":"#N/A"}},{"$f":"IF(W43=3,Kozy_N!$D$10,0)*(IF($J$12-1<0,0,$J$12-1))","v":{"$error":"#N/A"}},{"$f":"OFFSET(Kozy_N!$J$4,W43,0)","v":{"$error":"#N/A"}}]
[null,null,null,null,null,null,null,null,0,"-","-","-",null,null,null,null,null,null,null,null,null,0,{"$f":"MATCH(E44,Kozy_N!$K$5:$K$9,0)","v":{"$error":"#N/A"}},{"$f":"MATCH(D44,Kozy_N!$C$4:$D$4,0)","v":{"$error":"#N/A"}},{"$f":"OFFSET(Kozy_N!$D$4,W44,0)","v":{"$error":"#N/A"}},{"$f":"IF(W44=3,Kozy_N!$D$10,0)*(IF($J$12-1<0,0,$J$12-1))","v":{"$error":"#N/A"}},{"$f":"OFFSET(Kozy_N!$J$4,W44,0)","v":{"$error":"#N/A"}}]
[null,null,null,null,null,null,null,null,0,"-","-","-",null,null,null,null,null,null,null,null,null,0,{"$f":"MATCH(E45,Kozy_N!$K$5:$K$9,0)","v":{"$error":"#N/A"}},{"$f":"MATCH(D45,Kozy_N!$C$4:$D$4,0)","v":{"$error":"#N/A"}},{"$f":"OFFSET(Kozy_N!$D$4,W45,0)","v":{"$error":"#N/A"}},{"$f":"IF(W45=3,Kozy_N!$D$10,0)*(IF($J$12-1<0,0,$J$12-1))","v":{"$error":"#N/A"}},{"$f":"OFFSET(Kozy_N!$J$4,W45,0)","v":{"$error":"#N/A"}}]
[null,null,null,"SUMA:",null,null,null,null,{"$f":"SUM(I19:I45)","v":0},{"$f":"SUM(J19:J45)","v":0},"-",{"$f":"SUM(L19:L45)","v":0},null,null,null,null,null,null,null,null,null,1,{"$f":"MATCH(E46,Kozy_N!$K$5:$K$9,0)","v":{"$error":"#N/A"}},{"$f":"MATCH(E46,Owce_N!$B$4:$D$4,0)-2","v":{"$error":"#N/A"}},{"$f":"OFFSET(Owce_N!$C$4,W46,X46)","v":{"$error":"#N/A"}}]
[null,null,null,"Wielkości (w m2) posiadanych powierzchni bytowych w pomieszczeniach/budynkach dotyczą łącznie wnioskodawcy i wskazanych innych posiadaczy",null,null,"NIE",null,"SUMA LICZBY KÓZ-SAMIC W WIEKU POWYŻEJ 12 M-CY:",null,null,{"$f":"SUMIF(AA19:AA45,Kozy_N!$J$6,L19:L45)","v":0},null,null,null,null,null,null,null,null,"NIE",2,{"$f":"MATCH(E47,Kozy_N!$K$5:$K$9,0)","v":{"$error":"#N/A"}},{"$f":"MATCH(E47,Owce_N!$B$4:$D$4,0)-2","v":{"$error":"#N/A"}},{"$f":"OFFSET(Owce_N!$C$4,W47,X47)","v":{"$error":"#N/A"}}]
[null,null,null,null,null,null,null,null,null,null,null,null,null,null,null,null,null,null,null,null,"TAK",0]
[null,null,null,"Powierzchnie wybiegów - dostęp do wybiegu przez cały rok",null,null,null,null,null,null,null,null,null,null,null,null,null,null,null,null,null,1]
[null,null,null,"Grupa zwierząt",null,"Powierzchnie wybiegów","Powierzchnia minimalna dla grupy zwierząt",null,"Powierzchnia minimalna \n",null,"Maksymalna liczba kóz",null,null,null,null,null,null,null,null,null,null,3]
[null,null,null,null,null,"m2","m2",null,"m2/ szt",null,"szt",null,null,null,null,null,null,null,null,null,null,2]
[null,null,null,"wszystkie grupy zwierząt poza samcami w wieku powyżej 12 miesięcy, w tym również samcami w tym wieku przeznaczonym do rozrodu",null,null,{"$f":"I52*K52","v":0},null,{"$f":"Kozy_N!I6","v":4.8},null,{"$f":"L46-K53","v":0},null,null,null,null,null,null,null,null,null,null,2]
[null,null,null,"samce w wieku powyżej 12 miesięcy, w tym również samce w tym wieku przeznaczone do rozrodu",null,null,{"$f":"I53*K53","v":0},null,{"$f":"Kozy_N!I5","v":7.2},null,{"$f":"SUMIF(AA19:AA45,Kozy_N!$J$5,L19:L45)","v":0},null,null,null,null,null,null,null,null,null,null,2]
[null,null,null,"RAZEM:",null,null,{"$f":"G52+G53","v":0},null,"-",null,{"$f":"K52+K53","v":0},null,null,null,null,null,null,null,null,null,null,2]
[null,null,null,"Wielkości (w m2) posiadanych zewnętrznych powierzchni bytowych dotyczą łącznie wnioskodawcy i wskazanych innych posiadaczy",null,null,"NIE",null,null,null,null,null,null,null,null,null,null,null,null,null,null,2]
[null,null,null,null,null,null,null,null,null,null,null,null,null,null,null,null,null,null,null,null,null,0]

{"sheet":"ARiMR_Lochy","index":47,"n_rows":69,"n_cols":20,"rows_kept":69,"cut":false,"hidden":false,"merged":[[51,3,51,10],[49,3,49,6],[49,8,49,11],[54,3,54,10],[8,3,8,8],[16,3,16,4],[9,3,9,8],[11,3,11,4],[11,5,11,7],[11,8,11,10],[12,3,12,4],[12,5,12,7],[12,8,12,10],[13,4,13,6],[13,7,13,10],[14,4,14,6],[2,2,2,12],[3,2,3,12],[4,2,4,12],[5,3,5,12],[6,5,6,7],[14,7,14,10],[15,3,15,4],[17,3,17,4],[17,5,17,7],[17,8,17,10],[18,3,18,4],[18,5,18,7],[18,8,18,10],[20,3,20,11],[21,3,21,10],[22,3,22,6],[22,7,22,10],[23,3,25,6],[23,7,23,10],[24,7,24,10],[25,7,25,10],[29,4,29,6],[29,7,29,10],[30,4,30,6],[30,7,30,10],[31,3,31,4],[26,3,26,10],[27,3,27,4],[27,5,27,7],[27,8,27,10],[28,3,28,4],[28,5,28,7],[28,8,28,10],[37,4,37,10],[38,7,38,11],[38,2,38,6],[45,3,45,11],[32,3,32,4],[35,3,35,10],[36,4,36,10],[33,5,33,7],[33,8,33,10],[34,3,34,4],[34,5,34,7],[34,8,34,10],[52,3,52,10],[0,1,0,13],[47,3,47,6],[47,8,47,11],[48,3,48,6],[48,8,48,11],[6,8,6,9],[44,3,44,6],[44,8,44,11],[46,3,46,6],[40,3,40,11],[43,3,43,6],[43,8,43,11],[46,8,46,11],[33,3,33,4],[41,3,41,11],[57,3,57,11],[58,3,58,11],[62,3,62,6],[62,8,62,11],[63,3,63,6],[63,8,63,11],[60,3,60,11],[67,3,67,6],[67,8,67,11],[68,3,68,6],[68,8,68,11],[64,3,64,11],[65,3,65,6],[65,8,65,11],[66,3,66,6],[66,8,66,11]]}
[null,"Informacje przekazywane do ARiMR wraz z wnioskiem o przyznanie płatności dobrostanowej\nUwaga !!! \nPo wydrukowaniu uzupełnić ręcznie Oświadczenie i czytelnie podpisać",null,null,null,null,null,null,null,null,null,null,null,null,"POWRÓT",null,null,null,null,"UWAGI"]
[]
[null,null,"Działanie M-14  - Dobrostan zwierząt "]
[null,null,"PLAN POPRAWY DOBROSTANU ZWIERZĄT"]
[null,null,"I. Część ogólna "]
[null,null,"I.1.","Dane rolnika realizującego działanie "]
[null,null,"I.1.1","Numer identyfikacyjny ",null,{"$f":"Info!F10","v":0}]
[null,null,"I.1.2","Rolnik realizujący działanie "]
[null,null,null,"Nazwisko i imię rolnika / nazwa "]
[null,null,null,{"$f":"Info!$D$15","v":0}]
[null,null,"I.1.3","Adres rolnika realizującego działanie "]
[null,null,null," Województwo",null,"Powiat",null,null,"Gmina"]
[null,null,null,{"$f":"Info!$D$18","v":0},null,{"$f":"Info!$F$18","v":0},null,null,{"$f":"Info!$I$18","v":0}]
[null,null,null," Kod pocztowy","Poczta",null,null,"Miejscowość"]
[null,null,null,{"$f":"Info!$D$20","v":0},{"$f":"Info!$E$20","v":0},null,null,{"$f":"Info!$H$20","v":0}]
[null,null,null,"Ulica",null,"Nr domu"," Nr lokalu"]
[null,null,null,{"$f":"Info!$D$22","v":0},null,{"$f":"Info!$F$22","v":0},{"$f":"Info!$G$22","v":0}]
[null,null,null,"Telefon komórkowy",null,"Telefon stacjonarny",null,null,"E-mail"]
[null,null,null,{"$f":"Info!$D$24","v":0},null,{"$f":"Info!$F$24","v":0},null,null,{"$f":"Info!$I$24","v":0}]
[]
[null,null,"I.2.","Dane podmiotu doradczego i doradcy rolniczego, przy udziale którego został sporządzony plan poprawy dobrostanu zwierząt"]
[null,null,"I.2.1","Podmiot doradczy i doradca rolniczy"]
[null,null,null,"Nazwa podmiotu doradczego",null,null,null,"Nazwisko i imię doradcy"]
[null,null,null,{"$f":"Info!D29","v":0},null,null,null,{"$f":"Info!H29","v":0}]
[null,null,null,null,null,null,null,"Numer uprawnień"]
[null,null,null,null,null,null,null,{"$f":"Info!H31","v":0}]
[null,null,"I.2.2","Adres doradcy rolniczego"]
[null,null,null," Województwo",null,"Powiat",null,null,"Gmina"]
[null,null,null,{"$f":"Info!D34","v":0},null,{"$f":"Info!F34","v":0},null,null,{"$f":"Info!I34","v":0}]
[null,null,null," Kod pocztowy","Poczta",null,null,"Miejscowość"]
[null,null,null,{"$f":"Info!D36","v":0},{"$f":"Info!E36","v":0},null,null,{"$f":"Info!H36","v":0}]
[null,null,null,"Ulica",null,"Nr domu"," Nr lokalu"]
[null,null,null,{"$f":"Info!D38","v":0},null,{"$f":"Info!F38","v":0},{"$f":"Info!G38","v":0}]
[null,null,null,"Telefon komórkowy",null,"Telefon stacjonarny",null,null,"E-mail"]
[null,null,null,{"$f":"Info!D40","v":0},null,{"$f":"Info!F40","v":0},null,null,{"$f":"Info!I40","v":0}]
[]
[null,null,"I.3.1.","Pakiet 1.","Dobrostan świń:"]
[null,null,null,"wariant 1.1.","Dobrostan loch - zwiększona powierzchnia w budynkach",null,null,null,null,null,null,null,null,null,null,null,null,"☒","☐"]
[null,null,{"$f":"ARiMR_Pozostałe!#REF!","v":{"$error":"#REF!"}},null,null,null,null,{"$f":"ARiMR_Pozostałe!#REF!","v":{"$error":"#REF!"}}]
[null,null,"I.3.2.","Cel:",{"$f":"IF(R40=1,R38,S38)","v":"☒"},"Złożenie planu",null,{"$f":"IF(R40=2,R38,S38)","v":"☐"},"Zmiana planu",null,null,null,null,null,null,null,null,{"$f":"Info!R8","v":1}]
[null,null,"I.4.","Oświadczenie rolnika o przekazaniu pełnych i prawdziwych danych niezbędnych do sporządzenia planu poprawy dobrostanu zwierząt"]
[null,null,null,{"$f":"Info!#REF!","v":{"$error":"#REF!"}}]
[]
[]
[null,null,null,"(miejscowość i data)",null,null,null,null,"(czytelny podpis rolnika)"]
[null,null,"I.5.","Podpisy i data sporządzenia planu poprawy dobrostanu zwierząt"]
[null,null,null,{"$f":"Info!#REF!","v":{"$error":"#REF!"}},null,null,null,null,{"$f":"Info!#REF!","v":{"$error":"#REF!"}}]
[null,null,null,"(miejscowość)",null,null,null,null,"(data sporządenia/zmiany planu)"]
[]
[null,null,null,"(czytelny podpis doradcy)",null,null,null,null,"(czytelny podpis rolnika)"]
[null,null,"II. Część szczegółowa  ",null,null,null,null,null,null,null,null,null,null,null,null,"W gospodarstwie rolnym lochy nie są utrzymywane w systemie jarzmowym"]
[null,null,"II.1.",{"$f":"IF(R52=1,P51,P52)","v":"W gospodarstwie rolnym lochy  są utrzymywane w systemie jarzmowym przez okres nie dłuższy niż 8 dni w okresie okołoporodowym "},null,null,null,null,null,null,null,"☒",null,null,null,"W gospodarstwie rolnym lochy  są utrzymywane w systemie jarzmowym przez okres nie dłuższy niż 8 dni w okresie okołoporodowym ",null,{"$f":"Lochy!AD8","v":2}]
[null,null,"II.2.","Dopuszczalna maksymalna liczba loch, które ze względu na wymogi wariantu, mogą przebywać jednocześnie w w gospodarstwie rolnym wynosi:",null,null,null,null,null,null,null,{"$f":"Lochy!S129","v":0}]
[]
[null,null,"II.3.","Potencjalna liczba świń, które mogą przebywać jednocześnie w gospodarstwie rolnym (bez liczby prosiąt nieodsadzonych) wynosi:",null,null,null,null,null,null,null,{"$f":"Lochy!S128+Tuczniki!O127+'Swinie_inne(P)'!S123+'Swinie_inne(T)'!O127","v":0}]
[]
[null,null,"III. Oświadczenia i podpisy"]
[null,null,"III.1.","Oświadczenie rolnika o przekazaniu pełnych i prawdziwych danych niezbędnych do sporządzenia planu poprawy dobrostanu zwierząt"]
[null,null,null,"Oświadczam, że dane przekazane do sporządzenia planu  poprawy dobrostanu zwierząt  są pełne i prawdziwe."]
[]
[null,null,null,"Oświadczam, że prowadzę rejestr sposobu utrzymywania loch w okresie okołoporodowym na formularzu udostępnionym przez Agencję"]
[]
[]
[null,null,null,"(miejscowość i data)",null,null,null,null,"(czytelny podpis rolnika)"]
[null,null,"III.2.","Podpisy i data sporządzenia planu poprawy dobrostanu zwierząt"]
[]
[null,null,null,"(miejscowość)",null,null,null,null,"(data sporządenia/zmiany planu)"]
[]
[null,null,null,"(czytelny podpis doradcy)",null,null,null,null,"(czytelny podpis rolnika)"]

{"sheet":"ARiMR_Pozostałe (2)","index":48,"n_rows":158,"n_cols":22,"rows_kept":158,"cut":false,"hidden":true,"merged":[[155,3,155,6],[155,8,155,11],[156,3,156,6],[156,8,156,11],[157,3,157,6],[157,8,157,11],[151,3,151,6],[151,8,151,11],[152,3,152,6],[152,8,152,11],[153,3,153,11],[154,3,154,6],[154,8,154,11],[144,3,144,10],[145,3,145,10],[147,7,147,10],[148,3,148,11],[149,3,149,11],[150,2,150,13],[139,3,139,5],[139,8,139,10],[140,3,140,13],[141,3,141,10],[142,3,142,13],[143,3,143,4],[143,5,143,7],[134,3,134,10],[135,3,135,10],[136,3,136,13],[137,3,137,10],[138,3,138,5],[138,8,138,10],[128,3,128,13],[129,3,129,10],[130,3,130,13],[131,3,131,10],[132,3,132,10],[133,3,133,13],[123,3,123,7],[123,10,123,11],[124,3,124,11],[125,3,125,10],[126,3,126,11],[127,3,127,10],[120,3,120,7],[120,10,120,11],[121,3,121,7],[121,10,121,11],[122,3,122,7],[122,10,122,11],[116,3,116,12],[117,3,117,7],[117,10,117,11],[118,3,118,7],[118,10,118,11],[119,3,119,7],[119,10,119,11],[111,3,111,7],[111,10,111,11],[113,3,113,4],[113,5,113,7],[114,3,114,10],[115,3,115,10],[115,11,115,12],[108,3,108,7],[108,10,108,11],[109,3,109,7],[109,10,109,11],[110,3,110,7],[110,10,110,11],[104,3,104,12],[105,3,105,7],[105,10,105,11],[106,3,106,7],[106,10,106,11],[107,3,107,7],[107,10,107,11],[99,3,99,7],[99,10,99,11],[101,3,101,4],[101,5,101,7],[102,3,102,10],[103,3,103,10],[103,11,103,12],[96,3,96,7],[96,10,96,11],[97,3,97,7],[97,10,97,11],[98,3,98,7],[98,10,98,11],[92,3,92,12],[93,3,93,7],[93,10,93,11],[94,3,94,7],[94,10,94,11],[95,3,95,7],[95,10,95,11],[87,3,87,7],[87,10,87,11],[89,3,89,4],[89,5,89,7],[90,3,90,10],[91,3,91,10],[91,11,91,12],[84,3,84,7],[84,10,84,11],[85,3,85,7],[85,10,85,11],[86,3,86,7],[86,10,86,11],[80,3,80,12],[81,3,81,7],[81,10,81,11],[82,3,82,7],[82,10,82,11],[83,3,83,7],[83,10,83,11],[75,3,75,7],[75,10,75,11],[77,3,77,4],[77,5,77,7],[78,3,78,10],[79,3,79,10],[79,11,79,12],[72,3,72,7],[72,10,72,11],[73,3,73,7],[73,10,73,11],[74,3,74,7],[74,10,74,11],[68,3,68,12],[69,3,69,7],[69,10,69,11],[70,3,70,7],[70,10,70,11],[71,3,71,7],[71,10,71,11],[64,3,64,11],[65,3,65,4],[65,5,65,7],[66,3,66,10],[67,3,67,10],[67,11,67,12],[58,3,58,10],[59,3,59,10],[60,3,60,10],[61,3,61,10],[62,3,62,10],[63,3,63,10],[47,4,47,12],[49,2,49,6],[49,7,49,12],[53,3,53,11],[54,3,54,10],[56,3,56,10],[41,4,41,10],[42,4,42,12],[43,4,43,12],[44,4,44,12],[45,4,45,12],[46,4,46,12],[35,3,35,10],[36,4,36,12],[37,4,37,12],[38,4,38,10],[39,4,39,10],[40,4,40,10],[33,3,33,4],[33,5,33,7],[33,8,33,10],[34,3,34,4],[34,5,34,7],[34,8,34,10],[29,4,29,6],[29,7,29,10],[30,4,30,6],[30,7,30,10],[31,3,31,4],[32,3,32,4],[26,3,26,10],[27,3,27,4],[27,5,27,7],[27,8,27,10],[28,3,28,4],[28,5,28,7],[28,8,28,10],[20,3,20,11],[21,3,21,10],[22,3,22,6],[22,7,22,10],[23,3,25,6],[23,7,23,10],[24,7,24,10],[25,7,25,10],[17,3,17,4],[17,5,17,7],[17,8,17,10],[18,3,18,4],[18,5,18,7],[18,8,18,10],[13,4,13,6],[13,7,13,10],[14,4,14,6],[14,7,14,10],[15,3,15,4],[16,3,16,4],[8,3,8,8],[9,3,9,8],[11,3,11,4],[11,5,11,7],[11,8,11,10],[12,3,12,4],[12,5,12,7],[12,8,12,10],[2,2,3,13],[4,8,4,10],[5,8,5,9],[5,10,5,11],[6,5,6,7],[6,8,6,9],[6,10,6,11]]}
[null,null,null,null,null,null,null,null,null,null,null,null,null,null,null,"POWRÓT"]
[]
[null,null,"Dokument dla ARiMR"]
[]
[null,null,"I. Część ogólna "]
[null,null,"I.1.","Dane rolnika realizującego ekoschemat "]
[null,null,"I.1.1","Numer identyfikacyjny ",null,{"$f":"Info!F10","v":0}]
[null,null,"I.1.2","Rolnik realizujący ekoschemat - dobrostan zwierząt "]
[null,null,null,"Nazwisko i imię rolnika / nazwa "]
[null,null,null,{"$f":"Info!$D$15","v":0}]
[null,null,"I.1.3","Adres rolnika realizującego ekoschemat "]
[null,null,null," Województwo",null,"Powiat",null,null,"Gmina"]
[null,null,null,{"$f":"Info!$D$18","v":0},null,{"$f":"Info!$F$18","v":0},null,null,{"$f":"Info!$I$18","v":0}]
[null,null,null," Kod pocztowy","Poczta",null,null,"Miejscowość"]
[null,null,null,{"$f":"Info!$D$20","v":0},{"$f":"Info!$E$20","v":0},null,null,{"$f":"Info!$H$20","v":0}]
[null,null,null,"Ulica",null,"Nr domu"," Nr lokalu"]
[null,null,null,{"$f":"Info!$D$22","v":0},null,{"$f":"Info!$F$22","v":0},{"$f":"Info!$G$22","v":0}]
[null,null,null,"Telefon komórkowy",null,"Telefon stacjonarny",null,null,"E-mail"]
[null,null,null,{"$f":"Info!$D$24","v":0},null,{"$f":"Info!$F$24","v":0},null,null,{"$f":"Info!$I$24","v":0}]
[]
[null,null,"I.2.","Dane podmiotu doradczego i doradcy rolniczego, przy udziale którego został sporządzony plan poprawy dobrostanu zwierząt"]
[null,null,"I.2.1","Podmiot doradczy i doradca rolniczy"]
[null,null,null,"Nazwa podmiotu doradczego",null,null,null,"Nazwisko i imię doradcy"]
[null,null,null,{"$f":"Info!D29","v":0},null,null,null,{"$f":"Info!H29","v":0}]
[null,null,null,null,null,null,null,"Numer uprawnień"]
[null,null,null,null,null,null,null,{"$f":"Info!H31","v":0}]
[null,null,"I.2.2","Adres doradcy rolniczego"]
[null,null,null," Województwo",null,"Powiat",null,null,"Gmina"]
[null,null,null,{"$f":"Info!D34","v":0},null,{"$f":"Info!F34","v":0},null,null,{"$f":"Info!I34","v":0}]
[null,null,null," Kod pocztowy","Poczta",null,null,"Miejscowość"]
[null,null,null,{"$f":"Info!D36","v":0},{"$f":"Info!E36","v":0},null,null,{"$f":"Info!H36","v":0}]
[null,null,null,"Ulica",null,"Nr domu"," Nr lokalu"]
[null,null,null,{"$f":"Info!D38","v":0},null,{"$f":"Info!F38","v":0},{"$f":"Info!G38","v":0}]
[null,null,null,"Telefon komórkowy",null,"Telefon stacjonarny",null,null,"E-mail"]
[null,null,null,{"$f":"Info!D40","v":0},null,{"$f":"Info!F40","v":0},null,null,{"$f":"Info!I40","v":0}]
[null,null,"I.3.","Wykaz wariantów, realizowanych w ramach dobrostanu zwierząt"]
[null,null,null,"Wariant 2.","Dobrostan tuczników - zwiększona powierzchnia w budynkach",null,null,null,null,null,null,null,null,null,null,null,null,{"$f":"S37","v":false},{"$f":"Menu!H7","v":false}]
[null,null,null,"Wariant 4.","Dobrostan krów mlecznych utrzymywanych grupowo - zwiększona powierzchnia w budynkach",null,null,null,null,null,null,null,null,null,null,null,null,false,{"$f":"Menu!H21","v":false}]
[null,null,null,"Wariant 5.","Dobrostan krów mamek",null,null,null,null,null,null,null,null,null,null,null,null,false,{"$f":"Menu!H22","v":false}]
[null,null,null,"Wariant 6.","Dobrostan owiec"]
[null,null,null,"Wariant 7.","Dobrostan kur niosek"]
[null,null,null,"Wariant 8.","Dobrostan kurcząt brojlerów"]
[null,null,null,"Wariant 9.","Dobrostan indyków utrzymywanych z przeznaczeniem na produkcję mięsa"]
[null,null,null,"Wariant 10.","Dobrostan opasów – zwiększona powierzchnia bytowa"]
[null,null,null,"Wariant 11.","Dobrostan opasów – zwiększona powierzchnia bytowa wraz z wybiegami"]
[null,null,null,"Wariant 12.","Dobrostan koni – zwiększona powierzchnia bytowa"]
[null,null,null,"Wariant 13.","Dobrostan koni – system otwarty"]
[null,null,null,"Wariant 14.","Dobrostan kóz",null,null,null,null,null,null,null,null,null,null,null,null,false,{"$f":"Menu!H24","v":false}]
[null,null,null,null,null,null,null,null,null,null,null,null,null,null,null,null,null,0]
[null,null,"Numery siedzib innych stad, z których zwierzęta przebywają w budynkach rolnika.",null,null,null,null,{"$f":"Info_2!D26&\" \"&Info_2!G26&\" \"&Info_2!K26&\" \"&Info_2!D28&\" \"&Info_2!G28&\" \"&Info_2!K28","v":"     "},null,null,null,null,null,null,null,null,null,{"$error":"#REF!"},{"$f":"Info!#REF!","v":{"$error":"#REF!"}}]
[null,null,null,null,null,null,null,null,null,null,null,null,null,null,null,null,null,0]
[null,null,"I.3.4.","Cel:",{"$f":"IF(S52=1,T52,U52)","v":"☒"},"Złożenie planu",null,{"$f":"IF(S52=2,T52,U52)","v":"☐"},"Zmiana planu",null,null,null,null,null,null,null,null,true,{"$f":"Info!R8","v":1},"☒","☐"]
[null,null,"II. Część szczegółowa  - informacje z Planu poprawy dobrostanu zwierząt:",null,null,null,null,null,null,null,null,null,null,null,null,null,null,true]
[null,null,"II.2.","W zakresie Wariantu 2. Dobrostan tuczników – zwiększona powierzchnia w budynkach:",null,null,null,null,null,null,null,null,null,null,null,null,null,{"$f":"S54","v":false},{"$f":"S37","v":false}]
[null,null,null,"Dopuszczalna maksymalna liczba  warchlaków i tuczników, które ze względu na wymogi wariantu mogą przebywać jednocześnie w gospodarstwie rolnym wynosi:",null,null,null,null,null,null,null,{"$f":"Tuczniki!O127","v":0},"szt",null,null,null,null,{"$f":"S55","v":false},{"$f":"$S$54","v":false}]
[null,null,null,null,null,null,null,null,null,null,null,null,null,null,null,null,null,false,false]
[null,null,null,"Szacowana roczna liczba tuczników, które ze względu na wymogi wariantu, mogą być wyprodukowane w gospodarstwie rolnym wynosi:",null,null,null,null,null,null,null,{"$f":"Tuczniki!O129","v":""},"szt",null,null,null,null,false,false]
[null,null,null,null,null,null,null,null,null,null,null,null,null,null,null,null,null,false,false]
[null,null,null,"Potencjalna liczba świń, które mogą przebywać jednocześnie w gospodarstwie rolnym (bez liczby prosiąt nieodsadzonych) wynosi:",null,null,null,null,null,null,null,{"$f":"Lochy!S128+Tuczniki!O127+'Swinie_inne(P)'!S123+'Swinie_inne(T)'!O127","v":0},"szt",null,null,null,null,false,false]
[null,null,"II.4.","W zakresie wariantu 4. Dobrostan krów mlecznych utrzymywanych grupowo – zwiększona powierzchnia w budynkach:",null,null,null,null,null,null,null,null,null,null,null,null,null,0,{"$f":"S40","v":0}]
[null,null,null,"Dopuszczalna maksymalna liczba krów mlecznych, które ze względu na wymogi wariantu, mogą przebywać jednocześnie w gospodarstwie rolnym wynosi:",null,null,null,null,null,null,null,{"$f":"Krowy_MLECZNE_powierzch!L125+Krowy_MLECZNE_powierzch!J187","v":0},"szt",null,null,null,null,0,{"$f":"$S$60","v":0}]
[null,null,null,"W przypadku budynków współdzielonych z innymi rolnikami są wydzielone sekcje dla krów innych rolników:",null,null,null,null,null,null,null,{"$f":"Info_2!L30","v":"NIE"},null,null,null,null,null,{"$f":"S62","v":0},{"$f":"$S$60","v":0}]
[null,null,"II.5.","W zakresie Wariantu 5. Dobrostan krów mamek:",null,null,null,null,null,null,null,null,null,null,null,null,null,false,{"$f":"$S$48","v":false}]
[null,null,null,"Wielkość powierzchni zewnętrznych (pastwisk lub okólników lub wybiegów) przeznaczonych w okresie od dnia 16 października do dnia 14 marca roku następnego dla bydła w typie użytkowym mięsnym wynosi:",null,null,null,null,null,null,null,{"$f":"Krowy_MIĘSNE_powierzch!H82","v":0},"m2",null,null,null,null,false,{"$f":"$S$48","v":false}]
[null,null,"II.6.","W zakresie Wariantu 6. Dobrostan owiec"]
[null,null,null,"1) Numer siedziby stada:",null,{"$f":"'Owce_pow (1)'!$F$8","v":0},null,null,null,null,null,null,null,null,null,null,null,{"$f":"IF(F66>0,TRUE,FALSE)","v":false},{"$f":"S65","v":0}]
[null,null,null,"Powierzchnia bytowa przeznaczona dla wszystkich grup technologicznych zwierząt z gatunku owca domowa w pomieszczeniach w gospodarstwie rolnym:",null,null,null,null,null,null,null,{"$f":"'Owce_pow (1)'!$J$10","v":0},"m2",null,null,null,null,{"$f":"R66","v":false}]
[null,null,null,"Plenność maciorek (stosunek liczby urodzonych jagniąt do liczby maciorek):",null,null,null,null,null,null,null,{"$f":"'Owce_pow (1)'!J12","v":0},null,null,null,null,null,{"$f":"R67","v":false}]
[null,null,null,"Sposób utrzymywania poszczególnych grup technologicznych owiec \noraz liczba sztuk utrzymywanych pojedynczo",null,null,null,null,null,null,null,null,null,null,null,null,null,{"$f":"R68","v":false}]
[null,null,null,"Kategoria technologiczna",null,null,null,null,"grupowo","pojedynczo","Utrzymywane pojedynczo\nszt.",null,null,null,null,null,null,{"$f":"R68","v":false},null,null,"szt.grup","szt.poj."]
[null,null,null,{"$f":"D83","v":"samiec gatunku owca domowa w wieku powyżej 12 miesięcy, z wyjątkiem samca gatunku owca domowa – skopka"},null,null,null,null,{"$f":"IF(U71>0,S71,T71)","v":"☐"},{"$f":"IF(V71>0,S71,T71)","v":"☐"},{"$f":"IF(U71<=0,\"\",'Owce_pow (1)'!$AD19)","v":""},null,null,null,null,null,null,{"$f":"AND(OR(K71>0,U71>0),$R$70=TRUE)","v":false},"☒","☐",{"$f":"'Owce_pow (1)'!$AF$19","v":0},{"$f":"'Owce_pow (1)'!$AD19","v":0}]
[null,null,null,{"$f":"D84","v":"samica gatunku owca domowa w wieku powyżej 12 miesięcy"},null,null,null,null,{"$f":"IF(U72>0,S72,T72)","v":"☐"},{"$f":"IF(V72>0,S72,T72)","v":"☐"},{"$f":"IF(U72<=0,\"\",'Owce_pow (1)'!$AD20)","v":""},null,null,null,null,null,null,{"$f":"AND(OR(K72>0,U72>0),$R$70=TRUE)","v":false},"☒","☐",{"$f":"'Owce_pow (1)'!$AF$20","v":0},{"$f":"'Owce_pow (1)'!$AD20","v":0}]
[null,null,null,"samica gatunku owca domowa w wieku powyżej 12 miesięcy wraz z jagnięciem",null,null,null,null,"☐","☐",{"$f":"IF(U73<=0,\"\",'Owce_pow (1)'!$AD21)","v":""},null,null,null,null,null,null,false,"☒","☐",{"$f":"'Owce_pow (1)'!$AF$21","v":0},{"$f":"'Owce_pow (1)'!$AD21","v":0}]
[null,null,null,"samica gatunku owca domowa w wieku od 6 do 12 miesięcy",null,null,null,null,"☐","☐",{"$f":"IF(U74<=0,\"\",'Owce_pow (1)'!$AD22)","v":""},null,null,null,null,null,null,false,"☒","☐",{"$f":"'Owce_pow (1)'!$AF$22","v":0},{"$f":"'Owce_pow (1)'!$AD22","v":0}]
[null,null,null,"samiec gatunku owca domowa w wieku od 6 do 12 miesięcy, z wyjątkiem samca gatunku owca domowa – skopka",null,null,null,null,"☐","☐",{"$f":"IF(U75<=0,\"\",'Owce_pow (1)'!$AD23)","v":""},null,null,null,null,null,null,false,"☒","☐",{"$f":"'Owce_pow (1)'!$AF$23","v":0},{"$f":"'Owce_pow (1)'!$AD23","v":0}]
[null,null,null,"samiec gatunku owca domowa - skopek",null,null,null,null,"☐","☐",{"$f":"IF(U76<=0,\"\",'Owce_pow (1)'!$AD24)","v":""},null,null,null,null,null,null,false,"☒","☐",{"$f":"'Owce_pow (1)'!$AF$24","v":0},{"$f":"'Owce_pow (1)'!$AD24","v":0}]
[null,null,null,null,null,null,null,null,null,null,null,null,null,null,null,null,null,{"$f":"R70","v":false}]
[null,null,null,"2) Numer siedziby stada:",null,{"$f":"'Owce_pow (2)'!$F$8","v":0},null,null,null,null,null,null,null,null,null,null,null,{"$f":"IF(F78>0,TRUE,FALSE)","v":false},{"$f":"S77","v":0}]
[null,null,null,"Powierzchnia bytowa przeznaczona dla wszystkich grup technologicznych zwierząt z gatunku owca domowa w pomieszczeniach w gospodarstwie rolnym:",null,null,null,null,null,null,null,{"$f":"'Owce_pow (2)'!$J$10","v":0},"m2",null,null,null,null,{"$f":"R78","v":false}]
[null,null,null,"Plenność maciorek (stosunek liczby urodzonych jagniąt do liczby maciorek):",null,null,null,null,null,null,null,{"$f":"'Owce_pow (2)'!J12","v":0},null,null,null,null,null,{"$f":"R79","v":false}]
[null,null,null,"Sposób utrzymywania poszczególnych grup technologicznych owiec \noraz liczba sztuk utrzymywanych pojedynczo",null,null,null,null,null,null,null,null,null,null,null,null,null,{"$f":"R79","v":false}]
[null,null,null,"Kategoria technologiczna",null,null,null,null,"grupowo","pojedynczo","Utrzymywane pojedynczo\nszt.",null,null,null,null,null,null,{"$f":"R81","v":false},null,null,"szt.grup","szt.poj."]
[null,null,null,{"$f":"Owce_N!$K5","v":"samiec gatunku owca domowa w wieku powyżej 12 miesięcy, z wyjątkiem samca gatunku owca domowa – skopka"},null,null,null,null,{"$f":"IF(U83>0,S83,T83)","v":"☐"},{"$f":"IF(V83>0,S83,T83)","v":"☐"},{"$f":"IF(U83<=0,\"\",'Owce_pow (2)'!$AD19)","v":""},null,null,null,null,null,null,{"$f":"AND(OR(K83>0,U83>0),$R$82=TRUE)","v":false},"☒","☐",{"$f":"'Owce_pow (2)'!$AF$19","v":0},{"$f":"'Owce_pow (2)'!$AD19","v":0}]
[null,null,null,{"$f":"Owce_N!$K6","v":"samica gatunku owca domowa w wieku powyżej 12 miesięcy"},null,null,null,null,{"$f":"IF(U84>0,S84,T84)","v":"☐"},{"$f":"IF(V84>0,S84,T84)","v":"☐"},{"$f":"IF(U84<=0,\"\",'Owce_pow (2)'!$AD20)","v":""},null,null,null,null,null,null,{"$f":"AND(OR(K84>0,U84>0),$R$82=TRUE)","v":false},"☒","☐",{"$f":"'Owce_pow (2)'!$AF$20","v":0},{"$f":"'Owce_pow (2)'!$AD20","v":0}]
[null,null,null,{"$f":"Owce_N!$K7","v":"samica gatunku owca domowa w wieku powyżej 12 miesięcy wraz z jagnięciem"},null,null,null,null,"☐","☐",{"$f":"IF(U85<=0,\"\",'Owce_pow (2)'!$AD21)","v":""},null,null,null,null,null,null,false,"☒","☐",{"$f":"'Owce_pow (2)'!$AF$21","v":0},{"$f":"'Owce_pow (2)'!$AD21","v":0}]
[null,null,null,{"$f":"Owce_N!$K8","v":"samica gatunku owca domowa w wieku od 6 do 12 miesięcy"},null,null,null,null,"☐","☐",{"$f":"IF(U86<=0,\"\",'Owce_pow (2)'!$AD22)","v":""},null,null,null,null,null,null,false,"☒","☐",{"$f":"'Owce_pow (2)'!$AF$22","v":0},{"$f":"'Owce_pow (2)'!$AD22","v":0}]
[null,null,null,{"$f":"Owce_N!$K9","v":"samiec gatunku owca domowa w wieku od 6 do 12 miesięcy, z wyjątkiem samca gatunku owca domowa – skopka"},null,null,null,null,"☐","☐",{"$f":"IF(U87<=0,\"\",'Owce_pow (2)'!$AD23)","v":""},null,null,null,null,null,null,false,"☒","☐",{"$f":"'Owce_pow (2)'!$AF$23","v":0},{"$f":"'Owce_pow (2)'!$AD23","v":0}]
[null,null,null,{"$f":"Owce_N!$K10","v":"samiec gatunku owca domowa - skopek"},null,null,null,null,"☐","☐",{"$f":"IF(U88<=0,\"\",'Owce_pow (2)'!$AD24)","v":""},null,null,null,null,null,null,false,"☒","☐",{"$f":"'Owce_pow (2)'!$AF$24","v":0},{"$f":"'Owce_pow (2)'!$AD24","v":0}]
[null,null,null,null,null,null,null,null,null,null,null,null,null,null,null,null,null,{"$f":"R78","v":false}]
[null,null,null,"3) Numer siedziby stada:",null,{"$f":"'Owce_pow (3)'!$F$8","v":0},null,null,null,null,null,null,null,null,null,null,null,{"$f":"IF(F90>0,TRUE,FALSE)","v":false},{"$f":"S89","v":0}]
[null,null,null,"Powierzchnia bytowa przeznaczona dla wszystkich grup technologicznych zwierząt z gatunku owca domowa w pomieszczeniach w gospodarstwie rolnym:",null,null,null,null,null,null,null,{"$f":"'Owce_pow (3)'!$J$10","v":0},"m2",null,null,null,null,{"$f":"R90","v":false}]
[null,null,null,"Plenność maciorek (stosunek liczby urodzonych jagniąt do liczby maciorek):",null,null,null,null,null,null,null,{"$f":"'Owce_pow (3)'!J12","v":0},null,null,null,null,null,{"$f":"R91","v":false}]
[null,null,null,"Sposób utrzymywania poszczególnych grup technologicznych owiec \noraz liczba sztuk utrzymywanych pojedynczo",null,null,null,null,null,null,null,null,null,null,null,null,null,{"$f":"R91","v":false}]
[null,null,null,"Kategoria technologiczna",null,null,null,null,"grupowo","pojedynczo","Utrzymywane pojedynczo\nszt.",null,null,null,null,null,null,{"$f":"R93","v":false},null,null,"szt.grup"]
[null,null,null,{"$f":"D83","v":"samiec gatunku owca domowa w wieku powyżej 12 miesięcy, z wyjątkiem samca gatunku owca domowa – skopka"},null,null,null,null,{"$f":"IF(U95>0,S95,T95)","v":"☐"},{"$f":"IF(V95>0,S95,T95)","v":"☐"},{"$f":"IF(U95<=0,\"\",'Owce_pow (3)'!$AD19)","v":""},null,null,null,null,null,null,{"$f":"AND(OR(K95>0,U95>0),$R$94=TRUE)","v":false},"☒","☐",{"$f":"'Owce_pow (3)'!AF19","v":0},{"$f":"+'Owce_pow (3)'!$AD19","v":0}]
[null,null,null,"samica gatunku owca domowa w wieku powyżej 12 miesięcy",null,null,null,null,{"$f":"IF(U96>0,S96,T96)","v":"☐"},{"$f":"IF(V96>0,S96,T96)","v":"☐"},{"$f":"IF(U96<=0,\"\",'Owce_pow (3)'!$AD20)","v":""},null,null,null,null,null,null,{"$f":"AND(OR(K96>0,U96>0),$R$94=TRUE)","v":false},"☒","☐",{"$f":"'Owce_pow (3)'!AF20","v":0},{"$f":"+'Owce_pow (3)'!$AD20","v":0}]
[null,null,null,"samica gatunku owca domowa w wieku powyżej 12 miesięcy wraz z jagnięciem",null,null,null,null,"☐","☐",{"$f":"IF(U97<=0,\"\",'Owce_pow (3)'!$AD21)","v":""},null,null,null,null,null,null,false,"☒","☐",{"$f":"'Owce_pow (3)'!AF21","v":0},{"$f":"+'Owce_pow (3)'!$AD21","v":0}]
[null,null,null,"samica gatunku owca domowa w wieku od 6 do 12 miesięcy",null,null,null,null,"☐","☐",{"$f":"IF(U98<=0,\"\",'Owce_pow (3)'!$AD22)","v":""},null,null,null,null,null,null,false,"☒","☐",{"$f":"'Owce_pow (3)'!AF22","v":0},{"$f":"+'Owce_pow (3)'!$AD22","v":0}]
[null,null,null,"samiec gatunku owca domowa w wieku od 6 do 12 miesięcy, z wyjątkiem samca gatunku owca domowa – skopka",null,null,null,null,"☐","☐",{"$f":"IF(U99<=0,\"\",'Owce_pow (3)'!$AD23)","v":""},null,null,null,null,null,null,false,"☒","☐",{"$f":"'Owce_pow (3)'!AF23","v":0},{"$f":"+'Owce_pow (3)'!$AD23","v":0}]
[null,null,null,"samiec gatunku owca domowa - skopek",null,null,null,null,"☐","☐",{"$f":"IF(U100<=0,\"\",'Owce_pow (3)'!$AD24)","v":""},null,null,null,null,null,null,false,"☒","☐",{"$f":"'Owce_pow (3)'!AF24","v":0},{"$f":"+'Owce_pow (3)'!$AD24","v":0}]
[null,null,null,null,null,null,null,null,null,null,null,null,null,null,null,null,null,{"$f":"R90","v":false}]
[null,null,null,"4) Numer siedziby stada:",null,{"$f":"'Owce_pow (4)'!$F$8","v":0},null,null,null,null,null,null,null,null,null,null,null,{"$f":"IF(F102>0,TRUE,FALSE)","v":false},{"$f":"S101","v":0}]
[null,null,null,"Powierzchnia bytowa przeznaczona dla wszystkich grup technologicznych zwierząt z gatunku owca domowa w pomieszczeniach w gospodarstwie rolnym:",null,null,null,null,null,null,null,{"$f":"'Owce_pow (4)'!$J$10","v":0},"m2",null,null,null,null,{"$f":"R102","v":false}]
[null,null,null,"Plenność maciorek (stosunek liczby urodzonych jagniąt do liczby maciorek):",null,null,null,null,null,null,null,{"$f":"'Owce_pow (4)'!J12","v":0},null,null,null,null,null,{"$f":"R103","v":false}]
[null,null,null,"Sposób utrzymywania poszczególnych grup technologicznych owiec \noraz liczba sztuk utrzymywanych pojedynczo",null,null,null,null,null,null,null,null,null,null,null,null,null,{"$f":"R103","v":false}]
[null,null,null,"Kategoria technologiczna",null,null,null,null,"grupowo","pojedynczo","Utrzymywane pojedynczo\nszt.",null,null,null,null,null,null,{"$f":"R105","v":false},null,null,"szt.grup","szt.poj."]
[null,null,null,{"$f":"D83","v":"samiec gatunku owca domowa w wieku powyżej 12 miesięcy, z wyjątkiem samca gatunku owca domowa – skopka"},null,null,null,null,{"$f":"IF(U107>0,S107,T107)","v":"☐"},{"$f":"IF(V107>0,S107,T107)","v":"☐"},{"$f":"IF(U107<=0,\"\",'Owce_pow (4)'!$AD19)","v":""},null,null,null,null,null,null,{"$f":"AND(OR(K107>0,U107>0),$R$106=TRUE)","v":false},"☒","☐",{"$f":"'Owce_pow (4)'!AF19","v":0},{"$f":"'Owce_pow (4)'!$AD19","v":0}]
[null,null,null,"samica gatunku owca domowa w wieku powyżej 12 miesięcy",null,null,null,null,{"$f":"IF(U108>0,S108,T108)","v":"☐"},{"$f":"IF(V108>0,S108,T108)","v":"☐"},{"$f":"IF(U108<=0,\"\",'Owce_pow (4)'!$AD20)","v":""},null,null,null,null,null,null,{"$f":"AND(OR(K108>0,U108>0),$R$106=TRUE)","v":false},"☒","☐",{"$f":"'Owce_pow (4)'!AF20","v":0},{"$f":"'Owce_pow (4)'!$AD20","v":0}]
[null,null,null,"samica gatunku owca domowa w wieku powyżej 12 miesięcy wraz z jagnięciem",null,null,null,null,"☐","☐",{"$f":"IF(U109<=0,\"\",'Owce_pow (4)'!$AD21)","v":""},null,null,null,null,null,null,false,"☒","☐",{"$f":"'Owce_pow (4)'!AF21","v":0},{"$f":"'Owce_pow (4)'!$AD21","v":0}]
[null,null,null,"samica gatunku owca domowa w wieku od 6 do 12 miesięcy",null,null,null,null,"☐","☐",{"$f":"IF(U110<=0,\"\",'Owce_pow (4)'!$AD22)","v":""},null,null,null,null,null,null,false,"☒","☐",{"$f":"'Owce_pow (4)'!AF22","v":0},{"$f":"'Owce_pow (4)'!$AD22","v":0}]
[null,null,null,"samiec gatunku owca domowa w wieku od 6 do 12 miesięcy, z wyjątkiem samca gatunku owca domowa – skopka",null,null,null,null,"☐","☐",{"$f":"IF(U111<=0,\"\",'Owce_pow (4)'!$AD23)","v":""},null,null,null,null,null,null,false,"☒","☐",{"$f":"'Owce_pow (4)'!AF23","v":0},{"$f":"'Owce_pow (4)'!$AD23","v":0}]
[null,null,null,"samiec gatunku owca domowa - skopek",null,null,null,null,"☐","☐",{"$f":"IF(U112<=0,\"\",'Owce_pow (4)'!$AD24)","v":""},null,null,null,null,null,null,false,"☒","☐",{"$f":"'Owce_pow (4)'!AF24","v":0},{"$f":"'Owce_pow (4)'!$AD24","v":0}]
[null,null,null,null,null,null,null,null,null,null,null,null,null,null,null,null,null,{"$f":"R102","v":false}]
[null,null,null,"5) Numer siedziby stada:",null,{"$f":"'Owce_pow (5)'!$F$8","v":0},null,null,null,null,null,null,null,null,null,null,null,{"$f":"IF(F114>0,TRUE,FALSE)","v":false},{"$f":"S113","v":0}]
[null,null,null,"Powierzchnia bytowa przeznaczona dla wszystkich grup technologicznych zwierząt z gatunku owca domowa w pomieszczeniach w gospodarstwie rolnym:",null,null,null,null,null,null,null,{"$f":"'Owce_pow (5)'!$J$10","v":0},"m2",null,null,null,null,{"$f":"R114","v":false}]
[null,null,null,"Plenność maciorek (stosunek liczby urodzonych jagniąt do liczby maciorek):",null,null,null,null,null,null,null,{"$f":"'Owce_pow (5)'!J12","v":0},null,null,null,null,null,{"$f":"R115","v":false}]
[null,null,null,"Sposób utrzymywania poszczególnych grup technologicznych owiec \noraz liczba sztuk utrzymywanych pojedynczo",null,null,null,null,null,null,null,null,null,null,null,null,null,{"$f":"R115","v":false}]
[null,null,null,"Kategoria technologiczna",null,null,null,null,"grupowo","pojedynczo","Utrzymywane pojedynczo\nszt.",null,null,null,null,null,null,{"$f":"R117","v":false},null,null,"szt.grup"]
[null,null,null,{"$f":"D107","v":"samiec gatunku owca domowa w wieku powyżej 12 miesięcy, z wyjątkiem samca gatunku owca domowa – skopka"},null,null,null,null,{"$f":"IF(U119>0,S119,T119)","v":"☐"},{"$f":"IF(V119>0,S119,T119)","v":"☐"},{"$f":"IF(U119<=0,\"\",'Owce_pow (5)'!$AD19)","v":""},null,null,null,null,null,null,{"$f":"AND(OR(K119>0,U119>0),$R$118=TRUE)","v":false},"☒","☐",{"$f":"'Owce_pow (5)'!AF19","v":0},{"$f":"'Owce_pow (5)'!$AD19","v":0}]
[null,null,null,"samica gatunku owca domowa w wieku powyżej 12 miesięcy",null,null,null,null,{"$f":"IF(U120>0,S120,T120)","v":"☐"},{"$f":"IF(V120>0,S120,T120)","v":"☐"},{"$f":"IF(U120<=0,\"\",'Owce_pow (5)'!$AD20)","v":""},null,null,null,null,null,null,{"$f":"AND(OR(K120>0,U120>0),$R$118=TRUE)","v":false},"☒","☐",{"$f":"'Owce_pow (5)'!AF20","v":0},{"$f":"'Owce_pow (5)'!$AD20","v":0}]
[null,null,null,"samica gatunku owca domowa w wieku powyżej 12 miesięcy wraz z jagnięciem",null,null,null,null,"☐","☐",{"$f":"IF(U121<=0,\"\",'Owce_pow (5)'!$AD21)","v":""},null,null,null,null,null,null,false,"☒","☐",{"$f":"'Owce_pow (5)'!AF21","v":0},{"$f":"'Owce_pow (5)'!$AD21","v":0}]
[null,null,null,"samica gatunku owca domowa w wieku od 6 do 12 miesięcy",null,null,null,null,"☐","☐",{"$f":"IF(U122<=0,\"\",'Owce_pow (5)'!$AD22)","v":""},null,null,null,null,null,null,false,"☒","☐",{"$f":"'Owce_pow (5)'!AF22","v":0},{"$f":"'Owce_pow (5)'!$AD22","v":0}]
[null,null,null,"samiec gatunku owca domowa w wieku od 6 do 12 miesięcy, z wyjątkiem samca gatunku owca domowa – skopka",null,null,null,null,"☐","☐",{"$f":"IF(U123<=0,\"\",'Owce_pow (5)'!$AD23)","v":""},null,null,null,null,null,null,false,"☒","☐",{"$f":"'Owce_pow (5)'!AF23","v":0},{"$f":"'Owce_pow (5)'!$AD23","v":0}]
[null,null,null,"samiec gatunku owca domowa - skopek",null,null,null,null,"☐","☐",{"$f":"IF(U124<=0,\"\",'Owce_pow (5)'!$AD24)","v":""},null,null,null,null,null,null,false,"☒","☐",{"$f":"'Owce_pow (5)'!AF24","v":0},{"$f":"'Owce_pow (5)'!$AD24","v":0}]
[null,null,"II.7.","W zakresie Wariantu 7. Dobrostan kur niosek"]
[null,null,null,"Dopuszczalna maksymalna liczba kur niosek, które ze względu na wymogi wariantu, mogą przebywać jednocześnie w gospodarstwie rolnym wynosi:",null,null,null,null,null,null,null,{"$f":"Kury_nioski_pow!$O$120","v":0},"szt",null,null,null,null,{"$f":"R125","v":0}]
[null,null,"II.8.","W zakresie Wariantu 8. Dobrostan kurcząt brojlerów"]
[null,null,null,"Dopuszczalna maksymalna liczba kurcząt brojlerów, które ze względu na wymogi wariantu, mogą przebywać jednocześnie w gospodarstwie rolnym wynosi:",null,null,null,null,null,null,null,{"$f":"Brojlery_kur_pow!$Y$120","v":0},"szt"]
[null,null,"II.9.","W zakresie Wariantu 9. Dobrostan indyków utrzymywanych z przeznaczeniem na produkcję mięsa"]
[null,null,null,"Dopuszczalna maksymalna liczba indyków utrzymywanych z przeznaczeniem na produkcję mięsa, które ze względu na wymogi wariantu, mogą przebywać jednocześnie w gospodarstwie rolnym wynosi:",null,null,null,null,null,null,null,{"$f":"Brojlery_ind_pow!$Y$120","v":0},"szt"]
[null,null,"II.10.","W zakresie Wariantu 10. Dobrostan opasów – zwiększona powierzchnia bytowa"]
[null,null,null,"Dopuszczalna maksymalna liczba opasów, które ze względu na wymogi wariantu, mogą przebywać jednocześnie w gospodarstwie rolnym wynosi:",null,null,null,null,null,null,null,{"$f":"Opasy_pow_2!P126","v":0},"szt"]
[null,null,null,"Dopuszczalna maksymalna liczba cieląt i opasów, które ze względu na wymogi wariantu, mogą przebywać jednocześnie w gospodarstwie rolnym wynosi:",null,null,null,null,null,null,null,{"$f":"Opasy_pow_2!P125","v":0},"szt"]
[null,null,"II.11.","W zakresie Wariantu 11. Dobrostan opasów – zwiększona powierzchnia bytowa wraz z wybiegami"]
[null,null,null,"Dopuszczalna maksymalna liczba opasów, które ze względu na wymogi wariantu, mogą przebywać jednocześnie w gospodarstwie rolnym wynosi:",null,null,null,null,null,null,null,{"$f":"Opasy_pow_wyb!P126","v":0},"szt"]
[null,null,null,"Dopuszczalna maksymalna liczba cieląt i opasów, które ze względu na wymogi wariantu, mogą przebywać jednocześnie w gospodarstwie rolnym wynosi:",null,null,null,null,null,null,null,{"$f":"Opasy_pow_wyb!P125","v":0},"szt"]
[null,null,"II.12.","W zakresie Wariantu 12. Dobrostan koni – zwiększona powierzchnia bytowa"]
[null,null,null,"Dopuszczalna maksymalna liczba koni, które ze względu na wymogi wariantu, mogą przebywać jednocześnie w gospodarstwie rolnym wynosi:",null,null,null,null,null,null,null,{"$f":"Konie_byt!P127","v":0},"szt"]
[null,null,null,"Powierzchnie zewnętrzne lub biegalnie dla  koni dorosłych/młodzieży:",null,null,{"$f":"Konie_byt!I16","v":0},"m2","Krotność dostępu do powierzchni zewnętrznej/biegalni dziennie:",null,null,{"$f":"Konie_byt!J16","v":0}]
[null,null,null,"Powierzchnie zewnętrzne lub biegalnie dla  klacze ze źrebiętami:",null,null,{"$f":"Konie_byt!I17","v":0},"m2","Krotność dostępu do powierzchni zewnętrznej/biegalni dziennie:",null,null,{"$f":"Konie_byt!J17","v":0}]
[null,null,"II.13.","W zakresie Wariantu 13. Dobrostan koni  –  system otwarty"]
[null,null,null,"Powierzchnia w systemie otwartym wynosi:",null,null,null,null,null,null,null,{"$f":"Konie_otw!G127","v":0},"ha"]
[null,null,"II.14.","W zakresie Wariantu 14. Dobrostan kóz"]
[null,null,null,"1) Numer siedziby stada:",null,{"$f":"'Kozy_pow (1)'!$F$8","v":0}]
[null,null,null,"Dopuszczalna maksymalna liczba cieląt i opasów, które ze względu na wymogi wariantu, mogą przebywać jednocześnie w gospodarstwie rolnym wynosi:",null,null,null,null,null,null,null,{"$f":"'Kozy_pow (1)'!L46","v":0},"szt"]
[null,null,null,"Powierzchnie wybiegów - dostęp do wybiegu przez cały rok - wynoszą:",null,null,null,null,null,null,null,{"$f":"'Kozy_pow (1)'!F52","v":0},"m2"]
[null,null,null,null,null,null,null,null,null,null,null,null,null,null,null,null,null,true]
[null,null,"III. Oświadczenia i podpisy",null,null,null,null,null,null,null,null,null,null,null,null,null,null,true]
[null,null,"III.1.","Oświadczenie rolnika o przekazaniu pełnych i prawdziwych danych niezbędnych do sporządzenia planu poprawy dobrostanu zwierząt",null,null,null,null,null,null,null,null,null,null,null,null,null,true]
[null,null,null,"Oświadczam, że dane przekazane do sporządzenia planu  poprawy dobrostanu zwierząt  są pełne i prawdziwe.",null,null,null,null,null,null,null,null,null,null,null,null,null,true]
[null,null,null,null,null,null,null,null,null,null,null,null,null,null,null,null,null,true]
[null,null,null,null,null,null,null,null,null,null,null,null,null,null,null,null,null,true]
[null,null,null,"(miejscowość i data)",null,null,null,null,"(czytelny podpis rolnika)",null,null,null,null,null,null,null,null,true]
[null,null,"III.2.","Podpisy i data sporządzenia planu poprawy dobrostanu zwierząt",null,null,null,null,null,null,null,null,null,null,null,null,null,true]
[null,null,null,null,null,null,null,null,null,null,null,null,null,null,null,null,null,true]
[null,null,null,"(miejscowość)",null,null,null,null,"(data sporządenia/zmiany planu)",null,null,null,null,null,null,null,null,true]
[null,null,null,null,null,null,null,null,null,null,null,null,null,null,null,null,null,true]
[null,null,null,"(czytelny podpis doradcy)",null,null,null,null,"(czytelny podpis rolnika)",null,null,null,null,null,null,null,null,true]

{"sheet":"1_Wymogi_LOCHY_rozgęszczenie","index":49,"n_rows":19,"n_cols":10,"rows_kept":19,"cut":false,"hidden":false,"merged":[[1,1,1,9],[3,2,3,9],[9,2,9,9],[10,2,10,9],[11,2,11,9],[13,2,13,9],[15,2,15,9],[17,1,17,9],[2,2,2,9],[4,2,4,9],[5,2,5,9],[6,2,6,9],[7,2,7,9],[8,2,8,9],[14,2,14,9],[12,2,12,9]]}
[null,null,null,null,null,null,null,null,null,"POWRÓT"]
[null,"WYBRANE wymogi i warunki Wariantu 1. Dobrostan loch"]
[null,"1.","Wszystkie lochy są oznakowane kolczykiem z indywidualnym numerem identyfikacyjnym lochy, zgodnie z przepisami o systemie identyfikacji i rejestracji zwierząt a świnia inna niż locha nie została oznakowana kolczykiem z indywidualnym numerem identyfikacyjnym lochy i nie została zarejestrowana jako locha zgodnie z przepisami o systsemie identyfikacji i rejestracji zwierząt"]
[null,"2.","Powierzchnia bytowa kojca w budynkach inwentarskich, w przeliczeniu na jedna sztukę, wynosi co najmniej:"]
[null,"a)","4,2 m2 – dla loch w okresie porodu i odchowu prosiąt ssących"]
[null,"b)","2,7 m2 – dla loch lub loszek od 4. tygodnia po pokryciu do tygodnia przed przewidywanym terminem proszenia utrzymywanych pojedynczo – w przypadku gospodarstw utrzymujących mniej niż 10 loch lub loszek od 4. tygodnia po pokryciu do tygodnia przed przewidywanym terminem proszenia"]
[null,"c)","2,7 m2 – dla loch – w przypadku utrzymywania grupowego loch, przy czym w przypadku loch prośnych, co najmniej 1,3 m2 powierzchni kojca powinno stanowić stałe podłoże i nie więcej niż 15% tego podłoża – otwory odpływowe"]
[null,"d)","2 m2 – dla loszek po pokryciu – w przypadku utrzymywania grupowego loszek po pokryciu, przy czym co najmniej 0,95 m2 powierzchni kojca powinno stanowić stałe podłoże i nie więcej niż 15% tego podłoża – otwory odpływowe"]
[null,"e)","3 m2 – dla loch – w przypadku utrzymywania grupowego do 5 sztuk loch, przy czym w przypadku loch prośnych, co najmniej 1,3 m2 powierzchni kojca powinno stanowić stałe podłoże i nie więcej niż 15% tego podłoża – otwory odpływowe"]
[null,"f)","2,4 m2 – dla loch – w przypadku utrzymywania grupowego powyżej 39 sztuk loch przy czym w przypadku loch prośnych, co najmniej 1,3 m2 powierzchni kojca powinno stanowić stałe podłoże i nie więcej niż 15% tego podłoża – otwory odpływowe"]
[null,"g)","2,2 m2 – dla loszek po pokryciu – w przypadku utrzymywania grupowego do 5 sztuk loszek po pokryciu, przy czym co najmniej 0,95 m2 powierzchni kojca powinno stanowić stałe podłoże i nie więcej niż 15% tego podłoża – otwory odpływowe"]
[null,"h)","1,8 m2 – dla loszek po pokryciu – w przypadku utrzymywania grupowego powyżej 39 sztuk loszek po pokryciu przy czym co najmniej 0,95 m2 powierzchni kojca powinno stanowić stałe podłoże i nie więcej niż 15% tego podłoża – otwory odpływowe"]
[null,"3.","Prowadzenie na formularzu udostępnionym przez Agencję rejestru sposobu utrzymywania loch w okresie okołoporodowym, jeżeli w planie poprawy dobrostanu zwierząt lub w oświadczeniu, o którym mowa w § 3 ust. 5 rozporządzenia, oświadczono, że lochy są utrzymywane w takim systemie w okresie okołoporodowym, w którym w odniesieniu do każdej lochy wskazuje się terminy utrzymywania tej lochy w systemie jarzmowym w okresie okołoporodowym, jeżeli była ona tak utrzymywana i dostarczenie go do Agencji w terminie od dnia 15 marca do dnia 31 marca roku następującego po roku złożenia wniosku o przyznanie płatności dobrostanowe."]
[null,"4.","Liczba loch utrzymywanych w gospodarstwie nie jest większa niż dopuszczalna maksymalna liczby loch, które mogą przebywać jednocześnie w gospodarstwie z uwzględnieniem wymogów wariantu (określona w planie poprawy dobrostanu zwierząt)"]
[null,"5.","Powierzchnia bytowa w pomieszczeniach w których utrzymuje się zwierzęta, dla grup technologicznych świń innych niż lochy i loszki po pokryciu – jest zgodna z odpowiednimi obowiązkowymi wymogami ustanowionymi zgodnie z tytułem VI rozdziału I rozporządzenia Parlamentu Europejskiego i Rady (UE) nr 1306/2013 z dnia 17 grudnia 2013 r. w sprawie finansowania wspólnej polityki rolnej, zarządzania nią i monitorowania jej oraz uchylającego rozporządzenia Rady (EWG) nr 352/78, (WE) nr 165/94, (WE) nr 2799/98, (WE) nr 814/2000, (WE) nr 1290/2005 i (WE) nr 485/2008 (Dz. Urz. UE L 347 z 20.12.2013, str. 549, z późn. zm.) oraz innymi odpowiednimi obowiązkowymi wymogami wynikającymi z rozporządzenia Ministra Rolnictwa i Rozwoju Wsi z dnia 15 lutego 2010 r. w sprawie wymagań i sposobu postępowania przy utrzymywaniu gatunków zwierząt gospodarskich, dla których normy ochrony zostały określone w przepisach Unii Europejskiej (Dz. U. poz. 344, z późn. zm.). "]
[null,"6.","Lochy nie mogą być utrzymywane w systemie jarzmowym jednak dopuszcza się możliwość utrzymywania w systemie jarzmowym, ale nie dłużej niż przez 8 dni w okresie okołoporodowym."]
[]
[null,"Wymogi dotyczą wszystkich loch i loszek po pokryciu w  gospodarstwie rolnym (wszystkie siedziby stad)"]
[null,null,null,"Kwota wsparcia:",null,"zł/szt."]

{"sheet":"1_Lochy_2","index":50,"n_rows":28,"n_cols":11,"rows_kept":28,"cut":false,"hidden":false,"merged":[[2,1,2,5],[3,1,4,1],[3,2,4,2],[3,3,4,3],[6,1,12,1],[6,2,6,5],[7,2,11,2],[7,3,11,3],[7,4,11,4],[13,1,22,1],[13,2,17,2],[18,2,22,2],[23,2,23,5],[24,1,27,1],[24,4,27,4]]}
[]
[]
[null,"LOCHY"]
[null,"Lp",null,"Obowiązujące normy prawne*","Wymogi obowiązujące","Wymogi obowiązujące"]
[null,null,null,null,"w dobrostanie - zwiększona o co najmniej 20% powierzchnia bytowa","w dobrostanie - zwiększona o co najmniej 50% powierzchnia bytowa"]
[null,"1.      ","Powierzchnia kojca, dla loch w okresie porodu i odchowu prosiąt ssących ","co najmniej 3,5 m2","co najmniej 4,2 m2 ","co najmniej 5,25 m2",null,"loch w okresie porodu i odchowu prosiąt ssących ",3.5,4.2,5.25]
[null,"2.      ","Powierzchnia kojca w przeliczeniu na jedną sztukę powinna wynosić, w przypadku utrzymywania grupowo:"]
[null,null,"Loch","co najmniej 2,25 m2, przy czym w przypadku loch prośnych, co najmniej 1,3 m2 powierzchni kojca powinno stanowić stałe podłoże i nie więcej niż 15% tego podłoża - otwory odpływowe","co najmniej 2,7 m2, przy czym w przypadku loch prośnych, co najmniej 1,3 m2 powierzchni kojca powinno stanowić stałe podłoże i nie więcej niż 15% tego podłoża - otwory odpływowe "]
[]
[null,null,null,null,null,"co najmniej 3,4 m2, przy czym w przypadku loch prośnych, co najmniej 1,3 m2 powierzchni kojca powinno stanowić stałe podłoże i nie więcej niż 15% tego podłoża - otwory odpływowe"]
[]
[]
[null,null,"Loszek po pokryciu","co najmniej 1,64 m2, przy czym co najmniej 0,95 m2 powierzchni kojca powinno stanowić stałe podłoże i nie więcej niż 15% tego podłoża - otwory odpływowe","co najmniej 2 m2, przy czym co najmniej 0,95 m2 powierzchni kojca powinno stanowić stałe podłoże i nie więcej niż 15% tego podłoża - otwory odpływowe","co najmniej 2,5 m2, przy czym co najmniej 0,95 m2 powierzchni kojca powinno stanowić stałe podłoże i nie więcej niż 15% tego podłoża - otwory odpływowe"]
[null,"3.          ","Loch ","-    do 5 sztuk - powinna być większa o 10%**;","-    do 5 sztuk - powinna być większa o 10%** tj. 3 m2;","-    do 5 sztuk - powinna być większa o 10%**"]
[null,null,null,"-    powyżej 39 sztuk - może być mniejsza o 10%**","-    powyżej 39 sztuk - może być mniejsza o 10%** tj. 2,4 m2","tj. 3,8 m2;"]
[null,null,null,null,null,"-    powyżej 39 sztuk - może być mniejsza o 10%**"]
[null,null,null,null,null,"tj. 3 m2"]
[]
[null,null,"Loszek po pokryciu","-    do 5 sztuk - powinna być większa o 10%**;","-    do 5 sztuk - powinna być większa o 10%** tj. 2,2 m2;","-    do 5 sztuk - powinna być większa o 10%**"]
[null,null,null,"-    powyżej 39 sztuk - może być mniejsza o 10%**","-    powyżej 39 sztuk - może być mniejsza o 10%** tj. 1,8 m2","tj.  2,7 m2;"]
[null,null,null,null,null,"-    powyżej 39 sztuk - może być mniejsza o 10%**"]
[null,null,null,null,null,"tj.  2,2 m2"]
[]
[null,null,"Powierzchnia kojca w przeliczeniu na jedną sztukę powinna wynosić, w przypadku utrzymywania pojedynczo:"]
[null,"4.          ",null,"co najmniej:","co najmniej 2,7 m2"]
[null,null,"Loch (***)","-    długość - długość zwierzęcia powiększona o 0,3 m, nie mniej jednak niż 2 m;"]
[null,null,null,"-    szerokość 0,6 m."]
[null,null,null,null,null,"co najmniej 3,4 m2"]

{"sheet":"2_Wymogi_TUCZNIKI_rozgęszcz","index":51,"n_rows":15,"n_cols":10,"rows_kept":15,"cut":false,"hidden":false,"merged":[[1,1,1,9],[14,3,14,6],[2,2,2,9],[3,2,3,9],[4,2,4,9],[5,2,5,9],[6,2,6,9],[7,2,7,9],[8,2,8,9],[9,2,9,9],[11,2,11,9],[13,1,13,9],[10,2,10,9]]}
[null,null,null,null,null,null,null,null,null,"POWRÓT"]
[null,"WYBRANE wymogi Wariantu 2. Dobrostan tuczników – zwiększona powierzchnia w budynkach "]
[null,"1.","Powierzchnia bytowa kojca w budynkach inwentarskich, w przeliczeniu na jedna sztukę, w przypadku utrzymywania grupowego warchlaków i tuczników, wynosi co najmniej:"]
[null,"a)","0,18 m2 – w przypadku świń o masie ciała do 10 kg"]
[null,"b)","0,24 m2 – w przypadku świń o masie ciała powyżej 10 do 20 kg"]
[null,"c)","0,36 m2 – w przypadku świń o masie ciała powyżej 20 do 30 kg"]
[null,"d)","0,48 m2 – w przypadku świń o masie ciała powyżej 30 do 50 kg"]
[null,"e)","0,66 m2 – w przypadku świń o masie ciała powyżej 50 do 85 kg"]
[null,"f)","0,78 m2 – w przypadku świń o masie ciała powyżej 85 do 110 kg"]
[null,"g)","1,2 m2 – w przypadku świń o masie ciała powyżej 110 kg"]
[null,"2.","Powierzchnia bytowa w pomieszczeniach w których utrzymuje się zwierzęta dla grup technologicznych świń innych niż warchlaki i tuczniki – jest zgodna z odpowiednimi obowiązkowymi wymogami ustanowionymi zgodnie z tytułem VI rozdziału I rozporządzenia Parlamentu Europejskiego i Rady (UE) nr 1306/2013 z dnia 17 grudnia 2013 r. w sprawie finansowania wspólnej polityki rolnej, zarządzania nią i monitorowania jej oraz uchylającego rozporządzenia Rady (EWG) nr 352/78, (WE) nr 165/94, (WE) nr 2799/98, (WE) nr 814/2000, (WE) nr 1290/2005 i (WE) nr 485/2008 oraz innymi odpowiednimi obowiązkowymi wymogami wynikającymi z rozporządzenia Ministra Rolnictwa i Rozwoju Wsi z dnia 15 lutego 2010 r. w sprawie wymagań i sposobu postępowania przy utrzymywaniu gatunków zwierząt gospodarskich, dla których normy ochrony zostały określone w przepisach Unii Europejskiej. "]
[null,"3.","Liczba warchlaków i tuczników, utrzymywanych w gospodarstwie nie jest większa niż dopuszczalna maksymalna liczba warchlaków i tuczników, które mogą przebywać jednocześnie w gospodarstwie, z uwzględnieniem wymogów wariantu  (określona w planie poprawy dobrostanu zwierząt)"]
[]
[null,"Wymogi dotyczą wszystkich warchlaków i tuczników w  gospodarstwie rolnym (wszystkie siedziby stad) - jednak płatność przysługuje tylko do tuczników pochodzących od loch dobrostanowych"]
[null,null,null,"Kwota wsparcia:",null,null,null,null,"zł/szt."]

{"sheet":"4_Wymogi_MLECZNE_rozgęszcz","index":52,"n_rows":15,"n_cols":10,"rows_kept":15,"cut":false,"hidden":true,"merged":[[12,2,12,8],[1,1,1,9],[2,2,2,9],[3,2,3,9],[4,2,4,9],[5,2,5,9],[6,2,6,9],[11,2,11,9],[7,2,7,9],[8,2,8,9],[9,2,9,9],[10,2,10,9]]}
[null,null,null,null,null,null,null,null,null,"POWRÓT"]
[null,"Wybrane wymogi Wariantu 4. Dobrostan krów mlecznych utrzymywanych grupowo - zwiększona powierzchnia w budynkach"]
[null,"1.","Powierzchnia bytowa w budynkach inwentarskich dla krów mlecznych w gospodarstwie, w przeliczeniu na jedną sztukę wynosi:"]
[null,"a)","w systemie wolnostanowiskowym z wydzielonymi legowiskami dla:"]
[null,"-","wydzielonego legowiska: długość – co najmniej 2,1 m, szerokość – co najmniej 1,1 m,"]
[null,"-","powierzchni odpasowo – ruchowej: co najmniej 4 m2."]
[null,"b)","w systemie wolnostanowiskowym bez wydzielonych legowisk na ściółce – co najmniej 5,4 m2"]
[null,"2. ","Powierzchnia bytowa w pomieszczeniach w których utrzymuje się zwierzęta:"]
[null,"a)","dla innych niż krowy mleczne grup technologicznych bydła użytkowanego w kierunku mlecznym, lub typie użytkowym kombinowanym o mlecznym kierunku ich użytkowania"]
[null,"b)","dla krów mamek"]
[null,null,"– jest zgodna z odpowiednimi obowiązkowymi wymogami ustanowionymi zgodnie z tytułem VI rozdziału I rozporządzenia Parlamentu Europejskiego i Rady (UE) nr 1306/2013 z dnia 17 grudnia 2013 r. w sprawie finansowania wspólnej polityki rolnej, zarządzania nią i monitorowania jej oraz uchylającego rozporządzenia Rady (EWG) nr 352/78, (WE) nr 165/94, (WE) nr 2799/98, (WE) nr 814/2000, (WE) nr 1290/2005 i (WE) nr 485/2008 oraz innymi odpowiednimi obowiązkowymi wymogami wynikającymi z rozporządzenia Ministra Rolnictwa i Rozwoju Wsi z dnia 28 czerwca 2010 r. w sprawie minimalnych warunków utrzymywania gatunków zwierząt gospodarskich innych niż te, dla których normy ochrony zostały określone w przepisach Unii Europejskiej (Dz. U. z 2019 r. poz. 1966).\n"]
[null,"2.","Liczba krów mlecznych utrzymywanych w gospodarstwie, nie jest większa niż dopuszczalna maksymalna liczba krów mlecznych, które mogą przebywać jednocześnie w gospodarstwie, z uwzględnieniem wymogów wariantu (określona w planie poprawy dobrostanu zwierząt)."]
[null,null,"Wymogi wariantu muszą być spełnione dla wszystkich krów mlecznych, w tym krów w typie użytkowym kombinowanym o zgłoszonym mlecznym kierunku użytkowania  w gospodarstwie rolnym (wszystkie siedziby stad)"]
[]
[null,null,null,null,"Kwota wsparcia:",null,"zł/szt."]

{"sheet":"5_Wymogi_MIĘSNE_rozgęszcz","index":53,"n_rows":12,"n_cols":11,"rows_kept":12,"cut":false,"hidden":true,"merged":[[8,2,8,9],[1,1,1,9],[11,5,11,6],[2,2,2,9],[3,2,3,9],[4,2,4,9],[5,2,5,9],[6,2,6,9],[7,2,7,9],[10,2,10,8],[9,2,9,9]]}
[null,null,null,null,null,null,null,null,null,null,"POWRÓT"]
[null,"WYBRANE Wymogi Wariantu 5. Dobrostan krów mamek"]
[null,"1.","Wypasanie  (bez uwięzi) na trwałych użytkach zielonych lub gruntach ornych, na których występują trawy lub inne zielne rośliny pastewne przez minimum 140 dni stada bydła w typie użytkowym mięsnym (krów mamek, cieląt, jałówek i opasów do 300 kg)  lub kombinowanym zgłoszonym jako mięsny kierunek użytkowania, w okresie od dnia 1 kwietnia do dnia 15 października (w przypadku złożenia wniosku do dnia 1 kwietnia) lub od dnia wskazanego przez rolnika w oświadczeniu (pkt 3 poniżej) jednak nie wcześniej niż od dnia 1 kwietnia do dnia 15 października roku, w którym został złożony wniosek o przyznanie płatności dobrostanowej (w przypadku gdy ten wniosek został złożony po dniu 1 kwietnia)."]
[null,"2.","Zapewnienie w okresie od dnia 16 października roku złożenia wniosku o przyznanie płatności dobrostanowej do dnia 14 marca kolejnego roku, dostępu do zewnętrznej powierzchni bytowej (pastwiska, wybiegi lub okólniki) dla krów mamek, cieląt, jałówek i opasów o masie ciała do 300 kg w typie użytkowym mięsnym lub w typie użytkowym kombinowanym o mięsnym kierunku ich użytkowania, wynoszącej, w przeliczeniu na jedną sztukę, dla:"]
[null,"a)","cieląt – co najmniej 6 m2"]
[null,"b)","jałówek – co najmniej 12 m2"]
[null,"c)","opasów  o masie ciała do 300 kg – co najmniej 12 m2"]
[null,"d)","krów – co najmniej 18 m2"]
[null,"3.","Przekazanie do ARiMR od dnia 16 października do dnia 31 października oświadczenia o zapewnieniu wypasu stada bydła w typie użytkowym mięsnym przez minimum 140 dni w okresie,o którym mowa w pkt. 1, a w przypadku przemieszczenia tego bydła w tym okresie do innego gospodarstwa – ze wskazaniem, dokąd zostało ono przemieszczone i na jakich działkach było wypasane, a w przypadku, gdy wniosek o przyznanie płatności dobrostanowej został złożony po dniu 1 kwietnia – również ze wskazaniem daty rozpoczęcia wypasu.  "]
[null,"4.","Utrzymywanie bez uwięzi krów mamek, cieląt, jałówek i opasów o masie ciała do 300 kg  w typie użytkowym mięsnym lub w typie użytkowym kombinowanym o mięsnym kierunku ich użytkowania"]
[null,null,"Wymogi wariantu muszą być spełnione całym w gospodarstwie rolnym (wszystkie siedziby stad)"]
[null,null,null,null,null,"Kwota wsparcia:",null,null,"zł/krowę mamkę"]

{"sheet":"6_Wymogi_OWCE_rozgeszcz","index":54,"n_rows":20,"n_cols":11,"rows_kept":20,"cut":false,"hidden":true,"merged":[[10,2,10,9],[16,2,16,9],[18,2,18,8],[19,5,19,6],[11,2,11,9],[12,2,12,9],[13,2,13,9],[14,2,14,9],[15,2,15,9],[17,2,17,9],[9,2,9,9],[5,2,5,9],[6,2,6,9],[7,2,7,9],[1,1,1,9],[2,2,2,9],[3,2,3,9],[4,2,4,9],[8,2,8,9]]}
[null,null,null,null,null,null,null,null,null,null,"POWRÓT"]
[null,"WYBRANE Wymogi Wariantu 6. Dobrostan owiec "]
[null,"1.","Wypasanie wszystkich utrzymywanych w gospodarstwie rolnym zwierząt z gatunku owca domowa na trwałych użytkach zielonych lub na gruntach ornych, na których występują trawy lub inne zielne rośliny pastewne, lub zapewnienie tym zwierzętom dostępu do wybiegu co najmniej przez 120 dni w okresie: od dnia 1 kwietnia roku, w którym został złożony wniosek o przyznanie płatności dobrostanowej, do dnia 15 października tego roku (w przypadku gdy wniosek został złożony do dnia 1 kwietnia) lub od dnia złożenia wniosku o przyznanie płatności dobrostanowej do dnia 15 października roku, w którym został złożony ten wniosek (w przypadku gdy ten wniosek został złożony po dniu 1 kwietnia)."]
[null,"2.","Powierzchnia bytowa w pomieszczeniu dla wszystkich utrzymywanych w gospodarstwie rolnym zwierząt z gatunku owca domowa  od dnia złożenia wniosku do dnia 14 marca kolejnego roku wynosi co najmniej:"]
[null,"a)","w przypadku utrzymywania pojedynczego:"]
[null,"–","samicy gatunku owca domowa w wieku powyżej 12 miesięcy – 2,16 m2,"]
[null,"–","samicy gatunku owca domowa w wieku powyżej 12 miesięcy z jagnięciem – 3 m2 i dodatkowo co najmniej 0,84 m2 dla każdego następnego jagnięcia ssącego,"]
[null,"–","samicy gatunku owca domowa w wieku od 6 do 12 miesięcy – 1,8 m2,"]
[null,"–","samca gatunku owca domowa w wieku powyżej 12 miesięcy z wyjątkiem samca gatunku owca domowa – skopka – 3,6 m2,"]
[null,"–","samca gatunku owca domowa w wieku od 6 do 12 miesięcy z wyjątkiem samca gatunku owca domowa – skopka – 2,4 m2,"]
[null,null,"samca gatunku owca domowa - skopka – 0,96 m2,"]
[null,"b)","w przypadku utrzymywania grupowego, w przeliczeniu na jedną sztukę:"]
[null,null,"– samicy gatunku owca domowa w wieku powyżej 12 miesięcy – 1,2 m2,"]
[null,null,"– samicy gatunku owca domowa w wieku powyżej 12 miesięcy z jagnięciem – 1,8 m2 i dodatkowo co najmniej 0,6 m2 dla każdego następnego jagnięcia ssącego,"]
[null,null,"– samicy gatunku owca domowa w wieku od 6 do 12 miesięcy – 0,96 m2,"]
[null,null,"– samca gatunku owca domowa w wieku powyżej 12 miesięcy z wyjątkiem samca gatunku owca domowa  – skopka – 2,4 m2,"]
[null,null,"– samca gatunku owca domowa w wieku od 6 do 12 miesięcy z wyjątkiem samca gatunku owca domowa  – skopka – 1,8 m2"]
[null,null,"samca gatunku owca domowa - skopka – 0,72 m2."]
[null,null,"Wymogi wariantu muszą być spełnione w całym gospodarstwie rolnym (wszystkie siedziby stad)"]
[null,null,null,null,null,"Kwota wsparcia:",null,null,"zł/owcę matkę"]

{"sheet":"7_Wym_kur_nios","index":55,"n_rows":24,"n_cols":6,"rows_kept":24,"cut":false,"hidden":true,"merged":[[1,1,1,9],[9,1,9,4],[11,1,12,1],[11,2,12,2],[11,4,12,4],[22,1,22,4],[20,1,21,1],[20,2,21,2],[2,2,2,4],[3,2,3,4],[4,2,4,4],[5,2,5,4],[6,2,6,4],[7,2,7,4],[13,1,13,4],[15,1,18,1]]}
[null,null,null,null,null,"POWRÓT"]
[null,"WYBRANE Wymogi Wariantu 7. Dobrostan kur niosek"]
[null,"-","zakaz przycinania dziobów;"]
[null,"-","zapewnienie utrzymania bez klatek na ściółce;"]
[null,"-","zapewnienie zwiększonej powierzchni bytowej w kurniku – obsada nie większa niż 7 szt./m2 powierzchni użytkowej podłogi;"]
[null,"-","zapewnienie zwiększonej dostępności gniazd: w przypadku stosowania gniazd pojedynczych – nie więcej niż 5 kur niosek/gniazdo, a w przypadku gniazd grupowych – nie więcej niż 96 kur niosek/m2 powierzchni gniazda;"]
[null,"-","zapewnienie grzędy o długości min. 0,2 m/kurę nioskę;"]
[null,"-","zapewnienie stałego dostępu do materiałów lub przedmiotów absorbujących uwagę o jakości niewywierającej szkodliwego wpływu na zdrowie."]
[]
[null,"KURY NIOSKI"]
[null,"Lp",null,"Obowiązujące normy prawne*","Wymogi obowiązujące w dobrostanie "]
[null,"1.",null,"utrzymanie klatkowe"," utrzymanie bez klatek "]
[null,null,null,"utrzymanie bez klatek "]
[null,"W przypadku utrzymywania kur niosek bez klatek "]
[null,"2.","Obsada","max 9 szt./m2","max 7 szt./m2"]
[null,"3.","Gniazdo "]
[null,null," pojedyncze ","max 7 kur niosek/gniazdo","max 5 kur niosek/gniazdo"]
[null,null," lub"]
[null,null," grupowe","max 120 kur niosek/m2","max 96 kur niosek/m2"]
[null,"4.","Grzęda","co najmniej 0,15 m x liczba kur niosek","co najmniej 0,2 m x liczba kur niosek "]
[null,"5.","Inne","w celu przeciwdziałania wydziobywaniu piór i kanibalizmowi możliwe jest przycinanie dziobów przed ukończeniem 10 dnia życia","zakaz przycinania dziobów"]
[null,null,null,"-","zapewnienie stałego dostępu do materiałów lub przedmiotów absorbujących uwagę o jakości niewywierającej szkodliwego wpływu na zdrowie"]
[null,"(*) Rozporządzenie MRiRW z dnia 15 lutego 2010 r. w sprawie wymagań i sposobu postępowania przy utrzymywaniu gatunków zwierząt gospodarskich, dla których normy ochrony zostały określone w przepisach Unii Europejskiej (Dz. U. Nr 56, poz. 344, z późn. zm.)."]
[null,null,"Kwota wsparcia:",null,"zł/szt."]

{"sheet":"8_Wym_broj_kur","index":56,"n_rows":14,"n_cols":6,"rows_kept":14,"cut":false,"hidden":true,"merged":[[12,1,12,4],[1,1,1,9],[6,1,6,4],[8,1,8,4],[10,1,11,1],[10,2,11,2],[2,2,2,4],[3,2,3,4],[4,2,4,4]]}
[null,null,null,null,null,"POWRÓT"]
[null,"WYBRANE Wymogi Wariantu 8. Dobrostan  kurcząt brojlerów"]
[null,"-","zapewnienie zwiększonej powierzchni bytowej w kurniku - maksymalne zagęszczenie obsady nie większe niż 30 kg/m2 i jednocześnie nie większe niż 20 szt./m2;"]
[null,"-","zapewnienie minimum 6 godzin fazy ciemnej/dobę następującej po fazie jasnej oświetlenia;"]
[null,"-","zapewnienie stałego dostępu do materiałów lub przedmiotów absorbujących uwagę o jakości niewywierającej szkodliwego wpływu na zdrowie."]
[]
[null,"KURCZĘTA BROJLERY"]
[null,"Lp",null,"Obowiązujące normy prawne*","Wymogi obowiązujące w dobrostanie "]
[null,"Utrzymywanie kurcząt brojlerów "]
[null,"1.","Obsada","max 33 kg/m2","max 30 kg/m2 i nie więcej niż 20 szt./m2"]
[null,"2.","Inne","w okresie 7 dni od dnia umieszczenia kurcząt brojlerów w kurniku, a także w okresie 3 dni przed przewidywanym dniem ich uboju oświetlenie dostosowuje się do 24-godzinnego rytmu, z okresami zaciemnienia trwającymi co najmniej 6 godzin ogółem i co najmniej z jednym okresem nieprzerwanego zaciemnienia trwającym przynajmniej 4 godziny, z wyłączeniem okresów przyciemniania","co najmniej 6 godzin fazy ciemnej/dobę następującej po fazie jasnej oświetlenia;"]
[null,null,null,"-","stały dostęp do materiałów lub przedmiotów absorbujących uwagę o jakości niewywierającej szkodliwego wpływu na zdrowie"]
[null,"(*) Rozporządzenie MRiRW z dnia 15 lutego 2010 r. w sprawie wymagań i sposobu postępowania przy utrzymywaniu gatunków zwierząt gospodarskich, dla których normy ochrony zostały określone w przepisach Unii Europejskiej (Dz. U. Nr 56, poz. 344, z późn. zm.)."]
[null,null,"Kwota wsparcia:",null,"zł/szt."]

{"sheet":"9_Wym_indyk","index":57,"n_rows":14,"n_cols":6,"rows_kept":14,"cut":false,"hidden":true,"merged":[[12,1,12,4],[2,2,2,4],[3,2,3,4],[4,2,4,4],[1,1,1,9],[6,1,6,4],[8,1,8,4],[10,1,11,1],[10,2,11,2]]}
[null,null,null,null,null,"POWRÓT"]
[null,"WYBRANE Wymogi Wariantu 9. Dobrostan indyków utrzymywanych z przeznaczeniem na produkcję mięsa"]
[null,"-","zapewnienie zwiększonej powierzchni bytowej w pomieszczeniu – maksymalne zagęszczenie obsady nie większe niż 50 kg/m2;"]
[null,"-","zapewnienie 8 godzin fazy ciemnej/dobę następującej po fazie jasnej oświetlenia;"]
[null,"-","zapewnienie stałego dostępu do materiałów lub przedmiotów absorbujących uwagę o jakości niewywierającej szkodliwego wpływu na zdrowie."]
[]
[null,"INDYKI UTRZYMYWANE Z PRZEZNACZENIEM NA PRODUKCJĘ MIĘSA"]
[null,"Lp",null,"Obowiązujące normy prawne*","Wymogi obowiązujące w dobrostanie "]
[null,"Utrzymywanie indyków bez klatek"]
[null,"1.","Obsada","max 57 kg/m2","max 50 kg/m2  "]
[null,"2.","Inne","-","zapewnienie co najmniej 8 godzin fazy ciemnej/dobę następującej po fazie jasnej oświetlenia"]
[null,null,null,"-","zapewnienie stałego dostępu do materiałów lub przedmiotów absorbujących uwagę o jakości niewywierającej szkodliwego wpływu na zdrowie"]
[null,"(*)Rozporządzenie Ministra Rolnictwa i Rozwoju Wsi z dnia 28 czerwca 2010 r. w sprawie minimalnych warunków utrzymywania gatunków zwierząt gospodarskich innych niż te, dla których normy ochrony zostały określone w przepisach Unii Europejskiej (t. j. Dz. U. z 2019, poz. 1966)."]
[null,null,"Kwota wsparcia:",null,"zł/szt."]

{"sheet":"10_Wym_opas_b","index":58,"n_rows":22,"n_cols":6,"rows_kept":22,"cut":false,"hidden":true,"merged":[[1,1,1,9],[7,1,7,4],[9,1,9,4],[2,2,2,4],[3,2,3,4],[4,2,4,4],[5,2,5,4],[18,1,18,4],[19,1,19,4],[20,1,20,4],[10,1,14,1],[10,2,11,2],[12,2,14,2],[15,1,15,4],[16,1,17,1],[16,2,17,2]]}
[null,null,null,null,null,"POWRÓT"]
[null,"WYBRANE Wymogi Wariantu 10. Dobrostan opasów - zwiększona powierzchnia bytowa"]
[null,"-","wymogami objęte jest bydło opasowe w wieku kwalifikującym się do płatności;"]
[null,"-","utrzymywanie bez uwięzi;"]
[null,"-","utrzymywanie na ściółce;"]
[null,"-","zapewnienie zwiększonej o co najmniej 20% powierzchni bytowej w pomieszczeniach, zgodnie z tabelą określającą minimalne wielkości tych powierzchni."]
[]
[null,"OPASY"]
[null,"Lp",null,"Obowiązujące normy prawne","Wymogi obowiązujące w dobrostanie"]
[null,"CIELĘTA (*)"]
[null,"1.          ","Utrzymywane pojedynczo – wymiary kojca***","a) szerokość - co najmniej wysokość cielęcia w kłębie,","a) szerokość - co najmniej wysokość cielęcia w kłębie + 20%,"]
[null,null,null,"b) długość - co najmniej 1,1 długości ciała cielęcia mierzonej od czubka nosa do ogonowej krawędzi guza kulszowego;","b) długość - co najmniej 1,1 długości ciała cielęcia mierzonej od czubka nosa do ogonowej krawędzi guza kulszowego + 20%;"]
[null,null,"Utrzymywane grupowo – powierzchnia kojca w przeliczeniu na jedną sztukę","1) 1,5 m2 - dla cieląt o masie ciała do 150 kg;","1) 1,8 m2 - dla cieląt o masie ciała do 150 kg;"]
[null,null,null,"2) 1,7 m2 - dla cieląt o masie ciała powyżej 150 do 220 kg;","2) 2 m2 - dla cieląt o masie ciała powyżej 150 do 220 kg;"]
[null,null,null,"3) 1,8 m2 - dla cieląt o masie ciała powyżej 220 kg.","3) 2,2 m2 - dla cieląt o masie ciała powyżej 220 kg. "]
[null,"OPASY(**)"]
[null,"2.          ","Utrzymywane bez uwięzi wolnostanowiskowo  bez wydzielonych legowisk na ściółce – powierzchnia w przeliczeniu na jedną sztukę ","bydło opasowe o masie ciała do 300 kg - co najmniej 1,6 m2;","bydło opasowe o masie ciała do 300 kg - co najmniej 1,9 m2;"]
[null,null,null,"bydło opasowe o masie ciała powyżej 300 kg - co najmniej 2,2 m2;","bydło opasowe o masie ciała powyżej 300 kg - co najmniej 2,6 m2;"]
[null,"(*) Rozporządzenie MRiRW z dnia 15 lutego 2010 r. w sprawie wymagań i sposobu postępowania przy utrzymywaniu gatunków zwierząt gospodarskich, dla których normy ochrony zostały określone w przepisach Unii Europejskiej (Dz. U. Nr 56, poz. 344, z późn. zm.)."]
[null,"(**) Rozporządzenie Ministra Rolnictwa i Rozwoju Wsi z dnia 28 czerwca 2010 r. w sprawie minimalnych warunków utrzymywania gatunków zwierząt gospodarskich innych niż te, dla których normy ochrony zostały określone w przepisach Unii Europejskiej (t. j. Dz. U. z 2019, poz. 1966)."]
[null,"(***) pojedynczo można utrzymywać cielęta w wieku powyżej 8 tygodni tylko w gospodarstwach, które posiadają mniej niż 6 sztuk cieląt (w gospodarstwach utrzymujących co najmniej 6 cieląt – zabrania się utrzymania pojedynczo cieląt w wieku powyżej 8 tygodnia życia)."]
[null,null,"Kwota wsparcia:",null,"zł/szt."]

{"sheet":"11_Wym_opas_b_pas","index":59,"n_rows":22,"n_cols":6,"rows_kept":22,"cut":false,"hidden":true,"merged":[[1,1,1,9],[2,2,2,4],[3,2,3,4],[4,2,4,4],[6,2,6,4],[19,1,19,4],[20,1,20,4],[21,1,21,4],[5,2,5,4],[10,1,10,4],[11,1,15,1],[11,2,12,2],[13,2,15,2],[16,1,16,4],[17,1,18,1],[17,2,18,2],[8,1,8,4]]}
[null,null,null,null,null,"POWRÓT"]
[null,"WYBRANE Wymogi Wariantu 11. Dobrostan opasów – zwiększona powierzchnia bytowa wraz z wybiegami"]
[null,"-","wymogami objęte jest bydło opasowe w wieku kwalifikującym się do płatności;"]
[null,"-","utrzymywanie bez uwięzi;"]
[null,"-","utrzymywanie na ściółce;"]
[null,"-","zapewnienie dostępu do wybiegu przez co najmniej 4 godz. dziennie przez cały rok, z możliwością zastąpienia przebywania na wybiegu przez pastwiskowanie w sezonie wegetacyjnym;"]
[null,"-","zapewnienie zwiększonej o co najmniej 20% powierzchni bytowej w pomieszczeniach, zgodnie z tabelą określającą minimalne wielkości tych powierzchni."]
[]
[null,"OPASY"]
[null,"Lp",null,"Obowiązujące normy prawne","Wymogi obowiązujące w dobrostanie"]
[null,"CIELĘTA (*)"]
[null,"1.          ","Utrzymywane pojedynczo – wymiary kojca***","a) szerokość - co najmniej wysokość cielęcia w kłębie,","a) szerokość - co najmniej wysokość cielęcia w kłębie + 20%,"]
[null,null,null,"b) długość - co najmniej 1,1 długości ciała cielęcia mierzonej od czubka nosa do ogonowej krawędzi guza kulszowego;","b) długość - co najmniej 1,1 długości ciała cielęcia mierzonej od czubka nosa do ogonowej krawędzi guza kulszowego + 20%;"]
[null,null,"Utrzymywane grupowo – powierzchnia kojca w przeliczeniu na jedną sztukę","1) 1,5 m2 - dla cieląt o masie ciała do 150 kg;","1) 1,8 m2 - dla cieląt o masie ciała do 150 kg;"]
[null,null,null,"2) 1,7 m2 - dla cieląt o masie ciała powyżej 150 do 220 kg;","2) 2 m2 - dla cieląt o masie ciała powyżej 150 do 220 kg;"]
[null,null,null,"3) 1,8 m2 - dla cieląt o masie ciała powyżej 220 kg.","3) 2,2 m2 - dla cieląt o masie ciała powyżej 220 kg. "]
[null,"OPASY(**)"]
[null,"2.          ","Utrzymywane bez uwięzi wolnostanowiskowo  bez wydzielonych legowisk na ściółce – powierzchnia w przeliczeniu na jedną sztukę ","bydło opasowe o masie ciała do 300 kg - co najmniej 1,6 m2;","bydło opasowe o masie ciała do 300 kg - co najmniej 1,9 m2;"]
[null,null,null,"bydło opasowe o masie ciała powyżej 300 kg - co najmniej 2,2 m2;","bydło opasowe o masie ciała powyżej 300 kg - co najmniej 2,6 m2;"]
[null,"(*) Rozporządzenie MRiRW z dnia 15 lutego 2010 r. w sprawie wymagań i sposobu postępowania przy utrzymywaniu gatunków zwierząt gospodarskich, dla których normy ochrony zostały określone w przepisach Unii Europejskiej (Dz. U. Nr 56, poz. 344, z późn. zm.)."]
[null,"(**) Rozporządzenie Ministra Rolnictwa i Rozwoju Wsi z dnia 28 czerwca 2010 r. w sprawie minimalnych warunków utrzymywania gatunków zwierząt gospodarskich innych niż te, dla których normy ochrony zostały określone w przepisach Unii Europejskiej (t. j. Dz. U. z 2019, poz. 1966)."]
[null,"(***) pojedynczo można utrzymywać cielęta w wieku powyżej 8 tygodni tylko w gospodarstwach, które posiadają mniej niż 6 sztuk cieląt (w gospodarstwach utrzymujących co najmniej 6 cieląt – zabrania się utrzymania pojedynczo cieląt w wieku powyżej 8 tygodnia życia)."]

{"sheet":"12_Wym_konie_b","index":60,"n_rows":17,"n_cols":8,"rows_kept":17,"cut":false,"hidden":true,"merged":[[8,2,8,6],[1,1,1,6],[15,4,16,4],[10,3,10,6],[12,3,14,3],[15,3,16,3],[12,4,14,4],[6,4,6,6],[7,4,7,6],[5,3,5,6]]}
[null,null,null,null,null,null,null,"POWRÓT"]
[null,"WYBRANE Wymogi Wariantu 12. Dobrostan koni (dorosłe/młodzież/ klacz ze źrebięciem) – zwiększona powierzchnia bytowa"]
[null,"-","utrzymywanie bez uwięzi"]
[null,"-","zapewnienie: "]
[null,null,"-","w sezonie wegetacyjnym - wypasu lub dostępu do powierzchni zewnętrznych przez co najmniej 140 dni (przez min. 6 godz. dziennie);"]
[null,null,"-","poza sezonem wegetacyjnym - dostępu do powierzchni zewnętrznych lub biegalni przez min. 2 godz. dziennie o powierzchni w przypadku:"]
[null,null,null,"· ","koni dorosłych/ młodzieży – 70m2/szt.; "]
[null,null,null,"· ","klaczy ze źrebięciem – 85 m2/szt. "]
[null,"-","boksów lub w przypadku utrzymywania wolnostanowiskowego w pomieszczeniach - powierzchni zwiększonej co najmniej o 20%, zgodnie z poniższą tabelą:"]
[]
[null,null,null,"KONIE"]
[null,null,null,"Lp",null,"Obowiązujące normy prawne*","Wymogi obowiązujące w dobrostanie"]
[null,null,null,"1.","Powierzchnia boksu ","·  konie dorosłe, których wysokość w kłębie wynosi do 1,47 m - co najmniej 6 m2;","·  konie dorosłe, których wysokość w kłębie wynosi do 1,47 m - co najmniej 7,2 m2;"]
[null,null,null,null,null,"·  konie dorosłe, których wysokość w kłębie wynosi powyżej 1,47 m - co najmniej 9 m2;","·  konie dorosłe, których wysokość w kłębie wynosi powyżej 1,47 m - co najmniej 10,8 m2; "]
[null,null,null,null,null,"·  klacz ze źrebięciem - co najmniej 12 m2.","·  klacz ze źrebięciem - co najmniej 14,4 m2."]
[null,null,null,"2.","Powierzchnia w przypadku utrzymywania w systemie wolnostanowiskowym bez uwięzi","·  konie dorosłe lub młodzież po odsadzeniu od matki - co najmniej 10 m2;","·  konie dorosłe lub młodzież po odsadzeniu od matki - co najmniej 12 m2;"]
[null,null,null,null,null,"·  klacz ze źrebięciem - co najmniej 12 m2.","·  klacz ze źrebięciem - co najmniej 14,4 m2."]

{"sheet":"13_Wym_konie_ot","index":61,"n_rows":14,"n_cols":8,"rows_kept":14,"cut":false,"hidden":true,"merged":[[1,1,1,6],[12,2,12,6],[2,1,2,6],[3,1,3,6],[6,2,6,6],[8,2,8,5]]}
[null,null,null,null,null,null,null,"POWRÓT"]
[null,"WYBRANE Wymogi Wariantu 13. Dobrostan koni (dorosłe/młodzież/ klacz ze źrebięciem) – system otwarty"]
[null,"-        utrzymywanie bez uwięzi"]
[null,"-        zapewnienie: "]
[null,"-","zadaszenia o powierzchni pozwalającej na jednoczesne przebywanie wszystkich koni pod tym zadaszeniem;"]
[null,"-","ściółki pod zadaszeniem; "]
[null,"-","powierzchni zewnętrznej zwiększonej co najmniej o 20% względem powierzchni wymaganej dla systemu otwartego, zgodnie z poniższą tabelą:"]
[]
[null,null,"KONIE"]
[null,null,"Lp.",null,"Obowiązujące normy prawne*","Wymogi obowiązujące w dobrostanie"]
[null,null,"1.","Powierzchnia w systemie otwartym ","koń dorosły – 0,1 ha","koń** – 0,12 ha"]
[]
[null,null,"(*) Rozporządzenie Ministra Rolnictwa i Rozwoju Wsi z dnia 28 czerwca 2010 r. w sprawie minimalnych warunków utrzymywania gatunków zwierząt gospodarskich innych niż te, dla których normy ochrony zostały określone w przepisach Unii Europejskiej (t. j. Dz. U. z 2019, poz. 1966), "]
[null,null,"(**) niezależnie od wieku i płci"]

{"sheet":"14_Wym_kozy","index":62,"n_rows":26,"n_cols":6,"rows_kept":26,"cut":false,"hidden":true,"merged":[[1,1,1,6],[8,1,8,4],[10,1,14,1],[10,2,10,4],[25,1,25,4],[21,1,21,4],[22,1,23,1],[3,1,3,4],[4,1,4,4],[5,1,5,4],[6,1,6,4],[15,1,20,1],[15,2,15,4]]}
[null,null,null,null,null,"POWRÓT"]
[null,"WYBRANE Wymogi Wariantu 14. Dobrostan kóz"]
[null,"wszystkim grupom technologicznym zwierząt z gatunku koza domowa zapewnia się: "]
[null,"-        utrzymywanie bez uwięzi;"]
[null,"-        dostęp do wybiegu przez cały rok - o powierzchni zwiększonej co najmniej o 20%, zgodnie z poniższą tabelą;"]
[null,"-        wypas przez co najmniej 120 dni w sezonie wegetacyjnym;"]
[null,"-        zwiększoną co najmniej o 20% powierzchnię bytową w pomieszczeniach, zgodnie z poniższą tabelą:"]
[]
[null,"KOZY"]
[null,"Lp",null,"Obowiązujące normy prawne*","Wymogi obowiązujące w dobrostanie"]
[null,"1.","Powierzchnia kojca w przypadku utrzymywania pojedynczego w przeliczeniu na jedną sztukę powinna wynosić w przypadku utrzymywania:"]
[null,null,"samicy gatunku koza domowa w wieku powyżej 12 miesięcy","co najmniej 1,5 m2","co najmniej 1,8 m2"]
[null,null,"samicy gatunku koza domowa w wieku powyżej 12 miesięcy z koźlęciem ssącym ","co najmniej 1,5 m2 i dodatkowo co najmniej 0,3 m2 dla każdego następnego koźlęcia ssącego","co najmniej  1,8 m2 i dodatkowo co najmniej 0,36 m2 dla każdego następnego koźlęcia ssącego"]
[null,null,"samca gatunku koza domowa w wieku powyżej 12 miesięcy","co najmniej 1,5 m2","co najmniej 1,8 m2"]
[null,null,"samca gatunku koza domowa w wieku powyżej 12 miesięcy przeznaczonego do rozrodu","co najmniej 3 m2","co najmniej  3,6 m2"]
[null,"2.","Powierzchnia kojca w przypadku utrzymywania grupowego w przeliczeniu na jedną sztukę powinna wynosić w przypadku utrzymywania:"]
[null,null,"samicy gatunku koza domowa w wieku powyżej 12 miesięcy","co najmniej 1,5 m2","co najmniej 1,8 m2"]
[null,null,"samicy gatunku koza domowa w wieku powyżej 12 miesięcy z koźlęciem ssącym ","co najmniej 1,5 m2 i dodatkowo co najmniej 0,3 m2 dla każdego następnego koźlęcia ssącego","co najmniej  1,8 m2 i dodatkowo co najmniej 0,36 m2 dla każdego następnego koźlęcia ssącego"]
[null,null,"samca gatunku koza domowa w wieku powyżej 12 miesięcy","co najmniej 1,5 m2","co najmniej 1,8 m2"]
[null,null,"samca gatunku koza domowa w wieku powyżej 12 miesięcy przeznaczonego do rozrodu","co najmniej 3 m2","co najmniej  3,6 m2"]
[null,null,"samicy lub samca od odsadzenia do osiągnięcia dojrzałości płciowej tj. do ukończenia 12 miesięcy.","co najmniej 1 m2","co najmniej 1,2 m2"]
[null,"Powierzchnia wybiegu w przeliczeniu na jedną sztukę powinna wynosić w przypadku utrzymywania:"]
[null,"3.","wszystkie grupy technologiczne z gatunku koza poza samcem w wieku powyżej 12 miesięcy, w tym również samcem w tym wieku przeznaczonym do rozrodu","co najmniej 4 m2","co najmniej 4,8 m2"]
[null,null,"samca gatunku koza domowa w wieku powyżej 12 miesięcy, w tym również samca w tym wieku przeznaczonego do rozrodu","co najmniej 6 m2","co najmniej 7,2 m2"]
[]
[null,"(*) Rozporządzenie MRiRW z dnia 28 czerwca 2010 r. w sprawie minimalnych warunków utrzymywania gatunków zwierząt gospodarskich innych niż te, dla których normy ochrony zostały określone w przepisach Unii Europejskiej (Dz. U. z 2019 r., poz. 1966)"]

{"sheet":"Stawki","index":63,"n_rows":46,"n_cols":10,"rows_kept":46,"cut":false,"hidden":true,"merged":[[43,3,43,6],[44,3,44,6],[45,3,45,6],[38,3,38,6],[39,3,39,6],[40,3,40,6],[41,3,41,6],[42,3,42,6],[33,3,33,6],[34,3,34,6],[35,3,35,6],[36,3,36,6],[37,3,37,6],[19,2,19,5],[20,2,20,5],[25,2,25,5],[29,2,29,5],[32,3,32,6],[3,2,4,2],[3,3,4,3],[3,4,4,4],[3,5,4,5],[3,8,4,8]]}
[null,null,null,null,null,null,"POWRÓT"]
[null,null,null,"Stawki płatności"]
[null,null,"Lp.","Dobrostan zwierząt","Szacowana stawka płatności dobrostanowej (EUR/DJP)","DJP *","Maksymalna liczba szt.\n(stan średnioroczny czy szt. fizyczne w roku?)","minimalna powierzchnia w  ha/szt","minimalna powierzchnia w ha przy maksymalnej obsadzie","maksymalna płatność"]
[null,null,null,null,null,"1 DJP=500kg","przy ","przy",null,"kurs PLN/EUR"]
[null,null,null,null,null,null,150,2,null,4.5]
[null,null,1,"Dobrostan loch ",150.56,0.5,{"$f":"$G$5/F6","v":300},{"$f":"F6/$H$5","v":0.25},{"$f":"G6*H6","v":75},{"$f":"E6*G6*F6*$J$5","v":101628}]
[null,null,2,"Dobrostan tuczników ",22.47,0.3,{"$f":"$G$5/F7","v":500},0.15,75,15167.25]
[null,null,3,"Dobrostan krów mlecznych – wypas",41.57,1,150,0.5,75,28059.75]
[null,null,4,"Dobrostan krów mlecznych –  zwiększona powierzchnia bytowa",133.71,1,150,0.5,75,90254.25]
[null,null,5,"Dobrostan krów mamek",73.930000000000007,1,150,0.5,75,49902.750000000007]
[null,null,6,"Dobrostan owiec ",298.88,0.1,1500,0.05,75,201744]
[null,null,7,"Dobrostan kur niosek",195.83,1.4E-2,10714.285714285714,7.0000000000000001E-3,75,132185.25]
[null,null,8,"Dobrostan kurcząt brojlerów",5.46,7.0000000000000001E-3,21428.571428571428,3.5000000000000001E-3,75,3685.5]
[null,null,9,"Dobrostan indyków utrzymywanych z przeznaczeniem na produkcję mięsa",19.48,0.03,5000,1.4999999999999999E-2,75,13149]
[null,null,10,"Dobrostan opasów – zwiększona powierzchnia bytowa",40.130000000000003,0.7,214.28571428571431,0.35,75,27087.750000000004]
[null,null,11,"Dobrostan opasów – zwiększona powierzchnia bytowa wraz z wybiegami",102.41,0.7,214.28571428571431,0.35,75,69126.749999999985]
[null,null,12,"Dobrostan koni – zwiększona powierzchnia bytowa",104.78,0.8,187.5,0.4,75,70726.5]
[null,null,13,"Dobrostan koni – system otwarty",47.47,0.8,187.5,0.4,75,32042.25]
[null,null,14,"Dobrostan kóz",289.89,0.1,1500,0.05,75,195675.75]
[null,null,"(*) https://ec.europa.eu/eurostat/statistics-explained/index.php?title=Glossary:Livestock_unit_(LSU)oraz draft Implementing Act for the calculation of common indicators related to outputs and results (version 1)"]
[null,null,"W przypadku płatności dotyczących dobrostanu krów mlecznych oraz opasów (nie dotyczy płatności do zwierząt utrzymywanych w systemie rolnictwa ekologicznego, jeżeli rolnik ubiega się o te płatności na uproszczonych zasadach) będą one przyznawane z zastosowaniem poniższych progów degresywności:"]
[null,null,"-        do 100 sztuki – 100% "]
[null,null,"-        101-150 sztuki – 75% "]
[null,null,"-        powyżej 150 sztuki – 50% "]
[]
[null,null,"Minimalna liczba posiadanych w gospodarstwie stanowisk zgodnie z powszechnie obowiązującymi przepisami:"]
[null,null,"·         w przypadku kur niosek –– 350, "]
[null,null,"·         w przypadku kurcząt brojlerów –– 500, "]
[null,null,"·         w przypadku indyków utrzymywanych z przeznaczeniem na produkcję mięsa –– 100."]
[null,null,"Minimalna liczba posiadanych zwierząt w przypadku koni – 2 szt. koni w wieku co najmniej 24 miesiące lub klacz ze źrebięciem zgłoszonym do ARiMR."]
[]
[null,null,null,"Szacowane stawki płatności będą płacone w przypadku:"]
[null,null,null,"-        dobrostanu loch – za lochę,"]
[null,null,null,"-        dobrostanu tuczników – za tucznika,"]
[null,null,null,"-        dobrostanu krów mlecznych – wypas – za krowę mleczną,"]
[null,null,null,"-        dobrostanu krów mlecznych - zwiększona powierzchnia bytowa – za krowę mleczną,"]
[null,null,null,"-        dobrostanu krów mamek – za krowę mamkę,"]
[null,null,null,"-        dobrostanu owiec – za samicę gatunku owca domowa w wieku co najmniej 12 miesięcy,"]
[null,null,null,"-        dobrostanu kur niosek – za kurę nioskę,"]
[null,null,null,"-        dobrostanu kurcząt brojlerów – za kurczę brojlera,"]
[null,null,null,"-        dobrostanu indyków utrzymywanych z przeznaczeniem na produkcję mięsa – za indyka,"]
[null,null,null,"-        dobrostanu opasów - zwiększona powierzchnia bytowa – za opasa,"]
[null,null,null,"-        dobrostanu opasów - zwiększona powierzchnia bytowa wraz z wybiegiem– za opasa, "]
[null,null,null,"-        dobrostanu koni – zwiększona powierzchnia bytowa – za konia w wieku co najmniej 24 miesiące,"]
[null,null,null,"-        dobrostanu koni - system otwarty – za konia w wieku co najmniej 24 miesiące,  "]
[null,null,null,"-        dobrostanu kóz – za samicę gatunku koza domowa w wieku co najmniej 12 miesięcy. "]