Workbook

Sheet Meldunek miesięczny
E5: Informacja o działalności Urzędu do Spraw Cudzoziemców
E9: =CONCATENATE("w okresie ",Arkusz18!A2," - ",Arkusz18!B2," r.") -> w okresie 01.09.2026 - 30.09.2026 r.
A15: Legalizacja pobytu
A18: I. Wnioski, które wpłynęły do wojewodów w sprawie zezwolenia na pobyt czasowy, pobyt stały i pobyt rezydenta długoterminowego UE oraz wydane w tych sprawach decyzje:
G22: Sprawa | K22: wnioski | M22: =CONCATENATE("decyzje ",Arkusz18!A2," - ",Arkusz18!B2," r.") -> decyzje 01.09.2026 - 30.09.2026 r.
M23: pozytywne | O23: negatywne | Q23: umorzenia
G24: pobyt czasowy | K24: 44147 | M24: 28805 | O24: 1973 | Q24: 1658
G25: pobyt stały | K25: 982 | M25: 1105 | O25: =Arkusz9!B10 -> 242 | Q25: =Arkusz9!B12 -> 92
G26: pobyt rezyd. UE | K26: 2396 | M26: =Arkusz9!B7 -> 1459 | O26: =Arkusz9!B6 -> 256 | Q26: =Arkusz9!B8 -> 141
G27: suma | K27: =SUM(K24:K26) -> 47525 | M27: =SUM(M24:M26) -> 31369 | O27: =SUM(O24:O26) -> 2471 | Q27: =SUM(Q24:Q26) -> 1891
G46: Sprawa | O46: wnioski | Q46: wydane dokumenty
G48: prawo pob. obyw. UE | O48: =Arkusz10!A2 -> 604 | Q48: =Arkusz10!A3 -> 392
G49: prawo st. pobytu obyw. UE | O49: =Arkusz10!A4 -> 77 | Q49: =Arkusz10!A5 -> 59
G50: prawo pob. członka rodz. obyw. UE | O50: =Arkusz10!A6 -> 0 | Q50: =Arkusz10!A7 -> 1
G51: prawo st. pob. członka rodz. obyw. UE | O51: =Arkusz10!A8 -> 11 | Q51: =Arkusz10!A9 -> 1
G52: suma | O52: =SUM(O48:O51) -> 692 | Q52: =SUM(Q48:Q51) -> 453
G56: Sprawa | K56: wnioski | M56: =CONCATENATE("decyzje ",Arkusz18!C2," - ",Arkusz18!B2," r.") -> decyzje 01.01.2026 - 30.09.2026 r.
M57: pozytywne | O57: negatywne | Q57: umorzenia
G58: pobyt czasowy | K58: 396697 | M58: 210344 | O58: 18560 | Q58: 12786
G59: pobyt stały | K59: 13040 | M59: 10626 | O59: 2021 | Q59: 1075
G60: pobyt rezyd. UE | K60: 21951 | M60: 14600 | O60: =Arkusz11!B6 -> 2135 | Q60: =Arkusz11!B8 -> 1491
G61: suma | K61: =SUM(K58:L60) -> 431688 | M61: =SUM(M58:N60) -> 235570 | O61: =SUM(O58:P60) -> 22716 | Q61: =SUM(Q58:R60) -> 15352
G82: Sprawa | O82: wnioski | Q82: wydane dokumenty
G84: prawo pob. obyw. UE | O84: =Arkusz12!A2 -> 4215 | Q84: =Arkusz12!A3 -> 3416
G85: prawo st. pobytu obyw. UE | O85: =Arkusz12!A4 -> 588 | Q85: =Arkusz12!A5 -> 476
G86: prawo pob. członka rodz. obyw. UE | O86: =Arkusz12!A6 -> 0 | Q86: =Arkusz12!A7 -> 4
G87: prawo st. pob. członka rodz. obyw. UE | O87: =Arkusz12!A8 -> 70 | Q87: =Arkusz12!A9 -> 36
G88: suma | O88: =SUM(O84:P87) -> 4873 | Q88: =SUM(Q84:R87) -> 3932
A91: We wrześniu 2026 r. cudzoziemcy złożyli 48 tys. wniosków o udzielenie zezwoleń na poby. Zdecydowana większość - 93% - dotyczyła pobytu czasowego (44 tys.). O pobyt stały wnioskowało 1 tys. osób (2%), a o status rezydenta długoterminowego UE – 2,4 tys. wnioskodawców (5%). Główne państwa pochodzenia: Listę otwierają obywatele Ukrainy (70% – 33 tys.), a następnie Białorusi (3,5 tys.) oraz Kolumbii (1,7 tys.). Wiek i płeć: Imigracja ma charakter zarobkowy – aż 82% wnioskodawców to osoby w wieku produkcyjnym (równomiernie rozłożone między grupy 18–34 oraz 35–64 lata). Wśród dzieci dominują osoby do 13. roku życia (5,6 tys.). W strukturze płci występuje przewaga mężczyzn (56%). Ponad połowa wszystkich wniosków (59%) wpłynęła do czterech urzędów wojewódzkich: * Mazowieckiego (12,4 tys. – 26%), * Dolnośląskiego (5,4 tys.), * Pomorskiego (5,3 tys.), * Wielkopolskiego (4,8 tys.). We wrześniu urzędy zakończyły postępowania w 36 tys. spraw (suma decyzji pozytywnych, negatywnych i umorzeń). Struktura rozstrzygnięć kształtowała się następująco: *Decyzje pozytywne: 31 tys. (88% ogółu rozstrzygnięć), *Decyzje negatywne: 2,5 tys. (7% ogółu), *Umorzenia postępowań: 1,9 tys. (5% ogółu). W podziale na poszczególne rodzaje spraw, łączna liczba wydanych decyzji (pozytywnych, negatywnych i umorzeń) wyniosła: Pobyt czasowy: 32 tys. decyzji, Pobyt stały: 1,4 tys. decyzji, Pobyt rezydenta UE: 1,9 tys. decyzji. W strukturze wydanych decyzji pozytywnych dominował pobyt czasowy (29 tys. decyzji – 92%), przed pobytem rezydenta długoterminowego UE (1,5 tys. decyzji – 5%) oraz pobytem stałym (1,1 tys. decyzji – 3%). Warto odnotować, że w przypadku pobytu stałego liczba wydanych decyzji pozytywnych (1,1 tys.) była wyższa niż liczba nowych wniosków złożonych w tym miesiącu (1 tys.). Podsumowanie (I - IX 2026 r.): Napływ wniosków: Od początku roku do końca września złożono 432 tys. wniosków. Głównymi państwami pochodzenia pozostają: Ukraina (68%) oraz Białoruś (8%), przy widocznym udziale obywateli Kolumbii, Gruzji i Indii (po ok. 3%). Wydane decyzje: Urzędy wydały 274 tys. rozstrzygnięć (w tym 210 tys. dla pobytu czasowego, 11 tys. dla pobytu stałego oraz 15 tys. dla pobytu rezydenta UE). Odsetek decyzji pozytywnych utrzymał się na stabilnym poziomie 86% (236 tys. decyzji). Najwięcej zgód na pobyt otrzymali obywatele Ukrainy (70%), Białorusi (9%), Indii (3%) oraz Kolumbii i Gruzji (po 2%).
A125: II. Odwołania od decyzji wydanych w I instancji w sprawie legalizacji pobytu cudzoziemców na terytorium RP, odpowiedzi na skargi oraz wnioski o udzielenie zezwolenia na pobyt stały dla członków rodzin repatriantów:
L127: =CONCATENATE(Arkusz18!C2," - ",Arkusz18!B2," r.") -> 01.01.2026 - 30.09.2026 r.
C128: Sprawa | L128: odwołania | N128: utrzymanie | O128: decyzje pozytywne | P128: uchylenie i przekazanie do ponownego rozp. | Q128: uchylenie i umorzenie | R128: pobyt humanitarny | S128: pobyt tolerowany | T128: cofnięcie zakazu wjazdu | U128: inne | V128: Suma decyzji
C129: pobyt czasowy | L129: =Arkusz13!C2 -> 12186 | N129: 2416 | O129: 5105 | P129: 3786 | Q129: 641 | R129: =Arkusz13!C82 -> 0 | S129: =Arkusz13!C98 -> 0 | T129: =Arkusz13!C114 -> 0 | U129: =Arkusz13!C130-SUM(N129:T129) -> 2167 | V129: =SUM(N129:U129) -> 14115
C130: pobyt stały | L130: =Arkusz13!C3 -> 1060 | N130: 502 | O130: =Arkusz13!C35 -> 161 | P130: 115 | Q130: 31 | R130: =Arkusz13!C83 -> 0 | S130: =Arkusz13!C99 -> 0 | T130: =Arkusz13!C115 -> 0 | U130: =Arkusz13!C131-SUM(N130:T130) -> 120 | V130: =SUM(N130:U130) -> 929
C131: pobyt rezydenta długoterminowego UE | L131: =Arkusz13!C4 -> 1210 | N131: 595 | O131: =Arkusz13!C36 -> 180 | P131: =Arkusz13!C52 -> 170 | Q131: 87 | R131: =Arkusz13!C84 -> 0 | S131: =Arkusz13!C100 -> 0 | T131: =Arkusz13!C116 -> 0 | U131: =Arkusz13!C132-SUM(N131:T131) -> 97 | V131: =SUM(N131:U131) -> 1129
C132: prawo pobytu ob. UE | L132: =Arkusz13!C5 -> 30 | N132: =Arkusz13!C21 -> 20 | O132: =Arkusz13!C37 -> 0 | P132: =Arkusz13!C53 -> 1 | Q132: =Arkusz13!C69 -> 0 | R132: =Arkusz13!C85 -> 0 | S132: =Arkusz13!C101 -> 0 | T132: =Arkusz13!C117 -> 0 | U132: =Arkusz13!C133-SUM(N132:T132) -> 11 | V132: =SUM(N132:U132) -> 32
C133: prawo stałego pobytu obywatela UE | L133: =Arkusz13!C6 -> 4 | N133: =Arkusz13!C22 -> 2 | O133: =Arkusz13!C38 -> 1 | P133: =Arkusz13!C54 -> 3 | Q133: =Arkusz13!C70 -> 0 | R133: =Arkusz13!C86 -> 0 | S133: =Arkusz13!C102 -> 0 | T133: =Arkusz13!C118 -> 0 | U133: =Arkusz13!C134-SUM(N133:T133) -> 2 | V133: =SUM(N133:U133) -> 8
C134: prawo pobytu członka rodziny ob. UE | L134: =Arkusz13!C7 -> 8 | N134: =Arkusz13!C23 -> 4 | O134: =Arkusz13!C39 -> 2 | P134: =Arkusz13!C55 -> 2 | Q134: =Arkusz13!C71 -> 1 | R134: =Arkusz13!C87 -> 0 | S134: =Arkusz13!C103 -> 0 | T134: =Arkusz13!C119 -> 0 | U134: =Arkusz13!C135-SUM(N134:T134) -> 3 | V134: =SUM(N134:U134) -> 12
C135: prawo stałego pobytu członka rodziny ob.. UE | L135: =Arkusz13!C8 -> 3 | N135: =Arkusz13!C24 -> 0 | O135: =Arkusz13!C40 -> 0 | P135: =Arkusz13!C56 -> 2 | Q135: =Arkusz13!C72 -> 0 | R135: =Arkusz13!C88 -> 0 | S135: =Arkusz13!C104 -> 0 | T135: =Arkusz13!C120 -> 0 | U135: =Arkusz13!C136-SUM(N135:T135) -> 1 | V135: =SUM(N135:U135) -> 3
C136: pobyt tolerowany | L136: =Arkusz13!C9 -> 1 | N136: =Arkusz13!C25 -> 0 | O136: =Arkusz13!C41 -> 0 | P136: =Arkusz13!C57 -> 0 | Q136: =Arkusz13!C73 -> 0 | R136: =Arkusz13!C89 -> 0 | S136: =Arkusz13!C105 -> 0 | T136: =Arkusz13!C121 -> 0 | U136: =Arkusz13!C137-SUM(N136:T136) -> 0 | V136: =SUM(N136:U136) -> 0
C137: pobyt humanitarny | L137: 0 | N137: =Arkusz13!C26 -> 0 | O137: =Arkusz13!C42 -> 0 | P137: =Arkusz13!C58 -> 0 | Q137: =Arkusz13!C74 -> 0 | R137: =Arkusz13!C90 -> 0 | S137: =Arkusz13!C106 -> 0 | T137: =Arkusz13!C122 -> 0 | U137: =Arkusz13!C138-SUM(N137:T137) -> 1 | V137: =SUM(N137:U137) -> 1
C138: wydalenie | L138: 0 | N138: =Arkusz13!C27 -> 0 | O138: =Arkusz13!C43 -> 0 | P138: =Arkusz13!C59 -> 0 | Q138: =Arkusz13!C75 -> 0 | R138: =Arkusz13!C91 -> 0 | S138: =Arkusz13!C107 -> 0 | T138: =Arkusz13!C123 -> 0 | U138: =Arkusz13!C139-SUM(N138:T138) -> 0 | V138: =SUM(N138:U138) -> 0
C139: zobowiązanie do powrotu | L139: 0 | N139: =Arkusz13!C28 -> 5 | O139: =Arkusz13!C44 -> 0 | P139: =Arkusz13!C60 -> 0 | Q139: =Arkusz13!C76 -> 6 | R139: =Arkusz13!C92 -> 2 | S139: =Arkusz13!C108 -> 0 | T139: =Arkusz13!C124 -> 2 | U139: =Arkusz13!C140-SUM(N139:T139) -> 10 | V139: =SUM(N139:U139) -> 25
C140: zaproszenie | L140: =Arkusz13!C14 -> 33 | N140: =Arkusz13!C30 -> 8 | O140: =Arkusz13!C46 -> 0 | P140: =Arkusz13!C62 -> 0 | Q140: =Arkusz13!C78 -> 19 | R140: =Arkusz13!C94 -> 0 | S140: =Arkusz13!C110 -> 0 | T140: =Arkusz13!C126 -> 0 | U140: =Arkusz13!C142-SUM(N140:T140) -> 21 | V140: =SUM(N140:U140) -> 48
C141: polski dokument podróży | L141: =Arkusz13!C15 -> 120 | N141: =Arkusz13!C31 -> 83 | O141: =Arkusz13!C47 -> 9 | P141: =Arkusz13!C63 -> 9 | Q141: =Arkusz13!C79 -> 5 | R141: =Arkusz13!C95 -> 0 | S141: =Arkusz13!C111 -> 0 | T141: =Arkusz13!C127 -> 0 | U141: =Arkusz13!C143-SUM(N141:T141) -> 31 | V141: =SUM(N141:U141) -> 137
C142: polski dokument tożsamości cudzoziemca | L142: =Arkusz13!C16 -> 4 | N142: =Arkusz13!C32 -> 1 | O142: =Arkusz13!C48 -> 1 | P142: =Arkusz13!C64 -> 0 | Q142: =Arkusz13!C80 -> 0 | R142: =Arkusz13!C96 -> 0 | S142: =Arkusz13!C112 -> 0 | T142: =Arkusz13!C128 -> 0 | U142: =Arkusz13!C144-SUM(N142:T142) -> 2 | V142: =SUM(N142:U142) -> 4
C143: wiza (nowa + Schengen) | L143: =Arkusz13!C17 -> 8 | N143: =Arkusz13!C33 -> 3 | O143: =Arkusz13!C49 -> 0 | P143: =Arkusz13!C65 -> 0 | Q143: =Arkusz13!C81 -> 4 | R143: =Arkusz13!C97 -> 0 | S143: =Arkusz13!C113 -> 0 | T143: =Arkusz13!C129 -> 0 | U143: =Arkusz13!C145-SUM(N143:T143) -> 2 | V143: =SUM(N143:U143) -> 9
C144: Razem | L144: =SUM(L129:L143) -> 14667 | N144: =SUM(N129:N143) -> 3639 | O144: =SUM(O129:O143) -> 5459 | P144: =SUM(P129:P143) -> 4088 | Q144: =SUM(Q129:Q143) -> 794 | R144: =SUM(R129:R143) -> 2 | S144: =SUM(S129:S143) -> 0 | T144: =SUM(T129:T143) -> 2 | U144: =SUM(U129:U143) -> 2468 | V144: =SUM(V129:V143) -> 16452
D168: Sprawa | L168: wnioski | N168: wydane zezwolenia | Q168: inne decyzje
D169: pob. stały dla członków rodzin repatrianta | L169: =Arkusz14!B2 -> 13 | N169: =Arkusz14!B3 -> 10 | Q169: =Arkusz14!B4 -> 1
A171: W pierwszych dziewięciu miesiącach 2026 r. organ odwoławczy (Szef UdSC) wydał blisko 17 tys. decyzji przy wpływie na poziomie prawie 15 tys. odwołań (co oznacza ogólny wskaźnik załatwialności spraw na poziomie 112%). Ogólna struktura rozstrzygnięć dla wszystkich rodzajów spraw kształtowała się następująco: Decyzje pozytywne: W 33% spraw (5,5 tys. decyzji) Szef UdSC zmienił zaskarżoną decyzję i wydał rozstrzygnięcie merytorycznie pozytywne, przyznając cudzoziemcowi prawo do pobytu, Wskaźnik kasacyjny: W 25% przypadków (4,1 tys. decyzji) organ odwoławczy uchylił decyzję pierwszej instancji i przekazał sprawę do ponownego rozpatrzenia, Wskaźnik utrzymania decyzji: 22% zaskarżonych rozstrzygnięć wojewodów zostało utrzymanych w mocy (3,6 tys. decyzji). Uchylenia i umorzenia: Stanowiły 5% ogółu (0,8 tys. decyzji), Pozostałe rozstrzygnięcia: Kategoria „inne” objęła 15% (2,5 tys. decyzji.). Pobyt czasowy: Odwołania w sprawach o pobyt czasowy zdominowały statystyki, stanowiąc 83% wszystkich wpływających spraw (12 tys. z 15 tys.). W tej kategorii wydano łącznie 14 tys. decyzji. Wskaźnik zmiany zaskarżonej decyzji na korzyść cudzoziemca (decyzje pozytywne) wyniósł tu 36% (5,1 tys. decyzji). Do ponownego rozpatrzenia (kasacja) przekazano 27% spraw (3,8 tys. decyzji). W mocy utrzymano 17% decyzji (2,4 tys.), natomiast uchylenia i umorzenia objęły 0,6 tys. spraw (5%). Pobyt rezydenta długoterminowego UE: Do Urzędu wpłynęło ponad 1,2 tys. odwołań, a wydano 1,1 tys. decyzji. W tej kategorii odnotowano bardzo wysoki wskaźnik utrzymania decyzji pierwszej instancji: większość postępowań, bo aż 53% (0,6 tys. rozstrzygnięć), zakończyła się utrzymaniem decyzji wojewody w mocy. który wyniósł aż 53% (0,6 tys. rozstrzygnięć). Decyzje merytorycznie pozytywne stanowiły 16% (0,2 tys. decyzji). Uchylenia z przekazaniem do ponownego rozpoznania wyniosły 15% (0,2 tys. decyzje), a umorzenia i uchylenia – 87 spraw (8%). Pobyt stały: Odnotowano wpływ 1,1 tys. odwołań oraz wydanie 0,9 tys. decyzji. Podobnie jak w przypadku rezydenta UE, większość postępowań zakończyła się utrzymaniem w mocy decyzji organu pierwszej instancji: wskaźnik utrzymania w mocy decyzji wojewody wyniósł 54% (0,5 tys. sprawy). Decyzje pozytywne stanowiły 17% (0,2 tys.). Uchylenia z przekazaniem do ponownego rozpatrzenia to12% (0,1 tys.), zaś uchylenia i umorzenia dotyczyły 31 spraw (3%).
A196: III. Wykaz cudzoziemców, których pobyt na terytorium RP jest niepożądany
G198: Czynności | K198: osoby
G199: wpis | K199: 474
G200: wpis SIS | K200: 1634
G201: wykreślenie | K201: 127
G202: korekta wpisów | K202: 366
G203: odmowa wpisu | K203: 0
G204: zawiesz. wpisów | K204: 40
G205: wykreślenie SIS | K205: 51
G206: wnioski cudz. | K206: 200
G207: konsultacje | K207: 86
G208: telegramy | K208: 29
G209: alerty pobytowe | K209: 1227
G210: Razem | K210: =SUM(K199:L209) -> 4234
A212: W analizowanym okresie sprawozdawczym zrealizowano łącznie 4,2 tys. czynności (spraw) dotyczących wykazu cudzoziemców, których pobyt na terytorium RP jest niepożądany. Struktura podejmowanych działań odzwierciedla kluczową rolę w zapewnianiu bezpieczeństwa i porządku publicznego, dzieląc się na następujące kategorie: Wpisy SIS stanowiły największy segment operacyjny – 39% ogółu działań (1,6 tys. spraw). Alerty pobytowe odpowiadały za 29% wszystkich czynności (1,2 tys. spraw). Wpisy krajowe zamknęły podium z udziałem 11% ogółu rozstrzygnięć (0,5 tys. sprawy). Korekta wpisów stanowiła istotny element bieżącej weryfikacji danych z udziałem 9% (0,4 tys. spraw).
A222: IV. Konsultacje wizowe
D224: Wnioskujący | H224: wnioski | K224: decyzje
D225: inne państwo | H225: 75167 | K225: 74598
D226: obligatoryjne | H226: 5959 | K226: 5711
D227: fakultatywne | H227: 8221 | K227: 7708
D228: Razem | H228: =SUM(H225:J227) -> 89347 | K228: =SUM(K225:M227) -> 88017
A247: W analizowanym okresie sprawozdawczym odnotowano 89 tys. wpływających wniosków o konsultacje wizowe. Struktura napływu wniosków: Współpraca w strefie Schengen: Zdecydowana większość wniosków - 84% ogólnego wpływu (75 tys.) - wpłynęła z innych państw partnerskich obszaru Schengen. Podkreśla to istotną rolę Polski w europejskim systemie weryfikacji bezpieczeństwa. Konsultacje fakultatywne: Zgłaszane przez polskie placówki dyplomatyczne w sprawach niewymagających bezwzględnego zasięgania opinii, objęły 9% ogólnej puli (8,2 tys. wniosków). Konsultacje obligatoryjne: Generowane obowiązkowo na wniosek polskich placówek dyplomatycznych, stanowiły 7% ogólnego wpływu (6 tys. wniosków). Wkład polskich konsulów: Łącznie polskie placówki wygenerowały w tym okresie 14 tys. wniosków (konsultacje obligatoryjne i fakultatywne razem), co stanowiło 16% wszystkich spraw. Wydajność decyzyjna: W tym samym okresie wydano łącznie 88 tys. decyzji, co oznacza sprawne procedowanie spraw. Ogólny wskaźnik załatwialności (stosunek wydanych decyzji do wpływających wniosków) ukształtował się na wysokim poziomie 99%. W podziale na poszczególne kategorie, realizacja decyzji w stosunku do wpływających wniosków wyglądała następująco: Inne państwa: Wydano 75 tys. decyzji (wskaźnik załatwialności: 99%). Stanowiły one 85% wszystkich wydanych rozstrzygnięć. Konsultacje fakultatywne: Wydano 7,7 tys. decyzji (wskaźnik załatwialności: 94%), co przełożyło się na 9% ogólnej puli rozstrzygnięć. Konsultacje obligatoryjne: Wydano 5,7 tys. decyzji (wskaźnik załatwialności: 96%), stanowiących 7% struktury decyzyjnej.
A264: V. Informacja o Małym Ruchu Granicznym
D267: Placówka | G267: =CONCATENATE(Arkusz18!A2," - ",Arkusz18!B2," r.") -> 01.09.2026 - 30.09.2026 r.
G268: Zezwolenia wydane | J268: Odmowy wydania | M268: Zezwolenia cofnięte | P268: Zezwolenia unieważnione
D269: Kaliningrad | G269: =Arkusz16!A2 -> 0 | J269: =Arkusz16!A3 -> 0 | M269: =Arkusz16!A4 -> 0 | P269: =Arkusz16!A5 -> 0
D270: Lwów | G270: =Arkusz16!A6 -> 341 | J270: =Arkusz16!A7 -> 1 | M270: =Arkusz16!A8 -> 0 | P270: =Arkusz16!A9 -> 0
D271: Łuck | G271: =Arkusz16!A10 -> 81 | J271: =Arkusz16!A11 -> 0 | M271: =Arkusz16!A12 -> 0 | P271: =Arkusz16!A13 -> 0
D272: RAZEM | G272: =SUM(G269:I271) -> 422 | J272: =SUM(J269:L271) -> 1 | M272: =SUM(M269:O271) -> 0 | P272: =SUM(P269:R271) -> 0
D276: Placówka | G276: =CONCATENATE(Arkusz18!C2," - ",Arkusz18!B2," r.") -> 01.01.2026 - 30.09.2026 r.
G277: Zezwolenia wydane | J277: Odmowy wydania | M277: Zezwolenia cofnięte | P277: Zezwolenia unieważnione
D278: Kaliningrad | G278: =Arkusz17!A2 -> 0 | J278: =Arkusz17!A3 -> 0 | M278: =Arkusz17!A4 -> 0 | P278: =Arkusz17!A5 -> 0
D279: Lwów | G279: =Arkusz17!A6 -> 1479 | J279: =Arkusz17!A7 -> 3 | M279: =Arkusz17!A8 -> 0 | P279: =Arkusz17!A9 -> 1
D280: Łuck | G280: =Arkusz17!A10 -> 312 | J280: =Arkusz17!A11 -> 0 | M280: =Arkusz17!A12 -> 0 | P280: =Arkusz17!A13 -> 0
D281: RAZEM | G281: =SUM(G278:I280) -> 1791 | J281: =SUM(J278:L280) -> 3 | M281: =SUM(M278:O280) -> 0 | P281: =SUM(P278:R280) -> 1
A284: Dane za wrzesień oraz okres od stycznia do września 2026 r. potwierdzają stabilnąskalę operacji w obszarze Małego Ruchu Granicznego (MRG). Zadania te realizowane są obecnie wyłącznie przez polskie placówki dyplomatyczne na Ukrainie (Lwów i Łuck), przy całkowitym zawieszeniu działalności w tym zakresie przez placówkę w Kaliningradzie. Podsumowanie zbiorcze: W pierwszych dziewięciu miesiącach 2026 r. konsulaty zrealizowały łącznie 1,8 tys. czynności proceduralnych. Struktura rozstrzygnięć prezentuje się następująco: Zezwolenia wydane: Wydano łącznie 1,8 tys. zezwoleń MRG, co stanowi aż 99,8% wszystkich podjętych działań. Odmowy wydania: Odnotowano znikomy odsetek negatywnych rozstrzygnięć – wydano zaledwie 3 decyzje odmowne (0,2% ogółu spraw). Wszystkie odmowy miały miejsce we Lwowie. Rozkład terytorialny: Obsługa ruchu w skali całego roku koncentruje się w dwóch działających placówkach: * Lwów: W placówce tej wydano 1,5 tys. dokumentów, co stanowi 83% całkowitego wolumenu pozytywnych rozstrzygnięć. Konsulat ten obsłużył także wszystkie odnotowane odmowy (3) oraz unieważnienie (1). * Łuck: Odpowiada za wydanie 0,3 tys. zezwoleń, co stanowi 17% ogólnej liczby wydanych dokumentów. W placówce tej nie odnotowano żadnych odmów, cofnięć ani unieważnień. Marginalna liczba odmów i unieważnień w skali trzech kwartałów przy jednoczesnej dominacji placówki we Lwowie wskazuje na ugruntowaną i bezpieczną procedurę obsługi beneficjentów MRG w tym regionie.
A304: Ochrona międzynarodowa
A306: VI. Przyjęte wnioski o udzielenie ochrony międzynarodowej w RP:
C309: Obywatelstwo | G309: =CONCATENATE(Arkusz18!A2," - ",Arkusz18!B2," r.") -> 01.09.2026 - 30.09.2026 r.
G310: PIERWSZE | K310: KOLEJNE | O310: WZNOWIENIA* | S310: SUMA
G311: Wnioski | I311: Osoby | K311: Wnioski | M311: Osoby | O311: Wnioski | Q311: Osoby | S311: Wnioski | U311: Osoby
C312: =Arkusz2!B2 -> UKRAINA | G312: =Arkusz2!F2 -> 117 | I312: =Arkusz2!F8 -> 130 | K312: =SUM(Arkusz2!F14,-G312) -> 10 | M312: =SUM(Arkusz2!F20,-I312) -> 14 | O312: =Arkusz2!F26 -> 1 | Q312: =Arkusz2!F32 -> 1 | S312: =SUM(Arkusz2!F14,O312) -> 128 | U312: =SUM(Arkusz2!F20,Q312) -> 145
C313: =Arkusz2!B3 -> BIAŁORUŚ | G313: =Arkusz2!F3 -> 71 | I313: =Arkusz2!F9 -> 75 | K313: =SUM(Arkusz2!F15,-G313) -> 0 | M313: =SUM(Arkusz2!F21,-I313) -> 1 | O313: =Arkusz2!F27 -> 1 | Q313: =Arkusz2!F33 -> 1 | S313: =SUM(Arkusz2!F15,O313) -> 72 | U313: =SUM(Arkusz2!F21,Q313) -> 77
C314: =Arkusz2!B4 -> ROSJA | G314: =Arkusz2!F4 -> 13 | I314: =Arkusz2!F10 -> 17 | K314: =SUM(Arkusz2!F16,-G314) -> 17 | M314: =SUM(Arkusz2!F22,-I314) -> 22 | O314: =Arkusz2!F28 -> 1 | Q314: =Arkusz2!F34 -> 1 | S314: =SUM(Arkusz2!F16,O314) -> 31 | U314: =SUM(Arkusz2!F22,Q314) -> 40
C315: DR KONGA | G315: =Arkusz2!F5 -> 4 | I315: =Arkusz2!F11 -> 7 | K315: =SUM(Arkusz2!F17,-G315) -> 1 | M315: =SUM(Arkusz2!F23,-I315) -> 3 | O315: =Arkusz2!F29 -> 0 | Q315: =Arkusz2!F35 -> 0 | S315: =SUM(Arkusz2!F17,O315) -> 5 | U315: =SUM(Arkusz2!F23,Q315) -> 10
C316: =Arkusz2!B6 -> TURCJA | G316: =Arkusz2!F6 -> 8 | I316: =Arkusz2!F12 -> 10 | K316: =SUM(Arkusz2!F18,-G316) -> 0 | M316: =SUM(Arkusz2!F24,-I316) -> 0 | O316: =Arkusz2!F30 -> 0 | Q316: =Arkusz2!F36 -> 0 | S316: =SUM(Arkusz2!F18,O316) -> 8 | U316: =SUM(Arkusz2!F24,Q316) -> 10
C317: =Arkusz2!B7 -> Pozostałe | G317: =Arkusz2!F7 -> 68 | I317: =Arkusz2!F13 -> 76 | K317: =SUM(Arkusz2!F19,-G317) -> 13 | M317: =SUM(Arkusz2!F25,-I317) -> 17 | O317: =Arkusz2!F31 -> 5 | Q317: =Arkusz2!F37 -> 6 | S317: =SUM(Arkusz2!F19,O317) -> 86 | U317: =SUM(Arkusz2!F25,Q317) -> 99
C318: Razem | G318: =SUM(G312:G317) -> 281 | I318: =SUM(I312:I317) -> 315 | K318: =SUM(K312:K317) -> 41 | M318: =SUM(M312:M317) -> 57 | O318: =SUM(O312:O317) -> 8 | Q318: =SUM(Q312:Q317) -> 9 | S318: =SUM(S312:S317) -> 330 | U318: =SUM(U312:U317) -> 381
C341: Obywatelstwo | G341: =CONCATENATE(Arkusz18!C2," - ",Arkusz18!B2," r.") -> 01.01.2026 - 30.09.2026 r.
...

Sheet Arkusz15
A1: Lp | B1: Czynnosc | C1: Liczba
A2: 1 | B2: wpis | C2: 243
A3: 2 | B3: wpis SIS | C3: 52
A4: 3 | B4: wykreślenie | C4: 26
A5: 4 | B5: korekta wpisów | C5: 97
A6: 5 | B6: odmowa wpisu | C6: 0
A7: 6 | B7: zawieszenie wpisów | C7: 0
A8: 7 | B8: wykreślenie SIS | C8: 0
A9: 8 | B9: wnioski cudz. | C9: 0
A10: 9 | B10: konsultacje | C10: 0
A11: 10 | B11: telegramy | C11: 0
A12: 11 | B12: alerty pobytowe | C12: 0

Sheet Arkusz1
A1: Lp | B1: Wnioskujacy | C1: Wnioski | D1: Decyzje
A2: 1 | B2: Inne_panstwo | C2: 0 | D2: 0
A3: 2 | B3: Konsul_RP | C3: 0 | D3: 0
A4: 3 | B4: fakultatywne | C4: 0 | D4: 0

Sheet Arkusz2
A1: Lp | B1: Obywatelstwo_pl | C1: Grupa | D1: Typ | E1: Lp_typ | F1: Liczba | G1: Lp_grupa
A2: 1 | B2: UKRAINA | C2: PIERWSZE | D2: Wnioski | E2: 1 | F2: 117 | G2: 1
A3: 2 | B3: BIAŁORUŚ | C3: PIERWSZE | D3: Wnioski | E3: 1 | F3: 71 | G3: 1
A4: 3 | B4: ROSJA | C4: PIERWSZE | D4: Wnioski | E4: 1 | F4: 13 | G4: 1
A5: 4 | B5: DEMOKRATYCZNA REPUBLIKA KONGA | C5: PIERWSZE | D5: Wnioski | E5: 1 | F5: 4 | G5: 1
A6: 5 | B6: TURCJA | C6: PIERWSZE | D6: Wnioski | E6: 1 | F6: 8 | G6: 1
A7: 6 | B7: Pozostałe | C7: PIERWSZE | D7: Wnioski | E7: 1 | F7: 68 | G7: 1
A8: 1 | B8: UKRAINA | C8: PIERWSZE | D8: Osoby | E8: 2 | F8: 130 | G8: 1
A9: 2 | B9: BIAŁORUŚ | C9: PIERWSZE | D9: Osoby | E9: 2 | F9: 75 | G9: 1
A10: 3 | B10: ROSJA | C10: PIERWSZE | D10: Osoby | E10: 2 | F10: 17 | G10: 1
A11: 4 | B11: DEMOKRATYCZNA REPUBLIKA KONGA | C11: PIERWSZE | D11: Osoby | E11: 2 | F11: 7 | G11: 1
A12: 5 | B12: TURCJA | C12: PIERWSZE | D12: Osoby | E12: 2 | F12: 10 | G12: 1
A13: 6 | B13: Pozostałe | C13: PIERWSZE | D13: Osoby | E13: 2 | F13: 76 | G13: 1
... A37: 6 | B37: Pozostałe | C37: WZNOWIENIA* | D37: Osoby | E37: 2 | F37: 6 | G37: 3

Sheet Arkusz3
A1: Lp | B1: Obywatelstwo_pl | C1: Grupa | D1: Typ | E1: Lp_typ | F1: Liczba | G1: Lp_grupa
A2: 1 | B2: UKRAINA | C2: PIERWSZE | D2: Wnioski | E2: 1 | F2: 1172 | G2: 1
A3: 2 | B3: BIAŁORUŚ | C3: PIERWSZE | D3: Wnioski | E3: 1 | F3: 969 | G3: 1
A4: 3 | B4: ROSJA | C4: PIERWSZE | D4: Wnioski | E4: 1 | F4: 118 | G4: 1
A5: 4 | B5: TADŻYKISTAN | C5: PIERWSZE | D5: Wnioski | E5: 1 | F5: 37 | G5: 1
A6: 5 | B6: DEMOKRATYCZNA REPUBLIKA KONGA | C6: PIERWSZE | D6: Wnioski | E6: 1 | F6: 37 | G6: 1
A7: 6 | B7: Pozostałe | C7: PIERWSZE | D7: Wnioski | E7: 1 | F7: 688 | G7: 1
A8: 1 | B8: UKRAINA | C8: PIERWSZE | D8: Osoby | E8: 2 | F8: 1399 | G8: 1
A9: 2 | B9: BIAŁORUŚ | C9: PIERWSZE | D9: Osoby | E9: 2 | F9: 1167 | G9: 1
A10: 3 | B10: ROSJA | C10: PIERWSZE | D10: Osoby | E10: 2 | F10: 141 | G10: 1
A11: 4 | B11: TADŻYKISTAN | C11: PIERWSZE | D11: Osoby | E11: 2 | F11: 48 | G11: 1
A12: 5 | B12: DEMOKRATYCZNA REPUBLIKA KONGA | C12: PIERWSZE | D12: Osoby | E12: 2 | F12: 49 | G12: 1
A13: 6 | B13: Pozostałe | C13: PIERWSZE | D13: Osoby | E13: 2 | F13: 758 | G13: 1
... A37: 6 | B37: Pozostałe | C37: WZNOWIENIA* | D37: Osoby | E37: 2 | F37: 52 | G37: 3

Sheet Arkusz4
A1: Lp | B1: Obywatelstwo | C1: Wniosek IN | D1: Decyzje pozytywne | E1: Transfer
A2: 1 | B2: NIEMCY | C2: 413 | D2: 352 | E2: 63
A3: 2 | B3: FRANCJA | C3: 212 | D3: 150 | E3: 18
A4: 3 | B4: BELGIA | C4: 83 | D4: 66 | E4: 9
A5: 4 | B5: WŁOCHY | C5: 53 | D5: 47 | E5: 0
A6: 5 | B6: NIDERLANDY | C6: 46 | D6: 40 | E6: 7
A7: 6 | B7: Pozostałe | C7: 268 | D7: 176 | E7: 81

Sheet Arkusz5
A1: Lp | B1: Obywatelstwo | C1: Wniosek OUT | D1: Decyzje pozytywne | E1: Transfer
A2: 1 | B2: NIEMCY | C2: 37 | D2: 28 | E2: 18
A3: 2 | B3: CHORWACJA | C3: 24 | D3: 17 | E3: 7
A4: 3 | B4: HISZPANIA | C4: 16 | D4: 20 | E4: 6
A5: 4 | B5: ŁOTWA | C5: 16 | D5: 18 | E5: 19
A6: 5 | B6: FRANCJA | C6: 14 | D6: 10 | E6: 5
A7: 6 | B7: Pozostałe | C7: 94 | D7: 89 | E7: 34

Sheet Arkusz18
A1: Kolumna1 | B1: Kolumna2 | C1: Kolumna3
A2: 01.09.2026 | B2: 30.09.2026 | C2: 01.01.2026

Sheet Arkusz16
A1: Liczba | B1: Placowka | C1: Opis | D1: Lp
A2: 0 | B2: Kaliningrad | C2: Zezwolenia wydane | D2: 1
A3: 0 | B3: Kaliningrad | C3: Odmowy wydania | D3: 2
A4: 0 | B4: Kaliningrad | C4: Zezwolenia cofnięte | D4: 3
A5: 0 | B5: Kaliningrad | C5: Zezwolenia unieważnione | D5: 4
A6: 341 | B6: Lwów | C6: Zezwolenia wydane | D6: 1
A7: 1 | B7: Lwów | C7: Odmowy wydania | D7: 2
A8: 0 | B8: Lwów | C8: Zezwolenia cofnięte | D8: 3
A9: 0 | B9: Lwów | C9: Zezwolenia unieważnione | D9: 4
A10: 81 | B10: Łuck | C10: Zezwolenia wydane | D10: 1
A11: 0 | B11: Łuck | C11: Odmowy wydania | D11: 2
A12: 0 | B12: Łuck | C12: Zezwolenia cofnięte | D12: 3
A13: 0 | B13: Łuck | C13: Zezwolenia unieważnione | D13: 4

Sheet Arkusz17
A1: Liczba | B1: Placowka | C1: Opis | D1: Lp
A2: 0 | B2: Kaliningrad | C2: Zezwolenia wydane | D2: 1
A3: 0 | B3: Kaliningrad | C3: Odmowy wydania | D3: 2
A4: 0 | B4: Kaliningrad | C4: Zezwolenia cofnięte | D4: 3
A5: 0 | B5: Kaliningrad | C5: Zezwolenia unieważnione | D5: 4
A6: 1479 | B6: Lwów | C6: Zezwolenia wydane | D6: 1
A7: 3 | B7: Lwów | C7: Odmowy wydania | D7: 2
A8: 0 | B8: Lwów | C8: Zezwolenia cofnięte | D8: 3
A9: 1 | B9: Lwów | C9: Zezwolenia unieważnione | D9: 4
A10: 312 | B10: Łuck | C10: Zezwolenia wydane | D10: 1
A11: 0 | B11: Łuck | C11: Odmowy wydania | D11: 2
A12: 0 | B12: Łuck | C12: Zezwolenia cofnięte | D12: 3
A13: 0 | B13: Łuck | C13: Zezwolenia unieważnione | D13: 4

Sheet Arkusz6
A1: Lp | B1: Nazwa_kraju | C1: Status uchodźcy | D1: Ochrona uzupełniająca | E1: Pobyt tolerowany | F1: Negatywna | G1: Umorzenie
A2: 1 | B2: UKRAINA | C2: 0 | D2: 43 | E2: 0 | F2: 353 | G2: 27
A3: 2 | B3: BIAŁORUŚ | C3: 21 | D3: 3 | E3: 0 | F3: 52 | G3: 12
A4: 3 | B4: ROSJA | C4: 0 | D4: 0 | E4: 0 | F4: 12 | G4: 3
A5: 4 | B5: KOLUMBIA | C5: 0 | D5: 0 | E5: 0 | F5: 7 | G5: 3
A6: 5 | B6: ETIOPIA | C6: 0 | D6: 0 | E6: 0 | F6: 5 | G6: 2
A7: 6 | B7: Pozostałe | C7: 2 | D7: 2 | E7: 0 | F7: 36 | G7: 40

Sheet Arkusz7
A1: Lp | B1: Nazwa_kraju | C1: Status uchodźcy | D1: Ochrona uzupełniająca | E1: Pobyt tolerowany | F1: Negatywna | G1: Umorzenie
A2: 1 | B2: UKRAINA | C2: 1 | D2: 219 | E2: 0 | F2: 3303 | G2: 374
A3: 2 | B3: BIAŁORUŚ | C3: 304 | D3: 380 | E3: 0 | F3: 266 | G3: 150
A4: 3 | B4: ROSJA | C4: 18 | D4: 15 | E4: 0 | F4: 243 | G4: 76
A5: 4 | B5: TADŻYKISTAN | C5: 8 | D5: 14 | E5: 0 | F5: 36 | G5: 85
A6: 5 | B6: AFGANISTAN | C6: 19 | D6: 0 | E6: 0 | F6: 52 | G6: 49
A7: 6 | B7: Pozostałe | C7: 69 | D7: 46 | E7: 0 | F7: 428 | G7: 494

Sheet Arkusz8
A1: Ilosc | B1: Cudzoziemcy | C1: Tydzien
A2: 710 | B2: przebywający w ośrodku | C2: 24.09.2026 - 30.09.2026
A3: 712 | B3: przebywający w ośrodku | C3: 17.09.2026 - 23.09.2026
A4: 716 | B4: przebywający w ośrodku | C4: 10.09.2026 - 16.09.2026
A5: 709 | B5: przebywający w ośrodku | C5: 03.09.2026 - 09.09.2026
A6: 708 | B6: przebywający w ośrodku | C6: 27.08.2026 - 02.09.2026
A7: 5804 | B7: świadczenia poza ośrodkiem | C7: 24.09.2026 - 30.09.2026
A8: 5799 | B8: świadczenia poza ośrodkiem | C8: 17.09.2026 - 23.09.2026
A9: 5803 | B9: świadczenia poza ośrodkiem | C9: 10.09.2026 - 16.09.2026
A10: 5818 | B10: świadczenia poza ośrodkiem | C10: 03.09.2026 - 09.09.2026
A11: 5821 | B11: świadczenia poza ośrodkiem | C11: 27.08.2026 - 02.09.2026
A12: 64 | B12: opuścili ośrodek | C12: 24.09.2026 - 30.09.2026
A13: 70 | B13: opuścili ośrodek | C13: 17.09.2026 - 23.09.2026
... A26: 0 | B26: małoletni | C26: 27.08.2026 - 02.09.2026

Sheet Arkusz9
A1: Opis_rozstrzygniecia | B1: Liczba | C1: Opis
A2: NEGATYWNA | B2: 1954 | C2: pobyt czasowy
A3: POZYTYWNA | B3: 21167 | C3: pobyt czasowy
A4: UMORZENIE | B4: 1632 | C4: pobyt czasowy
A5: Wnioski | B5: 48895 | C5: pobyt czasowy
A6: NEGATYWNA | B6: 256 | C6: pobyt rezyd. UE
A7: POZYTYWNA | B7: 1459 | C7: pobyt rezyd. UE
A8: UMORZENIE | B8: 141 | C8: pobyt rezyd. UE
A9: Wnioski | B9: 5332 | C9: pobyt rezyd. UE
A10: NEGATYWNA | B10: 242 | C10: pobyt stały
A11: POZYTYWNA | B11: 1106 | C11: pobyt stały
A12: UMORZENIE | B12: 92 | C12: pobyt stały
A13: Wnioski | B13: 1414 | C13: pobyt stały

Sheet Arkusz10
A1: Liczba | B1: Opis | C1: Typ | D1: Lp
A2: 604 | B2: WNIOSEK O ZAREJESTROWANIE POBYTU OBYWATELA UE | C2: wnioski | D2: 1
A3: 392 | B3: WNIOSEK O ZAREJESTROWANIE POBYTU OBYWATELA UE | C3: wydane dokumenty | D3: 1
A4: 77 | B4: WNIOSEK O WYDANIE DOKUMENTU POTWIERDZAJĄCEGO PRAWO STAŁEGO POBYTU | C4: wnioski | D4: 2
A5: 59 | B5: WNIOSEK O WYDANIE DOKUMENTU POTWIERDZAJĄCEGO PRAWO STAŁEGO POBYTU | C5: wydane dokumenty | D5: 2
A6: 0 | B6: WNIOSEK O WYDANIE KARTY POBYTU CZŁONKA RODZINY OBYWATELA UE | C6: wnioski | D6: 3
A7: 1 | B7: WNIOSEK O WYDANIE KARTY POBYTU CZŁONKA RODZINY OBYWATELA UE | C7: wydane dokumenty | D7: 3
A8: 11 | B8: WNIOSEK O WYDANIE KARTY STAŁEGO POBYTU (CZŁONKA RODZINY OBYWATELA UE) | C8: wnioski | D8: 4
A9: 1 | B9: WNIOSEK O WYDANIE KARTY STAŁEGO POBYTU (CZŁONKA RODZINY OBYWATELA UE) | C9: wydane dokumenty | D9: 4

Sheet Arkusz11
A1: Opis_rozstrzygniecia | B1: Liczba | C1: Opis
A2: NEGATYWNA | B2: 18542 | C2: pobyt czasowy
A3: POZYTYWNA | B3: 193452 | C3: pobyt czasowy
A4: UMORZENIE | B4: 12748 | C4: pobyt czasowy
A5: Wnioski | B5: 542666 | C5: pobyt czasowy
A6: NEGATYWNA | B6: 2135 | C6: pobyt rezyd. UE
A7: POZYTYWNA | B7: 14603 | C7: pobyt rezyd. UE
A8: UMORZENIE | B8: 1491 | C8: pobyt rezyd. UE
A9: Wnioski | B9: 32471 | C9: pobyt rezyd. UE
A10: NEGATYWNA | B10: 2022 | C10: pobyt stały
A11: POZYTYWNA | B11: 10633 | C11: pobyt stały
A12: UMORZENIE | B12: 1076 | C12: pobyt stały
A13: Wnioski | B13: 17715 | C13: pobyt stały

Sheet Arkusz12
A1: Liczba | B1: Opis | C1: Typ | D1: Lp
A2: 4215 | B2: WNIOSEK O ZAREJESTROWANIE POBYTU OBYWATELA UE | C2: wnioski | D2: 1
A3: 3416 | B3: WNIOSEK O ZAREJESTROWANIE POBYTU OBYWATELA UE | C3: wydane dokumenty | D3: 1
A4: 588 | B4: WNIOSEK O WYDANIE DOKUMENTU POTWIERDZAJĄCEGO PRAWO STAŁEGO POBYTU | C4: wnioski | D4: 2
A5: 476 | B5: WNIOSEK O WYDANIE DOKUMENTU POTWIERDZAJĄCEGO PRAWO STAŁEGO POBYTU | C5: wydane dokumenty | D5: 2
A6: 0 | B6: WNIOSEK O WYDANIE KARTY POBYTU CZŁONKA RODZINY OBYWATELA UE | C6: wnioski | D6: 3
A7: 4 | B7: WNIOSEK O WYDANIE KARTY POBYTU CZŁONKA RODZINY OBYWATELA UE | C7: wydane dokumenty | D7: 3
A8: 70 | B8: WNIOSEK O WYDANIE KARTY STAŁEGO POBYTU (CZŁONKA RODZINY OBYWATELA UE) | C8: wnioski | D8: 4
A9: 36 | B9: WNIOSEK O WYDANIE KARTY STAŁEGO POBYTU (CZŁONKA RODZINY OBYWATELA UE) | C9: wydane dokumenty | D9: 4

Sheet Arkusz13
A1: Lp | B1: Sprawa | C1: Liczba | D1: Opis | E1: Lp_opis
A2: 1 | B2: pobyt czasowy | C2: 12186 | D2: odwołanie | E2: 1
A3: 2 | B3: pobyt stały | C3: 1060 | D3: odwołanie | E3: 1
A4: 3 | B4: pobyt rezydenta długoterminowego UE | C4: 1210 | D4: odwołanie | E4: 1
A5: 4 | B5: prawo pobytu ob. UE | C5: 30 | D5: odwołanie | E5: 1
A6: 5 | B6: prawo stałego pobytu obywatela UE | C6: 4 | D6: odwołanie | E6: 1
A7: 6 | B7: prawo pobytu członka rodziny ob. UE | C7: 8 | D7: odwołanie | E7: 1
A8: 7 | B8: prawo stałego pobytu członka rodziny ob. UE | C8: 3 | D8: odwołanie | E8: 1
A9: 8 | B9: pobyt tolerowany | C9: 1 | D9: odwołanie | E9: 1
A10: 9 | B10: pobyt humanitarny | C10: 16 | D10: odwołanie | E10: 1
A11: 10 | B11: wydalenie | C11: 5 | D11: odwołanie | E11: 1
A12: 11 | B12: zobowiązanie do powrotu | C12: 3373 | D12: odwołanie | E12: 1
A13: 12 | B13: cofnięcie zakazu wjazdu | C13: 0 | D13: odwołanie | E13: 1
... A145: 16 | B145: wiza (nowa + Schengen) | C145: 9 | D145: inne | E145: 9

Sheet Arkusz14
A1: Lp | B1: Liczba | C1: Sprawa | D1: Opis
A2: 1 | B2: 13 | C2: pob. stały dla członków rodzin repatrianta | D2: wnioski
A3: 2 | B3: 10 | C3: pob. stały dla członków rodzin repatrianta | D3: wydane zezwolenia
A4: 3 | B4: 1 | C4: pob. stały dla członków rodzin repatrianta | D4: inne decyzje
