Workbook

Sheet Meldunek miesięczny
E5: Informacja o działalności Urzędu do Spraw Cudzoziemców
E9: =CONCATENATE("w okresie ",Arkusz18!A2," - ",Arkusz18!B2," r.") -> w okresie 01.09.2026 - 30.09.2026 r.
A15: Legalizacja pobytu
A18: I. Wnioski, które wpłynęły do wojewodów w sprawie zezwolenia na pobyt czasowy, pobyt stały i pobyt rezydenta długoterminowego UE oraz wydane w tych sprawach decyzje:
G22: Sprawa | K22: wnioski | M22: =CONCATENATE("decyzje ",Arkusz18!A2," - ",Arkusz18!B2," r.") -> decyzje 01.09.2026 - 30.09.2026 r.
M23: pozytywne | O23: negatywne | Q23: umorzenia
G24: pobyt czasowy | K24: 44147 | M24: 28805 | O24: 1973 | Q24: 1658
G25: pobyt stały | K25: 982 | M25: 1105 | O25: =Arkusz9!B10 -> 242 | Q25: =Arkusz9!B12 -> 92
G26: pobyt rezyd. UE | K26: 2396 | M26: =Arkusz9!B7 -> 1459 | O26: =Arkusz9!B6 -> 256 | Q26: =Arkusz9!B8 -> 141
G27: suma | K27: =SUM(K24:K26) -> 47525 | M27: =SUM(M24:M26) -> 31369 | O27: =SUM(O24:O26) -> 2471 | Q27: =SUM(Q24:Q26) -> 1891
G46: Sprawa | O46: wnioski | Q46: wydane dokumenty
G48: prawo pob. obyw. UE | O48: =Arkusz10!A2 -> 604 | Q48: =Arkusz10!A3 -> 392
G49: prawo st. pobytu obyw. UE | O49: =Arkusz10!A4 -> 77 | Q49: =Arkusz10!A5 -> 59
G50: prawo pob. członka rodz. obyw. UE | O50: =Arkusz10!A6 -> 0 | Q50: =Arkusz10!A7 -> 1
G51: prawo st. pob. członka rodz. obyw. UE | O51: =Arkusz10!A8 -> 11 | Q51: =Arkusz10!A9 -> 1
G52: suma | O52: =SUM(O48:O51) -> 692 | Q52: =SUM(Q48:Q51) -> 453
G56: Sprawa | K56: wnioski | M56: =CONCATENATE("decyzje ",Arkusz18!C2," - ",Arkusz18!B2," r.") -> decyzje 01.01.2026 - 30.09.2026 r.
M57: pozytywne | O57: negatywne | Q57: umorzenia
G58: pobyt czasowy | K58: 396697 | M58: 210344 | O58: 18560 | Q58: 12786
G59: pobyt stały | K59: 13040 | M59: 10626 | O59: 2021 | Q59: 1075
G60: pobyt rezyd. UE | K60: 21951 | M60: 14600 | O60: =Arkusz11!B6 -> 2135 | Q60: =Arkusz11!B8 -> 1491
G61: suma | K61: =SUM(K58:L60) -> 431688 | M61: =SUM(M58:N60) -> 235570 | O61: =SUM(O58:P60) -> 22716 | Q61: =SUM(Q58:R60) -> 15352
G82: Sprawa | O82: wnioski | Q82: wydane dokumenty
G84: prawo pob. obyw. UE | O84: =Arkusz12!A2 -> 4215 | Q84: =Arkusz12!A3 -> 3416
G85: prawo st. pobytu obyw. UE | O85: =Arkusz12!A4 -> 588 | Q85: =Arkusz12!A5 -> 476
G86: prawo pob. członka rodz. obyw. UE | O86: =Arkusz12!A6 -> 0 | Q86: =Arkusz12!A7 -> 4
G87: prawo st. pob. członka rodz. obyw. UE | O87: =Arkusz12!A8 -> 70 | Q87: =Arkusz12!A9 -> 36
G88: suma | O88: =SUM(O84:P87) -> 4873 | Q88: =SUM(Q84:R87) -> 3932
A91: We wrześniu 2026 r. cudzoziemcy złożyli 48 tys. wniosków o udzielenie zezwoleń na poby. Zdecydowana większość - 93% - dotyczyła pobytu czasowego (44 tys.). O pobyt stały wnioskowało 1 tys. osób (2%), a o status rezydenta długoterminowego UE – 2,4 tys. wnioskodawców (5%). Główne państwa pochodzenia: Listę otwierają obywatele Ukrainy (70% – 33 tys.), a następnie Białorusi (3,5 tys.) oraz Kolumbii (1,7 tys.). Wiek i płeć: Imigracja ma charakter zarobkowy – aż 82% wnioskodawców to osoby w wieku produkcyjnym (równomiernie rozłożone między grupy 18–34 oraz 35–64 lata). Wśród dzieci dominują osoby do 13. roku życia (5,6 tys.). W strukturze płci występuje przewaga mężczyzn (56%). Ponad połowa wszystkich wniosków (59%) wpłynęła do czterech urzędów wojewódzkich: * Mazowieckiego (12,4 tys. – 26%), * Dolnośląskiego (5,4 tys.), * Pomorskiego (5,3 tys.), * Wielkopolskiego (4,8 tys.). We wrześniu urzędy zakończyły postępowania w 36 tys. spraw (suma decyzji pozytywnych, negatywnych i umorzeń). Struktura rozstrzygnięć kształtowała się następująco: *Decyzje pozytywne: 31 tys. (88% ogółu rozstrzygnięć), *Decyzje negatywne: 2,5 tys. (7% ogółu), *Umorzenia postępowań: 1,9 tys. (5% ogółu). W podziale na poszczególne rodzaje spraw, łączna liczba wydanych decyzji (pozytywnych, negatywnych i umorzeń) wyniosła: Pobyt czasowy: 32 tys. decyzji, Pobyt stały: 1,4 tys. decyzji, Pobyt rezydenta UE: 1,9 tys. decyzji. W strukturze wydanych decyzji pozytywnych dominował pobyt czasowy (29 tys. decyzji – 92%), przed pobytem rezydenta długoterminowego UE (1,5 tys. decyzji – 5%) oraz pobytem stałym (1,1 tys. decyzji – 3%). Warto odnotować, że w przypadku pobytu stałego liczba wydanych decyzji pozytywnych (1,1 tys.) była wyższa niż liczba nowych wniosków złożonych w tym miesiącu (1 tys.). Podsumowanie (I - IX 2026 r.): Napływ wniosków: Od początku roku do końca września złożono 432 tys. wniosków. Głównymi państwami pochodzenia pozostają: Ukraina (68%) oraz Białoruś (8%), przy widocznym udziale obywateli Kolumbii, Gruzji i Indii (po ok. 3%). Wydane decyzje: Urzędy wydały 274 tys. rozstrzygnięć (w tym 210 tys. dla pobytu czasowego, 11 tys. dla pobytu stałego oraz 15 tys. dla pobytu rezydenta UE). Odsetek decyzji pozytywnych utrzymał się na stabilnym poziomie 86% (236 tys. decyzji). Najwięcej zgód na pobyt otrzymali obywatele Ukrainy (70%), Białorusi (9%), Indii (3%) oraz Kolumbii i Gruzji (po 2%).
A125: II. Odwołania od decyzji wydanych w I instancji w sprawie legalizacji pobytu cudzoziemców na terytorium RP, odpowiedzi na skargi oraz wnioski o udzielenie zezwolenia na pobyt stały dla członków rodzin repatriantów:
L127: =CONCATENATE(Arkusz18!C2," - ",Arkusz18!B2," r.") -> 01.01.2026 - 30.09.2026 r.
C128: Sprawa | L128: odwołania | N128: utrzymanie | O128: decyzje pozytywne | P128: uchylenie i przekazanie do ponownego rozp. | Q128: uchylenie i umorzenie | R128: pobyt humanitarny | S128: pobyt tolerowany | T128: cofnięcie zakazu wjazdu | U128: inne | V128: Suma decyzji
C129: pobyt czasowy | L129: =Arkusz13!C2 -> 12186 | N129: 2416 | O129: 5105 | P129: 3786 | Q129: 641 | R129: =Arkusz13!C82 -> 0 | S129: =Arkusz13!C98 -> 0 | T129: =Arkusz13!C114 -> 0 | U129: =Arkusz13!C130-SUM(N129:T129) -> 2167 | V129: =SUM(N129:U129) -> 14115
C130: pobyt stały | L130: =Arkusz13!C3 -> 1060 | N130: 502 | O130: =Arkusz13!C35 -> 161 | P130: 115 | Q130: 31 | R130: =Arkusz13!C83 -> 0 | S130: =Arkusz13!C99 -> 0 | T130: =Arkusz13!C115 -> 0 | U130: =Arkusz13!C131-SUM(N130:T130) -> 120 | V130: =SUM(N130:U130) -> 929
C131: pobyt rezydenta długoterminowego UE | L131: =Arkusz13!C4 -> 1210 | N131: 595 | O131: =Arkusz13!C36 -> 180 | P131: =Arkusz13!C52 -> 170 | Q131: 87 | R131: =Arkusz13!C84 -> 0 | S131: =Arkusz13!C100 -> 0 | T131: =Arkusz13!C116 -> 0 | U131: =Arkusz13!C132-SUM(N131:T131) -> 97 | V131: =SUM(N131:U131) -> 1129
C132: prawo pobytu ob. UE | L132: =Arkusz13!C5 -> 30 | N132: =Arkusz13!C21 -> 20 | O132: =Arkusz13!C37 -> 0 | P132: =Arkusz13!C53 -> 1 | Q132: =Arkusz13!C69 -> 0 | R132: =Arkusz13!C85 -> 0 | S132: =Arkusz13!C101 -> 0 | T132: =Arkusz13!C117 -> 0 | U132: =Arkusz13!C133-SUM(N132:T132) -> 11 | V132: =SUM(N132:U132) -> 32
C133: prawo stałego pobytu obywatela UE | L133: =Arkusz13!C6 -> 4 | N133: =Arkusz13!C22 -> 2 | O133: =Arkusz13!C38 -> 1 | P133: =Arkusz13!C54 -> 3 | Q133: =Arkusz13!C70 -> 0 | R133: =Arkusz13!C86 -> 0 | S133: =Arkusz13!C102 -> 0 | T133: =Arkusz13!C118 -> 0 | U133: =Arkusz13!C134-SUM(N133:T133) -> 2 | V133: =SUM(N133:U133) -> 8
C134: prawo pobytu członka rodziny ob. UE | L134: =Arkusz13!C7 -> 8 | N134: =Arkusz13!C23 -> 4 | O134: =Arkusz13!C39 -> 2 | P134: =Arkusz13!C55 -> 2 | Q134: =Arkusz13!C71 -> 1 | R134: =Arkusz13!C87 -> 0 | S134: =Arkusz13!C103 -> 0 | T134: =Arkusz13!C119 -> 0 | U134: =Arkusz13!C135-SUM(N134:T134) -> 3 | V134: =SUM(N134:U134) -> 12
C135: prawo stałego pobytu członka rodziny ob.. UE | L135: =Arkusz13!C8 -> 3 | N135: =Arkusz13!C24 -> 0 | O135: =Arkusz13!C40 -> 0 | P135: =Arkusz13!C56 -> 2 | Q135: =Arkusz13!C72 -> 0 | R135: =Arkusz13!C88 -> 0 | S135: =Arkusz13!C104 -> 0 | T135: =Arkusz13!C120 -> 0 | U135: =Arkusz13!C136-SUM(N135:T135) -> 1 | V135: =SUM(N135:U135) -> 3
C136: pobyt tolerowany | L136: =Arkusz13!C9 -> 1 | N136: =Arkusz13!C25 -> 0 | O136: =Arkusz13!C41 -> 0 | P136: =Arkusz13!C57 -> 0 | Q136: =Arkusz13!C73 -> 0 | R136: =Arkusz13!C89 -> 0 | S136: =Arkusz13!C105 -> 0 | T136: =Arkusz13!C121 -> 0 | U136: =Arkusz13!C137-SUM(N136:T136) -> 0 | V136: =SUM(N136:U136) -> 0
...

Sheet Arkusz15
A1: Lp | B1: Czynnosc | C1: Liczba
A2: 1 | B2: wpis | C2: 243
A3: 2 | B3: wpis SIS | C3: 52
A4: 3 | B4: wykreślenie | C4: 26
A5: 4 | B5: korekta wpisów | C5: 97
A6: 5 | B6: odmowa wpisu | C6: 0
A7: 6 | B7: zawieszenie wpisów | C7: 0
A8: 7 | B8: wykreślenie SIS | C8: 0
A9: 8 | B9: wnioski cudz. | C9: 0
A10: 9 | B10: konsultacje | C10: 0
A11: 10 | B11: telegramy | C11: 0
A12: 11 | B12: alerty pobytowe | C12: 0

Sheet Arkusz1
A1: Lp | B1: Wnioskujacy | C1: Wnioski | D1: Decyzje
A2: 1 | B2: Inne_panstwo | C2: 0 | D2: 0
A3: 2 | B3: Konsul_RP | C3: 0 | D3: 0
A4: 3 | B4: fakultatywne | C4: 0 | D4: 0

Sheet Arkusz2
A1: Lp | B1: Obywatelstwo_pl | C1: Grupa | D1: Typ | E1: Lp_typ | F1: Liczba | G1: Lp_grupa
A2: 1 | B2: UKRAINA | C2: PIERWSZE | D2: Wnioski | E2: 1 | F2: 117 | G2: 1
A3: 2 | B3: BIAŁORUŚ | C3: PIERWSZE | D3: Wnioski | E3: 1 | F3: 71 | G3: 1
A4: 3 | B4: ROSJA | C4: PIERWSZE | D4: Wnioski | E4: 1 | F4: 13 | G4: 1
A5: 4 | B5: DEMOKRATYCZNA REPUBLIKA KONGA | C5: PIERWSZE | D5: Wnioski | E5: 1 | F5: 4 | G5: 1
A6: 5 | B6: TURCJA | C6: PIERWSZE | D6: Wnioski | E6: 1 | F6: 8 | G6: 1
A7: 6 | B7: Pozostałe | C7: PIERWSZE | D7: Wnioski | E7: 1 | F7: 68 | G7: 1
A8: 1 | B8: UKRAINA | C8: PIERWSZE | D8: Osoby | E8: 2 | F8: 130 | G8: 1
A9: 2 | B9: BIAŁORUŚ | C9: PIERWSZE | D9: Osoby | E9: 2 | F9: 75 | G9: 1
A10: 3 | B10: ROSJA | C10: PIERWSZE | D10: Osoby | E10: 2 | F10: 17 | G10: 1
A11: 4 | B11: DEMOKRATYCZNA REPUBLIKA KONGA | C11: PIERWSZE | D11: Osoby | E11: 2 | F11: 7 | G11: 1
A12: 5 | B12: TURCJA | C12: PIERWSZE | D12: Osoby | E12: 2 | F12: 10 | G12: 1
A13: 6 | B13: Pozostałe | C13: PIERWSZE | D13: Osoby | E13: 2 | F13: 76 | G13: 1
... A37: 6 | B37: Pozostałe | C37: WZNOWIENIA* | D37: Osoby | E37: 2 | F37: 6 | G37: 3

Sheet Arkusz3
A1: Lp | B1: Obywatelstwo_pl | C1: Grupa | D1: Typ | E1: Lp_typ | F1: Liczba | G1: Lp_grupa
A2: 1 | B2: UKRAINA | C2: PIERWSZE | D2: Wnioski | E2: 1 | F2: 1172 | G2: 1
A3: 2 | B3: BIAŁORUŚ | C3: PIERWSZE | D3: Wnioski | E3: 1 | F3: 969 | G3: 1
A4: 3 | B4: ROSJA | C4: PIERWSZE | D4: Wnioski | E4: 1 | F4: 118 | G4: 1
A5: 4 | B5: TADŻYKISTAN | C5: PIERWSZE | D5: Wnioski | E5: 1 | F5: 37 | G5: 1
A6: 5 | B6: DEMOKRATYCZNA REPUBLIKA KONGA | C6: PIERWSZE | D6: Wnioski | E6: 1 | F6: 37 | G6: 1
A7: 6 | B7: Pozostałe | C7: PIERWSZE | D7: Wnioski | E7: 1 | F7: 688 | G7: 1
A8: 1 | B8: UKRAINA | C8: PIERWSZE | D8: Osoby | E8: 2 | F8: 1399 | G8: 1
A9: 2 | B9: BIAŁORUŚ | C9: PIERWSZE | D9: Osoby | E9: 2 | F9: 1167 | G9: 1
A10: 3 | B10: ROSJA | C10: PIERWSZE | D10: Osoby | E10: 2 | F10: 141 | G10: 1
A11: 4 | B11: TADŻYKISTAN | C11: PIERWSZE | D11: Osoby | E11: 2 | F11: 48 | G11: 1
A12: 5 | B12: DEMOKRATYCZNA REPUBLIKA KONGA | C12: PIERWSZE | D12: Osoby | E12: 2 | F12: 49 | G12: 1
A13: 6 | B13: Pozostałe | C13: PIERWSZE | D13: Osoby | E13: 2 | F13: 758 | G13: 1
... A37: 6 | B37: Pozostałe | C37: WZNOWIENIA* | D37: Osoby | E37: 2 | F37: 52 | G37: 3

Sheet Arkusz4
A1: Lp | B1: Obywatelstwo | C1: Wniosek IN | D1: Decyzje pozytywne | E1: Transfer
A2: 1 | B2: NIEMCY | C2: 413 | D2: 352 | E2: 63
A3: 2 | B3: FRANCJA | C3: 212 | D3: 150 | E3: 18
A4: 3 | B4: BELGIA | C4: 83 | D4: 66 | E4: 9
A5: 4 | B5: WŁOCHY | C5: 53 | D5: 47 | E5: 0
A6: 5 | B6: NIDERLANDY | C6: 46 | D6: 40 | E6: 7
A7: 6 | B7: Pozostałe | C7: 268 | D7: 176 | E7: 81

Sheet Arkusz5
A1: Lp | B1: Obywatelstwo | C1: Wniosek OUT | D1: Decyzje pozytywne | E1: Transfer
A2: 1 | B2: NIEMCY | C2: 37 | D2: 28 | E2: 18
A3: 2 | B3: CHORWACJA | C3: 24 | D3: 17 | E3: 7
A4: 3 | B4: HISZPANIA | C4: 16 | D4: 20 | E4: 6
A5: 4 | B5: ŁOTWA | C5: 16 | D5: 18 | E5: 19
A6: 5 | B6: FRANCJA | C6: 14 | D6: 10 | E6: 5
A7: 6 | B7: Pozostałe | C7: 94 | D7: 89 | E7: 34

Sheet Arkusz18
A1: Kolumna1 | B1: Kolumna2 | C1: Kolumna3
A2: 01.09.2026 | B2: 30.09.2026 | C2: 01.01.2026

Sheet Arkusz16
A1: Liczba | B1: Placowka | C1: Opis | D1: Lp
A2: 0 | B2: Kaliningrad | C2: Zezwolenia wydane | D2: 1
A3: 0 | B3: Kaliningrad | C3: Odmowy wydania | D3: 2
A4: 0 | B4: Kaliningrad | C4: Zezwolenia cofnięte | D4: 3
A5: 0 | B5: Kaliningrad | C5: Zezwolenia unieważnione | D5: 4
A6: 341 | B6: Lwów | C6: Zezwolenia wydane | D6: 1
A7: 1 | B7: Lwów | C7: Odmowy wydania | D7: 2
A8: 0 | B8: Lwów | C8: Zezwolenia cofnięte | D8: 3
A9: 0 | B9: Lwów | C9: Zezwolenia unieważnione | D9: 4
A10: 81 | B10: Łuck | C10: Zezwolenia wydane | D10: 1
A11: 0 | B11: Łuck | C11: Odmowy wydania | D11: 2
A12: 0 | B12: Łuck | C12: Zezwolenia cofnięte | D12: 3
A13: 0 | B13: Łuck | C13: Zezwolenia unieważnione | D13: 4

Sheet Arkusz17
A1: Liczba | B1: Placowka | C1: Opis | D1: Lp
A2: 0 | B2: Kaliningrad | C2: Zezwolenia wydane | D2: 1
A3: 0 | B3: Kaliningrad | C3: Odmowy wydania | D3: 2
A4: 0 | B4: Kaliningrad | C4: Zezwolenia cofnięte | D4: 3
A5: 0 | B5: Kaliningrad | C5: Zezwolenia unieważnione | D5: 4
A6: 1479 | B6: Lwów | C6: Zezwolenia wydane | D6: 1
A7: 3 | B7: Lwów | C7: Odmowy wydania | D7: 2
A8: 0 | B8: Lwów | C8: Zezwolenia cofnięte | D8: 3
A9: 1 | B9: Lwów | C9: Zezwolenia unieważnione | D9: 4
A10: 312 | B10: Łuck | C10: Zezwolenia wydane | D10: 1
A11: 0 | B11: Łuck | C11: Odmowy wydania | D11: 2
A12: 0 | B12: Łuck | C12: Zezwolenia cofnięte | D12: 3
A13: 0 | B13: Łuck | C13: Zezwolenia unieważnione | D13: 4

Sheet Arkusz6
A1: Lp | B1: Nazwa_kraju | C1: Status uchodźcy | D1: Ochrona uzupełniająca | E1: Pobyt tolerowany | F1: Negatywna | G1: Umorzenie
A2: 1 | B2: UKRAINA | C2: 0 | D2: 43 | E2: 0 | F2: 353 | G2: 27
A3: 2 | B3: BIAŁORUŚ | C3: 21 | D3: 3 | E3: 0 | F3: 52 | G3: 12
A4: 3 | B4: ROSJA | C4: 0 | D4: 0 | E4: 0 | F4: 12 | G4: 3
A5: 4 | B5: KOLUMBIA | C5: 0 | D5: 0 | E5: 0 | F5: 7 | G5: 3
A6: 5 | B6: ETIOPIA | C6: 0 | D6: 0 | E6: 0 | F6: 5 | G6: 2
A7: 6 | B7: Pozostałe | C7: 2 | D7: 2 | E7: 0 | F7: 36 | G7: 40

Sheet Arkusz7
A1: Lp | B1: Nazwa_kraju | C1: Status uchodźcy | D1: Ochrona uzupełniająca | E1: Pobyt tolerowany | F1: Negatywna | G1: Umorzenie
A2: 1 | B2: UKRAINA | C2: 1 | D2: 219 | E2: 0 | F2: 3303 | G2: 374
A3: 2 | B3: BIAŁORUŚ | C3: 304 | D3: 380 | E3: 0 | F3: 266 | G3: 150
A4: 3 | B4: ROSJA | C4: 18 | D4: 15 | E4: 0 | F4: 243 | G4: 76
A5: 4 | B5: TADŻYKISTAN | C5: 8 | D5: 14 | E5: 0 | F5: 36 | G5: 85
A6: 5 | B6: AFGANISTAN | C6: 19 | D6: 0 | E6: 0 | F6: 52 | G6: 49
A7: 6 | B7: Pozostałe | C7: 69 | D7: 46 | E7: 0 | F7: 428 | G7: 494

Sheet Arkusz8
A1: Ilosc | B1: Cudzoziemcy | C1: Tydzien
A2: 710 | B2: przebywający w ośrodku | C2: 24.09.2026 - 30.09.2026
A3: 712 | B3: przebywający w ośrodku | C3: 17.09.2026 - 23.09.2026
A4: 716 | B4: przebywający w ośrodku | C4: 10.09.2026 - 16.09.2026
A5: 709 | B5: przebywający w ośrodku | C5: 03.09.2026 - 09.09.2026
A6: 708 | B6: przebywający w ośrodku | C6: 27.08.2026 - 02.09.2026
A7: 5804 | B7: świadczenia poza ośrodkiem | C7: 24.09.2026 - 30.09.2026
A8: 5799 | B8: świadczenia poza ośrodkiem | C8: 17.09.2026 - 23.09.2026
A9: 5803 | B9: świadczenia poza ośrodkiem | C9: 10.09.2026 - 16.09.2026
A10: 5818 | B10: świadczenia poza ośrodkiem | C10: 03.09.2026 - 09.09.2026
A11: 5821 | B11: świadczenia poza ośrodkiem | C11: 27.08.2026 - 02.09.2026
A12: 64 | B12: opuścili ośrodek | C12: 24.09.2026 - 30.09.2026
A13: 70 | B13: opuścili ośrodek | C13: 17.09.2026 - 23.09.2026
... A26: 0 | B26: małoletni | C26: 27.08.2026 - 02.09.2026

Sheet Arkusz9
A1: Opis_rozstrzygniecia | B1: Liczba | C1: Opis
A2: NEGATYWNA | B2: 1954 | C2: pobyt czasowy
A3: POZYTYWNA | B3: 21167 | C3: pobyt czasowy
A4: UMORZENIE | B4: 1632 | C4: pobyt czasowy
A5: Wnioski | B5: 48895 | C5: pobyt czasowy
A6: NEGATYWNA | B6: 256 | C6: pobyt rezyd. UE
A7: POZYTYWNA | B7: 1459 | C7: pobyt rezyd. UE
A8: UMORZENIE | B8: 141 | C8: pobyt rezyd. UE
A9: Wnioski | B9: 5332 | C9: pobyt rezyd. UE
A10: NEGATYWNA | B10: 242 | C10: pobyt stały
A11: POZYTYWNA | B11: 1106 | C11: pobyt stały
A12: UMORZENIE | B12: 92 | C12: pobyt stały
A13: Wnioski | B13: 1414 | C13: pobyt stały

Sheet Arkusz10
A1: Liczba | B1: Opis | C1: Typ | D1: Lp
A2: 604 | B2: WNIOSEK O ZAREJESTROWANIE POBYTU OBYWATELA UE | C2: wnioski | D2: 1
A3: 392 | B3: WNIOSEK O ZAREJESTROWANIE POBYTU OBYWATELA UE | C3: wydane dokumenty | D3: 1
A4: 77 | B4: WNIOSEK O WYDANIE DOKUMENTU POTWIERDZAJĄCEGO PRAWO STAŁEGO POBYTU | C4: wnioski | D4: 2
A5: 59 | B5: WNIOSEK O WYDANIE DOKUMENTU POTWIERDZAJĄCEGO PRAWO STAŁEGO POBYTU | C5: wydane dokumenty | D5: 2
A6: 0 | B6: WNIOSEK O WYDANIE KARTY POBYTU CZŁONKA RODZINY OBYWATELA UE | C6: wnioski | D6: 3
A7: 1 | B7: WNIOSEK O WYDANIE KARTY POBYTU CZŁONKA RODZINY OBYWATELA UE | C7: wydane dokumenty | D7: 3
A8: 11 | B8: WNIOSEK O WYDANIE KARTY STAŁEGO POBYTU (CZŁONKA RODZINY OBYWATELA UE) | C8: wnioski | D8: 4
A9: 1 | B9: WNIOSEK O WYDANIE KARTY STAŁEGO POBYTU (CZŁONKA RODZINY OBYWATELA UE) | C9: wydane dokumenty | D9: 4

Sheet Arkusz11
A1: Opis_rozstrzygniecia | B1: Liczba | C1: Opis
A2: NEGATYWNA | B2: 18542 | C2: pobyt czasowy
A3: POZYTYWNA | B3: 193452 | C3: pobyt czasowy
A4: UMORZENIE | B4: 12748 | C4: pobyt czasowy
A5: Wnioski | B5: 542666 | C5: pobyt czasowy
A6: NEGATYWNA | B6: 2135 | C6: pobyt rezyd. UE
A7: POZYTYWNA | B7: 14603 | C7: pobyt rezyd. UE
A8: UMORZENIE | B8: 1491 | C8: pobyt rezyd. UE
A9: Wnioski | B9: 32471 | C9: pobyt rezyd. UE
A10: NEGATYWNA | B10: 2022 | C10: pobyt stały
A11: POZYTYWNA | B11: 10633 | C11: pobyt stały
A12: UMORZENIE | B12: 1076 | C12: pobyt stały
A13: Wnioski | B13: 17715 | C13: pobyt stały

Sheet Arkusz12
A1: Liczba | B1: Opis | C1: Typ | D1: Lp
A2: 4215 | B2: WNIOSEK O ZAREJESTROWANIE POBYTU OBYWATELA UE | C2: wnioski | D2: 1
A3: 3416 | B3: WNIOSEK O ZAREJESTROWANIE POBYTU OBYWATELA UE | C3: wydane dokumenty | D3: 1
A4: 588 | B4: WNIOSEK O WYDANIE DOKUMENTU POTWIERDZAJĄCEGO PRAWO STAŁEGO POBYTU | C4: wnioski | D4: 2
A5: 476 | B5: WNIOSEK O WYDANIE DOKUMENTU POTWIERDZAJĄCEGO PRAWO STAŁEGO POBYTU | C5: wydane dokumenty | D5: 2
A6: 0 | B6: WNIOSEK O WYDANIE KARTY POBYTU CZŁONKA RODZINY OBYWATELA UE | C6: wnioski | D6: 3
A7: 4 | B7: WNIOSEK O WYDANIE KARTY POBYTU CZŁONKA RODZINY OBYWATELA UE | C7: wydane dokumenty | D7: 3
A8: 70 | B8: WNIOSEK O WYDANIE KARTY STAŁEGO POBYTU (CZŁONKA RODZINY OBYWATELA UE) | C8: wnioski | D8: 4
A9: 36 | B9: WNIOSEK O WYDANIE KARTY STAŁEGO POBYTU (CZŁONKA RODZINY OBYWATELA UE) | C9: wydane dokumenty | D9: 4

Sheet Arkusz13
A1: Lp | B1: Sprawa | C1: Liczba | D1: Opis | E1: Lp_opis
A2: 1 | B2: pobyt czasowy | C2: 12186 | D2: odwołanie | E2: 1
A3: 2 | B3: pobyt stały | C3: 1060 | D3: odwołanie | E3: 1
A4: 3 | B4: pobyt rezydenta długoterminowego UE | C4: 1210 | D4: odwołanie | E4: 1
A5: 4 | B5: prawo pobytu ob. UE | C5: 30 | D5: odwołanie | E5: 1
A6: 5 | B6: prawo stałego pobytu obywatela UE | C6: 4 | D6: odwołanie | E6: 1
A7: 6 | B7: prawo pobytu członka rodziny ob. UE | C7: 8 | D7: odwołanie | E7: 1
A8: 7 | B8: prawo stałego pobytu członka rodziny ob. UE | C8: 3 | D8: odwołanie | E8: 1
A9: 8 | B9: pobyt tolerowany | C9: 1 | D9: odwołanie | E9: 1
A10: 9 | B10: pobyt humanitarny | C10: 16 | D10: odwołanie | E10: 1
A11: 10 | B11: wydalenie | C11: 5 | D11: odwołanie | E11: 1
A12: 11 | B12: zobowiązanie do powrotu | C12: 3373 | D12: odwołanie | E12: 1
A13: 12 | B13: cofnięcie zakazu wjazdu | C13: 0 | D13: odwołanie | E13: 1
... A145: 16 | B145: wiza (nowa + Schengen) | C145: 9 | D145: inne | E145: 9

Sheet Arkusz14
A1: Lp | B1: Liczba | C1: Sprawa | D1: Opis
A2: 1 | B2: 13 | C2: pob. stały dla członków rodzin repatrianta | D2: wnioski
A3: 2 | B3: 10 | C3: pob. stały dla członków rodzin repatrianta | D3: wydane zezwolenia
A4: 3 | B4: 1 | C4: pob. stały dla członków rodzin repatrianta | D4: inne decyzje
