{"text_format":"1","workbook":"xlsx","n_sheets":16,"sheets":["Rozliczenie końcowe","Załącznik nr 1 do rozliczenia","Załącznik nr 2 do rozliczenia","Dane JST","Dane zbiorcze","Dane szczegółowe","Miesiące","Dane - linie 1","Dane - linie 2","Dane - linie 3","Dane - linie 4","Weryfikacja I kw","Weryfikacja II kw","Weryfikacja III kw","Weryfikacja IV kw","Weryfikacja roczna"],"not_rendered":{"charts":0,"images":3,"macros":1,"external_links":0,"defined_names":716,"comments":0,"pivot_tables":0},"unopened":[],"bounds":{"document_bytes":16777216,"sheet_cells":100000,"rows_first":2000,"rows_last":500,"rows_between":2000,"halvings":0,"cell_chars":16384,"cell_head_chars":4096},"cells_cut":0,"cells_raw":0,"read":"whole","date_system":"1900"}

{"sheet":"Rozliczenie końcowe","index":0,"n_rows":761,"n_cols":14,"rows_kept":761,"cut":false,"hidden":false,"merged":[[263,0,263,4],[499,0,499,4],[753,6,753,12],[754,6,754,12],[129,1,129,3],[130,1,130,3],[131,1,131,3],[132,1,132,3],[133,1,133,3],[134,1,134,3],[135,1,135,3],[136,1,136,3],[137,1,137,3],[501,0,502,1],[501,2,502,2],[500,0,500,1],[500,2,500,6],[500,7,500,9],[380,0,380,13],[136,8,136,9],[137,8,137,9],[138,8,138,9],[382,13,385,13],[382,0,384,1],[741,0,741,5],[738,0,738,5],[121,8,121,9],[122,8,122,9],[123,8,123,9],[124,8,124,9],[125,8,125,9],[131,8,131,9],[743,0,743,5],[737,0,737,5],[737,6,737,7],[738,6,738,7],[740,6,740,7],[739,6,739,7],[135,8,135,9],[138,1,138,3],[139,1,139,3],[140,1,140,3],[141,1,141,3],[140,8,140,9],[139,8,139,9],[139,4,139,5],[140,4,140,5],[382,7,382,9],[383,7,383,9],[739,0,739,5],[740,0,740,5],[742,0,742,5],[383,3,383,6],[382,2,382,6],[121,1,121,3],[122,1,122,3],[123,1,123,3],[124,1,124,3],[125,1,125,3],[126,1,126,3],[127,1,127,3],[264,2,264,6],[142,0,142,5],[141,4,141,5],[260,0,260,1],[262,0,262,13],[263,5,263,7],[263,8,263,13],[123,4,123,5],[124,4,124,5],[134,4,134,5],[135,4,135,5],[136,4,136,5],[732,0,732,1],[749,6,750,12],[751,6,751,12],[128,1,128,3],[123,6,123,7],[124,6,124,7],[125,6,125,7],[126,8,126,9],[127,8,127,9],[128,8,128,9],[129,8,129,9],[130,8,130,9],[381,5,381,7],[381,8,381,13],[381,0,381,4],[742,6,742,7],[743,6,743,7],[383,2,384,2],[146,13,149,13],[147,3,147,6],[147,7,147,9],[147,10,147,12],[264,0,266,1],[265,2,266,2],[265,3,265,6],[112,1,112,3],[113,1,113,3],[114,1,114,3],[115,1,115,3],[116,1,116,3],[117,1,117,3],[118,1,118,3],[119,1,119,3],[120,1,120,3],[116,6,116,7],[117,6,117,7],[118,6,118,7],[119,6,119,7],[120,6,120,7],[141,6,141,7],[142,6,142,7],[136,6,136,7],[137,6,137,7],[138,6,138,7],[139,6,139,7],[140,6,140,7],[131,6,131,7],[132,6,132,7],[133,6,133,7],[134,6,134,7],[135,6,135,7],[126,6,126,7],[127,6,127,7],[128,6,128,7],[129,6,129,7],[130,6,130,7],[121,6,121,7],[122,6,122,7],[103,1,103,3],[104,1,104,3],[105,1,105,3],[106,1,106,3],[107,1,107,3],[108,1,108,3],[109,1,109,3],[110,1,110,3],[111,1,111,3],[106,6,106,7],[107,6,107,7],[108,6,108,7],[109,6,109,7],[110,6,110,7],[115,6,115,7],[105,4,105,5],[106,4,106,5],[107,4,107,5],[108,4,108,5],[109,4,109,5],[110,4,110,5],[111,4,111,5],[94,1,94,3],[95,1,95,3],[96,1,96,3],[97,1,97,3],[98,1,98,3],[99,1,99,3],[100,1,100,3],[101,1,101,3],[102,1,102,3],[85,1,85,3],[86,1,86,3],[87,1,87,3],[88,1,88,3],[89,1,89,3],[90,1,90,3],[91,1,91,3],[92,1,92,3],[93,1,93,3],[76,1,76,3],[77,1,77,3],[78,1,78,3],[79,1,79,3],[80,1,80,3],[81,1,81,3],[82,1,82,3],[83,1,83,3],[84,1,84,3],[67,1,67,3],[68,1,68,3],[69,1,69,3],[70,1,70,3],[71,1,71,3],[72,1,72,3],[73,1,73,3],[74,1,74,3],[75,1,75,3],[58,1,58,3],[59,1,59,3],[60,1,60,3],[61,1,61,3],[62,1,62,3],[63,1,63,3],[64,1,64,3],[65,1,65,3],[66,1,66,3],[44,1,44,3],[45,1,45,3],[46,1,46,3],[47,1,47,3],[48,1,48,3],[49,1,49,3],[50,1,50,3],[51,1,51,3],[57,1,57,3],[15,2,15,3],[16,2,16,3],[5,2,5,3],[6,2,6,3],[7,2,7,3],[8,2,8,3],[9,2,9,3],[10,2,10,3],[11,2,11,3],[13,2,13,3],[14,2,14,3],[757,1,757,4],[32,1,32,3],[31,12,31,13],[31,1,31,3],[31,4,31,5],[496,0,496,1],[382,10,382,12],[383,10,383,12],[378,0,378,1],[264,7,264,9],[265,7,265,9],[264,10,264,12],[265,10,265,12],[52,1,52,3],[53,1,53,3],[54,1,54,3],[55,1,55,3],[56,1,56,3],[614,0,614,1],[500,13,503,13],[499,8,499,13],[499,5,499,7],[501,3,501,6],[49,6,49,7],[759,0,759,13],[30,0,30,13],[22,0,22,13],[31,6,31,7],[31,8,31,9],[32,6,32,7],[33,6,33,7],[34,6,34,7],[35,6,35,7],[36,6,36,7],[37,6,37,7],[38,6,38,7],[39,6,39,7],[40,6,40,7],[264,13,267,13],[144,0,144,13],[145,5,145,7],[145,0,145,4],[146,0,148,1],[146,2,146,6],[146,7,146,9],[146,10,146,12],[145,8,145,13],[147,2,148,2],[50,6,50,7],[41,6,41,7],[42,6,42,7],[43,6,43,7],[44,6,44,7],[45,6,45,7],[56,6,56,7],[57,6,57,7],[46,6,46,7],[47,6,47,7],[48,6,48,7],[58,6,58,7],[59,6,59,7],[60,6,60,7],[51,6,51,7],[52,6,52,7],[53,6,53,7],[54,6,54,7],[55,6,55,7],[66,6,66,7],[67,6,67,7],[68,6,68,7],[69,6,69,7],[70,6,70,7],[61,6,61,7],[62,6,62,7],[63,6,63,7],[64,6,64,7],[65,6,65,7],[76,6,76,7],[77,6,77,7],[78,6,78,7],[79,6,79,7],[80,6,80,7],[71,6,71,7],[72,6,72,7],[73,6,73,7],[74,6,74,7],[75,6,75,7],[86,6,86,7],[87,6,87,7],[88,6,88,7],[89,6,89,7],[90,6,90,7],[81,6,81,7],[82,6,82,7],[83,6,83,7],[84,6,84,7],[85,6,85,7],[96,6,96,7],[97,6,97,7],[98,6,98,7],[99,6,99,7],[100,6,100,7],[91,6,91,7],[92,6,92,7],[93,6,93,7],[94,6,94,7],[95,6,95,7],[101,6,101,7],[102,6,102,7],[103,6,103,7],[104,6,104,7],[105,6,105,7],[111,6,111,7],[112,6,112,7],[113,6,113,7],[114,6,114,7],[46,8,46,9],[47,8,47,9],[48,8,48,9],[49,8,49,9],[50,8,50,9],[56,8,56,9],[57,8,57,9],[58,8,58,9],[59,8,59,9],[60,8,60,9],[51,8,51,9],[52,8,52,9],[53,8,53,9],[54,8,54,9],[55,8,55,9],[66,8,66,9],[67,8,67,9],[68,8,68,9],[69,8,69,9],[70,8,70,9],[61,8,61,9],[62,8,62,9],[63,8,63,9],[64,8,64,9],[65,8,65,9],[76,8,76,9],[77,8,77,9],[78,8,78,9],[79,8,79,9],[80,8,80,9],[71,8,71,9],[72,8,72,9],[73,8,73,9],[74,8,74,9],[75,8,75,9],[86,8,86,9],[87,8,87,9],[88,8,88,9],[89,8,89,9],[90,8,90,9],[81,8,81,9],[82,8,82,9],[83,8,83,9],[84,8,84,9],[85,8,85,9],[96,8,96,9],[97,8,97,9],[98,8,98,9],[99,8,99,9],[100,8,100,9],[91,8,91,9],[92,8,92,9],[93,8,93,9],[94,8,94,9],[95,8,95,9],[106,8,106,9],[107,8,107,9],[108,8,108,9],[109,8,109,9],[110,8,110,9],[101,8,101,9],[102,8,102,9],[103,8,103,9],[104,8,104,9],[105,8,105,9],[116,8,116,9],[117,8,117,9],[118,8,118,9],[119,8,119,9],[120,8,120,9],[111,8,111,9],[112,8,112,9],[113,8,113,9],[114,8,114,9],[115,8,115,9],[0,10,0,12],[19,0,19,7],[501,7,501,9],[45,8,45,9],[44,8,44,9],[43,8,43,9],[42,8,42,9],[41,8,41,9],[40,8,40,9],[39,8,39,9],[38,8,38,9],[37,8,37,9],[36,8,36,9],[35,8,35,9],[34,8,34,9],[33,8,33,9],[141,8,141,9],[142,8,142,9],[143,0,143,1],[500,10,500,12],[498,0,498,13],[132,8,132,9],[133,8,133,9],[134,8,134,9],[1,10,1,12],[32,4,32,5],[33,4,33,5],[34,4,34,5],[35,4,35,5],[36,4,36,5],[37,4,37,5],[38,4,38,5],[39,4,39,5],[32,8,32,9],[19,8,19,9],[27,1,27,6],[27,7,27,11],[12,1,12,3],[2,6,2,8],[4,1,4,3],[24,7,24,11],[24,1,24,6],[25,7,25,11],[25,1,25,6],[23,1,23,6],[23,7,23,11],[26,1,26,6],[26,7,26,11],[28,1,28,6],[28,7,28,11],[44,4,44,5],[45,4,45,5],[46,4,46,5],[47,4,47,5],[48,4,48,5],[49,4,49,5],[50,4,50,5],[40,4,40,5],[41,4,41,5],[42,4,42,5],[43,4,43,5],[33,1,33,3],[34,1,34,3],[35,1,35,3],[36,1,36,3],[37,1,37,3],[38,1,38,3],[39,1,39,3],[40,1,40,3],[41,1,41,3],[42,1,42,3],[43,1,43,3],[51,4,51,5],[52,4,52,5],[53,4,53,5],[54,4,54,5],[55,4,55,5],[56,4,56,5],[57,4,57,5],[58,4,58,5],[59,4,59,5],[60,4,60,5],[61,4,61,5],[62,4,62,5],[63,4,63,5],[64,4,64,5],[65,4,65,5],[66,4,66,5],[67,4,67,5],[68,4,68,5],[69,4,69,5],[70,4,70,5],[71,4,71,5],[72,4,72,5],[73,4,73,5],[74,4,74,5],[75,4,75,5],[76,4,76,5],[77,4,77,5],[78,4,78,5],[79,4,79,5],[80,4,80,5],[81,4,81,5],[82,4,82,5],[83,4,83,5],[84,4,84,5],[85,4,85,5],[86,4,86,5],[87,4,87,5],[88,4,88,5],[89,4,89,5],[90,4,90,5],[91,4,91,5],[92,4,92,5],[93,4,93,5],[94,4,94,5],[95,4,95,5],[96,4,96,5],[97,4,97,5],[98,4,98,5],[99,4,99,5],[100,4,100,5],[101,4,101,5],[102,4,102,5],[103,4,103,5],[104,4,104,5],[736,0,736,13],[501,10,501,12],[112,4,112,5],[113,4,113,5],[114,4,114,5],[115,4,115,5],[116,4,116,5],[117,4,117,5],[118,4,118,5],[119,4,119,5],[120,4,120,5],[734,0,734,13],[616,0,616,13],[617,0,617,13],[618,0,618,1],[618,2,618,6],[618,7,618,9],[618,10,618,12],[619,0,620,1],[619,2,620,2],[619,3,619,6],[619,7,619,9],[619,10,619,12],[618,13,620,13],[741,6,741,7],[743,8,743,13],[121,4,121,5],[122,4,122,5],[746,0,746,13],[760,0,760,13],[137,4,137,5],[138,4,138,5],[125,4,125,5],[126,4,126,5],[127,4,127,5],[128,4,128,5],[129,4,129,5],[130,4,130,5],[131,4,131,5],[132,4,132,5],[133,4,133,5],[745,0,745,13],[742,8,742,13],[741,8,741,13],[740,8,740,13],[739,8,739,13],[738,8,738,13],[737,8,737,13]]}
[{"$f":"IF(IF(C6=\"\",\"\",H25&\"#\"&ROUND(G742,2)&\"#\"&C6&\"#\")=\"#0#Proszę wybrać nr umowy z listy rozwijanej w pkt 2 cz. A.3#\",\"Wygenerowany kod\",IF(C6=\"\",\"\",H25&\"#\"&ROUND(G742,2)&\"#\"&C6&\"#\"))","v":"Wygenerowany kod"},null,null,null,null,null,null,{"$f":"IF('Załącznik nr 1 do rozliczenia'!F1:H1=\"\",\"\",'Załącznik nr 1 do rozliczenia'!F1:H1)","v":""}]
[null,null,null,null,null,null,null,null,null,null,"          (miejscowość)",null,null,"(data)"]
[]
[]
[null,"A1. ORGANIZATOR PUBLICZNEGO TRANSPORTU ZBIOROWEGO\n(dane wypełnią się automatycznie po wpisaniu poprawnego numeru umowy w części A.3)"]
[null,"Nazwa organizatora publicznego transportu zbiorowego",{"$f":"IFERROR(VLOOKUP($H$25,'Dane JST'!$B$2:$E$156,4,0),\"Proszę wybrać nr umowy z listy rozwijanej w pkt 2 cz. A.3\")","v":"Proszę wybrać nr umowy z listy rozwijanej w pkt 2 cz. A.3"}]
[null,"NIP",{"$f":"IFERROR(VLOOKUP($H$25,'Dane JST'!$B$2:$E$156,2,0),\"Pole wypełni się automatycznie\")","v":"Pole wypełni się automatycznie"}]
[null,"REGON",{"$f":"IFERROR(VLOOKUP($H$25,'Dane JST'!$B$2:$E$156,3,0),\"Pole wypełni się automatycznie\")","v":"Pole wypełni się automatycznie"}]
[null,"Adres",{"$f":"IFERROR(VLOOKUP($H$25,'Dane JST'!B2:F156,5,0),\"Pole wypełni się automatycznie\")","v":"Pole wypełni się automatycznie"}]
[null,"Powiat",{"$f":"IFERROR(VLOOKUP($H$25,'Dane JST'!B2:H156,7,0),\"Pole wypełni się automatycznie\")","v":"Pole wypełni się automatycznie"}]
[null,"Województwo",{"$f":"'Załącznik nr 1 do rozliczenia'!C11","v":"mazowieckie"}]
[null,"Numer dysponenta",{"$f":"IFERROR(VLOOKUP($H$25,'Dane JST'!B2:I156,8,0),\"Pole wypełni się automatycznie\")","v":"Pole wypełni się automatycznie"}]
[null,"A2. Dane osoby do kontaktu w sprawie wniosku"]
[null,"Imię"]
[null,"Nazwisko"]
[null,"Telefon "]
[null,"Adres e-mail"]
[]
[null,null,null,null,null,null,null,null,null,null,"Wojewoda Mazowiecki\nWydział Infrastruktury i Rolnictwa\npl. Bankowy 3/5\n00-950 Warszawa"]
["ROZLICZENIE KOŃCOWE DOPŁAT I ZADAŃ REALIZOWANYCH NA PODSTAWIE UMOWY O DOPŁATĘ NR",null,null,null,null,null,null,null,{"$f":"IF($H$25=\"\",\"\",$H$25)","v":""}]
[]
[]
["A.3  Informacje dotyczące organizatora publicznego transportu zbiorowego"]
["1.","Rodzaj wniosku (w przypadku korekty w polu \"uwagi\" opisać zakres korygowanych wartości)"]
["2.","Numer umowy o dopłatę "]
["3.","Data zawarcia umowy o dopłatę",null,null,null,null,null,{"$f":"IFERROR(VLOOKUP(H25,'Dane JST'!B2:K156,10,0),\"\")","v":""}]
["4.","Liczba linii komunikacyjnych podlegających rozliczeniu"]
["5.","Rodzaj umowy której dotyczy rozliczenie",null,null,null,null,null,{"$f":"IF('Dane zbiorcze'!BJ2=0,\"\",'Dane zbiorcze'!BJ2)","v":""}]
["6.","Rok obowiązywania umowy wieloletniej"]
[]
["A.4   Informacje dotyczące okresu realizacji zadania/zadań oraz o wykorzystaniu środków z Funduszu w ramach przyznanych limitów"]
["Nr zadania","Nazwa linii komunikacyjnej",null,null,"Okres realizacji * ",null,"Kwota przyznanych środków na realizacje zadania w 2025 r. \n(zł)",null,"Kwota wydatkowanych środków na realizację zadania w 2025 r. \n(zł)"]
[null,null,null,null,null,null,null,null,{"$f":"E623","v":""}]
[null,null,null,null,null,null,null,null,{"$f":"E624","v":""}]
[null,null,null,null,null,null,null,null,""]
[null,null,null,null,null,null,null,null,""]
[null,null,null,null,null,null,null,null,""]
[null,null,null,null,null,null,null,null,""]
[null,null,null,null,null,null,null,null,""]
[null,null,null,null,null,null,null,null,""]
[null,null,null,null,null,null,null,null,""]
[null,null,null,null,null,null,null,null,""]
[null,null,null,null,null,null,null,null,""]
[null,null,null,null,null,null,null,null,""]
[null,null,null,null,null,null,null,null,""]
[null,null,null,null,null,null,null,null,""]
[null,null,null,null,null,null,null,null,""]
[null,null,null,null,null,null,null,null,""]
[null,null,null,null,null,null,null,null,""]
[null,null,null,null,null,null,null,null,""]
[null,null,null,null,null,null,null,null,""]
[null,null,null,null,null,null,null,null,""]
[null,null,null,null,null,null,null,null,""]
[null,null,null,null,null,null,null,null,""]
[null,null,null,null,null,null,null,null,""]
[null,null,null,null,null,null,null,null,""]
[null,null,null,null,null,null,null,null,""]
[null,null,null,null,null,null,null,null,""]
[null,null,null,null,null,null,null,null,""]
[null,null,null,null,null,null,null,null,""]
[null,null,null,null,null,null,null,null,""]
[null,null,null,null,null,null,null,null,""]
[null,null,null,null,null,null,null,null,""]
[null,null,null,null,null,null,null,null,""]
[null,null,null,null,null,null,null,null,""]
[null,null,null,null,null,null,null,null,""]
[null,null,null,null,null,null,null,null,""]
[null,null,null,null,null,null,null,null,""]
[null,null,null,null,null,null,null,null,""]
[null,null,null,null,null,null,null,null,""]
[null,null,null,null,null,null,null,null,""]
[null,null,null,null,null,null,null,null,""]
[null,null,null,null,null,null,null,null,""]
[null,null,null,null,null,null,null,null,""]
[null,null,null,null,null,null,null,null,""]
[null,null,null,null,null,null,null,null,""]
[null,null,null,null,null,null,null,null,""]
[null,null,null,null,null,null,null,null,""]
[null,null,null,null,null,null,null,null,""]
[null,null,null,null,null,null,null,null,""]
[null,null,null,null,null,null,null,null,""]
[null,null,null,null,null,null,null,null,""]
[null,null,null,null,null,null,null,null,""]
[null,null,null,null,null,null,null,null,""]
[null,null,null,null,null,null,null,null,""]
[null,null,null,null,null,null,null,null,""]
[null,null,null,null,null,null,null,null,""]
[null,null,null,null,null,null,null,null,""]
[null,null,null,null,null,null,null,null,""]
[null,null,null,null,null,null,null,null,""]
[null,null,null,null,null,null,null,null,""]
[null,null,null,null,null,null,null,null,""]
[null,null,null,null,null,null,null,null,""]
[null,null,null,null,null,null,null,null,""]
[null,null,null,null,null,null,null,null,""]
[null,null,null,null,null,null,null,null,""]
[null,null,null,null,null,null,null,null,""]
[null,null,null,null,null,null,null,null,{"$f":"E688","v":""}]
[null,null,null,null,null,null,null,null,""]
[null,null,null,null,null,null,null,null,""]
[null,null,null,null,null,null,null,null,""]
[null,null,null,null,null,null,null,null,""]
[null,null,null,null,null,null,null,null,""]
[null,null,null,null,null,null,null,null,""]
[null,null,null,null,null,null,null,null,""]
[null,null,null,null,null,null,null,null,""]
[null,null,null,null,null,null,null,null,""]
[null,null,null,null,null,null,null,null,""]
[null,null,null,null,null,null,null,null,""]
[null,null,null,null,null,null,null,null,""]
[null,null,null,null,null,null,null,null,""]
[null,null,null,null,null,null,null,null,""]
[null,null,null,null,null,null,null,null,""]
[null,null,null,null,null,null,null,null,""]
[null,null,null,null,null,null,null,null,""]
[null,null,null,null,null,null,null,null,""]
[null,null,null,null,null,null,null,null,""]
[null,null,null,null,null,null,null,null,""]
[null,null,null,null,null,null,null,null,""]
[null,null,null,null,null,null,null,null,""]
[null,null,null,null,null,null,null,null,""]
[null,null,null,null,null,null,null,null,""]
[null,null,null,null,null,null,null,null,""]
[null,null,null,null,null,null,null,null,""]
[null,null,null,null,null,null,null,null,""]
[null,null,null,null,null,null,null,null,""]
[null,null,null,null,null,null,null,null,""]
[null,null,null,null,null,null,null,null,""]
[null,null,null,null,null,null,null,null,""]
[null,null,null,null,null,null,null,null,""]
[null,null,null,null,null,null,null,null,""]
[null,null,null,null,null,null,null,null,""]
[null,null,null,null,null,null,null,null,""]
[null,null,null,null,null,null,null,null,""]
[null,null,null,null,null,null,null,null,""]
[null,null,null,null,null,null,null,null,""]
[null,null,null,null,null,null,null,null,""]
[null,null,null,null,null,null,null,null,""]
[null,null,null,null,null,null,null,null,""]
[null,null,null,null,null,null,null,null,""]
[null,null,null,null,null,null,null,null,""]
[null,null,null,null,null,null,null,null,""]
["ŁĄCZNIE",null,null,null,null,null,{"$f":"SUM(G33:G142)","v":0},null,{"$f":"SUM(I33:I142)","v":0}]
["* od dd.mm.rrrr do dd.mm.rrrr"]
["B.1 Część szczegółowa "]
[null,null,null,null,null,"I KWARTAŁ 2025 r."]
["Nazwa linii komunikacyjnej",null,"Rozliczenie dopłaty",null,null,null,null,"Rozliczenie pracy eksploatacyjnej",null,null,"Rozliczenie deficytu",null,null,"Ilośc przewiezionych osób"]
[null,null,"Środki własne\n(zł)","Środki z Funduszu\n(zł)",null,null,null,"Wielkość pracy eksploatacyjnej wyrażonej w wozokilometrach",null,null,"Kwota deficytu\n(zł)"]
[null,null,null,"Środki wypłacone przez Wojewodę","Środki należne","Różnica","Data zwrotu na konto MUW","Planowana","Zrealizowana","Różnica","Planowana","Osiągnięta","Różnica"]
["Nr",1,"2","3","4","5","6","7","8","9","10","11","12"]
[{"$f":"A33","v":0},{"$f":"IF(B33=\"\",\"\",B33)","v":""},null,null,null,{"$f":"D151-E151","v":0},null,null,null,{"$f":"H151-I151","v":0},null,null,{"$f":"K151-L151","v":0}]
[{"$f":"A34","v":0},{"$f":"IF(B34=\"\",\"\",B34)","v":""},null,null,null,{"$f":"D152-E152","v":0},null,null,null,{"$f":"H152-I152","v":0},null,null,{"$f":"K152-L152","v":0}]
[0,"",null,null,null,0,null,null,null,0,null,null,0]
[0,"",null,null,null,0,null,null,null,0,null,null,0]
[0,"",null,null,null,0,null,null,null,0,null,null,0]
[0,"",null,null,null,0,null,null,null,0,null,null,0]
[0,"",null,null,null,0,null,null,null,0,null,null,0]
[0,"",null,null,null,0,null,null,null,0,null,null,0]
[0,"",null,null,null,0,null,null,null,0,null,null,0]
[0,"",null,null,null,0,null,null,null,0,null,null,0]
[0,"",null,null,null,0,null,null,null,0,null,null,0]
[0,"",null,null,null,0,null,null,null,0,null,null,0]
[0,"",null,null,null,0,null,null,null,0,null,null,0]
[0,"",null,null,null,0,null,null,null,0,null,null,0]
[0,"",null,null,null,0,null,null,null,0,null,null,0]
[0,"",null,null,null,0,null,null,null,0,null,null,0]
[0,"",null,null,null,0,null,null,null,0,null,null,0]
[0,"",null,null,null,0,null,null,null,0,null,null,0]
[0,"",null,null,null,0,null,null,null,0,null,null,0]
[0,"",null,null,null,0,null,null,null,0,null,null,0]
[0,"",null,null,null,0,null,null,null,0,null,null,0]
[0,"",null,null,null,0,null,null,null,0,null,null,0]
[0,"",null,null,null,0,null,null,null,0,null,null,0]
[0,"",null,null,null,0,null,null,null,0,null,null,0]
[0,"",null,null,null,0,null,null,null,0,null,null,0]
[0,"",null,null,null,0,null,null,null,0,null,null,0]
[0,"",null,null,null,0,null,null,null,0,null,null,0]
[0,"",null,null,null,0,null,null,null,0,null,null,0]
[0,"",null,null,null,0,null,null,null,0,null,null,0]
[0,"",null,null,null,0,null,null,null,0,null,null,0]
[0,"",null,null,null,0,null,null,null,0,null,null,0]
[0,"",null,null,null,0,null,null,null,0,null,null,0]
[0,"",null,null,null,0,null,null,null,0,null,null,0]
[0,"",null,null,null,0,null,null,null,0,null,null,0]
[0,"",null,null,null,0,null,null,null,0,null,null,0]
[0,"",null,null,null,0,null,null,null,0,null,null,0]
[0,"",null,null,null,0,null,null,null,0,null,null,0]
[0,"",null,null,null,0,null,null,null,0,null,null,0]
[0,"",null,null,null,0,null,null,null,0,null,null,0]
[0,"",null,null,null,0,null,null,null,0,null,null,0]
[0,"",null,null,null,0,null,null,null,0,null,null,0]
[0,"",null,null,null,0,null,null,null,0,null,null,0]
[0,"",null,null,null,0,null,null,null,0,null,null,0]
[0,"",null,null,null,0,null,null,null,0,null,null,0]
[0,"",null,null,null,0,null,null,null,0,null,null,0]
[0,"",null,null,null,0,null,null,null,0,null,null,0]
[0,"",null,null,null,0,null,null,null,0,null,null,0]
[0,"",null,null,null,0,null,null,null,0,null,null,0]
[0,"",null,null,null,0,null,null,null,0,null,null,0]
[0,"",null,null,null,0,null,null,null,0,null,null,0]
[0,"",null,null,null,0,null,null,null,0,null,null,0]
[0,"",null,null,null,0,null,null,null,0,null,null,0]
[0,"",null,null,null,0,null,null,null,0,null,null,0]
[0,"",null,null,null,0,null,null,null,0,null,null,0]
[0,"",null,null,null,0,null,null,null,0,null,null,0]
[0,"",null,null,null,0,null,null,null,0,null,null,0]
[0,"",null,null,null,0,null,null,null,0,null,null,0]
[0,"",null,null,null,0,null,null,null,0,null,null,0]
[0,"",null,null,null,0,null,null,null,0,null,null,0]
[0,"",null,null,null,0,null,null,null,0,null,null,0]
[0,"",null,null,null,0,null,null,null,0,null,null,0]
[0,"",null,null,null,0,null,null,null,0,null,null,0]
[0,"",null,null,null,0,null,null,null,0,null,null,0]
[0,"",null,null,null,0,null,null,null,0,null,null,0]
[0,"",null,null,null,0,null,null,null,0,null,null,0]
[{"$f":"A98","v":0},{"$f":"IF(B98=\"\",\"\",B98)","v":""},null,null,null,{"$f":"D216-E216","v":0},null,null,null,{"$f":"H216-I216","v":0},null,null,{"$f":"K216-L216","v":0}]
[0,"",null,null,null,0,null,null,null,0,null,null,0]
[0,"",null,null,null,0,null,null,null,0,null,null,0]
[0,"",null,null,null,0,null,null,null,0,null,null,0]
[0,"",null,null,null,0,null,null,null,0,null,null,0]
[0,"",null,null,null,0,null,null,null,0,null,null,0]
[0,"",null,null,null,0,null,null,null,0,null,null,0]
[0,"",null,null,null,0,null,null,null,0,null,null,0]
[0,"",null,null,null,0,null,null,null,0,null,null,0]
[0,"",null,null,null,0,null,null,null,0,null,null,0]
[0,"",null,null,null,0,null,null,null,0,null,null,0]
[0,"",null,null,null,0,null,null,null,0,null,null,0]
[0,"",null,null,null,0,null,null,null,0,null,null,0]
[0,"",null,null,null,0,null,null,null,0,null,null,0]
[0,"",null,null,null,0,null,null,null,0,null,null,0]
[0,"",null,null,null,0,null,null,null,0,null,null,0]
[0,"",null,null,null,0,null,null,null,0,null,null,0]
[0,"",null,null,null,0,null,null,null,0,null,null,0]
[0,"",null,null,null,0,null,null,null,0,null,null,0]
[0,"",null,null,null,0,null,null,null,0,null,null,0]
[0,"",null,null,null,0,null,null,null,0,null,null,0]
[0,"",null,null,null,0,null,null,null,0,null,null,0]
[0,"",null,null,null,0,null,null,null,0,null,null,0]
[0,"",null,null,null,0,null,null,null,0,null,null,0]
[0,"",null,null,null,0,null,null,null,0,null,null,0]
[0,"",null,null,null,0,null,null,null,0,null,null,0]
[0,"",null,null,null,0,null,null,null,0,null,null,0]
[0,"",null,null,null,0,null,null,null,0,null,null,0]
[0,"",null,null,null,0,null,null,null,0,null,null,0]
[0,"",null,null,null,0,null,null,null,0,null,null,0]
[0,"",null,null,null,0,null,null,null,0,null,null,0]
[0,"",null,null,null,0,null,null,null,0,null,null,0]
[0,"",null,null,null,0,null,null,null,0,null,null,0]
[0,"",null,null,null,0,null,null,null,0,null,null,0]
[0,"",null,null,null,0,null,null,null,0,null,null,0]
[0,"",null,null,null,0,null,null,null,0,null,null,0]
[0,"",null,null,null,0,null,null,null,0,null,null,0]
[0,"",null,null,null,0,null,null,null,0,null,null,0]
[0,"",null,null,null,0,null,null,null,0,null,null,0]
[0,"",null,null,null,0,null,null,null,0,null,null,0]
[0,"",null,null,null,0,null,null,null,0,null,null,0]
[0,"",null,null,null,0,null,null,null,0,null,null,0]
[0,"",null,null,null,0,null,null,null,0,null,null,0]
[0,"",null,null,null,0,null,null,null,0,null,null,0]
[0,"",null,null,null,0,null,null,null,0,null,null,0]
["SUMA:",null,{"$f":"SUM(C151:C260)","v":0},{"$f":"SUM(D151:D260)","v":0},{"$f":"SUM(E151:E260)","v":0},{"$f":"SUMIF(F151:F260,\">0\")","v":0},null,{"$f":"SUM(H151:H260)","v":0},0,0,0,0,0,{"$f":"SUMIF(N151:N260,\">0\")","v":0}]
[]
["B.2 Część szczegółowa"]
[null,null,null,null,null,"II KWARTAŁ 2025 r."]
["Nazwa linii komunikacyjnej",null,"Rozliczenie dopłaty",null,null,null,null,"Rozliczenie pracy eksploatacyjnej",null,null,"Rozliczenie deficytu",null,null,"Ilośc przewiezionych osób"]
[null,null,"Środki własne \n(zł)","Środki z Funduszu\n(zł)",null,null,null,"Wielkość pracy eksploatacyjnej wyrażonej \nw wozokilometrach",null,null,"Kwota deficytu \n(zł)"]
[null,null,null,"Środki wypłacone przez Wojewodę","Środki należne","Różnica","Data zwrotu na konto MUW","Planowana","Zrealizowana","Różnica","Planowana","Osiągnięta","Różnica"]
["Nr","1","2","3","4","5","6","7","8","9","10","11","12"]
[{"$f":"A33","v":0},{"$f":"IF(B33=\"\",\"\",B33)","v":""},null,null,null,{"$f":"D269-E269","v":0},null,null,null,{"$f":"H269-I269","v":0},null,null,{"$f":"K269-L269","v":0}]
[{"$f":"A34","v":0},{"$f":"IF(B34=\"\",\"\",B34)","v":""},null,null,null,0,null,null,null,0,null,null,0]
[0,"",null,null,null,0,null,null,null,0,null,null,0]
[0,"",null,null,null,0,null,null,null,0,null,null,0]
[0,"",null,null,null,0,null,null,null,0,null,null,0]
[0,"",null,null,null,0,null,null,null,0,null,null,0]
[0,"",null,null,null,0,null,null,null,0,null,null,0]
[0,"",null,null,null,0,null,null,null,0,null,null,0]
[0,"",null,null,null,0,null,null,null,0,null,null,0]
[0,"",null,null,null,0,null,null,null,0,null,null,0]
[0,"",null,null,null,0,null,null,null,0,null,null,0]
[0,"",null,null,null,0,null,null,null,0,null,null,0]
[0,"",null,null,null,0,null,null,null,0,null,null,0]
[0,"",null,null,null,0,null,null,null,0,null,null,0]
[0,"",null,null,null,0,null,null,null,0,null,null,0]
[0,"",null,null,null,0,null,null,null,0,null,null,0]
[0,"",null,null,null,0,null,null,null,0,null,null,0]
[0,"",null,null,null,0,null,null,null,0,null,null,0]
[0,"",null,null,null,0,null,null,null,0,null,null,0]
[0,"",null,null,null,0,null,null,null,0,null,null,0]
[0,"",null,null,null,0,null,null,null,0,null,null,0]
[0,"",null,null,null,0,null,null,null,0,null,null,0]
[0,"",null,null,null,0,null,null,null,0,null,null,0]
[0,"",null,null,null,0,null,null,null,0,null,null,0]
[0,"",null,null,null,0,null,null,null,0,null,null,0]
[0,"",null,null,null,0,null,null,null,0,null,null,0]
[0,"",null,null,null,0,null,null,null,0,null,null,0]
[0,"",null,null,null,0,null,null,null,0,null,null,0]
[0,"",null,null,null,0,null,null,null,0,null,null,0]
[0,"",null,null,null,0,null,null,null,0,null,null,0]
[0,"",null,null,null,0,null,null,null,0,null,null,0]
[0,"",null,null,null,0,null,null,null,0,null,null,0]
[0,"",null,null,null,0,null,null,null,0,null,null,0]
[0,"",null,null,null,0,null,null,null,0,null,null,0]
[0,"",null,null,null,0,null,null,null,0,null,null,0]
[0,"",null,null,null,0,null,null,null,0,null,null,0]
[0,"",null,null,null,0,null,null,null,0,null,null,0]
[0,"",null,null,null,0,null,null,null,0,null,null,0]
[0,"",null,null,null,0,null,null,null,0,null,null,0]
[0,"",null,null,null,0,null,null,null,0,null,null,0]
[0,"",null,null,null,0,null,null,null,0,null,null,0]
[0,"",null,null,null,0,null,null,null,0,null,null,0]
[0,"",null,null,null,0,null,null,null,0,null,null,0]
[0,"",null,null,null,0,null,null,null,0,null,null,0]
[0,"",null,null,null,0,null,null,null,0,null,null,0]
[0,"",null,null,null,0,null,null,null,0,null,null,0]
[0,"",null,null,null,0,null,null,null,0,null,null,0]
[0,"",null,null,null,0,null,null,null,0,null,null,0]
[0,"",null,null,null,0,null,null,null,0,null,null,0]
[0,"",null,null,null,0,null,null,null,0,null,null,0]
[0,"",null,null,null,0,null,null,null,0,null,null,0]
[0,"",null,null,null,0,null,null,null,0,null,null,0]
[0,"",null,null,null,0,null,null,null,0,null,null,0]
[0,"",null,null,null,0,null,null,null,0,null,null,0]
[0,"",null,null,null,0,null,null,null,0,null,null,0]
[0,"",null,null,null,0,null,null,null,0,null,null,0]
[0,"",null,null,null,0,null,null,null,0,null,null,0]
[0,"",null,null,null,0,null,null,null,0,null,null,0]
[0,"",null,null,null,0,null,null,null,0,null,null,0]
[0,"",null,null,null,0,null,null,null,0,null,null,0]
[0,"",null,null,null,0,null,null,null,0,null,null,0]
[0,"",null,null,null,0,null,null,null,0,null,null,0]
[0,"",null,null,null,0,null,null,null,0,null,null,0]
[0,"",null,null,null,0,null,null,null,0,null,null,0]
[0,"",null,null,null,{"$f":"D333-E333","v":0},null,null,null,{"$f":"H333-I333","v":0},null,null,{"$f":"K333-L333","v":0}]
[{"$f":"A98","v":0},{"$f":"IF(B98=\"\",\"\",B98)","v":""},null,null,null,0,null,null,null,0,null,null,0]
[0,"",null,null,null,0,null,null,null,0,null,null,0]
[0,"",null,null,null,0,null,null,null,0,null,null,0]
[0,"",null,null,null,0,null,null,null,0,null,null,0]
[0,"",null,null,null,0,null,null,null,0,null,null,0]
[0,"",null,null,null,0,null,null,null,0,null,null,0]
[0,"",null,null,null,0,null,null,null,0,null,null,0]
[0,"",null,null,null,0,null,null,null,0,null,null,0]
[0,"",null,null,null,0,null,null,null,0,null,null,0]
[0,"",null,null,null,0,null,null,null,0,null,null,0]
[0,"",null,null,null,0,null,null,null,0,null,null,0]
[0,"",null,null,null,0,null,null,null,0,null,null,0]
[0,"",null,null,null,0,null,null,null,0,null,null,0]
[0,"",null,null,null,0,null,null,null,0,null,null,0]
[0,"",null,null,null,0,null,null,null,0,null,null,0]
[0,"",null,null,null,0,null,null,null,0,null,null,0]
[0,"",null,null,null,0,null,null,null,0,null,null,0]
[0,"",null,null,null,0,null,null,null,0,null,null,0]
[0,"",null,null,null,0,null,null,null,0,null,null,0]
[0,"",null,null,null,0,null,null,null,0,null,null,0]
[0,"",null,null,null,0,null,null,null,0,null,null,0]
[0,"",null,null,null,0,null,null,null,0,null,null,0]
[0,"",null,null,null,0,null,null,null,0,null,null,0]
[0,"",null,null,null,0,null,null,null,0,null,null,0]
[0,"",null,null,null,0,null,null,null,0,null,null,0]
[0,"",null,null,null,0,null,null,null,0,null,null,0]
[0,"",null,null,null,0,null,null,null,0,null,null,0]
[0,"",null,null,null,0,null,null,null,0,null,null,0]
[0,"",null,null,null,0,null,null,null,0,null,null,0]
[0,"",null,null,null,0,null,null,null,0,null,null,0]
[0,"",null,null,null,0,null,null,null,0,null,null,0]
[0,"",null,null,null,0,null,null,null,0,null,null,0]
[0,"",null,null,null,0,null,null,null,0,null,null,0]
[0,"",null,null,null,0,null,null,null,0,null,null,0]
[0,"",null,null,null,0,null,null,null,0,null,null,0]
[0,"",null,null,null,0,null,null,null,0,null,null,0]
[0,"",null,null,null,0,null,null,null,0,null,null,0]
[0,"",null,null,null,0,null,null,null,0,null,null,0]
[0,"",null,null,null,0,null,null,null,0,null,null,0]
[0,"",null,null,null,0,null,null,null,0,null,null,0]
[0,"",null,null,null,0,null,null,null,0,null,null,0]
[0,"",null,null,null,0,null,null,null,0,null,null,0]
[0,"",null,null,null,0,null,null,null,0,null,null,0]
[0,"",null,null,null,0,null,null,null,0,null,null,0]
[0,"",null,null,null,0,null,null,null,0,null,null,0]
["SUMA:",null,{"$f":"SUM(C269:C378)","v":0},{"$f":"SUM(D269:D378)","v":0},{"$f":"SUM(E269:E378)","v":0},{"$f":"SUMIF(F269:F378,\">0\")","v":0},null,{"$f":"SUM(H269:H378)","v":0},0,0,0,0,0,0]
[]
["B.3 Część szczegółowa"]
[null,null,null,null,null,"III KWARTAŁ 2025 r."]
["Nazwa linii komunikacyjnej",null,"Rozliczenie dopłaty",null,null,null,null,"Rozliczenie pracy eksploatacyjnej",null,null,"Rozliczenie deficytu",null,null,"Ilośc przewiezionych osób"]
[null,null,"Środki własne \n(zł)","Środki z Funduszu \n(zł)",null,null,null,"Wielkość pracy eksploatacyjnej wyrażonej \nw wozokilometrach",null,null,"Kwota deficytu \n(zł)"]
[null,null,null,"Środki wypłacone przez Wojewodę","Środki należne","Różnica","Data zwrotu na konto MUW","Planowana","Zrealizowana","Różnica","Planowana","Osiągnięta","Różnica"]
["Nr",1,"2","3","4","5","6","7","8","9","10","11","12"]
[{"$f":"A33","v":0},{"$f":"IF(B33=\"\",\"\",B33)","v":""},null,null,null,{"$f":"D387-E387","v":0},null,null,null,{"$f":"H387-I387","v":0},null,null,{"$f":"K387-L387","v":0}]
[{"$f":"A34","v":0},{"$f":"IF(B34=\"\",\"\",B34)","v":""},null,null,null,{"$f":"D388-E388","v":0},null,null,null,0,null,null,0]
[0,"",null,null,null,0,null,null,null,0,null,null,0]
[0,"",null,null,null,0,null,null,null,0,null,null,0]
[0,"",null,null,null,0,null,null,null,0,null,null,0]
[0,"",null,null,null,0,null,null,null,0,null,null,0]
[0,"",null,null,null,0,null,null,null,0,null,null,0]
[0,"",null,null,null,0,null,null,null,0,null,null,0]
[0,"",null,null,null,0,null,null,null,0,null,null,0]
[0,"",null,null,null,0,null,null,null,0,null,null,0]
[0,"",null,null,null,0,null,null,null,0,null,null,0]
[0,"",null,null,null,0,null,null,null,0,null,null,0]
[0,"",null,null,null,0,null,null,null,0,null,null,0]
[0,"",null,null,null,0,null,null,null,0,null,null,0]
[0,"",null,null,null,0,null,null,null,0,null,null,0]
[0,"",null,null,null,0,null,null,null,0,null,null,0]
[0,"",null,null,null,0,null,null,null,0,null,null,0]
[0,"",null,null,null,0,null,null,null,0,null,null,0]
[0,"",null,null,null,0,null,null,null,0,null,null,0]
[0,"",null,null,null,0,null,null,null,0,null,null,0]
[0,"",null,null,null,0,null,null,null,0,null,null,0]
[0,"",null,null,null,0,null,null,null,0,null,null,0]
[0,"",null,null,null,0,null,null,null,0,null,null,0]
[0,"",null,null,null,0,null,null,null,0,null,null,0]
[0,"",null,null,null,0,null,null,null,0,null,null,0]
[0,"",null,null,null,0,null,null,null,0,null,null,0]
[0,"",null,null,null,0,null,null,null,0,null,null,0]
[0,"",null,null,null,0,null,null,null,0,null,null,0]
[0,"",null,null,null,0,null,null,null,0,null,null,0]
[0,"",null,null,null,0,null,null,null,0,null,null,0]
[0,"",null,null,null,0,null,null,null,0,null,null,0]
[0,"",null,null,null,0,null,null,null,0,null,null,0]
[0,"",null,null,null,0,null,null,null,0,null,null,0]
[0,"",null,null,null,0,null,null,null,0,null,null,0]
[0,"",null,null,null,0,null,null,null,0,null,null,0]
[0,"",null,null,null,0,null,null,null,0,null,null,0]
[0,"",null,null,null,0,null,null,null,0,null,null,0]
[0,"",null,null,null,0,null,null,null,0,null,null,0]
[0,"",null,null,null,0,null,null,null,0,null,null,0]
[0,"",null,null,null,0,null,null,null,0,null,null,0]
[0,"",null,null,null,0,null,null,null,0,null,null,0]
[0,"",null,null,null,0,null,null,null,0,null,null,0]
[0,"",null,null,null,0,null,null,null,0,null,null,0]
[0,"",null,null,null,0,null,null,null,0,null,null,0]
[0,"",null,null,null,0,null,null,null,0,null,null,0]
[0,"",null,null,null,0,null,null,null,0,null,null,0]
[0,"",null,null,null,0,null,null,null,0,null,null,0]
[0,"",null,null,null,0,null,null,null,0,null,null,0]
[0,"",null,null,null,0,null,null,null,0,null,null,0]
[0,"",null,null,null,0,null,null,null,0,null,null,0]
[0,"",null,null,null,0,null,null,null,0,null,null,0]
[0,"",null,null,null,0,null,null,null,0,null,null,0]
[0,"",null,null,null,0,null,null,null,0,null,null,0]
[0,"",null,null,null,0,null,null,null,0,null,null,0]
[0,"",null,null,null,0,null,null,null,0,null,null,0]
[0,"",null,null,null,0,null,null,null,0,null,null,0]
[0,"",null,null,null,0,null,null,null,0,null,null,0]
[0,"",null,null,null,0,null,null,null,0,null,null,0]
[0,"",null,null,null,0,null,null,null,0,null,null,0]
[0,"",null,null,null,0,null,null,null,0,null,null,0]
[0,"",null,null,null,0,null,null,null,0,null,null,0]
[0,"",null,null,null,0,null,null,null,0,null,null,0]
[0,"",null,null,null,0,null,null,null,0,null,null,0]
[0,"",null,null,null,0,null,null,null,0,null,null,0]
[0,"",null,null,null,0,null,null,null,{"$f":"H451-I451","v":0},null,null,{"$f":"K451-L451","v":0}]
[{"$f":"A98","v":0},{"$f":"IF(B98=\"\",\"\",B98)","v":""},null,null,null,{"$f":"D452-E452","v":0},null,null,null,0,null,null,0]
[0,"",null,null,null,0,null,null,null,0,null,null,0]
[0,"",null,null,null,0,null,null,null,0,null,null,0]
[0,"",null,null,null,0,null,null,null,0,null,null,0]
[0,"",null,null,null,0,null,null,null,0,null,null,0]
[0,"",null,null,null,0,null,null,null,0,null,null,0]
[0,"",null,null,null,0,null,null,null,0,null,null,0]
[0,"",null,null,null,0,null,null,null,0,null,null,0]
[0,"",null,null,null,0,null,null,null,0,null,null,0]
[0,"",null,null,null,0,null,null,null,0,null,null,0]
[0,"",null,null,null,0,null,null,null,0,null,null,0]
[0,"",null,null,null,0,null,null,null,0,null,null,0]
[0,"",null,null,null,0,null,null,null,0,null,null,0]
[0,"",null,null,null,0,null,null,null,0,null,null,0]
[0,"",null,null,null,0,null,null,null,0,null,null,0]
[0,"",null,null,null,0,null,null,null,0,null,null,0]
[0,"",null,null,null,0,null,null,null,0,null,null,0]
[0,"",null,null,null,0,null,null,null,0,null,null,0]
[0,"",null,null,null,0,null,null,null,0,null,null,0]
[0,"",null,null,null,0,null,null,null,0,null,null,0]
[0,"",null,null,null,0,null,null,null,0,null,null,0]
[0,"",null,null,null,0,null,null,null,0,null,null,0]
[0,"",null,null,null,0,null,null,null,0,null,null,0]
[0,"",null,null,null,0,null,null,null,0,null,null,0]
[0,"",null,null,null,0,null,null,null,0,null,null,0]
[0,"",null,null,null,0,null,null,null,0,null,null,0]
[0,"",null,null,null,0,null,null,null,0,null,null,0]
[0,"",null,null,null,0,null,null,null,0,null,null,0]
[0,"",null,null,null,0,null,null,null,0,null,null,0]
[0,"",null,null,null,0,null,null,null,0,null,null,0]
[0,"",null,null,null,0,null,null,null,0,null,null,0]
[0,"",null,null,null,0,null,null,null,0,null,null,0]
[0,"",null,null,null,0,null,null,null,0,null,null,0]
[0,"",null,null,null,0,null,null,null,0,null,null,0]
[0,"",null,null,null,0,null,null,null,0,null,null,0]
[0,"",null,null,null,0,null,null,null,0,null,null,0]
[0,"",null,null,null,0,null,null,null,0,null,null,0]
[0,"",null,null,null,0,null,null,null,0,null,null,0]
[0,"",null,null,null,0,null,null,null,0,null,null,0]
[0,"",null,null,null,0,null,null,null,0,null,null,0]
[0,"",null,null,null,0,null,null,null,0,null,null,0]
[0,"",null,null,null,0,null,null,null,0,null,null,0]
[0,"",null,null,null,0,null,null,null,0,null,null,0]
[0,"",null,null,null,0,null,null,null,0,null,null,0]
[0,"",null,null,null,0,null,null,null,0,null,null,0]
["SUMA:",null,{"$f":"SUM(C387:C496)","v":0},{"$f":"SUM(D387:D496)","v":0},{"$f":"SUM(E387:E496)","v":0},{"$f":"SUMIF(F387:F496,\">0\")","v":0},null,{"$f":"SUM(H387:H496)","v":0},0,0,0,0,0,{"$f":"SUMIF(N387:N496,\">0\")","v":0}]
[]
["B.4 Część szczegółowa"]
[null,null,null,null,null,"IV KWARTAŁ 2025 r."]
["Zadanie",null,"Rozliczenie dopłaty",null,null,null,null,"Rozliczenie pracy eksploatacyjnej",null,null,"Rozliczenie deficytu",null,null,"Ilość przewiezionych osób"]
["Nazwa linii komunikacyjnej",null,"Środki własne (zł)","Środki z Funduszu (zł)",null,null,null,"Wielkość pracy eksploatacyjnej wyrażonej \nw wozokilometrach",null,null,"Kwota deficytu\n(zł)"]
[null,null,null,"Środki wypłacone przez Wojewodę","Środki należne","Różnica","Data zwrotu na konto MUW","Planowana","Zrealizowana","Różnica","Planowana","Osiągnieta","Różnica"]
["Nr",1,2,3,4,5,6,7,8,9,10,11,12]
[{"$f":"A33","v":0},{"$f":"IF(B33=\"\",\"\",B33)","v":""},null,null,null,{"$f":"D505-E505","v":0},null,null,null,{"$f":"H505-I505","v":0},null,null,{"$f":"K505-L505","v":0}]
[{"$f":"A34","v":0},{"$f":"IF(B34=\"\",\"\",B34)","v":""},null,null,null,{"$f":"D506-E506","v":0},null,null,null,0,null,null,{"$f":"K506-L506","v":0}]
[0,"",null,null,null,0,null,null,null,0,null,null,0]
[0,"",null,null,null,0,null,null,null,0,null,null,0]
[0,"",null,null,null,0,null,null,null,0,null,null,0]
[0,"",null,null,null,0,null,null,null,0,null,null,0]
[0,"",null,null,null,0,null,null,null,0,null,null,0]
[0,"",null,null,null,0,null,null,null,0,null,null,0]
[0,"",null,null,null,0,null,null,null,0,null,null,0]
[0,"",null,null,null,0,null,null,null,0,null,null,0]
[0,"",null,null,null,0,null,null,null,0,null,null,0]
[0,"",null,null,null,0,null,null,null,0,null,null,0]
[0,"",null,null,null,0,null,null,null,0,null,null,0]
[0,"",null,null,null,0,null,null,null,0,null,null,0]
[0,"",null,null,null,0,null,null,null,0,null,null,0]
[0,"",null,null,null,0,null,null,null,0,null,null,0]
[0,"",null,null,null,0,null,null,null,0,null,null,0]
[0,"",null,null,null,0,null,null,null,0,null,null,0]
[0,"",null,null,null,0,null,null,null,0,null,null,0]
[0,"",null,null,null,0,null,null,null,0,null,null,0]
[0,"",null,null,null,0,null,null,null,0,null,null,0]
[0,"",null,null,null,0,null,null,null,0,null,null,0]
[0,"",null,null,null,0,null,null,null,0,null,null,0]
[0,"",null,null,null,0,null,null,null,0,null,null,0]
[0,"",null,null,null,0,null,null,null,0,null,null,0]
[0,"",null,null,null,0,null,null,null,0,null,null,0]
[0,"",null,null,null,0,null,null,null,0,null,null,0]
[0,"",null,null,null,0,null,null,null,0,null,null,0]
[0,"",null,null,null,0,null,null,null,0,null,null,0]
[0,"",null,null,null,0,null,null,null,0,null,null,0]
[0,"",null,null,null,0,null,null,null,0,null,null,0]
[0,"",null,null,null,0,null,null,null,0,null,null,0]
[0,"",null,null,null,0,null,null,null,{"$f":"H537-I537","v":0},null,null,0]
[0,"",null,null,null,0,null,null,null,0,null,null,0]
[0,"",null,null,null,0,null,null,null,0,null,null,0]
[0,"",null,null,null,0,null,null,null,0,null,null,0]
[0,"",null,null,null,0,null,null,null,0,null,null,0]
[0,"",null,null,null,0,null,null,null,0,null,null,0]
[0,"",null,null,null,0,null,null,null,0,null,null,0]
[0,"",null,null,null,0,null,null,null,0,null,null,0]
[0,"",null,null,null,0,null,null,null,0,null,null,0]
[0,"",null,null,null,0,null,null,null,0,null,null,0]
[0,"",null,null,null,0,null,null,null,0,null,null,0]
[0,"",null,null,null,0,null,null,null,0,null,null,0]
[0,"",null,null,null,0,null,null,null,0,null,null,0]
[0,"",null,null,null,0,null,null,null,0,null,null,0]
[0,"",null,null,null,0,null,null,null,0,null,null,0]
[0,"",null,null,null,0,null,null,null,0,null,null,0]
[0,"",null,null,null,0,null,null,null,0,null,null,0]
[0,"",null,null,null,0,null,null,null,0,null,null,0]
[0,"",null,null,null,0,null,null,null,0,null,null,0]
[0,"",null,null,null,0,null,null,null,0,null,null,0]
[0,"",null,null,null,0,null,null,null,0,null,null,0]
[0,"",null,null,null,0,null,null,null,0,null,null,0]
[0,"",null,null,null,0,null,null,null,0,null,null,0]
[0,"",null,null,null,0,null,null,null,0,null,null,0]
[0,"",null,null,null,0,null,null,null,0,null,null,0]
[0,"",null,null,null,0,null,null,null,0,null,null,0]
[0,"",null,null,null,0,null,null,null,0,null,null,0]
[0,"",null,null,null,0,null,null,null,0,null,null,0]
[0,"",null,null,null,0,null,null,null,0,null,null,0]
[0,"",null,null,null,0,null,null,null,0,null,null,0]
[0,"",null,null,null,0,null,null,null,0,null,null,0]
[0,"",null,null,null,0,null,null,null,0,null,null,0]
[0,"",null,null,null,0,null,null,null,{"$f":"H569-I569","v":0},null,null,0]
[{"$f":"A98","v":0},{"$f":"IF(B98=\"\",\"\",B98)","v":""},null,null,null,{"$f":"D570-E570","v":0},null,null,null,0,null,null,{"$f":"K570-L570","v":0}]
[0,"",null,null,null,0,null,null,null,0,null,null,0]
[0,"",null,null,null,0,null,null,null,0,null,null,0]
[0,"",null,null,null,0,null,null,null,0,null,null,0]
[0,"",null,null,null,0,null,null,null,0,null,null,0]
[0,"",null,null,null,0,null,null,null,0,null,null,0]
[0,"",null,null,null,0,null,null,null,0,null,null,0]
[0,"",null,null,null,0,null,null,null,0,null,null,0]
[0,"",null,null,null,0,null,null,null,0,null,null,0]
[0,"",null,null,null,0,null,null,null,0,null,null,0]
[0,"",null,null,null,0,null,null,null,0,null,null,0]
[0,"",null,null,null,0,null,null,null,0,null,null,0]
[0,"",null,null,null,0,null,null,null,0,null,null,0]
[0,"",null,null,null,0,null,null,null,0,null,null,0]
[0,"",null,null,null,0,null,null,null,0,null,null,0]
[0,"",null,null,null,0,null,null,null,0,null,null,0]
[0,"",null,null,null,0,null,null,null,0,null,null,0]
[0,"",null,null,null,0,null,null,null,0,null,null,0]
[0,"",null,null,null,0,null,null,null,0,null,null,0]
[0,"",null,null,null,0,null,null,null,0,null,null,0]
[0,"",null,null,null,0,null,null,null,0,null,null,0]
[0,"",null,null,null,0,null,null,null,0,null,null,0]
[0,"",null,null,null,0,null,null,null,0,null,null,0]
[0,"",null,null,null,0,null,null,null,0,null,null,0]
[0,"",null,null,null,0,null,null,null,0,null,null,0]
[0,"",null,null,null,0,null,null,null,0,null,null,0]
[0,"",null,null,null,0,null,null,null,0,null,null,0]
[0,"",null,null,null,0,null,null,null,0,null,null,0]
[0,"",null,null,null,0,null,null,null,0,null,null,0]
[0,"",null,null,null,0,null,null,null,0,null,null,0]
[0,"",null,null,null,0,null,null,null,0,null,null,0]
[0,"",null,null,null,0,null,null,null,{"$f":"H601-I601","v":0},null,null,0]
[0,"",null,null,null,0,null,null,null,0,null,null,0]
[0,"",null,null,null,0,null,null,null,0,null,null,0]
[0,"",null,null,null,0,null,null,null,0,null,null,0]
[0,"",null,null,null,0,null,null,null,0,null,null,0]
[0,"",null,null,null,0,null,null,null,0,null,null,0]
[0,"",null,null,null,0,null,null,null,0,null,null,0]
[0,"",null,null,null,0,null,null,null,0,null,null,0]
[0,"",null,null,null,0,null,null,null,0,null,null,0]
[0,"",null,null,null,0,null,null,null,0,null,null,0]
[0,"",null,null,null,0,null,null,null,0,null,null,0]
[0,"",null,null,null,0,null,null,null,0,null,null,0]
[0,"",null,null,null,0,null,null,null,0,null,null,0]
[0,"",null,null,null,0,null,null,null,0,null,null,0]
["SUMA:",null,{"$f":"SUM(C505:C614)","v":0},{"$f":"SUM(D505:D614)","v":0},{"$f":"SUM(E505:E614)","v":0},{"$f":"SUMIF(F505:F614,\">0\")","v":0},null,{"$f":"SUM(H505:H614)","v":0},0,0,0,0,0,0]
[]
["C.1 PODSUMOWANIE"]
["Rok budżetowy 2025"]
["Zadanie",null,"Rozliczenie dopłaty",null,null,null,null,"Rozliczenie pracy eksploatacyjnej",null,null,"Rozliczenie deficytu",null,null,"Ilość przewiezionych osób"]
["Nazwa linii komunikacyjnej",null,"Środki własne (zł)","Środki z Funduszu (zł)",null,null,null,"Wielkość pracy eksploatacyjnej wyrażonej \nw wozokilometrach",null,null,"Kwota deficytu\n(zł)"]
[null,null,null,"Środki wypłacone przez Wojewodę","Środki należne","Różnica","Uwagi","Planowana","Zrealizowana","Różnica","Planowana","Osiągnieta","Różnica"]
["Nr",1,2,3,4,5,6,7,8,9,10,11,12,13]
[{"$f":"A33","v":0},{"$f":"IF(B33=\"\",\"\",B33)","v":""},{"$f":"IF(B623=\"\",\"\",C151+C269+C387+C505)","v":""},{"$f":"IF(B623=\"\",\"\",D151+D269+D387+D505)","v":""},{"$f":"IF(B623=\"\",\"\",E151+E269+E387+E505)","v":""},{"$f":"IF(B623=\"\",\"\",F151+F269+F387+F505)","v":""},null,{"$f":"IF(B623=\"\",\"\",H151+H269+H387+H505)","v":""},{"$f":"IF(B623=\"\",\"\",I151+I269+I387+I505)","v":""},{"$f":"IF(B623=\"\",\"\",J151+J269+J387+J505)","v":""},{"$f":"IF(B623=\"\",\"\",K151+K269+K387+K505)","v":""},{"$f":"IF(B623=\"\",\"\",L151+L269+L387+L505)","v":""},{"$f":"IF(B623=\"\",\"\",M151+M269+M387+M505)","v":""},{"$f":"IF(B623=\"\",\"\",N151+N269+N387+N505)","v":""}]
[{"$f":"A34","v":0},{"$f":"IF(B34=\"\",\"\",B34)","v":""},{"$f":"IF(B624=\"\",\"\",C152+C270+C388+C506)","v":""},{"$f":"IF(B624=\"\",\"\",D152+D270+D388+D506)","v":""},{"$f":"IF(B624=\"\",\"\",E152+E270+E388+E506)","v":""},{"$f":"IF(B624=\"\",\"\",F152+F270+F388+F506)","v":""},null,{"$f":"IF(B624=\"\",\"\",H152+H270+H388+H506)","v":""},{"$f":"IF(B624=\"\",\"\",I152+I270+I388+I506)","v":""},{"$f":"IF(B624=\"\",\"\",J152+J270+J388+J506)","v":""},{"$f":"IF(B624=\"\",\"\",K152+K270+K388+K506)","v":""},{"$f":"IF(B624=\"\",\"\",L152+L270+L388+L506)","v":""},{"$f":"IF(B624=\"\",\"\",M152+M270+M388+M506)","v":""},{"$f":"IF(B624=\"\",\"\",N152+N270+N388+N506)","v":""}]
[0,"",{"$f":"IF(B625=\"\",\"\",C153+C271+C389+C507)","v":""},"","","",null,"","","","","","",""]
[0,"","","","","",null,"","","","","","",""]
[0,"","","","","",null,"","","","","","",""]
[0,"","","","","",null,"","","","","","",""]
[0,"","","","","",null,"","","","","","",""]
[0,"","","","","",null,"","","","","","",""]
[0,"","","","","",null,"","","","","","",""]
[0,"","","","","",null,"","","","","","",""]
[0,"","","","","",null,"","","","","","",""]
[0,"","","","","",null,"","","","","","",""]
[0,"","","","","",null,"","","","","","",""]
[0,"","","","","",null,"","","","","","",""]
[0,"","","","","",null,"","","","","","",""]
[0,"","","","","",null,"","","","","","",""]
[0,"","","","","",null,"","","","","","",""]
[0,"","","","","",null,"","","","","","",""]
[0,"","","","","",null,"","","","","","",""]
[0,"","","","","",null,"","","","","","",""]
[0,"","","","","",null,"","","","","","",""]
[0,"","","","","",null,"","","","","","",""]
[0,"","","","","",null,"","","","","","",""]
[0,"","","","","",null,"","","","","","",""]
[0,"","","","","",null,"","","","","","",""]
[0,"","","","","",null,"","","","","","",""]
[0,"","","","","",null,"","","","","","",""]
[0,"","","","","",null,"","","","","","",""]
[0,"","","","","",null,"","","","","","",""]
[0,"","","","","",null,"","","","","","",""]
[0,"","","","","",null,"","","","","","",""]
[0,"","","","","",null,"","","","","","",""]
[0,"","","","","",null,"","","","","","",""]
[0,"","","","","",null,"","","","","","",""]
[0,"","","","","",null,"","","","","","",""]
[0,"","","","","",null,"","","","","","",""]
[0,"","","","","",null,"","","","","","",""]
[0,"","","","","",null,"","","","","","",""]
[0,"","","","","",null,"","","","","","",""]
[0,"","","","","",null,"","","","","","",""]
[0,"","","","","",null,"","","","","","",""]
[0,"","","","","",null,"","","","","","",""]
[0,"","","","","",null,"","","","","","",""]
[0,"","","","","",null,"","","","","","",""]
[0,"","","","","",null,"","","","","","",""]
[0,"","","","","",null,"","","","","","",""]
[0,"","","","","",null,"","","","","","",""]
[0,"","","","","",null,"","","","","","",""]
[0,"","","","","",null,"","","","","","",""]
[0,"","","","","",null,"","","","","","",""]
[0,"","","","","",null,"","","","","","",""]
[0,"","","","","",null,"","","","","","",""]
[0,"","","","","",null,"","","","","","",""]
[0,"","","","","",null,"","","","","","",""]
[0,"","","","","",null,"","","","","","",""]
[0,"","","","","",null,"","","","","","",""]
[0,"","","","","",null,"","","","","","",""]
[0,"","","","","",null,"","","","","","",""]
[0,"","","","","",null,"","","","","","",""]
[0,"","","","","",null,"","","","","","",""]
[0,"","","","","",null,"","","","","","",""]
[0,"","","","","",null,"","","","","","",""]
[0,"","","","","",null,"","","","","","",""]
[0,"","","","","",null,"","","","","","",""]
[0,"","","","","",null,"","","","","","",""]
[{"$f":"A98","v":0},{"$f":"IF(B98=\"\",\"\",B98)","v":""},{"$f":"IF(B688=\"\",\"\",C216+C334+C452+C570)","v":""},{"$f":"IF(B688=\"\",\"\",D216+D334+D452+D570)","v":""},{"$f":"IF(B688=\"\",\"\",E216+E334+E452+E570)","v":""},{"$f":"IF(B688=\"\",\"\",F216+F334+F452+F570)","v":""},null,{"$f":"IF(B688=\"\",\"\",H216+H334+H452+H570)","v":""},{"$f":"IF(B688=\"\",\"\",I216+I334+I452+I570)","v":""},{"$f":"IF(B688=\"\",\"\",J216+J334+J452+J570)","v":""},{"$f":"IF(B688=\"\",\"\",K216+K334+K452+K570)","v":""},{"$f":"IF(B688=\"\",\"\",L216+L334+L452+L570)","v":""},{"$f":"IF(B688=\"\",\"\",M216+M334+M452+M570)","v":""},{"$f":"IF(B688=\"\",\"\",N216+N334+N452+N570)","v":""}]
[0,"","","","","",null,"","","","","","",""]
[0,"","","","","",null,"","","","","","",""]
[0,"","","","","",null,"","","","","","",""]
[0,"","","","","",null,"","","","","","",""]
[0,"","","","","",null,"","","","","","",""]
[0,"","","","","",null,"","","","","","",""]
[0,"","","","","",null,"","","","","","",""]
[0,"","","","","",null,"","","","","","",""]
[0,"","","","","",null,"","","","","","",""]
[0,"","","","","",null,"","","","","","",""]
[0,"","","","","",null,"","","","","","",""]
[0,"","","","","",null,"","","","","","",""]
[0,"","","","","",null,"","","","","","",""]
[0,"","","","","",null,"","","","","","",""]
[0,"","","","","",null,"","","","","","",""]
[0,"","","","","",null,"","","","","","",""]
[0,"","","","","",null,"","","","","","",""]
[0,"","","","","",null,"","","","","","",""]
[0,"","","","","",null,"","","","","","",""]
[0,"","","","","",null,"","","","","","",""]
[0,"","","","","",null,"","","","","","",""]
[0,"","","","","",null,"","","","","","",""]
[0,"","","","","",null,"","","","","","",""]
[0,"","","","","",null,"","","","","","",""]
[0,"","","","","",null,"","","","","","",""]
[0,"","","","","",null,"","","","","","",""]
[0,"","","","","",null,"","","","","","",""]
[0,"","","","","",null,"","","","","","",""]
[0,"","","","","",null,"","","","","","",""]
[0,"","","","","",null,"","","","","","",""]
[0,"","","","","",null,"","","","","","",""]
[0,"","","","","",null,"","","","","","",""]
[0,"","","","","",null,"","","","","","",""]
[0,"","","","","",null,"","","","","","",""]
[0,"","","","","",null,"","","","","","",""]
[0,"","","","","",null,"","","","","","",""]
[0,"","","","","",null,"","","","","","",""]
[0,"","","","","",null,"","","","","","",""]
[0,"","","","","",null,"","","","","","",""]
[0,"","","","","",null,"","","","","","",""]
[0,"","","","","",null,"","","","","","",""]
[0,"","","","","",null,"","","","","","",""]
[0,"","","","","",null,"","","","","","",""]
[0,"","","","","",null,"","","","","","",""]
["SUMA:",null,{"$f":"SUM(C623:C732)","v":0},{"$f":"SUM(D623:D732)","v":0},{"$f":"SUM(E623:E732)","v":0},{"$f":"SUMIF(F623:F732,\">0\")","v":0},null,{"$f":"SUM(H623:H732)","v":0},{"$f":"SUM(I623:I732)","v":0},0,0,0,0,0]
[]
["Tabele B.1/B.2/B.3/B.4 proszę wypełnić zgodnie z wytycznymi podanymi poniżej:\nKolumna nr 1\nProszę wskazać nazwę zadania. Uwaga! Należy zachować kolejność i numerację zadań zgodnie z § 2 umowy o dopłatę (tabele wypełnią się automatycznie po wskazaniu danych w części A.4 rozliczenia).\nKolumna nr 2\nProszę wskazać wartość środków własnych organizatora publicznego transportu zbiorowego przekazanych operatorowi publicznego transportu zbiorowego.Komórka podświetli się na żółto jeśli suma śródków własnych i dopłaty będzie różnić się od osiągniętego deficytu oraz na czerwono (czerowne pogrubione cyfry) jeśli środki własne nie zapewniają co najmniej 10 % udziału własnego w osiągniętym deficycie. \nKolumna nr 3\nProszę wskazać wartość zawnioskowanych i wypłaconych przez Wojewodę środków pochodzących z Funduszu rozwoju przewozów autobusowych.\nKolumna nr 4\nProszę wskazać \"środki należne\" jako wartość dopłaty po uwzględnieniu osiągniętej pracy eksploatacyjnej, osiągniętego deficytu oraz wydatkowanych środków własnych. W przypadku wskazania kwoty wyższej niż wynikająca z aktualnie obowiązującej stawki dopłaty lub wyższej niż wynikająca z osiągniętego deficytu i zaangażowanych środków własnych komórka podświetli się na kolor jasny czerwony.\nKolumna nr 5\nProszę wskazać różnicę pomiędzy środkami wypłaconymii (kol.3) i środkami należnymi (kol.4). Kolumna wypełnia się automatycznie po uzupełnieniu pozostałych pól.\nKolumna nr 6\nWypełnić jedynie w przypadku zwrotu części/całości dopłaty na rachunek bankowy MUW.\nKolumna nr 7\nProszę wskazać planowaną wielkość pracy eksploatacyjnej w wozokilometrach (zgodnie z wnioskiem o objęcie dopłatą).\nKolumna nr 8\nProszę wskazać zrealizowaną wielkość pracy eksploatacyjnej w wozokilometrach.\nKolumna nr 9 \nProszę wskazać różnicę pomiędzy ilością planowanych wozokilometrów (kol.7)  a ilośćią zrealizowanych wozokilometrów (kol.8). Kolumna wypełnia się automatycznie po uzupełnieniu pozostałych pól.\nKolumna nr 10\nProszę wskazać planowaną wartość deficytu na linii komunikacyjnej.\nKolumna nr 11\nProszę wskazać osiagniętą wartość deficytu na linii komunikacyjnej.\nKolumna nr 12\nProszę wskazać różnicę pomiędzy wartością planowanego deficytu (kol.10) a wartością osiągniętego deficytu (kol.11). Kolumna wypełnia się automatycznie po uzupełnieniu pozostałych pól.\nKolumna nr 13\nProszę wskazać liczbę przewiezionych osób w danym okresie rozliczeniowym.\n\nTabela C.1 wypełni się automatycznie po wskazaniu danych w tabelach B.1-B.4."]
[]
["C.2 Rozliczenie pobranych dopłat"]
["Łączna kwota pobranych dopłat (zł)",null,null,null,null,null,{"$f":"D733","v":0}]
["Łączna kwota dopłat przekazanych do operatora publicznego transportu zbiorowego (zł)",null,null,null,null,null,{"$f":"'Załącznik nr 1 do rozliczenia'!G231","v":0}]
["Łączna kwota środków własnych przekazanych do operatora publicznego transportu zbiorowego (zł)",null,null,null,null,null,{"$f":"'Załącznik nr 1 do rozliczenia'!H231","v":0}]
["Łączna kwota dopłat zwróconych na rachunek bankowy MUW (zł)"]
["Łączna kwota wykorzystanych dopłat z Funduszu w związku z realizacją zadania/ zadań (z uwzględnieniem zwrotów) (zł)",null,null,null,null,null,{"$f":"G738-G741","v":0}]
["Łączna kwota odsetek o których mowa w art. 17 ust.1 ustawy o Funduszu (zł)"]
["Łączna kwota dopłat pozostała do zwrotu (zł)",null,null,null,null,null,{"$f":"ROUND((G738-G739-G741),2)","v":0}]
[null,null,null,null,null,null,null,null,null,null,{"$f":"A1","v":"Wygenerowany kod"},null,null,"ver.1.1"]
["C.3 Oświadczenia"]
["1. Oświadczam, że dane wskazane w rozliczeniu końcowym zadania/zadań realizowanych z udziałem dofinansowania z Funduszu rozwoju przewozów autobusowych są kompletne i zgodne z prawdą oraz znane mi są zasady dofinansowania ze środków Funduszu określone w ustawie.\n\n2. Oświadczam, że deficyt wskazany w niniejszym rozliczeniu nie uwzględnia kosztów niekwalifikowanych w szczególności:\na) podatku VAT – jeżeli Organizatorowi Publicznego Transportu Zbiorowego przysługuje prawo do odliczenia podatku;\nb) kar i odsetek określonych w umowach z operatorami;\nc) rozsądnego zysku o którym mowa w rozporządzeniu (WE) 1370/2007 Parlamentu Europejskiego i Rady z dnia 23 października 2007 roku dotyczącym usług publicznych\nw zakresie kolejowego i drogowego transportu pasażerskiego oraz uchylającym rozporządzenie Rady (EWG) nr 1191/69 i (EWG) nr 1107/70.\n\n3. Oświadczam, że faktury/rachunki/noty księgowe będące podstawą do rozliczenia dopłat nie były i nie będą przedkładane innym instytucjom celem uzyskania dofinansowania."]
[]
[]
[]
[]
[null,null,null,null,null,null,"dane osób działających w imieniu organizatora publicznego transportu zbiorowego składających kwalifikowany podpis elektroniczny pod rozliczeniem "]
[]
[]
[null,null,null,null,null,null,"kontrasygnata Skarbnika/Głównego księgowego budżetu  - dane osoby składającej kwalifikowany podpis elektroniczny"]
[]
[]
[null,"Termin składania rozliczenia za 2025 r. upływa",null,null,null,"2026-01-21"]
["Uwagi - wypełnić w przypadku korekty rozliczenia:"]
[]
["Załączniki:\n1. wykaz dokumentów będących podstawą do wydatkowania środków dopłaty (arkusz załącznik);\n2. zestawienie protokołów dołączonych do wniosku (arkusz załącznik) ;\n3. protokół/protokoły z wykonanych zadań spisany/ne pomiędzy Organizatorem a Operatorem potwierdzający/e, że operator wykonał zadanie lub zadania zgodnie z umową o świadczenie usług w zakresie publicznego transportu zbiorowego (zgodnie z § 6 ust.3 umowy o dopłatę);\n\nPouczenie:\n1. Dokumenty stanowiące załączniki do rozliczenia, powinny być potwierdzone za zgodność z oryginałem;\n2. Należy wypełnić wszystkie białe pola oraz załączyć wymagane załączniki. Niedozwolona jest samowolna zmiana układu rozliczenia za wyjątkiem dostosowania liczby wierszy do ilości linii komunikacyjnych (część B.1 i C.1). Wypełnianie rozliczenia należy rozpocząć od wskazania w części A.3 numeru umowy o dopłatę, którego rozliczenie dotyczy oraz wprowadzenia liczby linii komunikacyjnych podlegających rozliczeniu.\n3. Sprawozdanie złożone w formie elektronicznej powinno być podpisane elektronicznie przez osoby uprawnione do reprezentowania organizatora publicznego transportu zbiorowego z użyciem kwalifikowanego podpisu elektronicznego;\n4. Każdorazowo (niezależnie od formy złożenia wniosku) należy przekazać wniosek w wersji edytowalnej na adres e-mail: autobusy@mazowieckie.pl          \n5. Plik w wersji edytowalnej należy nazwać nazwą organizatora. \n6. Należy wypełnić wszystkie pola oznaczone kolerem czerwonym, kolor zniknie samoczynnie po wpisaniu danych, niedozwolone jest pozostawienie czerwonych pół rozliczenia."]

{"sheet":"Załącznik nr 1 do rozliczenia","index":1,"n_rows":239,"n_cols":9,"rows_kept":239,"cut":false,"hidden":false,"merged":[[0,6,0,7],[230,0,230,4],[235,3,235,7],[27,0,27,8],[21,0,21,2],[22,0,22,8],[21,6,21,7],[1,6,1,7],[25,0,25,2],[238,3,238,7],[234,0,234,4],[2,5,2,7],[4,1,4,2],[12,1,12,2],[28,0,29,0],[236,3,236,7],[237,3,237,7]]}
[null,null,null,null,null,null,{"$f":"IF('Rozliczenie końcowe'!K1=\"\",\"\",'Rozliczenie końcowe'!K1)","v":""},null,{"$f":"IF('Rozliczenie końcowe'!N1=\"\",\"\",'Rozliczenie końcowe'!N1)","v":""}]
[null,null,null,null,null,null,"          (miejscowość)",null,"(data)"]
[]
[]
[null,"A1. ORGANIZATOR PUBLICZNEGO TRANSPORTU ZBIOROWEGO\n(dane wypełnią się automatycznie po wpisaniu poprawnego numeru umowy w części A.3)"]
[null,"Nazwa organizatora publicznego transportu zbiorowego",{"$f":"'Rozliczenie końcowe'!C6","v":"Proszę wybrać nr umowy z listy rozwijanej w pkt 2 cz. A.3"}]
[null,"NIP",{"$f":"'Rozliczenie końcowe'!C7","v":"Pole wypełni się automatycznie"}]
[null,"REGON",{"$f":"'Rozliczenie końcowe'!C8","v":"Pole wypełni się automatycznie"}]
[null,"Adres",{"$f":"'Rozliczenie końcowe'!C9","v":"Pole wypełni się automatycznie"}]
[null,"Powiat",{"$f":"'Rozliczenie końcowe'!C10","v":"Pole wypełni się automatycznie"}]
[null,"Województwo","mazowieckie"]
[null,"Numer dysponenta",{"$f":"'Rozliczenie końcowe'!C12","v":"Pole wypełni się automatycznie"}]
[null,"A2. Dane osoby do kontaktu w sprawie wniosku"]
[null,"Imię",{"$f":"IF('Rozliczenie końcowe'!C14=\"\",\"\",'Rozliczenie końcowe'!C14)","v":""}]
[null,"Nazwisko",{"$f":"IF('Rozliczenie końcowe'!C15=\"\",\"\",'Rozliczenie końcowe'!C15)","v":""}]
[null,"Telefon ",{"$f":"IF('Rozliczenie końcowe'!C16=\"\",\"\",'Rozliczenie końcowe'!C16)","v":""}]
[null,"Adres e-mail",{"$f":"IF('Rozliczenie końcowe'!C17=\"\",\"\",'Rozliczenie końcowe'!C17)","v":""}]
[]
[null,null,null,null,"Wojewoda Mazowiecki\nWydział Infrastruktury i Rolnictwa\npl. Bankowy 3/5\n00-950 Warszawa"]
[]
[]
["              ZAŁĄCZNIK NUMER 1 DO ROZLICZENIA KOŃCOWEGO UMOWY NR",null,null,{"$f":"IF('Rozliczenie końcowe'!H25=\"\",\"\",'Rozliczenie końcowe'!H25)","v":""},"Z DNIA",{"$f":"IF('Rozliczenie końcowe'!H26=\"\",\"\",'Rozliczenie końcowe'!H26)","v":""}," -   WYKAZ DOKUMENTÓW"]
["BĘDĄCYCH PODSTAWĄ WYDATKOWANIA ŚRODKÓW DOPŁATY"]
[]
[]
["Proszę wskazać liczbę dokumentów finansowych:"]
[]
[]
["Lp.","Wystawca","Nazwa dokumentu (Faktura/Rachunek/Nota obciążeniowa)","Nr dokumentu","Data wystawienia dokumentu","Kwota dokumentu\n(zł)","Kwota dokumentu opłacona ze środków dopłaty\n(zł)","Kwota dokumentu opłacona ze środków własnych (bez rozsądnego zysku)\n(zł)","Kwota rozsądnego zysku\n(zł)"]
[null,"1",2,3,"4",5,6,"7",8]
["1","","",""]
["2","","",""]
["3","","",""]
["4","","",""]
["5","","",""]
["6","","",""]
["7","","",""]
["8","","",""]
["9","","",""]
["10","","",""]
["11","","",""]
["12","","",""]
["13","","",""]
["14","","",""]
["15","","",""]
["16","","",""]
["17","","",""]
["18","","",""]
["19","","",""]
["20","","",""]
["21","","",""]
["22","","",""]
["23","","",""]
["24","","",""]
["25","","",""]
["26","","",""]
["27","","",""]
["28","","",""]
["29","","",""]
["30","","",""]
["31","","",""]
["32","","",""]
["33","","",""]
["34","","",""]
["35","","",""]
["36","","",""]
["37","","",""]
["38","","",""]
["39","","",""]
["40","","",""]
["41","","",""]
["42","","",""]
["43","","",""]
["44","","",""]
["45","","",""]
["46","","",""]
["47","","",""]
["48","","",""]
["49","","",""]
["50","","",""]
["51","","",""]
["52","","",""]
["53","","",""]
["54","","",""]
["55","","",""]
["56","","",""]
["57","","",""]
["58","","",""]
["59","","",""]
["60","","",""]
["61","","",""]
["62","","",""]
["63","","",""]
["64","","",""]
["65","","",""]
["66","","",""]
["67","","",""]
["68","","",""]
["69","","",""]
["70","","",""]
["71","","",""]
["72","","",""]
["73","","",""]
["74","","",""]
["75","","",""]
["76","","",""]
["77","","",""]
["78","","",""]
["79","","",""]
["80","","",""]
["81","","",""]
["82","","",""]
["83","","",""]
["84","","",""]
["85","","",""]
["86","","",""]
["87","","",""]
["88","","",""]
["89","","",""]
["90","","",""]
["91","","",""]
["92","","",""]
["93","","",""]
["94","","",""]
["95","","",""]
["96","","",""]
["97","","",""]
["98","","",""]
["99","","",""]
["100","","",""]
["101","","",""]
["102","","",""]
["103","","",""]
["104","","",""]
["105","","",""]
["106","","",""]
["107","","",""]
["108","","",""]
["109","","",""]
["110","","",""]
["111","","",""]
["112","","",""]
["113","","",""]
["114","","",""]
["115","","",""]
["116","","",""]
["117","","",""]
["118","","",""]
["119","","",""]
["120","","",""]
["121","","",""]
["122","","",""]
["123","","",""]
["124","","",""]
["125","","",""]
["126","","",""]
["127","","",""]
["128","","",""]
["129","","",""]
["130","","",""]
["131","","",""]
["132","","",""]
["133","","",""]
["134","","",""]
["135","","",""]
["136","","",""]
["137","","",""]
["138","","",""]
["139","","",""]
["140","","",""]
["141","","",""]
["142","","",""]
["143","","",""]
["144","","",""]
["145","","",""]
["146","","",""]
["147","","",""]
["148","","",""]
["149","","",""]
["150","","",""]
["151","","",""]
["152","","",""]
["153","","",""]
["154","","",""]
["155","","",""]
["156","","",""]
["157","","",""]
["158","","",""]
["159","","",""]
["160","","",""]
["161","","",""]
["162","","",""]
["163","","",""]
["164","","",""]
["165","","",""]
["166","","",""]
["167","","",""]
["168","","",""]
["169","","",""]
["170","","",""]
["171","","",""]
["172","","",""]
["173","","",""]
["174","","",""]
["175","","",""]
["176","","",""]
["177","","",""]
["178","","",""]
["179","","",""]
["180","","",""]
["181","","",""]
["182","","",""]
["183","","",""]
["184","","",""]
["185","","",""]
["186","","",""]
["187","","",""]
["188","","",""]
["189","","",""]
["190","","",""]
["191","","",""]
["192","","",""]
["193","","",""]
["194","","",""]
["195","","",""]
["196","","",""]
["197","","",""]
["198","","",""]
["199","","",""]
["200","","",""]
["Ogółem:",null,null,null,null,{"$f":"SUM(F31:F230)","v":0},{"$f":"SUM(G31:G230)","v":0},{"$f":"SUM(H31:H230)","v":0},{"$f":"SUM(I31:I230)","v":0}]
[]
[]
[]
[]
[]
[null,null,null,"dane osób działających w imieniu organizatora publicznego transportu zbiorowego składających kwalifikowany podpis elektroniczny pod rozliczeniem "]
[]
[null,null,null,"kontrasygnata Skarbnika/Głównego księgowego budżetu  - dane osoby składającej kwalifikowany podpis elektroniczny"]

{"sheet":"Załącznik nr 2 do rozliczenia","index":2,"n_rows":141,"n_cols":6,"rows_kept":141,"cut":false,"hidden":false,"merged":[[0,3,0,4],[138,2,138,5],[128,0,128,3],[20,0,20,1],[134,0,134,2],[140,2,140,5],[135,0,135,2],[4,1,4,2],[12,1,12,2],[21,0,21,5],[136,0,136,4],[25,0,25,5],[132,0,132,5],[131,0,131,5],[137,2,137,5],[139,2,139,5],[23,0,23,1]]}
[null,null,null,{"$f":"IF('Załącznik nr 1 do rozliczenia'!G1=\"\",\"\",'Załącznik nr 1 do rozliczenia'!G1)","v":""},null,{"$f":"IF('Załącznik nr 1 do rozliczenia'!I1=\"\",\"\",'Załącznik nr 1 do rozliczenia'!I1)","v":""}]
[null,null,null,null,"          (miejscowość)","(data)"]
[]
[]
[null,"A1. ORGANIZATOR PUBLICZNEGO TRANSPORTU ZBIOROWEGO\n(dane wypełnią się automatycznie po wpisaniu poprawnego numeru umowy w części A.3)"]
[null,"Nazwa organizatora publicznego transportu zbiorowego",{"$f":"'Załącznik nr 1 do rozliczenia'!C6","v":"Proszę wybrać nr umowy z listy rozwijanej w pkt 2 cz. A.3"}]
[null,"NIP",{"$f":"'Załącznik nr 1 do rozliczenia'!C7","v":"Pole wypełni się automatycznie"}]
[null,"REGON",{"$f":"'Załącznik nr 1 do rozliczenia'!C8","v":"Pole wypełni się automatycznie"}]
[null,"Adres",{"$f":"'Załącznik nr 1 do rozliczenia'!C9","v":"Pole wypełni się automatycznie"}]
[null,"Powiat",{"$f":"'Załącznik nr 1 do rozliczenia'!C10","v":"Pole wypełni się automatycznie"}]
[null,"Województwo",{"$f":"'Załącznik nr 1 do rozliczenia'!C11","v":"mazowieckie"}]
[null,"Numer dysponenta",{"$f":"'Załącznik nr 1 do rozliczenia'!C12","v":"Pole wypełni się automatycznie"}]
[null,"A2. Dane osoby do kontaktu w sprawie wniosku"]
[null,"Imię",{"$f":"IF(C6=\"\",\"\",'Załącznik nr 1 do rozliczenia'!C14)","v":""}]
[null,"Nazwisko",{"$f":"IF(C7=\"\",\"\",'Załącznik nr 1 do rozliczenia'!C15)","v":""}]
[null,"Telefon ",{"$f":"IF(C8=\"\",\"\",'Załącznik nr 1 do rozliczenia'!C16)","v":""}]
[null,"Adres e-mail",{"$f":"IF(C9=\"\",\"\",'Załącznik nr 1 do rozliczenia'!C17)","v":""}]
[]
[null,null,null,null,"Wojewoda Mazowiecki\nWydział Infrastruktury i Rolnictwa\npl. Bankowy 3/5\n00-950 Warszawa"]
[]
["ZAŁĄCZNIK NUMER 2 DO ROZLICZENIA KOŃCOWEGO UMOWY NR                                                                                                   ",null,{"$f":"IF('Załącznik nr 1 do rozliczenia'!D22=\"\",\"\",'Załącznik nr 1 do rozliczenia'!D22)","v":""},"Z DNIA",{"$f":"'Rozliczenie końcowe'!H26","v":""},"-  ZESTAWIENIE PROTOKOŁÓW, "]
[" O KTÓRYCH MOWA W UMOWIE O DOPŁATĘ "]
[]
["Proszę wskazać liczbę protokołów"]
[]
["B.1  Dane dotyczące protokołów"]
["Lp.","Nazwa operatora publicznego transportu zbiorowego","Numer protokołu","Data podpisania protokołu","Osiągnięty wynik finansowy - deficyt\n(zł)","Zrealizowana praca eksploatacyjna w okresie objętym rozliczeniem \n(wzkm)"]
[1,"2","3","4","5","6"]
[{"$f":"'Załącznik nr 1 do rozliczenia'!A31","v":"1"},null,""]
[{"$f":"'Załącznik nr 1 do rozliczenia'!A32","v":"2"},null,""]
[{"$f":"'Załącznik nr 1 do rozliczenia'!A33","v":"3"},null,""]
[{"$f":"'Załącznik nr 1 do rozliczenia'!A34","v":"4"},null,""]
[{"$f":"'Załącznik nr 1 do rozliczenia'!A35","v":"5"},null,""]
[{"$f":"'Załącznik nr 1 do rozliczenia'!A36","v":"6"},null,""]
[{"$f":"'Załącznik nr 1 do rozliczenia'!A37","v":"7"},null,""]
[{"$f":"'Załącznik nr 1 do rozliczenia'!A38","v":"8"},null,""]
[{"$f":"'Załącznik nr 1 do rozliczenia'!A39","v":"9"},null,""]
[{"$f":"'Załącznik nr 1 do rozliczenia'!A40","v":"10"},null,""]
[{"$f":"'Załącznik nr 1 do rozliczenia'!A41","v":"11"},null,""]
[{"$f":"'Załącznik nr 1 do rozliczenia'!A42","v":"12"},null,""]
[{"$f":"'Załącznik nr 1 do rozliczenia'!A43","v":"13"},null,""]
[{"$f":"'Załącznik nr 1 do rozliczenia'!A44","v":"14"},null,""]
[{"$f":"'Załącznik nr 1 do rozliczenia'!A45","v":"15"},null,""]
[{"$f":"'Załącznik nr 1 do rozliczenia'!A46","v":"16"},null,""]
[{"$f":"'Załącznik nr 1 do rozliczenia'!A47","v":"17"},null,""]
[{"$f":"'Załącznik nr 1 do rozliczenia'!A48","v":"18"},null,""]
[{"$f":"'Załącznik nr 1 do rozliczenia'!A49","v":"19"},null,""]
[{"$f":"'Załącznik nr 1 do rozliczenia'!A50","v":"20"},null,""]
[{"$f":"'Załącznik nr 1 do rozliczenia'!A51","v":"21"},null,""]
[{"$f":"'Załącznik nr 1 do rozliczenia'!A52","v":"22"},null,""]
[{"$f":"'Załącznik nr 1 do rozliczenia'!A53","v":"23"},null,""]
[{"$f":"'Załącznik nr 1 do rozliczenia'!A54","v":"24"},null,""]
[{"$f":"'Załącznik nr 1 do rozliczenia'!A55","v":"25"},null,""]
[{"$f":"'Załącznik nr 1 do rozliczenia'!A56","v":"26"},null,""]
[{"$f":"'Załącznik nr 1 do rozliczenia'!A57","v":"27"},null,""]
[{"$f":"'Załącznik nr 1 do rozliczenia'!A58","v":"28"},null,""]
[{"$f":"'Załącznik nr 1 do rozliczenia'!A59","v":"29"},null,""]
[{"$f":"'Załącznik nr 1 do rozliczenia'!A60","v":"30"},null,""]
[{"$f":"'Załącznik nr 1 do rozliczenia'!A61","v":"31"},null,""]
[{"$f":"'Załącznik nr 1 do rozliczenia'!A62","v":"32"},null,""]
[{"$f":"'Załącznik nr 1 do rozliczenia'!A63","v":"33"},null,""]
[{"$f":"'Załącznik nr 1 do rozliczenia'!A64","v":"34"},null,""]
[{"$f":"'Załącznik nr 1 do rozliczenia'!A65","v":"35"},null,""]
[{"$f":"'Załącznik nr 1 do rozliczenia'!A66","v":"36"},null,""]
[{"$f":"'Załącznik nr 1 do rozliczenia'!A67","v":"37"},null,""]
[{"$f":"'Załącznik nr 1 do rozliczenia'!A68","v":"38"},null,""]
[{"$f":"'Załącznik nr 1 do rozliczenia'!A69","v":"39"},null,""]
[{"$f":"'Załącznik nr 1 do rozliczenia'!A70","v":"40"},null,""]
[{"$f":"'Załącznik nr 1 do rozliczenia'!A71","v":"41"},null,""]
[{"$f":"'Załącznik nr 1 do rozliczenia'!A72","v":"42"},null,""]
[{"$f":"'Załącznik nr 1 do rozliczenia'!A73","v":"43"},null,""]
[{"$f":"'Załącznik nr 1 do rozliczenia'!A74","v":"44"},null,""]
[{"$f":"'Załącznik nr 1 do rozliczenia'!A75","v":"45"},null,""]
[{"$f":"'Załącznik nr 1 do rozliczenia'!A76","v":"46"},null,""]
[{"$f":"'Załącznik nr 1 do rozliczenia'!A77","v":"47"},null,""]
[{"$f":"'Załącznik nr 1 do rozliczenia'!A78","v":"48"},null,""]
[{"$f":"'Załącznik nr 1 do rozliczenia'!A79","v":"49"},null,""]
[{"$f":"'Załącznik nr 1 do rozliczenia'!A80","v":"50"},null,""]
[{"$f":"'Załącznik nr 1 do rozliczenia'!A81","v":"51"},null,""]
[{"$f":"'Załącznik nr 1 do rozliczenia'!A82","v":"52"},null,""]
[{"$f":"'Załącznik nr 1 do rozliczenia'!A83","v":"53"},null,""]
[{"$f":"'Załącznik nr 1 do rozliczenia'!A84","v":"54"},null,""]
[{"$f":"'Załącznik nr 1 do rozliczenia'!A85","v":"55"},null,""]
[{"$f":"'Załącznik nr 1 do rozliczenia'!A86","v":"56"},null,""]
[{"$f":"'Załącznik nr 1 do rozliczenia'!A87","v":"57"},null,""]
[{"$f":"'Załącznik nr 1 do rozliczenia'!A88","v":"58"},null,""]
[{"$f":"'Załącznik nr 1 do rozliczenia'!A89","v":"59"},null,""]
[{"$f":"'Załącznik nr 1 do rozliczenia'!A90","v":"60"},null,""]
[{"$f":"'Załącznik nr 1 do rozliczenia'!A91","v":"61"},null,""]
[{"$f":"'Załącznik nr 1 do rozliczenia'!A92","v":"62"},null,""]
[{"$f":"'Załącznik nr 1 do rozliczenia'!A93","v":"63"},null,""]
[{"$f":"'Załącznik nr 1 do rozliczenia'!A94","v":"64"},null,""]
[{"$f":"'Załącznik nr 1 do rozliczenia'!A95","v":"65"},null,""]
[{"$f":"'Załącznik nr 1 do rozliczenia'!A96","v":"66"},null,""]
[{"$f":"'Załącznik nr 1 do rozliczenia'!A97","v":"67"},null,""]
[{"$f":"'Załącznik nr 1 do rozliczenia'!A98","v":"68"},null,""]
[{"$f":"'Załącznik nr 1 do rozliczenia'!A99","v":"69"},null,""]
[{"$f":"'Załącznik nr 1 do rozliczenia'!A100","v":"70"},null,""]
[{"$f":"'Załącznik nr 1 do rozliczenia'!A101","v":"71"},null,""]
[{"$f":"'Załącznik nr 1 do rozliczenia'!A102","v":"72"},null,""]
[{"$f":"'Załącznik nr 1 do rozliczenia'!A103","v":"73"},null,""]
[{"$f":"'Załącznik nr 1 do rozliczenia'!A104","v":"74"},null,""]
[{"$f":"'Załącznik nr 1 do rozliczenia'!A105","v":"75"},null,""]
[{"$f":"'Załącznik nr 1 do rozliczenia'!A106","v":"76"},null,""]
[{"$f":"'Załącznik nr 1 do rozliczenia'!A107","v":"77"},null,""]
[{"$f":"'Załącznik nr 1 do rozliczenia'!A108","v":"78"},null,""]
[{"$f":"'Załącznik nr 1 do rozliczenia'!A109","v":"79"},null,""]
[{"$f":"'Załącznik nr 1 do rozliczenia'!A110","v":"80"},null,""]
[{"$f":"'Załącznik nr 1 do rozliczenia'!A111","v":"81"},null,""]
[{"$f":"'Załącznik nr 1 do rozliczenia'!A112","v":"82"},null,""]
[{"$f":"'Załącznik nr 1 do rozliczenia'!A113","v":"83"},null,""]
[{"$f":"'Załącznik nr 1 do rozliczenia'!A114","v":"84"},null,""]
[{"$f":"'Załącznik nr 1 do rozliczenia'!A115","v":"85"},null,""]
[{"$f":"'Załącznik nr 1 do rozliczenia'!A116","v":"86"},null,""]
[{"$f":"'Załącznik nr 1 do rozliczenia'!A117","v":"87"},null,""]
[{"$f":"'Załącznik nr 1 do rozliczenia'!A118","v":"88"},null,""]
[{"$f":"'Załącznik nr 1 do rozliczenia'!A119","v":"89"},null,""]
[{"$f":"'Załącznik nr 1 do rozliczenia'!A120","v":"90"},null,""]
[{"$f":"'Załącznik nr 1 do rozliczenia'!A121","v":"91"},null,""]
[{"$f":"'Załącznik nr 1 do rozliczenia'!A122","v":"92"},null,""]
[{"$f":"'Załącznik nr 1 do rozliczenia'!A123","v":"93"},null,""]
[{"$f":"'Załącznik nr 1 do rozliczenia'!A124","v":"94"},null,""]
[{"$f":"'Załącznik nr 1 do rozliczenia'!A125","v":"95"},null,""]
[{"$f":"'Załącznik nr 1 do rozliczenia'!A126","v":"96"},null,""]
[{"$f":"'Załącznik nr 1 do rozliczenia'!A127","v":"97"},null,""]
[{"$f":"'Załącznik nr 1 do rozliczenia'!A128","v":"98"},null,""]
[{"$f":"'Załącznik nr 1 do rozliczenia'!A129","v":"99"},null,""]
[{"$f":"'Załącznik nr 1 do rozliczenia'!A130","v":"100"},null,""]
["Ogółem:",null,null,null,{"$f":"SUM(E29:E128)","v":0},{"$f":"SUM(F29:F128)","v":0}]
[]
[]
["C.1 Oświadczenie"]
["Oświadczam, że dane zawarte w załączniku są kompletne i zgodne ze stanem faktycznym na dzień złożenia rozliczenia. W razie powzięcia informacji od operatora publicznego transportu zbiorowego mających wpływ na dane zawarte w części B.1 zobowiązuję sie do ich skorygowania."]
[]
["Łączna zrealizowana wartość pracy eksploatacyjnej w 2025 roku wynosi:",null,null,null,{"$f":"F129","v":0},"wozokilometrów."]
["Łączny osiągnięty deficyt na liniach komunikacyjnych w 2025 roku wynosi:",null,null,null,{"$f":"E129","v":0},"zł."]
[]
[]
[null,null,"dane osób działających w imieniu organizatora publicznego transportu zbiorowego składających kwalifikowany podpis elektroniczny pod rozliczeniem"]
[]
[null,null,"kontrasygnata Skarbnika/Głównego księgowego budżetu  - dane osoby składającej kwalifikowany podpis elektroniczny"]

{"sheet":"Dane JST","index":3,"n_rows":165,"n_cols":13,"rows_kept":165,"cut":false,"hidden":true,"merged":[]}
["Kod powiatu","Nr umowy","nip","regon","nazwa","Adres","Kod TERYT","Powiat","Dysponent","Kolumna1","data umowy","rodzaj umowy","okres"]
["06","805.3.1.2024",7971904280,"670223669","Gmina Goszczyn","ul. Bądkowska 1B, 05-610 Goszczyn",1406042,"grójecki",244,"2","2025-01-07","umowa roczna","2025"]
["01","805.3.10.2024",7981458304,"670223304","Gmina Białobrzegi","Plac Zygmunta Starego 9, 26-800 Białobrzegi",1401014,"białobrzeski",201,"4","2024-12-31","umowa roczna","2025"]
["06","805.3.11.2024",7971945741,"670223729","Gmina Jasieniec","ul. Warecka 42, 05-604 Jasieniec",1406062,"grójecki",246,"2","2024-12-31","umowa roczna","2025"]
["25","805.3.12.2024",7962867409,"670223385","Gmina Skaryszew","ul. Juliusza Słowackiego 6, 26-640 Skaryszew",1425104,"radomski",417,"4","2024-12-31","umowa roczna","2025"]
["35","805.3.14.2024",7621918666,"550668114","Gmina Długosiodło","ul. Tadeusza Kościuszki 2, 07-210 Długosiodło",1435022,"wyszkowski",494,"2","2024-12-31","umowa roczna","2025"]
["06","805.3.15.2024",7972016015,"670223400","Gmina Warka","pl. Plac Stefana Czarnieckiego 1, 05-660 Warka",1406114,"grójecki",250,null,"2024-12-31","umowa roczna","2025"]
["19","805.3.16.2024",7743188737,"611015678","Gmina Brudzeń Duży","ul. Toruńska 2, 09-414 Brudzeń Duży",1419032,"płocki",354,"2","2024-12-31","umowa roczna","2025"]
["18","805.3.19.2024",1231233414,"015891250","Gmina Tarczyn","ul. Juliana Stępkowskiego 17, 05-555 Tarczyn",1418064,"piaseczyński",350,"4","2024-12-31","umowa roczna","2025"]
["06","805.3.2.2024",7972011265,"670223310","Gmina Grójec","ul. Józefa Piłsudskiego 47, 05-600 Grójec",1406054,"grójecki",245,"4","2024-12-31","umowa roczna","2025"]
["18","805.3.20.2024",1231050091,"013271170","Gmina Prażmów","ul. Piotra Czołchańskiego 1, 05-505 Prażmów",1418052,"piaseczyński",349,"2","2025-01-07","umowa roczna","2025"]
["21","805.3.3.2024",5342488243,"013269232","Gmina Raszyn","ul. Szkolna 2A, 05-090 Raszyn",1421062,"pruszkowski",384,"2","2024-12-31","umowa roczna","2025"]
["16","805.3.30.2024",7591624953,"450670108","Gmina Nur","ul. Drohiczyńska 2, 07-322 Nur",1416062,"ostrowski",331,"2","2025-01-07","umowa roczna","2025"]
["20","805.3.31.2024",5671786697,"130378284","Gmina Nowe Miasto","ul. Apteczna 8, 09-120 Nowe Miasto",1420084,"płoński",374,"4","2024-12-31","umowa roczna","2025"]
["14","805.3.32.2024",5311666399,"013270471","Gmina Leoncin","ul. Partyzantów 3, 05-155 Leoncin",1414032,"nowodworski",310,"2","2024-12-31","umowa roczna","2025"]
["11","805.3.33.2024",7571449122,"130378143","Gmina Karniewo","ul. Pułtuska 3, 06-425 Karniewo",1411032,"makowski",277,"2","2024-12-31","umowa roczna","2025"]
["12","805.3.34.2024",8222147162,"711582782","Gmina Siennica","ul. Mińska 33, 05-332 Siennica",1412132,"miński",296,"2","2024-12-31","umowa roczna","2025"]
["25","805.3.42.2024",7962908568,"670223787","Gmina Jedlnia-Letnisko","ul. Radomska 43, 26-630 Jedlnia-Letnisko",1425064,"radomski",413,"4","2024-12-31","umowa roczna","2025"]
["25","805.3.43.2024",7962942660,"670223758","Gmina Jastrzębia","Jastrzębia 110, 26-631 Jastrzębia",1425042,"radomski",411,"2","2024-12-31","umowa roczna","2025"]
["32","805.3.44.2024",1181766202,"013271269","Gmina Ożarów Mazowiecki","ul. Kolejowa 2, 05-850 Ożarów Mazowiecki",1432064,"warszawski zachodni",470,"4","2024-12-31","umowa roczna","2025"]
["22","805.3.46.2024",7611504561,"550667882","Gmina Chorzele","ul. Stanisława Komosińskiego 1, 06-330 Chorzele",1422024,"przasnyski",386,null,"2024-12-31","umowa roczna","2025"]
["06","805.3.47.2024",7971881633,"670223362","Gmina Nowe Miasto Nad Pilicą","pl. Ojca Honorata Koźmińskiego 1/2, 26-420 Nowe Miasto nad Pilicą",1406084,"grójecki",248,"4","2024-12-31","umowa roczna","2025"]
["38","805.3.49.2024",8361514865,"750148390","Gmina Puszcza Mariańska","ul. Stanisława Papczyńskiego 1, 96-330 Puszcza Mariańska",1438032,"żyrardowski",512,null,"2024-12-31","umowa roczna","2025"]
["09","805.3.5.2024",5090066518,"670223563","Gmina Chotcza","Chotcza-Józefów 60, 27-312 Chotcza-Józefów",1409012,"lipski",263,"2","2024-12-31","umowa roczna","2025"]
["06","805.3.51.2024",7972056581,"670223876","Gmina Pniewy","Pniewy 2, 05-652 Pniewy",1406092,"grójecki",249,"2","2024-12-31","umowa roczna","2025"]
["25","805.3.52.2024",9482380424,"670223936","Gmina Przytyk","ul. Zachęta 57, 26-650 Przytyk",1425092,"radomski",416,"2","2024-12-31","umowa roczna","2025"]
["36","805.3.53.2024",8111714505,"670224031","Gmina Tczów","Tczów 124, 26-706 Tczów",1436042,"zwoleński",502,"2","2025-01-07","umowa roczna","2025"]
["19","805.3.55.2024",7742935675,"611015738","Gmina Łąck","ul. Gostynińska 2, 09-520 Łąck",1419072,"płocki",358,"2","2024-12-31","umowa roczna","2025"]
["09","805.3.56.2024",5090066613,"670224002","Gmina Solec Nad Wisłą","ul. Rynek 1, 27-320 Solec nad Wisłą",1409064,"lipski",268,"4","2024-12-31","umowa roczna","2025"]
["04","805.3.57.2024",9710662755,"611016070","Gmina Szczawin Kościelny","ul. Jana Pawła II 10, 09-550 Szczawin Kościelny",1404052,"gostyniński",234,"2","2024-12-31","umowa roczna","2025"]
["19","805.3.58.2024",7743211258,"611015425","Gmina Gąbin","ul. Stary Rynek 16, 09-530 Gąbin",1419064,"płocki",357,"4","2025-01-07","umowa roczna","2025"]
["24","805.3.59.2024",5681540236,"130377907","Gmina Pułtusk","ul. Rynek 41, 06-100 Pułtusk",1424044,"pułtuski",403,null,"2024-12-31","umowa roczna","2025"]
["25","805.3.6.2024",7962929257,"670223698","Gmina Gózd","ul. Radomska 7, 26-634 Gózd",1425022,"radomski",409,"2","2024-12-31","umowa roczna","2025"]
["15","805.3.60.2024",7582349619,"550668210","Gmina Czerwin","pl. plac Tysiąclecia 1, 07-407 Czerwin",1415032,"ostrołęcki",317,null,"2024-12-31","umowa roczna","2025"]
["19","805.3.61.2024",7743211258,"611015425","Gmina Gąbin","ul. Stary Rynek 16, 09-530 Gąbin",1419064,"płocki",357,"4","2025-01-07","umowa roczna","2025"]
["17","805.3.62.2024",5320000234,"013268994","Gmina Wiązowna","ul. Lubelska 59, 05-462 Wiązowna",1417082,"otwocki",344,"2","2024-12-31","umowa roczna","2025"]
["01","805.3.64.2024",7981457693,"670223422","Gmina Wyśmierzyce","ul. Adama Mickiewicza 75, 26-811 Wyśmierzyce",1401064,"białobrzeski",206,"4","2024-12-31","umowa roczna","2025"]
["12","805.3.65.2024",8222158817,"711582612","Gmina Kałuszyn","ul. Pocztowa 1, 05-310 Kałuszyn",1412094,"miński",292,"4","2024-12-31","umowa roczna","2025"]
["18","805.3.66.2024",1231216723,"013271134","Gmina Góra Kalwaria","ul. 3 Maja 10, 05-530 Góra Kalwaria",1418014,"piaseczyński",345,null,"2024-12-31","umowa roczna","2025"]
["19","805.3.67.2024",7743210626,"611015968","Gmina Słubice","ul. Płocka 32, 09-533 Słubice",1419112,"płocki",362,"2","2024-12-31","umowa roczna","2025"]
["30","805.3.68.2024",7991958971,"670223847","Gmina Mirów","Mirów Stary 27, 26-503 Mirów Stary",1430032,"szydłowiecki",461,"2","2024-12-31","umowa roczna","2025"]
["36","805.3.69.2024",8111757928,"670223920","Gmina Przyłęk","Przyłęk, 26-704 Przyłęk",1436032,"zwoleński",501,null,"2025-01-07","umowa roczna","2025"]
["04","805.3.7.2024",9710659463,"611015916","Gmina Sanniki","ul. Warszawska 169, 09-540 Sanniki",1404044,"gostyniński",233,"4","2024-12-31","umowa roczna","2025"]
["15","805.3.70.2024",7582165888,"550667942","Gmina Troszyn","ul. Juliusza Słowackiego 13, 07-405 Troszyn",1415112,"ostrołęcki",325,"2","2024-12-31","umowa roczna","2025"]
["29","805.3.71.2024",8231597203,"711582842","Gmina Ceranów","Ceranów 140, 08-322 Ceranów",1429032,"sokołowski",452,"2","2025-01-07","umowa roczna","2025"]
["34","805.3.72.2024",1251333745,"013269700","Gmina Radzymin","pl. Tadeusza Kościuszki 2, 05-250 Radzymin",1434094,"wołomiński",489,null,"2024-12-31","umowa roczna","2025"]
["12","805.3.74.2024",8222148747,"711582730","Gmina Latowicz","ul. Rynek 6, 05-334 Latowicz",1412104,"miński",293,"4","2024-12-31","umowa roczna","2025"]
["09","805.3.76.2024",5090066174,"670223340","Gmina Lipsko","ul. 1 Maja 2, 27-300 Lipsko",1409034,"lipski",265,"4","2024-12-31","umowa roczna","2025"]
["17","805.3.79.2024",8221020459,"711582687","Gmina Kołbiel","ul. Szkolna 1, 05-340 Kołbiel",1417052,"otwocki",341,null,"2024-12-31","umowa roczna","2025"]
["21","805.3.8.2024",5342254841,"013269195","Gmina Nadarzyn","ul. Mszczonowska 24, 05-830 Nadarzyn",1421052,"pruszkowski",383,"2","2024-12-31","umowa roczna","2025"]
["14","805.3.80.2024",5311688219,"013270531","Gmina Pomiechówek","ul. Szkolna 1A, 05-180 Pomiechówek",1414052,"nowodworski",312,null,"2024-12-31","umowa roczna","2025"]
["07","805.3.81.2024",8121828216,"670223333","Gmina Kozienice","ul. Parkowa 5, 26-900 Kozienice",1407054,"kozienicki",255,"4","2024-12-31","umowa roczna","2025"]
["12","805.3.82.2024",8222158823,"711582635","Gmina Cegłów","ul. Tadeusza Kościuszki 4, 05-319 Cegłów",1412044,"miński",287,"4","2024-12-31","umowa roczna","2025"]
["14","805.3.83.2024",5311607468,"130377899","Gmina Nasielsk","ul. Elektronowa 3, 05-190 Nasielsk",1414044,"nowodworski",311,"4","2024-12-31","umowa roczna","2025"]
["25","805.3.84.2024",9482391296,"670224060","Gmina Wolanów","ul. Radomska 20, 26-625 Wolanów",1425122,"radomski",419,"2","2024-12-31","umowa roczna","2025"]
["06","805.3.85.2024",7971903240,"670223528","Gmina Błędów","ul. Sadurkowska 13, 05-620 Błędów",1406022,"grójecki",242,"2","2024-12-31","umowa roczna","2025"]
["23","805.3.86.2024",6010085828,"670223379","Gmina Przysucha","pl. Plac Kolberga 11, 26-400 Przysucha",1423064,"przysuski",397,"4","2025-01-07","umowa roczna","2025"]
["19","805.3.88.2024",7742945231,"611016028","Gmina Stara Biała","ul. Jana Kazimierza 1, 09-411 Biała",1419132,"płocki",364,"2","2025-01-07","umowa roczna","2025"]
["27","805.3.89.2024",7761615061,"611015951","Gmina Gozdowo","ul. Krystyna Gozdawy 19, 09-213 Gozdowo",1427022,"sierpecki",436,"2","2024-12-31","umowa roczna","2025"]
["16","805.3.9.2024",7591630959,"550667899","Gmina Wąsewo","ul. Zastawska 13, 07-311 Wąsewo",1416102,"ostrowski",335,"2","2024-12-31","umowa roczna","2025"]
["25","805.3.90.2024",7962963277,"670223327","Gmina Iłża","ul. Rynek 11, 27-100 Iłża",1425034,"radomski",410,"4","2024-12-31","umowa roczna","2025"]
["19","805.3.91.2024",7743128020,"611016057","Gmina Radzanowo","ul. Płocka 32, 09-451 Radzanowo",1419102,"płocki",361,"2","2025-01-07","umowa roczna","2025"]
["14","805.3.92.2024",5311664696,"013270399","Gmina Zakroczym","ul. Warszawska 7, 05-170 Zakroczym",1414064,"nowodworski",313,"4","2024-12-31","umowa roczna","2025"]
["08","805.3.93.2024",5361739574,"015570119","Gmina Serock","ul. Rynek 21, 05-140 Serock",1408044,"legionowski",261,"4","2024-12-31","umowa roczna","2025"]
["14","805.3.95.2024",5311664650,"013270413","Gmina Czosnów","ul. Gminna 6, 05-152 Czosnów",1414022,"nowodworski",309,"2","2024-12-31","umowa roczna","2025"]
["12","805.3.96.2024",8222147156,"711582434","Gmina Stanisławów","ul. Rynek 32, 05-304 Stanisławów",1412142,"miński",297,"2","2024-12-31","umowa roczna","2025"]
["01","805.3.23.2024",7981464078,"670223132","Powiat Białobrzeski","Plac Zygmunta Starego 9, 26-800 Białobrzegi",1401000,"białobrzeski",101,"0","2025-01-28","umowa roczna","2025"]
["01","805.3.24.2024",7981464078,"670223132","Powiat Białobrzeski","Plac Zygmunta Starego 9, 26-800 Białobrzegi",1401000,"białobrzeski",101,"0","2025-01-28","umowa roczna","2025"]
["02","805.3.48.2024",5661889579,"130377706","Powiat Ciechanowski","ul. 17 Stycznia 7, 06-400 Ciechanów",1402000,"ciechanowski",102,"0","2025-01-28","umowa roczna","2025"]
["04","805.3.26.2024",9710658050,"611016100","Powiat Gostyniński","ul. Romana Dmowskiego 13, 09-500 Gostynin",1404000,"gostyniński",104,"0","2025-01-28","umowa roczna","2025"]
["06","805.3.35.2024",7972052212,"670223149","Powiat Grójecki","ul. Józefa Piłsudskiego 59, 05-600 Grójec",1406000,"grójecki",106,"0","2025-01-28","umowa roczna","2025"]
["06","805.3.36.2024",7972052212,"670223149","Powiat Grójecki","ul. Józefa Piłsudskiego 59, 05-600 Grójec",1406000,"grójecki",106,"0","2025-01-28","umowa roczna","2025"]
["06","805.3.37.2024",7972052212,"670223149","Powiat Grójecki","ul. Józefa Piłsudskiego 59, 05-600 Grójec",1406000,"grójecki",106,"0","2025-01-28","umowa roczna","2025"]
["06","805.3.38.2024",7972052212,"670223149","Powiat Grójecki","ul. Józefa Piłsudskiego 59, 05-600 Grójec",1406000,"grójecki",106,"0","2025-01-28","umowa roczna","2025"]
["06","805.3.39.2024",7972052212,"670223149","Powiat Grójecki","ul. Józefa Piłsudskiego 59, 05-600 Grójec",1406000,"grójecki",106,"0","2025-01-28","umowa roczna","2025"]
["08","805.3.40.2024",5361597016,"013269858","Powiat Legionowski","ul. gen. Władysława Sikorskiego 11, 05-119 Legionowo",1408000,"legionowski",108,"0","2025-01-28","umowa roczna","2025"]
["09","805.3.27.2024",5090054952,"670223161","Powiat Lipski","ul. Rynek 1, 27-300 Lipsko",1409000,"lipski",109,"0","2025-01-28","umowa roczna","2025"]
["09","805.3.28.2024",5090054952,"670223161","Powiat Lipski","ul. Rynek 1, 27-300 Lipsko",1409000,"lipski",109,"0","2025-01-28","umowa roczna","2025"]
["61","805.3.25.2024",7582359776,"550668835","Powiat Ostrołęcki","pl. Plac Generała Józefa Bema 5, 07-410 Ostrołęka",1415000,"Ostrołęka",115,null,"2025-01-28","umowa roczna","2025"]
["61","805.3.97.2024",7582359776,"550668835","Powiat Ostrołęcki","pl. Plac Generała Józefa Bema 5, 07-410 Ostrołęka",1415000,"Ostrołęka",115,null,"2025-01-28","umowa roczna","2025"]
["16","805.3.75.2024",7591613174,"550668806","Powiat Ostrowski","ul. 3-go Maja 68, 07-300 Ostrów Mazowiecka",1416000,"ostrowski",117,"0","2025-01-28","umowa roczna","2025"]
["18","805.3.4.2024",1231268996,"013270979","Powiat Piaseczyński","ul. Chyliczkowska 14, 05-500 Piaseczno",1418000,"piaseczyński",119,"0","2025-01-28","umowa roczna","2025"]
["62","805.3.45.2024",7743227414,"611016034","Powiat Płocki","ul. Bielska 59, 09-400 Płock",1419000,"Płock",120,"0","2025-01-28","umowa roczna","2025"]
["22","805.3.13.2024",7611527332,"550668812","Powiat Przasnyski","ul. św. Stanisława Kostki 5, 06-300 Przasnysz",1422000,"przasnyski",124,null,"2025-01-28","umowa roczna","2025"]
["23","805.3.50.2024",6010078283,"670223190","Powiat Przysuski","ul. Aleja Jana Pawła II 10, 26-400 Przysucha",1423000,"przysuski",125,"0","2025-01-28","umowa roczna","2025"]
["27","805.3.87.2024",7761676252,"611016169","Powiat Sierpecki","ul. Świętokrzyska 2A, 09-200 Sierpc",1427000,"sierpecki",131,null,"2025-01-28","umowa roczna","2025"]
["29","805.3.73.2024",8231627536,"711581771","Powiat Sokołowski","ul. Wolności 23, 08-300 Sokołów Podlaski",1429000,"sokołowski",133,null,"2025-01-28","umowa roczna","2025"]
["30","805.3.22.2024",7991963340,"670223215","Powiat Szydłowiecki","pl. Marii Konopnickiej 7, 26-500 Szydłowiec",1430000,"szydłowiecki",134,null,"2025-01-28","umowa roczna","2025"]
["33","805.3.63.2024",8241765263,"711581831","Powiat Węgrowski","ul. Przemysłowa 5, 07-100 Węgrów",1433000,"węgrowski",138,null,"2025-01-28","umowa roczna","2025"]
["34","805.3.18.2024",1250940609,"013269344","Powiat Wołomiński","ul. Prądzyńskiego 3, 05-200 Wołomin",1434000,"wołomiński",138,null,"2025-01-28","umowa roczna","2025"]
["36","805.3.41.2024",8111766100,"670223221","Powiat Zwoleński","ul. Władysława Jagiełły 4, 26-700 Zwoleń",1436000,"zwoleński",140,null,"2025-01-28","umowa roczna","2025"]
["12","805.3.94.2024",8222393748,522184154,"Powiatowo-gminny związek transportu publicznego Powiatu Mińskiego","ul. Budowlana 4; 05-300 Mińsk Mazowiecki",1412,"miński",94476,null,"2025-01-28","umowa roczna","2025"]
["38","805.4.1.2024",8381426466,"750148549","Gmina Wiskitki","ul. Kościuszki 1, 96-315 Wiskitki",1438054,"żyrardowski",514,null,45678,"brak umowy","2025"]
["19","805.4.10.2024",7743138099,"611015709","Gmina Bulkowo","ul. Szkolna 1, 09-454 Bulkowo",1419042,"płocki",355,"2",45678,"umowa wieloletnia","2025 - 2033"]
["27","805.4.11.2024",7761615078,"611015773","Gmina Mochowo","ul. Sierpecka 2, 09-214 Mochowo",1427032,"sierpecki",437,"2",45678,"umowa wieloletnia","2025 - 2033"]
["28","805.4.12.2024",8371692019,"750148354","Gmina Młodzieszyn","ul. Wyszogrodzka 25, 96-512 Młodzieszyn",1428042,"sochaczewski",445,"2",45678,"umowa wieloletnia","2025 - 2033"]
["28","805.4.13.2024",8371692261,"750148466","Gmina Rybno","ul. Długa 20, 96-514 Rybno",1428062,"sochaczewski",447,"2",45678,"umowa wieloletnia","2025 - 2033"]
["16","805.4.14.2024",7591743066,"450670114","Gmina Szulborze Wielkie","ul. Romantyczna 2, 07-324 Szulborze Wielkie",1416092,"ostrowski",334,null,45678,"umowa wieloletnia","2025 - 2027"]
["03","805.4.15.2024",8262037296,"711582322","Gmina Miastków Kościelny","ul. Rynek 6, 08-420 Miastków Kościelny",1403082,"garwoliński",223,"2",45678,"umowa wieloletnia","2025 - 2033"]
["26","805.4.16.2024",8212529494,"711582492","Gmina Mokobody","ul. Plac Chreptowicza 25, 08-124 Mokobody",1426042,"siedlecki",425,"2",45678,"umowa wieloletnia","2025 - 2027"]
["28","805.4.17.2024",8371692427,"611015661","Gmina Iłów","ul. Płocka 2, 96-520 Iłów",1428032,"sochaczewski",444,"2",45678,"umowa wieloletnia","2025 - 2033"]
["19","805.4.18.2024",7743211324,"611015796","Gmina Nowy Duninów","ul. Osiedlowa 1, 09-505 Nowy Duninów",1419092,"płocki",360,"2",45678,"umowa wieloletnia","2025 - 2029"]
["26","805.4.19.2024",8212389633,"711582569","Gmina Przesmyki","ul. 11 Listopada 13, 08-109 Przesmyki",1426072,"siedlecki",428,"2",45678,"umowa wieloletnia","2025 - 2027"]
["10","805.4.2.2024",4960248273,"030237629","Gmina Olszanka","Olszanka 37, 08-207 Olszanka",1410032,"łosicki",271,"2",45678,"umowa wieloletnia","2025 - 2027"]
["19","805.4.20.2024",7743188737,"611015678","Gmina Brudzeń Duży","ul. Toruńska 2, 09-414 Brudzeń Duży",1419032,"płocki",354,"2",45678,"umowa wieloletnia","2025 - 2033"]
["19","805.4.21.2024",7743211407,"611015508","Gmina Wyszogród","ul. Rębowska 37, 09-450 Wyszogród",1419154,"płocki",366,"4",45678,"umowa wieloletnia","2025 - 2033"]
["06","805.4.22.2024",7972052212,"670223149","Powiat Grójecki","ul. Józefa Piłsudskiego 59, 05-600 Grójec",1406000,"grójecki",106,"0",45685,"umowa roczna","2025"]
["10","805.4.23.2024",4960249189,"030237405","Gmina Łosice","ul. Marszałka Józefa Piłsudskiego 6, 08-200 Łosice",1410024,"łosicki",270,"4",45678,"umowa wieloletnia","2025 - 2027"]
["26","805.4.24.2024",8212392351,"711582486","Gmina Korczew","ul. ks. Stanisława Brzóski 20A, 08-108 Korczew",1426022,"siedlecki",423,"2",45678,"umowa wieloletnia","2025 - 2027"]
["10","805.4.25.2024",4960213725,"030237724","Gmina Stara Kornica","Stara Kornica 191, 08-205 Stara Kornica",1410062,"łosicki",274,"2",45678,"umowa wieloletnia","2025 - 2027"]
["29","805.4.26.2024",8231559680,"711582055","Gmina Repki","ul. Parkowa 7, 08-307 Repki",1429062,"sokołowski",455,null,45678,"umowa wieloletnia","2025 - 2027"]
["17","805.4.27.2024",5321057650,"013268965","Gmina Celestynów","ul. Regucka 3, 05-430 Celestynów",1417032,"otwocki",339,"2",45678,"umowa wieloletnia","2025 - 2033"]
["25","805.4.28.2024",7962959318,"670224077","Gmina Zakrzew","Zakrzew 51, 26-652 Zakrzew",1425132,"radomski",420,"2",45678,"umowa wieloletnia","2025 - 2033"]
["17","805.4.29.2024",8261170716,"711582285","Gmina Osieck","ul. Rynek 1, 08-445 Osieck",1417062,"otwocki",342,"2",45678,"umowa wieloletnia","2025 - 2029"]
["34","805.4.3.2024",1251627895,"711582693","Gmina Poświętne","ul. Krótka 1, 05-326 Poświętne",1434082,"wołomiński",488,"2",45678,"umowa wieloletnia","2025 - 2033"]
["28","805.4.30.2024",8371692723,"015891220","Gmina Brochów","Brochów 125, 05-088 Brochów",1428022,"sochaczewski",443,"2",45678,"umowa wieloletnia","2025 - 2033"]
["19","805.4.32.2024",7743211258,"611015425","Gmina Gąbin","ul. Stary Rynek 16, 09-530 Gąbin",1419064,"płocki",357,"4",45678,"umowa wieloletnia","2025 - 2033"]
["25","805.4.33.2024",9482382481,"670224054","Gmina Wierzbica","ul. Kościuszki 73, 26-680 Wierzbica",1425112,"radomski",418,"2",45678,"umowa wieloletnia","2025 - 2029"]
["26","805.4.34.2024",8212392687,"711582670","Gmina Zbuczyn","ul. Jana Pawła II 1, 08-106 Zbuczyn",1426132,"siedlecki",434,"2",45678,"umowa wieloletnia","2025 - 2027"]
["28","805.4.35.2024",8371695437,"750148532","Gmina Teresin","ul. Zielona 20, 96-515 Teresin",1428082,"sochaczewski",449,"2",45678,"umowa wieloletnia","2025 - 2033"]
["04","805.4.36.2024",9710662755,"611016070","Gmina Szczawin Kościelny","ul. Jana Pawła II 10, 09-550 Szczawin Kościelny",1404052,"gostyniński",234,"2",45678,"umowa wieloletnia","2025 - 2033"]
["24","805.4.37.2024",5681618062,"130377729","Powiat Pułtuski","ul. Marii Skłodowskiej-Curie 11, 06-100 Pułtusk",1424000,"pułtuski",126,"0",45685,"umowa roczna","2025"]
["04","805.4.38.2024",9710664197,"611015810","Gmina Pacyna","ul. Wyzwolenia 7, 09-541 Pacyna",1404032,"gostyniński",232,"2",45678,"umowa wieloletnia","2025 - 2033"]
["10","805.4.39.2024",4960249456,"030237351","Powiat Łosicki","ul. Narutowicza 6, 08-200 Łosice",1410000,"łosicki",110,null,45685,"umowa roczna","2025"]
["10","805.4.4.2024",4960206961,"030237687","Gmina Sarnaki","ul. Berka Joselewicza 3, 08-220 Sarnaki",1410052,"łosicki",273,"2",45678,"umowa wieloletnia","2025 - 2027"]
["26","805.4.40.2024",8212394019,"711582463","Gmina Kotuń","ul. Siedlecka 56C, 08-130 Kotuń",1426032,"siedlecki",424,null,45678,"umowa wieloletnia","2025 - 2026"]
["03","805.4.41.2024",8262221226,526980652,"Związek Powiatowo - Gminny  \"Garwolińskie Przewozy Gminno - Powiatowe\"","Ul. Mazowiecka 26, 08-400 Garwolin",1403,"garwoliński",94475,null,45678,"umowa wieloletnia","2025 - 2028"]
["17","805.4.42.2024",8261144044,"711582300","Gmina Sobienie-Jeziory","ul. Garwolińska 16, 08-443 Sobienie-Jeziory",1417072,"otwocki",343,"2",45678,"umowa wieloletnia","2025 - 2033"]
["17","805.4.43.2024",5322102832,"524171813","Związek Powiatowo-Gminny \"Otwockie Przewozy Gminno-Powiatowe\"","ul. Komunardów 10, 05-402 Otwock",1417,"otwocki",93665,null,45685,"umowa roczna","2025"]
[38,"805.4.45.2024",8381888184,540340545,"Związek Powiatowo Gminny \"Żyrardowskie Przewozy Autobusowe\"","ul. Limanowskiego 45, 96-300 Żyrardów",1438,"żyrardowski",95216,null,45685,"umowa roczna","2025"]
["03","805.4.46.2024",8262037244,"711582345","Gmina Pilawa","al. Wyzwolenia 158, 08-440 Pilawa",1403104,"garwoliński",225,"4",45678,"umowa wieloletnia","2025 - 2027"]
["04","805.4.47.2024",9710659440,"611015922","Gmina Gostynin","ul. Rynek 26, 09-500 Gostynin",1404011,"gostyniński",231,"1",45678,"brak umowy","2025"]
["04","805.4.48.2024",9710659440,"611015922","Gmina Gostynin","ul. Rynek 26, 09-500 Gostynin",1404011,"gostyniński",231,"1",45678,"umowa wieloletnia","2025 - 2033"]
["10","805.4.49.2024",4960249522,"030237641","Gmina Platerów","ul. 3 Maja 5, 08-210 Platerów",1410042,"łosicki",272,"2",45678,"umowa wieloletnia","2025 - 2027"]
["11","805.4.50.2024",7571452124,"550668841","Powiat Makowski","ul. Rynek 1, 06-200 Maków Mazowiecki",1411000,"makowski",111,"0",45685,"umowa roczna","2025"]
["11","805.4.51.2024",7571452124,"550668841","Powiat Makowski","ul. Rynek 1, 06-200 Maków Mazowiecki",1411000,"makowski",111,"0",45685,"umowa roczna","2025"]
["17","805.4.52.2024",8221020459,"711582687","Gmina Kołbiel","ul. Szkolna 1, 05-340 Kołbiel",1417052,"otwocki",341,null,45678,"umowa wieloletnia","2025 - 2033"]
["01","805.4.53.2024",7981464078,"670223132","Powiat Białobrzeski","Plac Zygmunta Starego 9, 26-800 Białobrzegi",1401000,"białobrzeski",101,"0",45685,"umowa roczna","2025"]
["19","805.4.54.2024",7743186342,"611016040","Gmina Staroźreby","ul. Płocka 18, 09-440 Staroźreby",1419142,"płocki",365,"2",45678,"umowa wieloletnia","2025 - 2033"]
["38","805.4.55.2024",8381426420,"750148609","Gmina Mszczonów","pl. Józefa Piłsudskiego 1, 96-320 Mszczonów",1438024,"żyrardowski",511,"4",45678,"brak umowy","2025"]
["29","805.4.56.2024",8231561524,"711582820","Gmina Bielany","ul. Słoneczna 2, 08-311 Bielany-Żyłaki",1429022,"sokołowski",451,"2",45678,"umowa wieloletnia","2025 - 2027"]
["38","805.4.57.2024",8381426414,"750148414","Gmina Radziejowice","ul. Kubickiego 10, 96-325 Radziejowice",1438042,"żyrardowski",513,"2",45678,"brak umowy","2025"]
["03","805.4.58.2024",8262037238,"711582204","Gmina Żelechów","ul. Rynek 1, 08-430 Żelechów",1403144,"garwoliński",229,"4",45678,"umowa wieloletnia","2025 - 2033"]
["10","805.4.59.2024",4960241880,"030237523","Gmina Huszlew","Huszlew 77, 08-206 Huszlew",1410012,"łosicki",269,"2",45678,"umowa wieloletnia","2025 - 2027"]
["15","805.4.6.2024",7582157593,"550668226","Gmina Czarnia","Czarnia 41, 07-431 Czarnia",1415022,"ostrołęcki",316,"2",45678,"umowa wieloletnia","2025 - 2026"]
["25","805.4.60.2024",9482371307,"670223818","Gmina Kowala","ul. Marii Walewskiej 7, 26-624 Kowala-Stępocina",1425072,"radomski",414,"2",45678,"umowa wieloletnia","2025 - 2029"]
["35","805.4.61.2024",7621886920,"550668829","Powiat Wyszkowski","al. Aleja Róż 2, 07-200 Wyszków",1435000,"wyszkowski",139,null,45685,"umowa roczna","2025"]
["19","805.4.62.2024",7743211034,"611015626","Gmina Bodzanów","ul. Bankowa 7, 09-470 Bodzanów",1419025,"płocki",353,"5",45678,"umowa wieloletnia","2025 - 2027"]
["05","805.4.63.2024",5291836443,"389450569","Związek Powiatowo-Gminny \"Grodziskie Przewozy Autobusowe\"","ul. Kościuszki 32a, 05-825 Grodzisk Mazowiecki",1405,"grodziski",25938,null,45685,"umowa roczna","2025"]
["05","805.4.64.2024",5291836443,"389450569","Związek Powiatowo-Gminny \"Grodziskie Przewozy Autobusowe\"","ul. Kościuszki 32a, 05-825 Grodzisk Mazowiecki",1405,"grodziski",25938,null,45685,"umowa roczna","2025"]
["05","805.4.65.2024",5291836443,"389450569","Związek Powiatowo-Gminny \"Grodziskie Przewozy Autobusowe\"","ul. Kościuszki 32a, 05-825 Grodzisk Mazowiecki",1405,"grodziski",25938,null,45685,"umowa roczna","2025"]
["26","805.4.66.2024",8212433653,"711582523","Gmina Paprotnia","ul. 3 Maja 2, 08-107 Paprotnia",1426062,"siedlecki",427,"2",45678,"umowa wieloletnia","2025 - 2027"]
["26","805.4.7.2024",8212364231,"711582457","Gmina Mordy","ul. Kilińskiego 9, 08-140 Mordy",1426054,"siedlecki",426,"4",45678,"umowa wieloletnia","2025 - 2027"]
["19","805.4.8.2024",7743213464,"611015997","Gmina Słupno","ul. Miszewska 8A, 09-472 Słupno",1419122,"płocki",363,"2",45678,"umowa wieloletnia","2025 - 2033"]
["26","805.4.9.2024",8212551571,"711582121","Gmina Domanice","Domanice 52, 08-113 Domanice",1426012,"siedlecki",422,"2",45678,"umowa wieloletnia","2025 - 2026"]
["17","805.4.44.2024",5322102832,"524171813","Związek Powiatowo-Gminny \"Otwockie Przewozy Gminno-Powiatowe\"","ul. Komunardów 10, 05-402 Otwock",1417,"otwocki",93665,null,45685,"umowa roczna","2025"]
[]
[]
[]
[]
[]
[]
[]
["TAK"]
["NIE"]

{"sheet":"Dane zbiorcze","index":4,"n_rows":2,"n_cols":64,"rows_kept":2,"cut":false,"hidden":true,"merged":[]}
["Nazwa organizatora publicznego transportu zbiorowego","NIP","REGON","Adres","Powiat","Województwo","Imię","Nazwisko","Telefon ","Adres e-mail","Nr dysponenta",{"$f":"'Rozliczenie końcowe'!B24","v":"Rodzaj wniosku (w przypadku korekty w polu \"uwagi\" opisać zakres korygowanych wartości)"},"Numer umowy o dopłatę ","Data zawarcia umowy","Liczba przewiezionych osób 1 kw.","Wielkość pracy eksploatacyjnej 1 kw.","Deficyt 1 kw.","Kwota śr własnych 1 kw.","Pobrana dopłata 1 kw","Należna kwota dopłaty 1 kw.","Kwota niewykorzystanych środków 1 kw","Liczba przewiezionych osób 2 kw.","Wielkość pracy eksploatacyjnej 2 kw.","Deficyt 2 kw.","Kwota śr własnych 2 kw.","Pobrana dopłata 2 kw","Należna kwota dopłaty 2 kw","Kwota niewykorzystanych środków 2 kw","Liczba przewiezionych osób 3 kw","Wielkość pracy eksploatacyjnej 3 kw.","Deficyt 3 kw","Kwota śr własnych 3 kw","Pobrana dopłata 3 kw","Należna kwota dopłaty 3 kw","Kwota niewykorzystanych środków 3 kw","Liczba przewiezionych osób 4 kw","Wielkość pracy eksploatacyjnej 4 kw.","Deficyt 4 kw.","Kwota śr własnych 4 kw.","Pobrana dopłata 4 kw.","Należna kwota dopłaty 4 kw.","Kwota niewykorzystanych środków 4 kw.","Łączna liczba przewiezionych osób","Łączna wielkość pracy eksploatacyjnej","Łączny osiągnięty deficyt","Łączna kwota śr własnych","Łaczna pobrana dopłata","Łączna należna kwota dopłaty","Łączna kwota niewykorzystanych środków","Łączna kwota dopłat zwróconych na rachunek bankowy MUW","Łączna kwota wykorzystanych dopłat  w związku z realizacją zadania/ zadań ( z uwzględnieniem zwrotów)","Łączna kwota odsetek o których mowa w art. 17 ust.1 ustawy o Funduszu","Łączna kwota dopłat pozostała do zwrotu","Kwota dokumentu","Kwota dokumentu opłacona ze środków dopłaty","Kwota dokumentu opłacona ze środków własnych (bez rozsądnego zysku)","Kwota rozsądnego zysku","Osiągnięty wynik finansowy -deficyt","Zrealizowana praca eksploatacyjna w okresie objętym rozliczeniem [wzkm]","Data","wersja","Rodzaj umowy","Lata obowiązywania umowy","Okres umowy"]
[{"$f":"'Rozliczenie końcowe'!C6","v":"Proszę wybrać nr umowy z listy rozwijanej w pkt 2 cz. A.3"},{"$f":"'Rozliczenie końcowe'!C7","v":"Pole wypełni się automatycznie"},{"$f":"'Rozliczenie końcowe'!C8","v":"Pole wypełni się automatycznie"},{"$f":"'Rozliczenie końcowe'!C9","v":"Pole wypełni się automatycznie"},{"$f":"'Rozliczenie końcowe'!C10","v":"Pole wypełni się automatycznie"},{"$f":"'Rozliczenie końcowe'!C11","v":"mazowieckie"},{"$f":"'Rozliczenie końcowe'!C14","v":0},{"$f":"'Rozliczenie końcowe'!C15","v":0},{"$f":"'Rozliczenie końcowe'!C16","v":0},{"$f":"'Rozliczenie końcowe'!C17","v":0},{"$f":"'Rozliczenie końcowe'!C12","v":"Pole wypełni się automatycznie"},{"$f":"'Rozliczenie końcowe'!H24","v":0},{"$f":"'Rozliczenie końcowe'!H25","v":0},{"$f":"'Rozliczenie końcowe'!H26","v":""},{"$f":"'Rozliczenie końcowe'!N261","v":0},{"$f":"'Rozliczenie końcowe'!I261","v":0},{"$f":"'Rozliczenie końcowe'!L261","v":0},{"$f":"'Rozliczenie końcowe'!C261","v":0},{"$f":"'Rozliczenie końcowe'!D261","v":0},{"$f":"'Rozliczenie końcowe'!E261","v":0},{"$f":"'Rozliczenie końcowe'!F261","v":0},{"$f":"'Rozliczenie końcowe'!N379","v":0},{"$f":"'Rozliczenie końcowe'!I379","v":0},{"$f":"'Rozliczenie końcowe'!L379","v":0},{"$f":"'Rozliczenie końcowe'!C379","v":0},{"$f":"'Rozliczenie końcowe'!D379","v":0},{"$f":"'Rozliczenie końcowe'!E379","v":0},{"$f":"'Rozliczenie końcowe'!F379","v":0},{"$f":"'Rozliczenie końcowe'!N497","v":0},{"$f":"'Rozliczenie końcowe'!I497","v":0},{"$f":"'Rozliczenie końcowe'!L497","v":0},{"$f":"'Rozliczenie końcowe'!C497","v":0},{"$f":"'Rozliczenie końcowe'!D497","v":0},{"$f":"'Rozliczenie końcowe'!E497","v":0},{"$f":"'Rozliczenie końcowe'!F497","v":0},{"$f":"'Rozliczenie końcowe'!N615","v":0},{"$f":"'Rozliczenie końcowe'!I615","v":0},{"$f":"'Rozliczenie końcowe'!L615","v":0},{"$f":"'Rozliczenie końcowe'!C615","v":0},{"$f":"'Rozliczenie końcowe'!D615","v":0},{"$f":"'Rozliczenie końcowe'!E615","v":0},{"$f":"'Rozliczenie końcowe'!F615","v":0},{"$f":"'Rozliczenie końcowe'!N733","v":0},{"$f":"'Rozliczenie końcowe'!I733","v":0},{"$f":"'Rozliczenie końcowe'!L733","v":0},{"$f":"'Rozliczenie końcowe'!C733","v":0},{"$f":"'Rozliczenie końcowe'!D733","v":0},{"$f":"'Rozliczenie końcowe'!E733","v":0},{"$f":"'Rozliczenie końcowe'!F733","v":0},{"$f":"'Rozliczenie końcowe'!G741","v":0},{"$f":"'Rozliczenie końcowe'!G742","v":0},{"$f":"'Rozliczenie końcowe'!G743","v":0},{"$f":"'Rozliczenie końcowe'!G744","v":0},{"$f":"'Załącznik nr 1 do rozliczenia'!F231","v":0},{"$f":"'Załącznik nr 1 do rozliczenia'!G231","v":0},{"$f":"'Załącznik nr 1 do rozliczenia'!H231","v":0},{"$f":"'Załącznik nr 1 do rozliczenia'!I231","v":0},{"$f":"'Załącznik nr 2 do rozliczenia'!E129","v":0},{"$f":"'Załącznik nr 2 do rozliczenia'!F129","v":0},{"$f":"'Rozliczenie końcowe'!N1","v":"00:00:00"},{"$f":"'Rozliczenie końcowe'!N745","v":"ver.1.1"},{"$f":"IFERROR(VLOOKUP(M2,Tabela1[[Nr umowy]:[rodzaj umowy]],11,0),0)","v":0},{"$f":"IFERROR(VLOOKUP(M2,Tabela1[[Nr umowy]:[okres]],12,0),0)","v":0},{"$f":"'Rozliczenie końcowe'!H29","v":0}]

{"sheet":"Dane szczegółowe","index":5,"n_rows":111,"n_cols":17,"rows_kept":111,"cut":false,"hidden":true,"merged":[]}
["Nazwa organizatora publicznego transportu zbiorowego","Numer umowy o dopłatę ","Nr zadania","Nazwa linii komunikacyjnej","Okres realizacji","Kwota przyznanych środków na realizacje zadania w 2025 r. \n(zł)","Kwota wydatkowanych środków na realizację zadania w 2025 r. \n(zł)","Środki własne (zł)","Środki wypłacone","Środki należne","Różnica  - środki z FRPA","Planowane WZKM","Zrealizowane WZKM","Różnica WZKM","Planowany deficyt","Osiągniety deficyt","Różnica - deficyt"]
[{"$f":"'Rozliczenie końcowe'!C6","v":"Proszę wybrać nr umowy z listy rozwijanej w pkt 2 cz. A.3"},{"$f":"'Rozliczenie końcowe'!H25","v":0},{"$f":"'Rozliczenie końcowe'!A33","v":0},{"$f":"'Rozliczenie końcowe'!B33","v":0},{"$f":"'Rozliczenie końcowe'!E33","v":"00:00:00"},{"$f":"'Rozliczenie końcowe'!G33","v":0},{"$f":"'Rozliczenie końcowe'!I33","v":""},{"$f":"'Rozliczenie końcowe'!C623","v":""},{"$f":"'Rozliczenie końcowe'!D623","v":""},{"$f":"'Rozliczenie końcowe'!E623","v":""},{"$f":"'Rozliczenie końcowe'!F623","v":""},{"$f":"'Rozliczenie końcowe'!H623","v":""},{"$f":"'Rozliczenie końcowe'!I623","v":""},{"$f":"'Rozliczenie końcowe'!J623","v":""},{"$f":"'Rozliczenie końcowe'!K623","v":""},{"$f":"'Rozliczenie końcowe'!L623","v":""},{"$f":"'Rozliczenie końcowe'!M623","v":""}]
[null,null,{"$f":"'Rozliczenie końcowe'!A34","v":0},{"$f":"'Rozliczenie końcowe'!B34","v":0},{"$f":"'Rozliczenie końcowe'!E34","v":"00:00:00"},{"$f":"'Rozliczenie końcowe'!G34","v":0},{"$f":"'Rozliczenie końcowe'!I34","v":""},{"$f":"'Rozliczenie końcowe'!C624","v":""},{"$f":"'Rozliczenie końcowe'!D624","v":""},{"$f":"'Rozliczenie końcowe'!E624","v":""},{"$f":"'Rozliczenie końcowe'!F624","v":""},{"$f":"'Rozliczenie końcowe'!H624","v":""},{"$f":"'Rozliczenie końcowe'!I624","v":""},{"$f":"'Rozliczenie końcowe'!J624","v":""},{"$f":"'Rozliczenie końcowe'!K624","v":""},{"$f":"'Rozliczenie końcowe'!L624","v":""},{"$f":"'Rozliczenie końcowe'!M624","v":""}]
[null,null,{"$f":"'Rozliczenie końcowe'!A35","v":0},{"$f":"'Rozliczenie końcowe'!B35","v":0},{"$f":"'Rozliczenie końcowe'!E35","v":"00:00:00"},{"$f":"'Rozliczenie końcowe'!G35","v":0},{"$f":"'Rozliczenie końcowe'!I35","v":""},{"$f":"'Rozliczenie końcowe'!C625","v":""},{"$f":"'Rozliczenie końcowe'!D625","v":""},{"$f":"'Rozliczenie końcowe'!E625","v":""},{"$f":"'Rozliczenie końcowe'!F625","v":""},{"$f":"'Rozliczenie końcowe'!H625","v":""},{"$f":"'Rozliczenie końcowe'!I625","v":""},{"$f":"'Rozliczenie końcowe'!J625","v":""},{"$f":"'Rozliczenie końcowe'!K625","v":""},{"$f":"'Rozliczenie końcowe'!L625","v":""},{"$f":"'Rozliczenie końcowe'!M625","v":""}]
[null,null,{"$f":"'Rozliczenie końcowe'!A36","v":0},{"$f":"'Rozliczenie końcowe'!B36","v":0},{"$f":"'Rozliczenie końcowe'!E36","v":"00:00:00"},{"$f":"'Rozliczenie końcowe'!G36","v":0},{"$f":"'Rozliczenie końcowe'!I36","v":""},{"$f":"'Rozliczenie końcowe'!C626","v":""},{"$f":"'Rozliczenie końcowe'!D626","v":""},{"$f":"'Rozliczenie końcowe'!E626","v":""},{"$f":"'Rozliczenie końcowe'!F626","v":""},{"$f":"'Rozliczenie końcowe'!H626","v":""},{"$f":"'Rozliczenie końcowe'!I626","v":""},{"$f":"'Rozliczenie końcowe'!J626","v":""},{"$f":"'Rozliczenie końcowe'!K626","v":""},{"$f":"'Rozliczenie końcowe'!L626","v":""},{"$f":"'Rozliczenie końcowe'!M626","v":""}]
[null,null,{"$f":"'Rozliczenie końcowe'!A37","v":0},{"$f":"'Rozliczenie końcowe'!B37","v":0},{"$f":"'Rozliczenie końcowe'!E37","v":"00:00:00"},{"$f":"'Rozliczenie końcowe'!G37","v":0},{"$f":"'Rozliczenie końcowe'!I37","v":""},{"$f":"'Rozliczenie końcowe'!C627","v":""},{"$f":"'Rozliczenie końcowe'!D627","v":""},{"$f":"'Rozliczenie końcowe'!E627","v":""},{"$f":"'Rozliczenie końcowe'!F627","v":""},{"$f":"'Rozliczenie końcowe'!H627","v":""},{"$f":"'Rozliczenie końcowe'!I627","v":""},{"$f":"'Rozliczenie końcowe'!J627","v":""},{"$f":"'Rozliczenie końcowe'!K627","v":""},{"$f":"'Rozliczenie końcowe'!L627","v":""},{"$f":"'Rozliczenie końcowe'!M627","v":""}]
[null,null,{"$f":"'Rozliczenie końcowe'!A38","v":0},{"$f":"'Rozliczenie końcowe'!B38","v":0},{"$f":"'Rozliczenie końcowe'!E38","v":"00:00:00"},{"$f":"'Rozliczenie końcowe'!G38","v":0},{"$f":"'Rozliczenie końcowe'!I38","v":""},{"$f":"'Rozliczenie końcowe'!C628","v":""},{"$f":"'Rozliczenie końcowe'!D628","v":""},{"$f":"'Rozliczenie końcowe'!E628","v":""},{"$f":"'Rozliczenie końcowe'!F628","v":""},{"$f":"'Rozliczenie końcowe'!H628","v":""},{"$f":"'Rozliczenie końcowe'!I628","v":""},{"$f":"'Rozliczenie końcowe'!J628","v":""},{"$f":"'Rozliczenie końcowe'!K628","v":""},{"$f":"'Rozliczenie końcowe'!L628","v":""},{"$f":"'Rozliczenie końcowe'!M628","v":""}]
[null,null,{"$f":"'Rozliczenie końcowe'!A39","v":0},{"$f":"'Rozliczenie końcowe'!B39","v":0},{"$f":"'Rozliczenie końcowe'!E39","v":"00:00:00"},{"$f":"'Rozliczenie końcowe'!G39","v":0},{"$f":"'Rozliczenie końcowe'!I39","v":""},{"$f":"'Rozliczenie końcowe'!C629","v":""},{"$f":"'Rozliczenie końcowe'!D629","v":""},{"$f":"'Rozliczenie końcowe'!E629","v":""},{"$f":"'Rozliczenie końcowe'!F629","v":""},{"$f":"'Rozliczenie końcowe'!H629","v":""},{"$f":"'Rozliczenie końcowe'!I629","v":""},{"$f":"'Rozliczenie końcowe'!J629","v":""},{"$f":"'Rozliczenie końcowe'!K629","v":""},{"$f":"'Rozliczenie końcowe'!L629","v":""},{"$f":"'Rozliczenie końcowe'!M629","v":""}]
[null,null,{"$f":"'Rozliczenie końcowe'!A40","v":0},{"$f":"'Rozliczenie końcowe'!B40","v":0},{"$f":"'Rozliczenie końcowe'!E40","v":"00:00:00"},{"$f":"'Rozliczenie końcowe'!G40","v":0},{"$f":"'Rozliczenie końcowe'!I40","v":""},{"$f":"'Rozliczenie końcowe'!C630","v":""},{"$f":"'Rozliczenie końcowe'!D630","v":""},{"$f":"'Rozliczenie końcowe'!E630","v":""},{"$f":"'Rozliczenie końcowe'!F630","v":""},{"$f":"'Rozliczenie końcowe'!H630","v":""},{"$f":"'Rozliczenie końcowe'!I630","v":""},{"$f":"'Rozliczenie końcowe'!J630","v":""},{"$f":"'Rozliczenie końcowe'!K630","v":""},{"$f":"'Rozliczenie końcowe'!L630","v":""},{"$f":"'Rozliczenie końcowe'!M630","v":""}]
[null,null,{"$f":"'Rozliczenie końcowe'!A41","v":0},{"$f":"'Rozliczenie końcowe'!B41","v":0},{"$f":"'Rozliczenie końcowe'!E41","v":"00:00:00"},{"$f":"'Rozliczenie końcowe'!G41","v":0},{"$f":"'Rozliczenie końcowe'!I41","v":""},{"$f":"'Rozliczenie końcowe'!C631","v":""},{"$f":"'Rozliczenie końcowe'!D631","v":""},{"$f":"'Rozliczenie końcowe'!E631","v":""},{"$f":"'Rozliczenie końcowe'!F631","v":""},{"$f":"'Rozliczenie końcowe'!H631","v":""},{"$f":"'Rozliczenie końcowe'!I631","v":""},{"$f":"'Rozliczenie końcowe'!J631","v":""},{"$f":"'Rozliczenie końcowe'!K631","v":""},{"$f":"'Rozliczenie końcowe'!L631","v":""},{"$f":"'Rozliczenie końcowe'!M631","v":""}]
[null,null,{"$f":"'Rozliczenie końcowe'!A42","v":0},{"$f":"'Rozliczenie końcowe'!B42","v":0},{"$f":"'Rozliczenie końcowe'!E42","v":"00:00:00"},{"$f":"'Rozliczenie końcowe'!G42","v":0},{"$f":"'Rozliczenie końcowe'!I42","v":""},{"$f":"'Rozliczenie końcowe'!C632","v":""},{"$f":"'Rozliczenie końcowe'!D632","v":""},{"$f":"'Rozliczenie końcowe'!E632","v":""},{"$f":"'Rozliczenie końcowe'!F632","v":""},{"$f":"'Rozliczenie końcowe'!H632","v":""},{"$f":"'Rozliczenie końcowe'!I632","v":""},{"$f":"'Rozliczenie końcowe'!J632","v":""},{"$f":"'Rozliczenie końcowe'!K632","v":""},{"$f":"'Rozliczenie końcowe'!L632","v":""},{"$f":"'Rozliczenie końcowe'!M632","v":""}]
[null,null,{"$f":"'Rozliczenie końcowe'!A43","v":0},{"$f":"'Rozliczenie końcowe'!B43","v":0},{"$f":"'Rozliczenie końcowe'!E43","v":"00:00:00"},{"$f":"'Rozliczenie końcowe'!G43","v":0},{"$f":"'Rozliczenie końcowe'!I43","v":""},{"$f":"'Rozliczenie końcowe'!C633","v":""},{"$f":"'Rozliczenie końcowe'!D633","v":""},{"$f":"'Rozliczenie końcowe'!E633","v":""},{"$f":"'Rozliczenie końcowe'!F633","v":""},{"$f":"'Rozliczenie końcowe'!H633","v":""},{"$f":"'Rozliczenie końcowe'!I633","v":""},{"$f":"'Rozliczenie końcowe'!J633","v":""},{"$f":"'Rozliczenie końcowe'!K633","v":""},{"$f":"'Rozliczenie końcowe'!L633","v":""},{"$f":"'Rozliczenie końcowe'!M633","v":""}]
[null,null,{"$f":"'Rozliczenie końcowe'!A44","v":0},{"$f":"'Rozliczenie końcowe'!B44","v":0},{"$f":"'Rozliczenie końcowe'!E44","v":"00:00:00"},{"$f":"'Rozliczenie końcowe'!G44","v":0},{"$f":"'Rozliczenie końcowe'!I44","v":""},{"$f":"'Rozliczenie końcowe'!C634","v":""},{"$f":"'Rozliczenie końcowe'!D634","v":""},{"$f":"'Rozliczenie końcowe'!E634","v":""},{"$f":"'Rozliczenie końcowe'!F634","v":""},{"$f":"'Rozliczenie końcowe'!H634","v":""},{"$f":"'Rozliczenie końcowe'!I634","v":""},{"$f":"'Rozliczenie końcowe'!J634","v":""},{"$f":"'Rozliczenie końcowe'!K634","v":""},{"$f":"'Rozliczenie końcowe'!L634","v":""},{"$f":"'Rozliczenie końcowe'!M634","v":""}]
[null,null,{"$f":"'Rozliczenie końcowe'!A45","v":0},{"$f":"'Rozliczenie końcowe'!B45","v":0},{"$f":"'Rozliczenie końcowe'!E45","v":"00:00:00"},{"$f":"'Rozliczenie końcowe'!G45","v":0},{"$f":"'Rozliczenie końcowe'!I45","v":""},{"$f":"'Rozliczenie końcowe'!C635","v":""},{"$f":"'Rozliczenie końcowe'!D635","v":""},{"$f":"'Rozliczenie końcowe'!E635","v":""},{"$f":"'Rozliczenie końcowe'!F635","v":""},{"$f":"'Rozliczenie końcowe'!H635","v":""},{"$f":"'Rozliczenie końcowe'!I635","v":""},{"$f":"'Rozliczenie końcowe'!J635","v":""},{"$f":"'Rozliczenie końcowe'!K635","v":""},{"$f":"'Rozliczenie końcowe'!L635","v":""},{"$f":"'Rozliczenie końcowe'!M635","v":""}]
[null,null,{"$f":"'Rozliczenie końcowe'!A46","v":0},{"$f":"'Rozliczenie końcowe'!B46","v":0},{"$f":"'Rozliczenie końcowe'!E46","v":"00:00:00"},{"$f":"'Rozliczenie końcowe'!G46","v":0},{"$f":"'Rozliczenie końcowe'!I46","v":""},{"$f":"'Rozliczenie końcowe'!C636","v":""},{"$f":"'Rozliczenie końcowe'!D636","v":""},{"$f":"'Rozliczenie końcowe'!E636","v":""},{"$f":"'Rozliczenie końcowe'!F636","v":""},{"$f":"'Rozliczenie końcowe'!H636","v":""},{"$f":"'Rozliczenie końcowe'!I636","v":""},{"$f":"'Rozliczenie końcowe'!J636","v":""},{"$f":"'Rozliczenie końcowe'!K636","v":""},{"$f":"'Rozliczenie końcowe'!L636","v":""},{"$f":"'Rozliczenie końcowe'!M636","v":""}]
[null,null,{"$f":"'Rozliczenie końcowe'!A47","v":0},{"$f":"'Rozliczenie końcowe'!B47","v":0},{"$f":"'Rozliczenie końcowe'!E47","v":"00:00:00"},{"$f":"'Rozliczenie końcowe'!G47","v":0},{"$f":"'Rozliczenie końcowe'!I47","v":""},{"$f":"'Rozliczenie końcowe'!C637","v":""},{"$f":"'Rozliczenie końcowe'!D637","v":""},{"$f":"'Rozliczenie końcowe'!E637","v":""},{"$f":"'Rozliczenie końcowe'!F637","v":""},{"$f":"'Rozliczenie końcowe'!H637","v":""},{"$f":"'Rozliczenie końcowe'!I637","v":""},{"$f":"'Rozliczenie końcowe'!J637","v":""},{"$f":"'Rozliczenie końcowe'!K637","v":""},{"$f":"'Rozliczenie końcowe'!L637","v":""},{"$f":"'Rozliczenie końcowe'!M637","v":""}]
[null,null,{"$f":"'Rozliczenie końcowe'!A48","v":0},{"$f":"'Rozliczenie końcowe'!B48","v":0},{"$f":"'Rozliczenie końcowe'!E48","v":"00:00:00"},{"$f":"'Rozliczenie końcowe'!G48","v":0},{"$f":"'Rozliczenie końcowe'!I48","v":""},{"$f":"'Rozliczenie końcowe'!C638","v":""},{"$f":"'Rozliczenie końcowe'!D638","v":""},{"$f":"'Rozliczenie końcowe'!E638","v":""},{"$f":"'Rozliczenie końcowe'!F638","v":""},{"$f":"'Rozliczenie końcowe'!H638","v":""},{"$f":"'Rozliczenie końcowe'!I638","v":""},{"$f":"'Rozliczenie końcowe'!J638","v":""},{"$f":"'Rozliczenie końcowe'!K638","v":""},{"$f":"'Rozliczenie końcowe'!L638","v":""},{"$f":"'Rozliczenie końcowe'!M638","v":""}]
[null,null,{"$f":"'Rozliczenie końcowe'!A49","v":0},{"$f":"'Rozliczenie końcowe'!B49","v":0},{"$f":"'Rozliczenie końcowe'!E49","v":"00:00:00"},{"$f":"'Rozliczenie końcowe'!G49","v":0},{"$f":"'Rozliczenie końcowe'!I49","v":""},{"$f":"'Rozliczenie końcowe'!C639","v":""},{"$f":"'Rozliczenie końcowe'!D639","v":""},{"$f":"'Rozliczenie końcowe'!E639","v":""},{"$f":"'Rozliczenie końcowe'!F639","v":""},{"$f":"'Rozliczenie końcowe'!H639","v":""},{"$f":"'Rozliczenie końcowe'!I639","v":""},{"$f":"'Rozliczenie końcowe'!J639","v":""},{"$f":"'Rozliczenie końcowe'!K639","v":""},{"$f":"'Rozliczenie końcowe'!L639","v":""},{"$f":"'Rozliczenie końcowe'!M639","v":""}]
[null,null,{"$f":"'Rozliczenie końcowe'!A50","v":0},{"$f":"'Rozliczenie końcowe'!B50","v":0},{"$f":"'Rozliczenie końcowe'!E50","v":"00:00:00"},{"$f":"'Rozliczenie końcowe'!G50","v":0},{"$f":"'Rozliczenie końcowe'!I50","v":""},{"$f":"'Rozliczenie końcowe'!C640","v":""},{"$f":"'Rozliczenie końcowe'!D640","v":""},{"$f":"'Rozliczenie końcowe'!E640","v":""},{"$f":"'Rozliczenie końcowe'!F640","v":""},{"$f":"'Rozliczenie końcowe'!H640","v":""},{"$f":"'Rozliczenie końcowe'!I640","v":""},{"$f":"'Rozliczenie końcowe'!J640","v":""},{"$f":"'Rozliczenie końcowe'!K640","v":""},{"$f":"'Rozliczenie końcowe'!L640","v":""},{"$f":"'Rozliczenie końcowe'!M640","v":""}]
[null,null,{"$f":"'Rozliczenie końcowe'!A51","v":0},{"$f":"'Rozliczenie końcowe'!B51","v":0},{"$f":"'Rozliczenie końcowe'!E51","v":"00:00:00"},{"$f":"'Rozliczenie końcowe'!G51","v":0},{"$f":"'Rozliczenie końcowe'!I51","v":""},{"$f":"'Rozliczenie końcowe'!C641","v":""},{"$f":"'Rozliczenie końcowe'!D641","v":""},{"$f":"'Rozliczenie końcowe'!E641","v":""},{"$f":"'Rozliczenie końcowe'!F641","v":""},{"$f":"'Rozliczenie końcowe'!H641","v":""},{"$f":"'Rozliczenie końcowe'!I641","v":""},{"$f":"'Rozliczenie końcowe'!J641","v":""},{"$f":"'Rozliczenie końcowe'!K641","v":""},{"$f":"'Rozliczenie końcowe'!L641","v":""},{"$f":"'Rozliczenie końcowe'!M641","v":""}]
[null,null,{"$f":"'Rozliczenie końcowe'!A52","v":0},{"$f":"'Rozliczenie końcowe'!B52","v":0},{"$f":"'Rozliczenie końcowe'!E52","v":"00:00:00"},{"$f":"'Rozliczenie końcowe'!G52","v":0},{"$f":"'Rozliczenie końcowe'!I52","v":""},{"$f":"'Rozliczenie końcowe'!C642","v":""},{"$f":"'Rozliczenie końcowe'!D642","v":""},{"$f":"'Rozliczenie końcowe'!E642","v":""},{"$f":"'Rozliczenie końcowe'!F642","v":""},{"$f":"'Rozliczenie końcowe'!H642","v":""},{"$f":"'Rozliczenie końcowe'!I642","v":""},{"$f":"'Rozliczenie końcowe'!J642","v":""},{"$f":"'Rozliczenie końcowe'!K642","v":""},{"$f":"'Rozliczenie końcowe'!L642","v":""},{"$f":"'Rozliczenie końcowe'!M642","v":""}]
[null,null,{"$f":"'Rozliczenie końcowe'!A53","v":0},{"$f":"'Rozliczenie końcowe'!B53","v":0},{"$f":"'Rozliczenie końcowe'!E53","v":"00:00:00"},{"$f":"'Rozliczenie końcowe'!G53","v":0},{"$f":"'Rozliczenie końcowe'!I53","v":""},{"$f":"'Rozliczenie końcowe'!C643","v":""},{"$f":"'Rozliczenie końcowe'!D643","v":""},{"$f":"'Rozliczenie końcowe'!E643","v":""},{"$f":"'Rozliczenie końcowe'!F643","v":""},{"$f":"'Rozliczenie końcowe'!H643","v":""},{"$f":"'Rozliczenie końcowe'!I643","v":""},{"$f":"'Rozliczenie końcowe'!J643","v":""},{"$f":"'Rozliczenie końcowe'!K643","v":""},{"$f":"'Rozliczenie końcowe'!L643","v":""},{"$f":"'Rozliczenie końcowe'!M643","v":""}]
[null,null,{"$f":"'Rozliczenie końcowe'!A54","v":0},{"$f":"'Rozliczenie końcowe'!B54","v":0},{"$f":"'Rozliczenie końcowe'!E54","v":"00:00:00"},{"$f":"'Rozliczenie końcowe'!G54","v":0},{"$f":"'Rozliczenie końcowe'!I54","v":""},{"$f":"'Rozliczenie końcowe'!C644","v":""},{"$f":"'Rozliczenie końcowe'!D644","v":""},{"$f":"'Rozliczenie końcowe'!E644","v":""},{"$f":"'Rozliczenie końcowe'!F644","v":""},{"$f":"'Rozliczenie końcowe'!H644","v":""},{"$f":"'Rozliczenie końcowe'!I644","v":""},{"$f":"'Rozliczenie końcowe'!J644","v":""},{"$f":"'Rozliczenie końcowe'!K644","v":""},{"$f":"'Rozliczenie końcowe'!L644","v":""},{"$f":"'Rozliczenie końcowe'!M644","v":""}]
[null,null,{"$f":"'Rozliczenie końcowe'!A55","v":0},{"$f":"'Rozliczenie końcowe'!B55","v":0},{"$f":"'Rozliczenie końcowe'!E55","v":"00:00:00"},{"$f":"'Rozliczenie końcowe'!G55","v":0},{"$f":"'Rozliczenie końcowe'!I55","v":""},{"$f":"'Rozliczenie końcowe'!C645","v":""},{"$f":"'Rozliczenie końcowe'!D645","v":""},{"$f":"'Rozliczenie końcowe'!E645","v":""},{"$f":"'Rozliczenie końcowe'!F645","v":""},{"$f":"'Rozliczenie końcowe'!H645","v":""},{"$f":"'Rozliczenie końcowe'!I645","v":""},{"$f":"'Rozliczenie końcowe'!J645","v":""},{"$f":"'Rozliczenie końcowe'!K645","v":""},{"$f":"'Rozliczenie końcowe'!L645","v":""},{"$f":"'Rozliczenie końcowe'!M645","v":""}]
[null,null,{"$f":"'Rozliczenie końcowe'!A56","v":0},{"$f":"'Rozliczenie końcowe'!B56","v":0},{"$f":"'Rozliczenie końcowe'!E56","v":"00:00:00"},{"$f":"'Rozliczenie końcowe'!G56","v":0},{"$f":"'Rozliczenie końcowe'!I56","v":""},{"$f":"'Rozliczenie końcowe'!C646","v":""},{"$f":"'Rozliczenie końcowe'!D646","v":""},{"$f":"'Rozliczenie końcowe'!E646","v":""},{"$f":"'Rozliczenie końcowe'!F646","v":""},{"$f":"'Rozliczenie końcowe'!H646","v":""},{"$f":"'Rozliczenie końcowe'!I646","v":""},{"$f":"'Rozliczenie końcowe'!J646","v":""},{"$f":"'Rozliczenie końcowe'!K646","v":""},{"$f":"'Rozliczenie końcowe'!L646","v":""},{"$f":"'Rozliczenie końcowe'!M646","v":""}]
[null,null,{"$f":"'Rozliczenie końcowe'!A57","v":0},{"$f":"'Rozliczenie końcowe'!B57","v":0},{"$f":"'Rozliczenie końcowe'!E57","v":"00:00:00"},{"$f":"'Rozliczenie końcowe'!G57","v":0},{"$f":"'Rozliczenie końcowe'!I57","v":""},{"$f":"'Rozliczenie końcowe'!C647","v":""},{"$f":"'Rozliczenie końcowe'!D647","v":""},{"$f":"'Rozliczenie końcowe'!E647","v":""},{"$f":"'Rozliczenie końcowe'!F647","v":""},{"$f":"'Rozliczenie końcowe'!H647","v":""},{"$f":"'Rozliczenie końcowe'!I647","v":""},{"$f":"'Rozliczenie końcowe'!J647","v":""},{"$f":"'Rozliczenie końcowe'!K647","v":""},{"$f":"'Rozliczenie końcowe'!L647","v":""},{"$f":"'Rozliczenie końcowe'!M647","v":""}]
[null,null,{"$f":"'Rozliczenie końcowe'!A58","v":0},{"$f":"'Rozliczenie końcowe'!B58","v":0},{"$f":"'Rozliczenie końcowe'!E58","v":"00:00:00"},{"$f":"'Rozliczenie końcowe'!G58","v":0},{"$f":"'Rozliczenie końcowe'!I58","v":""},{"$f":"'Rozliczenie końcowe'!C648","v":""},{"$f":"'Rozliczenie końcowe'!D648","v":""},{"$f":"'Rozliczenie końcowe'!E648","v":""},{"$f":"'Rozliczenie końcowe'!F648","v":""},{"$f":"'Rozliczenie końcowe'!H648","v":""},{"$f":"'Rozliczenie końcowe'!I648","v":""},{"$f":"'Rozliczenie końcowe'!J648","v":""},{"$f":"'Rozliczenie końcowe'!K648","v":""},{"$f":"'Rozliczenie końcowe'!L648","v":""},{"$f":"'Rozliczenie końcowe'!M648","v":""}]
[null,null,{"$f":"'Rozliczenie końcowe'!A59","v":0},{"$f":"'Rozliczenie końcowe'!B59","v":0},{"$f":"'Rozliczenie końcowe'!E59","v":"00:00:00"},{"$f":"'Rozliczenie końcowe'!G59","v":0},{"$f":"'Rozliczenie końcowe'!I59","v":""},{"$f":"'Rozliczenie końcowe'!C649","v":""},{"$f":"'Rozliczenie końcowe'!D649","v":""},{"$f":"'Rozliczenie końcowe'!E649","v":""},{"$f":"'Rozliczenie końcowe'!F649","v":""},{"$f":"'Rozliczenie końcowe'!H649","v":""},{"$f":"'Rozliczenie końcowe'!I649","v":""},{"$f":"'Rozliczenie końcowe'!J649","v":""},{"$f":"'Rozliczenie końcowe'!K649","v":""},{"$f":"'Rozliczenie końcowe'!L649","v":""},{"$f":"'Rozliczenie końcowe'!M649","v":""}]
[null,null,{"$f":"'Rozliczenie końcowe'!A60","v":0},{"$f":"'Rozliczenie końcowe'!B60","v":0},{"$f":"'Rozliczenie końcowe'!E60","v":"00:00:00"},{"$f":"'Rozliczenie końcowe'!G60","v":0},{"$f":"'Rozliczenie końcowe'!I60","v":""},{"$f":"'Rozliczenie końcowe'!C650","v":""},{"$f":"'Rozliczenie końcowe'!D650","v":""},{"$f":"'Rozliczenie końcowe'!E650","v":""},{"$f":"'Rozliczenie końcowe'!F650","v":""},{"$f":"'Rozliczenie końcowe'!H650","v":""},{"$f":"'Rozliczenie końcowe'!I650","v":""},{"$f":"'Rozliczenie końcowe'!J650","v":""},{"$f":"'Rozliczenie końcowe'!K650","v":""},{"$f":"'Rozliczenie końcowe'!L650","v":""},{"$f":"'Rozliczenie końcowe'!M650","v":""}]
[null,null,{"$f":"'Rozliczenie końcowe'!A61","v":0},{"$f":"'Rozliczenie końcowe'!B61","v":0},{"$f":"'Rozliczenie końcowe'!E61","v":"00:00:00"},{"$f":"'Rozliczenie końcowe'!G61","v":0},{"$f":"'Rozliczenie końcowe'!I61","v":""},{"$f":"'Rozliczenie końcowe'!C651","v":""},{"$f":"'Rozliczenie końcowe'!D651","v":""},{"$f":"'Rozliczenie końcowe'!E651","v":""},{"$f":"'Rozliczenie końcowe'!F651","v":""},{"$f":"'Rozliczenie końcowe'!H651","v":""},{"$f":"'Rozliczenie końcowe'!I651","v":""},{"$f":"'Rozliczenie końcowe'!J651","v":""},{"$f":"'Rozliczenie końcowe'!K651","v":""},{"$f":"'Rozliczenie końcowe'!L651","v":""},{"$f":"'Rozliczenie końcowe'!M651","v":""}]
[null,null,{"$f":"'Rozliczenie końcowe'!A62","v":0},{"$f":"'Rozliczenie końcowe'!B62","v":0},{"$f":"'Rozliczenie końcowe'!E62","v":"00:00:00"},{"$f":"'Rozliczenie końcowe'!G62","v":0},{"$f":"'Rozliczenie końcowe'!I62","v":""},{"$f":"'Rozliczenie końcowe'!C652","v":""},{"$f":"'Rozliczenie końcowe'!D652","v":""},{"$f":"'Rozliczenie końcowe'!E652","v":""},{"$f":"'Rozliczenie końcowe'!F652","v":""},{"$f":"'Rozliczenie końcowe'!H652","v":""},{"$f":"'Rozliczenie końcowe'!I652","v":""},{"$f":"'Rozliczenie końcowe'!J652","v":""},{"$f":"'Rozliczenie końcowe'!K652","v":""},{"$f":"'Rozliczenie końcowe'!L652","v":""},{"$f":"'Rozliczenie końcowe'!M652","v":""}]
[null,null,{"$f":"'Rozliczenie końcowe'!A63","v":0},{"$f":"'Rozliczenie końcowe'!B63","v":0},{"$f":"'Rozliczenie końcowe'!E63","v":"00:00:00"},{"$f":"'Rozliczenie końcowe'!G63","v":0},{"$f":"'Rozliczenie końcowe'!I63","v":""},{"$f":"'Rozliczenie końcowe'!C653","v":""},{"$f":"'Rozliczenie końcowe'!D653","v":""},{"$f":"'Rozliczenie końcowe'!E653","v":""},{"$f":"'Rozliczenie końcowe'!F653","v":""},{"$f":"'Rozliczenie końcowe'!H653","v":""},{"$f":"'Rozliczenie końcowe'!I653","v":""},{"$f":"'Rozliczenie końcowe'!J653","v":""},{"$f":"'Rozliczenie końcowe'!K653","v":""},{"$f":"'Rozliczenie końcowe'!L653","v":""},{"$f":"'Rozliczenie końcowe'!M653","v":""}]
[null,null,{"$f":"'Rozliczenie końcowe'!A64","v":0},{"$f":"'Rozliczenie końcowe'!B64","v":0},{"$f":"'Rozliczenie końcowe'!E64","v":"00:00:00"},{"$f":"'Rozliczenie końcowe'!G64","v":0},{"$f":"'Rozliczenie końcowe'!I64","v":""},{"$f":"'Rozliczenie końcowe'!C654","v":""},{"$f":"'Rozliczenie końcowe'!D654","v":""},{"$f":"'Rozliczenie końcowe'!E654","v":""},{"$f":"'Rozliczenie końcowe'!F654","v":""},{"$f":"'Rozliczenie końcowe'!H654","v":""},{"$f":"'Rozliczenie końcowe'!I654","v":""},{"$f":"'Rozliczenie końcowe'!J654","v":""},{"$f":"'Rozliczenie końcowe'!K654","v":""},{"$f":"'Rozliczenie końcowe'!L654","v":""},{"$f":"'Rozliczenie końcowe'!M654","v":""}]
[null,null,{"$f":"'Rozliczenie końcowe'!A65","v":0},{"$f":"'Rozliczenie końcowe'!B65","v":0},{"$f":"'Rozliczenie końcowe'!E65","v":"00:00:00"},{"$f":"'Rozliczenie końcowe'!G65","v":0},{"$f":"'Rozliczenie końcowe'!I65","v":""},{"$f":"'Rozliczenie końcowe'!C655","v":""},{"$f":"'Rozliczenie końcowe'!D655","v":""},{"$f":"'Rozliczenie końcowe'!E655","v":""},{"$f":"'Rozliczenie końcowe'!F655","v":""},{"$f":"'Rozliczenie końcowe'!H655","v":""},{"$f":"'Rozliczenie końcowe'!I655","v":""},{"$f":"'Rozliczenie końcowe'!J655","v":""},{"$f":"'Rozliczenie końcowe'!K655","v":""},{"$f":"'Rozliczenie końcowe'!L655","v":""},{"$f":"'Rozliczenie końcowe'!M655","v":""}]
[null,null,{"$f":"'Rozliczenie końcowe'!A66","v":0},{"$f":"'Rozliczenie końcowe'!B66","v":0},{"$f":"'Rozliczenie końcowe'!E66","v":"00:00:00"},{"$f":"'Rozliczenie końcowe'!G66","v":0},{"$f":"'Rozliczenie końcowe'!I66","v":""},{"$f":"'Rozliczenie końcowe'!C656","v":""},{"$f":"'Rozliczenie końcowe'!D656","v":""},{"$f":"'Rozliczenie końcowe'!E656","v":""},{"$f":"'Rozliczenie końcowe'!F656","v":""},{"$f":"'Rozliczenie końcowe'!H656","v":""},{"$f":"'Rozliczenie końcowe'!I656","v":""},{"$f":"'Rozliczenie końcowe'!J656","v":""},{"$f":"'Rozliczenie końcowe'!K656","v":""},{"$f":"'Rozliczenie końcowe'!L656","v":""},{"$f":"'Rozliczenie końcowe'!M656","v":""}]
[null,null,{"$f":"'Rozliczenie końcowe'!A67","v":0},{"$f":"'Rozliczenie końcowe'!B67","v":0},{"$f":"'Rozliczenie końcowe'!E67","v":"00:00:00"},{"$f":"'Rozliczenie końcowe'!G67","v":0},{"$f":"'Rozliczenie końcowe'!I67","v":""},{"$f":"'Rozliczenie końcowe'!C657","v":""},{"$f":"'Rozliczenie końcowe'!D657","v":""},{"$f":"'Rozliczenie końcowe'!E657","v":""},{"$f":"'Rozliczenie końcowe'!F657","v":""},{"$f":"'Rozliczenie końcowe'!H657","v":""},{"$f":"'Rozliczenie końcowe'!I657","v":""},{"$f":"'Rozliczenie końcowe'!J657","v":""},{"$f":"'Rozliczenie końcowe'!K657","v":""},{"$f":"'Rozliczenie końcowe'!L657","v":""},{"$f":"'Rozliczenie końcowe'!M657","v":""}]
[null,null,{"$f":"'Rozliczenie końcowe'!A68","v":0},{"$f":"'Rozliczenie końcowe'!B68","v":0},{"$f":"'Rozliczenie końcowe'!E68","v":"00:00:00"},{"$f":"'Rozliczenie końcowe'!G68","v":0},{"$f":"'Rozliczenie końcowe'!I68","v":""},{"$f":"'Rozliczenie końcowe'!C658","v":""},{"$f":"'Rozliczenie końcowe'!D658","v":""},{"$f":"'Rozliczenie końcowe'!E658","v":""},{"$f":"'Rozliczenie końcowe'!F658","v":""},{"$f":"'Rozliczenie końcowe'!H658","v":""},{"$f":"'Rozliczenie końcowe'!I658","v":""},{"$f":"'Rozliczenie końcowe'!J658","v":""},{"$f":"'Rozliczenie końcowe'!K658","v":""},{"$f":"'Rozliczenie końcowe'!L658","v":""},{"$f":"'Rozliczenie końcowe'!M658","v":""}]
[null,null,{"$f":"'Rozliczenie końcowe'!A69","v":0},{"$f":"'Rozliczenie końcowe'!B69","v":0},{"$f":"'Rozliczenie końcowe'!E69","v":"00:00:00"},{"$f":"'Rozliczenie końcowe'!G69","v":0},{"$f":"'Rozliczenie końcowe'!I69","v":""},{"$f":"'Rozliczenie końcowe'!C659","v":""},{"$f":"'Rozliczenie końcowe'!D659","v":""},{"$f":"'Rozliczenie końcowe'!E659","v":""},{"$f":"'Rozliczenie końcowe'!F659","v":""},{"$f":"'Rozliczenie końcowe'!H659","v":""},{"$f":"'Rozliczenie końcowe'!I659","v":""},{"$f":"'Rozliczenie końcowe'!J659","v":""},{"$f":"'Rozliczenie końcowe'!K659","v":""},{"$f":"'Rozliczenie końcowe'!L659","v":""},{"$f":"'Rozliczenie końcowe'!M659","v":""}]
[null,null,{"$f":"'Rozliczenie końcowe'!A70","v":0},{"$f":"'Rozliczenie końcowe'!B70","v":0},{"$f":"'Rozliczenie końcowe'!E70","v":"00:00:00"},{"$f":"'Rozliczenie końcowe'!G70","v":0},{"$f":"'Rozliczenie końcowe'!I70","v":""},{"$f":"'Rozliczenie końcowe'!C660","v":""},{"$f":"'Rozliczenie końcowe'!D660","v":""},{"$f":"'Rozliczenie końcowe'!E660","v":""},{"$f":"'Rozliczenie końcowe'!F660","v":""},{"$f":"'Rozliczenie końcowe'!H660","v":""},{"$f":"'Rozliczenie końcowe'!I660","v":""},{"$f":"'Rozliczenie końcowe'!J660","v":""},{"$f":"'Rozliczenie końcowe'!K660","v":""},{"$f":"'Rozliczenie końcowe'!L660","v":""},{"$f":"'Rozliczenie końcowe'!M660","v":""}]
[null,null,{"$f":"'Rozliczenie końcowe'!A71","v":0},{"$f":"'Rozliczenie końcowe'!B71","v":0},{"$f":"'Rozliczenie końcowe'!E71","v":"00:00:00"},{"$f":"'Rozliczenie końcowe'!G71","v":0},{"$f":"'Rozliczenie końcowe'!I71","v":""},{"$f":"'Rozliczenie końcowe'!C661","v":""},{"$f":"'Rozliczenie końcowe'!D661","v":""},{"$f":"'Rozliczenie końcowe'!E661","v":""},{"$f":"'Rozliczenie końcowe'!F661","v":""},{"$f":"'Rozliczenie końcowe'!H661","v":""},{"$f":"'Rozliczenie końcowe'!I661","v":""},{"$f":"'Rozliczenie końcowe'!J661","v":""},{"$f":"'Rozliczenie końcowe'!K661","v":""},{"$f":"'Rozliczenie końcowe'!L661","v":""},{"$f":"'Rozliczenie końcowe'!M661","v":""}]
[null,null,{"$f":"'Rozliczenie końcowe'!A72","v":0},{"$f":"'Rozliczenie końcowe'!B72","v":0},{"$f":"'Rozliczenie końcowe'!E72","v":"00:00:00"},{"$f":"'Rozliczenie końcowe'!G72","v":0},{"$f":"'Rozliczenie końcowe'!I72","v":""},{"$f":"'Rozliczenie końcowe'!C662","v":""},{"$f":"'Rozliczenie końcowe'!D662","v":""},{"$f":"'Rozliczenie końcowe'!E662","v":""},{"$f":"'Rozliczenie końcowe'!F662","v":""},{"$f":"'Rozliczenie końcowe'!H662","v":""},{"$f":"'Rozliczenie końcowe'!I662","v":""},{"$f":"'Rozliczenie końcowe'!J662","v":""},{"$f":"'Rozliczenie końcowe'!K662","v":""},{"$f":"'Rozliczenie końcowe'!L662","v":""},{"$f":"'Rozliczenie końcowe'!M662","v":""}]
[null,null,{"$f":"'Rozliczenie końcowe'!A73","v":0},{"$f":"'Rozliczenie końcowe'!B73","v":0},{"$f":"'Rozliczenie końcowe'!E73","v":"00:00:00"},{"$f":"'Rozliczenie końcowe'!G73","v":0},{"$f":"'Rozliczenie końcowe'!I73","v":""},{"$f":"'Rozliczenie końcowe'!C663","v":""},{"$f":"'Rozliczenie końcowe'!D663","v":""},{"$f":"'Rozliczenie końcowe'!E663","v":""},{"$f":"'Rozliczenie końcowe'!F663","v":""},{"$f":"'Rozliczenie końcowe'!H663","v":""},{"$f":"'Rozliczenie końcowe'!I663","v":""},{"$f":"'Rozliczenie końcowe'!J663","v":""},{"$f":"'Rozliczenie końcowe'!K663","v":""},{"$f":"'Rozliczenie końcowe'!L663","v":""},{"$f":"'Rozliczenie końcowe'!M663","v":""}]
[null,null,{"$f":"'Rozliczenie końcowe'!A74","v":0},{"$f":"'Rozliczenie końcowe'!B74","v":0},{"$f":"'Rozliczenie końcowe'!E74","v":"00:00:00"},{"$f":"'Rozliczenie końcowe'!G74","v":0},{"$f":"'Rozliczenie końcowe'!I74","v":""},{"$f":"'Rozliczenie końcowe'!C664","v":""},{"$f":"'Rozliczenie końcowe'!D664","v":""},{"$f":"'Rozliczenie końcowe'!E664","v":""},{"$f":"'Rozliczenie końcowe'!F664","v":""},{"$f":"'Rozliczenie końcowe'!H664","v":""},{"$f":"'Rozliczenie końcowe'!I664","v":""},{"$f":"'Rozliczenie końcowe'!J664","v":""},{"$f":"'Rozliczenie końcowe'!K664","v":""},{"$f":"'Rozliczenie końcowe'!L664","v":""},{"$f":"'Rozliczenie końcowe'!M664","v":""}]
[null,null,{"$f":"'Rozliczenie końcowe'!A75","v":0},{"$f":"'Rozliczenie końcowe'!B75","v":0},{"$f":"'Rozliczenie końcowe'!E75","v":"00:00:00"},{"$f":"'Rozliczenie końcowe'!G75","v":0},{"$f":"'Rozliczenie końcowe'!I75","v":""},{"$f":"'Rozliczenie końcowe'!C665","v":""},{"$f":"'Rozliczenie końcowe'!D665","v":""},{"$f":"'Rozliczenie końcowe'!E665","v":""},{"$f":"'Rozliczenie końcowe'!F665","v":""},{"$f":"'Rozliczenie końcowe'!H665","v":""},{"$f":"'Rozliczenie końcowe'!I665","v":""},{"$f":"'Rozliczenie końcowe'!J665","v":""},{"$f":"'Rozliczenie końcowe'!K665","v":""},{"$f":"'Rozliczenie końcowe'!L665","v":""},{"$f":"'Rozliczenie końcowe'!M665","v":""}]
[null,null,{"$f":"'Rozliczenie końcowe'!A76","v":0},{"$f":"'Rozliczenie końcowe'!B76","v":0},{"$f":"'Rozliczenie końcowe'!E76","v":"00:00:00"},{"$f":"'Rozliczenie końcowe'!G76","v":0},{"$f":"'Rozliczenie końcowe'!I76","v":""},{"$f":"'Rozliczenie końcowe'!C666","v":""},{"$f":"'Rozliczenie końcowe'!D666","v":""},{"$f":"'Rozliczenie końcowe'!E666","v":""},{"$f":"'Rozliczenie końcowe'!F666","v":""},{"$f":"'Rozliczenie końcowe'!H666","v":""},{"$f":"'Rozliczenie końcowe'!I666","v":""},{"$f":"'Rozliczenie końcowe'!J666","v":""},{"$f":"'Rozliczenie końcowe'!K666","v":""},{"$f":"'Rozliczenie końcowe'!L666","v":""},{"$f":"'Rozliczenie końcowe'!M666","v":""}]
[null,null,{"$f":"'Rozliczenie końcowe'!A77","v":0},{"$f":"'Rozliczenie końcowe'!B77","v":0},{"$f":"'Rozliczenie końcowe'!E77","v":"00:00:00"},{"$f":"'Rozliczenie końcowe'!G77","v":0},{"$f":"'Rozliczenie końcowe'!I77","v":""},{"$f":"'Rozliczenie końcowe'!C667","v":""},{"$f":"'Rozliczenie końcowe'!D667","v":""},{"$f":"'Rozliczenie końcowe'!E667","v":""},{"$f":"'Rozliczenie końcowe'!F667","v":""},{"$f":"'Rozliczenie końcowe'!H667","v":""},{"$f":"'Rozliczenie końcowe'!I667","v":""},{"$f":"'Rozliczenie końcowe'!J667","v":""},{"$f":"'Rozliczenie końcowe'!K667","v":""},{"$f":"'Rozliczenie końcowe'!L667","v":""},{"$f":"'Rozliczenie końcowe'!M667","v":""}]
[null,null,{"$f":"'Rozliczenie końcowe'!A78","v":0},{"$f":"'Rozliczenie końcowe'!B78","v":0},{"$f":"'Rozliczenie końcowe'!E78","v":"00:00:00"},{"$f":"'Rozliczenie końcowe'!G78","v":0},{"$f":"'Rozliczenie końcowe'!I78","v":""},{"$f":"'Rozliczenie końcowe'!C668","v":""},{"$f":"'Rozliczenie końcowe'!D668","v":""},{"$f":"'Rozliczenie końcowe'!E668","v":""},{"$f":"'Rozliczenie końcowe'!F668","v":""},{"$f":"'Rozliczenie końcowe'!H668","v":""},{"$f":"'Rozliczenie końcowe'!I668","v":""},{"$f":"'Rozliczenie końcowe'!J668","v":""},{"$f":"'Rozliczenie końcowe'!K668","v":""},{"$f":"'Rozliczenie końcowe'!L668","v":""},{"$f":"'Rozliczenie końcowe'!M668","v":""}]
[null,null,{"$f":"'Rozliczenie końcowe'!A79","v":0},{"$f":"'Rozliczenie końcowe'!B79","v":0},{"$f":"'Rozliczenie końcowe'!E79","v":"00:00:00"},{"$f":"'Rozliczenie końcowe'!G79","v":0},{"$f":"'Rozliczenie końcowe'!I79","v":""},{"$f":"'Rozliczenie końcowe'!C669","v":""},{"$f":"'Rozliczenie końcowe'!D669","v":""},{"$f":"'Rozliczenie końcowe'!E669","v":""},{"$f":"'Rozliczenie końcowe'!F669","v":""},{"$f":"'Rozliczenie końcowe'!H669","v":""},{"$f":"'Rozliczenie końcowe'!I669","v":""},{"$f":"'Rozliczenie końcowe'!J669","v":""},{"$f":"'Rozliczenie końcowe'!K669","v":""},{"$f":"'Rozliczenie końcowe'!L669","v":""},{"$f":"'Rozliczenie końcowe'!M669","v":""}]
[null,null,{"$f":"'Rozliczenie końcowe'!A80","v":0},{"$f":"'Rozliczenie końcowe'!B80","v":0},{"$f":"'Rozliczenie końcowe'!E80","v":"00:00:00"},{"$f":"'Rozliczenie końcowe'!G80","v":0},{"$f":"'Rozliczenie końcowe'!I80","v":""},{"$f":"'Rozliczenie końcowe'!C670","v":""},{"$f":"'Rozliczenie końcowe'!D670","v":""},{"$f":"'Rozliczenie końcowe'!E670","v":""},{"$f":"'Rozliczenie końcowe'!F670","v":""},{"$f":"'Rozliczenie końcowe'!H670","v":""},{"$f":"'Rozliczenie końcowe'!I670","v":""},{"$f":"'Rozliczenie końcowe'!J670","v":""},{"$f":"'Rozliczenie końcowe'!K670","v":""},{"$f":"'Rozliczenie końcowe'!L670","v":""},{"$f":"'Rozliczenie końcowe'!M670","v":""}]
[null,null,{"$f":"'Rozliczenie końcowe'!A81","v":0},{"$f":"'Rozliczenie końcowe'!B81","v":0},{"$f":"'Rozliczenie końcowe'!E81","v":"00:00:00"},{"$f":"'Rozliczenie końcowe'!G81","v":0},{"$f":"'Rozliczenie końcowe'!I81","v":""},{"$f":"'Rozliczenie końcowe'!C671","v":""},{"$f":"'Rozliczenie końcowe'!D671","v":""},{"$f":"'Rozliczenie końcowe'!E671","v":""},{"$f":"'Rozliczenie końcowe'!F671","v":""},{"$f":"'Rozliczenie końcowe'!H671","v":""},{"$f":"'Rozliczenie końcowe'!I671","v":""},{"$f":"'Rozliczenie końcowe'!J671","v":""},{"$f":"'Rozliczenie końcowe'!K671","v":""},{"$f":"'Rozliczenie końcowe'!L671","v":""},{"$f":"'Rozliczenie końcowe'!M671","v":""}]
[null,null,{"$f":"'Rozliczenie końcowe'!A82","v":0},{"$f":"'Rozliczenie końcowe'!B82","v":0},{"$f":"'Rozliczenie końcowe'!E82","v":"00:00:00"},{"$f":"'Rozliczenie końcowe'!G82","v":0},{"$f":"'Rozliczenie końcowe'!I82","v":""},{"$f":"'Rozliczenie końcowe'!C672","v":""},{"$f":"'Rozliczenie końcowe'!D672","v":""},{"$f":"'Rozliczenie końcowe'!E672","v":""},{"$f":"'Rozliczenie końcowe'!F672","v":""},{"$f":"'Rozliczenie końcowe'!H672","v":""},{"$f":"'Rozliczenie końcowe'!I672","v":""},{"$f":"'Rozliczenie końcowe'!J672","v":""},{"$f":"'Rozliczenie końcowe'!K672","v":""},{"$f":"'Rozliczenie końcowe'!L672","v":""},{"$f":"'Rozliczenie końcowe'!M672","v":""}]
[null,null,{"$f":"'Rozliczenie końcowe'!A83","v":0},{"$f":"'Rozliczenie końcowe'!B83","v":0},{"$f":"'Rozliczenie końcowe'!E83","v":"00:00:00"},{"$f":"'Rozliczenie końcowe'!G83","v":0},{"$f":"'Rozliczenie końcowe'!I83","v":""},{"$f":"'Rozliczenie końcowe'!C673","v":""},{"$f":"'Rozliczenie końcowe'!D673","v":""},{"$f":"'Rozliczenie końcowe'!E673","v":""},{"$f":"'Rozliczenie końcowe'!F673","v":""},{"$f":"'Rozliczenie końcowe'!H673","v":""},{"$f":"'Rozliczenie końcowe'!I673","v":""},{"$f":"'Rozliczenie końcowe'!J673","v":""},{"$f":"'Rozliczenie końcowe'!K673","v":""},{"$f":"'Rozliczenie końcowe'!L673","v":""},{"$f":"'Rozliczenie końcowe'!M673","v":""}]
[null,null,{"$f":"'Rozliczenie końcowe'!A84","v":0},{"$f":"'Rozliczenie końcowe'!B84","v":0},{"$f":"'Rozliczenie końcowe'!E84","v":"00:00:00"},{"$f":"'Rozliczenie końcowe'!G84","v":0},{"$f":"'Rozliczenie końcowe'!I84","v":""},{"$f":"'Rozliczenie końcowe'!C674","v":""},{"$f":"'Rozliczenie końcowe'!D674","v":""},{"$f":"'Rozliczenie końcowe'!E674","v":""},{"$f":"'Rozliczenie końcowe'!F674","v":""},{"$f":"'Rozliczenie końcowe'!H674","v":""},{"$f":"'Rozliczenie końcowe'!I674","v":""},{"$f":"'Rozliczenie końcowe'!J674","v":""},{"$f":"'Rozliczenie końcowe'!K674","v":""},{"$f":"'Rozliczenie końcowe'!L674","v":""},{"$f":"'Rozliczenie końcowe'!M674","v":""}]
[null,null,{"$f":"'Rozliczenie końcowe'!A85","v":0},{"$f":"'Rozliczenie końcowe'!B85","v":0},{"$f":"'Rozliczenie końcowe'!E85","v":"00:00:00"},{"$f":"'Rozliczenie końcowe'!G85","v":0},{"$f":"'Rozliczenie końcowe'!I85","v":""},{"$f":"'Rozliczenie końcowe'!C675","v":""},{"$f":"'Rozliczenie końcowe'!D675","v":""},{"$f":"'Rozliczenie końcowe'!E675","v":""},{"$f":"'Rozliczenie końcowe'!F675","v":""},{"$f":"'Rozliczenie końcowe'!H675","v":""},{"$f":"'Rozliczenie końcowe'!I675","v":""},{"$f":"'Rozliczenie końcowe'!J675","v":""},{"$f":"'Rozliczenie końcowe'!K675","v":""},{"$f":"'Rozliczenie końcowe'!L675","v":""},{"$f":"'Rozliczenie końcowe'!M675","v":""}]
[null,null,{"$f":"'Rozliczenie końcowe'!A86","v":0},{"$f":"'Rozliczenie końcowe'!B86","v":0},{"$f":"'Rozliczenie końcowe'!E86","v":"00:00:00"},{"$f":"'Rozliczenie końcowe'!G86","v":0},{"$f":"'Rozliczenie końcowe'!I86","v":""},{"$f":"'Rozliczenie końcowe'!C676","v":""},{"$f":"'Rozliczenie końcowe'!D676","v":""},{"$f":"'Rozliczenie końcowe'!E676","v":""},{"$f":"'Rozliczenie końcowe'!F676","v":""},{"$f":"'Rozliczenie końcowe'!H676","v":""},{"$f":"'Rozliczenie końcowe'!I676","v":""},{"$f":"'Rozliczenie końcowe'!J676","v":""},{"$f":"'Rozliczenie końcowe'!K676","v":""},{"$f":"'Rozliczenie końcowe'!L676","v":""},{"$f":"'Rozliczenie końcowe'!M676","v":""}]
[null,null,{"$f":"'Rozliczenie końcowe'!A87","v":0},{"$f":"'Rozliczenie końcowe'!B87","v":0},{"$f":"'Rozliczenie końcowe'!E87","v":"00:00:00"},{"$f":"'Rozliczenie końcowe'!G87","v":0},{"$f":"'Rozliczenie końcowe'!I87","v":""},{"$f":"'Rozliczenie końcowe'!C677","v":""},{"$f":"'Rozliczenie końcowe'!D677","v":""},{"$f":"'Rozliczenie końcowe'!E677","v":""},{"$f":"'Rozliczenie końcowe'!F677","v":""},{"$f":"'Rozliczenie końcowe'!H677","v":""},{"$f":"'Rozliczenie końcowe'!I677","v":""},{"$f":"'Rozliczenie końcowe'!J677","v":""},{"$f":"'Rozliczenie końcowe'!K677","v":""},{"$f":"'Rozliczenie końcowe'!L677","v":""},{"$f":"'Rozliczenie końcowe'!M677","v":""}]
[null,null,{"$f":"'Rozliczenie końcowe'!A88","v":0},{"$f":"'Rozliczenie końcowe'!B88","v":0},{"$f":"'Rozliczenie końcowe'!E88","v":"00:00:00"},{"$f":"'Rozliczenie końcowe'!G88","v":0},{"$f":"'Rozliczenie końcowe'!I88","v":""},{"$f":"'Rozliczenie końcowe'!C678","v":""},{"$f":"'Rozliczenie końcowe'!D678","v":""},{"$f":"'Rozliczenie końcowe'!E678","v":""},{"$f":"'Rozliczenie końcowe'!F678","v":""},{"$f":"'Rozliczenie końcowe'!H678","v":""},{"$f":"'Rozliczenie końcowe'!I678","v":""},{"$f":"'Rozliczenie końcowe'!J678","v":""},{"$f":"'Rozliczenie końcowe'!K678","v":""},{"$f":"'Rozliczenie końcowe'!L678","v":""},{"$f":"'Rozliczenie końcowe'!M678","v":""}]
[null,null,{"$f":"'Rozliczenie końcowe'!A89","v":0},{"$f":"'Rozliczenie końcowe'!B89","v":0},{"$f":"'Rozliczenie końcowe'!E89","v":"00:00:00"},{"$f":"'Rozliczenie końcowe'!G89","v":0},{"$f":"'Rozliczenie końcowe'!I89","v":""},{"$f":"'Rozliczenie końcowe'!C679","v":""},{"$f":"'Rozliczenie końcowe'!D679","v":""},{"$f":"'Rozliczenie końcowe'!E679","v":""},{"$f":"'Rozliczenie końcowe'!F679","v":""},{"$f":"'Rozliczenie końcowe'!H679","v":""},{"$f":"'Rozliczenie końcowe'!I679","v":""},{"$f":"'Rozliczenie końcowe'!J679","v":""},{"$f":"'Rozliczenie końcowe'!K679","v":""},{"$f":"'Rozliczenie końcowe'!L679","v":""},{"$f":"'Rozliczenie końcowe'!M679","v":""}]
[null,null,{"$f":"'Rozliczenie końcowe'!A90","v":0},{"$f":"'Rozliczenie końcowe'!B90","v":0},{"$f":"'Rozliczenie końcowe'!E90","v":"00:00:00"},{"$f":"'Rozliczenie końcowe'!G90","v":0},{"$f":"'Rozliczenie końcowe'!I90","v":""},{"$f":"'Rozliczenie końcowe'!C680","v":""},{"$f":"'Rozliczenie końcowe'!D680","v":""},{"$f":"'Rozliczenie końcowe'!E680","v":""},{"$f":"'Rozliczenie końcowe'!F680","v":""},{"$f":"'Rozliczenie końcowe'!H680","v":""},{"$f":"'Rozliczenie końcowe'!I680","v":""},{"$f":"'Rozliczenie końcowe'!J680","v":""},{"$f":"'Rozliczenie końcowe'!K680","v":""},{"$f":"'Rozliczenie końcowe'!L680","v":""},{"$f":"'Rozliczenie końcowe'!M680","v":""}]
[null,null,{"$f":"'Rozliczenie końcowe'!A91","v":0},{"$f":"'Rozliczenie końcowe'!B91","v":0},{"$f":"'Rozliczenie końcowe'!E91","v":"00:00:00"},{"$f":"'Rozliczenie końcowe'!G91","v":0},{"$f":"'Rozliczenie końcowe'!I91","v":""},{"$f":"'Rozliczenie końcowe'!C681","v":""},{"$f":"'Rozliczenie końcowe'!D681","v":""},{"$f":"'Rozliczenie końcowe'!E681","v":""},{"$f":"'Rozliczenie końcowe'!F681","v":""},{"$f":"'Rozliczenie końcowe'!H681","v":""},{"$f":"'Rozliczenie końcowe'!I681","v":""},{"$f":"'Rozliczenie końcowe'!J681","v":""},{"$f":"'Rozliczenie końcowe'!K681","v":""},{"$f":"'Rozliczenie końcowe'!L681","v":""},{"$f":"'Rozliczenie końcowe'!M681","v":""}]
[null,null,{"$f":"'Rozliczenie końcowe'!A92","v":0},{"$f":"'Rozliczenie końcowe'!B92","v":0},{"$f":"'Rozliczenie końcowe'!E92","v":"00:00:00"},{"$f":"'Rozliczenie końcowe'!G92","v":0},{"$f":"'Rozliczenie końcowe'!I92","v":""},{"$f":"'Rozliczenie końcowe'!C682","v":""},{"$f":"'Rozliczenie końcowe'!D682","v":""},{"$f":"'Rozliczenie końcowe'!E682","v":""},{"$f":"'Rozliczenie końcowe'!F682","v":""},{"$f":"'Rozliczenie końcowe'!H682","v":""},{"$f":"'Rozliczenie końcowe'!I682","v":""},{"$f":"'Rozliczenie końcowe'!J682","v":""},{"$f":"'Rozliczenie końcowe'!K682","v":""},{"$f":"'Rozliczenie końcowe'!L682","v":""},{"$f":"'Rozliczenie końcowe'!M682","v":""}]
[null,null,{"$f":"'Rozliczenie końcowe'!A93","v":0},{"$f":"'Rozliczenie końcowe'!B93","v":0},{"$f":"'Rozliczenie końcowe'!E93","v":"00:00:00"},{"$f":"'Rozliczenie końcowe'!G93","v":0},{"$f":"'Rozliczenie końcowe'!I93","v":""},{"$f":"'Rozliczenie końcowe'!C683","v":""},{"$f":"'Rozliczenie końcowe'!D683","v":""},{"$f":"'Rozliczenie końcowe'!E683","v":""},{"$f":"'Rozliczenie końcowe'!F683","v":""},{"$f":"'Rozliczenie końcowe'!H683","v":""},{"$f":"'Rozliczenie końcowe'!I683","v":""},{"$f":"'Rozliczenie końcowe'!J683","v":""},{"$f":"'Rozliczenie końcowe'!K683","v":""},{"$f":"'Rozliczenie końcowe'!L683","v":""},{"$f":"'Rozliczenie końcowe'!M683","v":""}]
[null,null,{"$f":"'Rozliczenie końcowe'!A94","v":0},{"$f":"'Rozliczenie końcowe'!B94","v":0},{"$f":"'Rozliczenie końcowe'!E94","v":"00:00:00"},{"$f":"'Rozliczenie końcowe'!G94","v":0},{"$f":"'Rozliczenie końcowe'!I94","v":""},{"$f":"'Rozliczenie końcowe'!C684","v":""},{"$f":"'Rozliczenie końcowe'!D684","v":""},{"$f":"'Rozliczenie końcowe'!E684","v":""},{"$f":"'Rozliczenie końcowe'!F684","v":""},{"$f":"'Rozliczenie końcowe'!H684","v":""},{"$f":"'Rozliczenie końcowe'!I684","v":""},{"$f":"'Rozliczenie końcowe'!J684","v":""},{"$f":"'Rozliczenie końcowe'!K684","v":""},{"$f":"'Rozliczenie końcowe'!L684","v":""},{"$f":"'Rozliczenie końcowe'!M684","v":""}]
[null,null,{"$f":"'Rozliczenie końcowe'!A95","v":0},{"$f":"'Rozliczenie końcowe'!B95","v":0},{"$f":"'Rozliczenie końcowe'!E95","v":"00:00:00"},{"$f":"'Rozliczenie końcowe'!G95","v":0},{"$f":"'Rozliczenie końcowe'!I95","v":""},{"$f":"'Rozliczenie końcowe'!C685","v":""},{"$f":"'Rozliczenie końcowe'!D685","v":""},{"$f":"'Rozliczenie końcowe'!E685","v":""},{"$f":"'Rozliczenie końcowe'!F685","v":""},{"$f":"'Rozliczenie końcowe'!H685","v":""},{"$f":"'Rozliczenie końcowe'!I685","v":""},{"$f":"'Rozliczenie końcowe'!J685","v":""},{"$f":"'Rozliczenie końcowe'!K685","v":""},{"$f":"'Rozliczenie końcowe'!L685","v":""},{"$f":"'Rozliczenie końcowe'!M685","v":""}]
[null,null,{"$f":"'Rozliczenie końcowe'!A96","v":0},{"$f":"'Rozliczenie końcowe'!B96","v":0},{"$f":"'Rozliczenie końcowe'!E96","v":"00:00:00"},{"$f":"'Rozliczenie końcowe'!G96","v":0},{"$f":"'Rozliczenie końcowe'!I96","v":""},{"$f":"'Rozliczenie końcowe'!C686","v":""},{"$f":"'Rozliczenie końcowe'!D686","v":""},{"$f":"'Rozliczenie końcowe'!E686","v":""},{"$f":"'Rozliczenie końcowe'!F686","v":""},{"$f":"'Rozliczenie końcowe'!H686","v":""},{"$f":"'Rozliczenie końcowe'!I686","v":""},{"$f":"'Rozliczenie końcowe'!J686","v":""},{"$f":"'Rozliczenie końcowe'!K686","v":""},{"$f":"'Rozliczenie końcowe'!L686","v":""},{"$f":"'Rozliczenie końcowe'!M686","v":""}]
[null,null,{"$f":"'Rozliczenie końcowe'!A97","v":0},{"$f":"'Rozliczenie końcowe'!B97","v":0},{"$f":"'Rozliczenie końcowe'!E97","v":"00:00:00"},{"$f":"'Rozliczenie końcowe'!G97","v":0},{"$f":"'Rozliczenie końcowe'!I97","v":""},{"$f":"'Rozliczenie końcowe'!C687","v":""},{"$f":"'Rozliczenie końcowe'!D687","v":""},{"$f":"'Rozliczenie końcowe'!E687","v":""},{"$f":"'Rozliczenie końcowe'!F687","v":""},{"$f":"'Rozliczenie końcowe'!H687","v":""},{"$f":"'Rozliczenie końcowe'!I687","v":""},{"$f":"'Rozliczenie końcowe'!J687","v":""},{"$f":"'Rozliczenie końcowe'!K687","v":""},{"$f":"'Rozliczenie końcowe'!L687","v":""},{"$f":"'Rozliczenie końcowe'!M687","v":""}]
[null,null,{"$f":"'Rozliczenie końcowe'!A98","v":0},{"$f":"'Rozliczenie końcowe'!B98","v":0},{"$f":"'Rozliczenie końcowe'!E98","v":"00:00:00"},{"$f":"'Rozliczenie końcowe'!G98","v":0},{"$f":"'Rozliczenie końcowe'!I98","v":""},{"$f":"'Rozliczenie końcowe'!C688","v":""},{"$f":"'Rozliczenie końcowe'!D688","v":""},{"$f":"'Rozliczenie końcowe'!E688","v":""},{"$f":"'Rozliczenie końcowe'!F688","v":""},{"$f":"'Rozliczenie końcowe'!H688","v":""},{"$f":"'Rozliczenie końcowe'!I688","v":""},{"$f":"'Rozliczenie końcowe'!J688","v":""},{"$f":"'Rozliczenie końcowe'!K688","v":""},{"$f":"'Rozliczenie końcowe'!L688","v":""},{"$f":"'Rozliczenie końcowe'!M688","v":""}]
[null,null,{"$f":"'Rozliczenie końcowe'!A99","v":0},{"$f":"'Rozliczenie końcowe'!B99","v":0},{"$f":"'Rozliczenie końcowe'!E99","v":"00:00:00"},{"$f":"'Rozliczenie końcowe'!G99","v":0},{"$f":"'Rozliczenie końcowe'!I99","v":""},{"$f":"'Rozliczenie końcowe'!C689","v":""},{"$f":"'Rozliczenie końcowe'!D689","v":""},{"$f":"'Rozliczenie końcowe'!E689","v":""},{"$f":"'Rozliczenie końcowe'!F689","v":""},{"$f":"'Rozliczenie końcowe'!H689","v":""},{"$f":"'Rozliczenie końcowe'!I689","v":""},{"$f":"'Rozliczenie końcowe'!J689","v":""},{"$f":"'Rozliczenie końcowe'!K689","v":""},{"$f":"'Rozliczenie końcowe'!L689","v":""},{"$f":"'Rozliczenie końcowe'!M689","v":""}]
[null,null,{"$f":"'Rozliczenie końcowe'!A100","v":0},{"$f":"'Rozliczenie końcowe'!B100","v":0},{"$f":"'Rozliczenie końcowe'!E100","v":"00:00:00"},{"$f":"'Rozliczenie końcowe'!G100","v":0},{"$f":"'Rozliczenie końcowe'!I100","v":""},{"$f":"'Rozliczenie końcowe'!C690","v":""},{"$f":"'Rozliczenie końcowe'!D690","v":""},{"$f":"'Rozliczenie końcowe'!E690","v":""},{"$f":"'Rozliczenie końcowe'!F690","v":""},{"$f":"'Rozliczenie końcowe'!H690","v":""},{"$f":"'Rozliczenie końcowe'!I690","v":""},{"$f":"'Rozliczenie końcowe'!J690","v":""},{"$f":"'Rozliczenie końcowe'!K690","v":""},{"$f":"'Rozliczenie końcowe'!L690","v":""},{"$f":"'Rozliczenie końcowe'!M690","v":""}]
[null,null,{"$f":"'Rozliczenie końcowe'!A101","v":0},{"$f":"'Rozliczenie końcowe'!B101","v":0},{"$f":"'Rozliczenie końcowe'!E101","v":"00:00:00"},{"$f":"'Rozliczenie końcowe'!G101","v":0},{"$f":"'Rozliczenie końcowe'!I101","v":""},{"$f":"'Rozliczenie końcowe'!C691","v":""},{"$f":"'Rozliczenie końcowe'!D691","v":""},{"$f":"'Rozliczenie końcowe'!E691","v":""},{"$f":"'Rozliczenie końcowe'!F691","v":""},{"$f":"'Rozliczenie końcowe'!H691","v":""},{"$f":"'Rozliczenie końcowe'!I691","v":""},{"$f":"'Rozliczenie końcowe'!J691","v":""},{"$f":"'Rozliczenie końcowe'!K691","v":""},{"$f":"'Rozliczenie końcowe'!L691","v":""},{"$f":"'Rozliczenie końcowe'!M691","v":""}]
[null,null,{"$f":"'Rozliczenie końcowe'!A102","v":0},{"$f":"'Rozliczenie końcowe'!B102","v":0},{"$f":"'Rozliczenie końcowe'!E102","v":"00:00:00"},{"$f":"'Rozliczenie końcowe'!G102","v":0},{"$f":"'Rozliczenie końcowe'!I102","v":""},{"$f":"'Rozliczenie końcowe'!C692","v":""},{"$f":"'Rozliczenie końcowe'!D692","v":""},{"$f":"'Rozliczenie końcowe'!E692","v":""},{"$f":"'Rozliczenie końcowe'!F692","v":""},{"$f":"'Rozliczenie końcowe'!H692","v":""},{"$f":"'Rozliczenie końcowe'!I692","v":""},{"$f":"'Rozliczenie końcowe'!J692","v":""},{"$f":"'Rozliczenie końcowe'!K692","v":""},{"$f":"'Rozliczenie końcowe'!L692","v":""},{"$f":"'Rozliczenie końcowe'!M692","v":""}]
[null,null,{"$f":"'Rozliczenie końcowe'!A103","v":0},{"$f":"'Rozliczenie końcowe'!B103","v":0},{"$f":"'Rozliczenie końcowe'!E103","v":"00:00:00"},{"$f":"'Rozliczenie końcowe'!G103","v":0},{"$f":"'Rozliczenie końcowe'!I103","v":""},{"$f":"'Rozliczenie końcowe'!C693","v":""},{"$f":"'Rozliczenie końcowe'!D693","v":""},{"$f":"'Rozliczenie końcowe'!E693","v":""},{"$f":"'Rozliczenie końcowe'!F693","v":""},{"$f":"'Rozliczenie końcowe'!H693","v":""},{"$f":"'Rozliczenie końcowe'!I693","v":""},{"$f":"'Rozliczenie końcowe'!J693","v":""},{"$f":"'Rozliczenie końcowe'!K693","v":""},{"$f":"'Rozliczenie końcowe'!L693","v":""},{"$f":"'Rozliczenie końcowe'!M693","v":""}]
[null,null,{"$f":"'Rozliczenie końcowe'!A104","v":0},{"$f":"'Rozliczenie końcowe'!B104","v":0},{"$f":"'Rozliczenie końcowe'!E104","v":"00:00:00"},{"$f":"'Rozliczenie końcowe'!G104","v":0},{"$f":"'Rozliczenie końcowe'!I104","v":""},{"$f":"'Rozliczenie końcowe'!C694","v":""},{"$f":"'Rozliczenie końcowe'!D694","v":""},{"$f":"'Rozliczenie końcowe'!E694","v":""},{"$f":"'Rozliczenie końcowe'!F694","v":""},{"$f":"'Rozliczenie końcowe'!H694","v":""},{"$f":"'Rozliczenie końcowe'!I694","v":""},{"$f":"'Rozliczenie końcowe'!J694","v":""},{"$f":"'Rozliczenie końcowe'!K694","v":""},{"$f":"'Rozliczenie końcowe'!L694","v":""},{"$f":"'Rozliczenie końcowe'!M694","v":""}]
[null,null,{"$f":"'Rozliczenie końcowe'!A105","v":0},{"$f":"'Rozliczenie końcowe'!B105","v":0},{"$f":"'Rozliczenie końcowe'!E105","v":"00:00:00"},{"$f":"'Rozliczenie końcowe'!G105","v":0},{"$f":"'Rozliczenie końcowe'!I105","v":""},{"$f":"'Rozliczenie końcowe'!C695","v":""},{"$f":"'Rozliczenie końcowe'!D695","v":""},{"$f":"'Rozliczenie końcowe'!E695","v":""},{"$f":"'Rozliczenie końcowe'!F695","v":""},{"$f":"'Rozliczenie końcowe'!H695","v":""},{"$f":"'Rozliczenie końcowe'!I695","v":""},{"$f":"'Rozliczenie końcowe'!J695","v":""},{"$f":"'Rozliczenie końcowe'!K695","v":""},{"$f":"'Rozliczenie końcowe'!L695","v":""},{"$f":"'Rozliczenie końcowe'!M695","v":""}]
[null,null,{"$f":"'Rozliczenie końcowe'!A106","v":0},{"$f":"'Rozliczenie końcowe'!B106","v":0},{"$f":"'Rozliczenie końcowe'!E106","v":"00:00:00"},{"$f":"'Rozliczenie końcowe'!G106","v":0},{"$f":"'Rozliczenie końcowe'!I106","v":""},{"$f":"'Rozliczenie końcowe'!C696","v":""},{"$f":"'Rozliczenie końcowe'!D696","v":""},{"$f":"'Rozliczenie końcowe'!E696","v":""},{"$f":"'Rozliczenie końcowe'!F696","v":""},{"$f":"'Rozliczenie końcowe'!H696","v":""},{"$f":"'Rozliczenie końcowe'!I696","v":""},{"$f":"'Rozliczenie końcowe'!J696","v":""},{"$f":"'Rozliczenie końcowe'!K696","v":""},{"$f":"'Rozliczenie końcowe'!L696","v":""},{"$f":"'Rozliczenie końcowe'!M696","v":""}]
[null,null,{"$f":"'Rozliczenie końcowe'!A107","v":0},{"$f":"'Rozliczenie końcowe'!B107","v":0},{"$f":"'Rozliczenie końcowe'!E107","v":"00:00:00"},{"$f":"'Rozliczenie końcowe'!G107","v":0},{"$f":"'Rozliczenie końcowe'!I107","v":""},{"$f":"'Rozliczenie końcowe'!C697","v":""},{"$f":"'Rozliczenie końcowe'!D697","v":""},{"$f":"'Rozliczenie końcowe'!E697","v":""},{"$f":"'Rozliczenie końcowe'!F697","v":""},{"$f":"'Rozliczenie końcowe'!H697","v":""},{"$f":"'Rozliczenie końcowe'!I697","v":""},{"$f":"'Rozliczenie końcowe'!J697","v":""},{"$f":"'Rozliczenie końcowe'!K697","v":""},{"$f":"'Rozliczenie końcowe'!L697","v":""},{"$f":"'Rozliczenie końcowe'!M697","v":""}]
[null,null,{"$f":"'Rozliczenie końcowe'!A108","v":0},{"$f":"'Rozliczenie końcowe'!B108","v":0},{"$f":"'Rozliczenie końcowe'!E108","v":"00:00:00"},{"$f":"'Rozliczenie końcowe'!G108","v":0},{"$f":"'Rozliczenie końcowe'!I108","v":""},{"$f":"'Rozliczenie końcowe'!C698","v":""},{"$f":"'Rozliczenie końcowe'!D698","v":""},{"$f":"'Rozliczenie końcowe'!E698","v":""},{"$f":"'Rozliczenie końcowe'!F698","v":""},{"$f":"'Rozliczenie końcowe'!H698","v":""},{"$f":"'Rozliczenie końcowe'!I698","v":""},{"$f":"'Rozliczenie końcowe'!J698","v":""},{"$f":"'Rozliczenie końcowe'!K698","v":""},{"$f":"'Rozliczenie końcowe'!L698","v":""},{"$f":"'Rozliczenie końcowe'!M698","v":""}]
[null,null,{"$f":"'Rozliczenie końcowe'!A109","v":0},{"$f":"'Rozliczenie końcowe'!B109","v":0},{"$f":"'Rozliczenie końcowe'!E109","v":"00:00:00"},{"$f":"'Rozliczenie końcowe'!G109","v":0},{"$f":"'Rozliczenie końcowe'!I109","v":""},{"$f":"'Rozliczenie końcowe'!C699","v":""},{"$f":"'Rozliczenie końcowe'!D699","v":""},{"$f":"'Rozliczenie końcowe'!E699","v":""},{"$f":"'Rozliczenie końcowe'!F699","v":""},{"$f":"'Rozliczenie końcowe'!H699","v":""},{"$f":"'Rozliczenie końcowe'!I699","v":""},{"$f":"'Rozliczenie końcowe'!J699","v":""},{"$f":"'Rozliczenie końcowe'!K699","v":""},{"$f":"'Rozliczenie końcowe'!L699","v":""},{"$f":"'Rozliczenie końcowe'!M699","v":""}]
[null,null,{"$f":"'Rozliczenie końcowe'!A110","v":0},{"$f":"'Rozliczenie końcowe'!B110","v":0},{"$f":"'Rozliczenie końcowe'!E110","v":"00:00:00"},{"$f":"'Rozliczenie końcowe'!G110","v":0},{"$f":"'Rozliczenie końcowe'!I110","v":""},{"$f":"'Rozliczenie końcowe'!C700","v":""},{"$f":"'Rozliczenie końcowe'!D700","v":""},{"$f":"'Rozliczenie końcowe'!E700","v":""},{"$f":"'Rozliczenie końcowe'!F700","v":""},{"$f":"'Rozliczenie końcowe'!H700","v":""},{"$f":"'Rozliczenie końcowe'!I700","v":""},{"$f":"'Rozliczenie końcowe'!J700","v":""},{"$f":"'Rozliczenie końcowe'!K700","v":""},{"$f":"'Rozliczenie końcowe'!L700","v":""},{"$f":"'Rozliczenie końcowe'!M700","v":""}]
[null,null,{"$f":"'Rozliczenie końcowe'!A111","v":0},{"$f":"'Rozliczenie końcowe'!B111","v":0},{"$f":"'Rozliczenie końcowe'!E111","v":"00:00:00"},{"$f":"'Rozliczenie końcowe'!G111","v":0},{"$f":"'Rozliczenie końcowe'!I111","v":""},{"$f":"'Rozliczenie końcowe'!C701","v":""},{"$f":"'Rozliczenie końcowe'!D701","v":""},{"$f":"'Rozliczenie końcowe'!E701","v":""},{"$f":"'Rozliczenie końcowe'!F701","v":""},{"$f":"'Rozliczenie końcowe'!H701","v":""},{"$f":"'Rozliczenie końcowe'!I701","v":""},{"$f":"'Rozliczenie końcowe'!J701","v":""},{"$f":"'Rozliczenie końcowe'!K701","v":""},{"$f":"'Rozliczenie końcowe'!L701","v":""},{"$f":"'Rozliczenie końcowe'!M701","v":""}]
[null,null,{"$f":"'Rozliczenie końcowe'!A112","v":0},{"$f":"'Rozliczenie końcowe'!B112","v":0},{"$f":"'Rozliczenie końcowe'!E112","v":"00:00:00"},{"$f":"'Rozliczenie końcowe'!G112","v":0},{"$f":"'Rozliczenie końcowe'!I112","v":""},{"$f":"'Rozliczenie końcowe'!C702","v":""},{"$f":"'Rozliczenie końcowe'!D702","v":""},{"$f":"'Rozliczenie końcowe'!E702","v":""},{"$f":"'Rozliczenie końcowe'!F702","v":""},{"$f":"'Rozliczenie końcowe'!H702","v":""},{"$f":"'Rozliczenie końcowe'!I702","v":""},{"$f":"'Rozliczenie końcowe'!J702","v":""},{"$f":"'Rozliczenie końcowe'!K702","v":""},{"$f":"'Rozliczenie końcowe'!L702","v":""},{"$f":"'Rozliczenie końcowe'!M702","v":""}]
[null,null,{"$f":"'Rozliczenie końcowe'!A113","v":0},{"$f":"'Rozliczenie końcowe'!B113","v":0},{"$f":"'Rozliczenie końcowe'!E113","v":"00:00:00"},{"$f":"'Rozliczenie końcowe'!G113","v":0},{"$f":"'Rozliczenie końcowe'!I113","v":""},{"$f":"'Rozliczenie końcowe'!C703","v":""},{"$f":"'Rozliczenie końcowe'!D703","v":""},{"$f":"'Rozliczenie końcowe'!E703","v":""},{"$f":"'Rozliczenie końcowe'!F703","v":""},{"$f":"'Rozliczenie końcowe'!H703","v":""},{"$f":"'Rozliczenie końcowe'!I703","v":""},{"$f":"'Rozliczenie końcowe'!J703","v":""},{"$f":"'Rozliczenie końcowe'!K703","v":""},{"$f":"'Rozliczenie końcowe'!L703","v":""},{"$f":"'Rozliczenie końcowe'!M703","v":""}]
[null,null,{"$f":"'Rozliczenie końcowe'!A114","v":0},{"$f":"'Rozliczenie końcowe'!B114","v":0},{"$f":"'Rozliczenie końcowe'!E114","v":"00:00:00"},{"$f":"'Rozliczenie końcowe'!G114","v":0},{"$f":"'Rozliczenie końcowe'!I114","v":""},{"$f":"'Rozliczenie końcowe'!C704","v":""},{"$f":"'Rozliczenie końcowe'!D704","v":""},{"$f":"'Rozliczenie końcowe'!E704","v":""},{"$f":"'Rozliczenie końcowe'!F704","v":""},{"$f":"'Rozliczenie końcowe'!H704","v":""},{"$f":"'Rozliczenie końcowe'!I704","v":""},{"$f":"'Rozliczenie końcowe'!J704","v":""},{"$f":"'Rozliczenie końcowe'!K704","v":""},{"$f":"'Rozliczenie końcowe'!L704","v":""},{"$f":"'Rozliczenie końcowe'!M704","v":""}]
[null,null,{"$f":"'Rozliczenie końcowe'!A115","v":0},{"$f":"'Rozliczenie końcowe'!B115","v":0},{"$f":"'Rozliczenie końcowe'!E115","v":"00:00:00"},{"$f":"'Rozliczenie końcowe'!G115","v":0},{"$f":"'Rozliczenie końcowe'!I115","v":""},{"$f":"'Rozliczenie końcowe'!C705","v":""},{"$f":"'Rozliczenie końcowe'!D705","v":""},{"$f":"'Rozliczenie końcowe'!E705","v":""},{"$f":"'Rozliczenie końcowe'!F705","v":""},{"$f":"'Rozliczenie końcowe'!H705","v":""},{"$f":"'Rozliczenie końcowe'!I705","v":""},{"$f":"'Rozliczenie końcowe'!J705","v":""},{"$f":"'Rozliczenie końcowe'!K705","v":""},{"$f":"'Rozliczenie końcowe'!L705","v":""},{"$f":"'Rozliczenie końcowe'!M705","v":""}]
[null,null,{"$f":"'Rozliczenie końcowe'!A116","v":0},{"$f":"'Rozliczenie końcowe'!B116","v":0},{"$f":"'Rozliczenie końcowe'!E116","v":"00:00:00"},{"$f":"'Rozliczenie końcowe'!G116","v":0},{"$f":"'Rozliczenie końcowe'!I116","v":""},{"$f":"'Rozliczenie końcowe'!C706","v":""},{"$f":"'Rozliczenie końcowe'!D706","v":""},{"$f":"'Rozliczenie końcowe'!E706","v":""},{"$f":"'Rozliczenie końcowe'!F706","v":""},{"$f":"'Rozliczenie końcowe'!H706","v":""},{"$f":"'Rozliczenie końcowe'!I706","v":""},{"$f":"'Rozliczenie końcowe'!J706","v":""},{"$f":"'Rozliczenie końcowe'!K706","v":""},{"$f":"'Rozliczenie końcowe'!L706","v":""},{"$f":"'Rozliczenie końcowe'!M706","v":""}]
[null,null,{"$f":"'Rozliczenie końcowe'!A117","v":0},{"$f":"'Rozliczenie końcowe'!B117","v":0},{"$f":"'Rozliczenie końcowe'!E117","v":"00:00:00"},{"$f":"'Rozliczenie końcowe'!G117","v":0},{"$f":"'Rozliczenie końcowe'!I117","v":""},{"$f":"'Rozliczenie końcowe'!C707","v":""},{"$f":"'Rozliczenie końcowe'!D707","v":""},{"$f":"'Rozliczenie końcowe'!E707","v":""},{"$f":"'Rozliczenie końcowe'!F707","v":""},{"$f":"'Rozliczenie końcowe'!H707","v":""},{"$f":"'Rozliczenie końcowe'!I707","v":""},{"$f":"'Rozliczenie końcowe'!J707","v":""},{"$f":"'Rozliczenie końcowe'!K707","v":""},{"$f":"'Rozliczenie końcowe'!L707","v":""},{"$f":"'Rozliczenie końcowe'!M707","v":""}]
[null,null,{"$f":"'Rozliczenie końcowe'!A118","v":0},{"$f":"'Rozliczenie końcowe'!B118","v":0},{"$f":"'Rozliczenie końcowe'!E118","v":"00:00:00"},{"$f":"'Rozliczenie końcowe'!G118","v":0},{"$f":"'Rozliczenie końcowe'!I118","v":""},{"$f":"'Rozliczenie końcowe'!C708","v":""},{"$f":"'Rozliczenie końcowe'!D708","v":""},{"$f":"'Rozliczenie końcowe'!E708","v":""},{"$f":"'Rozliczenie końcowe'!F708","v":""},{"$f":"'Rozliczenie końcowe'!H708","v":""},{"$f":"'Rozliczenie końcowe'!I708","v":""},{"$f":"'Rozliczenie końcowe'!J708","v":""},{"$f":"'Rozliczenie końcowe'!K708","v":""},{"$f":"'Rozliczenie końcowe'!L708","v":""},{"$f":"'Rozliczenie końcowe'!M708","v":""}]
[null,null,{"$f":"'Rozliczenie końcowe'!A119","v":0},{"$f":"'Rozliczenie końcowe'!B119","v":0},{"$f":"'Rozliczenie końcowe'!E119","v":"00:00:00"},{"$f":"'Rozliczenie końcowe'!G119","v":0},{"$f":"'Rozliczenie końcowe'!I119","v":""},{"$f":"'Rozliczenie końcowe'!C709","v":""},{"$f":"'Rozliczenie końcowe'!D709","v":""},{"$f":"'Rozliczenie końcowe'!E709","v":""},{"$f":"'Rozliczenie końcowe'!F709","v":""},{"$f":"'Rozliczenie końcowe'!H709","v":""},{"$f":"'Rozliczenie końcowe'!I709","v":""},{"$f":"'Rozliczenie końcowe'!J709","v":""},{"$f":"'Rozliczenie końcowe'!K709","v":""},{"$f":"'Rozliczenie końcowe'!L709","v":""},{"$f":"'Rozliczenie końcowe'!M709","v":""}]
[null,null,{"$f":"'Rozliczenie końcowe'!A120","v":0},{"$f":"'Rozliczenie końcowe'!B120","v":0},{"$f":"'Rozliczenie końcowe'!E120","v":"00:00:00"},{"$f":"'Rozliczenie końcowe'!G120","v":0},{"$f":"'Rozliczenie końcowe'!I120","v":""},{"$f":"'Rozliczenie końcowe'!C710","v":""},{"$f":"'Rozliczenie końcowe'!D710","v":""},{"$f":"'Rozliczenie końcowe'!E710","v":""},{"$f":"'Rozliczenie końcowe'!F710","v":""},{"$f":"'Rozliczenie końcowe'!H710","v":""},{"$f":"'Rozliczenie końcowe'!I710","v":""},{"$f":"'Rozliczenie końcowe'!J710","v":""},{"$f":"'Rozliczenie końcowe'!K710","v":""},{"$f":"'Rozliczenie końcowe'!L710","v":""},{"$f":"'Rozliczenie końcowe'!M710","v":""}]
[null,null,{"$f":"'Rozliczenie końcowe'!A121","v":0},{"$f":"'Rozliczenie końcowe'!B121","v":0},{"$f":"'Rozliczenie końcowe'!E121","v":"00:00:00"},{"$f":"'Rozliczenie końcowe'!G121","v":0},{"$f":"'Rozliczenie końcowe'!I121","v":""},{"$f":"'Rozliczenie końcowe'!C711","v":""},{"$f":"'Rozliczenie końcowe'!D711","v":""},{"$f":"'Rozliczenie końcowe'!E711","v":""},{"$f":"'Rozliczenie końcowe'!F711","v":""},{"$f":"'Rozliczenie końcowe'!H711","v":""},{"$f":"'Rozliczenie końcowe'!I711","v":""},{"$f":"'Rozliczenie końcowe'!J711","v":""},{"$f":"'Rozliczenie końcowe'!K711","v":""},{"$f":"'Rozliczenie końcowe'!L711","v":""},{"$f":"'Rozliczenie końcowe'!M711","v":""}]
[null,null,{"$f":"'Rozliczenie końcowe'!A122","v":0},{"$f":"'Rozliczenie końcowe'!B122","v":0},{"$f":"'Rozliczenie końcowe'!E122","v":"00:00:00"},{"$f":"'Rozliczenie końcowe'!G122","v":0},{"$f":"'Rozliczenie końcowe'!I122","v":""},{"$f":"'Rozliczenie końcowe'!C712","v":""},{"$f":"'Rozliczenie końcowe'!D712","v":""},{"$f":"'Rozliczenie końcowe'!E712","v":""},{"$f":"'Rozliczenie końcowe'!F712","v":""},{"$f":"'Rozliczenie końcowe'!H712","v":""},{"$f":"'Rozliczenie końcowe'!I712","v":""},{"$f":"'Rozliczenie końcowe'!J712","v":""},{"$f":"'Rozliczenie końcowe'!K712","v":""},{"$f":"'Rozliczenie końcowe'!L712","v":""},{"$f":"'Rozliczenie końcowe'!M712","v":""}]
[null,null,{"$f":"'Rozliczenie końcowe'!A123","v":0},{"$f":"'Rozliczenie końcowe'!B123","v":0},{"$f":"'Rozliczenie końcowe'!E123","v":"00:00:00"},{"$f":"'Rozliczenie końcowe'!G123","v":0},{"$f":"'Rozliczenie końcowe'!I123","v":""},{"$f":"'Rozliczenie końcowe'!C713","v":""},{"$f":"'Rozliczenie końcowe'!D713","v":""},{"$f":"'Rozliczenie końcowe'!E713","v":""},{"$f":"'Rozliczenie końcowe'!F713","v":""},{"$f":"'Rozliczenie końcowe'!H713","v":""},{"$f":"'Rozliczenie końcowe'!I713","v":""},{"$f":"'Rozliczenie końcowe'!J713","v":""},{"$f":"'Rozliczenie końcowe'!K713","v":""},{"$f":"'Rozliczenie końcowe'!L713","v":""},{"$f":"'Rozliczenie końcowe'!M713","v":""}]
[null,null,{"$f":"'Rozliczenie końcowe'!A124","v":0},{"$f":"'Rozliczenie końcowe'!B124","v":0},{"$f":"'Rozliczenie końcowe'!E124","v":"00:00:00"},{"$f":"'Rozliczenie końcowe'!G124","v":0},{"$f":"'Rozliczenie końcowe'!I124","v":""},{"$f":"'Rozliczenie końcowe'!C714","v":""},{"$f":"'Rozliczenie końcowe'!D714","v":""},{"$f":"'Rozliczenie końcowe'!E714","v":""},{"$f":"'Rozliczenie końcowe'!F714","v":""},{"$f":"'Rozliczenie końcowe'!H714","v":""},{"$f":"'Rozliczenie końcowe'!I714","v":""},{"$f":"'Rozliczenie końcowe'!J714","v":""},{"$f":"'Rozliczenie końcowe'!K714","v":""},{"$f":"'Rozliczenie końcowe'!L714","v":""},{"$f":"'Rozliczenie końcowe'!M714","v":""}]
[null,null,{"$f":"'Rozliczenie końcowe'!A125","v":0},{"$f":"'Rozliczenie końcowe'!B125","v":0},{"$f":"'Rozliczenie końcowe'!E125","v":"00:00:00"},{"$f":"'Rozliczenie końcowe'!G125","v":0},{"$f":"'Rozliczenie końcowe'!I125","v":""},{"$f":"'Rozliczenie końcowe'!C715","v":""},{"$f":"'Rozliczenie końcowe'!D715","v":""},{"$f":"'Rozliczenie końcowe'!E715","v":""},{"$f":"'Rozliczenie końcowe'!F715","v":""},{"$f":"'Rozliczenie końcowe'!H715","v":""},{"$f":"'Rozliczenie końcowe'!I715","v":""},{"$f":"'Rozliczenie końcowe'!J715","v":""},{"$f":"'Rozliczenie końcowe'!K715","v":""},{"$f":"'Rozliczenie końcowe'!L715","v":""},{"$f":"'Rozliczenie końcowe'!M715","v":""}]
[null,null,{"$f":"'Rozliczenie końcowe'!A126","v":0},{"$f":"'Rozliczenie końcowe'!B126","v":0},{"$f":"'Rozliczenie końcowe'!E126","v":"00:00:00"},{"$f":"'Rozliczenie końcowe'!G126","v":0},{"$f":"'Rozliczenie końcowe'!I126","v":""},{"$f":"'Rozliczenie końcowe'!C716","v":""},{"$f":"'Rozliczenie końcowe'!D716","v":""},{"$f":"'Rozliczenie końcowe'!E716","v":""},{"$f":"'Rozliczenie końcowe'!F716","v":""},{"$f":"'Rozliczenie końcowe'!H716","v":""},{"$f":"'Rozliczenie końcowe'!I716","v":""},{"$f":"'Rozliczenie końcowe'!J716","v":""},{"$f":"'Rozliczenie końcowe'!K716","v":""},{"$f":"'Rozliczenie końcowe'!L716","v":""},{"$f":"'Rozliczenie końcowe'!M716","v":""}]
[null,null,{"$f":"'Rozliczenie końcowe'!A127","v":0},{"$f":"'Rozliczenie końcowe'!B127","v":0},{"$f":"'Rozliczenie końcowe'!E127","v":"00:00:00"},{"$f":"'Rozliczenie końcowe'!G127","v":0},{"$f":"'Rozliczenie końcowe'!I127","v":""},{"$f":"'Rozliczenie końcowe'!C717","v":""},{"$f":"'Rozliczenie końcowe'!D717","v":""},{"$f":"'Rozliczenie końcowe'!E717","v":""},{"$f":"'Rozliczenie końcowe'!F717","v":""},{"$f":"'Rozliczenie końcowe'!H717","v":""},{"$f":"'Rozliczenie końcowe'!I717","v":""},{"$f":"'Rozliczenie końcowe'!J717","v":""},{"$f":"'Rozliczenie końcowe'!K717","v":""},{"$f":"'Rozliczenie końcowe'!L717","v":""},{"$f":"'Rozliczenie końcowe'!M717","v":""}]
[null,null,{"$f":"'Rozliczenie końcowe'!A128","v":0},{"$f":"'Rozliczenie końcowe'!B128","v":0},{"$f":"'Rozliczenie końcowe'!E128","v":"00:00:00"},{"$f":"'Rozliczenie końcowe'!G128","v":0},{"$f":"'Rozliczenie końcowe'!I128","v":""},{"$f":"'Rozliczenie końcowe'!C718","v":""},{"$f":"'Rozliczenie końcowe'!D718","v":""},{"$f":"'Rozliczenie końcowe'!E718","v":""},{"$f":"'Rozliczenie końcowe'!F718","v":""},{"$f":"'Rozliczenie końcowe'!H718","v":""},{"$f":"'Rozliczenie końcowe'!I718","v":""},{"$f":"'Rozliczenie końcowe'!J718","v":""},{"$f":"'Rozliczenie końcowe'!K718","v":""},{"$f":"'Rozliczenie końcowe'!L718","v":""},{"$f":"'Rozliczenie końcowe'!M718","v":""}]
[null,null,{"$f":"'Rozliczenie końcowe'!A129","v":0},{"$f":"'Rozliczenie końcowe'!B129","v":0},{"$f":"'Rozliczenie końcowe'!E129","v":"00:00:00"},{"$f":"'Rozliczenie końcowe'!G129","v":0},{"$f":"'Rozliczenie końcowe'!I129","v":""},{"$f":"'Rozliczenie końcowe'!C719","v":""},{"$f":"'Rozliczenie końcowe'!D719","v":""},{"$f":"'Rozliczenie końcowe'!E719","v":""},{"$f":"'Rozliczenie końcowe'!F719","v":""},{"$f":"'Rozliczenie końcowe'!H719","v":""},{"$f":"'Rozliczenie końcowe'!I719","v":""},{"$f":"'Rozliczenie końcowe'!J719","v":""},{"$f":"'Rozliczenie końcowe'!K719","v":""},{"$f":"'Rozliczenie końcowe'!L719","v":""},{"$f":"'Rozliczenie końcowe'!M719","v":""}]
[null,null,{"$f":"'Rozliczenie końcowe'!A130","v":0},{"$f":"'Rozliczenie końcowe'!B130","v":0},{"$f":"'Rozliczenie końcowe'!E130","v":"00:00:00"},{"$f":"'Rozliczenie końcowe'!G130","v":0},{"$f":"'Rozliczenie końcowe'!I130","v":""},{"$f":"'Rozliczenie końcowe'!C720","v":""},{"$f":"'Rozliczenie końcowe'!D720","v":""},{"$f":"'Rozliczenie końcowe'!E720","v":""},{"$f":"'Rozliczenie końcowe'!F720","v":""},{"$f":"'Rozliczenie końcowe'!H720","v":""},{"$f":"'Rozliczenie końcowe'!I720","v":""},{"$f":"'Rozliczenie końcowe'!J720","v":""},{"$f":"'Rozliczenie końcowe'!K720","v":""},{"$f":"'Rozliczenie końcowe'!L720","v":""},{"$f":"'Rozliczenie końcowe'!M720","v":""}]
[null,null,{"$f":"'Rozliczenie końcowe'!A131","v":0},{"$f":"'Rozliczenie końcowe'!B131","v":0},{"$f":"'Rozliczenie końcowe'!E131","v":"00:00:00"},{"$f":"'Rozliczenie końcowe'!G131","v":0},{"$f":"'Rozliczenie końcowe'!I131","v":""},{"$f":"'Rozliczenie końcowe'!C721","v":""},{"$f":"'Rozliczenie końcowe'!D721","v":""},{"$f":"'Rozliczenie końcowe'!E721","v":""},{"$f":"'Rozliczenie końcowe'!F721","v":""},{"$f":"'Rozliczenie końcowe'!H721","v":""},{"$f":"'Rozliczenie końcowe'!I721","v":""},{"$f":"'Rozliczenie końcowe'!J721","v":""},{"$f":"'Rozliczenie końcowe'!K721","v":""},{"$f":"'Rozliczenie końcowe'!L721","v":""},{"$f":"'Rozliczenie końcowe'!M721","v":""}]
[null,null,{"$f":"'Rozliczenie końcowe'!A132","v":0},{"$f":"'Rozliczenie końcowe'!B132","v":0},{"$f":"'Rozliczenie końcowe'!E132","v":"00:00:00"},{"$f":"'Rozliczenie końcowe'!G132","v":0},{"$f":"'Rozliczenie końcowe'!I132","v":""},{"$f":"'Rozliczenie końcowe'!C722","v":""},{"$f":"'Rozliczenie końcowe'!D722","v":""},{"$f":"'Rozliczenie końcowe'!E722","v":""},{"$f":"'Rozliczenie końcowe'!F722","v":""},{"$f":"'Rozliczenie końcowe'!H722","v":""},{"$f":"'Rozliczenie końcowe'!I722","v":""},{"$f":"'Rozliczenie końcowe'!J722","v":""},{"$f":"'Rozliczenie końcowe'!K722","v":""},{"$f":"'Rozliczenie końcowe'!L722","v":""},{"$f":"'Rozliczenie końcowe'!M722","v":""}]
[null,null,{"$f":"'Rozliczenie końcowe'!A133","v":0},{"$f":"'Rozliczenie końcowe'!B133","v":0},{"$f":"'Rozliczenie końcowe'!E133","v":"00:00:00"},{"$f":"'Rozliczenie końcowe'!G133","v":0},{"$f":"'Rozliczenie końcowe'!I133","v":""},{"$f":"'Rozliczenie końcowe'!C723","v":""},{"$f":"'Rozliczenie końcowe'!D723","v":""},{"$f":"'Rozliczenie końcowe'!E723","v":""},{"$f":"'Rozliczenie końcowe'!F723","v":""},{"$f":"'Rozliczenie końcowe'!H723","v":""},{"$f":"'Rozliczenie końcowe'!I723","v":""},{"$f":"'Rozliczenie końcowe'!J723","v":""},{"$f":"'Rozliczenie końcowe'!K723","v":""},{"$f":"'Rozliczenie końcowe'!L723","v":""},{"$f":"'Rozliczenie końcowe'!M723","v":""}]
[null,null,{"$f":"'Rozliczenie końcowe'!A134","v":0},{"$f":"'Rozliczenie końcowe'!B134","v":0},{"$f":"'Rozliczenie końcowe'!E134","v":"00:00:00"},{"$f":"'Rozliczenie końcowe'!G134","v":0},{"$f":"'Rozliczenie końcowe'!I134","v":""},{"$f":"'Rozliczenie końcowe'!C724","v":""},{"$f":"'Rozliczenie końcowe'!D724","v":""},{"$f":"'Rozliczenie końcowe'!E724","v":""},{"$f":"'Rozliczenie końcowe'!F724","v":""},{"$f":"'Rozliczenie końcowe'!H724","v":""},{"$f":"'Rozliczenie końcowe'!I724","v":""},{"$f":"'Rozliczenie końcowe'!J724","v":""},{"$f":"'Rozliczenie końcowe'!K724","v":""},{"$f":"'Rozliczenie końcowe'!L724","v":""},{"$f":"'Rozliczenie końcowe'!M724","v":""}]
[null,null,{"$f":"'Rozliczenie końcowe'!A135","v":0},{"$f":"'Rozliczenie końcowe'!B135","v":0},{"$f":"'Rozliczenie końcowe'!E135","v":"00:00:00"},{"$f":"'Rozliczenie końcowe'!G135","v":0},{"$f":"'Rozliczenie końcowe'!I135","v":""},{"$f":"'Rozliczenie końcowe'!C725","v":""},{"$f":"'Rozliczenie końcowe'!D725","v":""},{"$f":"'Rozliczenie końcowe'!E725","v":""},{"$f":"'Rozliczenie końcowe'!F725","v":""},{"$f":"'Rozliczenie końcowe'!H725","v":""},{"$f":"'Rozliczenie końcowe'!I725","v":""},{"$f":"'Rozliczenie końcowe'!J725","v":""},{"$f":"'Rozliczenie końcowe'!K725","v":""},{"$f":"'Rozliczenie końcowe'!L725","v":""},{"$f":"'Rozliczenie końcowe'!M725","v":""}]
[null,null,{"$f":"'Rozliczenie końcowe'!A136","v":0},{"$f":"'Rozliczenie końcowe'!B136","v":0},{"$f":"'Rozliczenie końcowe'!E136","v":"00:00:00"},{"$f":"'Rozliczenie końcowe'!G136","v":0},{"$f":"'Rozliczenie końcowe'!I136","v":""},{"$f":"'Rozliczenie końcowe'!C726","v":""},{"$f":"'Rozliczenie końcowe'!D726","v":""},{"$f":"'Rozliczenie końcowe'!E726","v":""},{"$f":"'Rozliczenie końcowe'!F726","v":""},{"$f":"'Rozliczenie końcowe'!H726","v":""},{"$f":"'Rozliczenie końcowe'!I726","v":""},{"$f":"'Rozliczenie końcowe'!J726","v":""},{"$f":"'Rozliczenie końcowe'!K726","v":""},{"$f":"'Rozliczenie końcowe'!L726","v":""},{"$f":"'Rozliczenie końcowe'!M726","v":""}]
[null,null,{"$f":"'Rozliczenie końcowe'!A137","v":0},{"$f":"'Rozliczenie końcowe'!B137","v":0},{"$f":"'Rozliczenie końcowe'!E137","v":"00:00:00"},{"$f":"'Rozliczenie końcowe'!G137","v":0},{"$f":"'Rozliczenie końcowe'!I137","v":""},{"$f":"'Rozliczenie końcowe'!C727","v":""},{"$f":"'Rozliczenie końcowe'!D727","v":""},{"$f":"'Rozliczenie końcowe'!E727","v":""},{"$f":"'Rozliczenie końcowe'!F727","v":""},{"$f":"'Rozliczenie końcowe'!H727","v":""},{"$f":"'Rozliczenie końcowe'!I727","v":""},{"$f":"'Rozliczenie końcowe'!J727","v":""},{"$f":"'Rozliczenie końcowe'!K727","v":""},{"$f":"'Rozliczenie końcowe'!L727","v":""},{"$f":"'Rozliczenie końcowe'!M727","v":""}]
[null,null,{"$f":"'Rozliczenie końcowe'!A138","v":0},{"$f":"'Rozliczenie końcowe'!B138","v":0},{"$f":"'Rozliczenie końcowe'!E138","v":"00:00:00"},{"$f":"'Rozliczenie końcowe'!G138","v":0},{"$f":"'Rozliczenie końcowe'!I138","v":""},{"$f":"'Rozliczenie końcowe'!C728","v":""},{"$f":"'Rozliczenie końcowe'!D728","v":""},{"$f":"'Rozliczenie końcowe'!E728","v":""},{"$f":"'Rozliczenie końcowe'!F728","v":""},{"$f":"'Rozliczenie końcowe'!H728","v":""},{"$f":"'Rozliczenie końcowe'!I728","v":""},{"$f":"'Rozliczenie końcowe'!J728","v":""},{"$f":"'Rozliczenie końcowe'!K728","v":""},{"$f":"'Rozliczenie końcowe'!L728","v":""},{"$f":"'Rozliczenie końcowe'!M728","v":""}]
[null,null,{"$f":"'Rozliczenie końcowe'!A139","v":0},{"$f":"'Rozliczenie końcowe'!B139","v":0},{"$f":"'Rozliczenie końcowe'!E139","v":"00:00:00"},{"$f":"'Rozliczenie końcowe'!G139","v":0},{"$f":"'Rozliczenie końcowe'!I139","v":""},{"$f":"'Rozliczenie końcowe'!C729","v":""},{"$f":"'Rozliczenie końcowe'!D729","v":""},{"$f":"'Rozliczenie końcowe'!E729","v":""},{"$f":"'Rozliczenie końcowe'!F729","v":""},{"$f":"'Rozliczenie końcowe'!H729","v":""},{"$f":"'Rozliczenie końcowe'!I729","v":""},{"$f":"'Rozliczenie końcowe'!J729","v":""},{"$f":"'Rozliczenie końcowe'!K729","v":""},{"$f":"'Rozliczenie końcowe'!L729","v":""},{"$f":"'Rozliczenie końcowe'!M729","v":""}]
[null,null,{"$f":"'Rozliczenie końcowe'!A140","v":0},{"$f":"'Rozliczenie końcowe'!B140","v":0},{"$f":"'Rozliczenie końcowe'!E140","v":"00:00:00"},{"$f":"'Rozliczenie końcowe'!G140","v":0},{"$f":"'Rozliczenie końcowe'!I140","v":""},{"$f":"'Rozliczenie końcowe'!C730","v":""},{"$f":"'Rozliczenie końcowe'!D730","v":""},{"$f":"'Rozliczenie końcowe'!E730","v":""},{"$f":"'Rozliczenie końcowe'!F730","v":""},{"$f":"'Rozliczenie końcowe'!H730","v":""},{"$f":"'Rozliczenie końcowe'!I730","v":""},{"$f":"'Rozliczenie końcowe'!J730","v":""},{"$f":"'Rozliczenie końcowe'!K730","v":""},{"$f":"'Rozliczenie końcowe'!L730","v":""},{"$f":"'Rozliczenie końcowe'!M730","v":""}]
[null,null,{"$f":"'Rozliczenie końcowe'!A141","v":0},{"$f":"'Rozliczenie końcowe'!B141","v":0},{"$f":"'Rozliczenie końcowe'!E141","v":"00:00:00"},{"$f":"'Rozliczenie końcowe'!G141","v":0},{"$f":"'Rozliczenie końcowe'!I141","v":""},{"$f":"'Rozliczenie końcowe'!C731","v":""},{"$f":"'Rozliczenie końcowe'!D731","v":""},{"$f":"'Rozliczenie końcowe'!E731","v":""},{"$f":"'Rozliczenie końcowe'!F731","v":""},{"$f":"'Rozliczenie końcowe'!H731","v":""},{"$f":"'Rozliczenie końcowe'!I731","v":""},{"$f":"'Rozliczenie końcowe'!J731","v":""},{"$f":"'Rozliczenie końcowe'!K731","v":""},{"$f":"'Rozliczenie końcowe'!L731","v":""},{"$f":"'Rozliczenie końcowe'!M731","v":""}]
[null,null,{"$f":"'Rozliczenie końcowe'!A142","v":0},{"$f":"'Rozliczenie końcowe'!B142","v":0},{"$f":"'Rozliczenie końcowe'!E142","v":"00:00:00"},{"$f":"'Rozliczenie końcowe'!G142","v":0},{"$f":"'Rozliczenie końcowe'!I142","v":""},{"$f":"'Rozliczenie końcowe'!C732","v":""},{"$f":"'Rozliczenie końcowe'!D732","v":""},{"$f":"'Rozliczenie końcowe'!E732","v":""},{"$f":"'Rozliczenie końcowe'!F732","v":""},{"$f":"'Rozliczenie końcowe'!H732","v":""},{"$f":"'Rozliczenie końcowe'!I732","v":""},{"$f":"'Rozliczenie końcowe'!J732","v":""},{"$f":"'Rozliczenie końcowe'!K732","v":""},{"$f":"'Rozliczenie końcowe'!L732","v":""},{"$f":"'Rozliczenie końcowe'!M732","v":""}]

{"sheet":"Miesiące","index":6,"n_rows":11,"n_cols":5,"rows_kept":11,"cut":false,"hidden":true,"merged":[[14,1,14,2],[14,3,14,4],[14,5,14,6]]}
[]
["nie dotyczy - umowa roczna",null,null,null,"ROZLICZENIE"]
["1 rok obowiązywania umowy",null,null,null,"KOREKTA ROZLICZENIA"]
["2 rok obowiązywania umowy"]
["3 rok obowiązywania umowy"]
["4 rok obowiązywania umowy"]
["5 rok obowiązywania umowy"]
["6 rok obowiązywania umowy"]
["7 rok obowiązywania umowy"]
["8 rok obowiązywania umowy"]
["9 rok obowiązywania umowy"]

{"sheet":"Dane - linie 1","index":7,"n_rows":111,"n_cols":15,"rows_kept":111,"cut":false,"hidden":true,"merged":[]}
["LP",{"$f":"'Rozliczenie końcowe'!A147","v":"Nazwa linii komunikacyjnej"},"Okres realizacji",{"$f":"'Rozliczenie końcowe'!C148","v":"Środki własne\n(zł)"},{"$f":"'Rozliczenie końcowe'!D149","v":"Środki wypłacone przez Wojewodę"},{"$f":"'Rozliczenie końcowe'!E149","v":"Środki należne"},{"$f":"'Rozliczenie końcowe'!F149","v":"Różnica"},{"$f":"'Rozliczenie końcowe'!G149","v":"Data zwrotu na konto MUW"},"Praca eksploatacyjna - planowana","Praca ekzploatacyjna - zrealizowana","Praca eksploatacyjna - różnica","Kwota deficytu - planowana","Kwota deficytu - osiągnięta","Kwota deficytu - różnica","Liczba przewiezionych osób"]
[{"$f":"'Rozliczenie końcowe'!A33","v":0},{"$f":"'Rozliczenie końcowe'!B33","v":0},{"$f":"'Rozliczenie końcowe'!E33","v":"00:00:00"},{"$f":"'Rozliczenie końcowe'!C151","v":0},{"$f":"'Rozliczenie końcowe'!D151","v":0},{"$f":"'Rozliczenie końcowe'!E151","v":0},{"$f":"'Rozliczenie końcowe'!F151","v":0},{"$f":"'Rozliczenie końcowe'!G151","v":"00:00:00"},{"$f":"'Rozliczenie końcowe'!H151","v":0},{"$f":"'Rozliczenie końcowe'!I151","v":0},{"$f":"'Rozliczenie końcowe'!J151","v":0},{"$f":"'Rozliczenie końcowe'!K151","v":0},{"$f":"'Rozliczenie końcowe'!L151","v":0},{"$f":"'Rozliczenie końcowe'!M151","v":0},{"$f":"'Rozliczenie końcowe'!N151","v":0}]
[{"$f":"'Rozliczenie końcowe'!A34","v":0},{"$f":"'Rozliczenie końcowe'!B34","v":0},{"$f":"'Rozliczenie końcowe'!E34","v":"00:00:00"},{"$f":"'Rozliczenie końcowe'!C152","v":0},{"$f":"'Rozliczenie końcowe'!D152","v":0},{"$f":"'Rozliczenie końcowe'!E152","v":0},{"$f":"'Rozliczenie końcowe'!F152","v":0},{"$f":"'Rozliczenie końcowe'!G152","v":"00:00:00"},{"$f":"'Rozliczenie końcowe'!H152","v":0},{"$f":"'Rozliczenie końcowe'!I152","v":0},{"$f":"'Rozliczenie końcowe'!J152","v":0},{"$f":"'Rozliczenie końcowe'!K152","v":0},{"$f":"'Rozliczenie końcowe'!L152","v":0},{"$f":"'Rozliczenie końcowe'!M152","v":0},{"$f":"'Rozliczenie końcowe'!N152","v":0}]
[{"$f":"'Rozliczenie końcowe'!A35","v":0},{"$f":"'Rozliczenie końcowe'!B35","v":0},{"$f":"'Rozliczenie końcowe'!E35","v":"00:00:00"},{"$f":"'Rozliczenie końcowe'!C153","v":0},{"$f":"'Rozliczenie końcowe'!D153","v":0},{"$f":"'Rozliczenie końcowe'!E153","v":0},{"$f":"'Rozliczenie końcowe'!F153","v":0},{"$f":"'Rozliczenie końcowe'!G153","v":"00:00:00"},{"$f":"'Rozliczenie końcowe'!H153","v":0},{"$f":"'Rozliczenie końcowe'!I153","v":0},{"$f":"'Rozliczenie końcowe'!J153","v":0},{"$f":"'Rozliczenie końcowe'!K153","v":0},{"$f":"'Rozliczenie końcowe'!L153","v":0},{"$f":"'Rozliczenie końcowe'!M153","v":0},{"$f":"'Rozliczenie końcowe'!N153","v":0}]
[{"$f":"'Rozliczenie końcowe'!A36","v":0},{"$f":"'Rozliczenie końcowe'!B36","v":0},{"$f":"'Rozliczenie końcowe'!E36","v":"00:00:00"},{"$f":"'Rozliczenie końcowe'!C154","v":0},{"$f":"'Rozliczenie końcowe'!D154","v":0},{"$f":"'Rozliczenie końcowe'!E154","v":0},{"$f":"'Rozliczenie końcowe'!F154","v":0},{"$f":"'Rozliczenie końcowe'!G154","v":"00:00:00"},{"$f":"'Rozliczenie końcowe'!H154","v":0},{"$f":"'Rozliczenie końcowe'!I154","v":0},{"$f":"'Rozliczenie końcowe'!J154","v":0},{"$f":"'Rozliczenie końcowe'!K154","v":0},{"$f":"'Rozliczenie końcowe'!L154","v":0},{"$f":"'Rozliczenie końcowe'!M154","v":0},{"$f":"'Rozliczenie końcowe'!N154","v":0}]
[{"$f":"'Rozliczenie końcowe'!A37","v":0},{"$f":"'Rozliczenie końcowe'!B37","v":0},{"$f":"'Rozliczenie końcowe'!E37","v":"00:00:00"},{"$f":"'Rozliczenie końcowe'!C155","v":0},{"$f":"'Rozliczenie końcowe'!D155","v":0},{"$f":"'Rozliczenie końcowe'!E155","v":0},{"$f":"'Rozliczenie końcowe'!F155","v":0},{"$f":"'Rozliczenie końcowe'!G155","v":"00:00:00"},{"$f":"'Rozliczenie końcowe'!H155","v":0},{"$f":"'Rozliczenie końcowe'!I155","v":0},{"$f":"'Rozliczenie końcowe'!J155","v":0},{"$f":"'Rozliczenie końcowe'!K155","v":0},{"$f":"'Rozliczenie końcowe'!L155","v":0},{"$f":"'Rozliczenie końcowe'!M155","v":0},{"$f":"'Rozliczenie końcowe'!N155","v":0}]
[{"$f":"'Rozliczenie końcowe'!A38","v":0},{"$f":"'Rozliczenie końcowe'!B38","v":0},{"$f":"'Rozliczenie końcowe'!E38","v":"00:00:00"},{"$f":"'Rozliczenie końcowe'!C156","v":0},{"$f":"'Rozliczenie końcowe'!D156","v":0},{"$f":"'Rozliczenie końcowe'!E156","v":0},{"$f":"'Rozliczenie końcowe'!F156","v":0},{"$f":"'Rozliczenie końcowe'!G156","v":"00:00:00"},{"$f":"'Rozliczenie końcowe'!H156","v":0},{"$f":"'Rozliczenie końcowe'!I156","v":0},{"$f":"'Rozliczenie końcowe'!J156","v":0},{"$f":"'Rozliczenie końcowe'!K156","v":0},{"$f":"'Rozliczenie końcowe'!L156","v":0},{"$f":"'Rozliczenie końcowe'!M156","v":0},{"$f":"'Rozliczenie końcowe'!N156","v":0}]
[{"$f":"'Rozliczenie końcowe'!A39","v":0},{"$f":"'Rozliczenie końcowe'!B39","v":0},{"$f":"'Rozliczenie końcowe'!E39","v":"00:00:00"},{"$f":"'Rozliczenie końcowe'!C157","v":0},{"$f":"'Rozliczenie końcowe'!D157","v":0},{"$f":"'Rozliczenie końcowe'!E157","v":0},{"$f":"'Rozliczenie końcowe'!F157","v":0},{"$f":"'Rozliczenie końcowe'!G157","v":"00:00:00"},{"$f":"'Rozliczenie końcowe'!H157","v":0},{"$f":"'Rozliczenie końcowe'!I157","v":0},{"$f":"'Rozliczenie końcowe'!J157","v":0},{"$f":"'Rozliczenie końcowe'!K157","v":0},{"$f":"'Rozliczenie końcowe'!L157","v":0},{"$f":"'Rozliczenie końcowe'!M157","v":0},{"$f":"'Rozliczenie końcowe'!N157","v":0}]
[{"$f":"'Rozliczenie końcowe'!A40","v":0},{"$f":"'Rozliczenie końcowe'!B40","v":0},{"$f":"'Rozliczenie końcowe'!E40","v":"00:00:00"},{"$f":"'Rozliczenie końcowe'!C158","v":0},{"$f":"'Rozliczenie końcowe'!D158","v":0},{"$f":"'Rozliczenie końcowe'!E158","v":0},{"$f":"'Rozliczenie końcowe'!F158","v":0},{"$f":"'Rozliczenie końcowe'!G158","v":"00:00:00"},{"$f":"'Rozliczenie końcowe'!H158","v":0},{"$f":"'Rozliczenie końcowe'!I158","v":0},{"$f":"'Rozliczenie końcowe'!J158","v":0},{"$f":"'Rozliczenie końcowe'!K158","v":0},{"$f":"'Rozliczenie końcowe'!L158","v":0},{"$f":"'Rozliczenie końcowe'!M158","v":0},{"$f":"'Rozliczenie końcowe'!N158","v":0}]
[{"$f":"'Rozliczenie końcowe'!A41","v":0},{"$f":"'Rozliczenie końcowe'!B41","v":0},{"$f":"'Rozliczenie końcowe'!E41","v":"00:00:00"},{"$f":"'Rozliczenie końcowe'!C159","v":0},{"$f":"'Rozliczenie końcowe'!D159","v":0},{"$f":"'Rozliczenie końcowe'!E159","v":0},{"$f":"'Rozliczenie końcowe'!F159","v":0},{"$f":"'Rozliczenie końcowe'!G159","v":"00:00:00"},{"$f":"'Rozliczenie końcowe'!H159","v":0},{"$f":"'Rozliczenie końcowe'!I159","v":0},{"$f":"'Rozliczenie końcowe'!J159","v":0},{"$f":"'Rozliczenie końcowe'!K159","v":0},{"$f":"'Rozliczenie końcowe'!L159","v":0},{"$f":"'Rozliczenie końcowe'!M159","v":0},{"$f":"'Rozliczenie końcowe'!N159","v":0}]
[{"$f":"'Rozliczenie końcowe'!A42","v":0},{"$f":"'Rozliczenie końcowe'!B42","v":0},{"$f":"'Rozliczenie końcowe'!E42","v":"00:00:00"},{"$f":"'Rozliczenie końcowe'!C160","v":0},{"$f":"'Rozliczenie końcowe'!D160","v":0},{"$f":"'Rozliczenie końcowe'!E160","v":0},{"$f":"'Rozliczenie końcowe'!F160","v":0},{"$f":"'Rozliczenie końcowe'!G160","v":"00:00:00"},{"$f":"'Rozliczenie końcowe'!H160","v":0},{"$f":"'Rozliczenie końcowe'!I160","v":0},{"$f":"'Rozliczenie końcowe'!J160","v":0},{"$f":"'Rozliczenie końcowe'!K160","v":0},{"$f":"'Rozliczenie końcowe'!L160","v":0},{"$f":"'Rozliczenie końcowe'!M160","v":0},{"$f":"'Rozliczenie końcowe'!N160","v":0}]
[{"$f":"'Rozliczenie końcowe'!A43","v":0},{"$f":"'Rozliczenie końcowe'!B43","v":0},{"$f":"'Rozliczenie końcowe'!E43","v":"00:00:00"},{"$f":"'Rozliczenie końcowe'!C161","v":0},{"$f":"'Rozliczenie końcowe'!D161","v":0},{"$f":"'Rozliczenie końcowe'!E161","v":0},{"$f":"'Rozliczenie końcowe'!F161","v":0},{"$f":"'Rozliczenie końcowe'!G161","v":"00:00:00"},{"$f":"'Rozliczenie końcowe'!H161","v":0},{"$f":"'Rozliczenie końcowe'!I161","v":0},{"$f":"'Rozliczenie końcowe'!J161","v":0},{"$f":"'Rozliczenie końcowe'!K161","v":0},{"$f":"'Rozliczenie końcowe'!L161","v":0},{"$f":"'Rozliczenie końcowe'!M161","v":0},{"$f":"'Rozliczenie końcowe'!N161","v":0}]
[{"$f":"'Rozliczenie końcowe'!A44","v":0},{"$f":"'Rozliczenie końcowe'!B44","v":0},{"$f":"'Rozliczenie końcowe'!E44","v":"00:00:00"},{"$f":"'Rozliczenie końcowe'!C162","v":0},{"$f":"'Rozliczenie końcowe'!D162","v":0},{"$f":"'Rozliczenie końcowe'!E162","v":0},{"$f":"'Rozliczenie końcowe'!F162","v":0},{"$f":"'Rozliczenie końcowe'!G162","v":"00:00:00"},{"$f":"'Rozliczenie końcowe'!H162","v":0},{"$f":"'Rozliczenie końcowe'!I162","v":0},{"$f":"'Rozliczenie końcowe'!J162","v":0},{"$f":"'Rozliczenie końcowe'!K162","v":0},{"$f":"'Rozliczenie końcowe'!L162","v":0},{"$f":"'Rozliczenie końcowe'!M162","v":0},{"$f":"'Rozliczenie końcowe'!N162","v":0}]
[{"$f":"'Rozliczenie końcowe'!A45","v":0},{"$f":"'Rozliczenie końcowe'!B45","v":0},{"$f":"'Rozliczenie końcowe'!E45","v":"00:00:00"},{"$f":"'Rozliczenie końcowe'!C163","v":0},{"$f":"'Rozliczenie końcowe'!D163","v":0},{"$f":"'Rozliczenie końcowe'!E163","v":0},{"$f":"'Rozliczenie końcowe'!F163","v":0},{"$f":"'Rozliczenie końcowe'!G163","v":"00:00:00"},{"$f":"'Rozliczenie końcowe'!H163","v":0},{"$f":"'Rozliczenie końcowe'!I163","v":0},{"$f":"'Rozliczenie końcowe'!J163","v":0},{"$f":"'Rozliczenie końcowe'!K163","v":0},{"$f":"'Rozliczenie końcowe'!L163","v":0},{"$f":"'Rozliczenie końcowe'!M163","v":0},{"$f":"'Rozliczenie końcowe'!N163","v":0}]
[{"$f":"'Rozliczenie końcowe'!A46","v":0},{"$f":"'Rozliczenie końcowe'!B46","v":0},{"$f":"'Rozliczenie końcowe'!E46","v":"00:00:00"},{"$f":"'Rozliczenie końcowe'!C164","v":0},{"$f":"'Rozliczenie końcowe'!D164","v":0},{"$f":"'Rozliczenie końcowe'!E164","v":0},{"$f":"'Rozliczenie końcowe'!F164","v":0},{"$f":"'Rozliczenie końcowe'!G164","v":"00:00:00"},{"$f":"'Rozliczenie końcowe'!H164","v":0},{"$f":"'Rozliczenie końcowe'!I164","v":0},{"$f":"'Rozliczenie końcowe'!J164","v":0},{"$f":"'Rozliczenie końcowe'!K164","v":0},{"$f":"'Rozliczenie końcowe'!L164","v":0},{"$f":"'Rozliczenie końcowe'!M164","v":0},{"$f":"'Rozliczenie końcowe'!N164","v":0}]
[{"$f":"'Rozliczenie końcowe'!A47","v":0},{"$f":"'Rozliczenie końcowe'!B47","v":0},{"$f":"'Rozliczenie końcowe'!E47","v":"00:00:00"},{"$f":"'Rozliczenie końcowe'!C165","v":0},{"$f":"'Rozliczenie końcowe'!D165","v":0},{"$f":"'Rozliczenie końcowe'!E165","v":0},{"$f":"'Rozliczenie końcowe'!F165","v":0},{"$f":"'Rozliczenie końcowe'!G165","v":"00:00:00"},{"$f":"'Rozliczenie końcowe'!H165","v":0},{"$f":"'Rozliczenie końcowe'!I165","v":0},{"$f":"'Rozliczenie końcowe'!J165","v":0},{"$f":"'Rozliczenie końcowe'!K165","v":0},{"$f":"'Rozliczenie końcowe'!L165","v":0},{"$f":"'Rozliczenie końcowe'!M165","v":0},{"$f":"'Rozliczenie końcowe'!N165","v":0}]
[{"$f":"'Rozliczenie końcowe'!A48","v":0},{"$f":"'Rozliczenie końcowe'!B48","v":0},{"$f":"'Rozliczenie końcowe'!E48","v":"00:00:00"},{"$f":"'Rozliczenie końcowe'!C166","v":0},{"$f":"'Rozliczenie końcowe'!D166","v":0},{"$f":"'Rozliczenie końcowe'!E166","v":0},{"$f":"'Rozliczenie końcowe'!F166","v":0},{"$f":"'Rozliczenie końcowe'!G166","v":"00:00:00"},{"$f":"'Rozliczenie końcowe'!H166","v":0},{"$f":"'Rozliczenie końcowe'!I166","v":0},{"$f":"'Rozliczenie końcowe'!J166","v":0},{"$f":"'Rozliczenie końcowe'!K166","v":0},{"$f":"'Rozliczenie końcowe'!L166","v":0},{"$f":"'Rozliczenie końcowe'!M166","v":0},{"$f":"'Rozliczenie końcowe'!N166","v":0}]
[{"$f":"'Rozliczenie końcowe'!A49","v":0},{"$f":"'Rozliczenie końcowe'!B49","v":0},{"$f":"'Rozliczenie końcowe'!E49","v":"00:00:00"},{"$f":"'Rozliczenie końcowe'!C167","v":0},{"$f":"'Rozliczenie końcowe'!D167","v":0},{"$f":"'Rozliczenie końcowe'!E167","v":0},{"$f":"'Rozliczenie końcowe'!F167","v":0},{"$f":"'Rozliczenie końcowe'!G167","v":"00:00:00"},{"$f":"'Rozliczenie końcowe'!H167","v":0},{"$f":"'Rozliczenie końcowe'!I167","v":0},{"$f":"'Rozliczenie końcowe'!J167","v":0},{"$f":"'Rozliczenie końcowe'!K167","v":0},{"$f":"'Rozliczenie końcowe'!L167","v":0},{"$f":"'Rozliczenie końcowe'!M167","v":0},{"$f":"'Rozliczenie końcowe'!N167","v":0}]
[{"$f":"'Rozliczenie końcowe'!A50","v":0},{"$f":"'Rozliczenie końcowe'!B50","v":0},{"$f":"'Rozliczenie końcowe'!E50","v":"00:00:00"},{"$f":"'Rozliczenie końcowe'!C168","v":0},{"$f":"'Rozliczenie końcowe'!D168","v":0},{"$f":"'Rozliczenie końcowe'!E168","v":0},{"$f":"'Rozliczenie końcowe'!F168","v":0},{"$f":"'Rozliczenie końcowe'!G168","v":"00:00:00"},{"$f":"'Rozliczenie końcowe'!H168","v":0},{"$f":"'Rozliczenie końcowe'!I168","v":0},{"$f":"'Rozliczenie końcowe'!J168","v":0},{"$f":"'Rozliczenie końcowe'!K168","v":0},{"$f":"'Rozliczenie końcowe'!L168","v":0},{"$f":"'Rozliczenie końcowe'!M168","v":0},{"$f":"'Rozliczenie końcowe'!N168","v":0}]
[{"$f":"'Rozliczenie końcowe'!A51","v":0},{"$f":"'Rozliczenie końcowe'!B51","v":0},{"$f":"'Rozliczenie końcowe'!E51","v":"00:00:00"},{"$f":"'Rozliczenie końcowe'!C169","v":0},{"$f":"'Rozliczenie końcowe'!D169","v":0},{"$f":"'Rozliczenie końcowe'!E169","v":0},{"$f":"'Rozliczenie końcowe'!F169","v":0},{"$f":"'Rozliczenie końcowe'!G169","v":"00:00:00"},{"$f":"'Rozliczenie końcowe'!H169","v":0},{"$f":"'Rozliczenie końcowe'!I169","v":0},{"$f":"'Rozliczenie końcowe'!J169","v":0},{"$f":"'Rozliczenie końcowe'!K169","v":0},{"$f":"'Rozliczenie końcowe'!L169","v":0},{"$f":"'Rozliczenie końcowe'!M169","v":0},{"$f":"'Rozliczenie końcowe'!N169","v":0}]
[{"$f":"'Rozliczenie końcowe'!A52","v":0},{"$f":"'Rozliczenie końcowe'!B52","v":0},{"$f":"'Rozliczenie końcowe'!E52","v":"00:00:00"},{"$f":"'Rozliczenie końcowe'!C170","v":0},{"$f":"'Rozliczenie końcowe'!D170","v":0},{"$f":"'Rozliczenie końcowe'!E170","v":0},{"$f":"'Rozliczenie końcowe'!F170","v":0},{"$f":"'Rozliczenie końcowe'!G170","v":"00:00:00"},{"$f":"'Rozliczenie końcowe'!H170","v":0},{"$f":"'Rozliczenie końcowe'!I170","v":0},{"$f":"'Rozliczenie końcowe'!J170","v":0},{"$f":"'Rozliczenie końcowe'!K170","v":0},{"$f":"'Rozliczenie końcowe'!L170","v":0},{"$f":"'Rozliczenie końcowe'!M170","v":0},{"$f":"'Rozliczenie końcowe'!N170","v":0}]
[{"$f":"'Rozliczenie końcowe'!A53","v":0},{"$f":"'Rozliczenie końcowe'!B53","v":0},{"$f":"'Rozliczenie końcowe'!E53","v":"00:00:00"},{"$f":"'Rozliczenie końcowe'!C171","v":0},{"$f":"'Rozliczenie końcowe'!D171","v":0},{"$f":"'Rozliczenie końcowe'!E171","v":0},{"$f":"'Rozliczenie końcowe'!F171","v":0},{"$f":"'Rozliczenie końcowe'!G171","v":"00:00:00"},{"$f":"'Rozliczenie końcowe'!H171","v":0},{"$f":"'Rozliczenie końcowe'!I171","v":0},{"$f":"'Rozliczenie końcowe'!J171","v":0},{"$f":"'Rozliczenie końcowe'!K171","v":0},{"$f":"'Rozliczenie końcowe'!L171","v":0},{"$f":"'Rozliczenie końcowe'!M171","v":0},{"$f":"'Rozliczenie końcowe'!N171","v":0}]
[{"$f":"'Rozliczenie końcowe'!A54","v":0},{"$f":"'Rozliczenie końcowe'!B54","v":0},{"$f":"'Rozliczenie końcowe'!E54","v":"00:00:00"},{"$f":"'Rozliczenie końcowe'!C172","v":0},{"$f":"'Rozliczenie końcowe'!D172","v":0},{"$f":"'Rozliczenie końcowe'!E172","v":0},{"$f":"'Rozliczenie końcowe'!F172","v":0},{"$f":"'Rozliczenie końcowe'!G172","v":"00:00:00"},{"$f":"'Rozliczenie końcowe'!H172","v":0},{"$f":"'Rozliczenie końcowe'!I172","v":0},{"$f":"'Rozliczenie końcowe'!J172","v":0},{"$f":"'Rozliczenie końcowe'!K172","v":0},{"$f":"'Rozliczenie końcowe'!L172","v":0},{"$f":"'Rozliczenie końcowe'!M172","v":0},{"$f":"'Rozliczenie końcowe'!N172","v":0}]
[{"$f":"'Rozliczenie końcowe'!A55","v":0},{"$f":"'Rozliczenie końcowe'!B55","v":0},{"$f":"'Rozliczenie końcowe'!E55","v":"00:00:00"},{"$f":"'Rozliczenie końcowe'!C173","v":0},{"$f":"'Rozliczenie końcowe'!D173","v":0},{"$f":"'Rozliczenie końcowe'!E173","v":0},{"$f":"'Rozliczenie końcowe'!F173","v":0},{"$f":"'Rozliczenie końcowe'!G173","v":"00:00:00"},{"$f":"'Rozliczenie końcowe'!H173","v":0},{"$f":"'Rozliczenie końcowe'!I173","v":0},{"$f":"'Rozliczenie końcowe'!J173","v":0},{"$f":"'Rozliczenie końcowe'!K173","v":0},{"$f":"'Rozliczenie końcowe'!L173","v":0},{"$f":"'Rozliczenie końcowe'!M173","v":0},{"$f":"'Rozliczenie końcowe'!N173","v":0}]
[{"$f":"'Rozliczenie końcowe'!A56","v":0},{"$f":"'Rozliczenie końcowe'!B56","v":0},{"$f":"'Rozliczenie końcowe'!E56","v":"00:00:00"},{"$f":"'Rozliczenie końcowe'!C174","v":0},{"$f":"'Rozliczenie końcowe'!D174","v":0},{"$f":"'Rozliczenie końcowe'!E174","v":0},{"$f":"'Rozliczenie końcowe'!F174","v":0},{"$f":"'Rozliczenie końcowe'!G174","v":"00:00:00"},{"$f":"'Rozliczenie końcowe'!H174","v":0},{"$f":"'Rozliczenie końcowe'!I174","v":0},{"$f":"'Rozliczenie końcowe'!J174","v":0},{"$f":"'Rozliczenie końcowe'!K174","v":0},{"$f":"'Rozliczenie końcowe'!L174","v":0},{"$f":"'Rozliczenie końcowe'!M174","v":0},{"$f":"'Rozliczenie końcowe'!N174","v":0}]
[{"$f":"'Rozliczenie końcowe'!A57","v":0},{"$f":"'Rozliczenie końcowe'!B57","v":0},{"$f":"'Rozliczenie końcowe'!E57","v":"00:00:00"},{"$f":"'Rozliczenie końcowe'!C175","v":0},{"$f":"'Rozliczenie końcowe'!D175","v":0},{"$f":"'Rozliczenie końcowe'!E175","v":0},{"$f":"'Rozliczenie końcowe'!F175","v":0},{"$f":"'Rozliczenie końcowe'!G175","v":"00:00:00"},{"$f":"'Rozliczenie końcowe'!H175","v":0},{"$f":"'Rozliczenie końcowe'!I175","v":0},{"$f":"'Rozliczenie końcowe'!J175","v":0},{"$f":"'Rozliczenie końcowe'!K175","v":0},{"$f":"'Rozliczenie końcowe'!L175","v":0},{"$f":"'Rozliczenie końcowe'!M175","v":0},{"$f":"'Rozliczenie końcowe'!N175","v":0}]
[{"$f":"'Rozliczenie końcowe'!A58","v":0},{"$f":"'Rozliczenie końcowe'!B58","v":0},{"$f":"'Rozliczenie końcowe'!E58","v":"00:00:00"},{"$f":"'Rozliczenie końcowe'!C176","v":0},{"$f":"'Rozliczenie końcowe'!D176","v":0},{"$f":"'Rozliczenie końcowe'!E176","v":0},{"$f":"'Rozliczenie końcowe'!F176","v":0},{"$f":"'Rozliczenie końcowe'!G176","v":"00:00:00"},{"$f":"'Rozliczenie końcowe'!H176","v":0},{"$f":"'Rozliczenie końcowe'!I176","v":0},{"$f":"'Rozliczenie końcowe'!J176","v":0},{"$f":"'Rozliczenie końcowe'!K176","v":0},{"$f":"'Rozliczenie końcowe'!L176","v":0},{"$f":"'Rozliczenie końcowe'!M176","v":0},{"$f":"'Rozliczenie końcowe'!N176","v":0}]
[{"$f":"'Rozliczenie końcowe'!A59","v":0},{"$f":"'Rozliczenie końcowe'!B59","v":0},{"$f":"'Rozliczenie końcowe'!E59","v":"00:00:00"},{"$f":"'Rozliczenie końcowe'!C177","v":0},{"$f":"'Rozliczenie końcowe'!D177","v":0},{"$f":"'Rozliczenie końcowe'!E177","v":0},{"$f":"'Rozliczenie końcowe'!F177","v":0},{"$f":"'Rozliczenie końcowe'!G177","v":"00:00:00"},{"$f":"'Rozliczenie końcowe'!H177","v":0},{"$f":"'Rozliczenie końcowe'!I177","v":0},{"$f":"'Rozliczenie końcowe'!J177","v":0},{"$f":"'Rozliczenie końcowe'!K177","v":0},{"$f":"'Rozliczenie końcowe'!L177","v":0},{"$f":"'Rozliczenie końcowe'!M177","v":0},{"$f":"'Rozliczenie końcowe'!N177","v":0}]
[{"$f":"'Rozliczenie końcowe'!A60","v":0},{"$f":"'Rozliczenie końcowe'!B60","v":0},{"$f":"'Rozliczenie końcowe'!E60","v":"00:00:00"},{"$f":"'Rozliczenie końcowe'!C178","v":0},{"$f":"'Rozliczenie końcowe'!D178","v":0},{"$f":"'Rozliczenie końcowe'!E178","v":0},{"$f":"'Rozliczenie końcowe'!F178","v":0},{"$f":"'Rozliczenie końcowe'!G178","v":"00:00:00"},{"$f":"'Rozliczenie końcowe'!H178","v":0},{"$f":"'Rozliczenie końcowe'!I178","v":0},{"$f":"'Rozliczenie końcowe'!J178","v":0},{"$f":"'Rozliczenie końcowe'!K178","v":0},{"$f":"'Rozliczenie końcowe'!L178","v":0},{"$f":"'Rozliczenie końcowe'!M178","v":0},{"$f":"'Rozliczenie końcowe'!N178","v":0}]
[{"$f":"'Rozliczenie końcowe'!A61","v":0},{"$f":"'Rozliczenie końcowe'!B61","v":0},{"$f":"'Rozliczenie końcowe'!E61","v":"00:00:00"},{"$f":"'Rozliczenie końcowe'!C179","v":0},{"$f":"'Rozliczenie końcowe'!D179","v":0},{"$f":"'Rozliczenie końcowe'!E179","v":0},{"$f":"'Rozliczenie końcowe'!F179","v":0},{"$f":"'Rozliczenie końcowe'!G179","v":"00:00:00"},{"$f":"'Rozliczenie końcowe'!H179","v":0},{"$f":"'Rozliczenie końcowe'!I179","v":0},{"$f":"'Rozliczenie końcowe'!J179","v":0},{"$f":"'Rozliczenie końcowe'!K179","v":0},{"$f":"'Rozliczenie końcowe'!L179","v":0},{"$f":"'Rozliczenie końcowe'!M179","v":0},{"$f":"'Rozliczenie końcowe'!N179","v":0}]
[{"$f":"'Rozliczenie końcowe'!A62","v":0},{"$f":"'Rozliczenie końcowe'!B62","v":0},{"$f":"'Rozliczenie końcowe'!E62","v":"00:00:00"},{"$f":"'Rozliczenie końcowe'!C180","v":0},{"$f":"'Rozliczenie końcowe'!D180","v":0},{"$f":"'Rozliczenie końcowe'!E180","v":0},{"$f":"'Rozliczenie końcowe'!F180","v":0},{"$f":"'Rozliczenie końcowe'!G180","v":"00:00:00"},{"$f":"'Rozliczenie końcowe'!H180","v":0},{"$f":"'Rozliczenie końcowe'!I180","v":0},{"$f":"'Rozliczenie końcowe'!J180","v":0},{"$f":"'Rozliczenie końcowe'!K180","v":0},{"$f":"'Rozliczenie końcowe'!L180","v":0},{"$f":"'Rozliczenie końcowe'!M180","v":0},{"$f":"'Rozliczenie końcowe'!N180","v":0}]
[{"$f":"'Rozliczenie końcowe'!A63","v":0},{"$f":"'Rozliczenie końcowe'!B63","v":0},{"$f":"'Rozliczenie końcowe'!E63","v":"00:00:00"},{"$f":"'Rozliczenie końcowe'!C181","v":0},{"$f":"'Rozliczenie końcowe'!D181","v":0},{"$f":"'Rozliczenie końcowe'!E181","v":0},{"$f":"'Rozliczenie końcowe'!F181","v":0},{"$f":"'Rozliczenie końcowe'!G181","v":"00:00:00"},{"$f":"'Rozliczenie końcowe'!H181","v":0},{"$f":"'Rozliczenie końcowe'!I181","v":0},{"$f":"'Rozliczenie końcowe'!J181","v":0},{"$f":"'Rozliczenie końcowe'!K181","v":0},{"$f":"'Rozliczenie końcowe'!L181","v":0},{"$f":"'Rozliczenie końcowe'!M181","v":0},{"$f":"'Rozliczenie końcowe'!N181","v":0}]
[{"$f":"'Rozliczenie końcowe'!A64","v":0},{"$f":"'Rozliczenie końcowe'!B64","v":0},{"$f":"'Rozliczenie końcowe'!E64","v":"00:00:00"},{"$f":"'Rozliczenie końcowe'!C182","v":0},{"$f":"'Rozliczenie końcowe'!D182","v":0},{"$f":"'Rozliczenie końcowe'!E182","v":0},{"$f":"'Rozliczenie końcowe'!F182","v":0},{"$f":"'Rozliczenie końcowe'!G182","v":"00:00:00"},{"$f":"'Rozliczenie końcowe'!H182","v":0},{"$f":"'Rozliczenie końcowe'!I182","v":0},{"$f":"'Rozliczenie końcowe'!J182","v":0},{"$f":"'Rozliczenie końcowe'!K182","v":0},{"$f":"'Rozliczenie końcowe'!L182","v":0},{"$f":"'Rozliczenie końcowe'!M182","v":0},{"$f":"'Rozliczenie końcowe'!N182","v":0}]
[{"$f":"'Rozliczenie końcowe'!A65","v":0},{"$f":"'Rozliczenie końcowe'!B65","v":0},{"$f":"'Rozliczenie końcowe'!E65","v":"00:00:00"},{"$f":"'Rozliczenie końcowe'!C183","v":0},{"$f":"'Rozliczenie końcowe'!D183","v":0},{"$f":"'Rozliczenie końcowe'!E183","v":0},{"$f":"'Rozliczenie końcowe'!F183","v":0},{"$f":"'Rozliczenie końcowe'!G183","v":"00:00:00"},{"$f":"'Rozliczenie końcowe'!H183","v":0},{"$f":"'Rozliczenie końcowe'!I183","v":0},{"$f":"'Rozliczenie końcowe'!J183","v":0},{"$f":"'Rozliczenie końcowe'!K183","v":0},{"$f":"'Rozliczenie końcowe'!L183","v":0},{"$f":"'Rozliczenie końcowe'!M183","v":0},{"$f":"'Rozliczenie końcowe'!N183","v":0}]
[{"$f":"'Rozliczenie końcowe'!A66","v":0},{"$f":"'Rozliczenie końcowe'!B66","v":0},{"$f":"'Rozliczenie końcowe'!E66","v":"00:00:00"},{"$f":"'Rozliczenie końcowe'!C184","v":0},{"$f":"'Rozliczenie końcowe'!D184","v":0},{"$f":"'Rozliczenie końcowe'!E184","v":0},{"$f":"'Rozliczenie końcowe'!F184","v":0},{"$f":"'Rozliczenie końcowe'!G184","v":"00:00:00"},{"$f":"'Rozliczenie końcowe'!H184","v":0},{"$f":"'Rozliczenie końcowe'!I184","v":0},{"$f":"'Rozliczenie końcowe'!J184","v":0},{"$f":"'Rozliczenie końcowe'!K184","v":0},{"$f":"'Rozliczenie końcowe'!L184","v":0},{"$f":"'Rozliczenie końcowe'!M184","v":0},{"$f":"'Rozliczenie końcowe'!N184","v":0}]
[{"$f":"'Rozliczenie końcowe'!A67","v":0},{"$f":"'Rozliczenie końcowe'!B67","v":0},{"$f":"'Rozliczenie końcowe'!E67","v":"00:00:00"},{"$f":"'Rozliczenie końcowe'!C185","v":0},{"$f":"'Rozliczenie końcowe'!D185","v":0},{"$f":"'Rozliczenie końcowe'!E185","v":0},{"$f":"'Rozliczenie końcowe'!F185","v":0},{"$f":"'Rozliczenie końcowe'!G185","v":"00:00:00"},{"$f":"'Rozliczenie końcowe'!H185","v":0},{"$f":"'Rozliczenie końcowe'!I185","v":0},{"$f":"'Rozliczenie końcowe'!J185","v":0},{"$f":"'Rozliczenie końcowe'!K185","v":0},{"$f":"'Rozliczenie końcowe'!L185","v":0},{"$f":"'Rozliczenie końcowe'!M185","v":0},{"$f":"'Rozliczenie końcowe'!N185","v":0}]
[{"$f":"'Rozliczenie końcowe'!A68","v":0},{"$f":"'Rozliczenie końcowe'!B68","v":0},{"$f":"'Rozliczenie końcowe'!E68","v":"00:00:00"},{"$f":"'Rozliczenie końcowe'!C186","v":0},{"$f":"'Rozliczenie końcowe'!D186","v":0},{"$f":"'Rozliczenie końcowe'!E186","v":0},{"$f":"'Rozliczenie końcowe'!F186","v":0},{"$f":"'Rozliczenie końcowe'!G186","v":"00:00:00"},{"$f":"'Rozliczenie końcowe'!H186","v":0},{"$f":"'Rozliczenie końcowe'!I186","v":0},{"$f":"'Rozliczenie końcowe'!J186","v":0},{"$f":"'Rozliczenie końcowe'!K186","v":0},{"$f":"'Rozliczenie końcowe'!L186","v":0},{"$f":"'Rozliczenie końcowe'!M186","v":0},{"$f":"'Rozliczenie końcowe'!N186","v":0}]
[{"$f":"'Rozliczenie końcowe'!A69","v":0},{"$f":"'Rozliczenie końcowe'!B69","v":0},{"$f":"'Rozliczenie końcowe'!E69","v":"00:00:00"},{"$f":"'Rozliczenie końcowe'!C187","v":0},{"$f":"'Rozliczenie końcowe'!D187","v":0},{"$f":"'Rozliczenie końcowe'!E187","v":0},{"$f":"'Rozliczenie końcowe'!F187","v":0},{"$f":"'Rozliczenie końcowe'!G187","v":"00:00:00"},{"$f":"'Rozliczenie końcowe'!H187","v":0},{"$f":"'Rozliczenie końcowe'!I187","v":0},{"$f":"'Rozliczenie końcowe'!J187","v":0},{"$f":"'Rozliczenie końcowe'!K187","v":0},{"$f":"'Rozliczenie końcowe'!L187","v":0},{"$f":"'Rozliczenie końcowe'!M187","v":0},{"$f":"'Rozliczenie końcowe'!N187","v":0}]
[{"$f":"'Rozliczenie końcowe'!A70","v":0},{"$f":"'Rozliczenie końcowe'!B70","v":0},{"$f":"'Rozliczenie końcowe'!E70","v":"00:00:00"},{"$f":"'Rozliczenie końcowe'!C188","v":0},{"$f":"'Rozliczenie końcowe'!D188","v":0},{"$f":"'Rozliczenie końcowe'!E188","v":0},{"$f":"'Rozliczenie końcowe'!F188","v":0},{"$f":"'Rozliczenie końcowe'!G188","v":"00:00:00"},{"$f":"'Rozliczenie końcowe'!H188","v":0},{"$f":"'Rozliczenie końcowe'!I188","v":0},{"$f":"'Rozliczenie końcowe'!J188","v":0},{"$f":"'Rozliczenie końcowe'!K188","v":0},{"$f":"'Rozliczenie końcowe'!L188","v":0},{"$f":"'Rozliczenie końcowe'!M188","v":0},{"$f":"'Rozliczenie końcowe'!N188","v":0}]
[{"$f":"'Rozliczenie końcowe'!A71","v":0},{"$f":"'Rozliczenie końcowe'!B71","v":0},{"$f":"'Rozliczenie końcowe'!E71","v":"00:00:00"},{"$f":"'Rozliczenie końcowe'!C189","v":0},{"$f":"'Rozliczenie końcowe'!D189","v":0},{"$f":"'Rozliczenie końcowe'!E189","v":0},{"$f":"'Rozliczenie końcowe'!F189","v":0},{"$f":"'Rozliczenie końcowe'!G189","v":"00:00:00"},{"$f":"'Rozliczenie końcowe'!H189","v":0},{"$f":"'Rozliczenie końcowe'!I189","v":0},{"$f":"'Rozliczenie końcowe'!J189","v":0},{"$f":"'Rozliczenie końcowe'!K189","v":0},{"$f":"'Rozliczenie końcowe'!L189","v":0},{"$f":"'Rozliczenie końcowe'!M189","v":0},{"$f":"'Rozliczenie końcowe'!N189","v":0}]
[{"$f":"'Rozliczenie końcowe'!A72","v":0},{"$f":"'Rozliczenie końcowe'!B72","v":0},{"$f":"'Rozliczenie końcowe'!E72","v":"00:00:00"},{"$f":"'Rozliczenie końcowe'!C190","v":0},{"$f":"'Rozliczenie końcowe'!D190","v":0},{"$f":"'Rozliczenie końcowe'!E190","v":0},{"$f":"'Rozliczenie końcowe'!F190","v":0},{"$f":"'Rozliczenie końcowe'!G190","v":"00:00:00"},{"$f":"'Rozliczenie końcowe'!H190","v":0},{"$f":"'Rozliczenie końcowe'!I190","v":0},{"$f":"'Rozliczenie końcowe'!J190","v":0},{"$f":"'Rozliczenie końcowe'!K190","v":0},{"$f":"'Rozliczenie końcowe'!L190","v":0},{"$f":"'Rozliczenie końcowe'!M190","v":0},{"$f":"'Rozliczenie końcowe'!N190","v":0}]
[{"$f":"'Rozliczenie końcowe'!A73","v":0},{"$f":"'Rozliczenie końcowe'!B73","v":0},{"$f":"'Rozliczenie końcowe'!E73","v":"00:00:00"},{"$f":"'Rozliczenie końcowe'!C191","v":0},{"$f":"'Rozliczenie końcowe'!D191","v":0},{"$f":"'Rozliczenie końcowe'!E191","v":0},{"$f":"'Rozliczenie końcowe'!F191","v":0},{"$f":"'Rozliczenie końcowe'!G191","v":"00:00:00"},{"$f":"'Rozliczenie końcowe'!H191","v":0},{"$f":"'Rozliczenie końcowe'!I191","v":0},{"$f":"'Rozliczenie końcowe'!J191","v":0},{"$f":"'Rozliczenie końcowe'!K191","v":0},{"$f":"'Rozliczenie końcowe'!L191","v":0},{"$f":"'Rozliczenie końcowe'!M191","v":0},{"$f":"'Rozliczenie końcowe'!N191","v":0}]
[{"$f":"'Rozliczenie końcowe'!A74","v":0},{"$f":"'Rozliczenie końcowe'!B74","v":0},{"$f":"'Rozliczenie końcowe'!E74","v":"00:00:00"},{"$f":"'Rozliczenie końcowe'!C192","v":0},{"$f":"'Rozliczenie końcowe'!D192","v":0},{"$f":"'Rozliczenie końcowe'!E192","v":0},{"$f":"'Rozliczenie końcowe'!F192","v":0},{"$f":"'Rozliczenie końcowe'!G192","v":"00:00:00"},{"$f":"'Rozliczenie końcowe'!H192","v":0},{"$f":"'Rozliczenie końcowe'!I192","v":0},{"$f":"'Rozliczenie końcowe'!J192","v":0},{"$f":"'Rozliczenie końcowe'!K192","v":0},{"$f":"'Rozliczenie końcowe'!L192","v":0},{"$f":"'Rozliczenie końcowe'!M192","v":0},{"$f":"'Rozliczenie końcowe'!N192","v":0}]
[{"$f":"'Rozliczenie końcowe'!A75","v":0},{"$f":"'Rozliczenie końcowe'!B75","v":0},{"$f":"'Rozliczenie końcowe'!E75","v":"00:00:00"},{"$f":"'Rozliczenie końcowe'!C193","v":0},{"$f":"'Rozliczenie końcowe'!D193","v":0},{"$f":"'Rozliczenie końcowe'!E193","v":0},{"$f":"'Rozliczenie końcowe'!F193","v":0},{"$f":"'Rozliczenie końcowe'!G193","v":"00:00:00"},{"$f":"'Rozliczenie końcowe'!H193","v":0},{"$f":"'Rozliczenie końcowe'!I193","v":0},{"$f":"'Rozliczenie końcowe'!J193","v":0},{"$f":"'Rozliczenie końcowe'!K193","v":0},{"$f":"'Rozliczenie końcowe'!L193","v":0},{"$f":"'Rozliczenie końcowe'!M193","v":0},{"$f":"'Rozliczenie końcowe'!N193","v":0}]
[{"$f":"'Rozliczenie końcowe'!A76","v":0},{"$f":"'Rozliczenie końcowe'!B76","v":0},{"$f":"'Rozliczenie końcowe'!E76","v":"00:00:00"},{"$f":"'Rozliczenie końcowe'!C194","v":0},{"$f":"'Rozliczenie końcowe'!D194","v":0},{"$f":"'Rozliczenie końcowe'!E194","v":0},{"$f":"'Rozliczenie końcowe'!F194","v":0},{"$f":"'Rozliczenie końcowe'!G194","v":"00:00:00"},{"$f":"'Rozliczenie końcowe'!H194","v":0},{"$f":"'Rozliczenie końcowe'!I194","v":0},{"$f":"'Rozliczenie końcowe'!J194","v":0},{"$f":"'Rozliczenie końcowe'!K194","v":0},{"$f":"'Rozliczenie końcowe'!L194","v":0},{"$f":"'Rozliczenie końcowe'!M194","v":0},{"$f":"'Rozliczenie końcowe'!N194","v":0}]
[{"$f":"'Rozliczenie końcowe'!A77","v":0},{"$f":"'Rozliczenie końcowe'!B77","v":0},{"$f":"'Rozliczenie końcowe'!E77","v":"00:00:00"},{"$f":"'Rozliczenie końcowe'!C195","v":0},{"$f":"'Rozliczenie końcowe'!D195","v":0},{"$f":"'Rozliczenie końcowe'!E195","v":0},{"$f":"'Rozliczenie końcowe'!F195","v":0},{"$f":"'Rozliczenie końcowe'!G195","v":"00:00:00"},{"$f":"'Rozliczenie końcowe'!H195","v":0},{"$f":"'Rozliczenie końcowe'!I195","v":0},{"$f":"'Rozliczenie końcowe'!J195","v":0},{"$f":"'Rozliczenie końcowe'!K195","v":0},{"$f":"'Rozliczenie końcowe'!L195","v":0},{"$f":"'Rozliczenie końcowe'!M195","v":0},{"$f":"'Rozliczenie końcowe'!N195","v":0}]
[{"$f":"'Rozliczenie końcowe'!A78","v":0},{"$f":"'Rozliczenie końcowe'!B78","v":0},{"$f":"'Rozliczenie końcowe'!E78","v":"00:00:00"},{"$f":"'Rozliczenie końcowe'!C196","v":0},{"$f":"'Rozliczenie końcowe'!D196","v":0},{"$f":"'Rozliczenie końcowe'!E196","v":0},{"$f":"'Rozliczenie końcowe'!F196","v":0},{"$f":"'Rozliczenie końcowe'!G196","v":"00:00:00"},{"$f":"'Rozliczenie końcowe'!H196","v":0},{"$f":"'Rozliczenie końcowe'!I196","v":0},{"$f":"'Rozliczenie końcowe'!J196","v":0},{"$f":"'Rozliczenie końcowe'!K196","v":0},{"$f":"'Rozliczenie końcowe'!L196","v":0},{"$f":"'Rozliczenie końcowe'!M196","v":0},{"$f":"'Rozliczenie końcowe'!N196","v":0}]
[{"$f":"'Rozliczenie końcowe'!A79","v":0},{"$f":"'Rozliczenie końcowe'!B79","v":0},{"$f":"'Rozliczenie końcowe'!E79","v":"00:00:00"},{"$f":"'Rozliczenie końcowe'!C197","v":0},{"$f":"'Rozliczenie końcowe'!D197","v":0},{"$f":"'Rozliczenie końcowe'!E197","v":0},{"$f":"'Rozliczenie końcowe'!F197","v":0},{"$f":"'Rozliczenie końcowe'!G197","v":"00:00:00"},{"$f":"'Rozliczenie końcowe'!H197","v":0},{"$f":"'Rozliczenie końcowe'!I197","v":0},{"$f":"'Rozliczenie końcowe'!J197","v":0},{"$f":"'Rozliczenie końcowe'!K197","v":0},{"$f":"'Rozliczenie końcowe'!L197","v":0},{"$f":"'Rozliczenie końcowe'!M197","v":0},{"$f":"'Rozliczenie końcowe'!N197","v":0}]
[{"$f":"'Rozliczenie końcowe'!A80","v":0},{"$f":"'Rozliczenie końcowe'!B80","v":0},{"$f":"'Rozliczenie końcowe'!E80","v":"00:00:00"},{"$f":"'Rozliczenie końcowe'!C198","v":0},{"$f":"'Rozliczenie końcowe'!D198","v":0},{"$f":"'Rozliczenie końcowe'!E198","v":0},{"$f":"'Rozliczenie końcowe'!F198","v":0},{"$f":"'Rozliczenie końcowe'!G198","v":"00:00:00"},{"$f":"'Rozliczenie końcowe'!H198","v":0},{"$f":"'Rozliczenie końcowe'!I198","v":0},{"$f":"'Rozliczenie końcowe'!J198","v":0},{"$f":"'Rozliczenie końcowe'!K198","v":0},{"$f":"'Rozliczenie końcowe'!L198","v":0},{"$f":"'Rozliczenie końcowe'!M198","v":0},{"$f":"'Rozliczenie końcowe'!N198","v":0}]
[{"$f":"'Rozliczenie końcowe'!A81","v":0},{"$f":"'Rozliczenie końcowe'!B81","v":0},{"$f":"'Rozliczenie końcowe'!E81","v":"00:00:00"},{"$f":"'Rozliczenie końcowe'!C199","v":0},{"$f":"'Rozliczenie końcowe'!D199","v":0},{"$f":"'Rozliczenie końcowe'!E199","v":0},{"$f":"'Rozliczenie końcowe'!F199","v":0},{"$f":"'Rozliczenie końcowe'!G199","v":"00:00:00"},{"$f":"'Rozliczenie końcowe'!H199","v":0},{"$f":"'Rozliczenie końcowe'!I199","v":0},{"$f":"'Rozliczenie końcowe'!J199","v":0},{"$f":"'Rozliczenie końcowe'!K199","v":0},{"$f":"'Rozliczenie końcowe'!L199","v":0},{"$f":"'Rozliczenie końcowe'!M199","v":0},{"$f":"'Rozliczenie końcowe'!N199","v":0}]
[{"$f":"'Rozliczenie końcowe'!A82","v":0},{"$f":"'Rozliczenie końcowe'!B82","v":0},{"$f":"'Rozliczenie końcowe'!E82","v":"00:00:00"},{"$f":"'Rozliczenie końcowe'!C200","v":0},{"$f":"'Rozliczenie końcowe'!D200","v":0},{"$f":"'Rozliczenie końcowe'!E200","v":0},{"$f":"'Rozliczenie końcowe'!F200","v":0},{"$f":"'Rozliczenie końcowe'!G200","v":"00:00:00"},{"$f":"'Rozliczenie końcowe'!H200","v":0},{"$f":"'Rozliczenie końcowe'!I200","v":0},{"$f":"'Rozliczenie końcowe'!J200","v":0},{"$f":"'Rozliczenie końcowe'!K200","v":0},{"$f":"'Rozliczenie końcowe'!L200","v":0},{"$f":"'Rozliczenie końcowe'!M200","v":0},{"$f":"'Rozliczenie końcowe'!N200","v":0}]
[{"$f":"'Rozliczenie końcowe'!A83","v":0},{"$f":"'Rozliczenie końcowe'!B83","v":0},{"$f":"'Rozliczenie końcowe'!E83","v":"00:00:00"},{"$f":"'Rozliczenie końcowe'!C201","v":0},{"$f":"'Rozliczenie końcowe'!D201","v":0},{"$f":"'Rozliczenie końcowe'!E201","v":0},{"$f":"'Rozliczenie końcowe'!F201","v":0},{"$f":"'Rozliczenie końcowe'!G201","v":"00:00:00"},{"$f":"'Rozliczenie końcowe'!H201","v":0},{"$f":"'Rozliczenie końcowe'!I201","v":0},{"$f":"'Rozliczenie końcowe'!J201","v":0},{"$f":"'Rozliczenie końcowe'!K201","v":0},{"$f":"'Rozliczenie końcowe'!L201","v":0},{"$f":"'Rozliczenie końcowe'!M201","v":0},{"$f":"'Rozliczenie końcowe'!N201","v":0}]
[{"$f":"'Rozliczenie końcowe'!A84","v":0},{"$f":"'Rozliczenie końcowe'!B84","v":0},{"$f":"'Rozliczenie końcowe'!E84","v":"00:00:00"},{"$f":"'Rozliczenie końcowe'!C202","v":0},{"$f":"'Rozliczenie końcowe'!D202","v":0},{"$f":"'Rozliczenie końcowe'!E202","v":0},{"$f":"'Rozliczenie końcowe'!F202","v":0},{"$f":"'Rozliczenie końcowe'!G202","v":"00:00:00"},{"$f":"'Rozliczenie końcowe'!H202","v":0},{"$f":"'Rozliczenie końcowe'!I202","v":0},{"$f":"'Rozliczenie końcowe'!J202","v":0},{"$f":"'Rozliczenie końcowe'!K202","v":0},{"$f":"'Rozliczenie końcowe'!L202","v":0},{"$f":"'Rozliczenie końcowe'!M202","v":0},{"$f":"'Rozliczenie końcowe'!N202","v":0}]
[{"$f":"'Rozliczenie końcowe'!A85","v":0},{"$f":"'Rozliczenie końcowe'!B85","v":0},{"$f":"'Rozliczenie końcowe'!E85","v":"00:00:00"},{"$f":"'Rozliczenie końcowe'!C203","v":0},{"$f":"'Rozliczenie końcowe'!D203","v":0},{"$f":"'Rozliczenie końcowe'!E203","v":0},{"$f":"'Rozliczenie końcowe'!F203","v":0},{"$f":"'Rozliczenie końcowe'!G203","v":"00:00:00"},{"$f":"'Rozliczenie końcowe'!H203","v":0},{"$f":"'Rozliczenie końcowe'!I203","v":0},{"$f":"'Rozliczenie końcowe'!J203","v":0},{"$f":"'Rozliczenie końcowe'!K203","v":0},{"$f":"'Rozliczenie końcowe'!L203","v":0},{"$f":"'Rozliczenie końcowe'!M203","v":0},{"$f":"'Rozliczenie końcowe'!N203","v":0}]
[{"$f":"'Rozliczenie końcowe'!A86","v":0},{"$f":"'Rozliczenie końcowe'!B86","v":0},{"$f":"'Rozliczenie końcowe'!E86","v":"00:00:00"},{"$f":"'Rozliczenie końcowe'!C204","v":0},{"$f":"'Rozliczenie końcowe'!D204","v":0},{"$f":"'Rozliczenie końcowe'!E204","v":0},{"$f":"'Rozliczenie końcowe'!F204","v":0},{"$f":"'Rozliczenie końcowe'!G204","v":"00:00:00"},{"$f":"'Rozliczenie końcowe'!H204","v":0},{"$f":"'Rozliczenie końcowe'!I204","v":0},{"$f":"'Rozliczenie końcowe'!J204","v":0},{"$f":"'Rozliczenie końcowe'!K204","v":0},{"$f":"'Rozliczenie końcowe'!L204","v":0},{"$f":"'Rozliczenie końcowe'!M204","v":0},{"$f":"'Rozliczenie końcowe'!N204","v":0}]
[{"$f":"'Rozliczenie końcowe'!A87","v":0},{"$f":"'Rozliczenie końcowe'!B87","v":0},{"$f":"'Rozliczenie końcowe'!E87","v":"00:00:00"},{"$f":"'Rozliczenie końcowe'!C205","v":0},{"$f":"'Rozliczenie końcowe'!D205","v":0},{"$f":"'Rozliczenie końcowe'!E205","v":0},{"$f":"'Rozliczenie końcowe'!F205","v":0},{"$f":"'Rozliczenie końcowe'!G205","v":"00:00:00"},{"$f":"'Rozliczenie końcowe'!H205","v":0},{"$f":"'Rozliczenie końcowe'!I205","v":0},{"$f":"'Rozliczenie końcowe'!J205","v":0},{"$f":"'Rozliczenie końcowe'!K205","v":0},{"$f":"'Rozliczenie końcowe'!L205","v":0},{"$f":"'Rozliczenie końcowe'!M205","v":0},{"$f":"'Rozliczenie końcowe'!N205","v":0}]
[{"$f":"'Rozliczenie końcowe'!A88","v":0},{"$f":"'Rozliczenie końcowe'!B88","v":0},{"$f":"'Rozliczenie końcowe'!E88","v":"00:00:00"},{"$f":"'Rozliczenie końcowe'!C206","v":0},{"$f":"'Rozliczenie końcowe'!D206","v":0},{"$f":"'Rozliczenie końcowe'!E206","v":0},{"$f":"'Rozliczenie końcowe'!F206","v":0},{"$f":"'Rozliczenie końcowe'!G206","v":"00:00:00"},{"$f":"'Rozliczenie końcowe'!H206","v":0},{"$f":"'Rozliczenie końcowe'!I206","v":0},{"$f":"'Rozliczenie końcowe'!J206","v":0},{"$f":"'Rozliczenie końcowe'!K206","v":0},{"$f":"'Rozliczenie końcowe'!L206","v":0},{"$f":"'Rozliczenie końcowe'!M206","v":0},{"$f":"'Rozliczenie końcowe'!N206","v":0}]
[{"$f":"'Rozliczenie końcowe'!A89","v":0},{"$f":"'Rozliczenie końcowe'!B89","v":0},{"$f":"'Rozliczenie końcowe'!E89","v":"00:00:00"},{"$f":"'Rozliczenie końcowe'!C207","v":0},{"$f":"'Rozliczenie końcowe'!D207","v":0},{"$f":"'Rozliczenie końcowe'!E207","v":0},{"$f":"'Rozliczenie końcowe'!F207","v":0},{"$f":"'Rozliczenie końcowe'!G207","v":"00:00:00"},{"$f":"'Rozliczenie końcowe'!H207","v":0},{"$f":"'Rozliczenie końcowe'!I207","v":0},{"$f":"'Rozliczenie końcowe'!J207","v":0},{"$f":"'Rozliczenie końcowe'!K207","v":0},{"$f":"'Rozliczenie końcowe'!L207","v":0},{"$f":"'Rozliczenie końcowe'!M207","v":0},{"$f":"'Rozliczenie końcowe'!N207","v":0}]
[{"$f":"'Rozliczenie końcowe'!A90","v":0},{"$f":"'Rozliczenie końcowe'!B90","v":0},{"$f":"'Rozliczenie końcowe'!E90","v":"00:00:00"},{"$f":"'Rozliczenie końcowe'!C208","v":0},{"$f":"'Rozliczenie końcowe'!D208","v":0},{"$f":"'Rozliczenie końcowe'!E208","v":0},{"$f":"'Rozliczenie końcowe'!F208","v":0},{"$f":"'Rozliczenie końcowe'!G208","v":"00:00:00"},{"$f":"'Rozliczenie końcowe'!H208","v":0},{"$f":"'Rozliczenie końcowe'!I208","v":0},{"$f":"'Rozliczenie końcowe'!J208","v":0},{"$f":"'Rozliczenie końcowe'!K208","v":0},{"$f":"'Rozliczenie końcowe'!L208","v":0},{"$f":"'Rozliczenie końcowe'!M208","v":0},{"$f":"'Rozliczenie końcowe'!N208","v":0}]
[{"$f":"'Rozliczenie końcowe'!A91","v":0},{"$f":"'Rozliczenie końcowe'!B91","v":0},{"$f":"'Rozliczenie końcowe'!E91","v":"00:00:00"},{"$f":"'Rozliczenie końcowe'!C209","v":0},{"$f":"'Rozliczenie końcowe'!D209","v":0},{"$f":"'Rozliczenie końcowe'!E209","v":0},{"$f":"'Rozliczenie końcowe'!F209","v":0},{"$f":"'Rozliczenie końcowe'!G209","v":"00:00:00"},{"$f":"'Rozliczenie końcowe'!H209","v":0},{"$f":"'Rozliczenie końcowe'!I209","v":0},{"$f":"'Rozliczenie końcowe'!J209","v":0},{"$f":"'Rozliczenie końcowe'!K209","v":0},{"$f":"'Rozliczenie końcowe'!L209","v":0},{"$f":"'Rozliczenie końcowe'!M209","v":0},{"$f":"'Rozliczenie końcowe'!N209","v":0}]
[{"$f":"'Rozliczenie końcowe'!A92","v":0},{"$f":"'Rozliczenie końcowe'!B92","v":0},{"$f":"'Rozliczenie końcowe'!E92","v":"00:00:00"},{"$f":"'Rozliczenie końcowe'!C210","v":0},{"$f":"'Rozliczenie końcowe'!D210","v":0},{"$f":"'Rozliczenie końcowe'!E210","v":0},{"$f":"'Rozliczenie końcowe'!F210","v":0},{"$f":"'Rozliczenie końcowe'!G210","v":"00:00:00"},{"$f":"'Rozliczenie końcowe'!H210","v":0},{"$f":"'Rozliczenie końcowe'!I210","v":0},{"$f":"'Rozliczenie końcowe'!J210","v":0},{"$f":"'Rozliczenie końcowe'!K210","v":0},{"$f":"'Rozliczenie końcowe'!L210","v":0},{"$f":"'Rozliczenie końcowe'!M210","v":0},{"$f":"'Rozliczenie końcowe'!N210","v":0}]
[{"$f":"'Rozliczenie końcowe'!A93","v":0},{"$f":"'Rozliczenie końcowe'!B93","v":0},{"$f":"'Rozliczenie końcowe'!E93","v":"00:00:00"},{"$f":"'Rozliczenie końcowe'!C211","v":0},{"$f":"'Rozliczenie końcowe'!D211","v":0},{"$f":"'Rozliczenie końcowe'!E211","v":0},{"$f":"'Rozliczenie końcowe'!F211","v":0},{"$f":"'Rozliczenie końcowe'!G211","v":"00:00:00"},{"$f":"'Rozliczenie końcowe'!H211","v":0},{"$f":"'Rozliczenie końcowe'!I211","v":0},{"$f":"'Rozliczenie końcowe'!J211","v":0},{"$f":"'Rozliczenie końcowe'!K211","v":0},{"$f":"'Rozliczenie końcowe'!L211","v":0},{"$f":"'Rozliczenie końcowe'!M211","v":0},{"$f":"'Rozliczenie końcowe'!N211","v":0}]
[{"$f":"'Rozliczenie końcowe'!A94","v":0},{"$f":"'Rozliczenie końcowe'!B94","v":0},{"$f":"'Rozliczenie końcowe'!E94","v":"00:00:00"},{"$f":"'Rozliczenie końcowe'!C212","v":0},{"$f":"'Rozliczenie końcowe'!D212","v":0},{"$f":"'Rozliczenie końcowe'!E212","v":0},{"$f":"'Rozliczenie końcowe'!F212","v":0},{"$f":"'Rozliczenie końcowe'!G212","v":"00:00:00"},{"$f":"'Rozliczenie końcowe'!H212","v":0},{"$f":"'Rozliczenie końcowe'!I212","v":0},{"$f":"'Rozliczenie końcowe'!J212","v":0},{"$f":"'Rozliczenie końcowe'!K212","v":0},{"$f":"'Rozliczenie końcowe'!L212","v":0},{"$f":"'Rozliczenie końcowe'!M212","v":0},{"$f":"'Rozliczenie końcowe'!N212","v":0}]
[{"$f":"'Rozliczenie końcowe'!A95","v":0},{"$f":"'Rozliczenie końcowe'!B95","v":0},{"$f":"'Rozliczenie końcowe'!E95","v":"00:00:00"},{"$f":"'Rozliczenie końcowe'!C213","v":0},{"$f":"'Rozliczenie końcowe'!D213","v":0},{"$f":"'Rozliczenie końcowe'!E213","v":0},{"$f":"'Rozliczenie końcowe'!F213","v":0},{"$f":"'Rozliczenie końcowe'!G213","v":"00:00:00"},{"$f":"'Rozliczenie końcowe'!H213","v":0},{"$f":"'Rozliczenie końcowe'!I213","v":0},{"$f":"'Rozliczenie końcowe'!J213","v":0},{"$f":"'Rozliczenie końcowe'!K213","v":0},{"$f":"'Rozliczenie końcowe'!L213","v":0},{"$f":"'Rozliczenie końcowe'!M213","v":0},{"$f":"'Rozliczenie końcowe'!N213","v":0}]
[{"$f":"'Rozliczenie końcowe'!A96","v":0},{"$f":"'Rozliczenie końcowe'!B96","v":0},{"$f":"'Rozliczenie końcowe'!E96","v":"00:00:00"},{"$f":"'Rozliczenie końcowe'!C214","v":0},{"$f":"'Rozliczenie końcowe'!D214","v":0},{"$f":"'Rozliczenie końcowe'!E214","v":0},{"$f":"'Rozliczenie końcowe'!F214","v":0},{"$f":"'Rozliczenie końcowe'!G214","v":"00:00:00"},{"$f":"'Rozliczenie końcowe'!H214","v":0},{"$f":"'Rozliczenie końcowe'!I214","v":0},{"$f":"'Rozliczenie końcowe'!J214","v":0},{"$f":"'Rozliczenie końcowe'!K214","v":0},{"$f":"'Rozliczenie końcowe'!L214","v":0},{"$f":"'Rozliczenie końcowe'!M214","v":0},{"$f":"'Rozliczenie końcowe'!N214","v":0}]
[{"$f":"'Rozliczenie końcowe'!A97","v":0},{"$f":"'Rozliczenie końcowe'!B97","v":0},{"$f":"'Rozliczenie końcowe'!E97","v":"00:00:00"},{"$f":"'Rozliczenie końcowe'!C215","v":0},{"$f":"'Rozliczenie końcowe'!D215","v":0},{"$f":"'Rozliczenie końcowe'!E215","v":0},{"$f":"'Rozliczenie końcowe'!F215","v":0},{"$f":"'Rozliczenie końcowe'!G215","v":"00:00:00"},{"$f":"'Rozliczenie końcowe'!H215","v":0},{"$f":"'Rozliczenie końcowe'!I215","v":0},{"$f":"'Rozliczenie końcowe'!J215","v":0},{"$f":"'Rozliczenie końcowe'!K215","v":0},{"$f":"'Rozliczenie końcowe'!L215","v":0},{"$f":"'Rozliczenie końcowe'!M215","v":0},{"$f":"'Rozliczenie końcowe'!N215","v":0}]
[{"$f":"'Rozliczenie końcowe'!A98","v":0},{"$f":"'Rozliczenie końcowe'!B98","v":0},{"$f":"'Rozliczenie końcowe'!E98","v":"00:00:00"},{"$f":"'Rozliczenie końcowe'!C216","v":0},{"$f":"'Rozliczenie końcowe'!D216","v":0},{"$f":"'Rozliczenie końcowe'!E216","v":0},{"$f":"'Rozliczenie końcowe'!F216","v":0},{"$f":"'Rozliczenie końcowe'!G216","v":"00:00:00"},{"$f":"'Rozliczenie końcowe'!H216","v":0},{"$f":"'Rozliczenie końcowe'!I216","v":0},{"$f":"'Rozliczenie końcowe'!J216","v":0},{"$f":"'Rozliczenie końcowe'!K216","v":0},{"$f":"'Rozliczenie końcowe'!L216","v":0},{"$f":"'Rozliczenie końcowe'!M216","v":0},{"$f":"'Rozliczenie końcowe'!N216","v":0}]
[{"$f":"'Rozliczenie końcowe'!A99","v":0},{"$f":"'Rozliczenie końcowe'!B99","v":0},{"$f":"'Rozliczenie końcowe'!E99","v":"00:00:00"},{"$f":"'Rozliczenie końcowe'!C217","v":0},{"$f":"'Rozliczenie końcowe'!D217","v":0},{"$f":"'Rozliczenie końcowe'!E217","v":0},{"$f":"'Rozliczenie końcowe'!F217","v":0},{"$f":"'Rozliczenie końcowe'!G217","v":"00:00:00"},{"$f":"'Rozliczenie końcowe'!H217","v":0},{"$f":"'Rozliczenie końcowe'!I217","v":0},{"$f":"'Rozliczenie końcowe'!J217","v":0},{"$f":"'Rozliczenie końcowe'!K217","v":0},{"$f":"'Rozliczenie końcowe'!L217","v":0},{"$f":"'Rozliczenie końcowe'!M217","v":0},{"$f":"'Rozliczenie końcowe'!N217","v":0}]
[{"$f":"'Rozliczenie końcowe'!A100","v":0},{"$f":"'Rozliczenie końcowe'!B100","v":0},{"$f":"'Rozliczenie końcowe'!E100","v":"00:00:00"},{"$f":"'Rozliczenie końcowe'!C218","v":0},{"$f":"'Rozliczenie końcowe'!D218","v":0},{"$f":"'Rozliczenie końcowe'!E218","v":0},{"$f":"'Rozliczenie końcowe'!F218","v":0},{"$f":"'Rozliczenie końcowe'!G218","v":"00:00:00"},{"$f":"'Rozliczenie końcowe'!H218","v":0},{"$f":"'Rozliczenie końcowe'!I218","v":0},{"$f":"'Rozliczenie końcowe'!J218","v":0},{"$f":"'Rozliczenie końcowe'!K218","v":0},{"$f":"'Rozliczenie końcowe'!L218","v":0},{"$f":"'Rozliczenie końcowe'!M218","v":0},{"$f":"'Rozliczenie końcowe'!N218","v":0}]
[{"$f":"'Rozliczenie końcowe'!A101","v":0},{"$f":"'Rozliczenie końcowe'!B101","v":0},{"$f":"'Rozliczenie końcowe'!E101","v":"00:00:00"},{"$f":"'Rozliczenie końcowe'!C219","v":0},{"$f":"'Rozliczenie końcowe'!D219","v":0},{"$f":"'Rozliczenie końcowe'!E219","v":0},{"$f":"'Rozliczenie końcowe'!F219","v":0},{"$f":"'Rozliczenie końcowe'!G219","v":"00:00:00"},{"$f":"'Rozliczenie końcowe'!H219","v":0},{"$f":"'Rozliczenie końcowe'!I219","v":0},{"$f":"'Rozliczenie końcowe'!J219","v":0},{"$f":"'Rozliczenie końcowe'!K219","v":0},{"$f":"'Rozliczenie końcowe'!L219","v":0},{"$f":"'Rozliczenie końcowe'!M219","v":0},{"$f":"'Rozliczenie końcowe'!N219","v":0}]
[{"$f":"'Rozliczenie końcowe'!A102","v":0},{"$f":"'Rozliczenie końcowe'!B102","v":0},{"$f":"'Rozliczenie końcowe'!E102","v":"00:00:00"},{"$f":"'Rozliczenie końcowe'!C220","v":0},{"$f":"'Rozliczenie końcowe'!D220","v":0},{"$f":"'Rozliczenie końcowe'!E220","v":0},{"$f":"'Rozliczenie końcowe'!F220","v":0},{"$f":"'Rozliczenie końcowe'!G220","v":"00:00:00"},{"$f":"'Rozliczenie końcowe'!H220","v":0},{"$f":"'Rozliczenie końcowe'!I220","v":0},{"$f":"'Rozliczenie końcowe'!J220","v":0},{"$f":"'Rozliczenie końcowe'!K220","v":0},{"$f":"'Rozliczenie końcowe'!L220","v":0},{"$f":"'Rozliczenie końcowe'!M220","v":0},{"$f":"'Rozliczenie końcowe'!N220","v":0}]
[{"$f":"'Rozliczenie końcowe'!A103","v":0},{"$f":"'Rozliczenie końcowe'!B103","v":0},{"$f":"'Rozliczenie końcowe'!E103","v":"00:00:00"},{"$f":"'Rozliczenie końcowe'!C221","v":0},{"$f":"'Rozliczenie końcowe'!D221","v":0},{"$f":"'Rozliczenie końcowe'!E221","v":0},{"$f":"'Rozliczenie końcowe'!F221","v":0},{"$f":"'Rozliczenie końcowe'!G221","v":"00:00:00"},{"$f":"'Rozliczenie końcowe'!H221","v":0},{"$f":"'Rozliczenie końcowe'!I221","v":0},{"$f":"'Rozliczenie końcowe'!J221","v":0},{"$f":"'Rozliczenie końcowe'!K221","v":0},{"$f":"'Rozliczenie końcowe'!L221","v":0},{"$f":"'Rozliczenie końcowe'!M221","v":0},{"$f":"'Rozliczenie końcowe'!N221","v":0}]
[{"$f":"'Rozliczenie końcowe'!A104","v":0},{"$f":"'Rozliczenie końcowe'!B104","v":0},{"$f":"'Rozliczenie końcowe'!E104","v":"00:00:00"},{"$f":"'Rozliczenie końcowe'!C222","v":0},{"$f":"'Rozliczenie końcowe'!D222","v":0},{"$f":"'Rozliczenie końcowe'!E222","v":0},{"$f":"'Rozliczenie końcowe'!F222","v":0},{"$f":"'Rozliczenie końcowe'!G222","v":"00:00:00"},{"$f":"'Rozliczenie końcowe'!H222","v":0},{"$f":"'Rozliczenie końcowe'!I222","v":0},{"$f":"'Rozliczenie końcowe'!J222","v":0},{"$f":"'Rozliczenie końcowe'!K222","v":0},{"$f":"'Rozliczenie końcowe'!L222","v":0},{"$f":"'Rozliczenie końcowe'!M222","v":0},{"$f":"'Rozliczenie końcowe'!N222","v":0}]
[{"$f":"'Rozliczenie końcowe'!A105","v":0},{"$f":"'Rozliczenie końcowe'!B105","v":0},{"$f":"'Rozliczenie końcowe'!E105","v":"00:00:00"},{"$f":"'Rozliczenie końcowe'!C223","v":0},{"$f":"'Rozliczenie końcowe'!D223","v":0},{"$f":"'Rozliczenie końcowe'!E223","v":0},{"$f":"'Rozliczenie końcowe'!F223","v":0},{"$f":"'Rozliczenie końcowe'!G223","v":"00:00:00"},{"$f":"'Rozliczenie końcowe'!H223","v":0},{"$f":"'Rozliczenie końcowe'!I223","v":0},{"$f":"'Rozliczenie końcowe'!J223","v":0},{"$f":"'Rozliczenie końcowe'!K223","v":0},{"$f":"'Rozliczenie końcowe'!L223","v":0},{"$f":"'Rozliczenie końcowe'!M223","v":0},{"$f":"'Rozliczenie końcowe'!N223","v":0}]
[{"$f":"'Rozliczenie końcowe'!A106","v":0},{"$f":"'Rozliczenie końcowe'!B106","v":0},{"$f":"'Rozliczenie końcowe'!E106","v":"00:00:00"},{"$f":"'Rozliczenie końcowe'!C224","v":0},{"$f":"'Rozliczenie końcowe'!D224","v":0},{"$f":"'Rozliczenie końcowe'!E224","v":0},{"$f":"'Rozliczenie końcowe'!F224","v":0},{"$f":"'Rozliczenie końcowe'!G224","v":"00:00:00"},{"$f":"'Rozliczenie końcowe'!H224","v":0},{"$f":"'Rozliczenie końcowe'!I224","v":0},{"$f":"'Rozliczenie końcowe'!J224","v":0},{"$f":"'Rozliczenie końcowe'!K224","v":0},{"$f":"'Rozliczenie końcowe'!L224","v":0},{"$f":"'Rozliczenie końcowe'!M224","v":0},{"$f":"'Rozliczenie końcowe'!N224","v":0}]
[{"$f":"'Rozliczenie końcowe'!A107","v":0},{"$f":"'Rozliczenie końcowe'!B107","v":0},{"$f":"'Rozliczenie końcowe'!E107","v":"00:00:00"},{"$f":"'Rozliczenie końcowe'!C225","v":0},{"$f":"'Rozliczenie końcowe'!D225","v":0},{"$f":"'Rozliczenie końcowe'!E225","v":0},{"$f":"'Rozliczenie końcowe'!F225","v":0},{"$f":"'Rozliczenie końcowe'!G225","v":"00:00:00"},{"$f":"'Rozliczenie końcowe'!H225","v":0},{"$f":"'Rozliczenie końcowe'!I225","v":0},{"$f":"'Rozliczenie końcowe'!J225","v":0},{"$f":"'Rozliczenie końcowe'!K225","v":0},{"$f":"'Rozliczenie końcowe'!L225","v":0},{"$f":"'Rozliczenie końcowe'!M225","v":0},{"$f":"'Rozliczenie końcowe'!N225","v":0}]
[{"$f":"'Rozliczenie końcowe'!A108","v":0},{"$f":"'Rozliczenie końcowe'!B108","v":0},{"$f":"'Rozliczenie końcowe'!E108","v":"00:00:00"},{"$f":"'Rozliczenie końcowe'!C226","v":0},{"$f":"'Rozliczenie końcowe'!D226","v":0},{"$f":"'Rozliczenie końcowe'!E226","v":0},{"$f":"'Rozliczenie końcowe'!F226","v":0},{"$f":"'Rozliczenie końcowe'!G226","v":"00:00:00"},{"$f":"'Rozliczenie końcowe'!H226","v":0},{"$f":"'Rozliczenie końcowe'!I226","v":0},{"$f":"'Rozliczenie końcowe'!J226","v":0},{"$f":"'Rozliczenie końcowe'!K226","v":0},{"$f":"'Rozliczenie końcowe'!L226","v":0},{"$f":"'Rozliczenie końcowe'!M226","v":0},{"$f":"'Rozliczenie końcowe'!N226","v":0}]
[{"$f":"'Rozliczenie końcowe'!A109","v":0},{"$f":"'Rozliczenie końcowe'!B109","v":0},{"$f":"'Rozliczenie końcowe'!E109","v":"00:00:00"},{"$f":"'Rozliczenie końcowe'!C227","v":0},{"$f":"'Rozliczenie końcowe'!D227","v":0},{"$f":"'Rozliczenie końcowe'!E227","v":0},{"$f":"'Rozliczenie końcowe'!F227","v":0},{"$f":"'Rozliczenie końcowe'!G227","v":"00:00:00"},{"$f":"'Rozliczenie końcowe'!H227","v":0},{"$f":"'Rozliczenie końcowe'!I227","v":0},{"$f":"'Rozliczenie końcowe'!J227","v":0},{"$f":"'Rozliczenie końcowe'!K227","v":0},{"$f":"'Rozliczenie końcowe'!L227","v":0},{"$f":"'Rozliczenie końcowe'!M227","v":0},{"$f":"'Rozliczenie końcowe'!N227","v":0}]
[{"$f":"'Rozliczenie końcowe'!A110","v":0},{"$f":"'Rozliczenie końcowe'!B110","v":0},{"$f":"'Rozliczenie końcowe'!E110","v":"00:00:00"},{"$f":"'Rozliczenie końcowe'!C228","v":0},{"$f":"'Rozliczenie końcowe'!D228","v":0},{"$f":"'Rozliczenie końcowe'!E228","v":0},{"$f":"'Rozliczenie końcowe'!F228","v":0},{"$f":"'Rozliczenie końcowe'!G228","v":"00:00:00"},{"$f":"'Rozliczenie końcowe'!H228","v":0},{"$f":"'Rozliczenie końcowe'!I228","v":0},{"$f":"'Rozliczenie końcowe'!J228","v":0},{"$f":"'Rozliczenie końcowe'!K228","v":0},{"$f":"'Rozliczenie końcowe'!L228","v":0},{"$f":"'Rozliczenie końcowe'!M228","v":0},{"$f":"'Rozliczenie końcowe'!N228","v":0}]
[{"$f":"'Rozliczenie końcowe'!A111","v":0},{"$f":"'Rozliczenie końcowe'!B111","v":0},{"$f":"'Rozliczenie końcowe'!E111","v":"00:00:00"},{"$f":"'Rozliczenie końcowe'!C229","v":0},{"$f":"'Rozliczenie końcowe'!D229","v":0},{"$f":"'Rozliczenie końcowe'!E229","v":0},{"$f":"'Rozliczenie końcowe'!F229","v":0},{"$f":"'Rozliczenie końcowe'!G229","v":"00:00:00"},{"$f":"'Rozliczenie końcowe'!H229","v":0},{"$f":"'Rozliczenie końcowe'!I229","v":0},{"$f":"'Rozliczenie końcowe'!J229","v":0},{"$f":"'Rozliczenie końcowe'!K229","v":0},{"$f":"'Rozliczenie końcowe'!L229","v":0},{"$f":"'Rozliczenie końcowe'!M229","v":0},{"$f":"'Rozliczenie końcowe'!N229","v":0}]
[{"$f":"'Rozliczenie końcowe'!A112","v":0},{"$f":"'Rozliczenie końcowe'!B112","v":0},{"$f":"'Rozliczenie końcowe'!E112","v":"00:00:00"},{"$f":"'Rozliczenie końcowe'!C230","v":0},{"$f":"'Rozliczenie końcowe'!D230","v":0},{"$f":"'Rozliczenie końcowe'!E230","v":0},{"$f":"'Rozliczenie końcowe'!F230","v":0},{"$f":"'Rozliczenie końcowe'!G230","v":"00:00:00"},{"$f":"'Rozliczenie końcowe'!H230","v":0},{"$f":"'Rozliczenie końcowe'!I230","v":0},{"$f":"'Rozliczenie końcowe'!J230","v":0},{"$f":"'Rozliczenie końcowe'!K230","v":0},{"$f":"'Rozliczenie końcowe'!L230","v":0},{"$f":"'Rozliczenie końcowe'!M230","v":0},{"$f":"'Rozliczenie końcowe'!N230","v":0}]
[{"$f":"'Rozliczenie końcowe'!A113","v":0},{"$f":"'Rozliczenie końcowe'!B113","v":0},{"$f":"'Rozliczenie końcowe'!E113","v":"00:00:00"},{"$f":"'Rozliczenie końcowe'!C231","v":0},{"$f":"'Rozliczenie końcowe'!D231","v":0},{"$f":"'Rozliczenie końcowe'!E231","v":0},{"$f":"'Rozliczenie końcowe'!F231","v":0},{"$f":"'Rozliczenie końcowe'!G231","v":"00:00:00"},{"$f":"'Rozliczenie końcowe'!H231","v":0},{"$f":"'Rozliczenie końcowe'!I231","v":0},{"$f":"'Rozliczenie końcowe'!J231","v":0},{"$f":"'Rozliczenie końcowe'!K231","v":0},{"$f":"'Rozliczenie końcowe'!L231","v":0},{"$f":"'Rozliczenie końcowe'!M231","v":0},{"$f":"'Rozliczenie końcowe'!N231","v":0}]
[{"$f":"'Rozliczenie końcowe'!A114","v":0},{"$f":"'Rozliczenie końcowe'!B114","v":0},{"$f":"'Rozliczenie końcowe'!E114","v":"00:00:00"},{"$f":"'Rozliczenie końcowe'!C232","v":0},{"$f":"'Rozliczenie końcowe'!D232","v":0},{"$f":"'Rozliczenie końcowe'!E232","v":0},{"$f":"'Rozliczenie końcowe'!F232","v":0},{"$f":"'Rozliczenie końcowe'!G232","v":"00:00:00"},{"$f":"'Rozliczenie końcowe'!H232","v":0},{"$f":"'Rozliczenie końcowe'!I232","v":0},{"$f":"'Rozliczenie końcowe'!J232","v":0},{"$f":"'Rozliczenie końcowe'!K232","v":0},{"$f":"'Rozliczenie końcowe'!L232","v":0},{"$f":"'Rozliczenie końcowe'!M232","v":0},{"$f":"'Rozliczenie końcowe'!N232","v":0}]
[{"$f":"'Rozliczenie końcowe'!A115","v":0},{"$f":"'Rozliczenie końcowe'!B115","v":0},{"$f":"'Rozliczenie końcowe'!E115","v":"00:00:00"},{"$f":"'Rozliczenie końcowe'!C233","v":0},{"$f":"'Rozliczenie końcowe'!D233","v":0},{"$f":"'Rozliczenie końcowe'!E233","v":0},{"$f":"'Rozliczenie końcowe'!F233","v":0},{"$f":"'Rozliczenie końcowe'!G233","v":"00:00:00"},{"$f":"'Rozliczenie końcowe'!H233","v":0},{"$f":"'Rozliczenie końcowe'!I233","v":0},{"$f":"'Rozliczenie końcowe'!J233","v":0},{"$f":"'Rozliczenie końcowe'!K233","v":0},{"$f":"'Rozliczenie końcowe'!L233","v":0},{"$f":"'Rozliczenie końcowe'!M233","v":0},{"$f":"'Rozliczenie końcowe'!N233","v":0}]
[{"$f":"'Rozliczenie końcowe'!A116","v":0},{"$f":"'Rozliczenie końcowe'!B116","v":0},{"$f":"'Rozliczenie końcowe'!E116","v":"00:00:00"},{"$f":"'Rozliczenie końcowe'!C234","v":0},{"$f":"'Rozliczenie końcowe'!D234","v":0},{"$f":"'Rozliczenie końcowe'!E234","v":0},{"$f":"'Rozliczenie końcowe'!F234","v":0},{"$f":"'Rozliczenie końcowe'!G234","v":"00:00:00"},{"$f":"'Rozliczenie końcowe'!H234","v":0},{"$f":"'Rozliczenie końcowe'!I234","v":0},{"$f":"'Rozliczenie końcowe'!J234","v":0},{"$f":"'Rozliczenie końcowe'!K234","v":0},{"$f":"'Rozliczenie końcowe'!L234","v":0},{"$f":"'Rozliczenie końcowe'!M234","v":0},{"$f":"'Rozliczenie końcowe'!N234","v":0}]
[{"$f":"'Rozliczenie końcowe'!A117","v":0},{"$f":"'Rozliczenie końcowe'!B117","v":0},{"$f":"'Rozliczenie końcowe'!E117","v":"00:00:00"},{"$f":"'Rozliczenie końcowe'!C235","v":0},{"$f":"'Rozliczenie końcowe'!D235","v":0},{"$f":"'Rozliczenie końcowe'!E235","v":0},{"$f":"'Rozliczenie końcowe'!F235","v":0},{"$f":"'Rozliczenie końcowe'!G235","v":"00:00:00"},{"$f":"'Rozliczenie końcowe'!H235","v":0},{"$f":"'Rozliczenie końcowe'!I235","v":0},{"$f":"'Rozliczenie końcowe'!J235","v":0},{"$f":"'Rozliczenie końcowe'!K235","v":0},{"$f":"'Rozliczenie końcowe'!L235","v":0},{"$f":"'Rozliczenie końcowe'!M235","v":0},{"$f":"'Rozliczenie końcowe'!N235","v":0}]
[{"$f":"'Rozliczenie końcowe'!A118","v":0},{"$f":"'Rozliczenie końcowe'!B118","v":0},{"$f":"'Rozliczenie końcowe'!E118","v":"00:00:00"},{"$f":"'Rozliczenie końcowe'!C236","v":0},{"$f":"'Rozliczenie końcowe'!D236","v":0},{"$f":"'Rozliczenie końcowe'!E236","v":0},{"$f":"'Rozliczenie końcowe'!F236","v":0},{"$f":"'Rozliczenie końcowe'!G236","v":"00:00:00"},{"$f":"'Rozliczenie końcowe'!H236","v":0},{"$f":"'Rozliczenie końcowe'!I236","v":0},{"$f":"'Rozliczenie końcowe'!J236","v":0},{"$f":"'Rozliczenie końcowe'!K236","v":0},{"$f":"'Rozliczenie końcowe'!L236","v":0},{"$f":"'Rozliczenie końcowe'!M236","v":0},{"$f":"'Rozliczenie końcowe'!N236","v":0}]
[{"$f":"'Rozliczenie końcowe'!A119","v":0},{"$f":"'Rozliczenie końcowe'!B119","v":0},{"$f":"'Rozliczenie końcowe'!E119","v":"00:00:00"},{"$f":"'Rozliczenie końcowe'!C237","v":0},{"$f":"'Rozliczenie końcowe'!D237","v":0},{"$f":"'Rozliczenie końcowe'!E237","v":0},{"$f":"'Rozliczenie końcowe'!F237","v":0},{"$f":"'Rozliczenie końcowe'!G237","v":"00:00:00"},{"$f":"'Rozliczenie końcowe'!H237","v":0},{"$f":"'Rozliczenie końcowe'!I237","v":0},{"$f":"'Rozliczenie końcowe'!J237","v":0},{"$f":"'Rozliczenie końcowe'!K237","v":0},{"$f":"'Rozliczenie końcowe'!L237","v":0},{"$f":"'Rozliczenie końcowe'!M237","v":0},{"$f":"'Rozliczenie końcowe'!N237","v":0}]
[{"$f":"'Rozliczenie końcowe'!A120","v":0},{"$f":"'Rozliczenie końcowe'!B120","v":0},{"$f":"'Rozliczenie końcowe'!E120","v":"00:00:00"},{"$f":"'Rozliczenie końcowe'!C238","v":0},{"$f":"'Rozliczenie końcowe'!D238","v":0},{"$f":"'Rozliczenie końcowe'!E238","v":0},{"$f":"'Rozliczenie końcowe'!F238","v":0},{"$f":"'Rozliczenie końcowe'!G238","v":"00:00:00"},{"$f":"'Rozliczenie końcowe'!H238","v":0},{"$f":"'Rozliczenie końcowe'!I238","v":0},{"$f":"'Rozliczenie końcowe'!J238","v":0},{"$f":"'Rozliczenie końcowe'!K238","v":0},{"$f":"'Rozliczenie końcowe'!L238","v":0},{"$f":"'Rozliczenie końcowe'!M238","v":0},{"$f":"'Rozliczenie końcowe'!N238","v":0}]
[{"$f":"'Rozliczenie końcowe'!A121","v":0},{"$f":"'Rozliczenie końcowe'!B121","v":0},{"$f":"'Rozliczenie końcowe'!E121","v":"00:00:00"},{"$f":"'Rozliczenie końcowe'!C239","v":0},{"$f":"'Rozliczenie końcowe'!D239","v":0},{"$f":"'Rozliczenie końcowe'!E239","v":0},{"$f":"'Rozliczenie końcowe'!F239","v":0},{"$f":"'Rozliczenie końcowe'!G239","v":"00:00:00"},{"$f":"'Rozliczenie końcowe'!H239","v":0},{"$f":"'Rozliczenie końcowe'!I239","v":0},{"$f":"'Rozliczenie końcowe'!J239","v":0},{"$f":"'Rozliczenie końcowe'!K239","v":0},{"$f":"'Rozliczenie końcowe'!L239","v":0},{"$f":"'Rozliczenie końcowe'!M239","v":0},{"$f":"'Rozliczenie końcowe'!N239","v":0}]
[{"$f":"'Rozliczenie końcowe'!A122","v":0},{"$f":"'Rozliczenie końcowe'!B122","v":0},{"$f":"'Rozliczenie końcowe'!E122","v":"00:00:00"},{"$f":"'Rozliczenie końcowe'!C240","v":0},{"$f":"'Rozliczenie końcowe'!D240","v":0},{"$f":"'Rozliczenie końcowe'!E240","v":0},{"$f":"'Rozliczenie końcowe'!F240","v":0},{"$f":"'Rozliczenie końcowe'!G240","v":"00:00:00"},{"$f":"'Rozliczenie końcowe'!H240","v":0},{"$f":"'Rozliczenie końcowe'!I240","v":0},{"$f":"'Rozliczenie końcowe'!J240","v":0},{"$f":"'Rozliczenie końcowe'!K240","v":0},{"$f":"'Rozliczenie końcowe'!L240","v":0},{"$f":"'Rozliczenie końcowe'!M240","v":0},{"$f":"'Rozliczenie końcowe'!N240","v":0}]
[{"$f":"'Rozliczenie końcowe'!A123","v":0},{"$f":"'Rozliczenie końcowe'!B123","v":0},{"$f":"'Rozliczenie końcowe'!E123","v":"00:00:00"},{"$f":"'Rozliczenie końcowe'!C241","v":0},{"$f":"'Rozliczenie końcowe'!D241","v":0},{"$f":"'Rozliczenie końcowe'!E241","v":0},{"$f":"'Rozliczenie końcowe'!F241","v":0},{"$f":"'Rozliczenie końcowe'!G241","v":"00:00:00"},{"$f":"'Rozliczenie końcowe'!H241","v":0},{"$f":"'Rozliczenie końcowe'!I241","v":0},{"$f":"'Rozliczenie końcowe'!J241","v":0},{"$f":"'Rozliczenie końcowe'!K241","v":0},{"$f":"'Rozliczenie końcowe'!L241","v":0},{"$f":"'Rozliczenie końcowe'!M241","v":0},{"$f":"'Rozliczenie końcowe'!N241","v":0}]
[{"$f":"'Rozliczenie końcowe'!A124","v":0},{"$f":"'Rozliczenie końcowe'!B124","v":0},{"$f":"'Rozliczenie końcowe'!E124","v":"00:00:00"},{"$f":"'Rozliczenie końcowe'!C242","v":0},{"$f":"'Rozliczenie końcowe'!D242","v":0},{"$f":"'Rozliczenie końcowe'!E242","v":0},{"$f":"'Rozliczenie końcowe'!F242","v":0},{"$f":"'Rozliczenie końcowe'!G242","v":"00:00:00"},{"$f":"'Rozliczenie końcowe'!H242","v":0},{"$f":"'Rozliczenie końcowe'!I242","v":0},{"$f":"'Rozliczenie końcowe'!J242","v":0},{"$f":"'Rozliczenie końcowe'!K242","v":0},{"$f":"'Rozliczenie końcowe'!L242","v":0},{"$f":"'Rozliczenie końcowe'!M242","v":0},{"$f":"'Rozliczenie końcowe'!N242","v":0}]
[{"$f":"'Rozliczenie końcowe'!A125","v":0},{"$f":"'Rozliczenie końcowe'!B125","v":0},{"$f":"'Rozliczenie końcowe'!E125","v":"00:00:00"},{"$f":"'Rozliczenie końcowe'!C243","v":0},{"$f":"'Rozliczenie końcowe'!D243","v":0},{"$f":"'Rozliczenie końcowe'!E243","v":0},{"$f":"'Rozliczenie końcowe'!F243","v":0},{"$f":"'Rozliczenie końcowe'!G243","v":"00:00:00"},{"$f":"'Rozliczenie końcowe'!H243","v":0},{"$f":"'Rozliczenie końcowe'!I243","v":0},{"$f":"'Rozliczenie końcowe'!J243","v":0},{"$f":"'Rozliczenie końcowe'!K243","v":0},{"$f":"'Rozliczenie końcowe'!L243","v":0},{"$f":"'Rozliczenie końcowe'!M243","v":0},{"$f":"'Rozliczenie końcowe'!N243","v":0}]
[{"$f":"'Rozliczenie końcowe'!A126","v":0},{"$f":"'Rozliczenie końcowe'!B126","v":0},{"$f":"'Rozliczenie końcowe'!E126","v":"00:00:00"},{"$f":"'Rozliczenie końcowe'!C244","v":0},{"$f":"'Rozliczenie końcowe'!D244","v":0},{"$f":"'Rozliczenie końcowe'!E244","v":0},{"$f":"'Rozliczenie końcowe'!F244","v":0},{"$f":"'Rozliczenie końcowe'!G244","v":"00:00:00"},{"$f":"'Rozliczenie końcowe'!H244","v":0},{"$f":"'Rozliczenie końcowe'!I244","v":0},{"$f":"'Rozliczenie końcowe'!J244","v":0},{"$f":"'Rozliczenie końcowe'!K244","v":0},{"$f":"'Rozliczenie końcowe'!L244","v":0},{"$f":"'Rozliczenie końcowe'!M244","v":0},{"$f":"'Rozliczenie końcowe'!N244","v":0}]
[{"$f":"'Rozliczenie końcowe'!A127","v":0},{"$f":"'Rozliczenie końcowe'!B127","v":0},{"$f":"'Rozliczenie końcowe'!E127","v":"00:00:00"},{"$f":"'Rozliczenie końcowe'!C245","v":0},{"$f":"'Rozliczenie końcowe'!D245","v":0},{"$f":"'Rozliczenie końcowe'!E245","v":0},{"$f":"'Rozliczenie końcowe'!F245","v":0},{"$f":"'Rozliczenie końcowe'!G245","v":"00:00:00"},{"$f":"'Rozliczenie końcowe'!H245","v":0},{"$f":"'Rozliczenie końcowe'!I245","v":0},{"$f":"'Rozliczenie końcowe'!J245","v":0},{"$f":"'Rozliczenie końcowe'!K245","v":0},{"$f":"'Rozliczenie końcowe'!L245","v":0},{"$f":"'Rozliczenie końcowe'!M245","v":0},{"$f":"'Rozliczenie końcowe'!N245","v":0}]
[{"$f":"'Rozliczenie końcowe'!A128","v":0},{"$f":"'Rozliczenie końcowe'!B128","v":0},{"$f":"'Rozliczenie końcowe'!E128","v":"00:00:00"},{"$f":"'Rozliczenie końcowe'!C246","v":0},{"$f":"'Rozliczenie końcowe'!D246","v":0},{"$f":"'Rozliczenie końcowe'!E246","v":0},{"$f":"'Rozliczenie końcowe'!F246","v":0},{"$f":"'Rozliczenie końcowe'!G246","v":"00:00:00"},{"$f":"'Rozliczenie końcowe'!H246","v":0},{"$f":"'Rozliczenie końcowe'!I246","v":0},{"$f":"'Rozliczenie końcowe'!J246","v":0},{"$f":"'Rozliczenie końcowe'!K246","v":0},{"$f":"'Rozliczenie końcowe'!L246","v":0},{"$f":"'Rozliczenie końcowe'!M246","v":0},{"$f":"'Rozliczenie końcowe'!N246","v":0}]
[{"$f":"'Rozliczenie końcowe'!A129","v":0},{"$f":"'Rozliczenie końcowe'!B129","v":0},{"$f":"'Rozliczenie końcowe'!E129","v":"00:00:00"},{"$f":"'Rozliczenie końcowe'!C247","v":0},{"$f":"'Rozliczenie końcowe'!D247","v":0},{"$f":"'Rozliczenie końcowe'!E247","v":0},{"$f":"'Rozliczenie końcowe'!F247","v":0},{"$f":"'Rozliczenie końcowe'!G247","v":"00:00:00"},{"$f":"'Rozliczenie końcowe'!H247","v":0},{"$f":"'Rozliczenie końcowe'!I247","v":0},{"$f":"'Rozliczenie końcowe'!J247","v":0},{"$f":"'Rozliczenie końcowe'!K247","v":0},{"$f":"'Rozliczenie końcowe'!L247","v":0},{"$f":"'Rozliczenie końcowe'!M247","v":0},{"$f":"'Rozliczenie końcowe'!N247","v":0}]
[{"$f":"'Rozliczenie końcowe'!A130","v":0},{"$f":"'Rozliczenie końcowe'!B130","v":0},{"$f":"'Rozliczenie końcowe'!E130","v":"00:00:00"},{"$f":"'Rozliczenie końcowe'!C248","v":0},{"$f":"'Rozliczenie końcowe'!D248","v":0},{"$f":"'Rozliczenie końcowe'!E248","v":0},{"$f":"'Rozliczenie końcowe'!F248","v":0},{"$f":"'Rozliczenie końcowe'!G248","v":"00:00:00"},{"$f":"'Rozliczenie końcowe'!H248","v":0},{"$f":"'Rozliczenie końcowe'!I248","v":0},{"$f":"'Rozliczenie końcowe'!J248","v":0},{"$f":"'Rozliczenie końcowe'!K248","v":0},{"$f":"'Rozliczenie końcowe'!L248","v":0},{"$f":"'Rozliczenie końcowe'!M248","v":0},{"$f":"'Rozliczenie końcowe'!N248","v":0}]
[{"$f":"'Rozliczenie końcowe'!A131","v":0},{"$f":"'Rozliczenie końcowe'!B131","v":0},{"$f":"'Rozliczenie końcowe'!E131","v":"00:00:00"},{"$f":"'Rozliczenie końcowe'!C249","v":0},{"$f":"'Rozliczenie końcowe'!D249","v":0},{"$f":"'Rozliczenie końcowe'!E249","v":0},{"$f":"'Rozliczenie końcowe'!F249","v":0},{"$f":"'Rozliczenie końcowe'!G249","v":"00:00:00"},{"$f":"'Rozliczenie końcowe'!H249","v":0},{"$f":"'Rozliczenie końcowe'!I249","v":0},{"$f":"'Rozliczenie końcowe'!J249","v":0},{"$f":"'Rozliczenie końcowe'!K249","v":0},{"$f":"'Rozliczenie końcowe'!L249","v":0},{"$f":"'Rozliczenie końcowe'!M249","v":0},{"$f":"'Rozliczenie końcowe'!N249","v":0}]
[{"$f":"'Rozliczenie końcowe'!A132","v":0},{"$f":"'Rozliczenie końcowe'!B132","v":0},{"$f":"'Rozliczenie końcowe'!E132","v":"00:00:00"},{"$f":"'Rozliczenie końcowe'!C250","v":0},{"$f":"'Rozliczenie końcowe'!D250","v":0},{"$f":"'Rozliczenie końcowe'!E250","v":0},{"$f":"'Rozliczenie końcowe'!F250","v":0},{"$f":"'Rozliczenie końcowe'!G250","v":"00:00:00"},{"$f":"'Rozliczenie końcowe'!H250","v":0},{"$f":"'Rozliczenie końcowe'!I250","v":0},{"$f":"'Rozliczenie końcowe'!J250","v":0},{"$f":"'Rozliczenie końcowe'!K250","v":0},{"$f":"'Rozliczenie końcowe'!L250","v":0},{"$f":"'Rozliczenie końcowe'!M250","v":0},{"$f":"'Rozliczenie końcowe'!N250","v":0}]
[{"$f":"'Rozliczenie końcowe'!A133","v":0},{"$f":"'Rozliczenie końcowe'!B133","v":0},{"$f":"'Rozliczenie końcowe'!E133","v":"00:00:00"},{"$f":"'Rozliczenie końcowe'!C251","v":0},{"$f":"'Rozliczenie końcowe'!D251","v":0},{"$f":"'Rozliczenie końcowe'!E251","v":0},{"$f":"'Rozliczenie końcowe'!F251","v":0},{"$f":"'Rozliczenie końcowe'!G251","v":"00:00:00"},{"$f":"'Rozliczenie końcowe'!H251","v":0},{"$f":"'Rozliczenie końcowe'!I251","v":0},{"$f":"'Rozliczenie końcowe'!J251","v":0},{"$f":"'Rozliczenie końcowe'!K251","v":0},{"$f":"'Rozliczenie końcowe'!L251","v":0},{"$f":"'Rozliczenie końcowe'!M251","v":0},{"$f":"'Rozliczenie końcowe'!N251","v":0}]
[{"$f":"'Rozliczenie końcowe'!A134","v":0},{"$f":"'Rozliczenie końcowe'!B134","v":0},{"$f":"'Rozliczenie końcowe'!E134","v":"00:00:00"},{"$f":"'Rozliczenie końcowe'!C252","v":0},{"$f":"'Rozliczenie końcowe'!D252","v":0},{"$f":"'Rozliczenie końcowe'!E252","v":0},{"$f":"'Rozliczenie końcowe'!F252","v":0},{"$f":"'Rozliczenie końcowe'!G252","v":"00:00:00"},{"$f":"'Rozliczenie końcowe'!H252","v":0},{"$f":"'Rozliczenie końcowe'!I252","v":0},{"$f":"'Rozliczenie końcowe'!J252","v":0},{"$f":"'Rozliczenie końcowe'!K252","v":0},{"$f":"'Rozliczenie końcowe'!L252","v":0},{"$f":"'Rozliczenie końcowe'!M252","v":0},{"$f":"'Rozliczenie końcowe'!N252","v":0}]
[{"$f":"'Rozliczenie końcowe'!A135","v":0},{"$f":"'Rozliczenie końcowe'!B135","v":0},{"$f":"'Rozliczenie końcowe'!E135","v":"00:00:00"},{"$f":"'Rozliczenie końcowe'!C253","v":0},{"$f":"'Rozliczenie końcowe'!D253","v":0},{"$f":"'Rozliczenie końcowe'!E253","v":0},{"$f":"'Rozliczenie końcowe'!F253","v":0},{"$f":"'Rozliczenie końcowe'!G253","v":"00:00:00"},{"$f":"'Rozliczenie końcowe'!H253","v":0},{"$f":"'Rozliczenie końcowe'!I253","v":0},{"$f":"'Rozliczenie końcowe'!J253","v":0},{"$f":"'Rozliczenie końcowe'!K253","v":0},{"$f":"'Rozliczenie końcowe'!L253","v":0},{"$f":"'Rozliczenie końcowe'!M253","v":0},{"$f":"'Rozliczenie końcowe'!N253","v":0}]
[{"$f":"'Rozliczenie końcowe'!A136","v":0},{"$f":"'Rozliczenie końcowe'!B136","v":0},{"$f":"'Rozliczenie końcowe'!E136","v":"00:00:00"},{"$f":"'Rozliczenie końcowe'!C254","v":0},{"$f":"'Rozliczenie końcowe'!D254","v":0},{"$f":"'Rozliczenie końcowe'!E254","v":0},{"$f":"'Rozliczenie końcowe'!F254","v":0},{"$f":"'Rozliczenie końcowe'!G254","v":"00:00:00"},{"$f":"'Rozliczenie końcowe'!H254","v":0},{"$f":"'Rozliczenie końcowe'!I254","v":0},{"$f":"'Rozliczenie końcowe'!J254","v":0},{"$f":"'Rozliczenie końcowe'!K254","v":0},{"$f":"'Rozliczenie końcowe'!L254","v":0},{"$f":"'Rozliczenie końcowe'!M254","v":0},{"$f":"'Rozliczenie końcowe'!N254","v":0}]
[{"$f":"'Rozliczenie końcowe'!A137","v":0},{"$f":"'Rozliczenie końcowe'!B137","v":0},{"$f":"'Rozliczenie końcowe'!E137","v":"00:00:00"},{"$f":"'Rozliczenie końcowe'!C255","v":0},{"$f":"'Rozliczenie końcowe'!D255","v":0},{"$f":"'Rozliczenie końcowe'!E255","v":0},{"$f":"'Rozliczenie końcowe'!F255","v":0},{"$f":"'Rozliczenie końcowe'!G255","v":"00:00:00"},{"$f":"'Rozliczenie końcowe'!H255","v":0},{"$f":"'Rozliczenie końcowe'!I255","v":0},{"$f":"'Rozliczenie końcowe'!J255","v":0},{"$f":"'Rozliczenie końcowe'!K255","v":0},{"$f":"'Rozliczenie końcowe'!L255","v":0},{"$f":"'Rozliczenie końcowe'!M255","v":0},{"$f":"'Rozliczenie końcowe'!N255","v":0}]
[{"$f":"'Rozliczenie końcowe'!A138","v":0},{"$f":"'Rozliczenie końcowe'!B138","v":0},{"$f":"'Rozliczenie końcowe'!E138","v":"00:00:00"},{"$f":"'Rozliczenie końcowe'!C256","v":0},{"$f":"'Rozliczenie końcowe'!D256","v":0},{"$f":"'Rozliczenie końcowe'!E256","v":0},{"$f":"'Rozliczenie końcowe'!F256","v":0},{"$f":"'Rozliczenie końcowe'!G256","v":"00:00:00"},{"$f":"'Rozliczenie końcowe'!H256","v":0},{"$f":"'Rozliczenie końcowe'!I256","v":0},{"$f":"'Rozliczenie końcowe'!J256","v":0},{"$f":"'Rozliczenie końcowe'!K256","v":0},{"$f":"'Rozliczenie końcowe'!L256","v":0},{"$f":"'Rozliczenie końcowe'!M256","v":0},{"$f":"'Rozliczenie końcowe'!N256","v":0}]
[{"$f":"'Rozliczenie końcowe'!A139","v":0},{"$f":"'Rozliczenie końcowe'!B139","v":0},{"$f":"'Rozliczenie końcowe'!E139","v":"00:00:00"},{"$f":"'Rozliczenie końcowe'!C257","v":0},{"$f":"'Rozliczenie końcowe'!D257","v":0},{"$f":"'Rozliczenie końcowe'!E257","v":0},{"$f":"'Rozliczenie końcowe'!F257","v":0},{"$f":"'Rozliczenie końcowe'!G257","v":"00:00:00"},{"$f":"'Rozliczenie końcowe'!H257","v":0},{"$f":"'Rozliczenie końcowe'!I257","v":0},{"$f":"'Rozliczenie końcowe'!J257","v":0},{"$f":"'Rozliczenie końcowe'!K257","v":0},{"$f":"'Rozliczenie końcowe'!L257","v":0},{"$f":"'Rozliczenie końcowe'!M257","v":0},{"$f":"'Rozliczenie końcowe'!N257","v":0}]
[{"$f":"'Rozliczenie końcowe'!A140","v":0},{"$f":"'Rozliczenie końcowe'!B140","v":0},{"$f":"'Rozliczenie końcowe'!E140","v":"00:00:00"},{"$f":"'Rozliczenie końcowe'!C258","v":0},{"$f":"'Rozliczenie końcowe'!D258","v":0},{"$f":"'Rozliczenie końcowe'!E258","v":0},{"$f":"'Rozliczenie końcowe'!F258","v":0},{"$f":"'Rozliczenie końcowe'!G258","v":"00:00:00"},{"$f":"'Rozliczenie końcowe'!H258","v":0},{"$f":"'Rozliczenie końcowe'!I258","v":0},{"$f":"'Rozliczenie końcowe'!J258","v":0},{"$f":"'Rozliczenie końcowe'!K258","v":0},{"$f":"'Rozliczenie końcowe'!L258","v":0},{"$f":"'Rozliczenie końcowe'!M258","v":0},{"$f":"'Rozliczenie końcowe'!N258","v":0}]
[{"$f":"'Rozliczenie końcowe'!A141","v":0},{"$f":"'Rozliczenie końcowe'!B141","v":0},{"$f":"'Rozliczenie końcowe'!E141","v":"00:00:00"},{"$f":"'Rozliczenie końcowe'!C259","v":0},{"$f":"'Rozliczenie końcowe'!D259","v":0},{"$f":"'Rozliczenie końcowe'!E259","v":0},{"$f":"'Rozliczenie końcowe'!F259","v":0},{"$f":"'Rozliczenie końcowe'!G259","v":"00:00:00"},{"$f":"'Rozliczenie końcowe'!H259","v":0},{"$f":"'Rozliczenie końcowe'!I259","v":0},{"$f":"'Rozliczenie końcowe'!J259","v":0},{"$f":"'Rozliczenie końcowe'!K259","v":0},{"$f":"'Rozliczenie końcowe'!L259","v":0},{"$f":"'Rozliczenie końcowe'!M259","v":0},{"$f":"'Rozliczenie końcowe'!N259","v":0}]
[{"$f":"'Rozliczenie końcowe'!A142","v":0},{"$f":"'Rozliczenie końcowe'!B142","v":0},{"$f":"'Rozliczenie końcowe'!E142","v":"00:00:00"},{"$f":"'Rozliczenie końcowe'!C260","v":0},{"$f":"'Rozliczenie końcowe'!D260","v":0},{"$f":"'Rozliczenie końcowe'!E260","v":0},{"$f":"'Rozliczenie końcowe'!F260","v":0},{"$f":"'Rozliczenie końcowe'!G260","v":"00:00:00"},{"$f":"'Rozliczenie końcowe'!H260","v":0},{"$f":"'Rozliczenie końcowe'!I260","v":0},{"$f":"'Rozliczenie końcowe'!J260","v":0},{"$f":"'Rozliczenie końcowe'!K260","v":0},{"$f":"'Rozliczenie końcowe'!L260","v":0},{"$f":"'Rozliczenie końcowe'!M260","v":0},{"$f":"'Rozliczenie końcowe'!N260","v":0}]

{"sheet":"Dane - linie 2","index":8,"n_rows":111,"n_cols":14,"rows_kept":111,"cut":false,"hidden":true,"merged":[]}
["LP",{"$f":"'Rozliczenie końcowe'!A147","v":"Nazwa linii komunikacyjnej"},{"$f":"'Rozliczenie końcowe'!C148","v":"Środki własne\n(zł)"},{"$f":"'Rozliczenie końcowe'!D149","v":"Środki wypłacone przez Wojewodę"},{"$f":"'Rozliczenie końcowe'!E149","v":"Środki należne"},{"$f":"'Rozliczenie końcowe'!F149","v":"Różnica"},{"$f":"'Rozliczenie końcowe'!G149","v":"Data zwrotu na konto MUW"},"Praca eksploatacyjna - planowana","Praca ekzploatacyjna - zrealizowana","Praca eksploatacyjna - różnica","Kwota deficytu - planowana","Kwota deficytu - osiągnięta","Kwota deficytu - różnica","Liczba przewiezionych osób"]
[{"$f":"'Rozliczenie końcowe'!A151","v":0},{"$f":"'Rozliczenie końcowe'!B269","v":""},{"$f":"'Rozliczenie końcowe'!C269","v":0},{"$f":"'Rozliczenie końcowe'!D269","v":0},{"$f":"'Rozliczenie końcowe'!E269","v":0},{"$f":"'Rozliczenie końcowe'!F269","v":0},{"$f":"'Rozliczenie końcowe'!G269","v":"00:00:00"},{"$f":"'Rozliczenie końcowe'!H269","v":0},{"$f":"'Rozliczenie końcowe'!I269","v":0},{"$f":"'Rozliczenie końcowe'!J269","v":0},{"$f":"'Rozliczenie końcowe'!K269","v":0},{"$f":"'Rozliczenie końcowe'!L269","v":0},{"$f":"'Rozliczenie końcowe'!M269","v":0},{"$f":"'Rozliczenie końcowe'!N269","v":0}]
[{"$f":"'Rozliczenie końcowe'!A152","v":0},{"$f":"'Rozliczenie końcowe'!B270","v":""},{"$f":"'Rozliczenie końcowe'!C270","v":0},{"$f":"'Rozliczenie końcowe'!D270","v":0},{"$f":"'Rozliczenie końcowe'!E270","v":0},{"$f":"'Rozliczenie końcowe'!F270","v":0},{"$f":"'Rozliczenie końcowe'!G270","v":"00:00:00"},{"$f":"'Rozliczenie końcowe'!H270","v":0},{"$f":"'Rozliczenie końcowe'!I270","v":0},{"$f":"'Rozliczenie końcowe'!J270","v":0},{"$f":"'Rozliczenie końcowe'!K270","v":0},{"$f":"'Rozliczenie końcowe'!L270","v":0},{"$f":"'Rozliczenie końcowe'!M270","v":0},{"$f":"'Rozliczenie końcowe'!N270","v":0}]
[{"$f":"'Rozliczenie końcowe'!A153","v":0},{"$f":"'Rozliczenie końcowe'!B271","v":""},{"$f":"'Rozliczenie końcowe'!C271","v":0},{"$f":"'Rozliczenie końcowe'!D271","v":0},{"$f":"'Rozliczenie końcowe'!E271","v":0},{"$f":"'Rozliczenie końcowe'!F271","v":0},{"$f":"'Rozliczenie końcowe'!G271","v":"00:00:00"},{"$f":"'Rozliczenie końcowe'!H271","v":0},{"$f":"'Rozliczenie końcowe'!I271","v":0},{"$f":"'Rozliczenie końcowe'!J271","v":0},{"$f":"'Rozliczenie końcowe'!K271","v":0},{"$f":"'Rozliczenie końcowe'!L271","v":0},{"$f":"'Rozliczenie końcowe'!M271","v":0},{"$f":"'Rozliczenie końcowe'!N271","v":0}]
[{"$f":"'Rozliczenie końcowe'!A154","v":0},{"$f":"'Rozliczenie końcowe'!B272","v":""},{"$f":"'Rozliczenie końcowe'!C272","v":0},{"$f":"'Rozliczenie końcowe'!D272","v":0},{"$f":"'Rozliczenie końcowe'!E272","v":0},{"$f":"'Rozliczenie końcowe'!F272","v":0},{"$f":"'Rozliczenie końcowe'!G272","v":"00:00:00"},{"$f":"'Rozliczenie końcowe'!H272","v":0},{"$f":"'Rozliczenie końcowe'!I272","v":0},{"$f":"'Rozliczenie końcowe'!J272","v":0},{"$f":"'Rozliczenie końcowe'!K272","v":0},{"$f":"'Rozliczenie końcowe'!L272","v":0},{"$f":"'Rozliczenie końcowe'!M272","v":0},{"$f":"'Rozliczenie końcowe'!N272","v":0}]
[{"$f":"'Rozliczenie końcowe'!A155","v":0},{"$f":"'Rozliczenie końcowe'!B273","v":""},{"$f":"'Rozliczenie końcowe'!C273","v":0},{"$f":"'Rozliczenie końcowe'!D273","v":0},{"$f":"'Rozliczenie końcowe'!E273","v":0},{"$f":"'Rozliczenie końcowe'!F273","v":0},{"$f":"'Rozliczenie końcowe'!G273","v":"00:00:00"},{"$f":"'Rozliczenie końcowe'!H273","v":0},{"$f":"'Rozliczenie końcowe'!I273","v":0},{"$f":"'Rozliczenie końcowe'!J273","v":0},{"$f":"'Rozliczenie końcowe'!K273","v":0},{"$f":"'Rozliczenie końcowe'!L273","v":0},{"$f":"'Rozliczenie końcowe'!M273","v":0},{"$f":"'Rozliczenie końcowe'!N273","v":0}]
[{"$f":"'Rozliczenie końcowe'!A156","v":0},{"$f":"'Rozliczenie końcowe'!B274","v":""},{"$f":"'Rozliczenie końcowe'!C274","v":0},{"$f":"'Rozliczenie końcowe'!D274","v":0},{"$f":"'Rozliczenie końcowe'!E274","v":0},{"$f":"'Rozliczenie końcowe'!F274","v":0},{"$f":"'Rozliczenie końcowe'!G274","v":"00:00:00"},{"$f":"'Rozliczenie końcowe'!H274","v":0},{"$f":"'Rozliczenie końcowe'!I274","v":0},{"$f":"'Rozliczenie końcowe'!J274","v":0},{"$f":"'Rozliczenie końcowe'!K274","v":0},{"$f":"'Rozliczenie końcowe'!L274","v":0},{"$f":"'Rozliczenie końcowe'!M274","v":0},{"$f":"'Rozliczenie końcowe'!N274","v":0}]
[{"$f":"'Rozliczenie końcowe'!A157","v":0},{"$f":"'Rozliczenie końcowe'!B275","v":""},{"$f":"'Rozliczenie końcowe'!C275","v":0},{"$f":"'Rozliczenie końcowe'!D275","v":0},{"$f":"'Rozliczenie końcowe'!E275","v":0},{"$f":"'Rozliczenie końcowe'!F275","v":0},{"$f":"'Rozliczenie końcowe'!G275","v":"00:00:00"},{"$f":"'Rozliczenie końcowe'!H275","v":0},{"$f":"'Rozliczenie końcowe'!I275","v":0},{"$f":"'Rozliczenie końcowe'!J275","v":0},{"$f":"'Rozliczenie końcowe'!K275","v":0},{"$f":"'Rozliczenie końcowe'!L275","v":0},{"$f":"'Rozliczenie końcowe'!M275","v":0},{"$f":"'Rozliczenie końcowe'!N275","v":0}]
[{"$f":"'Rozliczenie końcowe'!A158","v":0},{"$f":"'Rozliczenie końcowe'!B276","v":""},{"$f":"'Rozliczenie końcowe'!C276","v":0},{"$f":"'Rozliczenie końcowe'!D276","v":0},{"$f":"'Rozliczenie końcowe'!E276","v":0},{"$f":"'Rozliczenie końcowe'!F276","v":0},{"$f":"'Rozliczenie końcowe'!G276","v":"00:00:00"},{"$f":"'Rozliczenie końcowe'!H276","v":0},{"$f":"'Rozliczenie końcowe'!I276","v":0},{"$f":"'Rozliczenie końcowe'!J276","v":0},{"$f":"'Rozliczenie końcowe'!K276","v":0},{"$f":"'Rozliczenie końcowe'!L276","v":0},{"$f":"'Rozliczenie końcowe'!M276","v":0},{"$f":"'Rozliczenie końcowe'!N276","v":0}]
[{"$f":"'Rozliczenie końcowe'!A159","v":0},{"$f":"'Rozliczenie końcowe'!B277","v":""},{"$f":"'Rozliczenie końcowe'!C277","v":0},{"$f":"'Rozliczenie końcowe'!D277","v":0},{"$f":"'Rozliczenie końcowe'!E277","v":0},{"$f":"'Rozliczenie końcowe'!F277","v":0},{"$f":"'Rozliczenie końcowe'!G277","v":"00:00:00"},{"$f":"'Rozliczenie końcowe'!H277","v":0},{"$f":"'Rozliczenie końcowe'!I277","v":0},{"$f":"'Rozliczenie końcowe'!J277","v":0},{"$f":"'Rozliczenie końcowe'!K277","v":0},{"$f":"'Rozliczenie końcowe'!L277","v":0},{"$f":"'Rozliczenie końcowe'!M277","v":0},{"$f":"'Rozliczenie końcowe'!N277","v":0}]
[{"$f":"'Rozliczenie końcowe'!A160","v":0},{"$f":"'Rozliczenie końcowe'!B278","v":""},{"$f":"'Rozliczenie końcowe'!C278","v":0},{"$f":"'Rozliczenie końcowe'!D278","v":0},{"$f":"'Rozliczenie końcowe'!E278","v":0},{"$f":"'Rozliczenie końcowe'!F278","v":0},{"$f":"'Rozliczenie końcowe'!G278","v":"00:00:00"},{"$f":"'Rozliczenie końcowe'!H278","v":0},{"$f":"'Rozliczenie końcowe'!I278","v":0},{"$f":"'Rozliczenie końcowe'!J278","v":0},{"$f":"'Rozliczenie końcowe'!K278","v":0},{"$f":"'Rozliczenie końcowe'!L278","v":0},{"$f":"'Rozliczenie końcowe'!M278","v":0},{"$f":"'Rozliczenie końcowe'!N278","v":0}]
[{"$f":"'Rozliczenie końcowe'!A161","v":0},{"$f":"'Rozliczenie końcowe'!B279","v":""},{"$f":"'Rozliczenie końcowe'!C279","v":0},{"$f":"'Rozliczenie końcowe'!D279","v":0},{"$f":"'Rozliczenie końcowe'!E279","v":0},{"$f":"'Rozliczenie końcowe'!F279","v":0},{"$f":"'Rozliczenie końcowe'!G279","v":"00:00:00"},{"$f":"'Rozliczenie końcowe'!H279","v":0},{"$f":"'Rozliczenie końcowe'!I279","v":0},{"$f":"'Rozliczenie końcowe'!J279","v":0},{"$f":"'Rozliczenie końcowe'!K279","v":0},{"$f":"'Rozliczenie końcowe'!L279","v":0},{"$f":"'Rozliczenie końcowe'!M279","v":0},{"$f":"'Rozliczenie końcowe'!N279","v":0}]
[{"$f":"'Rozliczenie końcowe'!A162","v":0},{"$f":"'Rozliczenie końcowe'!B280","v":""},{"$f":"'Rozliczenie końcowe'!C280","v":0},{"$f":"'Rozliczenie końcowe'!D280","v":0},{"$f":"'Rozliczenie końcowe'!E280","v":0},{"$f":"'Rozliczenie końcowe'!F280","v":0},{"$f":"'Rozliczenie końcowe'!G280","v":"00:00:00"},{"$f":"'Rozliczenie końcowe'!H280","v":0},{"$f":"'Rozliczenie końcowe'!I280","v":0},{"$f":"'Rozliczenie końcowe'!J280","v":0},{"$f":"'Rozliczenie końcowe'!K280","v":0},{"$f":"'Rozliczenie końcowe'!L280","v":0},{"$f":"'Rozliczenie końcowe'!M280","v":0},{"$f":"'Rozliczenie końcowe'!N280","v":0}]
[{"$f":"'Rozliczenie końcowe'!A163","v":0},{"$f":"'Rozliczenie końcowe'!B281","v":""},{"$f":"'Rozliczenie końcowe'!C281","v":0},{"$f":"'Rozliczenie końcowe'!D281","v":0},{"$f":"'Rozliczenie końcowe'!E281","v":0},{"$f":"'Rozliczenie końcowe'!F281","v":0},{"$f":"'Rozliczenie końcowe'!G281","v":"00:00:00"},{"$f":"'Rozliczenie końcowe'!H281","v":0},{"$f":"'Rozliczenie końcowe'!I281","v":0},{"$f":"'Rozliczenie końcowe'!J281","v":0},{"$f":"'Rozliczenie końcowe'!K281","v":0},{"$f":"'Rozliczenie końcowe'!L281","v":0},{"$f":"'Rozliczenie końcowe'!M281","v":0},{"$f":"'Rozliczenie końcowe'!N281","v":0}]
[{"$f":"'Rozliczenie końcowe'!A164","v":0},{"$f":"'Rozliczenie końcowe'!B282","v":""},{"$f":"'Rozliczenie końcowe'!C282","v":0},{"$f":"'Rozliczenie końcowe'!D282","v":0},{"$f":"'Rozliczenie końcowe'!E282","v":0},{"$f":"'Rozliczenie końcowe'!F282","v":0},{"$f":"'Rozliczenie końcowe'!G282","v":"00:00:00"},{"$f":"'Rozliczenie końcowe'!H282","v":0},{"$f":"'Rozliczenie końcowe'!I282","v":0},{"$f":"'Rozliczenie końcowe'!J282","v":0},{"$f":"'Rozliczenie końcowe'!K282","v":0},{"$f":"'Rozliczenie końcowe'!L282","v":0},{"$f":"'Rozliczenie końcowe'!M282","v":0},{"$f":"'Rozliczenie końcowe'!N282","v":0}]
[{"$f":"'Rozliczenie końcowe'!A165","v":0},{"$f":"'Rozliczenie końcowe'!B283","v":""},{"$f":"'Rozliczenie końcowe'!C283","v":0},{"$f":"'Rozliczenie końcowe'!D283","v":0},{"$f":"'Rozliczenie końcowe'!E283","v":0},{"$f":"'Rozliczenie końcowe'!F283","v":0},{"$f":"'Rozliczenie końcowe'!G283","v":"00:00:00"},{"$f":"'Rozliczenie końcowe'!H283","v":0},{"$f":"'Rozliczenie końcowe'!I283","v":0},{"$f":"'Rozliczenie końcowe'!J283","v":0},{"$f":"'Rozliczenie końcowe'!K283","v":0},{"$f":"'Rozliczenie końcowe'!L283","v":0},{"$f":"'Rozliczenie końcowe'!M283","v":0},{"$f":"'Rozliczenie końcowe'!N283","v":0}]
[{"$f":"'Rozliczenie końcowe'!A166","v":0},{"$f":"'Rozliczenie końcowe'!B284","v":""},{"$f":"'Rozliczenie końcowe'!C284","v":0},{"$f":"'Rozliczenie końcowe'!D284","v":0},{"$f":"'Rozliczenie końcowe'!E284","v":0},{"$f":"'Rozliczenie końcowe'!F284","v":0},{"$f":"'Rozliczenie końcowe'!G284","v":"00:00:00"},{"$f":"'Rozliczenie końcowe'!H284","v":0},{"$f":"'Rozliczenie końcowe'!I284","v":0},{"$f":"'Rozliczenie końcowe'!J284","v":0},{"$f":"'Rozliczenie końcowe'!K284","v":0},{"$f":"'Rozliczenie końcowe'!L284","v":0},{"$f":"'Rozliczenie końcowe'!M284","v":0},{"$f":"'Rozliczenie końcowe'!N284","v":0}]
[{"$f":"'Rozliczenie końcowe'!A167","v":0},{"$f":"'Rozliczenie końcowe'!B285","v":""},{"$f":"'Rozliczenie końcowe'!C285","v":0},{"$f":"'Rozliczenie końcowe'!D285","v":0},{"$f":"'Rozliczenie końcowe'!E285","v":0},{"$f":"'Rozliczenie końcowe'!F285","v":0},{"$f":"'Rozliczenie końcowe'!G285","v":"00:00:00"},{"$f":"'Rozliczenie końcowe'!H285","v":0},{"$f":"'Rozliczenie końcowe'!I285","v":0},{"$f":"'Rozliczenie końcowe'!J285","v":0},{"$f":"'Rozliczenie końcowe'!K285","v":0},{"$f":"'Rozliczenie końcowe'!L285","v":0},{"$f":"'Rozliczenie końcowe'!M285","v":0},{"$f":"'Rozliczenie końcowe'!N285","v":0}]
[{"$f":"'Rozliczenie końcowe'!A168","v":0},{"$f":"'Rozliczenie końcowe'!B286","v":""},{"$f":"'Rozliczenie końcowe'!C286","v":0},{"$f":"'Rozliczenie końcowe'!D286","v":0},{"$f":"'Rozliczenie końcowe'!E286","v":0},{"$f":"'Rozliczenie końcowe'!F286","v":0},{"$f":"'Rozliczenie końcowe'!G286","v":"00:00:00"},{"$f":"'Rozliczenie końcowe'!H286","v":0},{"$f":"'Rozliczenie końcowe'!I286","v":0},{"$f":"'Rozliczenie końcowe'!J286","v":0},{"$f":"'Rozliczenie końcowe'!K286","v":0},{"$f":"'Rozliczenie końcowe'!L286","v":0},{"$f":"'Rozliczenie końcowe'!M286","v":0},{"$f":"'Rozliczenie końcowe'!N286","v":0}]
[{"$f":"'Rozliczenie końcowe'!A169","v":0},{"$f":"'Rozliczenie końcowe'!B287","v":""},{"$f":"'Rozliczenie końcowe'!C287","v":0},{"$f":"'Rozliczenie końcowe'!D287","v":0},{"$f":"'Rozliczenie końcowe'!E287","v":0},{"$f":"'Rozliczenie końcowe'!F287","v":0},{"$f":"'Rozliczenie końcowe'!G287","v":"00:00:00"},{"$f":"'Rozliczenie końcowe'!H287","v":0},{"$f":"'Rozliczenie końcowe'!I287","v":0},{"$f":"'Rozliczenie końcowe'!J287","v":0},{"$f":"'Rozliczenie końcowe'!K287","v":0},{"$f":"'Rozliczenie końcowe'!L287","v":0},{"$f":"'Rozliczenie końcowe'!M287","v":0},{"$f":"'Rozliczenie końcowe'!N287","v":0}]
[{"$f":"'Rozliczenie końcowe'!A170","v":0},{"$f":"'Rozliczenie końcowe'!B288","v":""},{"$f":"'Rozliczenie końcowe'!C288","v":0},{"$f":"'Rozliczenie końcowe'!D288","v":0},{"$f":"'Rozliczenie końcowe'!E288","v":0},{"$f":"'Rozliczenie końcowe'!F288","v":0},{"$f":"'Rozliczenie końcowe'!G288","v":"00:00:00"},{"$f":"'Rozliczenie końcowe'!H288","v":0},{"$f":"'Rozliczenie końcowe'!I288","v":0},{"$f":"'Rozliczenie końcowe'!J288","v":0},{"$f":"'Rozliczenie końcowe'!K288","v":0},{"$f":"'Rozliczenie końcowe'!L288","v":0},{"$f":"'Rozliczenie końcowe'!M288","v":0},{"$f":"'Rozliczenie końcowe'!N288","v":0}]
[{"$f":"'Rozliczenie końcowe'!A171","v":0},{"$f":"'Rozliczenie końcowe'!B289","v":""},{"$f":"'Rozliczenie końcowe'!C289","v":0},{"$f":"'Rozliczenie końcowe'!D289","v":0},{"$f":"'Rozliczenie końcowe'!E289","v":0},{"$f":"'Rozliczenie końcowe'!F289","v":0},{"$f":"'Rozliczenie końcowe'!G289","v":"00:00:00"},{"$f":"'Rozliczenie końcowe'!H289","v":0},{"$f":"'Rozliczenie końcowe'!I289","v":0},{"$f":"'Rozliczenie końcowe'!J289","v":0},{"$f":"'Rozliczenie końcowe'!K289","v":0},{"$f":"'Rozliczenie końcowe'!L289","v":0},{"$f":"'Rozliczenie końcowe'!M289","v":0},{"$f":"'Rozliczenie końcowe'!N289","v":0}]
[{"$f":"'Rozliczenie końcowe'!A172","v":0},{"$f":"'Rozliczenie końcowe'!B290","v":""},{"$f":"'Rozliczenie końcowe'!C290","v":0},{"$f":"'Rozliczenie końcowe'!D290","v":0},{"$f":"'Rozliczenie końcowe'!E290","v":0},{"$f":"'Rozliczenie końcowe'!F290","v":0},{"$f":"'Rozliczenie końcowe'!G290","v":"00:00:00"},{"$f":"'Rozliczenie końcowe'!H290","v":0},{"$f":"'Rozliczenie końcowe'!I290","v":0},{"$f":"'Rozliczenie końcowe'!J290","v":0},{"$f":"'Rozliczenie końcowe'!K290","v":0},{"$f":"'Rozliczenie końcowe'!L290","v":0},{"$f":"'Rozliczenie końcowe'!M290","v":0},{"$f":"'Rozliczenie końcowe'!N290","v":0}]
[{"$f":"'Rozliczenie końcowe'!A173","v":0},{"$f":"'Rozliczenie końcowe'!B291","v":""},{"$f":"'Rozliczenie końcowe'!C291","v":0},{"$f":"'Rozliczenie końcowe'!D291","v":0},{"$f":"'Rozliczenie końcowe'!E291","v":0},{"$f":"'Rozliczenie końcowe'!F291","v":0},{"$f":"'Rozliczenie końcowe'!G291","v":"00:00:00"},{"$f":"'Rozliczenie końcowe'!H291","v":0},{"$f":"'Rozliczenie końcowe'!I291","v":0},{"$f":"'Rozliczenie końcowe'!J291","v":0},{"$f":"'Rozliczenie końcowe'!K291","v":0},{"$f":"'Rozliczenie końcowe'!L291","v":0},{"$f":"'Rozliczenie końcowe'!M291","v":0},{"$f":"'Rozliczenie końcowe'!N291","v":0}]
[{"$f":"'Rozliczenie końcowe'!A174","v":0},{"$f":"'Rozliczenie końcowe'!B292","v":""},{"$f":"'Rozliczenie końcowe'!C292","v":0},{"$f":"'Rozliczenie końcowe'!D292","v":0},{"$f":"'Rozliczenie końcowe'!E292","v":0},{"$f":"'Rozliczenie końcowe'!F292","v":0},{"$f":"'Rozliczenie końcowe'!G292","v":"00:00:00"},{"$f":"'Rozliczenie końcowe'!H292","v":0},{"$f":"'Rozliczenie końcowe'!I292","v":0},{"$f":"'Rozliczenie końcowe'!J292","v":0},{"$f":"'Rozliczenie końcowe'!K292","v":0},{"$f":"'Rozliczenie końcowe'!L292","v":0},{"$f":"'Rozliczenie końcowe'!M292","v":0},{"$f":"'Rozliczenie końcowe'!N292","v":0}]
[{"$f":"'Rozliczenie końcowe'!A175","v":0},{"$f":"'Rozliczenie końcowe'!B293","v":""},{"$f":"'Rozliczenie końcowe'!C293","v":0},{"$f":"'Rozliczenie końcowe'!D293","v":0},{"$f":"'Rozliczenie końcowe'!E293","v":0},{"$f":"'Rozliczenie końcowe'!F293","v":0},{"$f":"'Rozliczenie końcowe'!G293","v":"00:00:00"},{"$f":"'Rozliczenie końcowe'!H293","v":0},{"$f":"'Rozliczenie końcowe'!I293","v":0},{"$f":"'Rozliczenie końcowe'!J293","v":0},{"$f":"'Rozliczenie końcowe'!K293","v":0},{"$f":"'Rozliczenie końcowe'!L293","v":0},{"$f":"'Rozliczenie końcowe'!M293","v":0},{"$f":"'Rozliczenie końcowe'!N293","v":0}]
[{"$f":"'Rozliczenie końcowe'!A176","v":0},{"$f":"'Rozliczenie końcowe'!B294","v":""},{"$f":"'Rozliczenie końcowe'!C294","v":0},{"$f":"'Rozliczenie końcowe'!D294","v":0},{"$f":"'Rozliczenie końcowe'!E294","v":0},{"$f":"'Rozliczenie końcowe'!F294","v":0},{"$f":"'Rozliczenie końcowe'!G294","v":"00:00:00"},{"$f":"'Rozliczenie końcowe'!H294","v":0},{"$f":"'Rozliczenie końcowe'!I294","v":0},{"$f":"'Rozliczenie końcowe'!J294","v":0},{"$f":"'Rozliczenie końcowe'!K294","v":0},{"$f":"'Rozliczenie końcowe'!L294","v":0},{"$f":"'Rozliczenie końcowe'!M294","v":0},{"$f":"'Rozliczenie końcowe'!N294","v":0}]
[{"$f":"'Rozliczenie końcowe'!A177","v":0},{"$f":"'Rozliczenie końcowe'!B295","v":""},{"$f":"'Rozliczenie końcowe'!C295","v":0},{"$f":"'Rozliczenie końcowe'!D295","v":0},{"$f":"'Rozliczenie końcowe'!E295","v":0},{"$f":"'Rozliczenie końcowe'!F295","v":0},{"$f":"'Rozliczenie końcowe'!G295","v":"00:00:00"},{"$f":"'Rozliczenie końcowe'!H295","v":0},{"$f":"'Rozliczenie końcowe'!I295","v":0},{"$f":"'Rozliczenie końcowe'!J295","v":0},{"$f":"'Rozliczenie końcowe'!K295","v":0},{"$f":"'Rozliczenie końcowe'!L295","v":0},{"$f":"'Rozliczenie końcowe'!M295","v":0},{"$f":"'Rozliczenie końcowe'!N295","v":0}]
[{"$f":"'Rozliczenie końcowe'!A178","v":0},{"$f":"'Rozliczenie końcowe'!B296","v":""},{"$f":"'Rozliczenie końcowe'!C296","v":0},{"$f":"'Rozliczenie końcowe'!D296","v":0},{"$f":"'Rozliczenie końcowe'!E296","v":0},{"$f":"'Rozliczenie końcowe'!F296","v":0},{"$f":"'Rozliczenie końcowe'!G296","v":"00:00:00"},{"$f":"'Rozliczenie końcowe'!H296","v":0},{"$f":"'Rozliczenie końcowe'!I296","v":0},{"$f":"'Rozliczenie końcowe'!J296","v":0},{"$f":"'Rozliczenie końcowe'!K296","v":0},{"$f":"'Rozliczenie końcowe'!L296","v":0},{"$f":"'Rozliczenie końcowe'!M296","v":0},{"$f":"'Rozliczenie końcowe'!N296","v":0}]
[{"$f":"'Rozliczenie końcowe'!A179","v":0},{"$f":"'Rozliczenie końcowe'!B297","v":""},{"$f":"'Rozliczenie końcowe'!C297","v":0},{"$f":"'Rozliczenie końcowe'!D297","v":0},{"$f":"'Rozliczenie końcowe'!E297","v":0},{"$f":"'Rozliczenie końcowe'!F297","v":0},{"$f":"'Rozliczenie końcowe'!G297","v":"00:00:00"},{"$f":"'Rozliczenie końcowe'!H297","v":0},{"$f":"'Rozliczenie końcowe'!I297","v":0},{"$f":"'Rozliczenie końcowe'!J297","v":0},{"$f":"'Rozliczenie końcowe'!K297","v":0},{"$f":"'Rozliczenie końcowe'!L297","v":0},{"$f":"'Rozliczenie końcowe'!M297","v":0},{"$f":"'Rozliczenie końcowe'!N297","v":0}]
[{"$f":"'Rozliczenie końcowe'!A180","v":0},{"$f":"'Rozliczenie końcowe'!B298","v":""},{"$f":"'Rozliczenie końcowe'!C298","v":0},{"$f":"'Rozliczenie końcowe'!D298","v":0},{"$f":"'Rozliczenie końcowe'!E298","v":0},{"$f":"'Rozliczenie końcowe'!F298","v":0},{"$f":"'Rozliczenie końcowe'!G298","v":"00:00:00"},{"$f":"'Rozliczenie końcowe'!H298","v":0},{"$f":"'Rozliczenie końcowe'!I298","v":0},{"$f":"'Rozliczenie końcowe'!J298","v":0},{"$f":"'Rozliczenie końcowe'!K298","v":0},{"$f":"'Rozliczenie końcowe'!L298","v":0},{"$f":"'Rozliczenie końcowe'!M298","v":0},{"$f":"'Rozliczenie końcowe'!N298","v":0}]
[{"$f":"'Rozliczenie końcowe'!A181","v":0},{"$f":"'Rozliczenie końcowe'!B299","v":""},{"$f":"'Rozliczenie końcowe'!C299","v":0},{"$f":"'Rozliczenie końcowe'!D299","v":0},{"$f":"'Rozliczenie końcowe'!E299","v":0},{"$f":"'Rozliczenie końcowe'!F299","v":0},{"$f":"'Rozliczenie końcowe'!G299","v":"00:00:00"},{"$f":"'Rozliczenie końcowe'!H299","v":0},{"$f":"'Rozliczenie końcowe'!I299","v":0},{"$f":"'Rozliczenie końcowe'!J299","v":0},{"$f":"'Rozliczenie końcowe'!K299","v":0},{"$f":"'Rozliczenie końcowe'!L299","v":0},{"$f":"'Rozliczenie końcowe'!M299","v":0},{"$f":"'Rozliczenie końcowe'!N299","v":0}]
[{"$f":"'Rozliczenie końcowe'!A182","v":0},{"$f":"'Rozliczenie końcowe'!B300","v":""},{"$f":"'Rozliczenie końcowe'!C300","v":0},{"$f":"'Rozliczenie końcowe'!D300","v":0},{"$f":"'Rozliczenie końcowe'!E300","v":0},{"$f":"'Rozliczenie końcowe'!F300","v":0},{"$f":"'Rozliczenie końcowe'!G300","v":"00:00:00"},{"$f":"'Rozliczenie końcowe'!H300","v":0},{"$f":"'Rozliczenie końcowe'!I300","v":0},{"$f":"'Rozliczenie końcowe'!J300","v":0},{"$f":"'Rozliczenie końcowe'!K300","v":0},{"$f":"'Rozliczenie końcowe'!L300","v":0},{"$f":"'Rozliczenie końcowe'!M300","v":0},{"$f":"'Rozliczenie końcowe'!N300","v":0}]
[{"$f":"'Rozliczenie końcowe'!A183","v":0},{"$f":"'Rozliczenie końcowe'!B301","v":""},{"$f":"'Rozliczenie końcowe'!C301","v":0},{"$f":"'Rozliczenie końcowe'!D301","v":0},{"$f":"'Rozliczenie końcowe'!E301","v":0},{"$f":"'Rozliczenie końcowe'!F301","v":0},{"$f":"'Rozliczenie końcowe'!G301","v":"00:00:00"},{"$f":"'Rozliczenie końcowe'!H301","v":0},{"$f":"'Rozliczenie końcowe'!I301","v":0},{"$f":"'Rozliczenie końcowe'!J301","v":0},{"$f":"'Rozliczenie końcowe'!K301","v":0},{"$f":"'Rozliczenie końcowe'!L301","v":0},{"$f":"'Rozliczenie końcowe'!M301","v":0},{"$f":"'Rozliczenie końcowe'!N301","v":0}]
[{"$f":"'Rozliczenie końcowe'!A184","v":0},{"$f":"'Rozliczenie końcowe'!B302","v":""},{"$f":"'Rozliczenie końcowe'!C302","v":0},{"$f":"'Rozliczenie końcowe'!D302","v":0},{"$f":"'Rozliczenie końcowe'!E302","v":0},{"$f":"'Rozliczenie końcowe'!F302","v":0},{"$f":"'Rozliczenie końcowe'!G302","v":"00:00:00"},{"$f":"'Rozliczenie końcowe'!H302","v":0},{"$f":"'Rozliczenie końcowe'!I302","v":0},{"$f":"'Rozliczenie końcowe'!J302","v":0},{"$f":"'Rozliczenie końcowe'!K302","v":0},{"$f":"'Rozliczenie końcowe'!L302","v":0},{"$f":"'Rozliczenie końcowe'!M302","v":0},{"$f":"'Rozliczenie końcowe'!N302","v":0}]
[{"$f":"'Rozliczenie końcowe'!A185","v":0},{"$f":"'Rozliczenie końcowe'!B303","v":""},{"$f":"'Rozliczenie końcowe'!C303","v":0},{"$f":"'Rozliczenie końcowe'!D303","v":0},{"$f":"'Rozliczenie końcowe'!E303","v":0},{"$f":"'Rozliczenie końcowe'!F303","v":0},{"$f":"'Rozliczenie końcowe'!G303","v":"00:00:00"},{"$f":"'Rozliczenie końcowe'!H303","v":0},{"$f":"'Rozliczenie końcowe'!I303","v":0},{"$f":"'Rozliczenie końcowe'!J303","v":0},{"$f":"'Rozliczenie końcowe'!K303","v":0},{"$f":"'Rozliczenie końcowe'!L303","v":0},{"$f":"'Rozliczenie końcowe'!M303","v":0},{"$f":"'Rozliczenie końcowe'!N303","v":0}]
[{"$f":"'Rozliczenie końcowe'!A186","v":0},{"$f":"'Rozliczenie końcowe'!B304","v":""},{"$f":"'Rozliczenie końcowe'!C304","v":0},{"$f":"'Rozliczenie końcowe'!D304","v":0},{"$f":"'Rozliczenie końcowe'!E304","v":0},{"$f":"'Rozliczenie końcowe'!F304","v":0},{"$f":"'Rozliczenie końcowe'!G304","v":"00:00:00"},{"$f":"'Rozliczenie końcowe'!H304","v":0},{"$f":"'Rozliczenie końcowe'!I304","v":0},{"$f":"'Rozliczenie końcowe'!J304","v":0},{"$f":"'Rozliczenie końcowe'!K304","v":0},{"$f":"'Rozliczenie końcowe'!L304","v":0},{"$f":"'Rozliczenie końcowe'!M304","v":0},{"$f":"'Rozliczenie końcowe'!N304","v":0}]
[{"$f":"'Rozliczenie końcowe'!A187","v":0},{"$f":"'Rozliczenie końcowe'!B305","v":""},{"$f":"'Rozliczenie końcowe'!C305","v":0},{"$f":"'Rozliczenie końcowe'!D305","v":0},{"$f":"'Rozliczenie końcowe'!E305","v":0},{"$f":"'Rozliczenie końcowe'!F305","v":0},{"$f":"'Rozliczenie końcowe'!G305","v":"00:00:00"},{"$f":"'Rozliczenie końcowe'!H305","v":0},{"$f":"'Rozliczenie końcowe'!I305","v":0},{"$f":"'Rozliczenie końcowe'!J305","v":0},{"$f":"'Rozliczenie końcowe'!K305","v":0},{"$f":"'Rozliczenie końcowe'!L305","v":0},{"$f":"'Rozliczenie końcowe'!M305","v":0},{"$f":"'Rozliczenie końcowe'!N305","v":0}]
[{"$f":"'Rozliczenie końcowe'!A188","v":0},{"$f":"'Rozliczenie końcowe'!B306","v":""},{"$f":"'Rozliczenie końcowe'!C306","v":0},{"$f":"'Rozliczenie końcowe'!D306","v":0},{"$f":"'Rozliczenie końcowe'!E306","v":0},{"$f":"'Rozliczenie końcowe'!F306","v":0},{"$f":"'Rozliczenie końcowe'!G306","v":"00:00:00"},{"$f":"'Rozliczenie końcowe'!H306","v":0},{"$f":"'Rozliczenie końcowe'!I306","v":0},{"$f":"'Rozliczenie końcowe'!J306","v":0},{"$f":"'Rozliczenie końcowe'!K306","v":0},{"$f":"'Rozliczenie końcowe'!L306","v":0},{"$f":"'Rozliczenie końcowe'!M306","v":0},{"$f":"'Rozliczenie końcowe'!N306","v":0}]
[{"$f":"'Rozliczenie końcowe'!A189","v":0},{"$f":"'Rozliczenie końcowe'!B307","v":""},{"$f":"'Rozliczenie końcowe'!C307","v":0},{"$f":"'Rozliczenie końcowe'!D307","v":0},{"$f":"'Rozliczenie końcowe'!E307","v":0},{"$f":"'Rozliczenie końcowe'!F307","v":0},{"$f":"'Rozliczenie końcowe'!G307","v":"00:00:00"},{"$f":"'Rozliczenie końcowe'!H307","v":0},{"$f":"'Rozliczenie końcowe'!I307","v":0},{"$f":"'Rozliczenie końcowe'!J307","v":0},{"$f":"'Rozliczenie końcowe'!K307","v":0},{"$f":"'Rozliczenie końcowe'!L307","v":0},{"$f":"'Rozliczenie końcowe'!M307","v":0},{"$f":"'Rozliczenie końcowe'!N307","v":0}]
[{"$f":"'Rozliczenie końcowe'!A190","v":0},{"$f":"'Rozliczenie końcowe'!B308","v":""},{"$f":"'Rozliczenie końcowe'!C308","v":0},{"$f":"'Rozliczenie końcowe'!D308","v":0},{"$f":"'Rozliczenie końcowe'!E308","v":0},{"$f":"'Rozliczenie końcowe'!F308","v":0},{"$f":"'Rozliczenie końcowe'!G308","v":"00:00:00"},{"$f":"'Rozliczenie końcowe'!H308","v":0},{"$f":"'Rozliczenie końcowe'!I308","v":0},{"$f":"'Rozliczenie końcowe'!J308","v":0},{"$f":"'Rozliczenie końcowe'!K308","v":0},{"$f":"'Rozliczenie końcowe'!L308","v":0},{"$f":"'Rozliczenie końcowe'!M308","v":0},{"$f":"'Rozliczenie końcowe'!N308","v":0}]
[{"$f":"'Rozliczenie końcowe'!A191","v":0},{"$f":"'Rozliczenie końcowe'!B309","v":""},{"$f":"'Rozliczenie końcowe'!C309","v":0},{"$f":"'Rozliczenie końcowe'!D309","v":0},{"$f":"'Rozliczenie końcowe'!E309","v":0},{"$f":"'Rozliczenie końcowe'!F309","v":0},{"$f":"'Rozliczenie końcowe'!G309","v":"00:00:00"},{"$f":"'Rozliczenie końcowe'!H309","v":0},{"$f":"'Rozliczenie końcowe'!I309","v":0},{"$f":"'Rozliczenie końcowe'!J309","v":0},{"$f":"'Rozliczenie końcowe'!K309","v":0},{"$f":"'Rozliczenie końcowe'!L309","v":0},{"$f":"'Rozliczenie końcowe'!M309","v":0},{"$f":"'Rozliczenie końcowe'!N309","v":0}]
[{"$f":"'Rozliczenie końcowe'!A192","v":0},{"$f":"'Rozliczenie końcowe'!B310","v":""},{"$f":"'Rozliczenie końcowe'!C310","v":0},{"$f":"'Rozliczenie końcowe'!D310","v":0},{"$f":"'Rozliczenie końcowe'!E310","v":0},{"$f":"'Rozliczenie końcowe'!F310","v":0},{"$f":"'Rozliczenie końcowe'!G310","v":"00:00:00"},{"$f":"'Rozliczenie końcowe'!H310","v":0},{"$f":"'Rozliczenie końcowe'!I310","v":0},{"$f":"'Rozliczenie końcowe'!J310","v":0},{"$f":"'Rozliczenie końcowe'!K310","v":0},{"$f":"'Rozliczenie końcowe'!L310","v":0},{"$f":"'Rozliczenie końcowe'!M310","v":0},{"$f":"'Rozliczenie końcowe'!N310","v":0}]
[{"$f":"'Rozliczenie końcowe'!A193","v":0},{"$f":"'Rozliczenie końcowe'!B311","v":""},{"$f":"'Rozliczenie końcowe'!C311","v":0},{"$f":"'Rozliczenie końcowe'!D311","v":0},{"$f":"'Rozliczenie końcowe'!E311","v":0},{"$f":"'Rozliczenie końcowe'!F311","v":0},{"$f":"'Rozliczenie końcowe'!G311","v":"00:00:00"},{"$f":"'Rozliczenie końcowe'!H311","v":0},{"$f":"'Rozliczenie końcowe'!I311","v":0},{"$f":"'Rozliczenie końcowe'!J311","v":0},{"$f":"'Rozliczenie końcowe'!K311","v":0},{"$f":"'Rozliczenie końcowe'!L311","v":0},{"$f":"'Rozliczenie końcowe'!M311","v":0},{"$f":"'Rozliczenie końcowe'!N311","v":0}]
[{"$f":"'Rozliczenie końcowe'!A194","v":0},{"$f":"'Rozliczenie końcowe'!B312","v":""},{"$f":"'Rozliczenie końcowe'!C312","v":0},{"$f":"'Rozliczenie końcowe'!D312","v":0},{"$f":"'Rozliczenie końcowe'!E312","v":0},{"$f":"'Rozliczenie końcowe'!F312","v":0},{"$f":"'Rozliczenie końcowe'!G312","v":"00:00:00"},{"$f":"'Rozliczenie końcowe'!H312","v":0},{"$f":"'Rozliczenie końcowe'!I312","v":0},{"$f":"'Rozliczenie końcowe'!J312","v":0},{"$f":"'Rozliczenie końcowe'!K312","v":0},{"$f":"'Rozliczenie końcowe'!L312","v":0},{"$f":"'Rozliczenie końcowe'!M312","v":0},{"$f":"'Rozliczenie końcowe'!N312","v":0}]
[{"$f":"'Rozliczenie końcowe'!A195","v":0},{"$f":"'Rozliczenie końcowe'!B313","v":""},{"$f":"'Rozliczenie końcowe'!C313","v":0},{"$f":"'Rozliczenie końcowe'!D313","v":0},{"$f":"'Rozliczenie końcowe'!E313","v":0},{"$f":"'Rozliczenie końcowe'!F313","v":0},{"$f":"'Rozliczenie końcowe'!G313","v":"00:00:00"},{"$f":"'Rozliczenie końcowe'!H313","v":0},{"$f":"'Rozliczenie końcowe'!I313","v":0},{"$f":"'Rozliczenie końcowe'!J313","v":0},{"$f":"'Rozliczenie końcowe'!K313","v":0},{"$f":"'Rozliczenie końcowe'!L313","v":0},{"$f":"'Rozliczenie końcowe'!M313","v":0},{"$f":"'Rozliczenie końcowe'!N313","v":0}]
[{"$f":"'Rozliczenie końcowe'!A196","v":0},{"$f":"'Rozliczenie końcowe'!B314","v":""},{"$f":"'Rozliczenie końcowe'!C314","v":0},{"$f":"'Rozliczenie końcowe'!D314","v":0},{"$f":"'Rozliczenie końcowe'!E314","v":0},{"$f":"'Rozliczenie końcowe'!F314","v":0},{"$f":"'Rozliczenie końcowe'!G314","v":"00:00:00"},{"$f":"'Rozliczenie końcowe'!H314","v":0},{"$f":"'Rozliczenie końcowe'!I314","v":0},{"$f":"'Rozliczenie końcowe'!J314","v":0},{"$f":"'Rozliczenie końcowe'!K314","v":0},{"$f":"'Rozliczenie końcowe'!L314","v":0},{"$f":"'Rozliczenie końcowe'!M314","v":0},{"$f":"'Rozliczenie końcowe'!N314","v":0}]
[{"$f":"'Rozliczenie końcowe'!A197","v":0},{"$f":"'Rozliczenie końcowe'!B315","v":""},{"$f":"'Rozliczenie końcowe'!C315","v":0},{"$f":"'Rozliczenie końcowe'!D315","v":0},{"$f":"'Rozliczenie końcowe'!E315","v":0},{"$f":"'Rozliczenie końcowe'!F315","v":0},{"$f":"'Rozliczenie końcowe'!G315","v":"00:00:00"},{"$f":"'Rozliczenie końcowe'!H315","v":0},{"$f":"'Rozliczenie końcowe'!I315","v":0},{"$f":"'Rozliczenie końcowe'!J315","v":0},{"$f":"'Rozliczenie końcowe'!K315","v":0},{"$f":"'Rozliczenie końcowe'!L315","v":0},{"$f":"'Rozliczenie końcowe'!M315","v":0},{"$f":"'Rozliczenie końcowe'!N315","v":0}]
[{"$f":"'Rozliczenie końcowe'!A198","v":0},{"$f":"'Rozliczenie końcowe'!B316","v":""},{"$f":"'Rozliczenie końcowe'!C316","v":0},{"$f":"'Rozliczenie końcowe'!D316","v":0},{"$f":"'Rozliczenie końcowe'!E316","v":0},{"$f":"'Rozliczenie końcowe'!F316","v":0},{"$f":"'Rozliczenie końcowe'!G316","v":"00:00:00"},{"$f":"'Rozliczenie końcowe'!H316","v":0},{"$f":"'Rozliczenie końcowe'!I316","v":0},{"$f":"'Rozliczenie końcowe'!J316","v":0},{"$f":"'Rozliczenie końcowe'!K316","v":0},{"$f":"'Rozliczenie końcowe'!L316","v":0},{"$f":"'Rozliczenie końcowe'!M316","v":0},{"$f":"'Rozliczenie końcowe'!N316","v":0}]
[{"$f":"'Rozliczenie końcowe'!A199","v":0},{"$f":"'Rozliczenie końcowe'!B317","v":""},{"$f":"'Rozliczenie końcowe'!C317","v":0},{"$f":"'Rozliczenie końcowe'!D317","v":0},{"$f":"'Rozliczenie końcowe'!E317","v":0},{"$f":"'Rozliczenie końcowe'!F317","v":0},{"$f":"'Rozliczenie końcowe'!G317","v":"00:00:00"},{"$f":"'Rozliczenie końcowe'!H317","v":0},{"$f":"'Rozliczenie końcowe'!I317","v":0},{"$f":"'Rozliczenie końcowe'!J317","v":0},{"$f":"'Rozliczenie końcowe'!K317","v":0},{"$f":"'Rozliczenie końcowe'!L317","v":0},{"$f":"'Rozliczenie końcowe'!M317","v":0},{"$f":"'Rozliczenie końcowe'!N317","v":0}]
[{"$f":"'Rozliczenie końcowe'!A200","v":0},{"$f":"'Rozliczenie końcowe'!B318","v":""},{"$f":"'Rozliczenie końcowe'!C318","v":0},{"$f":"'Rozliczenie końcowe'!D318","v":0},{"$f":"'Rozliczenie końcowe'!E318","v":0},{"$f":"'Rozliczenie końcowe'!F318","v":0},{"$f":"'Rozliczenie końcowe'!G318","v":"00:00:00"},{"$f":"'Rozliczenie końcowe'!H318","v":0},{"$f":"'Rozliczenie końcowe'!I318","v":0},{"$f":"'Rozliczenie końcowe'!J318","v":0},{"$f":"'Rozliczenie końcowe'!K318","v":0},{"$f":"'Rozliczenie końcowe'!L318","v":0},{"$f":"'Rozliczenie końcowe'!M318","v":0},{"$f":"'Rozliczenie końcowe'!N318","v":0}]
[{"$f":"'Rozliczenie końcowe'!A201","v":0},{"$f":"'Rozliczenie końcowe'!B319","v":""},{"$f":"'Rozliczenie końcowe'!C319","v":0},{"$f":"'Rozliczenie końcowe'!D319","v":0},{"$f":"'Rozliczenie końcowe'!E319","v":0},{"$f":"'Rozliczenie końcowe'!F319","v":0},{"$f":"'Rozliczenie końcowe'!G319","v":"00:00:00"},{"$f":"'Rozliczenie końcowe'!H319","v":0},{"$f":"'Rozliczenie końcowe'!I319","v":0},{"$f":"'Rozliczenie końcowe'!J319","v":0},{"$f":"'Rozliczenie końcowe'!K319","v":0},{"$f":"'Rozliczenie końcowe'!L319","v":0},{"$f":"'Rozliczenie końcowe'!M319","v":0},{"$f":"'Rozliczenie końcowe'!N319","v":0}]
[{"$f":"'Rozliczenie końcowe'!A202","v":0},{"$f":"'Rozliczenie końcowe'!B320","v":""},{"$f":"'Rozliczenie końcowe'!C320","v":0},{"$f":"'Rozliczenie końcowe'!D320","v":0},{"$f":"'Rozliczenie końcowe'!E320","v":0},{"$f":"'Rozliczenie końcowe'!F320","v":0},{"$f":"'Rozliczenie końcowe'!G320","v":"00:00:00"},{"$f":"'Rozliczenie końcowe'!H320","v":0},{"$f":"'Rozliczenie końcowe'!I320","v":0},{"$f":"'Rozliczenie końcowe'!J320","v":0},{"$f":"'Rozliczenie końcowe'!K320","v":0},{"$f":"'Rozliczenie końcowe'!L320","v":0},{"$f":"'Rozliczenie końcowe'!M320","v":0},{"$f":"'Rozliczenie końcowe'!N320","v":0}]
[{"$f":"'Rozliczenie końcowe'!A203","v":0},{"$f":"'Rozliczenie końcowe'!B321","v":""},{"$f":"'Rozliczenie końcowe'!C321","v":0},{"$f":"'Rozliczenie końcowe'!D321","v":0},{"$f":"'Rozliczenie końcowe'!E321","v":0},{"$f":"'Rozliczenie końcowe'!F321","v":0},{"$f":"'Rozliczenie końcowe'!G321","v":"00:00:00"},{"$f":"'Rozliczenie końcowe'!H321","v":0},{"$f":"'Rozliczenie końcowe'!I321","v":0},{"$f":"'Rozliczenie końcowe'!J321","v":0},{"$f":"'Rozliczenie końcowe'!K321","v":0},{"$f":"'Rozliczenie końcowe'!L321","v":0},{"$f":"'Rozliczenie końcowe'!M321","v":0},{"$f":"'Rozliczenie końcowe'!N321","v":0}]
[{"$f":"'Rozliczenie końcowe'!A204","v":0},{"$f":"'Rozliczenie końcowe'!B322","v":""},{"$f":"'Rozliczenie końcowe'!C322","v":0},{"$f":"'Rozliczenie końcowe'!D322","v":0},{"$f":"'Rozliczenie końcowe'!E322","v":0},{"$f":"'Rozliczenie końcowe'!F322","v":0},{"$f":"'Rozliczenie końcowe'!G322","v":"00:00:00"},{"$f":"'Rozliczenie końcowe'!H322","v":0},{"$f":"'Rozliczenie końcowe'!I322","v":0},{"$f":"'Rozliczenie końcowe'!J322","v":0},{"$f":"'Rozliczenie końcowe'!K322","v":0},{"$f":"'Rozliczenie końcowe'!L322","v":0},{"$f":"'Rozliczenie końcowe'!M322","v":0},{"$f":"'Rozliczenie końcowe'!N322","v":0}]
[{"$f":"'Rozliczenie końcowe'!A205","v":0},{"$f":"'Rozliczenie końcowe'!B323","v":""},{"$f":"'Rozliczenie końcowe'!C323","v":0},{"$f":"'Rozliczenie końcowe'!D323","v":0},{"$f":"'Rozliczenie końcowe'!E323","v":0},{"$f":"'Rozliczenie końcowe'!F323","v":0},{"$f":"'Rozliczenie końcowe'!G323","v":"00:00:00"},{"$f":"'Rozliczenie końcowe'!H323","v":0},{"$f":"'Rozliczenie końcowe'!I323","v":0},{"$f":"'Rozliczenie końcowe'!J323","v":0},{"$f":"'Rozliczenie końcowe'!K323","v":0},{"$f":"'Rozliczenie końcowe'!L323","v":0},{"$f":"'Rozliczenie końcowe'!M323","v":0},{"$f":"'Rozliczenie końcowe'!N323","v":0}]
[{"$f":"'Rozliczenie końcowe'!A206","v":0},{"$f":"'Rozliczenie końcowe'!B324","v":""},{"$f":"'Rozliczenie końcowe'!C324","v":0},{"$f":"'Rozliczenie końcowe'!D324","v":0},{"$f":"'Rozliczenie końcowe'!E324","v":0},{"$f":"'Rozliczenie końcowe'!F324","v":0},{"$f":"'Rozliczenie końcowe'!G324","v":"00:00:00"},{"$f":"'Rozliczenie końcowe'!H324","v":0},{"$f":"'Rozliczenie końcowe'!I324","v":0},{"$f":"'Rozliczenie końcowe'!J324","v":0},{"$f":"'Rozliczenie końcowe'!K324","v":0},{"$f":"'Rozliczenie końcowe'!L324","v":0},{"$f":"'Rozliczenie końcowe'!M324","v":0},{"$f":"'Rozliczenie końcowe'!N324","v":0}]
[{"$f":"'Rozliczenie końcowe'!A207","v":0},{"$f":"'Rozliczenie końcowe'!B325","v":""},{"$f":"'Rozliczenie końcowe'!C325","v":0},{"$f":"'Rozliczenie końcowe'!D325","v":0},{"$f":"'Rozliczenie końcowe'!E325","v":0},{"$f":"'Rozliczenie końcowe'!F325","v":0},{"$f":"'Rozliczenie końcowe'!G325","v":"00:00:00"},{"$f":"'Rozliczenie końcowe'!H325","v":0},{"$f":"'Rozliczenie końcowe'!I325","v":0},{"$f":"'Rozliczenie końcowe'!J325","v":0},{"$f":"'Rozliczenie końcowe'!K325","v":0},{"$f":"'Rozliczenie końcowe'!L325","v":0},{"$f":"'Rozliczenie końcowe'!M325","v":0},{"$f":"'Rozliczenie końcowe'!N325","v":0}]
[{"$f":"'Rozliczenie końcowe'!A208","v":0},{"$f":"'Rozliczenie końcowe'!B326","v":""},{"$f":"'Rozliczenie końcowe'!C326","v":0},{"$f":"'Rozliczenie końcowe'!D326","v":0},{"$f":"'Rozliczenie końcowe'!E326","v":0},{"$f":"'Rozliczenie końcowe'!F326","v":0},{"$f":"'Rozliczenie końcowe'!G326","v":"00:00:00"},{"$f":"'Rozliczenie końcowe'!H326","v":0},{"$f":"'Rozliczenie końcowe'!I326","v":0},{"$f":"'Rozliczenie końcowe'!J326","v":0},{"$f":"'Rozliczenie końcowe'!K326","v":0},{"$f":"'Rozliczenie końcowe'!L326","v":0},{"$f":"'Rozliczenie końcowe'!M326","v":0},{"$f":"'Rozliczenie końcowe'!N326","v":0}]
[{"$f":"'Rozliczenie końcowe'!A209","v":0},{"$f":"'Rozliczenie końcowe'!B327","v":""},{"$f":"'Rozliczenie końcowe'!C327","v":0},{"$f":"'Rozliczenie końcowe'!D327","v":0},{"$f":"'Rozliczenie końcowe'!E327","v":0},{"$f":"'Rozliczenie końcowe'!F327","v":0},{"$f":"'Rozliczenie końcowe'!G327","v":"00:00:00"},{"$f":"'Rozliczenie końcowe'!H327","v":0},{"$f":"'Rozliczenie końcowe'!I327","v":0},{"$f":"'Rozliczenie końcowe'!J327","v":0},{"$f":"'Rozliczenie końcowe'!K327","v":0},{"$f":"'Rozliczenie końcowe'!L327","v":0},{"$f":"'Rozliczenie końcowe'!M327","v":0},{"$f":"'Rozliczenie końcowe'!N327","v":0}]
[{"$f":"'Rozliczenie końcowe'!A210","v":0},{"$f":"'Rozliczenie końcowe'!B328","v":""},{"$f":"'Rozliczenie końcowe'!C328","v":0},{"$f":"'Rozliczenie końcowe'!D328","v":0},{"$f":"'Rozliczenie końcowe'!E328","v":0},{"$f":"'Rozliczenie końcowe'!F328","v":0},{"$f":"'Rozliczenie końcowe'!G328","v":"00:00:00"},{"$f":"'Rozliczenie końcowe'!H328","v":0},{"$f":"'Rozliczenie końcowe'!I328","v":0},{"$f":"'Rozliczenie końcowe'!J328","v":0},{"$f":"'Rozliczenie końcowe'!K328","v":0},{"$f":"'Rozliczenie końcowe'!L328","v":0},{"$f":"'Rozliczenie końcowe'!M328","v":0},{"$f":"'Rozliczenie końcowe'!N328","v":0}]
[{"$f":"'Rozliczenie końcowe'!A211","v":0},{"$f":"'Rozliczenie końcowe'!B329","v":""},{"$f":"'Rozliczenie końcowe'!C329","v":0},{"$f":"'Rozliczenie końcowe'!D329","v":0},{"$f":"'Rozliczenie końcowe'!E329","v":0},{"$f":"'Rozliczenie końcowe'!F329","v":0},{"$f":"'Rozliczenie końcowe'!G329","v":"00:00:00"},{"$f":"'Rozliczenie końcowe'!H329","v":0},{"$f":"'Rozliczenie końcowe'!I329","v":0},{"$f":"'Rozliczenie końcowe'!J329","v":0},{"$f":"'Rozliczenie końcowe'!K329","v":0},{"$f":"'Rozliczenie końcowe'!L329","v":0},{"$f":"'Rozliczenie końcowe'!M329","v":0},{"$f":"'Rozliczenie końcowe'!N329","v":0}]
[{"$f":"'Rozliczenie końcowe'!A212","v":0},{"$f":"'Rozliczenie końcowe'!B330","v":""},{"$f":"'Rozliczenie końcowe'!C330","v":0},{"$f":"'Rozliczenie końcowe'!D330","v":0},{"$f":"'Rozliczenie końcowe'!E330","v":0},{"$f":"'Rozliczenie końcowe'!F330","v":0},{"$f":"'Rozliczenie końcowe'!G330","v":"00:00:00"},{"$f":"'Rozliczenie końcowe'!H330","v":0},{"$f":"'Rozliczenie końcowe'!I330","v":0},{"$f":"'Rozliczenie końcowe'!J330","v":0},{"$f":"'Rozliczenie końcowe'!K330","v":0},{"$f":"'Rozliczenie końcowe'!L330","v":0},{"$f":"'Rozliczenie końcowe'!M330","v":0},{"$f":"'Rozliczenie końcowe'!N330","v":0}]
[{"$f":"'Rozliczenie końcowe'!A213","v":0},{"$f":"'Rozliczenie końcowe'!B331","v":""},{"$f":"'Rozliczenie końcowe'!C331","v":0},{"$f":"'Rozliczenie końcowe'!D331","v":0},{"$f":"'Rozliczenie końcowe'!E331","v":0},{"$f":"'Rozliczenie końcowe'!F331","v":0},{"$f":"'Rozliczenie końcowe'!G331","v":"00:00:00"},{"$f":"'Rozliczenie końcowe'!H331","v":0},{"$f":"'Rozliczenie końcowe'!I331","v":0},{"$f":"'Rozliczenie końcowe'!J331","v":0},{"$f":"'Rozliczenie końcowe'!K331","v":0},{"$f":"'Rozliczenie końcowe'!L331","v":0},{"$f":"'Rozliczenie końcowe'!M331","v":0},{"$f":"'Rozliczenie końcowe'!N331","v":0}]
[{"$f":"'Rozliczenie końcowe'!A214","v":0},{"$f":"'Rozliczenie końcowe'!B332","v":""},{"$f":"'Rozliczenie końcowe'!C332","v":0},{"$f":"'Rozliczenie końcowe'!D332","v":0},{"$f":"'Rozliczenie końcowe'!E332","v":0},{"$f":"'Rozliczenie końcowe'!F332","v":0},{"$f":"'Rozliczenie końcowe'!G332","v":"00:00:00"},{"$f":"'Rozliczenie końcowe'!H332","v":0},{"$f":"'Rozliczenie końcowe'!I332","v":0},{"$f":"'Rozliczenie końcowe'!J332","v":0},{"$f":"'Rozliczenie końcowe'!K332","v":0},{"$f":"'Rozliczenie końcowe'!L332","v":0},{"$f":"'Rozliczenie końcowe'!M332","v":0},{"$f":"'Rozliczenie końcowe'!N332","v":0}]
[{"$f":"'Rozliczenie końcowe'!A215","v":0},{"$f":"'Rozliczenie końcowe'!B333","v":""},{"$f":"'Rozliczenie końcowe'!C333","v":0},{"$f":"'Rozliczenie końcowe'!D333","v":0},{"$f":"'Rozliczenie końcowe'!E333","v":0},{"$f":"'Rozliczenie końcowe'!F333","v":0},{"$f":"'Rozliczenie końcowe'!G333","v":"00:00:00"},{"$f":"'Rozliczenie końcowe'!H333","v":0},{"$f":"'Rozliczenie końcowe'!I333","v":0},{"$f":"'Rozliczenie końcowe'!J333","v":0},{"$f":"'Rozliczenie końcowe'!K333","v":0},{"$f":"'Rozliczenie końcowe'!L333","v":0},{"$f":"'Rozliczenie końcowe'!M333","v":0},{"$f":"'Rozliczenie końcowe'!N333","v":0}]
[{"$f":"'Rozliczenie końcowe'!A216","v":0},{"$f":"'Rozliczenie końcowe'!B334","v":""},{"$f":"'Rozliczenie końcowe'!C334","v":0},{"$f":"'Rozliczenie końcowe'!D334","v":0},{"$f":"'Rozliczenie końcowe'!E334","v":0},{"$f":"'Rozliczenie końcowe'!F334","v":0},{"$f":"'Rozliczenie końcowe'!G334","v":"00:00:00"},{"$f":"'Rozliczenie końcowe'!H334","v":0},{"$f":"'Rozliczenie końcowe'!I334","v":0},{"$f":"'Rozliczenie końcowe'!J334","v":0},{"$f":"'Rozliczenie końcowe'!K334","v":0},{"$f":"'Rozliczenie końcowe'!L334","v":0},{"$f":"'Rozliczenie końcowe'!M334","v":0},{"$f":"'Rozliczenie końcowe'!N334","v":0}]
[{"$f":"'Rozliczenie końcowe'!A217","v":0},{"$f":"'Rozliczenie końcowe'!B335","v":""},{"$f":"'Rozliczenie końcowe'!C335","v":0},{"$f":"'Rozliczenie końcowe'!D335","v":0},{"$f":"'Rozliczenie końcowe'!E335","v":0},{"$f":"'Rozliczenie końcowe'!F335","v":0},{"$f":"'Rozliczenie końcowe'!G335","v":"00:00:00"},{"$f":"'Rozliczenie końcowe'!H335","v":0},{"$f":"'Rozliczenie końcowe'!I335","v":0},{"$f":"'Rozliczenie końcowe'!J335","v":0},{"$f":"'Rozliczenie końcowe'!K335","v":0},{"$f":"'Rozliczenie końcowe'!L335","v":0},{"$f":"'Rozliczenie końcowe'!M335","v":0},{"$f":"'Rozliczenie końcowe'!N335","v":0}]
[{"$f":"'Rozliczenie końcowe'!A218","v":0},{"$f":"'Rozliczenie końcowe'!B336","v":""},{"$f":"'Rozliczenie końcowe'!C336","v":0},{"$f":"'Rozliczenie końcowe'!D336","v":0},{"$f":"'Rozliczenie końcowe'!E336","v":0},{"$f":"'Rozliczenie końcowe'!F336","v":0},{"$f":"'Rozliczenie końcowe'!G336","v":"00:00:00"},{"$f":"'Rozliczenie końcowe'!H336","v":0},{"$f":"'Rozliczenie końcowe'!I336","v":0},{"$f":"'Rozliczenie końcowe'!J336","v":0},{"$f":"'Rozliczenie końcowe'!K336","v":0},{"$f":"'Rozliczenie końcowe'!L336","v":0},{"$f":"'Rozliczenie końcowe'!M336","v":0},{"$f":"'Rozliczenie końcowe'!N336","v":0}]
[{"$f":"'Rozliczenie końcowe'!A219","v":0},{"$f":"'Rozliczenie końcowe'!B337","v":""},{"$f":"'Rozliczenie końcowe'!C337","v":0},{"$f":"'Rozliczenie końcowe'!D337","v":0},{"$f":"'Rozliczenie końcowe'!E337","v":0},{"$f":"'Rozliczenie końcowe'!F337","v":0},{"$f":"'Rozliczenie końcowe'!G337","v":"00:00:00"},{"$f":"'Rozliczenie końcowe'!H337","v":0},{"$f":"'Rozliczenie końcowe'!I337","v":0},{"$f":"'Rozliczenie końcowe'!J337","v":0},{"$f":"'Rozliczenie końcowe'!K337","v":0},{"$f":"'Rozliczenie końcowe'!L337","v":0},{"$f":"'Rozliczenie końcowe'!M337","v":0},{"$f":"'Rozliczenie końcowe'!N337","v":0}]
[{"$f":"'Rozliczenie końcowe'!A220","v":0},{"$f":"'Rozliczenie końcowe'!B338","v":""},{"$f":"'Rozliczenie końcowe'!C338","v":0},{"$f":"'Rozliczenie końcowe'!D338","v":0},{"$f":"'Rozliczenie końcowe'!E338","v":0},{"$f":"'Rozliczenie końcowe'!F338","v":0},{"$f":"'Rozliczenie końcowe'!G338","v":"00:00:00"},{"$f":"'Rozliczenie końcowe'!H338","v":0},{"$f":"'Rozliczenie końcowe'!I338","v":0},{"$f":"'Rozliczenie końcowe'!J338","v":0},{"$f":"'Rozliczenie końcowe'!K338","v":0},{"$f":"'Rozliczenie końcowe'!L338","v":0},{"$f":"'Rozliczenie końcowe'!M338","v":0},{"$f":"'Rozliczenie końcowe'!N338","v":0}]
[{"$f":"'Rozliczenie końcowe'!A221","v":0},{"$f":"'Rozliczenie końcowe'!B339","v":""},{"$f":"'Rozliczenie końcowe'!C339","v":0},{"$f":"'Rozliczenie końcowe'!D339","v":0},{"$f":"'Rozliczenie końcowe'!E339","v":0},{"$f":"'Rozliczenie końcowe'!F339","v":0},{"$f":"'Rozliczenie końcowe'!G339","v":"00:00:00"},{"$f":"'Rozliczenie końcowe'!H339","v":0},{"$f":"'Rozliczenie końcowe'!I339","v":0},{"$f":"'Rozliczenie końcowe'!J339","v":0},{"$f":"'Rozliczenie końcowe'!K339","v":0},{"$f":"'Rozliczenie końcowe'!L339","v":0},{"$f":"'Rozliczenie końcowe'!M339","v":0},{"$f":"'Rozliczenie końcowe'!N339","v":0}]
[{"$f":"'Rozliczenie końcowe'!A222","v":0},{"$f":"'Rozliczenie końcowe'!B340","v":""},{"$f":"'Rozliczenie końcowe'!C340","v":0},{"$f":"'Rozliczenie końcowe'!D340","v":0},{"$f":"'Rozliczenie końcowe'!E340","v":0},{"$f":"'Rozliczenie końcowe'!F340","v":0},{"$f":"'Rozliczenie końcowe'!G340","v":"00:00:00"},{"$f":"'Rozliczenie końcowe'!H340","v":0},{"$f":"'Rozliczenie końcowe'!I340","v":0},{"$f":"'Rozliczenie końcowe'!J340","v":0},{"$f":"'Rozliczenie końcowe'!K340","v":0},{"$f":"'Rozliczenie końcowe'!L340","v":0},{"$f":"'Rozliczenie końcowe'!M340","v":0},{"$f":"'Rozliczenie końcowe'!N340","v":0}]
[{"$f":"'Rozliczenie końcowe'!A223","v":0},{"$f":"'Rozliczenie końcowe'!B341","v":""},{"$f":"'Rozliczenie końcowe'!C341","v":0},{"$f":"'Rozliczenie końcowe'!D341","v":0},{"$f":"'Rozliczenie końcowe'!E341","v":0},{"$f":"'Rozliczenie końcowe'!F341","v":0},{"$f":"'Rozliczenie końcowe'!G341","v":"00:00:00"},{"$f":"'Rozliczenie końcowe'!H341","v":0},{"$f":"'Rozliczenie końcowe'!I341","v":0},{"$f":"'Rozliczenie końcowe'!J341","v":0},{"$f":"'Rozliczenie końcowe'!K341","v":0},{"$f":"'Rozliczenie końcowe'!L341","v":0},{"$f":"'Rozliczenie końcowe'!M341","v":0},{"$f":"'Rozliczenie końcowe'!N341","v":0}]
[{"$f":"'Rozliczenie końcowe'!A224","v":0},{"$f":"'Rozliczenie końcowe'!B342","v":""},{"$f":"'Rozliczenie końcowe'!C342","v":0},{"$f":"'Rozliczenie końcowe'!D342","v":0},{"$f":"'Rozliczenie końcowe'!E342","v":0},{"$f":"'Rozliczenie końcowe'!F342","v":0},{"$f":"'Rozliczenie końcowe'!G342","v":"00:00:00"},{"$f":"'Rozliczenie końcowe'!H342","v":0},{"$f":"'Rozliczenie końcowe'!I342","v":0},{"$f":"'Rozliczenie końcowe'!J342","v":0},{"$f":"'Rozliczenie końcowe'!K342","v":0},{"$f":"'Rozliczenie końcowe'!L342","v":0},{"$f":"'Rozliczenie końcowe'!M342","v":0},{"$f":"'Rozliczenie końcowe'!N342","v":0}]
[{"$f":"'Rozliczenie końcowe'!A225","v":0},{"$f":"'Rozliczenie końcowe'!B343","v":""},{"$f":"'Rozliczenie końcowe'!C343","v":0},{"$f":"'Rozliczenie końcowe'!D343","v":0},{"$f":"'Rozliczenie końcowe'!E343","v":0},{"$f":"'Rozliczenie końcowe'!F343","v":0},{"$f":"'Rozliczenie końcowe'!G343","v":"00:00:00"},{"$f":"'Rozliczenie końcowe'!H343","v":0},{"$f":"'Rozliczenie końcowe'!I343","v":0},{"$f":"'Rozliczenie końcowe'!J343","v":0},{"$f":"'Rozliczenie końcowe'!K343","v":0},{"$f":"'Rozliczenie końcowe'!L343","v":0},{"$f":"'Rozliczenie końcowe'!M343","v":0},{"$f":"'Rozliczenie końcowe'!N343","v":0}]
[{"$f":"'Rozliczenie końcowe'!A226","v":0},{"$f":"'Rozliczenie końcowe'!B344","v":""},{"$f":"'Rozliczenie końcowe'!C344","v":0},{"$f":"'Rozliczenie końcowe'!D344","v":0},{"$f":"'Rozliczenie końcowe'!E344","v":0},{"$f":"'Rozliczenie końcowe'!F344","v":0},{"$f":"'Rozliczenie końcowe'!G344","v":"00:00:00"},{"$f":"'Rozliczenie końcowe'!H344","v":0},{"$f":"'Rozliczenie końcowe'!I344","v":0},{"$f":"'Rozliczenie końcowe'!J344","v":0},{"$f":"'Rozliczenie końcowe'!K344","v":0},{"$f":"'Rozliczenie końcowe'!L344","v":0},{"$f":"'Rozliczenie końcowe'!M344","v":0},{"$f":"'Rozliczenie końcowe'!N344","v":0}]
[{"$f":"'Rozliczenie końcowe'!A227","v":0},{"$f":"'Rozliczenie końcowe'!B345","v":""},{"$f":"'Rozliczenie końcowe'!C345","v":0},{"$f":"'Rozliczenie końcowe'!D345","v":0},{"$f":"'Rozliczenie końcowe'!E345","v":0},{"$f":"'Rozliczenie końcowe'!F345","v":0},{"$f":"'Rozliczenie końcowe'!G345","v":"00:00:00"},{"$f":"'Rozliczenie końcowe'!H345","v":0},{"$f":"'Rozliczenie końcowe'!I345","v":0},{"$f":"'Rozliczenie końcowe'!J345","v":0},{"$f":"'Rozliczenie końcowe'!K345","v":0},{"$f":"'Rozliczenie końcowe'!L345","v":0},{"$f":"'Rozliczenie końcowe'!M345","v":0},{"$f":"'Rozliczenie końcowe'!N345","v":0}]
[{"$f":"'Rozliczenie końcowe'!A228","v":0},{"$f":"'Rozliczenie końcowe'!B346","v":""},{"$f":"'Rozliczenie końcowe'!C346","v":0},{"$f":"'Rozliczenie końcowe'!D346","v":0},{"$f":"'Rozliczenie końcowe'!E346","v":0},{"$f":"'Rozliczenie końcowe'!F346","v":0},{"$f":"'Rozliczenie końcowe'!G346","v":"00:00:00"},{"$f":"'Rozliczenie końcowe'!H346","v":0},{"$f":"'Rozliczenie końcowe'!I346","v":0},{"$f":"'Rozliczenie końcowe'!J346","v":0},{"$f":"'Rozliczenie końcowe'!K346","v":0},{"$f":"'Rozliczenie końcowe'!L346","v":0},{"$f":"'Rozliczenie końcowe'!M346","v":0},{"$f":"'Rozliczenie końcowe'!N346","v":0}]
[{"$f":"'Rozliczenie końcowe'!A229","v":0},{"$f":"'Rozliczenie końcowe'!B347","v":""},{"$f":"'Rozliczenie końcowe'!C347","v":0},{"$f":"'Rozliczenie końcowe'!D347","v":0},{"$f":"'Rozliczenie końcowe'!E347","v":0},{"$f":"'Rozliczenie końcowe'!F347","v":0},{"$f":"'Rozliczenie końcowe'!G347","v":"00:00:00"},{"$f":"'Rozliczenie końcowe'!H347","v":0},{"$f":"'Rozliczenie końcowe'!I347","v":0},{"$f":"'Rozliczenie końcowe'!J347","v":0},{"$f":"'Rozliczenie końcowe'!K347","v":0},{"$f":"'Rozliczenie końcowe'!L347","v":0},{"$f":"'Rozliczenie końcowe'!M347","v":0},{"$f":"'Rozliczenie końcowe'!N347","v":0}]
[{"$f":"'Rozliczenie końcowe'!A230","v":0},{"$f":"'Rozliczenie końcowe'!B348","v":""},{"$f":"'Rozliczenie końcowe'!C348","v":0},{"$f":"'Rozliczenie końcowe'!D348","v":0},{"$f":"'Rozliczenie końcowe'!E348","v":0},{"$f":"'Rozliczenie końcowe'!F348","v":0},{"$f":"'Rozliczenie końcowe'!G348","v":"00:00:00"},{"$f":"'Rozliczenie końcowe'!H348","v":0},{"$f":"'Rozliczenie końcowe'!I348","v":0},{"$f":"'Rozliczenie końcowe'!J348","v":0},{"$f":"'Rozliczenie końcowe'!K348","v":0},{"$f":"'Rozliczenie końcowe'!L348","v":0},{"$f":"'Rozliczenie końcowe'!M348","v":0},{"$f":"'Rozliczenie końcowe'!N348","v":0}]
[{"$f":"'Rozliczenie końcowe'!A231","v":0},{"$f":"'Rozliczenie końcowe'!B349","v":""},{"$f":"'Rozliczenie końcowe'!C349","v":0},{"$f":"'Rozliczenie końcowe'!D349","v":0},{"$f":"'Rozliczenie końcowe'!E349","v":0},{"$f":"'Rozliczenie końcowe'!F349","v":0},{"$f":"'Rozliczenie końcowe'!G349","v":"00:00:00"},{"$f":"'Rozliczenie końcowe'!H349","v":0},{"$f":"'Rozliczenie końcowe'!I349","v":0},{"$f":"'Rozliczenie końcowe'!J349","v":0},{"$f":"'Rozliczenie końcowe'!K349","v":0},{"$f":"'Rozliczenie końcowe'!L349","v":0},{"$f":"'Rozliczenie końcowe'!M349","v":0},{"$f":"'Rozliczenie końcowe'!N349","v":0}]
[{"$f":"'Rozliczenie końcowe'!A232","v":0},{"$f":"'Rozliczenie końcowe'!B350","v":""},{"$f":"'Rozliczenie końcowe'!C350","v":0},{"$f":"'Rozliczenie końcowe'!D350","v":0},{"$f":"'Rozliczenie końcowe'!E350","v":0},{"$f":"'Rozliczenie końcowe'!F350","v":0},{"$f":"'Rozliczenie końcowe'!G350","v":"00:00:00"},{"$f":"'Rozliczenie końcowe'!H350","v":0},{"$f":"'Rozliczenie końcowe'!I350","v":0},{"$f":"'Rozliczenie końcowe'!J350","v":0},{"$f":"'Rozliczenie końcowe'!K350","v":0},{"$f":"'Rozliczenie końcowe'!L350","v":0},{"$f":"'Rozliczenie końcowe'!M350","v":0},{"$f":"'Rozliczenie końcowe'!N350","v":0}]
[{"$f":"'Rozliczenie końcowe'!A233","v":0},{"$f":"'Rozliczenie końcowe'!B351","v":""},{"$f":"'Rozliczenie końcowe'!C351","v":0},{"$f":"'Rozliczenie końcowe'!D351","v":0},{"$f":"'Rozliczenie końcowe'!E351","v":0},{"$f":"'Rozliczenie końcowe'!F351","v":0},{"$f":"'Rozliczenie końcowe'!G351","v":"00:00:00"},{"$f":"'Rozliczenie końcowe'!H351","v":0},{"$f":"'Rozliczenie końcowe'!I351","v":0},{"$f":"'Rozliczenie końcowe'!J351","v":0},{"$f":"'Rozliczenie końcowe'!K351","v":0},{"$f":"'Rozliczenie końcowe'!L351","v":0},{"$f":"'Rozliczenie końcowe'!M351","v":0},{"$f":"'Rozliczenie końcowe'!N351","v":0}]
[{"$f":"'Rozliczenie końcowe'!A234","v":0},{"$f":"'Rozliczenie końcowe'!B352","v":""},{"$f":"'Rozliczenie końcowe'!C352","v":0},{"$f":"'Rozliczenie końcowe'!D352","v":0},{"$f":"'Rozliczenie końcowe'!E352","v":0},{"$f":"'Rozliczenie końcowe'!F352","v":0},{"$f":"'Rozliczenie końcowe'!G352","v":"00:00:00"},{"$f":"'Rozliczenie końcowe'!H352","v":0},{"$f":"'Rozliczenie końcowe'!I352","v":0},{"$f":"'Rozliczenie końcowe'!J352","v":0},{"$f":"'Rozliczenie końcowe'!K352","v":0},{"$f":"'Rozliczenie końcowe'!L352","v":0},{"$f":"'Rozliczenie końcowe'!M352","v":0},{"$f":"'Rozliczenie końcowe'!N352","v":0}]
[{"$f":"'Rozliczenie końcowe'!A235","v":0},{"$f":"'Rozliczenie końcowe'!B353","v":""},{"$f":"'Rozliczenie końcowe'!C353","v":0},{"$f":"'Rozliczenie końcowe'!D353","v":0},{"$f":"'Rozliczenie końcowe'!E353","v":0},{"$f":"'Rozliczenie końcowe'!F353","v":0},{"$f":"'Rozliczenie końcowe'!G353","v":"00:00:00"},{"$f":"'Rozliczenie końcowe'!H353","v":0},{"$f":"'Rozliczenie końcowe'!I353","v":0},{"$f":"'Rozliczenie końcowe'!J353","v":0},{"$f":"'Rozliczenie końcowe'!K353","v":0},{"$f":"'Rozliczenie końcowe'!L353","v":0},{"$f":"'Rozliczenie końcowe'!M353","v":0},{"$f":"'Rozliczenie końcowe'!N353","v":0}]
[{"$f":"'Rozliczenie końcowe'!A236","v":0},{"$f":"'Rozliczenie końcowe'!B354","v":""},{"$f":"'Rozliczenie końcowe'!C354","v":0},{"$f":"'Rozliczenie końcowe'!D354","v":0},{"$f":"'Rozliczenie końcowe'!E354","v":0},{"$f":"'Rozliczenie końcowe'!F354","v":0},{"$f":"'Rozliczenie końcowe'!G354","v":"00:00:00"},{"$f":"'Rozliczenie końcowe'!H354","v":0},{"$f":"'Rozliczenie końcowe'!I354","v":0},{"$f":"'Rozliczenie końcowe'!J354","v":0},{"$f":"'Rozliczenie końcowe'!K354","v":0},{"$f":"'Rozliczenie końcowe'!L354","v":0},{"$f":"'Rozliczenie końcowe'!M354","v":0},{"$f":"'Rozliczenie końcowe'!N354","v":0}]
[{"$f":"'Rozliczenie końcowe'!A237","v":0},{"$f":"'Rozliczenie końcowe'!B355","v":""},{"$f":"'Rozliczenie końcowe'!C355","v":0},{"$f":"'Rozliczenie końcowe'!D355","v":0},{"$f":"'Rozliczenie końcowe'!E355","v":0},{"$f":"'Rozliczenie końcowe'!F355","v":0},{"$f":"'Rozliczenie końcowe'!G355","v":"00:00:00"},{"$f":"'Rozliczenie końcowe'!H355","v":0},{"$f":"'Rozliczenie końcowe'!I355","v":0},{"$f":"'Rozliczenie końcowe'!J355","v":0},{"$f":"'Rozliczenie końcowe'!K355","v":0},{"$f":"'Rozliczenie końcowe'!L355","v":0},{"$f":"'Rozliczenie końcowe'!M355","v":0},{"$f":"'Rozliczenie końcowe'!N355","v":0}]
[{"$f":"'Rozliczenie końcowe'!A238","v":0},{"$f":"'Rozliczenie końcowe'!B356","v":""},{"$f":"'Rozliczenie końcowe'!C356","v":0},{"$f":"'Rozliczenie końcowe'!D356","v":0},{"$f":"'Rozliczenie końcowe'!E356","v":0},{"$f":"'Rozliczenie końcowe'!F356","v":0},{"$f":"'Rozliczenie końcowe'!G356","v":"00:00:00"},{"$f":"'Rozliczenie końcowe'!H356","v":0},{"$f":"'Rozliczenie końcowe'!I356","v":0},{"$f":"'Rozliczenie końcowe'!J356","v":0},{"$f":"'Rozliczenie końcowe'!K356","v":0},{"$f":"'Rozliczenie końcowe'!L356","v":0},{"$f":"'Rozliczenie końcowe'!M356","v":0},{"$f":"'Rozliczenie końcowe'!N356","v":0}]
[{"$f":"'Rozliczenie końcowe'!A239","v":0},{"$f":"'Rozliczenie końcowe'!B357","v":""},{"$f":"'Rozliczenie końcowe'!C357","v":0},{"$f":"'Rozliczenie końcowe'!D357","v":0},{"$f":"'Rozliczenie końcowe'!E357","v":0},{"$f":"'Rozliczenie końcowe'!F357","v":0},{"$f":"'Rozliczenie końcowe'!G357","v":"00:00:00"},{"$f":"'Rozliczenie końcowe'!H357","v":0},{"$f":"'Rozliczenie końcowe'!I357","v":0},{"$f":"'Rozliczenie końcowe'!J357","v":0},{"$f":"'Rozliczenie końcowe'!K357","v":0},{"$f":"'Rozliczenie końcowe'!L357","v":0},{"$f":"'Rozliczenie końcowe'!M357","v":0},{"$f":"'Rozliczenie końcowe'!N357","v":0}]
[{"$f":"'Rozliczenie końcowe'!A240","v":0},{"$f":"'Rozliczenie końcowe'!B358","v":""},{"$f":"'Rozliczenie końcowe'!C358","v":0},{"$f":"'Rozliczenie końcowe'!D358","v":0},{"$f":"'Rozliczenie końcowe'!E358","v":0},{"$f":"'Rozliczenie końcowe'!F358","v":0},{"$f":"'Rozliczenie końcowe'!G358","v":"00:00:00"},{"$f":"'Rozliczenie końcowe'!H358","v":0},{"$f":"'Rozliczenie końcowe'!I358","v":0},{"$f":"'Rozliczenie końcowe'!J358","v":0},{"$f":"'Rozliczenie końcowe'!K358","v":0},{"$f":"'Rozliczenie końcowe'!L358","v":0},{"$f":"'Rozliczenie końcowe'!M358","v":0},{"$f":"'Rozliczenie końcowe'!N358","v":0}]
[{"$f":"'Rozliczenie końcowe'!A241","v":0},{"$f":"'Rozliczenie końcowe'!B359","v":""},{"$f":"'Rozliczenie końcowe'!C359","v":0},{"$f":"'Rozliczenie końcowe'!D359","v":0},{"$f":"'Rozliczenie końcowe'!E359","v":0},{"$f":"'Rozliczenie końcowe'!F359","v":0},{"$f":"'Rozliczenie końcowe'!G359","v":"00:00:00"},{"$f":"'Rozliczenie końcowe'!H359","v":0},{"$f":"'Rozliczenie końcowe'!I359","v":0},{"$f":"'Rozliczenie końcowe'!J359","v":0},{"$f":"'Rozliczenie końcowe'!K359","v":0},{"$f":"'Rozliczenie końcowe'!L359","v":0},{"$f":"'Rozliczenie końcowe'!M359","v":0},{"$f":"'Rozliczenie końcowe'!N359","v":0}]
[{"$f":"'Rozliczenie końcowe'!A242","v":0},{"$f":"'Rozliczenie końcowe'!B360","v":""},{"$f":"'Rozliczenie końcowe'!C360","v":0},{"$f":"'Rozliczenie końcowe'!D360","v":0},{"$f":"'Rozliczenie końcowe'!E360","v":0},{"$f":"'Rozliczenie końcowe'!F360","v":0},{"$f":"'Rozliczenie końcowe'!G360","v":"00:00:00"},{"$f":"'Rozliczenie końcowe'!H360","v":0},{"$f":"'Rozliczenie końcowe'!I360","v":0},{"$f":"'Rozliczenie końcowe'!J360","v":0},{"$f":"'Rozliczenie końcowe'!K360","v":0},{"$f":"'Rozliczenie końcowe'!L360","v":0},{"$f":"'Rozliczenie końcowe'!M360","v":0},{"$f":"'Rozliczenie końcowe'!N360","v":0}]
[{"$f":"'Rozliczenie końcowe'!A243","v":0},{"$f":"'Rozliczenie końcowe'!B361","v":""},{"$f":"'Rozliczenie końcowe'!C361","v":0},{"$f":"'Rozliczenie końcowe'!D361","v":0},{"$f":"'Rozliczenie końcowe'!E361","v":0},{"$f":"'Rozliczenie końcowe'!F361","v":0},{"$f":"'Rozliczenie końcowe'!G361","v":"00:00:00"},{"$f":"'Rozliczenie końcowe'!H361","v":0},{"$f":"'Rozliczenie końcowe'!I361","v":0},{"$f":"'Rozliczenie końcowe'!J361","v":0},{"$f":"'Rozliczenie końcowe'!K361","v":0},{"$f":"'Rozliczenie końcowe'!L361","v":0},{"$f":"'Rozliczenie końcowe'!M361","v":0},{"$f":"'Rozliczenie końcowe'!N361","v":0}]
[{"$f":"'Rozliczenie końcowe'!A244","v":0},{"$f":"'Rozliczenie końcowe'!B362","v":""},{"$f":"'Rozliczenie końcowe'!C362","v":0},{"$f":"'Rozliczenie końcowe'!D362","v":0},{"$f":"'Rozliczenie końcowe'!E362","v":0},{"$f":"'Rozliczenie końcowe'!F362","v":0},{"$f":"'Rozliczenie końcowe'!G362","v":"00:00:00"},{"$f":"'Rozliczenie końcowe'!H362","v":0},{"$f":"'Rozliczenie końcowe'!I362","v":0},{"$f":"'Rozliczenie końcowe'!J362","v":0},{"$f":"'Rozliczenie końcowe'!K362","v":0},{"$f":"'Rozliczenie końcowe'!L362","v":0},{"$f":"'Rozliczenie końcowe'!M362","v":0},{"$f":"'Rozliczenie końcowe'!N362","v":0}]
[{"$f":"'Rozliczenie końcowe'!A245","v":0},{"$f":"'Rozliczenie końcowe'!B363","v":""},{"$f":"'Rozliczenie końcowe'!C363","v":0},{"$f":"'Rozliczenie końcowe'!D363","v":0},{"$f":"'Rozliczenie końcowe'!E363","v":0},{"$f":"'Rozliczenie końcowe'!F363","v":0},{"$f":"'Rozliczenie końcowe'!G363","v":"00:00:00"},{"$f":"'Rozliczenie końcowe'!H363","v":0},{"$f":"'Rozliczenie końcowe'!I363","v":0},{"$f":"'Rozliczenie końcowe'!J363","v":0},{"$f":"'Rozliczenie końcowe'!K363","v":0},{"$f":"'Rozliczenie końcowe'!L363","v":0},{"$f":"'Rozliczenie końcowe'!M363","v":0},{"$f":"'Rozliczenie końcowe'!N363","v":0}]
[{"$f":"'Rozliczenie końcowe'!A246","v":0},{"$f":"'Rozliczenie końcowe'!B364","v":""},{"$f":"'Rozliczenie końcowe'!C364","v":0},{"$f":"'Rozliczenie końcowe'!D364","v":0},{"$f":"'Rozliczenie końcowe'!E364","v":0},{"$f":"'Rozliczenie końcowe'!F364","v":0},{"$f":"'Rozliczenie końcowe'!G364","v":"00:00:00"},{"$f":"'Rozliczenie końcowe'!H364","v":0},{"$f":"'Rozliczenie końcowe'!I364","v":0},{"$f":"'Rozliczenie końcowe'!J364","v":0},{"$f":"'Rozliczenie końcowe'!K364","v":0},{"$f":"'Rozliczenie końcowe'!L364","v":0},{"$f":"'Rozliczenie końcowe'!M364","v":0},{"$f":"'Rozliczenie końcowe'!N364","v":0}]
[{"$f":"'Rozliczenie końcowe'!A247","v":0},{"$f":"'Rozliczenie końcowe'!B365","v":""},{"$f":"'Rozliczenie końcowe'!C365","v":0},{"$f":"'Rozliczenie końcowe'!D365","v":0},{"$f":"'Rozliczenie końcowe'!E365","v":0},{"$f":"'Rozliczenie końcowe'!F365","v":0},{"$f":"'Rozliczenie końcowe'!G365","v":"00:00:00"},{"$f":"'Rozliczenie końcowe'!H365","v":0},{"$f":"'Rozliczenie końcowe'!I365","v":0},{"$f":"'Rozliczenie końcowe'!J365","v":0},{"$f":"'Rozliczenie końcowe'!K365","v":0},{"$f":"'Rozliczenie końcowe'!L365","v":0},{"$f":"'Rozliczenie końcowe'!M365","v":0},{"$f":"'Rozliczenie końcowe'!N365","v":0}]
[{"$f":"'Rozliczenie końcowe'!A248","v":0},{"$f":"'Rozliczenie końcowe'!B366","v":""},{"$f":"'Rozliczenie końcowe'!C366","v":0},{"$f":"'Rozliczenie końcowe'!D366","v":0},{"$f":"'Rozliczenie końcowe'!E366","v":0},{"$f":"'Rozliczenie końcowe'!F366","v":0},{"$f":"'Rozliczenie końcowe'!G366","v":"00:00:00"},{"$f":"'Rozliczenie końcowe'!H366","v":0},{"$f":"'Rozliczenie końcowe'!I366","v":0},{"$f":"'Rozliczenie końcowe'!J366","v":0},{"$f":"'Rozliczenie końcowe'!K366","v":0},{"$f":"'Rozliczenie końcowe'!L366","v":0},{"$f":"'Rozliczenie końcowe'!M366","v":0},{"$f":"'Rozliczenie końcowe'!N366","v":0}]
[{"$f":"'Rozliczenie końcowe'!A249","v":0},{"$f":"'Rozliczenie końcowe'!B367","v":""},{"$f":"'Rozliczenie końcowe'!C367","v":0},{"$f":"'Rozliczenie końcowe'!D367","v":0},{"$f":"'Rozliczenie końcowe'!E367","v":0},{"$f":"'Rozliczenie końcowe'!F367","v":0},{"$f":"'Rozliczenie końcowe'!G367","v":"00:00:00"},{"$f":"'Rozliczenie końcowe'!H367","v":0},{"$f":"'Rozliczenie końcowe'!I367","v":0},{"$f":"'Rozliczenie końcowe'!J367","v":0},{"$f":"'Rozliczenie końcowe'!K367","v":0},{"$f":"'Rozliczenie końcowe'!L367","v":0},{"$f":"'Rozliczenie końcowe'!M367","v":0},{"$f":"'Rozliczenie końcowe'!N367","v":0}]
[{"$f":"'Rozliczenie końcowe'!A250","v":0},{"$f":"'Rozliczenie końcowe'!B368","v":""},{"$f":"'Rozliczenie końcowe'!C368","v":0},{"$f":"'Rozliczenie końcowe'!D368","v":0},{"$f":"'Rozliczenie końcowe'!E368","v":0},{"$f":"'Rozliczenie końcowe'!F368","v":0},{"$f":"'Rozliczenie końcowe'!G368","v":"00:00:00"},{"$f":"'Rozliczenie końcowe'!H368","v":0},{"$f":"'Rozliczenie końcowe'!I368","v":0},{"$f":"'Rozliczenie końcowe'!J368","v":0},{"$f":"'Rozliczenie końcowe'!K368","v":0},{"$f":"'Rozliczenie końcowe'!L368","v":0},{"$f":"'Rozliczenie końcowe'!M368","v":0},{"$f":"'Rozliczenie końcowe'!N368","v":0}]
[{"$f":"'Rozliczenie końcowe'!A251","v":0},{"$f":"'Rozliczenie końcowe'!B369","v":""},{"$f":"'Rozliczenie końcowe'!C369","v":0},{"$f":"'Rozliczenie końcowe'!D369","v":0},{"$f":"'Rozliczenie końcowe'!E369","v":0},{"$f":"'Rozliczenie końcowe'!F369","v":0},{"$f":"'Rozliczenie końcowe'!G369","v":"00:00:00"},{"$f":"'Rozliczenie końcowe'!H369","v":0},{"$f":"'Rozliczenie końcowe'!I369","v":0},{"$f":"'Rozliczenie końcowe'!J369","v":0},{"$f":"'Rozliczenie końcowe'!K369","v":0},{"$f":"'Rozliczenie końcowe'!L369","v":0},{"$f":"'Rozliczenie końcowe'!M369","v":0},{"$f":"'Rozliczenie końcowe'!N369","v":0}]
[{"$f":"'Rozliczenie końcowe'!A252","v":0},{"$f":"'Rozliczenie końcowe'!B370","v":""},{"$f":"'Rozliczenie końcowe'!C370","v":0},{"$f":"'Rozliczenie końcowe'!D370","v":0},{"$f":"'Rozliczenie końcowe'!E370","v":0},{"$f":"'Rozliczenie końcowe'!F370","v":0},{"$f":"'Rozliczenie końcowe'!G370","v":"00:00:00"},{"$f":"'Rozliczenie końcowe'!H370","v":0},{"$f":"'Rozliczenie końcowe'!I370","v":0},{"$f":"'Rozliczenie końcowe'!J370","v":0},{"$f":"'Rozliczenie końcowe'!K370","v":0},{"$f":"'Rozliczenie końcowe'!L370","v":0},{"$f":"'Rozliczenie końcowe'!M370","v":0},{"$f":"'Rozliczenie końcowe'!N370","v":0}]
[{"$f":"'Rozliczenie końcowe'!A253","v":0},{"$f":"'Rozliczenie końcowe'!B371","v":""},{"$f":"'Rozliczenie końcowe'!C371","v":0},{"$f":"'Rozliczenie końcowe'!D371","v":0},{"$f":"'Rozliczenie końcowe'!E371","v":0},{"$f":"'Rozliczenie końcowe'!F371","v":0},{"$f":"'Rozliczenie końcowe'!G371","v":"00:00:00"},{"$f":"'Rozliczenie końcowe'!H371","v":0},{"$f":"'Rozliczenie końcowe'!I371","v":0},{"$f":"'Rozliczenie końcowe'!J371","v":0},{"$f":"'Rozliczenie końcowe'!K371","v":0},{"$f":"'Rozliczenie końcowe'!L371","v":0},{"$f":"'Rozliczenie końcowe'!M371","v":0},{"$f":"'Rozliczenie końcowe'!N371","v":0}]
[{"$f":"'Rozliczenie końcowe'!A254","v":0},{"$f":"'Rozliczenie końcowe'!B372","v":""},{"$f":"'Rozliczenie końcowe'!C372","v":0},{"$f":"'Rozliczenie końcowe'!D372","v":0},{"$f":"'Rozliczenie końcowe'!E372","v":0},{"$f":"'Rozliczenie końcowe'!F372","v":0},{"$f":"'Rozliczenie końcowe'!G372","v":"00:00:00"},{"$f":"'Rozliczenie końcowe'!H372","v":0},{"$f":"'Rozliczenie końcowe'!I372","v":0},{"$f":"'Rozliczenie końcowe'!J372","v":0},{"$f":"'Rozliczenie końcowe'!K372","v":0},{"$f":"'Rozliczenie końcowe'!L372","v":0},{"$f":"'Rozliczenie końcowe'!M372","v":0},{"$f":"'Rozliczenie końcowe'!N372","v":0}]
[{"$f":"'Rozliczenie końcowe'!A255","v":0},{"$f":"'Rozliczenie końcowe'!B373","v":""},{"$f":"'Rozliczenie końcowe'!C373","v":0},{"$f":"'Rozliczenie końcowe'!D373","v":0},{"$f":"'Rozliczenie końcowe'!E373","v":0},{"$f":"'Rozliczenie końcowe'!F373","v":0},{"$f":"'Rozliczenie końcowe'!G373","v":"00:00:00"},{"$f":"'Rozliczenie końcowe'!H373","v":0},{"$f":"'Rozliczenie końcowe'!I373","v":0},{"$f":"'Rozliczenie końcowe'!J373","v":0},{"$f":"'Rozliczenie końcowe'!K373","v":0},{"$f":"'Rozliczenie końcowe'!L373","v":0},{"$f":"'Rozliczenie końcowe'!M373","v":0},{"$f":"'Rozliczenie końcowe'!N373","v":0}]
[{"$f":"'Rozliczenie końcowe'!A256","v":0},{"$f":"'Rozliczenie końcowe'!B374","v":""},{"$f":"'Rozliczenie końcowe'!C374","v":0},{"$f":"'Rozliczenie końcowe'!D374","v":0},{"$f":"'Rozliczenie końcowe'!E374","v":0},{"$f":"'Rozliczenie końcowe'!F374","v":0},{"$f":"'Rozliczenie końcowe'!G374","v":"00:00:00"},{"$f":"'Rozliczenie końcowe'!H374","v":0},{"$f":"'Rozliczenie końcowe'!I374","v":0},{"$f":"'Rozliczenie końcowe'!J374","v":0},{"$f":"'Rozliczenie końcowe'!K374","v":0},{"$f":"'Rozliczenie końcowe'!L374","v":0},{"$f":"'Rozliczenie końcowe'!M374","v":0},{"$f":"'Rozliczenie końcowe'!N374","v":0}]
[{"$f":"'Rozliczenie końcowe'!A257","v":0},{"$f":"'Rozliczenie końcowe'!B375","v":""},{"$f":"'Rozliczenie końcowe'!C375","v":0},{"$f":"'Rozliczenie końcowe'!D375","v":0},{"$f":"'Rozliczenie końcowe'!E375","v":0},{"$f":"'Rozliczenie końcowe'!F375","v":0},{"$f":"'Rozliczenie końcowe'!G375","v":"00:00:00"},{"$f":"'Rozliczenie końcowe'!H375","v":0},{"$f":"'Rozliczenie końcowe'!I375","v":0},{"$f":"'Rozliczenie końcowe'!J375","v":0},{"$f":"'Rozliczenie końcowe'!K375","v":0},{"$f":"'Rozliczenie końcowe'!L375","v":0},{"$f":"'Rozliczenie końcowe'!M375","v":0},{"$f":"'Rozliczenie końcowe'!N375","v":0}]
[{"$f":"'Rozliczenie końcowe'!A258","v":0},{"$f":"'Rozliczenie końcowe'!B376","v":""},{"$f":"'Rozliczenie końcowe'!C376","v":0},{"$f":"'Rozliczenie końcowe'!D376","v":0},{"$f":"'Rozliczenie końcowe'!E376","v":0},{"$f":"'Rozliczenie końcowe'!F376","v":0},{"$f":"'Rozliczenie końcowe'!G376","v":"00:00:00"},{"$f":"'Rozliczenie końcowe'!H376","v":0},{"$f":"'Rozliczenie końcowe'!I376","v":0},{"$f":"'Rozliczenie końcowe'!J376","v":0},{"$f":"'Rozliczenie końcowe'!K376","v":0},{"$f":"'Rozliczenie końcowe'!L376","v":0},{"$f":"'Rozliczenie końcowe'!M376","v":0},{"$f":"'Rozliczenie końcowe'!N376","v":0}]
[{"$f":"'Rozliczenie końcowe'!A259","v":0},{"$f":"'Rozliczenie końcowe'!B377","v":""},{"$f":"'Rozliczenie końcowe'!C377","v":0},{"$f":"'Rozliczenie końcowe'!D377","v":0},{"$f":"'Rozliczenie końcowe'!E377","v":0},{"$f":"'Rozliczenie końcowe'!F377","v":0},{"$f":"'Rozliczenie końcowe'!G377","v":"00:00:00"},{"$f":"'Rozliczenie końcowe'!H377","v":0},{"$f":"'Rozliczenie końcowe'!I377","v":0},{"$f":"'Rozliczenie końcowe'!J377","v":0},{"$f":"'Rozliczenie końcowe'!K377","v":0},{"$f":"'Rozliczenie końcowe'!L377","v":0},{"$f":"'Rozliczenie końcowe'!M377","v":0},{"$f":"'Rozliczenie końcowe'!N377","v":0}]
[{"$f":"'Rozliczenie końcowe'!A260","v":0},{"$f":"'Rozliczenie końcowe'!B378","v":""},{"$f":"'Rozliczenie końcowe'!C378","v":0},{"$f":"'Rozliczenie końcowe'!D378","v":0},{"$f":"'Rozliczenie końcowe'!E378","v":0},{"$f":"'Rozliczenie końcowe'!F378","v":0},{"$f":"'Rozliczenie końcowe'!G378","v":"00:00:00"},{"$f":"'Rozliczenie końcowe'!H378","v":0},{"$f":"'Rozliczenie końcowe'!I378","v":0},{"$f":"'Rozliczenie końcowe'!J378","v":0},{"$f":"'Rozliczenie końcowe'!K378","v":0},{"$f":"'Rozliczenie końcowe'!L378","v":0},{"$f":"'Rozliczenie końcowe'!M378","v":0},{"$f":"'Rozliczenie końcowe'!N378","v":0}]

{"sheet":"Dane - linie 3","index":9,"n_rows":111,"n_cols":12,"rows_kept":111,"cut":false,"hidden":true,"merged":[]}
["LP",{"$f":"'Rozliczenie końcowe'!A147","v":"Nazwa linii komunikacyjnej"},{"$f":"'Rozliczenie końcowe'!C148","v":"Środki własne\n(zł)"},{"$f":"'Rozliczenie końcowe'!D149","v":"Środki wypłacone przez Wojewodę"},{"$f":"'Rozliczenie końcowe'!E149","v":"Środki należne"},{"$f":"'Rozliczenie końcowe'!F149","v":"Różnica"},{"$f":"'Rozliczenie końcowe'!G149","v":"Data zwrotu na konto MUW"},"Praca eksploatacyjna - planowana","Praca ekzploatacyjna - zrealizowana","Praca eksploatacyjna - różnica","Kwota deficytu - planowana","Kwota deficytu - osiągnięta"]
[{"$f":"'Rozliczenie końcowe'!A151","v":0},{"$f":"'Rozliczenie końcowe'!B387","v":""},{"$f":"'Rozliczenie końcowe'!C387","v":0},{"$f":"'Rozliczenie końcowe'!D387","v":0},{"$f":"'Rozliczenie końcowe'!E387","v":0},{"$f":"'Rozliczenie końcowe'!F387","v":0},{"$f":"'Rozliczenie końcowe'!G387","v":0},{"$f":"'Rozliczenie końcowe'!H387","v":0},{"$f":"'Rozliczenie końcowe'!I387","v":0},{"$f":"'Rozliczenie końcowe'!J387","v":0},{"$f":"'Rozliczenie końcowe'!K387","v":0},{"$f":"'Rozliczenie końcowe'!L387","v":0}]
[{"$f":"'Rozliczenie końcowe'!A152","v":0},{"$f":"'Rozliczenie końcowe'!B388","v":""},{"$f":"'Rozliczenie końcowe'!C388","v":0},{"$f":"'Rozliczenie końcowe'!D388","v":0},{"$f":"'Rozliczenie końcowe'!E388","v":0},{"$f":"'Rozliczenie końcowe'!F388","v":0},{"$f":"'Rozliczenie końcowe'!G388","v":0},{"$f":"'Rozliczenie końcowe'!H388","v":0},{"$f":"'Rozliczenie końcowe'!I388","v":0},{"$f":"'Rozliczenie końcowe'!J388","v":0},{"$f":"'Rozliczenie końcowe'!K388","v":0},{"$f":"'Rozliczenie końcowe'!L388","v":0}]
[{"$f":"'Rozliczenie końcowe'!A153","v":0},{"$f":"'Rozliczenie końcowe'!B389","v":""},{"$f":"'Rozliczenie końcowe'!C389","v":0},{"$f":"'Rozliczenie końcowe'!D389","v":0},{"$f":"'Rozliczenie końcowe'!E389","v":0},{"$f":"'Rozliczenie końcowe'!F389","v":0},{"$f":"'Rozliczenie końcowe'!G389","v":0},{"$f":"'Rozliczenie końcowe'!H389","v":0},{"$f":"'Rozliczenie końcowe'!I389","v":0},{"$f":"'Rozliczenie końcowe'!J389","v":0},{"$f":"'Rozliczenie końcowe'!K389","v":0},{"$f":"'Rozliczenie końcowe'!L389","v":0}]
[{"$f":"'Rozliczenie końcowe'!A154","v":0},{"$f":"'Rozliczenie końcowe'!B390","v":""},{"$f":"'Rozliczenie końcowe'!C390","v":0},{"$f":"'Rozliczenie końcowe'!D390","v":0},{"$f":"'Rozliczenie końcowe'!E390","v":0},{"$f":"'Rozliczenie końcowe'!F390","v":0},{"$f":"'Rozliczenie końcowe'!G390","v":0},{"$f":"'Rozliczenie końcowe'!H390","v":0},{"$f":"'Rozliczenie końcowe'!I390","v":0},{"$f":"'Rozliczenie końcowe'!J390","v":0},{"$f":"'Rozliczenie końcowe'!K390","v":0},{"$f":"'Rozliczenie końcowe'!L390","v":0}]
[{"$f":"'Rozliczenie końcowe'!A155","v":0},{"$f":"'Rozliczenie końcowe'!B391","v":""},{"$f":"'Rozliczenie końcowe'!C391","v":0},{"$f":"'Rozliczenie końcowe'!D391","v":0},{"$f":"'Rozliczenie końcowe'!E391","v":0},{"$f":"'Rozliczenie końcowe'!F391","v":0},{"$f":"'Rozliczenie końcowe'!G391","v":0},{"$f":"'Rozliczenie końcowe'!H391","v":0},{"$f":"'Rozliczenie końcowe'!I391","v":0},{"$f":"'Rozliczenie końcowe'!J391","v":0},{"$f":"'Rozliczenie końcowe'!K391","v":0},{"$f":"'Rozliczenie końcowe'!L391","v":0}]
[{"$f":"'Rozliczenie końcowe'!A156","v":0},{"$f":"'Rozliczenie końcowe'!B392","v":""},{"$f":"'Rozliczenie końcowe'!C392","v":0},{"$f":"'Rozliczenie końcowe'!D392","v":0},{"$f":"'Rozliczenie końcowe'!E392","v":0},{"$f":"'Rozliczenie końcowe'!F392","v":0},{"$f":"'Rozliczenie końcowe'!G392","v":0},{"$f":"'Rozliczenie końcowe'!H392","v":0},{"$f":"'Rozliczenie końcowe'!I392","v":0},{"$f":"'Rozliczenie końcowe'!J392","v":0},{"$f":"'Rozliczenie końcowe'!K392","v":0},{"$f":"'Rozliczenie końcowe'!L392","v":0}]
[{"$f":"'Rozliczenie końcowe'!A157","v":0},{"$f":"'Rozliczenie końcowe'!B393","v":""},{"$f":"'Rozliczenie końcowe'!C393","v":0},{"$f":"'Rozliczenie końcowe'!D393","v":0},{"$f":"'Rozliczenie końcowe'!E393","v":0},{"$f":"'Rozliczenie końcowe'!F393","v":0},{"$f":"'Rozliczenie końcowe'!G393","v":0},{"$f":"'Rozliczenie końcowe'!H393","v":0},{"$f":"'Rozliczenie końcowe'!I393","v":0},{"$f":"'Rozliczenie końcowe'!J393","v":0},{"$f":"'Rozliczenie końcowe'!K393","v":0},{"$f":"'Rozliczenie końcowe'!L393","v":0}]
[{"$f":"'Rozliczenie końcowe'!A158","v":0},{"$f":"'Rozliczenie końcowe'!B394","v":""},{"$f":"'Rozliczenie końcowe'!C394","v":0},{"$f":"'Rozliczenie końcowe'!D394","v":0},{"$f":"'Rozliczenie końcowe'!E394","v":0},{"$f":"'Rozliczenie końcowe'!F394","v":0},{"$f":"'Rozliczenie końcowe'!G394","v":0},{"$f":"'Rozliczenie końcowe'!H394","v":0},{"$f":"'Rozliczenie końcowe'!I394","v":0},{"$f":"'Rozliczenie końcowe'!J394","v":0},{"$f":"'Rozliczenie końcowe'!K394","v":0},{"$f":"'Rozliczenie końcowe'!L394","v":0}]
[{"$f":"'Rozliczenie końcowe'!A159","v":0},{"$f":"'Rozliczenie końcowe'!B395","v":""},{"$f":"'Rozliczenie końcowe'!C395","v":0},{"$f":"'Rozliczenie końcowe'!D395","v":0},{"$f":"'Rozliczenie końcowe'!E395","v":0},{"$f":"'Rozliczenie końcowe'!F395","v":0},{"$f":"'Rozliczenie końcowe'!G395","v":0},{"$f":"'Rozliczenie końcowe'!H395","v":0},{"$f":"'Rozliczenie końcowe'!I395","v":0},{"$f":"'Rozliczenie końcowe'!J395","v":0},{"$f":"'Rozliczenie końcowe'!K395","v":0},{"$f":"'Rozliczenie końcowe'!L395","v":0}]
[{"$f":"'Rozliczenie końcowe'!A160","v":0},{"$f":"'Rozliczenie końcowe'!B396","v":""},{"$f":"'Rozliczenie końcowe'!C396","v":0},{"$f":"'Rozliczenie końcowe'!D396","v":0},{"$f":"'Rozliczenie końcowe'!E396","v":0},{"$f":"'Rozliczenie końcowe'!F396","v":0},{"$f":"'Rozliczenie końcowe'!G396","v":0},{"$f":"'Rozliczenie końcowe'!H396","v":0},{"$f":"'Rozliczenie końcowe'!I396","v":0},{"$f":"'Rozliczenie końcowe'!J396","v":0},{"$f":"'Rozliczenie końcowe'!K396","v":0},{"$f":"'Rozliczenie końcowe'!L396","v":0}]
[{"$f":"'Rozliczenie końcowe'!A161","v":0},{"$f":"'Rozliczenie końcowe'!B397","v":""},{"$f":"'Rozliczenie końcowe'!C397","v":0},{"$f":"'Rozliczenie końcowe'!D397","v":0},{"$f":"'Rozliczenie końcowe'!E397","v":0},{"$f":"'Rozliczenie końcowe'!F397","v":0},{"$f":"'Rozliczenie końcowe'!G397","v":0},{"$f":"'Rozliczenie końcowe'!H397","v":0},{"$f":"'Rozliczenie końcowe'!I397","v":0},{"$f":"'Rozliczenie końcowe'!J397","v":0},{"$f":"'Rozliczenie końcowe'!K397","v":0},{"$f":"'Rozliczenie końcowe'!L397","v":0}]
[{"$f":"'Rozliczenie końcowe'!A162","v":0},{"$f":"'Rozliczenie końcowe'!B398","v":""},{"$f":"'Rozliczenie końcowe'!C398","v":0},{"$f":"'Rozliczenie końcowe'!D398","v":0},{"$f":"'Rozliczenie końcowe'!E398","v":0},{"$f":"'Rozliczenie końcowe'!F398","v":0},{"$f":"'Rozliczenie końcowe'!G398","v":0},{"$f":"'Rozliczenie końcowe'!H398","v":0},{"$f":"'Rozliczenie końcowe'!I398","v":0},{"$f":"'Rozliczenie końcowe'!J398","v":0},{"$f":"'Rozliczenie końcowe'!K398","v":0},{"$f":"'Rozliczenie końcowe'!L398","v":0}]
[{"$f":"'Rozliczenie końcowe'!A163","v":0},{"$f":"'Rozliczenie końcowe'!B399","v":""},{"$f":"'Rozliczenie końcowe'!C399","v":0},{"$f":"'Rozliczenie końcowe'!D399","v":0},{"$f":"'Rozliczenie końcowe'!E399","v":0},{"$f":"'Rozliczenie końcowe'!F399","v":0},{"$f":"'Rozliczenie końcowe'!G399","v":0},{"$f":"'Rozliczenie końcowe'!H399","v":0},{"$f":"'Rozliczenie końcowe'!I399","v":0},{"$f":"'Rozliczenie końcowe'!J399","v":0},{"$f":"'Rozliczenie końcowe'!K399","v":0},{"$f":"'Rozliczenie końcowe'!L399","v":0}]
[{"$f":"'Rozliczenie końcowe'!A164","v":0},{"$f":"'Rozliczenie końcowe'!B400","v":""},{"$f":"'Rozliczenie końcowe'!C400","v":0},{"$f":"'Rozliczenie końcowe'!D400","v":0},{"$f":"'Rozliczenie końcowe'!E400","v":0},{"$f":"'Rozliczenie końcowe'!F400","v":0},{"$f":"'Rozliczenie końcowe'!G400","v":0},{"$f":"'Rozliczenie końcowe'!H400","v":0},{"$f":"'Rozliczenie końcowe'!I400","v":0},{"$f":"'Rozliczenie końcowe'!J400","v":0},{"$f":"'Rozliczenie końcowe'!K400","v":0},{"$f":"'Rozliczenie końcowe'!L400","v":0}]
[{"$f":"'Rozliczenie końcowe'!A165","v":0},{"$f":"'Rozliczenie końcowe'!B401","v":""},{"$f":"'Rozliczenie końcowe'!C401","v":0},{"$f":"'Rozliczenie końcowe'!D401","v":0},{"$f":"'Rozliczenie końcowe'!E401","v":0},{"$f":"'Rozliczenie końcowe'!F401","v":0},{"$f":"'Rozliczenie końcowe'!G401","v":0},{"$f":"'Rozliczenie końcowe'!H401","v":0},{"$f":"'Rozliczenie końcowe'!I401","v":0},{"$f":"'Rozliczenie końcowe'!J401","v":0},{"$f":"'Rozliczenie końcowe'!K401","v":0},{"$f":"'Rozliczenie końcowe'!L401","v":0}]
[{"$f":"'Rozliczenie końcowe'!A166","v":0},{"$f":"'Rozliczenie końcowe'!B402","v":""},{"$f":"'Rozliczenie końcowe'!C402","v":0},{"$f":"'Rozliczenie końcowe'!D402","v":0},{"$f":"'Rozliczenie końcowe'!E402","v":0},{"$f":"'Rozliczenie końcowe'!F402","v":0},{"$f":"'Rozliczenie końcowe'!G402","v":0},{"$f":"'Rozliczenie końcowe'!H402","v":0},{"$f":"'Rozliczenie końcowe'!I402","v":0},{"$f":"'Rozliczenie końcowe'!J402","v":0},{"$f":"'Rozliczenie końcowe'!K402","v":0},{"$f":"'Rozliczenie końcowe'!L402","v":0}]
[{"$f":"'Rozliczenie końcowe'!A167","v":0},{"$f":"'Rozliczenie końcowe'!B403","v":""},{"$f":"'Rozliczenie końcowe'!C403","v":0},{"$f":"'Rozliczenie końcowe'!D403","v":0},{"$f":"'Rozliczenie końcowe'!E403","v":0},{"$f":"'Rozliczenie końcowe'!F403","v":0},{"$f":"'Rozliczenie końcowe'!G403","v":0},{"$f":"'Rozliczenie końcowe'!H403","v":0},{"$f":"'Rozliczenie końcowe'!I403","v":0},{"$f":"'Rozliczenie końcowe'!J403","v":0},{"$f":"'Rozliczenie końcowe'!K403","v":0},{"$f":"'Rozliczenie końcowe'!L403","v":0}]
[{"$f":"'Rozliczenie końcowe'!A168","v":0},{"$f":"'Rozliczenie końcowe'!B404","v":""},{"$f":"'Rozliczenie końcowe'!C404","v":0},{"$f":"'Rozliczenie końcowe'!D404","v":0},{"$f":"'Rozliczenie końcowe'!E404","v":0},{"$f":"'Rozliczenie końcowe'!F404","v":0},{"$f":"'Rozliczenie końcowe'!G404","v":0},{"$f":"'Rozliczenie końcowe'!H404","v":0},{"$f":"'Rozliczenie końcowe'!I404","v":0},{"$f":"'Rozliczenie końcowe'!J404","v":0},{"$f":"'Rozliczenie końcowe'!K404","v":0},{"$f":"'Rozliczenie końcowe'!L404","v":0}]
[{"$f":"'Rozliczenie końcowe'!A169","v":0},{"$f":"'Rozliczenie końcowe'!B405","v":""},{"$f":"'Rozliczenie końcowe'!C405","v":0},{"$f":"'Rozliczenie końcowe'!D405","v":0},{"$f":"'Rozliczenie końcowe'!E405","v":0},{"$f":"'Rozliczenie końcowe'!F405","v":0},{"$f":"'Rozliczenie końcowe'!G405","v":0},{"$f":"'Rozliczenie końcowe'!H405","v":0},{"$f":"'Rozliczenie końcowe'!I405","v":0},{"$f":"'Rozliczenie końcowe'!J405","v":0},{"$f":"'Rozliczenie końcowe'!K405","v":0},{"$f":"'Rozliczenie końcowe'!L405","v":0}]
[{"$f":"'Rozliczenie końcowe'!A170","v":0},{"$f":"'Rozliczenie końcowe'!B406","v":""},{"$f":"'Rozliczenie końcowe'!C406","v":0},{"$f":"'Rozliczenie końcowe'!D406","v":0},{"$f":"'Rozliczenie końcowe'!E406","v":0},{"$f":"'Rozliczenie końcowe'!F406","v":0},{"$f":"'Rozliczenie końcowe'!G406","v":0},{"$f":"'Rozliczenie końcowe'!H406","v":0},{"$f":"'Rozliczenie końcowe'!I406","v":0},{"$f":"'Rozliczenie końcowe'!J406","v":0},{"$f":"'Rozliczenie końcowe'!K406","v":0},{"$f":"'Rozliczenie końcowe'!L406","v":0}]
[{"$f":"'Rozliczenie końcowe'!A171","v":0},{"$f":"'Rozliczenie końcowe'!B407","v":""},{"$f":"'Rozliczenie końcowe'!C407","v":0},{"$f":"'Rozliczenie końcowe'!D407","v":0},{"$f":"'Rozliczenie końcowe'!E407","v":0},{"$f":"'Rozliczenie końcowe'!F407","v":0},{"$f":"'Rozliczenie końcowe'!G407","v":0},{"$f":"'Rozliczenie końcowe'!H407","v":0},{"$f":"'Rozliczenie końcowe'!I407","v":0},{"$f":"'Rozliczenie końcowe'!J407","v":0},{"$f":"'Rozliczenie końcowe'!K407","v":0},{"$f":"'Rozliczenie końcowe'!L407","v":0}]
[{"$f":"'Rozliczenie końcowe'!A172","v":0},{"$f":"'Rozliczenie końcowe'!B408","v":""},{"$f":"'Rozliczenie końcowe'!C408","v":0},{"$f":"'Rozliczenie końcowe'!D408","v":0},{"$f":"'Rozliczenie końcowe'!E408","v":0},{"$f":"'Rozliczenie końcowe'!F408","v":0},{"$f":"'Rozliczenie końcowe'!G408","v":0},{"$f":"'Rozliczenie końcowe'!H408","v":0},{"$f":"'Rozliczenie końcowe'!I408","v":0},{"$f":"'Rozliczenie końcowe'!J408","v":0},{"$f":"'Rozliczenie końcowe'!K408","v":0},{"$f":"'Rozliczenie końcowe'!L408","v":0}]
[{"$f":"'Rozliczenie końcowe'!A173","v":0},{"$f":"'Rozliczenie końcowe'!B409","v":""},{"$f":"'Rozliczenie końcowe'!C409","v":0},{"$f":"'Rozliczenie końcowe'!D409","v":0},{"$f":"'Rozliczenie końcowe'!E409","v":0},{"$f":"'Rozliczenie końcowe'!F409","v":0},{"$f":"'Rozliczenie końcowe'!G409","v":0},{"$f":"'Rozliczenie końcowe'!H409","v":0},{"$f":"'Rozliczenie końcowe'!I409","v":0},{"$f":"'Rozliczenie końcowe'!J409","v":0},{"$f":"'Rozliczenie końcowe'!K409","v":0},{"$f":"'Rozliczenie końcowe'!L409","v":0}]
[{"$f":"'Rozliczenie końcowe'!A174","v":0},{"$f":"'Rozliczenie końcowe'!B410","v":""},{"$f":"'Rozliczenie końcowe'!C410","v":0},{"$f":"'Rozliczenie końcowe'!D410","v":0},{"$f":"'Rozliczenie końcowe'!E410","v":0},{"$f":"'Rozliczenie końcowe'!F410","v":0},{"$f":"'Rozliczenie końcowe'!G410","v":0},{"$f":"'Rozliczenie końcowe'!H410","v":0},{"$f":"'Rozliczenie końcowe'!I410","v":0},{"$f":"'Rozliczenie końcowe'!J410","v":0},{"$f":"'Rozliczenie końcowe'!K410","v":0},{"$f":"'Rozliczenie końcowe'!L410","v":0}]
[{"$f":"'Rozliczenie końcowe'!A175","v":0},{"$f":"'Rozliczenie końcowe'!B411","v":""},{"$f":"'Rozliczenie końcowe'!C411","v":0},{"$f":"'Rozliczenie końcowe'!D411","v":0},{"$f":"'Rozliczenie końcowe'!E411","v":0},{"$f":"'Rozliczenie końcowe'!F411","v":0},{"$f":"'Rozliczenie końcowe'!G411","v":0},{"$f":"'Rozliczenie końcowe'!H411","v":0},{"$f":"'Rozliczenie końcowe'!I411","v":0},{"$f":"'Rozliczenie końcowe'!J411","v":0},{"$f":"'Rozliczenie końcowe'!K411","v":0},{"$f":"'Rozliczenie końcowe'!L411","v":0}]
[{"$f":"'Rozliczenie końcowe'!A176","v":0},{"$f":"'Rozliczenie końcowe'!B412","v":""},{"$f":"'Rozliczenie końcowe'!C412","v":0},{"$f":"'Rozliczenie końcowe'!D412","v":0},{"$f":"'Rozliczenie końcowe'!E412","v":0},{"$f":"'Rozliczenie końcowe'!F412","v":0},{"$f":"'Rozliczenie końcowe'!G412","v":0},{"$f":"'Rozliczenie końcowe'!H412","v":0},{"$f":"'Rozliczenie końcowe'!I412","v":0},{"$f":"'Rozliczenie końcowe'!J412","v":0},{"$f":"'Rozliczenie końcowe'!K412","v":0},{"$f":"'Rozliczenie końcowe'!L412","v":0}]
[{"$f":"'Rozliczenie końcowe'!A177","v":0},{"$f":"'Rozliczenie końcowe'!B413","v":""},{"$f":"'Rozliczenie końcowe'!C413","v":0},{"$f":"'Rozliczenie końcowe'!D413","v":0},{"$f":"'Rozliczenie końcowe'!E413","v":0},{"$f":"'Rozliczenie końcowe'!F413","v":0},{"$f":"'Rozliczenie końcowe'!G413","v":0},{"$f":"'Rozliczenie końcowe'!H413","v":0},{"$f":"'Rozliczenie końcowe'!I413","v":0},{"$f":"'Rozliczenie końcowe'!J413","v":0},{"$f":"'Rozliczenie końcowe'!K413","v":0},{"$f":"'Rozliczenie końcowe'!L413","v":0}]
[{"$f":"'Rozliczenie końcowe'!A178","v":0},{"$f":"'Rozliczenie końcowe'!B414","v":""},{"$f":"'Rozliczenie końcowe'!C414","v":0},{"$f":"'Rozliczenie końcowe'!D414","v":0},{"$f":"'Rozliczenie końcowe'!E414","v":0},{"$f":"'Rozliczenie końcowe'!F414","v":0},{"$f":"'Rozliczenie końcowe'!G414","v":0},{"$f":"'Rozliczenie końcowe'!H414","v":0},{"$f":"'Rozliczenie końcowe'!I414","v":0},{"$f":"'Rozliczenie końcowe'!J414","v":0},{"$f":"'Rozliczenie końcowe'!K414","v":0},{"$f":"'Rozliczenie końcowe'!L414","v":0}]
[{"$f":"'Rozliczenie końcowe'!A179","v":0},{"$f":"'Rozliczenie końcowe'!B415","v":""},{"$f":"'Rozliczenie końcowe'!C415","v":0},{"$f":"'Rozliczenie końcowe'!D415","v":0},{"$f":"'Rozliczenie końcowe'!E415","v":0},{"$f":"'Rozliczenie końcowe'!F415","v":0},{"$f":"'Rozliczenie końcowe'!G415","v":0},{"$f":"'Rozliczenie końcowe'!H415","v":0},{"$f":"'Rozliczenie końcowe'!I415","v":0},{"$f":"'Rozliczenie końcowe'!J415","v":0},{"$f":"'Rozliczenie końcowe'!K415","v":0},{"$f":"'Rozliczenie końcowe'!L415","v":0}]
[{"$f":"'Rozliczenie końcowe'!A180","v":0},{"$f":"'Rozliczenie końcowe'!B416","v":""},{"$f":"'Rozliczenie końcowe'!C416","v":0},{"$f":"'Rozliczenie końcowe'!D416","v":0},{"$f":"'Rozliczenie końcowe'!E416","v":0},{"$f":"'Rozliczenie końcowe'!F416","v":0},{"$f":"'Rozliczenie końcowe'!G416","v":0},{"$f":"'Rozliczenie końcowe'!H416","v":0},{"$f":"'Rozliczenie końcowe'!I416","v":0},{"$f":"'Rozliczenie końcowe'!J416","v":0},{"$f":"'Rozliczenie końcowe'!K416","v":0},{"$f":"'Rozliczenie końcowe'!L416","v":0}]
[{"$f":"'Rozliczenie końcowe'!A181","v":0},{"$f":"'Rozliczenie końcowe'!B417","v":""},{"$f":"'Rozliczenie końcowe'!C417","v":0},{"$f":"'Rozliczenie końcowe'!D417","v":0},{"$f":"'Rozliczenie końcowe'!E417","v":0},{"$f":"'Rozliczenie końcowe'!F417","v":0},{"$f":"'Rozliczenie końcowe'!G417","v":0},{"$f":"'Rozliczenie końcowe'!H417","v":0},{"$f":"'Rozliczenie końcowe'!I417","v":0},{"$f":"'Rozliczenie końcowe'!J417","v":0},{"$f":"'Rozliczenie końcowe'!K417","v":0},{"$f":"'Rozliczenie końcowe'!L417","v":0}]
[{"$f":"'Rozliczenie końcowe'!A182","v":0},{"$f":"'Rozliczenie końcowe'!B418","v":""},{"$f":"'Rozliczenie końcowe'!C418","v":0},{"$f":"'Rozliczenie końcowe'!D418","v":0},{"$f":"'Rozliczenie końcowe'!E418","v":0},{"$f":"'Rozliczenie końcowe'!F418","v":0},{"$f":"'Rozliczenie końcowe'!G418","v":0},{"$f":"'Rozliczenie końcowe'!H418","v":0},{"$f":"'Rozliczenie końcowe'!I418","v":0},{"$f":"'Rozliczenie końcowe'!J418","v":0},{"$f":"'Rozliczenie końcowe'!K418","v":0},{"$f":"'Rozliczenie końcowe'!L418","v":0}]
[{"$f":"'Rozliczenie końcowe'!A183","v":0},{"$f":"'Rozliczenie końcowe'!B419","v":""},{"$f":"'Rozliczenie końcowe'!C419","v":0},{"$f":"'Rozliczenie końcowe'!D419","v":0},{"$f":"'Rozliczenie końcowe'!E419","v":0},{"$f":"'Rozliczenie końcowe'!F419","v":0},{"$f":"'Rozliczenie końcowe'!G419","v":0},{"$f":"'Rozliczenie końcowe'!H419","v":0},{"$f":"'Rozliczenie końcowe'!I419","v":0},{"$f":"'Rozliczenie końcowe'!J419","v":0},{"$f":"'Rozliczenie końcowe'!K419","v":0},{"$f":"'Rozliczenie końcowe'!L419","v":0}]
[{"$f":"'Rozliczenie końcowe'!A184","v":0},{"$f":"'Rozliczenie końcowe'!B420","v":""},{"$f":"'Rozliczenie końcowe'!C420","v":0},{"$f":"'Rozliczenie końcowe'!D420","v":0},{"$f":"'Rozliczenie końcowe'!E420","v":0},{"$f":"'Rozliczenie końcowe'!F420","v":0},{"$f":"'Rozliczenie końcowe'!G420","v":0},{"$f":"'Rozliczenie końcowe'!H420","v":0},{"$f":"'Rozliczenie końcowe'!I420","v":0},{"$f":"'Rozliczenie końcowe'!J420","v":0},{"$f":"'Rozliczenie końcowe'!K420","v":0},{"$f":"'Rozliczenie końcowe'!L420","v":0}]
[{"$f":"'Rozliczenie końcowe'!A185","v":0},{"$f":"'Rozliczenie końcowe'!B421","v":""},{"$f":"'Rozliczenie końcowe'!C421","v":0},{"$f":"'Rozliczenie końcowe'!D421","v":0},{"$f":"'Rozliczenie końcowe'!E421","v":0},{"$f":"'Rozliczenie końcowe'!F421","v":0},{"$f":"'Rozliczenie końcowe'!G421","v":0},{"$f":"'Rozliczenie końcowe'!H421","v":0},{"$f":"'Rozliczenie końcowe'!I421","v":0},{"$f":"'Rozliczenie końcowe'!J421","v":0},{"$f":"'Rozliczenie końcowe'!K421","v":0},{"$f":"'Rozliczenie końcowe'!L421","v":0}]
[{"$f":"'Rozliczenie końcowe'!A186","v":0},{"$f":"'Rozliczenie końcowe'!B422","v":""},{"$f":"'Rozliczenie końcowe'!C422","v":0},{"$f":"'Rozliczenie końcowe'!D422","v":0},{"$f":"'Rozliczenie końcowe'!E422","v":0},{"$f":"'Rozliczenie końcowe'!F422","v":0},{"$f":"'Rozliczenie końcowe'!G422","v":0},{"$f":"'Rozliczenie końcowe'!H422","v":0},{"$f":"'Rozliczenie końcowe'!I422","v":0},{"$f":"'Rozliczenie końcowe'!J422","v":0},{"$f":"'Rozliczenie końcowe'!K422","v":0},{"$f":"'Rozliczenie końcowe'!L422","v":0}]
[{"$f":"'Rozliczenie końcowe'!A187","v":0},{"$f":"'Rozliczenie końcowe'!B423","v":""},{"$f":"'Rozliczenie końcowe'!C423","v":0},{"$f":"'Rozliczenie końcowe'!D423","v":0},{"$f":"'Rozliczenie końcowe'!E423","v":0},{"$f":"'Rozliczenie końcowe'!F423","v":0},{"$f":"'Rozliczenie końcowe'!G423","v":0},{"$f":"'Rozliczenie końcowe'!H423","v":0},{"$f":"'Rozliczenie końcowe'!I423","v":0},{"$f":"'Rozliczenie końcowe'!J423","v":0},{"$f":"'Rozliczenie końcowe'!K423","v":0},{"$f":"'Rozliczenie końcowe'!L423","v":0}]
[{"$f":"'Rozliczenie końcowe'!A188","v":0},{"$f":"'Rozliczenie końcowe'!B424","v":""},{"$f":"'Rozliczenie końcowe'!C424","v":0},{"$f":"'Rozliczenie końcowe'!D424","v":0},{"$f":"'Rozliczenie końcowe'!E424","v":0},{"$f":"'Rozliczenie końcowe'!F424","v":0},{"$f":"'Rozliczenie końcowe'!G424","v":0},{"$f":"'Rozliczenie końcowe'!H424","v":0},{"$f":"'Rozliczenie końcowe'!I424","v":0},{"$f":"'Rozliczenie końcowe'!J424","v":0},{"$f":"'Rozliczenie końcowe'!K424","v":0},{"$f":"'Rozliczenie końcowe'!L424","v":0}]
[{"$f":"'Rozliczenie końcowe'!A189","v":0},{"$f":"'Rozliczenie końcowe'!B425","v":""},{"$f":"'Rozliczenie końcowe'!C425","v":0},{"$f":"'Rozliczenie końcowe'!D425","v":0},{"$f":"'Rozliczenie końcowe'!E425","v":0},{"$f":"'Rozliczenie końcowe'!F425","v":0},{"$f":"'Rozliczenie końcowe'!G425","v":0},{"$f":"'Rozliczenie końcowe'!H425","v":0},{"$f":"'Rozliczenie końcowe'!I425","v":0},{"$f":"'Rozliczenie końcowe'!J425","v":0},{"$f":"'Rozliczenie końcowe'!K425","v":0},{"$f":"'Rozliczenie końcowe'!L425","v":0}]
[{"$f":"'Rozliczenie końcowe'!A190","v":0},{"$f":"'Rozliczenie końcowe'!B426","v":""},{"$f":"'Rozliczenie końcowe'!C426","v":0},{"$f":"'Rozliczenie końcowe'!D426","v":0},{"$f":"'Rozliczenie końcowe'!E426","v":0},{"$f":"'Rozliczenie końcowe'!F426","v":0},{"$f":"'Rozliczenie końcowe'!G426","v":0},{"$f":"'Rozliczenie końcowe'!H426","v":0},{"$f":"'Rozliczenie końcowe'!I426","v":0},{"$f":"'Rozliczenie końcowe'!J426","v":0},{"$f":"'Rozliczenie końcowe'!K426","v":0},{"$f":"'Rozliczenie końcowe'!L426","v":0}]
[{"$f":"'Rozliczenie końcowe'!A191","v":0},{"$f":"'Rozliczenie końcowe'!B427","v":""},{"$f":"'Rozliczenie końcowe'!C427","v":0},{"$f":"'Rozliczenie końcowe'!D427","v":0},{"$f":"'Rozliczenie końcowe'!E427","v":0},{"$f":"'Rozliczenie końcowe'!F427","v":0},{"$f":"'Rozliczenie końcowe'!G427","v":0},{"$f":"'Rozliczenie końcowe'!H427","v":0},{"$f":"'Rozliczenie końcowe'!I427","v":0},{"$f":"'Rozliczenie końcowe'!J427","v":0},{"$f":"'Rozliczenie końcowe'!K427","v":0},{"$f":"'Rozliczenie końcowe'!L427","v":0}]
[{"$f":"'Rozliczenie końcowe'!A192","v":0},{"$f":"'Rozliczenie końcowe'!B428","v":""},{"$f":"'Rozliczenie końcowe'!C428","v":0},{"$f":"'Rozliczenie końcowe'!D428","v":0},{"$f":"'Rozliczenie końcowe'!E428","v":0},{"$f":"'Rozliczenie końcowe'!F428","v":0},{"$f":"'Rozliczenie końcowe'!G428","v":0},{"$f":"'Rozliczenie końcowe'!H428","v":0},{"$f":"'Rozliczenie końcowe'!I428","v":0},{"$f":"'Rozliczenie końcowe'!J428","v":0},{"$f":"'Rozliczenie końcowe'!K428","v":0},{"$f":"'Rozliczenie końcowe'!L428","v":0}]
[{"$f":"'Rozliczenie końcowe'!A193","v":0},{"$f":"'Rozliczenie końcowe'!B429","v":""},{"$f":"'Rozliczenie końcowe'!C429","v":0},{"$f":"'Rozliczenie końcowe'!D429","v":0},{"$f":"'Rozliczenie końcowe'!E429","v":0},{"$f":"'Rozliczenie końcowe'!F429","v":0},{"$f":"'Rozliczenie końcowe'!G429","v":0},{"$f":"'Rozliczenie końcowe'!H429","v":0},{"$f":"'Rozliczenie końcowe'!I429","v":0},{"$f":"'Rozliczenie końcowe'!J429","v":0},{"$f":"'Rozliczenie końcowe'!K429","v":0},{"$f":"'Rozliczenie końcowe'!L429","v":0}]
[{"$f":"'Rozliczenie końcowe'!A194","v":0},{"$f":"'Rozliczenie końcowe'!B430","v":""},{"$f":"'Rozliczenie końcowe'!C430","v":0},{"$f":"'Rozliczenie końcowe'!D430","v":0},{"$f":"'Rozliczenie końcowe'!E430","v":0},{"$f":"'Rozliczenie końcowe'!F430","v":0},{"$f":"'Rozliczenie końcowe'!G430","v":0},{"$f":"'Rozliczenie końcowe'!H430","v":0},{"$f":"'Rozliczenie końcowe'!I430","v":0},{"$f":"'Rozliczenie końcowe'!J430","v":0},{"$f":"'Rozliczenie końcowe'!K430","v":0},{"$f":"'Rozliczenie końcowe'!L430","v":0}]
[{"$f":"'Rozliczenie końcowe'!A195","v":0},{"$f":"'Rozliczenie końcowe'!B431","v":""},{"$f":"'Rozliczenie końcowe'!C431","v":0},{"$f":"'Rozliczenie końcowe'!D431","v":0},{"$f":"'Rozliczenie końcowe'!E431","v":0},{"$f":"'Rozliczenie końcowe'!F431","v":0},{"$f":"'Rozliczenie końcowe'!G431","v":0},{"$f":"'Rozliczenie końcowe'!H431","v":0},{"$f":"'Rozliczenie końcowe'!I431","v":0},{"$f":"'Rozliczenie końcowe'!J431","v":0},{"$f":"'Rozliczenie końcowe'!K431","v":0},{"$f":"'Rozliczenie końcowe'!L431","v":0}]
[{"$f":"'Rozliczenie końcowe'!A196","v":0},{"$f":"'Rozliczenie końcowe'!B432","v":""},{"$f":"'Rozliczenie końcowe'!C432","v":0},{"$f":"'Rozliczenie końcowe'!D432","v":0},{"$f":"'Rozliczenie końcowe'!E432","v":0},{"$f":"'Rozliczenie końcowe'!F432","v":0},{"$f":"'Rozliczenie końcowe'!G432","v":0},{"$f":"'Rozliczenie końcowe'!H432","v":0},{"$f":"'Rozliczenie końcowe'!I432","v":0},{"$f":"'Rozliczenie końcowe'!J432","v":0},{"$f":"'Rozliczenie końcowe'!K432","v":0},{"$f":"'Rozliczenie końcowe'!L432","v":0}]
[{"$f":"'Rozliczenie końcowe'!A197","v":0},{"$f":"'Rozliczenie końcowe'!B433","v":""},{"$f":"'Rozliczenie końcowe'!C433","v":0},{"$f":"'Rozliczenie końcowe'!D433","v":0},{"$f":"'Rozliczenie końcowe'!E433","v":0},{"$f":"'Rozliczenie końcowe'!F433","v":0},{"$f":"'Rozliczenie końcowe'!G433","v":0},{"$f":"'Rozliczenie końcowe'!H433","v":0},{"$f":"'Rozliczenie końcowe'!I433","v":0},{"$f":"'Rozliczenie końcowe'!J433","v":0},{"$f":"'Rozliczenie końcowe'!K433","v":0},{"$f":"'Rozliczenie końcowe'!L433","v":0}]
[{"$f":"'Rozliczenie końcowe'!A198","v":0},{"$f":"'Rozliczenie końcowe'!B434","v":""},{"$f":"'Rozliczenie końcowe'!C434","v":0},{"$f":"'Rozliczenie końcowe'!D434","v":0},{"$f":"'Rozliczenie końcowe'!E434","v":0},{"$f":"'Rozliczenie końcowe'!F434","v":0},{"$f":"'Rozliczenie końcowe'!G434","v":0},{"$f":"'Rozliczenie końcowe'!H434","v":0},{"$f":"'Rozliczenie końcowe'!I434","v":0},{"$f":"'Rozliczenie końcowe'!J434","v":0},{"$f":"'Rozliczenie końcowe'!K434","v":0},{"$f":"'Rozliczenie końcowe'!L434","v":0}]
[{"$f":"'Rozliczenie końcowe'!A199","v":0},{"$f":"'Rozliczenie końcowe'!B435","v":""},{"$f":"'Rozliczenie końcowe'!C435","v":0},{"$f":"'Rozliczenie końcowe'!D435","v":0},{"$f":"'Rozliczenie końcowe'!E435","v":0},{"$f":"'Rozliczenie końcowe'!F435","v":0},{"$f":"'Rozliczenie końcowe'!G435","v":0},{"$f":"'Rozliczenie końcowe'!H435","v":0},{"$f":"'Rozliczenie końcowe'!I435","v":0},{"$f":"'Rozliczenie końcowe'!J435","v":0},{"$f":"'Rozliczenie końcowe'!K435","v":0},{"$f":"'Rozliczenie końcowe'!L435","v":0}]
[{"$f":"'Rozliczenie końcowe'!A200","v":0},{"$f":"'Rozliczenie końcowe'!B436","v":""},{"$f":"'Rozliczenie końcowe'!C436","v":0},{"$f":"'Rozliczenie końcowe'!D436","v":0},{"$f":"'Rozliczenie końcowe'!E436","v":0},{"$f":"'Rozliczenie końcowe'!F436","v":0},{"$f":"'Rozliczenie końcowe'!G436","v":0},{"$f":"'Rozliczenie końcowe'!H436","v":0},{"$f":"'Rozliczenie końcowe'!I436","v":0},{"$f":"'Rozliczenie końcowe'!J436","v":0},{"$f":"'Rozliczenie końcowe'!K436","v":0},{"$f":"'Rozliczenie końcowe'!L436","v":0}]
[{"$f":"'Rozliczenie końcowe'!A201","v":0},{"$f":"'Rozliczenie końcowe'!B437","v":""},{"$f":"'Rozliczenie końcowe'!C437","v":0},{"$f":"'Rozliczenie końcowe'!D437","v":0},{"$f":"'Rozliczenie końcowe'!E437","v":0},{"$f":"'Rozliczenie końcowe'!F437","v":0},{"$f":"'Rozliczenie końcowe'!G437","v":0},{"$f":"'Rozliczenie końcowe'!H437","v":0},{"$f":"'Rozliczenie końcowe'!I437","v":0},{"$f":"'Rozliczenie końcowe'!J437","v":0},{"$f":"'Rozliczenie końcowe'!K437","v":0},{"$f":"'Rozliczenie końcowe'!L437","v":0}]
[{"$f":"'Rozliczenie końcowe'!A202","v":0},{"$f":"'Rozliczenie końcowe'!B438","v":""},{"$f":"'Rozliczenie końcowe'!C438","v":0},{"$f":"'Rozliczenie końcowe'!D438","v":0},{"$f":"'Rozliczenie końcowe'!E438","v":0},{"$f":"'Rozliczenie końcowe'!F438","v":0},{"$f":"'Rozliczenie końcowe'!G438","v":0},{"$f":"'Rozliczenie końcowe'!H438","v":0},{"$f":"'Rozliczenie końcowe'!I438","v":0},{"$f":"'Rozliczenie końcowe'!J438","v":0},{"$f":"'Rozliczenie końcowe'!K438","v":0},{"$f":"'Rozliczenie końcowe'!L438","v":0}]
[{"$f":"'Rozliczenie końcowe'!A203","v":0},{"$f":"'Rozliczenie końcowe'!B439","v":""},{"$f":"'Rozliczenie końcowe'!C439","v":0},{"$f":"'Rozliczenie końcowe'!D439","v":0},{"$f":"'Rozliczenie końcowe'!E439","v":0},{"$f":"'Rozliczenie końcowe'!F439","v":0},{"$f":"'Rozliczenie końcowe'!G439","v":0},{"$f":"'Rozliczenie końcowe'!H439","v":0},{"$f":"'Rozliczenie końcowe'!I439","v":0},{"$f":"'Rozliczenie końcowe'!J439","v":0},{"$f":"'Rozliczenie końcowe'!K439","v":0},{"$f":"'Rozliczenie końcowe'!L439","v":0}]
[{"$f":"'Rozliczenie końcowe'!A204","v":0},{"$f":"'Rozliczenie końcowe'!B440","v":""},{"$f":"'Rozliczenie końcowe'!C440","v":0},{"$f":"'Rozliczenie końcowe'!D440","v":0},{"$f":"'Rozliczenie końcowe'!E440","v":0},{"$f":"'Rozliczenie końcowe'!F440","v":0},{"$f":"'Rozliczenie końcowe'!G440","v":0},{"$f":"'Rozliczenie końcowe'!H440","v":0},{"$f":"'Rozliczenie końcowe'!I440","v":0},{"$f":"'Rozliczenie końcowe'!J440","v":0},{"$f":"'Rozliczenie końcowe'!K440","v":0},{"$f":"'Rozliczenie końcowe'!L440","v":0}]
[{"$f":"'Rozliczenie końcowe'!A205","v":0},{"$f":"'Rozliczenie końcowe'!B441","v":""},{"$f":"'Rozliczenie końcowe'!C441","v":0},{"$f":"'Rozliczenie końcowe'!D441","v":0},{"$f":"'Rozliczenie końcowe'!E441","v":0},{"$f":"'Rozliczenie końcowe'!F441","v":0},{"$f":"'Rozliczenie końcowe'!G441","v":0},{"$f":"'Rozliczenie końcowe'!H441","v":0},{"$f":"'Rozliczenie końcowe'!I441","v":0},{"$f":"'Rozliczenie końcowe'!J441","v":0},{"$f":"'Rozliczenie końcowe'!K441","v":0},{"$f":"'Rozliczenie końcowe'!L441","v":0}]
[{"$f":"'Rozliczenie końcowe'!A206","v":0},{"$f":"'Rozliczenie końcowe'!B442","v":""},{"$f":"'Rozliczenie końcowe'!C442","v":0},{"$f":"'Rozliczenie końcowe'!D442","v":0},{"$f":"'Rozliczenie końcowe'!E442","v":0},{"$f":"'Rozliczenie końcowe'!F442","v":0},{"$f":"'Rozliczenie końcowe'!G442","v":0},{"$f":"'Rozliczenie końcowe'!H442","v":0},{"$f":"'Rozliczenie końcowe'!I442","v":0},{"$f":"'Rozliczenie końcowe'!J442","v":0},{"$f":"'Rozliczenie końcowe'!K442","v":0},{"$f":"'Rozliczenie końcowe'!L442","v":0}]
[{"$f":"'Rozliczenie końcowe'!A207","v":0},{"$f":"'Rozliczenie końcowe'!B443","v":""},{"$f":"'Rozliczenie końcowe'!C443","v":0},{"$f":"'Rozliczenie końcowe'!D443","v":0},{"$f":"'Rozliczenie końcowe'!E443","v":0},{"$f":"'Rozliczenie końcowe'!F443","v":0},{"$f":"'Rozliczenie końcowe'!G443","v":0},{"$f":"'Rozliczenie końcowe'!H443","v":0},{"$f":"'Rozliczenie końcowe'!I443","v":0},{"$f":"'Rozliczenie końcowe'!J443","v":0},{"$f":"'Rozliczenie końcowe'!K443","v":0},{"$f":"'Rozliczenie końcowe'!L443","v":0}]
[{"$f":"'Rozliczenie końcowe'!A208","v":0},{"$f":"'Rozliczenie końcowe'!B444","v":""},{"$f":"'Rozliczenie końcowe'!C444","v":0},{"$f":"'Rozliczenie końcowe'!D444","v":0},{"$f":"'Rozliczenie końcowe'!E444","v":0},{"$f":"'Rozliczenie końcowe'!F444","v":0},{"$f":"'Rozliczenie końcowe'!G444","v":0},{"$f":"'Rozliczenie końcowe'!H444","v":0},{"$f":"'Rozliczenie końcowe'!I444","v":0},{"$f":"'Rozliczenie końcowe'!J444","v":0},{"$f":"'Rozliczenie końcowe'!K444","v":0},{"$f":"'Rozliczenie końcowe'!L444","v":0}]
[{"$f":"'Rozliczenie końcowe'!A209","v":0},{"$f":"'Rozliczenie końcowe'!B445","v":""},{"$f":"'Rozliczenie końcowe'!C445","v":0},{"$f":"'Rozliczenie końcowe'!D445","v":0},{"$f":"'Rozliczenie końcowe'!E445","v":0},{"$f":"'Rozliczenie końcowe'!F445","v":0},{"$f":"'Rozliczenie końcowe'!G445","v":0},{"$f":"'Rozliczenie końcowe'!H445","v":0},{"$f":"'Rozliczenie końcowe'!I445","v":0},{"$f":"'Rozliczenie końcowe'!J445","v":0},{"$f":"'Rozliczenie końcowe'!K445","v":0},{"$f":"'Rozliczenie końcowe'!L445","v":0}]
[{"$f":"'Rozliczenie końcowe'!A210","v":0},{"$f":"'Rozliczenie końcowe'!B446","v":""},{"$f":"'Rozliczenie końcowe'!C446","v":0},{"$f":"'Rozliczenie końcowe'!D446","v":0},{"$f":"'Rozliczenie końcowe'!E446","v":0},{"$f":"'Rozliczenie końcowe'!F446","v":0},{"$f":"'Rozliczenie końcowe'!G446","v":0},{"$f":"'Rozliczenie końcowe'!H446","v":0},{"$f":"'Rozliczenie końcowe'!I446","v":0},{"$f":"'Rozliczenie końcowe'!J446","v":0},{"$f":"'Rozliczenie końcowe'!K446","v":0},{"$f":"'Rozliczenie końcowe'!L446","v":0}]
[{"$f":"'Rozliczenie końcowe'!A211","v":0},{"$f":"'Rozliczenie końcowe'!B447","v":""},{"$f":"'Rozliczenie końcowe'!C447","v":0},{"$f":"'Rozliczenie końcowe'!D447","v":0},{"$f":"'Rozliczenie końcowe'!E447","v":0},{"$f":"'Rozliczenie końcowe'!F447","v":0},{"$f":"'Rozliczenie końcowe'!G447","v":0},{"$f":"'Rozliczenie końcowe'!H447","v":0},{"$f":"'Rozliczenie końcowe'!I447","v":0},{"$f":"'Rozliczenie końcowe'!J447","v":0},{"$f":"'Rozliczenie końcowe'!K447","v":0},{"$f":"'Rozliczenie końcowe'!L447","v":0}]
[{"$f":"'Rozliczenie końcowe'!A212","v":0},{"$f":"'Rozliczenie końcowe'!B448","v":""},{"$f":"'Rozliczenie końcowe'!C448","v":0},{"$f":"'Rozliczenie końcowe'!D448","v":0},{"$f":"'Rozliczenie końcowe'!E448","v":0},{"$f":"'Rozliczenie końcowe'!F448","v":0},{"$f":"'Rozliczenie końcowe'!G448","v":0},{"$f":"'Rozliczenie końcowe'!H448","v":0},{"$f":"'Rozliczenie końcowe'!I448","v":0},{"$f":"'Rozliczenie końcowe'!J448","v":0},{"$f":"'Rozliczenie końcowe'!K448","v":0},{"$f":"'Rozliczenie końcowe'!L448","v":0}]
[{"$f":"'Rozliczenie końcowe'!A213","v":0},{"$f":"'Rozliczenie końcowe'!B449","v":""},{"$f":"'Rozliczenie końcowe'!C449","v":0},{"$f":"'Rozliczenie końcowe'!D449","v":0},{"$f":"'Rozliczenie końcowe'!E449","v":0},{"$f":"'Rozliczenie końcowe'!F449","v":0},{"$f":"'Rozliczenie końcowe'!G449","v":0},{"$f":"'Rozliczenie końcowe'!H449","v":0},{"$f":"'Rozliczenie końcowe'!I449","v":0},{"$f":"'Rozliczenie końcowe'!J449","v":0},{"$f":"'Rozliczenie końcowe'!K449","v":0},{"$f":"'Rozliczenie końcowe'!L449","v":0}]
[{"$f":"'Rozliczenie końcowe'!A214","v":0},{"$f":"'Rozliczenie końcowe'!B450","v":""},{"$f":"'Rozliczenie końcowe'!C450","v":0},{"$f":"'Rozliczenie końcowe'!D450","v":0},{"$f":"'Rozliczenie końcowe'!E450","v":0},{"$f":"'Rozliczenie końcowe'!F450","v":0},{"$f":"'Rozliczenie końcowe'!G450","v":0},{"$f":"'Rozliczenie końcowe'!H450","v":0},{"$f":"'Rozliczenie końcowe'!I450","v":0},{"$f":"'Rozliczenie końcowe'!J450","v":0},{"$f":"'Rozliczenie końcowe'!K450","v":0},{"$f":"'Rozliczenie końcowe'!L450","v":0}]
[{"$f":"'Rozliczenie końcowe'!A215","v":0},{"$f":"'Rozliczenie końcowe'!B451","v":""},{"$f":"'Rozliczenie końcowe'!C451","v":0},{"$f":"'Rozliczenie końcowe'!D451","v":0},{"$f":"'Rozliczenie końcowe'!E451","v":0},{"$f":"'Rozliczenie końcowe'!F451","v":0},{"$f":"'Rozliczenie końcowe'!G451","v":0},{"$f":"'Rozliczenie końcowe'!H451","v":0},{"$f":"'Rozliczenie końcowe'!I451","v":0},{"$f":"'Rozliczenie końcowe'!J451","v":0},{"$f":"'Rozliczenie końcowe'!K451","v":0},{"$f":"'Rozliczenie końcowe'!L451","v":0}]
[{"$f":"'Rozliczenie końcowe'!A216","v":0},{"$f":"'Rozliczenie końcowe'!B452","v":""},{"$f":"'Rozliczenie końcowe'!C452","v":0},{"$f":"'Rozliczenie końcowe'!D452","v":0},{"$f":"'Rozliczenie końcowe'!E452","v":0},{"$f":"'Rozliczenie końcowe'!F452","v":0},{"$f":"'Rozliczenie końcowe'!G452","v":0},{"$f":"'Rozliczenie końcowe'!H452","v":0},{"$f":"'Rozliczenie końcowe'!I452","v":0},{"$f":"'Rozliczenie końcowe'!J452","v":0},{"$f":"'Rozliczenie końcowe'!K452","v":0},{"$f":"'Rozliczenie końcowe'!L452","v":0}]
[{"$f":"'Rozliczenie końcowe'!A217","v":0},{"$f":"'Rozliczenie końcowe'!B453","v":""},{"$f":"'Rozliczenie końcowe'!C453","v":0},{"$f":"'Rozliczenie końcowe'!D453","v":0},{"$f":"'Rozliczenie końcowe'!E453","v":0},{"$f":"'Rozliczenie końcowe'!F453","v":0},{"$f":"'Rozliczenie końcowe'!G453","v":0},{"$f":"'Rozliczenie końcowe'!H453","v":0},{"$f":"'Rozliczenie końcowe'!I453","v":0},{"$f":"'Rozliczenie końcowe'!J453","v":0},{"$f":"'Rozliczenie końcowe'!K453","v":0},{"$f":"'Rozliczenie końcowe'!L453","v":0}]
[{"$f":"'Rozliczenie końcowe'!A218","v":0},{"$f":"'Rozliczenie końcowe'!B454","v":""},{"$f":"'Rozliczenie końcowe'!C454","v":0},{"$f":"'Rozliczenie końcowe'!D454","v":0},{"$f":"'Rozliczenie końcowe'!E454","v":0},{"$f":"'Rozliczenie końcowe'!F454","v":0},{"$f":"'Rozliczenie końcowe'!G454","v":0},{"$f":"'Rozliczenie końcowe'!H454","v":0},{"$f":"'Rozliczenie końcowe'!I454","v":0},{"$f":"'Rozliczenie końcowe'!J454","v":0},{"$f":"'Rozliczenie końcowe'!K454","v":0},{"$f":"'Rozliczenie końcowe'!L454","v":0}]
[{"$f":"'Rozliczenie końcowe'!A219","v":0},{"$f":"'Rozliczenie końcowe'!B455","v":""},{"$f":"'Rozliczenie końcowe'!C455","v":0},{"$f":"'Rozliczenie końcowe'!D455","v":0},{"$f":"'Rozliczenie końcowe'!E455","v":0},{"$f":"'Rozliczenie końcowe'!F455","v":0},{"$f":"'Rozliczenie końcowe'!G455","v":0},{"$f":"'Rozliczenie końcowe'!H455","v":0},{"$f":"'Rozliczenie końcowe'!I455","v":0},{"$f":"'Rozliczenie końcowe'!J455","v":0},{"$f":"'Rozliczenie końcowe'!K455","v":0},{"$f":"'Rozliczenie końcowe'!L455","v":0}]
[{"$f":"'Rozliczenie końcowe'!A220","v":0},{"$f":"'Rozliczenie końcowe'!B456","v":""},{"$f":"'Rozliczenie końcowe'!C456","v":0},{"$f":"'Rozliczenie końcowe'!D456","v":0},{"$f":"'Rozliczenie końcowe'!E456","v":0},{"$f":"'Rozliczenie końcowe'!F456","v":0},{"$f":"'Rozliczenie końcowe'!G456","v":0},{"$f":"'Rozliczenie końcowe'!H456","v":0},{"$f":"'Rozliczenie końcowe'!I456","v":0},{"$f":"'Rozliczenie końcowe'!J456","v":0},{"$f":"'Rozliczenie końcowe'!K456","v":0},{"$f":"'Rozliczenie końcowe'!L456","v":0}]
[{"$f":"'Rozliczenie końcowe'!A221","v":0},{"$f":"'Rozliczenie końcowe'!B457","v":""},{"$f":"'Rozliczenie końcowe'!C457","v":0},{"$f":"'Rozliczenie końcowe'!D457","v":0},{"$f":"'Rozliczenie końcowe'!E457","v":0},{"$f":"'Rozliczenie końcowe'!F457","v":0},{"$f":"'Rozliczenie końcowe'!G457","v":0},{"$f":"'Rozliczenie końcowe'!H457","v":0},{"$f":"'Rozliczenie końcowe'!I457","v":0},{"$f":"'Rozliczenie końcowe'!J457","v":0},{"$f":"'Rozliczenie końcowe'!K457","v":0},{"$f":"'Rozliczenie końcowe'!L457","v":0}]
[{"$f":"'Rozliczenie końcowe'!A222","v":0},{"$f":"'Rozliczenie końcowe'!B458","v":""},{"$f":"'Rozliczenie końcowe'!C458","v":0},{"$f":"'Rozliczenie końcowe'!D458","v":0},{"$f":"'Rozliczenie końcowe'!E458","v":0},{"$f":"'Rozliczenie końcowe'!F458","v":0},{"$f":"'Rozliczenie końcowe'!G458","v":0},{"$f":"'Rozliczenie końcowe'!H458","v":0},{"$f":"'Rozliczenie końcowe'!I458","v":0},{"$f":"'Rozliczenie końcowe'!J458","v":0},{"$f":"'Rozliczenie końcowe'!K458","v":0},{"$f":"'Rozliczenie końcowe'!L458","v":0}]
[{"$f":"'Rozliczenie końcowe'!A223","v":0},{"$f":"'Rozliczenie końcowe'!B459","v":""},{"$f":"'Rozliczenie końcowe'!C459","v":0},{"$f":"'Rozliczenie końcowe'!D459","v":0},{"$f":"'Rozliczenie końcowe'!E459","v":0},{"$f":"'Rozliczenie końcowe'!F459","v":0},{"$f":"'Rozliczenie końcowe'!G459","v":0},{"$f":"'Rozliczenie końcowe'!H459","v":0},{"$f":"'Rozliczenie końcowe'!I459","v":0},{"$f":"'Rozliczenie końcowe'!J459","v":0},{"$f":"'Rozliczenie końcowe'!K459","v":0},{"$f":"'Rozliczenie końcowe'!L459","v":0}]
[{"$f":"'Rozliczenie końcowe'!A224","v":0},{"$f":"'Rozliczenie końcowe'!B460","v":""},{"$f":"'Rozliczenie końcowe'!C460","v":0},{"$f":"'Rozliczenie końcowe'!D460","v":0},{"$f":"'Rozliczenie końcowe'!E460","v":0},{"$f":"'Rozliczenie końcowe'!F460","v":0},{"$f":"'Rozliczenie końcowe'!G460","v":0},{"$f":"'Rozliczenie końcowe'!H460","v":0},{"$f":"'Rozliczenie końcowe'!I460","v":0},{"$f":"'Rozliczenie końcowe'!J460","v":0},{"$f":"'Rozliczenie końcowe'!K460","v":0},{"$f":"'Rozliczenie końcowe'!L460","v":0}]
[{"$f":"'Rozliczenie końcowe'!A225","v":0},{"$f":"'Rozliczenie końcowe'!B461","v":""},{"$f":"'Rozliczenie końcowe'!C461","v":0},{"$f":"'Rozliczenie końcowe'!D461","v":0},{"$f":"'Rozliczenie końcowe'!E461","v":0},{"$f":"'Rozliczenie końcowe'!F461","v":0},{"$f":"'Rozliczenie końcowe'!G461","v":0},{"$f":"'Rozliczenie końcowe'!H461","v":0},{"$f":"'Rozliczenie końcowe'!I461","v":0},{"$f":"'Rozliczenie końcowe'!J461","v":0},{"$f":"'Rozliczenie końcowe'!K461","v":0},{"$f":"'Rozliczenie końcowe'!L461","v":0}]
[{"$f":"'Rozliczenie końcowe'!A226","v":0},{"$f":"'Rozliczenie końcowe'!B462","v":""},{"$f":"'Rozliczenie końcowe'!C462","v":0},{"$f":"'Rozliczenie końcowe'!D462","v":0},{"$f":"'Rozliczenie końcowe'!E462","v":0},{"$f":"'Rozliczenie końcowe'!F462","v":0},{"$f":"'Rozliczenie końcowe'!G462","v":0},{"$f":"'Rozliczenie końcowe'!H462","v":0},{"$f":"'Rozliczenie końcowe'!I462","v":0},{"$f":"'Rozliczenie końcowe'!J462","v":0},{"$f":"'Rozliczenie końcowe'!K462","v":0},{"$f":"'Rozliczenie końcowe'!L462","v":0}]
[{"$f":"'Rozliczenie końcowe'!A227","v":0},{"$f":"'Rozliczenie końcowe'!B463","v":""},{"$f":"'Rozliczenie końcowe'!C463","v":0},{"$f":"'Rozliczenie końcowe'!D463","v":0},{"$f":"'Rozliczenie końcowe'!E463","v":0},{"$f":"'Rozliczenie końcowe'!F463","v":0},{"$f":"'Rozliczenie końcowe'!G463","v":0},{"$f":"'Rozliczenie końcowe'!H463","v":0},{"$f":"'Rozliczenie końcowe'!I463","v":0},{"$f":"'Rozliczenie końcowe'!J463","v":0},{"$f":"'Rozliczenie końcowe'!K463","v":0},{"$f":"'Rozliczenie końcowe'!L463","v":0}]
[{"$f":"'Rozliczenie końcowe'!A228","v":0},{"$f":"'Rozliczenie końcowe'!B464","v":""},{"$f":"'Rozliczenie końcowe'!C464","v":0},{"$f":"'Rozliczenie końcowe'!D464","v":0},{"$f":"'Rozliczenie końcowe'!E464","v":0},{"$f":"'Rozliczenie końcowe'!F464","v":0},{"$f":"'Rozliczenie końcowe'!G464","v":0},{"$f":"'Rozliczenie końcowe'!H464","v":0},{"$f":"'Rozliczenie końcowe'!I464","v":0},{"$f":"'Rozliczenie końcowe'!J464","v":0},{"$f":"'Rozliczenie końcowe'!K464","v":0},{"$f":"'Rozliczenie końcowe'!L464","v":0}]
[{"$f":"'Rozliczenie końcowe'!A229","v":0},{"$f":"'Rozliczenie końcowe'!B465","v":""},{"$f":"'Rozliczenie końcowe'!C465","v":0},{"$f":"'Rozliczenie końcowe'!D465","v":0},{"$f":"'Rozliczenie końcowe'!E465","v":0},{"$f":"'Rozliczenie końcowe'!F465","v":0},{"$f":"'Rozliczenie końcowe'!G465","v":0},{"$f":"'Rozliczenie końcowe'!H465","v":0},{"$f":"'Rozliczenie końcowe'!I465","v":0},{"$f":"'Rozliczenie końcowe'!J465","v":0},{"$f":"'Rozliczenie końcowe'!K465","v":0},{"$f":"'Rozliczenie końcowe'!L465","v":0}]
[{"$f":"'Rozliczenie końcowe'!A230","v":0},{"$f":"'Rozliczenie końcowe'!B466","v":""},{"$f":"'Rozliczenie końcowe'!C466","v":0},{"$f":"'Rozliczenie końcowe'!D466","v":0},{"$f":"'Rozliczenie końcowe'!E466","v":0},{"$f":"'Rozliczenie końcowe'!F466","v":0},{"$f":"'Rozliczenie końcowe'!G466","v":0},{"$f":"'Rozliczenie końcowe'!H466","v":0},{"$f":"'Rozliczenie końcowe'!I466","v":0},{"$f":"'Rozliczenie końcowe'!J466","v":0},{"$f":"'Rozliczenie końcowe'!K466","v":0},{"$f":"'Rozliczenie końcowe'!L466","v":0}]
[{"$f":"'Rozliczenie końcowe'!A231","v":0},{"$f":"'Rozliczenie końcowe'!B467","v":""},{"$f":"'Rozliczenie końcowe'!C467","v":0},{"$f":"'Rozliczenie końcowe'!D467","v":0},{"$f":"'Rozliczenie końcowe'!E467","v":0},{"$f":"'Rozliczenie końcowe'!F467","v":0},{"$f":"'Rozliczenie końcowe'!G467","v":0},{"$f":"'Rozliczenie końcowe'!H467","v":0},{"$f":"'Rozliczenie końcowe'!I467","v":0},{"$f":"'Rozliczenie końcowe'!J467","v":0},{"$f":"'Rozliczenie końcowe'!K467","v":0},{"$f":"'Rozliczenie końcowe'!L467","v":0}]
[{"$f":"'Rozliczenie końcowe'!A232","v":0},{"$f":"'Rozliczenie końcowe'!B468","v":""},{"$f":"'Rozliczenie końcowe'!C468","v":0},{"$f":"'Rozliczenie końcowe'!D468","v":0},{"$f":"'Rozliczenie końcowe'!E468","v":0},{"$f":"'Rozliczenie końcowe'!F468","v":0},{"$f":"'Rozliczenie końcowe'!G468","v":0},{"$f":"'Rozliczenie końcowe'!H468","v":0},{"$f":"'Rozliczenie końcowe'!I468","v":0},{"$f":"'Rozliczenie końcowe'!J468","v":0},{"$f":"'Rozliczenie końcowe'!K468","v":0},{"$f":"'Rozliczenie końcowe'!L468","v":0}]
[{"$f":"'Rozliczenie końcowe'!A233","v":0},{"$f":"'Rozliczenie końcowe'!B469","v":""},{"$f":"'Rozliczenie końcowe'!C469","v":0},{"$f":"'Rozliczenie końcowe'!D469","v":0},{"$f":"'Rozliczenie końcowe'!E469","v":0},{"$f":"'Rozliczenie końcowe'!F469","v":0},{"$f":"'Rozliczenie końcowe'!G469","v":0},{"$f":"'Rozliczenie końcowe'!H469","v":0},{"$f":"'Rozliczenie końcowe'!I469","v":0},{"$f":"'Rozliczenie końcowe'!J469","v":0},{"$f":"'Rozliczenie końcowe'!K469","v":0},{"$f":"'Rozliczenie końcowe'!L469","v":0}]
[{"$f":"'Rozliczenie końcowe'!A234","v":0},{"$f":"'Rozliczenie końcowe'!B470","v":""},{"$f":"'Rozliczenie końcowe'!C470","v":0},{"$f":"'Rozliczenie końcowe'!D470","v":0},{"$f":"'Rozliczenie końcowe'!E470","v":0},{"$f":"'Rozliczenie końcowe'!F470","v":0},{"$f":"'Rozliczenie końcowe'!G470","v":0},{"$f":"'Rozliczenie końcowe'!H470","v":0},{"$f":"'Rozliczenie końcowe'!I470","v":0},{"$f":"'Rozliczenie końcowe'!J470","v":0},{"$f":"'Rozliczenie końcowe'!K470","v":0},{"$f":"'Rozliczenie końcowe'!L470","v":0}]
[{"$f":"'Rozliczenie końcowe'!A235","v":0},{"$f":"'Rozliczenie końcowe'!B471","v":""},{"$f":"'Rozliczenie końcowe'!C471","v":0},{"$f":"'Rozliczenie końcowe'!D471","v":0},{"$f":"'Rozliczenie końcowe'!E471","v":0},{"$f":"'Rozliczenie końcowe'!F471","v":0},{"$f":"'Rozliczenie końcowe'!G471","v":0},{"$f":"'Rozliczenie końcowe'!H471","v":0},{"$f":"'Rozliczenie końcowe'!I471","v":0},{"$f":"'Rozliczenie końcowe'!J471","v":0},{"$f":"'Rozliczenie końcowe'!K471","v":0},{"$f":"'Rozliczenie końcowe'!L471","v":0}]
[{"$f":"'Rozliczenie końcowe'!A236","v":0},{"$f":"'Rozliczenie końcowe'!B472","v":""},{"$f":"'Rozliczenie końcowe'!C472","v":0},{"$f":"'Rozliczenie końcowe'!D472","v":0},{"$f":"'Rozliczenie końcowe'!E472","v":0},{"$f":"'Rozliczenie końcowe'!F472","v":0},{"$f":"'Rozliczenie końcowe'!G472","v":0},{"$f":"'Rozliczenie końcowe'!H472","v":0},{"$f":"'Rozliczenie końcowe'!I472","v":0},{"$f":"'Rozliczenie końcowe'!J472","v":0},{"$f":"'Rozliczenie końcowe'!K472","v":0},{"$f":"'Rozliczenie końcowe'!L472","v":0}]
[{"$f":"'Rozliczenie końcowe'!A237","v":0},{"$f":"'Rozliczenie końcowe'!B473","v":""},{"$f":"'Rozliczenie końcowe'!C473","v":0},{"$f":"'Rozliczenie końcowe'!D473","v":0},{"$f":"'Rozliczenie końcowe'!E473","v":0},{"$f":"'Rozliczenie końcowe'!F473","v":0},{"$f":"'Rozliczenie końcowe'!G473","v":0},{"$f":"'Rozliczenie końcowe'!H473","v":0},{"$f":"'Rozliczenie końcowe'!I473","v":0},{"$f":"'Rozliczenie końcowe'!J473","v":0},{"$f":"'Rozliczenie końcowe'!K473","v":0},{"$f":"'Rozliczenie końcowe'!L473","v":0}]
[{"$f":"'Rozliczenie końcowe'!A238","v":0},{"$f":"'Rozliczenie końcowe'!B474","v":""},{"$f":"'Rozliczenie końcowe'!C474","v":0},{"$f":"'Rozliczenie końcowe'!D474","v":0},{"$f":"'Rozliczenie końcowe'!E474","v":0},{"$f":"'Rozliczenie końcowe'!F474","v":0},{"$f":"'Rozliczenie końcowe'!G474","v":0},{"$f":"'Rozliczenie końcowe'!H474","v":0},{"$f":"'Rozliczenie końcowe'!I474","v":0},{"$f":"'Rozliczenie końcowe'!J474","v":0},{"$f":"'Rozliczenie końcowe'!K474","v":0},{"$f":"'Rozliczenie końcowe'!L474","v":0}]
[{"$f":"'Rozliczenie końcowe'!A239","v":0},{"$f":"'Rozliczenie końcowe'!B475","v":""},{"$f":"'Rozliczenie końcowe'!C475","v":0},{"$f":"'Rozliczenie końcowe'!D475","v":0},{"$f":"'Rozliczenie końcowe'!E475","v":0},{"$f":"'Rozliczenie końcowe'!F475","v":0},{"$f":"'Rozliczenie końcowe'!G475","v":0},{"$f":"'Rozliczenie końcowe'!H475","v":0},{"$f":"'Rozliczenie końcowe'!I475","v":0},{"$f":"'Rozliczenie końcowe'!J475","v":0},{"$f":"'Rozliczenie końcowe'!K475","v":0},{"$f":"'Rozliczenie końcowe'!L475","v":0}]
[{"$f":"'Rozliczenie końcowe'!A240","v":0},{"$f":"'Rozliczenie końcowe'!B476","v":""},{"$f":"'Rozliczenie końcowe'!C476","v":0},{"$f":"'Rozliczenie końcowe'!D476","v":0},{"$f":"'Rozliczenie końcowe'!E476","v":0},{"$f":"'Rozliczenie końcowe'!F476","v":0},{"$f":"'Rozliczenie końcowe'!G476","v":0},{"$f":"'Rozliczenie końcowe'!H476","v":0},{"$f":"'Rozliczenie końcowe'!I476","v":0},{"$f":"'Rozliczenie końcowe'!J476","v":0},{"$f":"'Rozliczenie końcowe'!K476","v":0},{"$f":"'Rozliczenie końcowe'!L476","v":0}]
[{"$f":"'Rozliczenie końcowe'!A241","v":0},{"$f":"'Rozliczenie końcowe'!B477","v":""},{"$f":"'Rozliczenie końcowe'!C477","v":0},{"$f":"'Rozliczenie końcowe'!D477","v":0},{"$f":"'Rozliczenie końcowe'!E477","v":0},{"$f":"'Rozliczenie końcowe'!F477","v":0},{"$f":"'Rozliczenie końcowe'!G477","v":0},{"$f":"'Rozliczenie końcowe'!H477","v":0},{"$f":"'Rozliczenie końcowe'!I477","v":0},{"$f":"'Rozliczenie końcowe'!J477","v":0},{"$f":"'Rozliczenie końcowe'!K477","v":0},{"$f":"'Rozliczenie końcowe'!L477","v":0}]
[{"$f":"'Rozliczenie końcowe'!A242","v":0},{"$f":"'Rozliczenie końcowe'!B478","v":""},{"$f":"'Rozliczenie końcowe'!C478","v":0},{"$f":"'Rozliczenie końcowe'!D478","v":0},{"$f":"'Rozliczenie końcowe'!E478","v":0},{"$f":"'Rozliczenie końcowe'!F478","v":0},{"$f":"'Rozliczenie końcowe'!G478","v":0},{"$f":"'Rozliczenie końcowe'!H478","v":0},{"$f":"'Rozliczenie końcowe'!I478","v":0},{"$f":"'Rozliczenie końcowe'!J478","v":0},{"$f":"'Rozliczenie końcowe'!K478","v":0},{"$f":"'Rozliczenie końcowe'!L478","v":0}]
[{"$f":"'Rozliczenie końcowe'!A243","v":0},{"$f":"'Rozliczenie końcowe'!B479","v":""},{"$f":"'Rozliczenie końcowe'!C479","v":0},{"$f":"'Rozliczenie końcowe'!D479","v":0},{"$f":"'Rozliczenie końcowe'!E479","v":0},{"$f":"'Rozliczenie końcowe'!F479","v":0},{"$f":"'Rozliczenie końcowe'!G479","v":0},{"$f":"'Rozliczenie końcowe'!H479","v":0},{"$f":"'Rozliczenie końcowe'!I479","v":0},{"$f":"'Rozliczenie końcowe'!J479","v":0},{"$f":"'Rozliczenie końcowe'!K479","v":0},{"$f":"'Rozliczenie końcowe'!L479","v":0}]
[{"$f":"'Rozliczenie końcowe'!A244","v":0},{"$f":"'Rozliczenie końcowe'!B480","v":""},{"$f":"'Rozliczenie końcowe'!C480","v":0},{"$f":"'Rozliczenie końcowe'!D480","v":0},{"$f":"'Rozliczenie końcowe'!E480","v":0},{"$f":"'Rozliczenie końcowe'!F480","v":0},{"$f":"'Rozliczenie końcowe'!G480","v":0},{"$f":"'Rozliczenie końcowe'!H480","v":0},{"$f":"'Rozliczenie końcowe'!I480","v":0},{"$f":"'Rozliczenie końcowe'!J480","v":0},{"$f":"'Rozliczenie końcowe'!K480","v":0},{"$f":"'Rozliczenie końcowe'!L480","v":0}]
[{"$f":"'Rozliczenie końcowe'!A245","v":0},{"$f":"'Rozliczenie końcowe'!B481","v":""},{"$f":"'Rozliczenie końcowe'!C481","v":0},{"$f":"'Rozliczenie końcowe'!D481","v":0},{"$f":"'Rozliczenie końcowe'!E481","v":0},{"$f":"'Rozliczenie końcowe'!F481","v":0},{"$f":"'Rozliczenie końcowe'!G481","v":0},{"$f":"'Rozliczenie końcowe'!H481","v":0},{"$f":"'Rozliczenie końcowe'!I481","v":0},{"$f":"'Rozliczenie końcowe'!J481","v":0},{"$f":"'Rozliczenie końcowe'!K481","v":0},{"$f":"'Rozliczenie końcowe'!L481","v":0}]
[{"$f":"'Rozliczenie końcowe'!A246","v":0},{"$f":"'Rozliczenie końcowe'!B482","v":""},{"$f":"'Rozliczenie końcowe'!C482","v":0},{"$f":"'Rozliczenie końcowe'!D482","v":0},{"$f":"'Rozliczenie końcowe'!E482","v":0},{"$f":"'Rozliczenie końcowe'!F482","v":0},{"$f":"'Rozliczenie końcowe'!G482","v":0},{"$f":"'Rozliczenie końcowe'!H482","v":0},{"$f":"'Rozliczenie końcowe'!I482","v":0},{"$f":"'Rozliczenie końcowe'!J482","v":0},{"$f":"'Rozliczenie końcowe'!K482","v":0},{"$f":"'Rozliczenie końcowe'!L482","v":0}]
[{"$f":"'Rozliczenie końcowe'!A247","v":0},{"$f":"'Rozliczenie końcowe'!B483","v":""},{"$f":"'Rozliczenie końcowe'!C483","v":0},{"$f":"'Rozliczenie końcowe'!D483","v":0},{"$f":"'Rozliczenie końcowe'!E483","v":0},{"$f":"'Rozliczenie końcowe'!F483","v":0},{"$f":"'Rozliczenie końcowe'!G483","v":0},{"$f":"'Rozliczenie końcowe'!H483","v":0},{"$f":"'Rozliczenie końcowe'!I483","v":0},{"$f":"'Rozliczenie końcowe'!J483","v":0},{"$f":"'Rozliczenie końcowe'!K483","v":0},{"$f":"'Rozliczenie końcowe'!L483","v":0}]
[{"$f":"'Rozliczenie końcowe'!A248","v":0},{"$f":"'Rozliczenie końcowe'!B484","v":""},{"$f":"'Rozliczenie końcowe'!C484","v":0},{"$f":"'Rozliczenie końcowe'!D484","v":0},{"$f":"'Rozliczenie końcowe'!E484","v":0},{"$f":"'Rozliczenie końcowe'!F484","v":0},{"$f":"'Rozliczenie końcowe'!G484","v":0},{"$f":"'Rozliczenie końcowe'!H484","v":0},{"$f":"'Rozliczenie końcowe'!I484","v":0},{"$f":"'Rozliczenie końcowe'!J484","v":0},{"$f":"'Rozliczenie końcowe'!K484","v":0},{"$f":"'Rozliczenie końcowe'!L484","v":0}]
[{"$f":"'Rozliczenie końcowe'!A249","v":0},{"$f":"'Rozliczenie końcowe'!B485","v":""},{"$f":"'Rozliczenie końcowe'!C485","v":0},{"$f":"'Rozliczenie końcowe'!D485","v":0},{"$f":"'Rozliczenie końcowe'!E485","v":0},{"$f":"'Rozliczenie końcowe'!F485","v":0},{"$f":"'Rozliczenie końcowe'!G485","v":0},{"$f":"'Rozliczenie końcowe'!H485","v":0},{"$f":"'Rozliczenie końcowe'!I485","v":0},{"$f":"'Rozliczenie końcowe'!J485","v":0},{"$f":"'Rozliczenie końcowe'!K485","v":0},{"$f":"'Rozliczenie końcowe'!L485","v":0}]
[{"$f":"'Rozliczenie końcowe'!A250","v":0},{"$f":"'Rozliczenie końcowe'!B486","v":""},{"$f":"'Rozliczenie końcowe'!C486","v":0},{"$f":"'Rozliczenie końcowe'!D486","v":0},{"$f":"'Rozliczenie końcowe'!E486","v":0},{"$f":"'Rozliczenie końcowe'!F486","v":0},{"$f":"'Rozliczenie końcowe'!G486","v":0},{"$f":"'Rozliczenie końcowe'!H486","v":0},{"$f":"'Rozliczenie końcowe'!I486","v":0},{"$f":"'Rozliczenie końcowe'!J486","v":0},{"$f":"'Rozliczenie końcowe'!K486","v":0},{"$f":"'Rozliczenie końcowe'!L486","v":0}]
[{"$f":"'Rozliczenie końcowe'!A251","v":0},{"$f":"'Rozliczenie końcowe'!B487","v":""},{"$f":"'Rozliczenie końcowe'!C487","v":0},{"$f":"'Rozliczenie końcowe'!D487","v":0},{"$f":"'Rozliczenie końcowe'!E487","v":0},{"$f":"'Rozliczenie końcowe'!F487","v":0},{"$f":"'Rozliczenie końcowe'!G487","v":0},{"$f":"'Rozliczenie końcowe'!H487","v":0},{"$f":"'Rozliczenie końcowe'!I487","v":0},{"$f":"'Rozliczenie końcowe'!J487","v":0},{"$f":"'Rozliczenie końcowe'!K487","v":0},{"$f":"'Rozliczenie końcowe'!L487","v":0}]
[{"$f":"'Rozliczenie końcowe'!A252","v":0},{"$f":"'Rozliczenie końcowe'!B488","v":""},{"$f":"'Rozliczenie końcowe'!C488","v":0},{"$f":"'Rozliczenie końcowe'!D488","v":0},{"$f":"'Rozliczenie końcowe'!E488","v":0},{"$f":"'Rozliczenie końcowe'!F488","v":0},{"$f":"'Rozliczenie końcowe'!G488","v":0},{"$f":"'Rozliczenie końcowe'!H488","v":0},{"$f":"'Rozliczenie końcowe'!I488","v":0},{"$f":"'Rozliczenie końcowe'!J488","v":0},{"$f":"'Rozliczenie końcowe'!K488","v":0},{"$f":"'Rozliczenie końcowe'!L488","v":0}]
[{"$f":"'Rozliczenie końcowe'!A253","v":0},{"$f":"'Rozliczenie końcowe'!B489","v":""},{"$f":"'Rozliczenie końcowe'!C489","v":0},{"$f":"'Rozliczenie końcowe'!D489","v":0},{"$f":"'Rozliczenie końcowe'!E489","v":0},{"$f":"'Rozliczenie końcowe'!F489","v":0},{"$f":"'Rozliczenie końcowe'!G489","v":0},{"$f":"'Rozliczenie końcowe'!H489","v":0},{"$f":"'Rozliczenie końcowe'!I489","v":0},{"$f":"'Rozliczenie końcowe'!J489","v":0},{"$f":"'Rozliczenie końcowe'!K489","v":0},{"$f":"'Rozliczenie końcowe'!L489","v":0}]
[{"$f":"'Rozliczenie końcowe'!A254","v":0},{"$f":"'Rozliczenie końcowe'!B490","v":""},{"$f":"'Rozliczenie końcowe'!C490","v":0},{"$f":"'Rozliczenie końcowe'!D490","v":0},{"$f":"'Rozliczenie końcowe'!E490","v":0},{"$f":"'Rozliczenie końcowe'!F490","v":0},{"$f":"'Rozliczenie końcowe'!G490","v":0},{"$f":"'Rozliczenie końcowe'!H490","v":0},{"$f":"'Rozliczenie końcowe'!I490","v":0},{"$f":"'Rozliczenie końcowe'!J490","v":0},{"$f":"'Rozliczenie końcowe'!K490","v":0},{"$f":"'Rozliczenie końcowe'!L490","v":0}]
[{"$f":"'Rozliczenie końcowe'!A255","v":0},{"$f":"'Rozliczenie końcowe'!B491","v":""},{"$f":"'Rozliczenie końcowe'!C491","v":0},{"$f":"'Rozliczenie końcowe'!D491","v":0},{"$f":"'Rozliczenie końcowe'!E491","v":0},{"$f":"'Rozliczenie końcowe'!F491","v":0},{"$f":"'Rozliczenie końcowe'!G491","v":0},{"$f":"'Rozliczenie końcowe'!H491","v":0},{"$f":"'Rozliczenie końcowe'!I491","v":0},{"$f":"'Rozliczenie końcowe'!J491","v":0},{"$f":"'Rozliczenie końcowe'!K491","v":0},{"$f":"'Rozliczenie końcowe'!L491","v":0}]
[{"$f":"'Rozliczenie końcowe'!A256","v":0},{"$f":"'Rozliczenie końcowe'!B492","v":""},{"$f":"'Rozliczenie końcowe'!C492","v":0},{"$f":"'Rozliczenie końcowe'!D492","v":0},{"$f":"'Rozliczenie końcowe'!E492","v":0},{"$f":"'Rozliczenie końcowe'!F492","v":0},{"$f":"'Rozliczenie końcowe'!G492","v":0},{"$f":"'Rozliczenie końcowe'!H492","v":0},{"$f":"'Rozliczenie końcowe'!I492","v":0},{"$f":"'Rozliczenie końcowe'!J492","v":0},{"$f":"'Rozliczenie końcowe'!K492","v":0},{"$f":"'Rozliczenie końcowe'!L492","v":0}]
[{"$f":"'Rozliczenie końcowe'!A257","v":0},{"$f":"'Rozliczenie końcowe'!B493","v":""},{"$f":"'Rozliczenie końcowe'!C493","v":0},{"$f":"'Rozliczenie końcowe'!D493","v":0},{"$f":"'Rozliczenie końcowe'!E493","v":0},{"$f":"'Rozliczenie końcowe'!F493","v":0},{"$f":"'Rozliczenie końcowe'!G493","v":0},{"$f":"'Rozliczenie końcowe'!H493","v":0},{"$f":"'Rozliczenie końcowe'!I493","v":0},{"$f":"'Rozliczenie końcowe'!J493","v":0},{"$f":"'Rozliczenie końcowe'!K493","v":0},{"$f":"'Rozliczenie końcowe'!L493","v":0}]
[{"$f":"'Rozliczenie końcowe'!A258","v":0},{"$f":"'Rozliczenie końcowe'!B494","v":""},{"$f":"'Rozliczenie końcowe'!C494","v":0},{"$f":"'Rozliczenie końcowe'!D494","v":0},{"$f":"'Rozliczenie końcowe'!E494","v":0},{"$f":"'Rozliczenie końcowe'!F494","v":0},{"$f":"'Rozliczenie końcowe'!G494","v":0},{"$f":"'Rozliczenie końcowe'!H494","v":0},{"$f":"'Rozliczenie końcowe'!I494","v":0},{"$f":"'Rozliczenie końcowe'!J494","v":0},{"$f":"'Rozliczenie końcowe'!K494","v":0},{"$f":"'Rozliczenie końcowe'!L494","v":0}]
[{"$f":"'Rozliczenie końcowe'!A259","v":0},{"$f":"'Rozliczenie końcowe'!B495","v":""},{"$f":"'Rozliczenie końcowe'!C495","v":0},{"$f":"'Rozliczenie końcowe'!D495","v":0},{"$f":"'Rozliczenie końcowe'!E495","v":0},{"$f":"'Rozliczenie końcowe'!F495","v":0},{"$f":"'Rozliczenie końcowe'!G495","v":0},{"$f":"'Rozliczenie końcowe'!H495","v":0},{"$f":"'Rozliczenie końcowe'!I495","v":0},{"$f":"'Rozliczenie końcowe'!J495","v":0},{"$f":"'Rozliczenie końcowe'!K495","v":0},{"$f":"'Rozliczenie końcowe'!L495","v":0}]
[{"$f":"'Rozliczenie końcowe'!A260","v":0},{"$f":"'Rozliczenie końcowe'!B496","v":""},{"$f":"'Rozliczenie końcowe'!C496","v":0},{"$f":"'Rozliczenie końcowe'!D496","v":0},{"$f":"'Rozliczenie końcowe'!E496","v":0},{"$f":"'Rozliczenie końcowe'!F496","v":0},{"$f":"'Rozliczenie końcowe'!G496","v":0},{"$f":"'Rozliczenie końcowe'!H496","v":0},{"$f":"'Rozliczenie końcowe'!I496","v":0},{"$f":"'Rozliczenie końcowe'!J496","v":0},{"$f":"'Rozliczenie końcowe'!K496","v":0},{"$f":"'Rozliczenie końcowe'!L496","v":0}]

{"sheet":"Dane - linie 4","index":10,"n_rows":111,"n_cols":12,"rows_kept":111,"cut":false,"hidden":true,"merged":[]}
["LP",{"$f":"'Rozliczenie końcowe'!A147","v":"Nazwa linii komunikacyjnej"},{"$f":"'Rozliczenie końcowe'!C148","v":"Środki własne\n(zł)"},{"$f":"'Rozliczenie końcowe'!D149","v":"Środki wypłacone przez Wojewodę"},{"$f":"'Rozliczenie końcowe'!E149","v":"Środki należne"},{"$f":"'Rozliczenie końcowe'!F149","v":"Różnica"},{"$f":"'Rozliczenie końcowe'!G149","v":"Data zwrotu na konto MUW"},"Praca eksploatacyjna - planowana","Praca ekzploatacyjna - zrealizowana","Praca eksploatacyjna - różnica","Kwota deficytu - planowana","Kwota deficytu - osiągnięta"]
[{"$f":"'Rozliczenie końcowe'!A151","v":0},{"$f":"'Rozliczenie końcowe'!B505","v":""},{"$f":"'Rozliczenie końcowe'!C505","v":0},{"$f":"'Rozliczenie końcowe'!D505","v":0},{"$f":"'Rozliczenie końcowe'!E505","v":0},{"$f":"'Rozliczenie końcowe'!F505","v":0},{"$f":"'Rozliczenie końcowe'!G505","v":"00:00:00"},{"$f":"'Rozliczenie końcowe'!H505","v":0},{"$f":"'Rozliczenie końcowe'!I505","v":0},{"$f":"'Rozliczenie końcowe'!J505","v":0},{"$f":"'Rozliczenie końcowe'!K505","v":0},{"$f":"'Rozliczenie końcowe'!L505","v":0}]
[{"$f":"'Rozliczenie końcowe'!A152","v":0},{"$f":"'Rozliczenie końcowe'!B506","v":""},{"$f":"'Rozliczenie końcowe'!C506","v":0},{"$f":"'Rozliczenie końcowe'!D506","v":0},{"$f":"'Rozliczenie końcowe'!E506","v":0},{"$f":"'Rozliczenie końcowe'!F506","v":0},{"$f":"'Rozliczenie końcowe'!G506","v":"00:00:00"},{"$f":"'Rozliczenie końcowe'!H388","v":0},{"$f":"'Rozliczenie końcowe'!I388","v":0},{"$f":"'Rozliczenie końcowe'!J506","v":0},{"$f":"'Rozliczenie końcowe'!K506","v":0},{"$f":"'Rozliczenie końcowe'!L506","v":0}]
[{"$f":"'Rozliczenie końcowe'!A153","v":0},{"$f":"'Rozliczenie końcowe'!B507","v":""},{"$f":"'Rozliczenie końcowe'!C507","v":0},{"$f":"'Rozliczenie końcowe'!D507","v":0},{"$f":"'Rozliczenie końcowe'!E507","v":0},{"$f":"'Rozliczenie końcowe'!F507","v":0},{"$f":"'Rozliczenie końcowe'!G507","v":"00:00:00"},{"$f":"'Rozliczenie końcowe'!H389","v":0},{"$f":"'Rozliczenie końcowe'!I389","v":0},{"$f":"'Rozliczenie końcowe'!J507","v":0},{"$f":"'Rozliczenie końcowe'!K507","v":0},{"$f":"'Rozliczenie końcowe'!L507","v":0}]
[{"$f":"'Rozliczenie końcowe'!A154","v":0},{"$f":"'Rozliczenie końcowe'!B508","v":""},{"$f":"'Rozliczenie końcowe'!C508","v":0},{"$f":"'Rozliczenie końcowe'!D508","v":0},{"$f":"'Rozliczenie końcowe'!E508","v":0},{"$f":"'Rozliczenie końcowe'!F508","v":0},{"$f":"'Rozliczenie końcowe'!G508","v":"00:00:00"},{"$f":"'Rozliczenie końcowe'!H390","v":0},{"$f":"'Rozliczenie końcowe'!I390","v":0},{"$f":"'Rozliczenie końcowe'!J508","v":0},{"$f":"'Rozliczenie końcowe'!K508","v":0},{"$f":"'Rozliczenie końcowe'!L508","v":0}]
[{"$f":"'Rozliczenie końcowe'!A155","v":0},{"$f":"'Rozliczenie końcowe'!B509","v":""},{"$f":"'Rozliczenie końcowe'!C509","v":0},{"$f":"'Rozliczenie końcowe'!D509","v":0},{"$f":"'Rozliczenie końcowe'!E509","v":0},{"$f":"'Rozliczenie końcowe'!F509","v":0},{"$f":"'Rozliczenie końcowe'!G509","v":"00:00:00"},{"$f":"'Rozliczenie końcowe'!H391","v":0},{"$f":"'Rozliczenie końcowe'!I391","v":0},{"$f":"'Rozliczenie końcowe'!J509","v":0},{"$f":"'Rozliczenie końcowe'!K509","v":0},{"$f":"'Rozliczenie końcowe'!L509","v":0}]
[{"$f":"'Rozliczenie końcowe'!A156","v":0},{"$f":"'Rozliczenie końcowe'!B510","v":""},{"$f":"'Rozliczenie końcowe'!C510","v":0},{"$f":"'Rozliczenie końcowe'!D510","v":0},{"$f":"'Rozliczenie końcowe'!E510","v":0},{"$f":"'Rozliczenie końcowe'!F510","v":0},{"$f":"'Rozliczenie końcowe'!G510","v":"00:00:00"},{"$f":"'Rozliczenie końcowe'!H392","v":0},{"$f":"'Rozliczenie końcowe'!I392","v":0},{"$f":"'Rozliczenie końcowe'!J510","v":0},{"$f":"'Rozliczenie końcowe'!K510","v":0},{"$f":"'Rozliczenie końcowe'!L510","v":0}]
[{"$f":"'Rozliczenie końcowe'!A157","v":0},{"$f":"'Rozliczenie końcowe'!B511","v":""},{"$f":"'Rozliczenie końcowe'!C511","v":0},{"$f":"'Rozliczenie końcowe'!D511","v":0},{"$f":"'Rozliczenie końcowe'!E511","v":0},{"$f":"'Rozliczenie końcowe'!F511","v":0},{"$f":"'Rozliczenie końcowe'!G511","v":"00:00:00"},{"$f":"'Rozliczenie końcowe'!H393","v":0},{"$f":"'Rozliczenie końcowe'!I393","v":0},{"$f":"'Rozliczenie końcowe'!J511","v":0},{"$f":"'Rozliczenie końcowe'!K511","v":0},{"$f":"'Rozliczenie końcowe'!L511","v":0}]
[{"$f":"'Rozliczenie końcowe'!A158","v":0},{"$f":"'Rozliczenie końcowe'!B512","v":""},{"$f":"'Rozliczenie końcowe'!C512","v":0},{"$f":"'Rozliczenie końcowe'!D512","v":0},{"$f":"'Rozliczenie końcowe'!E512","v":0},{"$f":"'Rozliczenie końcowe'!F512","v":0},{"$f":"'Rozliczenie końcowe'!G512","v":"00:00:00"},{"$f":"'Rozliczenie końcowe'!H394","v":0},{"$f":"'Rozliczenie końcowe'!I394","v":0},{"$f":"'Rozliczenie końcowe'!J512","v":0},{"$f":"'Rozliczenie końcowe'!K512","v":0},{"$f":"'Rozliczenie końcowe'!L512","v":0}]
[{"$f":"'Rozliczenie końcowe'!A159","v":0},{"$f":"'Rozliczenie końcowe'!B513","v":""},{"$f":"'Rozliczenie końcowe'!C513","v":0},{"$f":"'Rozliczenie końcowe'!D513","v":0},{"$f":"'Rozliczenie końcowe'!E513","v":0},{"$f":"'Rozliczenie końcowe'!F513","v":0},{"$f":"'Rozliczenie końcowe'!G513","v":"00:00:00"},{"$f":"'Rozliczenie końcowe'!H395","v":0},{"$f":"'Rozliczenie końcowe'!I395","v":0},{"$f":"'Rozliczenie końcowe'!J513","v":0},{"$f":"'Rozliczenie końcowe'!K513","v":0},{"$f":"'Rozliczenie końcowe'!L513","v":0}]
[{"$f":"'Rozliczenie końcowe'!A160","v":0},{"$f":"'Rozliczenie końcowe'!B514","v":""},{"$f":"'Rozliczenie końcowe'!C514","v":0},{"$f":"'Rozliczenie końcowe'!D514","v":0},{"$f":"'Rozliczenie końcowe'!E514","v":0},{"$f":"'Rozliczenie końcowe'!F514","v":0},{"$f":"'Rozliczenie końcowe'!G514","v":"00:00:00"},{"$f":"'Rozliczenie końcowe'!H396","v":0},{"$f":"'Rozliczenie końcowe'!I396","v":0},{"$f":"'Rozliczenie końcowe'!J514","v":0},{"$f":"'Rozliczenie końcowe'!K514","v":0},{"$f":"'Rozliczenie końcowe'!L514","v":0}]
[{"$f":"'Rozliczenie końcowe'!A161","v":0},{"$f":"'Rozliczenie końcowe'!B515","v":""},{"$f":"'Rozliczenie końcowe'!C515","v":0},{"$f":"'Rozliczenie końcowe'!D515","v":0},{"$f":"'Rozliczenie końcowe'!E515","v":0},{"$f":"'Rozliczenie końcowe'!F515","v":0},{"$f":"'Rozliczenie końcowe'!G515","v":"00:00:00"},{"$f":"'Rozliczenie końcowe'!H397","v":0},{"$f":"'Rozliczenie końcowe'!I397","v":0},{"$f":"'Rozliczenie końcowe'!J515","v":0},{"$f":"'Rozliczenie końcowe'!K515","v":0},{"$f":"'Rozliczenie końcowe'!L515","v":0}]
[{"$f":"'Rozliczenie końcowe'!A162","v":0},{"$f":"'Rozliczenie końcowe'!B516","v":""},{"$f":"'Rozliczenie końcowe'!C516","v":0},{"$f":"'Rozliczenie końcowe'!D516","v":0},{"$f":"'Rozliczenie końcowe'!E516","v":0},{"$f":"'Rozliczenie końcowe'!F516","v":0},{"$f":"'Rozliczenie końcowe'!G516","v":"00:00:00"},{"$f":"'Rozliczenie końcowe'!H398","v":0},{"$f":"'Rozliczenie końcowe'!I398","v":0},{"$f":"'Rozliczenie końcowe'!J516","v":0},{"$f":"'Rozliczenie końcowe'!K516","v":0},{"$f":"'Rozliczenie końcowe'!L516","v":0}]
[{"$f":"'Rozliczenie końcowe'!A163","v":0},{"$f":"'Rozliczenie końcowe'!B517","v":""},{"$f":"'Rozliczenie końcowe'!C517","v":0},{"$f":"'Rozliczenie końcowe'!D517","v":0},{"$f":"'Rozliczenie końcowe'!E517","v":0},{"$f":"'Rozliczenie końcowe'!F517","v":0},{"$f":"'Rozliczenie końcowe'!G517","v":"00:00:00"},{"$f":"'Rozliczenie końcowe'!H399","v":0},{"$f":"'Rozliczenie końcowe'!I399","v":0},{"$f":"'Rozliczenie końcowe'!J517","v":0},{"$f":"'Rozliczenie końcowe'!K517","v":0},{"$f":"'Rozliczenie końcowe'!L517","v":0}]
[{"$f":"'Rozliczenie końcowe'!A164","v":0},{"$f":"'Rozliczenie końcowe'!B518","v":""},{"$f":"'Rozliczenie końcowe'!C518","v":0},{"$f":"'Rozliczenie końcowe'!D518","v":0},{"$f":"'Rozliczenie końcowe'!E518","v":0},{"$f":"'Rozliczenie końcowe'!F518","v":0},{"$f":"'Rozliczenie końcowe'!G518","v":"00:00:00"},{"$f":"'Rozliczenie końcowe'!H400","v":0},{"$f":"'Rozliczenie końcowe'!I400","v":0},{"$f":"'Rozliczenie końcowe'!J518","v":0},{"$f":"'Rozliczenie końcowe'!K518","v":0},{"$f":"'Rozliczenie końcowe'!L518","v":0}]
[{"$f":"'Rozliczenie końcowe'!A165","v":0},{"$f":"'Rozliczenie końcowe'!B519","v":""},{"$f":"'Rozliczenie końcowe'!C519","v":0},{"$f":"'Rozliczenie końcowe'!D519","v":0},{"$f":"'Rozliczenie końcowe'!E519","v":0},{"$f":"'Rozliczenie końcowe'!F519","v":0},{"$f":"'Rozliczenie końcowe'!G519","v":"00:00:00"},{"$f":"'Rozliczenie końcowe'!H401","v":0},{"$f":"'Rozliczenie końcowe'!I401","v":0},{"$f":"'Rozliczenie końcowe'!J519","v":0},{"$f":"'Rozliczenie końcowe'!K519","v":0},{"$f":"'Rozliczenie końcowe'!L519","v":0}]
[{"$f":"'Rozliczenie końcowe'!A166","v":0},{"$f":"'Rozliczenie końcowe'!B520","v":""},{"$f":"'Rozliczenie końcowe'!C520","v":0},{"$f":"'Rozliczenie końcowe'!D520","v":0},{"$f":"'Rozliczenie końcowe'!E520","v":0},{"$f":"'Rozliczenie końcowe'!F520","v":0},{"$f":"'Rozliczenie końcowe'!G520","v":"00:00:00"},{"$f":"'Rozliczenie końcowe'!H402","v":0},{"$f":"'Rozliczenie końcowe'!I402","v":0},{"$f":"'Rozliczenie końcowe'!J520","v":0},{"$f":"'Rozliczenie końcowe'!K520","v":0},{"$f":"'Rozliczenie końcowe'!L520","v":0}]
[{"$f":"'Rozliczenie końcowe'!A167","v":0},{"$f":"'Rozliczenie końcowe'!B521","v":""},{"$f":"'Rozliczenie końcowe'!C521","v":0},{"$f":"'Rozliczenie końcowe'!D521","v":0},{"$f":"'Rozliczenie końcowe'!E521","v":0},{"$f":"'Rozliczenie końcowe'!F521","v":0},{"$f":"'Rozliczenie końcowe'!G521","v":"00:00:00"},{"$f":"'Rozliczenie końcowe'!H403","v":0},{"$f":"'Rozliczenie końcowe'!I403","v":0},{"$f":"'Rozliczenie końcowe'!J521","v":0},{"$f":"'Rozliczenie końcowe'!K521","v":0},{"$f":"'Rozliczenie końcowe'!L521","v":0}]
[{"$f":"'Rozliczenie końcowe'!A168","v":0},{"$f":"'Rozliczenie końcowe'!B522","v":""},{"$f":"'Rozliczenie końcowe'!C522","v":0},{"$f":"'Rozliczenie końcowe'!D522","v":0},{"$f":"'Rozliczenie końcowe'!E522","v":0},{"$f":"'Rozliczenie końcowe'!F522","v":0},{"$f":"'Rozliczenie końcowe'!G522","v":"00:00:00"},{"$f":"'Rozliczenie końcowe'!H404","v":0},{"$f":"'Rozliczenie końcowe'!I404","v":0},{"$f":"'Rozliczenie końcowe'!J522","v":0},{"$f":"'Rozliczenie końcowe'!K522","v":0},{"$f":"'Rozliczenie końcowe'!L522","v":0}]
[{"$f":"'Rozliczenie końcowe'!A169","v":0},{"$f":"'Rozliczenie końcowe'!B523","v":""},{"$f":"'Rozliczenie końcowe'!C523","v":0},{"$f":"'Rozliczenie końcowe'!D523","v":0},{"$f":"'Rozliczenie końcowe'!E523","v":0},{"$f":"'Rozliczenie końcowe'!F523","v":0},{"$f":"'Rozliczenie końcowe'!G523","v":"00:00:00"},{"$f":"'Rozliczenie końcowe'!H405","v":0},{"$f":"'Rozliczenie końcowe'!I405","v":0},{"$f":"'Rozliczenie końcowe'!J523","v":0},{"$f":"'Rozliczenie końcowe'!K523","v":0},{"$f":"'Rozliczenie końcowe'!L523","v":0}]
[{"$f":"'Rozliczenie końcowe'!A170","v":0},{"$f":"'Rozliczenie końcowe'!B524","v":""},{"$f":"'Rozliczenie końcowe'!C524","v":0},{"$f":"'Rozliczenie końcowe'!D524","v":0},{"$f":"'Rozliczenie końcowe'!E524","v":0},{"$f":"'Rozliczenie końcowe'!F524","v":0},{"$f":"'Rozliczenie końcowe'!G524","v":"00:00:00"},{"$f":"'Rozliczenie końcowe'!H406","v":0},{"$f":"'Rozliczenie końcowe'!I406","v":0},{"$f":"'Rozliczenie końcowe'!J524","v":0},{"$f":"'Rozliczenie końcowe'!K524","v":0},{"$f":"'Rozliczenie końcowe'!L524","v":0}]
[{"$f":"'Rozliczenie końcowe'!A171","v":0},{"$f":"'Rozliczenie końcowe'!B525","v":""},{"$f":"'Rozliczenie końcowe'!C525","v":0},{"$f":"'Rozliczenie końcowe'!D525","v":0},{"$f":"'Rozliczenie końcowe'!E525","v":0},{"$f":"'Rozliczenie końcowe'!F525","v":0},{"$f":"'Rozliczenie końcowe'!G525","v":"00:00:00"},{"$f":"'Rozliczenie końcowe'!H407","v":0},{"$f":"'Rozliczenie końcowe'!I407","v":0},{"$f":"'Rozliczenie końcowe'!J525","v":0},{"$f":"'Rozliczenie końcowe'!K525","v":0},{"$f":"'Rozliczenie końcowe'!L525","v":0}]
[{"$f":"'Rozliczenie końcowe'!A172","v":0},{"$f":"'Rozliczenie końcowe'!B526","v":""},{"$f":"'Rozliczenie końcowe'!C526","v":0},{"$f":"'Rozliczenie końcowe'!D526","v":0},{"$f":"'Rozliczenie końcowe'!E526","v":0},{"$f":"'Rozliczenie końcowe'!F526","v":0},{"$f":"'Rozliczenie końcowe'!G526","v":"00:00:00"},{"$f":"'Rozliczenie końcowe'!H408","v":0},{"$f":"'Rozliczenie końcowe'!I408","v":0},{"$f":"'Rozliczenie końcowe'!J526","v":0},{"$f":"'Rozliczenie końcowe'!K526","v":0},{"$f":"'Rozliczenie końcowe'!L526","v":0}]
[{"$f":"'Rozliczenie końcowe'!A173","v":0},{"$f":"'Rozliczenie końcowe'!B527","v":""},{"$f":"'Rozliczenie końcowe'!C527","v":0},{"$f":"'Rozliczenie końcowe'!D527","v":0},{"$f":"'Rozliczenie końcowe'!E527","v":0},{"$f":"'Rozliczenie końcowe'!F527","v":0},{"$f":"'Rozliczenie końcowe'!G527","v":"00:00:00"},{"$f":"'Rozliczenie końcowe'!H409","v":0},{"$f":"'Rozliczenie końcowe'!I409","v":0},{"$f":"'Rozliczenie końcowe'!J527","v":0},{"$f":"'Rozliczenie końcowe'!K527","v":0},{"$f":"'Rozliczenie końcowe'!L527","v":0}]
[{"$f":"'Rozliczenie końcowe'!A174","v":0},{"$f":"'Rozliczenie końcowe'!B528","v":""},{"$f":"'Rozliczenie końcowe'!C528","v":0},{"$f":"'Rozliczenie końcowe'!D528","v":0},{"$f":"'Rozliczenie końcowe'!E528","v":0},{"$f":"'Rozliczenie końcowe'!F528","v":0},{"$f":"'Rozliczenie końcowe'!G528","v":"00:00:00"},{"$f":"'Rozliczenie końcowe'!H410","v":0},{"$f":"'Rozliczenie końcowe'!I410","v":0},{"$f":"'Rozliczenie końcowe'!J528","v":0},{"$f":"'Rozliczenie końcowe'!K528","v":0},{"$f":"'Rozliczenie końcowe'!L528","v":0}]
[{"$f":"'Rozliczenie końcowe'!A175","v":0},{"$f":"'Rozliczenie końcowe'!B529","v":""},{"$f":"'Rozliczenie końcowe'!C529","v":0},{"$f":"'Rozliczenie końcowe'!D529","v":0},{"$f":"'Rozliczenie końcowe'!E529","v":0},{"$f":"'Rozliczenie końcowe'!F529","v":0},{"$f":"'Rozliczenie końcowe'!G529","v":"00:00:00"},{"$f":"'Rozliczenie końcowe'!H411","v":0},{"$f":"'Rozliczenie końcowe'!I411","v":0},{"$f":"'Rozliczenie końcowe'!J529","v":0},{"$f":"'Rozliczenie końcowe'!K529","v":0},{"$f":"'Rozliczenie końcowe'!L529","v":0}]
[{"$f":"'Rozliczenie końcowe'!A176","v":0},{"$f":"'Rozliczenie końcowe'!B530","v":""},{"$f":"'Rozliczenie końcowe'!C530","v":0},{"$f":"'Rozliczenie końcowe'!D530","v":0},{"$f":"'Rozliczenie końcowe'!E530","v":0},{"$f":"'Rozliczenie końcowe'!F530","v":0},{"$f":"'Rozliczenie końcowe'!G530","v":"00:00:00"},{"$f":"'Rozliczenie końcowe'!H412","v":0},{"$f":"'Rozliczenie końcowe'!I412","v":0},{"$f":"'Rozliczenie końcowe'!J530","v":0},{"$f":"'Rozliczenie końcowe'!K530","v":0},{"$f":"'Rozliczenie końcowe'!L530","v":0}]
[{"$f":"'Rozliczenie końcowe'!A177","v":0},{"$f":"'Rozliczenie końcowe'!B531","v":""},{"$f":"'Rozliczenie końcowe'!C531","v":0},{"$f":"'Rozliczenie końcowe'!D531","v":0},{"$f":"'Rozliczenie końcowe'!E531","v":0},{"$f":"'Rozliczenie końcowe'!F531","v":0},{"$f":"'Rozliczenie końcowe'!G531","v":"00:00:00"},{"$f":"'Rozliczenie końcowe'!H413","v":0},{"$f":"'Rozliczenie końcowe'!I413","v":0},{"$f":"'Rozliczenie końcowe'!J531","v":0},{"$f":"'Rozliczenie końcowe'!K531","v":0},{"$f":"'Rozliczenie końcowe'!L531","v":0}]
[{"$f":"'Rozliczenie końcowe'!A178","v":0},{"$f":"'Rozliczenie końcowe'!B532","v":""},{"$f":"'Rozliczenie końcowe'!C532","v":0},{"$f":"'Rozliczenie końcowe'!D532","v":0},{"$f":"'Rozliczenie końcowe'!E532","v":0},{"$f":"'Rozliczenie końcowe'!F532","v":0},{"$f":"'Rozliczenie końcowe'!G532","v":"00:00:00"},{"$f":"'Rozliczenie końcowe'!H414","v":0},{"$f":"'Rozliczenie końcowe'!I414","v":0},{"$f":"'Rozliczenie końcowe'!J532","v":0},{"$f":"'Rozliczenie końcowe'!K532","v":0},{"$f":"'Rozliczenie końcowe'!L532","v":0}]
[{"$f":"'Rozliczenie końcowe'!A179","v":0},{"$f":"'Rozliczenie końcowe'!B533","v":""},{"$f":"'Rozliczenie końcowe'!C533","v":0},{"$f":"'Rozliczenie końcowe'!D533","v":0},{"$f":"'Rozliczenie końcowe'!E533","v":0},{"$f":"'Rozliczenie końcowe'!F533","v":0},{"$f":"'Rozliczenie końcowe'!G533","v":"00:00:00"},{"$f":"'Rozliczenie końcowe'!H415","v":0},{"$f":"'Rozliczenie końcowe'!I415","v":0},{"$f":"'Rozliczenie końcowe'!J533","v":0},{"$f":"'Rozliczenie końcowe'!K533","v":0},{"$f":"'Rozliczenie końcowe'!L533","v":0}]
[{"$f":"'Rozliczenie końcowe'!A180","v":0},{"$f":"'Rozliczenie końcowe'!B534","v":""},{"$f":"'Rozliczenie końcowe'!C534","v":0},{"$f":"'Rozliczenie końcowe'!D534","v":0},{"$f":"'Rozliczenie końcowe'!E534","v":0},{"$f":"'Rozliczenie końcowe'!F534","v":0},{"$f":"'Rozliczenie końcowe'!G534","v":"00:00:00"},{"$f":"'Rozliczenie końcowe'!H416","v":0},{"$f":"'Rozliczenie końcowe'!I416","v":0},{"$f":"'Rozliczenie końcowe'!J534","v":0},{"$f":"'Rozliczenie końcowe'!K534","v":0},{"$f":"'Rozliczenie końcowe'!L534","v":0}]
[{"$f":"'Rozliczenie końcowe'!A181","v":0},{"$f":"'Rozliczenie końcowe'!B535","v":""},{"$f":"'Rozliczenie końcowe'!C535","v":0},{"$f":"'Rozliczenie końcowe'!D535","v":0},{"$f":"'Rozliczenie końcowe'!E535","v":0},{"$f":"'Rozliczenie końcowe'!F535","v":0},{"$f":"'Rozliczenie końcowe'!G535","v":"00:00:00"},{"$f":"'Rozliczenie końcowe'!H417","v":0},{"$f":"'Rozliczenie końcowe'!I417","v":0},{"$f":"'Rozliczenie końcowe'!J535","v":0},{"$f":"'Rozliczenie końcowe'!K535","v":0},{"$f":"'Rozliczenie końcowe'!L535","v":0}]
[{"$f":"'Rozliczenie końcowe'!A182","v":0},{"$f":"'Rozliczenie końcowe'!B536","v":""},{"$f":"'Rozliczenie końcowe'!C536","v":0},{"$f":"'Rozliczenie końcowe'!D536","v":0},{"$f":"'Rozliczenie końcowe'!E536","v":0},{"$f":"'Rozliczenie końcowe'!F536","v":0},{"$f":"'Rozliczenie końcowe'!G536","v":"00:00:00"},{"$f":"'Rozliczenie końcowe'!H418","v":0},{"$f":"'Rozliczenie końcowe'!I418","v":0},{"$f":"'Rozliczenie końcowe'!J536","v":0},{"$f":"'Rozliczenie końcowe'!K536","v":0},{"$f":"'Rozliczenie końcowe'!L536","v":0}]
[{"$f":"'Rozliczenie końcowe'!A183","v":0},{"$f":"'Rozliczenie końcowe'!B537","v":""},{"$f":"'Rozliczenie końcowe'!C537","v":0},{"$f":"'Rozliczenie końcowe'!D537","v":0},{"$f":"'Rozliczenie końcowe'!E537","v":0},{"$f":"'Rozliczenie końcowe'!F537","v":0},{"$f":"'Rozliczenie końcowe'!G537","v":"00:00:00"},{"$f":"'Rozliczenie końcowe'!H419","v":0},{"$f":"'Rozliczenie końcowe'!I419","v":0},{"$f":"'Rozliczenie końcowe'!J537","v":0},{"$f":"'Rozliczenie końcowe'!K537","v":0},{"$f":"'Rozliczenie końcowe'!L537","v":0}]
[{"$f":"'Rozliczenie końcowe'!A184","v":0},{"$f":"'Rozliczenie końcowe'!B538","v":""},{"$f":"'Rozliczenie końcowe'!C538","v":0},{"$f":"'Rozliczenie końcowe'!D538","v":0},{"$f":"'Rozliczenie końcowe'!E538","v":0},{"$f":"'Rozliczenie końcowe'!F538","v":0},{"$f":"'Rozliczenie końcowe'!G538","v":"00:00:00"},{"$f":"'Rozliczenie końcowe'!H420","v":0},{"$f":"'Rozliczenie końcowe'!I420","v":0},{"$f":"'Rozliczenie końcowe'!J538","v":0},{"$f":"'Rozliczenie końcowe'!K538","v":0},{"$f":"'Rozliczenie końcowe'!L538","v":0}]
[{"$f":"'Rozliczenie końcowe'!A185","v":0},{"$f":"'Rozliczenie końcowe'!B539","v":""},{"$f":"'Rozliczenie końcowe'!C539","v":0},{"$f":"'Rozliczenie końcowe'!D539","v":0},{"$f":"'Rozliczenie końcowe'!E539","v":0},{"$f":"'Rozliczenie końcowe'!F539","v":0},{"$f":"'Rozliczenie końcowe'!G539","v":"00:00:00"},{"$f":"'Rozliczenie końcowe'!H421","v":0},{"$f":"'Rozliczenie końcowe'!I421","v":0},{"$f":"'Rozliczenie końcowe'!J539","v":0},{"$f":"'Rozliczenie końcowe'!K539","v":0},{"$f":"'Rozliczenie końcowe'!L539","v":0}]
[{"$f":"'Rozliczenie końcowe'!A186","v":0},{"$f":"'Rozliczenie końcowe'!B540","v":""},{"$f":"'Rozliczenie końcowe'!C540","v":0},{"$f":"'Rozliczenie końcowe'!D540","v":0},{"$f":"'Rozliczenie końcowe'!E540","v":0},{"$f":"'Rozliczenie końcowe'!F540","v":0},{"$f":"'Rozliczenie końcowe'!G540","v":"00:00:00"},{"$f":"'Rozliczenie końcowe'!H422","v":0},{"$f":"'Rozliczenie końcowe'!I422","v":0},{"$f":"'Rozliczenie końcowe'!J540","v":0},{"$f":"'Rozliczenie końcowe'!K540","v":0},{"$f":"'Rozliczenie końcowe'!L540","v":0}]
[{"$f":"'Rozliczenie końcowe'!A187","v":0},{"$f":"'Rozliczenie końcowe'!B541","v":""},{"$f":"'Rozliczenie końcowe'!C541","v":0},{"$f":"'Rozliczenie końcowe'!D541","v":0},{"$f":"'Rozliczenie końcowe'!E541","v":0},{"$f":"'Rozliczenie końcowe'!F541","v":0},{"$f":"'Rozliczenie końcowe'!G541","v":"00:00:00"},{"$f":"'Rozliczenie końcowe'!H423","v":0},{"$f":"'Rozliczenie końcowe'!I423","v":0},{"$f":"'Rozliczenie końcowe'!J541","v":0},{"$f":"'Rozliczenie końcowe'!K541","v":0},{"$f":"'Rozliczenie końcowe'!L541","v":0}]
[{"$f":"'Rozliczenie końcowe'!A188","v":0},{"$f":"'Rozliczenie końcowe'!B542","v":""},{"$f":"'Rozliczenie końcowe'!C542","v":0},{"$f":"'Rozliczenie końcowe'!D542","v":0},{"$f":"'Rozliczenie końcowe'!E542","v":0},{"$f":"'Rozliczenie końcowe'!F542","v":0},{"$f":"'Rozliczenie końcowe'!G542","v":"00:00:00"},{"$f":"'Rozliczenie końcowe'!H424","v":0},{"$f":"'Rozliczenie końcowe'!I424","v":0},{"$f":"'Rozliczenie końcowe'!J542","v":0},{"$f":"'Rozliczenie końcowe'!K542","v":0},{"$f":"'Rozliczenie końcowe'!L542","v":0}]
[{"$f":"'Rozliczenie końcowe'!A189","v":0},{"$f":"'Rozliczenie końcowe'!B543","v":""},{"$f":"'Rozliczenie końcowe'!C543","v":0},{"$f":"'Rozliczenie końcowe'!D543","v":0},{"$f":"'Rozliczenie końcowe'!E543","v":0},{"$f":"'Rozliczenie końcowe'!F543","v":0},{"$f":"'Rozliczenie końcowe'!G543","v":"00:00:00"},{"$f":"'Rozliczenie końcowe'!H425","v":0},{"$f":"'Rozliczenie końcowe'!I425","v":0},{"$f":"'Rozliczenie końcowe'!J543","v":0},{"$f":"'Rozliczenie końcowe'!K543","v":0},{"$f":"'Rozliczenie końcowe'!L543","v":0}]
[{"$f":"'Rozliczenie końcowe'!A190","v":0},{"$f":"'Rozliczenie końcowe'!B544","v":""},{"$f":"'Rozliczenie końcowe'!C544","v":0},{"$f":"'Rozliczenie końcowe'!D544","v":0},{"$f":"'Rozliczenie końcowe'!E544","v":0},{"$f":"'Rozliczenie końcowe'!F544","v":0},{"$f":"'Rozliczenie końcowe'!G544","v":"00:00:00"},{"$f":"'Rozliczenie końcowe'!H426","v":0},{"$f":"'Rozliczenie końcowe'!I426","v":0},{"$f":"'Rozliczenie końcowe'!J544","v":0},{"$f":"'Rozliczenie końcowe'!K544","v":0},{"$f":"'Rozliczenie końcowe'!L544","v":0}]
[{"$f":"'Rozliczenie końcowe'!A191","v":0},{"$f":"'Rozliczenie końcowe'!B545","v":""},{"$f":"'Rozliczenie końcowe'!C545","v":0},{"$f":"'Rozliczenie końcowe'!D545","v":0},{"$f":"'Rozliczenie końcowe'!E545","v":0},{"$f":"'Rozliczenie końcowe'!F545","v":0},{"$f":"'Rozliczenie końcowe'!G545","v":"00:00:00"},{"$f":"'Rozliczenie końcowe'!H427","v":0},{"$f":"'Rozliczenie końcowe'!I427","v":0},{"$f":"'Rozliczenie końcowe'!J545","v":0},{"$f":"'Rozliczenie końcowe'!K545","v":0},{"$f":"'Rozliczenie końcowe'!L545","v":0}]
[{"$f":"'Rozliczenie końcowe'!A192","v":0},{"$f":"'Rozliczenie końcowe'!B546","v":""},{"$f":"'Rozliczenie końcowe'!C546","v":0},{"$f":"'Rozliczenie końcowe'!D546","v":0},{"$f":"'Rozliczenie końcowe'!E546","v":0},{"$f":"'Rozliczenie końcowe'!F546","v":0},{"$f":"'Rozliczenie końcowe'!G546","v":"00:00:00"},{"$f":"'Rozliczenie końcowe'!H428","v":0},{"$f":"'Rozliczenie końcowe'!I428","v":0},{"$f":"'Rozliczenie końcowe'!J546","v":0},{"$f":"'Rozliczenie końcowe'!K546","v":0},{"$f":"'Rozliczenie końcowe'!L546","v":0}]
[{"$f":"'Rozliczenie końcowe'!A193","v":0},{"$f":"'Rozliczenie końcowe'!B547","v":""},{"$f":"'Rozliczenie końcowe'!C547","v":0},{"$f":"'Rozliczenie końcowe'!D547","v":0},{"$f":"'Rozliczenie końcowe'!E547","v":0},{"$f":"'Rozliczenie końcowe'!F547","v":0},{"$f":"'Rozliczenie końcowe'!G547","v":"00:00:00"},{"$f":"'Rozliczenie końcowe'!H429","v":0},{"$f":"'Rozliczenie końcowe'!I429","v":0},{"$f":"'Rozliczenie końcowe'!J547","v":0},{"$f":"'Rozliczenie końcowe'!K547","v":0},{"$f":"'Rozliczenie końcowe'!L547","v":0}]
[{"$f":"'Rozliczenie końcowe'!A194","v":0},{"$f":"'Rozliczenie końcowe'!B548","v":""},{"$f":"'Rozliczenie końcowe'!C548","v":0},{"$f":"'Rozliczenie końcowe'!D548","v":0},{"$f":"'Rozliczenie końcowe'!E548","v":0},{"$f":"'Rozliczenie końcowe'!F548","v":0},{"$f":"'Rozliczenie końcowe'!G548","v":"00:00:00"},{"$f":"'Rozliczenie końcowe'!H430","v":0},{"$f":"'Rozliczenie końcowe'!I430","v":0},{"$f":"'Rozliczenie końcowe'!J548","v":0},{"$f":"'Rozliczenie końcowe'!K548","v":0},{"$f":"'Rozliczenie końcowe'!L548","v":0}]
[{"$f":"'Rozliczenie końcowe'!A195","v":0},{"$f":"'Rozliczenie końcowe'!B549","v":""},{"$f":"'Rozliczenie końcowe'!C549","v":0},{"$f":"'Rozliczenie końcowe'!D549","v":0},{"$f":"'Rozliczenie końcowe'!E549","v":0},{"$f":"'Rozliczenie końcowe'!F549","v":0},{"$f":"'Rozliczenie końcowe'!G549","v":"00:00:00"},{"$f":"'Rozliczenie końcowe'!H431","v":0},{"$f":"'Rozliczenie końcowe'!I431","v":0},{"$f":"'Rozliczenie końcowe'!J549","v":0},{"$f":"'Rozliczenie końcowe'!K549","v":0},{"$f":"'Rozliczenie końcowe'!L549","v":0}]
[{"$f":"'Rozliczenie końcowe'!A196","v":0},{"$f":"'Rozliczenie końcowe'!B550","v":""},{"$f":"'Rozliczenie końcowe'!C550","v":0},{"$f":"'Rozliczenie końcowe'!D550","v":0},{"$f":"'Rozliczenie końcowe'!E550","v":0},{"$f":"'Rozliczenie końcowe'!F550","v":0},{"$f":"'Rozliczenie końcowe'!G550","v":"00:00:00"},{"$f":"'Rozliczenie końcowe'!H432","v":0},{"$f":"'Rozliczenie końcowe'!I432","v":0},{"$f":"'Rozliczenie końcowe'!J550","v":0},{"$f":"'Rozliczenie końcowe'!K550","v":0},{"$f":"'Rozliczenie końcowe'!L550","v":0}]
[{"$f":"'Rozliczenie końcowe'!A197","v":0},{"$f":"'Rozliczenie końcowe'!B551","v":""},{"$f":"'Rozliczenie końcowe'!C551","v":0},{"$f":"'Rozliczenie końcowe'!D551","v":0},{"$f":"'Rozliczenie końcowe'!E551","v":0},{"$f":"'Rozliczenie końcowe'!F551","v":0},{"$f":"'Rozliczenie końcowe'!G551","v":"00:00:00"},{"$f":"'Rozliczenie końcowe'!H433","v":0},{"$f":"'Rozliczenie końcowe'!I433","v":0},{"$f":"'Rozliczenie końcowe'!J551","v":0},{"$f":"'Rozliczenie końcowe'!K551","v":0},{"$f":"'Rozliczenie końcowe'!L551","v":0}]
[{"$f":"'Rozliczenie końcowe'!A198","v":0},{"$f":"'Rozliczenie końcowe'!B552","v":""},{"$f":"'Rozliczenie końcowe'!C552","v":0},{"$f":"'Rozliczenie końcowe'!D552","v":0},{"$f":"'Rozliczenie końcowe'!E552","v":0},{"$f":"'Rozliczenie końcowe'!F552","v":0},{"$f":"'Rozliczenie końcowe'!G552","v":"00:00:00"},{"$f":"'Rozliczenie końcowe'!H434","v":0},{"$f":"'Rozliczenie końcowe'!I434","v":0},{"$f":"'Rozliczenie końcowe'!J552","v":0},{"$f":"'Rozliczenie końcowe'!K552","v":0},{"$f":"'Rozliczenie końcowe'!L552","v":0}]
[{"$f":"'Rozliczenie końcowe'!A199","v":0},{"$f":"'Rozliczenie końcowe'!B553","v":""},{"$f":"'Rozliczenie końcowe'!C553","v":0},{"$f":"'Rozliczenie końcowe'!D553","v":0},{"$f":"'Rozliczenie końcowe'!E553","v":0},{"$f":"'Rozliczenie końcowe'!F553","v":0},{"$f":"'Rozliczenie końcowe'!G553","v":"00:00:00"},{"$f":"'Rozliczenie końcowe'!H435","v":0},{"$f":"'Rozliczenie końcowe'!I435","v":0},{"$f":"'Rozliczenie końcowe'!J553","v":0},{"$f":"'Rozliczenie końcowe'!K553","v":0},{"$f":"'Rozliczenie końcowe'!L553","v":0}]
[{"$f":"'Rozliczenie końcowe'!A200","v":0},{"$f":"'Rozliczenie końcowe'!B554","v":""},{"$f":"'Rozliczenie końcowe'!C554","v":0},{"$f":"'Rozliczenie końcowe'!D554","v":0},{"$f":"'Rozliczenie końcowe'!E554","v":0},{"$f":"'Rozliczenie końcowe'!F554","v":0},{"$f":"'Rozliczenie końcowe'!G554","v":"00:00:00"},{"$f":"'Rozliczenie końcowe'!H436","v":0},{"$f":"'Rozliczenie końcowe'!I436","v":0},{"$f":"'Rozliczenie końcowe'!J554","v":0},{"$f":"'Rozliczenie końcowe'!K554","v":0},{"$f":"'Rozliczenie końcowe'!L554","v":0}]
[{"$f":"'Rozliczenie końcowe'!A201","v":0},{"$f":"'Rozliczenie końcowe'!B555","v":""},{"$f":"'Rozliczenie końcowe'!C555","v":0},{"$f":"'Rozliczenie końcowe'!D555","v":0},{"$f":"'Rozliczenie końcowe'!E555","v":0},{"$f":"'Rozliczenie końcowe'!F555","v":0},{"$f":"'Rozliczenie końcowe'!G555","v":"00:00:00"},{"$f":"'Rozliczenie końcowe'!H437","v":0},{"$f":"'Rozliczenie końcowe'!I437","v":0},{"$f":"'Rozliczenie końcowe'!J555","v":0},{"$f":"'Rozliczenie końcowe'!K555","v":0},{"$f":"'Rozliczenie końcowe'!L555","v":0}]
[{"$f":"'Rozliczenie końcowe'!A202","v":0},{"$f":"'Rozliczenie końcowe'!B556","v":""},{"$f":"'Rozliczenie końcowe'!C556","v":0},{"$f":"'Rozliczenie końcowe'!D556","v":0},{"$f":"'Rozliczenie końcowe'!E556","v":0},{"$f":"'Rozliczenie końcowe'!F556","v":0},{"$f":"'Rozliczenie końcowe'!G556","v":"00:00:00"},{"$f":"'Rozliczenie końcowe'!H438","v":0},{"$f":"'Rozliczenie końcowe'!I438","v":0},{"$f":"'Rozliczenie końcowe'!J556","v":0},{"$f":"'Rozliczenie końcowe'!K556","v":0},{"$f":"'Rozliczenie końcowe'!L556","v":0}]
[{"$f":"'Rozliczenie końcowe'!A203","v":0},{"$f":"'Rozliczenie końcowe'!B557","v":""},{"$f":"'Rozliczenie końcowe'!C557","v":0},{"$f":"'Rozliczenie końcowe'!D557","v":0},{"$f":"'Rozliczenie końcowe'!E557","v":0},{"$f":"'Rozliczenie końcowe'!F557","v":0},{"$f":"'Rozliczenie końcowe'!G557","v":"00:00:00"},{"$f":"'Rozliczenie końcowe'!H439","v":0},{"$f":"'Rozliczenie końcowe'!I439","v":0},{"$f":"'Rozliczenie końcowe'!J557","v":0},{"$f":"'Rozliczenie końcowe'!K557","v":0},{"$f":"'Rozliczenie końcowe'!L557","v":0}]
[{"$f":"'Rozliczenie końcowe'!A204","v":0},{"$f":"'Rozliczenie końcowe'!B558","v":""},{"$f":"'Rozliczenie końcowe'!C558","v":0},{"$f":"'Rozliczenie końcowe'!D558","v":0},{"$f":"'Rozliczenie końcowe'!E558","v":0},{"$f":"'Rozliczenie końcowe'!F558","v":0},{"$f":"'Rozliczenie końcowe'!G558","v":"00:00:00"},{"$f":"'Rozliczenie końcowe'!H440","v":0},{"$f":"'Rozliczenie końcowe'!I440","v":0},{"$f":"'Rozliczenie końcowe'!J558","v":0},{"$f":"'Rozliczenie końcowe'!K558","v":0},{"$f":"'Rozliczenie końcowe'!L558","v":0}]
[{"$f":"'Rozliczenie końcowe'!A205","v":0},{"$f":"'Rozliczenie końcowe'!B559","v":""},{"$f":"'Rozliczenie końcowe'!C559","v":0},{"$f":"'Rozliczenie końcowe'!D559","v":0},{"$f":"'Rozliczenie końcowe'!E559","v":0},{"$f":"'Rozliczenie końcowe'!F559","v":0},{"$f":"'Rozliczenie końcowe'!G559","v":"00:00:00"},{"$f":"'Rozliczenie końcowe'!H441","v":0},{"$f":"'Rozliczenie końcowe'!I441","v":0},{"$f":"'Rozliczenie końcowe'!J559","v":0},{"$f":"'Rozliczenie końcowe'!K559","v":0},{"$f":"'Rozliczenie końcowe'!L559","v":0}]
[{"$f":"'Rozliczenie końcowe'!A206","v":0},{"$f":"'Rozliczenie końcowe'!B560","v":""},{"$f":"'Rozliczenie końcowe'!C560","v":0},{"$f":"'Rozliczenie końcowe'!D560","v":0},{"$f":"'Rozliczenie końcowe'!E560","v":0},{"$f":"'Rozliczenie końcowe'!F560","v":0},{"$f":"'Rozliczenie końcowe'!G560","v":"00:00:00"},{"$f":"'Rozliczenie końcowe'!H442","v":0},{"$f":"'Rozliczenie końcowe'!I442","v":0},{"$f":"'Rozliczenie końcowe'!J560","v":0},{"$f":"'Rozliczenie końcowe'!K560","v":0},{"$f":"'Rozliczenie końcowe'!L560","v":0}]
[{"$f":"'Rozliczenie końcowe'!A207","v":0},{"$f":"'Rozliczenie końcowe'!B561","v":""},{"$f":"'Rozliczenie końcowe'!C561","v":0},{"$f":"'Rozliczenie końcowe'!D561","v":0},{"$f":"'Rozliczenie końcowe'!E561","v":0},{"$f":"'Rozliczenie końcowe'!F561","v":0},{"$f":"'Rozliczenie końcowe'!G561","v":"00:00:00"},{"$f":"'Rozliczenie końcowe'!H443","v":0},{"$f":"'Rozliczenie końcowe'!I443","v":0},{"$f":"'Rozliczenie końcowe'!J561","v":0},{"$f":"'Rozliczenie końcowe'!K561","v":0},{"$f":"'Rozliczenie końcowe'!L561","v":0}]
[{"$f":"'Rozliczenie końcowe'!A208","v":0},{"$f":"'Rozliczenie końcowe'!B562","v":""},{"$f":"'Rozliczenie końcowe'!C562","v":0},{"$f":"'Rozliczenie końcowe'!D562","v":0},{"$f":"'Rozliczenie końcowe'!E562","v":0},{"$f":"'Rozliczenie końcowe'!F562","v":0},{"$f":"'Rozliczenie końcowe'!G562","v":"00:00:00"},{"$f":"'Rozliczenie końcowe'!H444","v":0},{"$f":"'Rozliczenie końcowe'!I444","v":0},{"$f":"'Rozliczenie końcowe'!J562","v":0},{"$f":"'Rozliczenie końcowe'!K562","v":0},{"$f":"'Rozliczenie końcowe'!L562","v":0}]
[{"$f":"'Rozliczenie końcowe'!A209","v":0},{"$f":"'Rozliczenie końcowe'!B563","v":""},{"$f":"'Rozliczenie końcowe'!C563","v":0},{"$f":"'Rozliczenie końcowe'!D563","v":0},{"$f":"'Rozliczenie końcowe'!E563","v":0},{"$f":"'Rozliczenie końcowe'!F563","v":0},{"$f":"'Rozliczenie końcowe'!G563","v":"00:00:00"},{"$f":"'Rozliczenie końcowe'!H445","v":0},{"$f":"'Rozliczenie końcowe'!I445","v":0},{"$f":"'Rozliczenie końcowe'!J563","v":0},{"$f":"'Rozliczenie końcowe'!K563","v":0},{"$f":"'Rozliczenie końcowe'!L563","v":0}]
[{"$f":"'Rozliczenie końcowe'!A210","v":0},{"$f":"'Rozliczenie końcowe'!B564","v":""},{"$f":"'Rozliczenie końcowe'!C564","v":0},{"$f":"'Rozliczenie końcowe'!D564","v":0},{"$f":"'Rozliczenie końcowe'!E564","v":0},{"$f":"'Rozliczenie końcowe'!F564","v":0},{"$f":"'Rozliczenie końcowe'!G564","v":"00:00:00"},{"$f":"'Rozliczenie końcowe'!H446","v":0},{"$f":"'Rozliczenie końcowe'!I446","v":0},{"$f":"'Rozliczenie końcowe'!J564","v":0},{"$f":"'Rozliczenie końcowe'!K564","v":0},{"$f":"'Rozliczenie końcowe'!L564","v":0}]
[{"$f":"'Rozliczenie końcowe'!A211","v":0},{"$f":"'Rozliczenie końcowe'!B565","v":""},{"$f":"'Rozliczenie końcowe'!C565","v":0},{"$f":"'Rozliczenie końcowe'!D565","v":0},{"$f":"'Rozliczenie końcowe'!E565","v":0},{"$f":"'Rozliczenie końcowe'!F565","v":0},{"$f":"'Rozliczenie końcowe'!G565","v":"00:00:00"},{"$f":"'Rozliczenie końcowe'!H447","v":0},{"$f":"'Rozliczenie końcowe'!I447","v":0},{"$f":"'Rozliczenie końcowe'!J565","v":0},{"$f":"'Rozliczenie końcowe'!K565","v":0},{"$f":"'Rozliczenie końcowe'!L565","v":0}]
[{"$f":"'Rozliczenie końcowe'!A212","v":0},{"$f":"'Rozliczenie końcowe'!B566","v":""},{"$f":"'Rozliczenie końcowe'!C566","v":0},{"$f":"'Rozliczenie końcowe'!D566","v":0},{"$f":"'Rozliczenie końcowe'!E566","v":0},{"$f":"'Rozliczenie końcowe'!F566","v":0},{"$f":"'Rozliczenie końcowe'!G566","v":"00:00:00"},{"$f":"'Rozliczenie końcowe'!H448","v":0},{"$f":"'Rozliczenie końcowe'!I448","v":0},{"$f":"'Rozliczenie końcowe'!J566","v":0},{"$f":"'Rozliczenie końcowe'!K566","v":0},{"$f":"'Rozliczenie końcowe'!L566","v":0}]
[{"$f":"'Rozliczenie końcowe'!A213","v":0},{"$f":"'Rozliczenie końcowe'!B567","v":""},{"$f":"'Rozliczenie końcowe'!C567","v":0},{"$f":"'Rozliczenie końcowe'!D567","v":0},{"$f":"'Rozliczenie końcowe'!E567","v":0},{"$f":"'Rozliczenie końcowe'!F567","v":0},{"$f":"'Rozliczenie końcowe'!G567","v":"00:00:00"},{"$f":"'Rozliczenie końcowe'!H449","v":0},{"$f":"'Rozliczenie końcowe'!I449","v":0},{"$f":"'Rozliczenie końcowe'!J567","v":0},{"$f":"'Rozliczenie końcowe'!K567","v":0},{"$f":"'Rozliczenie końcowe'!L567","v":0}]
[{"$f":"'Rozliczenie końcowe'!A214","v":0},{"$f":"'Rozliczenie końcowe'!B568","v":""},{"$f":"'Rozliczenie końcowe'!C568","v":0},{"$f":"'Rozliczenie końcowe'!D568","v":0},{"$f":"'Rozliczenie końcowe'!E568","v":0},{"$f":"'Rozliczenie końcowe'!F568","v":0},{"$f":"'Rozliczenie końcowe'!G568","v":"00:00:00"},{"$f":"'Rozliczenie końcowe'!H450","v":0},{"$f":"'Rozliczenie końcowe'!I450","v":0},{"$f":"'Rozliczenie końcowe'!J568","v":0},{"$f":"'Rozliczenie końcowe'!K568","v":0},{"$f":"'Rozliczenie końcowe'!L568","v":0}]
[{"$f":"'Rozliczenie końcowe'!A215","v":0},{"$f":"'Rozliczenie końcowe'!B569","v":""},{"$f":"'Rozliczenie końcowe'!C569","v":0},{"$f":"'Rozliczenie końcowe'!D569","v":0},{"$f":"'Rozliczenie końcowe'!E569","v":0},{"$f":"'Rozliczenie końcowe'!F569","v":0},{"$f":"'Rozliczenie końcowe'!G569","v":"00:00:00"},{"$f":"'Rozliczenie końcowe'!H451","v":0},{"$f":"'Rozliczenie końcowe'!I451","v":0},{"$f":"'Rozliczenie końcowe'!J569","v":0},{"$f":"'Rozliczenie końcowe'!K569","v":0},{"$f":"'Rozliczenie końcowe'!L569","v":0}]
[{"$f":"'Rozliczenie końcowe'!A216","v":0},{"$f":"'Rozliczenie końcowe'!B570","v":""},{"$f":"'Rozliczenie końcowe'!C570","v":0},{"$f":"'Rozliczenie końcowe'!D570","v":0},{"$f":"'Rozliczenie końcowe'!E570","v":0},{"$f":"'Rozliczenie końcowe'!F570","v":0},{"$f":"'Rozliczenie końcowe'!G570","v":"00:00:00"},{"$f":"'Rozliczenie końcowe'!H452","v":0},{"$f":"'Rozliczenie końcowe'!I452","v":0},{"$f":"'Rozliczenie końcowe'!J570","v":0},{"$f":"'Rozliczenie końcowe'!K570","v":0},{"$f":"'Rozliczenie końcowe'!L570","v":0}]
[{"$f":"'Rozliczenie końcowe'!A217","v":0},{"$f":"'Rozliczenie końcowe'!B571","v":""},{"$f":"'Rozliczenie końcowe'!C571","v":0},{"$f":"'Rozliczenie końcowe'!D571","v":0},{"$f":"'Rozliczenie końcowe'!E571","v":0},{"$f":"'Rozliczenie końcowe'!F571","v":0},{"$f":"'Rozliczenie końcowe'!G571","v":"00:00:00"},{"$f":"'Rozliczenie końcowe'!H453","v":0},{"$f":"'Rozliczenie końcowe'!I453","v":0},{"$f":"'Rozliczenie końcowe'!J571","v":0},{"$f":"'Rozliczenie końcowe'!K571","v":0},{"$f":"'Rozliczenie końcowe'!L571","v":0}]
[{"$f":"'Rozliczenie końcowe'!A218","v":0},{"$f":"'Rozliczenie końcowe'!B572","v":""},{"$f":"'Rozliczenie końcowe'!C572","v":0},{"$f":"'Rozliczenie końcowe'!D572","v":0},{"$f":"'Rozliczenie końcowe'!E572","v":0},{"$f":"'Rozliczenie końcowe'!F572","v":0},{"$f":"'Rozliczenie końcowe'!G572","v":"00:00:00"},{"$f":"'Rozliczenie końcowe'!H454","v":0},{"$f":"'Rozliczenie końcowe'!I454","v":0},{"$f":"'Rozliczenie końcowe'!J572","v":0},{"$f":"'Rozliczenie końcowe'!K572","v":0},{"$f":"'Rozliczenie końcowe'!L572","v":0}]
[{"$f":"'Rozliczenie końcowe'!A219","v":0},{"$f":"'Rozliczenie końcowe'!B573","v":""},{"$f":"'Rozliczenie końcowe'!C573","v":0},{"$f":"'Rozliczenie końcowe'!D573","v":0},{"$f":"'Rozliczenie końcowe'!E573","v":0},{"$f":"'Rozliczenie końcowe'!F573","v":0},{"$f":"'Rozliczenie końcowe'!G573","v":"00:00:00"},{"$f":"'Rozliczenie końcowe'!H455","v":0},{"$f":"'Rozliczenie końcowe'!I455","v":0},{"$f":"'Rozliczenie końcowe'!J573","v":0},{"$f":"'Rozliczenie końcowe'!K573","v":0},{"$f":"'Rozliczenie końcowe'!L573","v":0}]
[{"$f":"'Rozliczenie końcowe'!A220","v":0},{"$f":"'Rozliczenie końcowe'!B574","v":""},{"$f":"'Rozliczenie końcowe'!C574","v":0},{"$f":"'Rozliczenie końcowe'!D574","v":0},{"$f":"'Rozliczenie końcowe'!E574","v":0},{"$f":"'Rozliczenie końcowe'!F574","v":0},{"$f":"'Rozliczenie końcowe'!G574","v":"00:00:00"},{"$f":"'Rozliczenie końcowe'!H456","v":0},{"$f":"'Rozliczenie końcowe'!I456","v":0},{"$f":"'Rozliczenie końcowe'!J574","v":0},{"$f":"'Rozliczenie końcowe'!K574","v":0},{"$f":"'Rozliczenie końcowe'!L574","v":0}]
[{"$f":"'Rozliczenie końcowe'!A221","v":0},{"$f":"'Rozliczenie końcowe'!B575","v":""},{"$f":"'Rozliczenie końcowe'!C575","v":0},{"$f":"'Rozliczenie końcowe'!D575","v":0},{"$f":"'Rozliczenie końcowe'!E575","v":0},{"$f":"'Rozliczenie końcowe'!F575","v":0},{"$f":"'Rozliczenie końcowe'!G575","v":"00:00:00"},{"$f":"'Rozliczenie końcowe'!H457","v":0},{"$f":"'Rozliczenie końcowe'!I457","v":0},{"$f":"'Rozliczenie końcowe'!J575","v":0},{"$f":"'Rozliczenie końcowe'!K575","v":0},{"$f":"'Rozliczenie końcowe'!L575","v":0}]
[{"$f":"'Rozliczenie końcowe'!A222","v":0},{"$f":"'Rozliczenie końcowe'!B576","v":""},{"$f":"'Rozliczenie końcowe'!C576","v":0},{"$f":"'Rozliczenie końcowe'!D576","v":0},{"$f":"'Rozliczenie końcowe'!E576","v":0},{"$f":"'Rozliczenie końcowe'!F576","v":0},{"$f":"'Rozliczenie końcowe'!G576","v":"00:00:00"},{"$f":"'Rozliczenie końcowe'!H458","v":0},{"$f":"'Rozliczenie końcowe'!I458","v":0},{"$f":"'Rozliczenie końcowe'!J576","v":0},{"$f":"'Rozliczenie końcowe'!K576","v":0},{"$f":"'Rozliczenie końcowe'!L576","v":0}]
[{"$f":"'Rozliczenie końcowe'!A223","v":0},{"$f":"'Rozliczenie końcowe'!B577","v":""},{"$f":"'Rozliczenie końcowe'!C577","v":0},{"$f":"'Rozliczenie końcowe'!D577","v":0},{"$f":"'Rozliczenie końcowe'!E577","v":0},{"$f":"'Rozliczenie końcowe'!F577","v":0},{"$f":"'Rozliczenie końcowe'!G577","v":"00:00:00"},{"$f":"'Rozliczenie końcowe'!H459","v":0},{"$f":"'Rozliczenie końcowe'!I459","v":0},{"$f":"'Rozliczenie końcowe'!J577","v":0},{"$f":"'Rozliczenie końcowe'!K577","v":0},{"$f":"'Rozliczenie końcowe'!L577","v":0}]
[{"$f":"'Rozliczenie końcowe'!A224","v":0},{"$f":"'Rozliczenie końcowe'!B578","v":""},{"$f":"'Rozliczenie końcowe'!C578","v":0},{"$f":"'Rozliczenie końcowe'!D578","v":0},{"$f":"'Rozliczenie końcowe'!E578","v":0},{"$f":"'Rozliczenie końcowe'!F578","v":0},{"$f":"'Rozliczenie końcowe'!G578","v":"00:00:00"},{"$f":"'Rozliczenie końcowe'!H460","v":0},{"$f":"'Rozliczenie końcowe'!I460","v":0},{"$f":"'Rozliczenie końcowe'!J578","v":0},{"$f":"'Rozliczenie końcowe'!K578","v":0},{"$f":"'Rozliczenie końcowe'!L578","v":0}]
[{"$f":"'Rozliczenie końcowe'!A225","v":0},{"$f":"'Rozliczenie końcowe'!B579","v":""},{"$f":"'Rozliczenie końcowe'!C579","v":0},{"$f":"'Rozliczenie końcowe'!D579","v":0},{"$f":"'Rozliczenie końcowe'!E579","v":0},{"$f":"'Rozliczenie końcowe'!F579","v":0},{"$f":"'Rozliczenie końcowe'!G579","v":"00:00:00"},{"$f":"'Rozliczenie końcowe'!H461","v":0},{"$f":"'Rozliczenie końcowe'!I461","v":0},{"$f":"'Rozliczenie końcowe'!J579","v":0},{"$f":"'Rozliczenie końcowe'!K579","v":0},{"$f":"'Rozliczenie końcowe'!L579","v":0}]
[{"$f":"'Rozliczenie końcowe'!A226","v":0},{"$f":"'Rozliczenie końcowe'!B580","v":""},{"$f":"'Rozliczenie końcowe'!C580","v":0},{"$f":"'Rozliczenie końcowe'!D580","v":0},{"$f":"'Rozliczenie końcowe'!E580","v":0},{"$f":"'Rozliczenie końcowe'!F580","v":0},{"$f":"'Rozliczenie końcowe'!G580","v":"00:00:00"},{"$f":"'Rozliczenie końcowe'!H462","v":0},{"$f":"'Rozliczenie końcowe'!I462","v":0},{"$f":"'Rozliczenie końcowe'!J580","v":0},{"$f":"'Rozliczenie końcowe'!K580","v":0},{"$f":"'Rozliczenie końcowe'!L580","v":0}]
[{"$f":"'Rozliczenie końcowe'!A227","v":0},{"$f":"'Rozliczenie końcowe'!B581","v":""},{"$f":"'Rozliczenie końcowe'!C581","v":0},{"$f":"'Rozliczenie końcowe'!D581","v":0},{"$f":"'Rozliczenie końcowe'!E581","v":0},{"$f":"'Rozliczenie końcowe'!F581","v":0},{"$f":"'Rozliczenie końcowe'!G581","v":"00:00:00"},{"$f":"'Rozliczenie końcowe'!H463","v":0},{"$f":"'Rozliczenie końcowe'!I463","v":0},{"$f":"'Rozliczenie końcowe'!J581","v":0},{"$f":"'Rozliczenie końcowe'!K581","v":0},{"$f":"'Rozliczenie końcowe'!L581","v":0}]
[{"$f":"'Rozliczenie końcowe'!A228","v":0},{"$f":"'Rozliczenie końcowe'!B582","v":""},{"$f":"'Rozliczenie końcowe'!C582","v":0},{"$f":"'Rozliczenie końcowe'!D582","v":0},{"$f":"'Rozliczenie końcowe'!E582","v":0},{"$f":"'Rozliczenie końcowe'!F582","v":0},{"$f":"'Rozliczenie końcowe'!G582","v":"00:00:00"},{"$f":"'Rozliczenie końcowe'!H464","v":0},{"$f":"'Rozliczenie końcowe'!I464","v":0},{"$f":"'Rozliczenie końcowe'!J582","v":0},{"$f":"'Rozliczenie końcowe'!K582","v":0},{"$f":"'Rozliczenie końcowe'!L582","v":0}]
[{"$f":"'Rozliczenie końcowe'!A229","v":0},{"$f":"'Rozliczenie końcowe'!B583","v":""},{"$f":"'Rozliczenie końcowe'!C583","v":0},{"$f":"'Rozliczenie końcowe'!D583","v":0},{"$f":"'Rozliczenie końcowe'!E583","v":0},{"$f":"'Rozliczenie końcowe'!F583","v":0},{"$f":"'Rozliczenie końcowe'!G583","v":"00:00:00"},{"$f":"'Rozliczenie końcowe'!H465","v":0},{"$f":"'Rozliczenie końcowe'!I465","v":0},{"$f":"'Rozliczenie końcowe'!J583","v":0},{"$f":"'Rozliczenie końcowe'!K583","v":0},{"$f":"'Rozliczenie końcowe'!L583","v":0}]
[{"$f":"'Rozliczenie końcowe'!A230","v":0},{"$f":"'Rozliczenie końcowe'!B584","v":""},{"$f":"'Rozliczenie końcowe'!C584","v":0},{"$f":"'Rozliczenie końcowe'!D584","v":0},{"$f":"'Rozliczenie końcowe'!E584","v":0},{"$f":"'Rozliczenie końcowe'!F584","v":0},{"$f":"'Rozliczenie końcowe'!G584","v":"00:00:00"},{"$f":"'Rozliczenie końcowe'!H466","v":0},{"$f":"'Rozliczenie końcowe'!I466","v":0},{"$f":"'Rozliczenie końcowe'!J584","v":0},{"$f":"'Rozliczenie końcowe'!K584","v":0},{"$f":"'Rozliczenie końcowe'!L584","v":0}]
[{"$f":"'Rozliczenie końcowe'!A231","v":0},{"$f":"'Rozliczenie końcowe'!B585","v":""},{"$f":"'Rozliczenie końcowe'!C585","v":0},{"$f":"'Rozliczenie końcowe'!D585","v":0},{"$f":"'Rozliczenie końcowe'!E585","v":0},{"$f":"'Rozliczenie końcowe'!F585","v":0},{"$f":"'Rozliczenie końcowe'!G585","v":"00:00:00"},{"$f":"'Rozliczenie końcowe'!H467","v":0},{"$f":"'Rozliczenie końcowe'!I467","v":0},{"$f":"'Rozliczenie końcowe'!J585","v":0},{"$f":"'Rozliczenie końcowe'!K585","v":0},{"$f":"'Rozliczenie końcowe'!L585","v":0}]
[{"$f":"'Rozliczenie końcowe'!A232","v":0},{"$f":"'Rozliczenie końcowe'!B586","v":""},{"$f":"'Rozliczenie końcowe'!C586","v":0},{"$f":"'Rozliczenie końcowe'!D586","v":0},{"$f":"'Rozliczenie końcowe'!E586","v":0},{"$f":"'Rozliczenie końcowe'!F586","v":0},{"$f":"'Rozliczenie końcowe'!G586","v":"00:00:00"},{"$f":"'Rozliczenie końcowe'!H468","v":0},{"$f":"'Rozliczenie końcowe'!I468","v":0},{"$f":"'Rozliczenie końcowe'!J586","v":0},{"$f":"'Rozliczenie końcowe'!K586","v":0},{"$f":"'Rozliczenie końcowe'!L586","v":0}]
[{"$f":"'Rozliczenie końcowe'!A233","v":0},{"$f":"'Rozliczenie końcowe'!B587","v":""},{"$f":"'Rozliczenie końcowe'!C587","v":0},{"$f":"'Rozliczenie końcowe'!D587","v":0},{"$f":"'Rozliczenie końcowe'!E587","v":0},{"$f":"'Rozliczenie końcowe'!F587","v":0},{"$f":"'Rozliczenie końcowe'!G587","v":"00:00:00"},{"$f":"'Rozliczenie końcowe'!H469","v":0},{"$f":"'Rozliczenie końcowe'!I469","v":0},{"$f":"'Rozliczenie końcowe'!J587","v":0},{"$f":"'Rozliczenie końcowe'!K587","v":0},{"$f":"'Rozliczenie końcowe'!L587","v":0}]
[{"$f":"'Rozliczenie końcowe'!A234","v":0},{"$f":"'Rozliczenie końcowe'!B588","v":""},{"$f":"'Rozliczenie końcowe'!C588","v":0},{"$f":"'Rozliczenie końcowe'!D588","v":0},{"$f":"'Rozliczenie końcowe'!E588","v":0},{"$f":"'Rozliczenie końcowe'!F588","v":0},{"$f":"'Rozliczenie końcowe'!G588","v":"00:00:00"},{"$f":"'Rozliczenie końcowe'!H470","v":0},{"$f":"'Rozliczenie końcowe'!I470","v":0},{"$f":"'Rozliczenie końcowe'!J588","v":0},{"$f":"'Rozliczenie końcowe'!K588","v":0},{"$f":"'Rozliczenie końcowe'!L588","v":0}]
[{"$f":"'Rozliczenie końcowe'!A235","v":0},{"$f":"'Rozliczenie końcowe'!B589","v":""},{"$f":"'Rozliczenie końcowe'!C589","v":0},{"$f":"'Rozliczenie końcowe'!D589","v":0},{"$f":"'Rozliczenie końcowe'!E589","v":0},{"$f":"'Rozliczenie końcowe'!F589","v":0},{"$f":"'Rozliczenie końcowe'!G589","v":"00:00:00"},{"$f":"'Rozliczenie końcowe'!H471","v":0},{"$f":"'Rozliczenie końcowe'!I471","v":0},{"$f":"'Rozliczenie końcowe'!J589","v":0},{"$f":"'Rozliczenie końcowe'!K589","v":0},{"$f":"'Rozliczenie końcowe'!L589","v":0}]
[{"$f":"'Rozliczenie końcowe'!A236","v":0},{"$f":"'Rozliczenie końcowe'!B590","v":""},{"$f":"'Rozliczenie końcowe'!C590","v":0},{"$f":"'Rozliczenie końcowe'!D590","v":0},{"$f":"'Rozliczenie końcowe'!E590","v":0},{"$f":"'Rozliczenie końcowe'!F590","v":0},{"$f":"'Rozliczenie końcowe'!G590","v":"00:00:00"},{"$f":"'Rozliczenie końcowe'!H472","v":0},{"$f":"'Rozliczenie końcowe'!I472","v":0},{"$f":"'Rozliczenie końcowe'!J590","v":0},{"$f":"'Rozliczenie końcowe'!K590","v":0},{"$f":"'Rozliczenie końcowe'!L590","v":0}]
[{"$f":"'Rozliczenie końcowe'!A237","v":0},{"$f":"'Rozliczenie końcowe'!B591","v":""},{"$f":"'Rozliczenie końcowe'!C591","v":0},{"$f":"'Rozliczenie końcowe'!D591","v":0},{"$f":"'Rozliczenie końcowe'!E591","v":0},{"$f":"'Rozliczenie końcowe'!F591","v":0},{"$f":"'Rozliczenie końcowe'!G591","v":"00:00:00"},{"$f":"'Rozliczenie końcowe'!H473","v":0},{"$f":"'Rozliczenie końcowe'!I473","v":0},{"$f":"'Rozliczenie końcowe'!J591","v":0},{"$f":"'Rozliczenie końcowe'!K591","v":0},{"$f":"'Rozliczenie końcowe'!L591","v":0}]
[{"$f":"'Rozliczenie końcowe'!A238","v":0},{"$f":"'Rozliczenie końcowe'!B592","v":""},{"$f":"'Rozliczenie końcowe'!C592","v":0},{"$f":"'Rozliczenie końcowe'!D592","v":0},{"$f":"'Rozliczenie końcowe'!E592","v":0},{"$f":"'Rozliczenie końcowe'!F592","v":0},{"$f":"'Rozliczenie końcowe'!G592","v":"00:00:00"},{"$f":"'Rozliczenie końcowe'!H474","v":0},{"$f":"'Rozliczenie końcowe'!I474","v":0},{"$f":"'Rozliczenie końcowe'!J592","v":0},{"$f":"'Rozliczenie końcowe'!K592","v":0},{"$f":"'Rozliczenie końcowe'!L592","v":0}]
[{"$f":"'Rozliczenie końcowe'!A239","v":0},{"$f":"'Rozliczenie końcowe'!B593","v":""},{"$f":"'Rozliczenie końcowe'!C593","v":0},{"$f":"'Rozliczenie końcowe'!D593","v":0},{"$f":"'Rozliczenie końcowe'!E593","v":0},{"$f":"'Rozliczenie końcowe'!F593","v":0},{"$f":"'Rozliczenie końcowe'!G593","v":"00:00:00"},{"$f":"'Rozliczenie końcowe'!H475","v":0},{"$f":"'Rozliczenie końcowe'!I475","v":0},{"$f":"'Rozliczenie końcowe'!J593","v":0},{"$f":"'Rozliczenie końcowe'!K593","v":0},{"$f":"'Rozliczenie końcowe'!L593","v":0}]
[{"$f":"'Rozliczenie końcowe'!A240","v":0},{"$f":"'Rozliczenie końcowe'!B594","v":""},{"$f":"'Rozliczenie końcowe'!C594","v":0},{"$f":"'Rozliczenie końcowe'!D594","v":0},{"$f":"'Rozliczenie końcowe'!E594","v":0},{"$f":"'Rozliczenie końcowe'!F594","v":0},{"$f":"'Rozliczenie końcowe'!G594","v":"00:00:00"},{"$f":"'Rozliczenie końcowe'!H476","v":0},{"$f":"'Rozliczenie końcowe'!I476","v":0},{"$f":"'Rozliczenie końcowe'!J594","v":0},{"$f":"'Rozliczenie końcowe'!K594","v":0},{"$f":"'Rozliczenie końcowe'!L594","v":0}]
[{"$f":"'Rozliczenie końcowe'!A241","v":0},{"$f":"'Rozliczenie końcowe'!B595","v":""},{"$f":"'Rozliczenie końcowe'!C595","v":0},{"$f":"'Rozliczenie końcowe'!D595","v":0},{"$f":"'Rozliczenie końcowe'!E595","v":0},{"$f":"'Rozliczenie końcowe'!F595","v":0},{"$f":"'Rozliczenie końcowe'!G595","v":"00:00:00"},{"$f":"'Rozliczenie końcowe'!H477","v":0},{"$f":"'Rozliczenie końcowe'!I477","v":0},{"$f":"'Rozliczenie końcowe'!J595","v":0},{"$f":"'Rozliczenie końcowe'!K595","v":0},{"$f":"'Rozliczenie końcowe'!L595","v":0}]
[{"$f":"'Rozliczenie końcowe'!A242","v":0},{"$f":"'Rozliczenie końcowe'!B596","v":""},{"$f":"'Rozliczenie końcowe'!C596","v":0},{"$f":"'Rozliczenie końcowe'!D596","v":0},{"$f":"'Rozliczenie końcowe'!E596","v":0},{"$f":"'Rozliczenie końcowe'!F596","v":0},{"$f":"'Rozliczenie końcowe'!G596","v":"00:00:00"},{"$f":"'Rozliczenie końcowe'!H478","v":0},{"$f":"'Rozliczenie końcowe'!I478","v":0},{"$f":"'Rozliczenie końcowe'!J596","v":0},{"$f":"'Rozliczenie końcowe'!K596","v":0},{"$f":"'Rozliczenie końcowe'!L596","v":0}]
[{"$f":"'Rozliczenie końcowe'!A243","v":0},{"$f":"'Rozliczenie końcowe'!B597","v":""},{"$f":"'Rozliczenie końcowe'!C597","v":0},{"$f":"'Rozliczenie końcowe'!D597","v":0},{"$f":"'Rozliczenie końcowe'!E597","v":0},{"$f":"'Rozliczenie końcowe'!F597","v":0},{"$f":"'Rozliczenie końcowe'!G597","v":"00:00:00"},{"$f":"'Rozliczenie końcowe'!H479","v":0},{"$f":"'Rozliczenie końcowe'!I479","v":0},{"$f":"'Rozliczenie końcowe'!J597","v":0},{"$f":"'Rozliczenie końcowe'!K597","v":0},{"$f":"'Rozliczenie końcowe'!L597","v":0}]
[{"$f":"'Rozliczenie końcowe'!A244","v":0},{"$f":"'Rozliczenie końcowe'!B598","v":""},{"$f":"'Rozliczenie końcowe'!C598","v":0},{"$f":"'Rozliczenie końcowe'!D598","v":0},{"$f":"'Rozliczenie końcowe'!E598","v":0},{"$f":"'Rozliczenie końcowe'!F598","v":0},{"$f":"'Rozliczenie końcowe'!G598","v":"00:00:00"},{"$f":"'Rozliczenie końcowe'!H480","v":0},{"$f":"'Rozliczenie końcowe'!I480","v":0},{"$f":"'Rozliczenie końcowe'!J598","v":0},{"$f":"'Rozliczenie końcowe'!K598","v":0},{"$f":"'Rozliczenie końcowe'!L598","v":0}]
[{"$f":"'Rozliczenie końcowe'!A245","v":0},{"$f":"'Rozliczenie końcowe'!B599","v":""},{"$f":"'Rozliczenie końcowe'!C599","v":0},{"$f":"'Rozliczenie końcowe'!D599","v":0},{"$f":"'Rozliczenie końcowe'!E599","v":0},{"$f":"'Rozliczenie końcowe'!F599","v":0},{"$f":"'Rozliczenie końcowe'!G599","v":"00:00:00"},{"$f":"'Rozliczenie końcowe'!H481","v":0},{"$f":"'Rozliczenie końcowe'!I481","v":0},{"$f":"'Rozliczenie końcowe'!J599","v":0},{"$f":"'Rozliczenie końcowe'!K599","v":0},{"$f":"'Rozliczenie końcowe'!L599","v":0}]
[{"$f":"'Rozliczenie końcowe'!A246","v":0},{"$f":"'Rozliczenie końcowe'!B600","v":""},{"$f":"'Rozliczenie końcowe'!C600","v":0},{"$f":"'Rozliczenie końcowe'!D600","v":0},{"$f":"'Rozliczenie końcowe'!E600","v":0},{"$f":"'Rozliczenie końcowe'!F600","v":0},{"$f":"'Rozliczenie końcowe'!G600","v":"00:00:00"},{"$f":"'Rozliczenie końcowe'!H482","v":0},{"$f":"'Rozliczenie końcowe'!I482","v":0},{"$f":"'Rozliczenie końcowe'!J600","v":0},{"$f":"'Rozliczenie końcowe'!K600","v":0},{"$f":"'Rozliczenie końcowe'!L600","v":0}]
[{"$f":"'Rozliczenie końcowe'!A247","v":0},{"$f":"'Rozliczenie końcowe'!B601","v":""},{"$f":"'Rozliczenie końcowe'!C601","v":0},{"$f":"'Rozliczenie końcowe'!D601","v":0},{"$f":"'Rozliczenie końcowe'!E601","v":0},{"$f":"'Rozliczenie końcowe'!F601","v":0},{"$f":"'Rozliczenie końcowe'!G601","v":"00:00:00"},{"$f":"'Rozliczenie końcowe'!H483","v":0},{"$f":"'Rozliczenie końcowe'!I483","v":0},{"$f":"'Rozliczenie końcowe'!J601","v":0},{"$f":"'Rozliczenie końcowe'!K601","v":0},{"$f":"'Rozliczenie końcowe'!L601","v":0}]
[{"$f":"'Rozliczenie końcowe'!A248","v":0},{"$f":"'Rozliczenie końcowe'!B602","v":""},{"$f":"'Rozliczenie końcowe'!C602","v":0},{"$f":"'Rozliczenie końcowe'!D602","v":0},{"$f":"'Rozliczenie końcowe'!E602","v":0},{"$f":"'Rozliczenie końcowe'!F602","v":0},{"$f":"'Rozliczenie końcowe'!G602","v":"00:00:00"},{"$f":"'Rozliczenie końcowe'!H484","v":0},{"$f":"'Rozliczenie końcowe'!I484","v":0},{"$f":"'Rozliczenie końcowe'!J602","v":0},{"$f":"'Rozliczenie końcowe'!K602","v":0},{"$f":"'Rozliczenie końcowe'!L602","v":0}]
[{"$f":"'Rozliczenie końcowe'!A249","v":0},{"$f":"'Rozliczenie końcowe'!B603","v":""},{"$f":"'Rozliczenie końcowe'!C603","v":0},{"$f":"'Rozliczenie końcowe'!D603","v":0},{"$f":"'Rozliczenie końcowe'!E603","v":0},{"$f":"'Rozliczenie końcowe'!F603","v":0},{"$f":"'Rozliczenie końcowe'!G603","v":"00:00:00"},{"$f":"'Rozliczenie końcowe'!H485","v":0},{"$f":"'Rozliczenie końcowe'!I485","v":0},{"$f":"'Rozliczenie końcowe'!J603","v":0},{"$f":"'Rozliczenie końcowe'!K603","v":0},{"$f":"'Rozliczenie końcowe'!L603","v":0}]
[{"$f":"'Rozliczenie końcowe'!A250","v":0},{"$f":"'Rozliczenie końcowe'!B604","v":""},{"$f":"'Rozliczenie końcowe'!C604","v":0},{"$f":"'Rozliczenie końcowe'!D604","v":0},{"$f":"'Rozliczenie końcowe'!E604","v":0},{"$f":"'Rozliczenie końcowe'!F604","v":0},{"$f":"'Rozliczenie końcowe'!G604","v":"00:00:00"},{"$f":"'Rozliczenie końcowe'!H486","v":0},{"$f":"'Rozliczenie końcowe'!I486","v":0},{"$f":"'Rozliczenie końcowe'!J604","v":0},{"$f":"'Rozliczenie końcowe'!K604","v":0},{"$f":"'Rozliczenie końcowe'!L604","v":0}]
[{"$f":"'Rozliczenie końcowe'!A251","v":0},{"$f":"'Rozliczenie końcowe'!B605","v":""},{"$f":"'Rozliczenie końcowe'!C605","v":0},{"$f":"'Rozliczenie końcowe'!D605","v":0},{"$f":"'Rozliczenie końcowe'!E605","v":0},{"$f":"'Rozliczenie końcowe'!F605","v":0},{"$f":"'Rozliczenie końcowe'!G605","v":"00:00:00"},{"$f":"'Rozliczenie końcowe'!H487","v":0},{"$f":"'Rozliczenie końcowe'!I487","v":0},{"$f":"'Rozliczenie końcowe'!J605","v":0},{"$f":"'Rozliczenie końcowe'!K605","v":0},{"$f":"'Rozliczenie końcowe'!L605","v":0}]
[{"$f":"'Rozliczenie końcowe'!A252","v":0},{"$f":"'Rozliczenie końcowe'!B606","v":""},{"$f":"'Rozliczenie końcowe'!C606","v":0},{"$f":"'Rozliczenie końcowe'!D606","v":0},{"$f":"'Rozliczenie końcowe'!E606","v":0},{"$f":"'Rozliczenie końcowe'!F606","v":0},{"$f":"'Rozliczenie końcowe'!G606","v":"00:00:00"},{"$f":"'Rozliczenie końcowe'!H488","v":0},{"$f":"'Rozliczenie końcowe'!I488","v":0},{"$f":"'Rozliczenie końcowe'!J606","v":0},{"$f":"'Rozliczenie końcowe'!K606","v":0},{"$f":"'Rozliczenie końcowe'!L606","v":0}]
[{"$f":"'Rozliczenie końcowe'!A253","v":0},{"$f":"'Rozliczenie końcowe'!B607","v":""},{"$f":"'Rozliczenie końcowe'!C607","v":0},{"$f":"'Rozliczenie końcowe'!D607","v":0},{"$f":"'Rozliczenie końcowe'!E607","v":0},{"$f":"'Rozliczenie końcowe'!F607","v":0},{"$f":"'Rozliczenie końcowe'!G607","v":"00:00:00"},{"$f":"'Rozliczenie końcowe'!H489","v":0},{"$f":"'Rozliczenie końcowe'!I489","v":0},{"$f":"'Rozliczenie końcowe'!J607","v":0},{"$f":"'Rozliczenie końcowe'!K607","v":0},{"$f":"'Rozliczenie końcowe'!L607","v":0}]
[{"$f":"'Rozliczenie końcowe'!A254","v":0},{"$f":"'Rozliczenie końcowe'!B608","v":""},{"$f":"'Rozliczenie końcowe'!C608","v":0},{"$f":"'Rozliczenie końcowe'!D608","v":0},{"$f":"'Rozliczenie końcowe'!E608","v":0},{"$f":"'Rozliczenie końcowe'!F608","v":0},{"$f":"'Rozliczenie końcowe'!G608","v":"00:00:00"},{"$f":"'Rozliczenie końcowe'!H490","v":0},{"$f":"'Rozliczenie końcowe'!I490","v":0},{"$f":"'Rozliczenie końcowe'!J608","v":0},{"$f":"'Rozliczenie końcowe'!K608","v":0},{"$f":"'Rozliczenie końcowe'!L608","v":0}]
[{"$f":"'Rozliczenie końcowe'!A255","v":0},{"$f":"'Rozliczenie końcowe'!B609","v":""},{"$f":"'Rozliczenie końcowe'!C609","v":0},{"$f":"'Rozliczenie końcowe'!D609","v":0},{"$f":"'Rozliczenie końcowe'!E609","v":0},{"$f":"'Rozliczenie końcowe'!F609","v":0},{"$f":"'Rozliczenie końcowe'!G609","v":"00:00:00"},{"$f":"'Rozliczenie końcowe'!H491","v":0},{"$f":"'Rozliczenie końcowe'!I491","v":0},{"$f":"'Rozliczenie końcowe'!J609","v":0},{"$f":"'Rozliczenie końcowe'!K609","v":0},{"$f":"'Rozliczenie końcowe'!L609","v":0}]
[{"$f":"'Rozliczenie końcowe'!A256","v":0},{"$f":"'Rozliczenie końcowe'!B610","v":""},{"$f":"'Rozliczenie końcowe'!C610","v":0},{"$f":"'Rozliczenie końcowe'!D610","v":0},{"$f":"'Rozliczenie końcowe'!E610","v":0},{"$f":"'Rozliczenie końcowe'!F610","v":0},{"$f":"'Rozliczenie końcowe'!G610","v":"00:00:00"},{"$f":"'Rozliczenie końcowe'!H492","v":0},{"$f":"'Rozliczenie końcowe'!I492","v":0},{"$f":"'Rozliczenie końcowe'!J610","v":0},{"$f":"'Rozliczenie końcowe'!K610","v":0},{"$f":"'Rozliczenie końcowe'!L610","v":0}]
[{"$f":"'Rozliczenie końcowe'!A257","v":0},{"$f":"'Rozliczenie końcowe'!B611","v":""},{"$f":"'Rozliczenie końcowe'!C611","v":0},{"$f":"'Rozliczenie końcowe'!D611","v":0},{"$f":"'Rozliczenie końcowe'!E611","v":0},{"$f":"'Rozliczenie końcowe'!F611","v":0},{"$f":"'Rozliczenie końcowe'!G611","v":"00:00:00"},{"$f":"'Rozliczenie końcowe'!H493","v":0},{"$f":"'Rozliczenie końcowe'!I493","v":0},{"$f":"'Rozliczenie końcowe'!J611","v":0},{"$f":"'Rozliczenie końcowe'!K611","v":0},{"$f":"'Rozliczenie końcowe'!L611","v":0}]
[{"$f":"'Rozliczenie końcowe'!A258","v":0},{"$f":"'Rozliczenie końcowe'!B612","v":""},{"$f":"'Rozliczenie końcowe'!C612","v":0},{"$f":"'Rozliczenie końcowe'!D612","v":0},{"$f":"'Rozliczenie końcowe'!E612","v":0},{"$f":"'Rozliczenie końcowe'!F612","v":0},{"$f":"'Rozliczenie końcowe'!G612","v":"00:00:00"},{"$f":"'Rozliczenie końcowe'!H494","v":0},{"$f":"'Rozliczenie końcowe'!I494","v":0},{"$f":"'Rozliczenie końcowe'!J612","v":0},{"$f":"'Rozliczenie końcowe'!K612","v":0},{"$f":"'Rozliczenie końcowe'!L612","v":0}]
[{"$f":"'Rozliczenie końcowe'!A259","v":0},{"$f":"'Rozliczenie końcowe'!B613","v":""},{"$f":"'Rozliczenie końcowe'!C613","v":0},{"$f":"'Rozliczenie końcowe'!D613","v":0},{"$f":"'Rozliczenie końcowe'!E613","v":0},{"$f":"'Rozliczenie końcowe'!F613","v":0},{"$f":"'Rozliczenie końcowe'!G613","v":"00:00:00"},{"$f":"'Rozliczenie końcowe'!H495","v":0},{"$f":"'Rozliczenie końcowe'!I495","v":0},{"$f":"'Rozliczenie końcowe'!J613","v":0},{"$f":"'Rozliczenie końcowe'!K613","v":0},{"$f":"'Rozliczenie końcowe'!L613","v":0}]
[{"$f":"'Rozliczenie końcowe'!A260","v":0},{"$f":"'Rozliczenie końcowe'!B614","v":""},{"$f":"'Rozliczenie końcowe'!C614","v":0},{"$f":"'Rozliczenie końcowe'!D614","v":0},{"$f":"'Rozliczenie końcowe'!E614","v":0},{"$f":"'Rozliczenie końcowe'!F614","v":0},{"$f":"'Rozliczenie końcowe'!G614","v":"00:00:00"},{"$f":"'Rozliczenie końcowe'!H496","v":0},{"$f":"'Rozliczenie końcowe'!I496","v":0},{"$f":"'Rozliczenie końcowe'!J614","v":0},{"$f":"'Rozliczenie końcowe'!K614","v":0},{"$f":"'Rozliczenie końcowe'!L614","v":0}]

{"sheet":"Weryfikacja I kw","index":11,"n_rows":115,"n_cols":31,"rows_kept":115,"cut":false,"hidden":true,"merged":[[0,1,0,11]]}
[null,"Dane z wniosku",null,null,null,null,null,null,null,null,null,null,"ok","Wer.",null,null,null,null,null,null,null,null,null,null,null,null,null,null,null,null,"Zgodność danych z załącznikiem nr 1"]
["l.p","NAZWA LINII","WOZOKILOMETRY","DEFICYT","CENA USŁUGI","WKŁAD WŁASNY/KM [ZŁ]","WKŁAD WŁASNY [%]","WKŁAD WŁASNY [ZŁ]","POBRANA KWOTA DOPŁATY","NALEŻNA KWOTA DOPŁATY","NIEWYKORZYSTANA KWOTA DOPŁATY","STAWKA MAX Z UMOWY","X",{"$f":"A2","v":"l.p"},"Cena usługi","Wkład własny/km [zł]","Wkład własny [%]","Wkład własny [zł]","Def z ceny usł","Kwota dopłaty","Max kwota dopł na podst wk. wł.","Max kwota dopł na podst wk wł/wzkm ","Kwota dopłaty/wozokm","10% z deficytu ","10 % z ceny usługi","warunek 10%","max 1 (3) zł/wzkm","Różnica w finansowaniu","Różnica def z zaokrągleń",null,{"$f":"IF(Miesiące!P11='Rozliczenie końcowe'!R196,'Weryfikacja I kw'!$M$1,'Weryfikacja I kw'!$M$2)","v":"ok"}]
[{"$f":"'Rozliczenie końcowe'!A151","v":0},{"$f":"'Rozliczenie końcowe'!B151","v":""},{"$f":"'Rozliczenie końcowe'!I151","v":0},{"$f":"'Rozliczenie końcowe'!L151","v":0},{"$f":"IFERROR(D3/C3,\"\")","v":""},{"$f":"IFERROR(ROUND(H3/C3,2),\"\")","v":""},{"$f":"IFERROR(ROUND(H3/D3,2),\"\")","v":""},{"$f":"'Rozliczenie końcowe'!C151","v":0},{"$f":"'Rozliczenie końcowe'!D151","v":0},{"$f":"'Rozliczenie końcowe'!E151","v":0},{"$f":"'Rozliczenie końcowe'!F151","v":0},3,null,0,{"$f":"IFERROR(D3/C3,0)","v":0},{"$f":"F3","v":""},{"$f":"IFERROR(P3/O3,0)","v":0},{"$f":"IFERROR(ROUND(P3*C3,2),\"\")","v":""},{"$f":"IFERROR(ROUND(E3*C3,2),\"\")","v":""},{"$f":"IFERROR(V3*C3,0)","v":0},{"$f":"V3*C3","v":0},{"$f":"IFERROR(IF((D3-H3)/C3>=$L$3,$L$3,(D3-H3)/C3),0)","v":0},{"$f":"IFERROR(ROUND(J3/C3,2),0)","v":0},{"$f":"D3*0.1","v":0},{"$f":"O3*0.1","v":0},{"$f":"IF(P3>=Y3,$M$1,$M$2)","v":"ok"},{"$f":"IF(W3<=$L$3,$M$1,$M$2)","v":"ok"},{"$f":"IFERROR((T3+R3)-D3,0)","v":0},{"$f":"IFERROR(D3-S3,0)","v":0}]
[{"$f":"'Rozliczenie końcowe'!A152","v":0},{"$f":"'Rozliczenie końcowe'!B152","v":""},{"$f":"'Rozliczenie końcowe'!I152","v":0},{"$f":"'Rozliczenie końcowe'!L152","v":0},{"$f":"IFERROR(D4/C4,\"\")","v":""},{"$f":"IFERROR(ROUND(H4/C4,2),\"\")","v":""},{"$f":"IFERROR(ROUND(H4/D4,2),\"\")","v":""},{"$f":"'Rozliczenie końcowe'!C152","v":0},{"$f":"'Rozliczenie końcowe'!D152","v":0},{"$f":"'Rozliczenie końcowe'!E152","v":0},{"$f":"'Rozliczenie końcowe'!F152","v":0},null,null,0,0,{"$f":"F4","v":""},{"$f":"IFERROR(P4/O4,0)","v":0},{"$f":"IFERROR(ROUND(P4*C4,2),\"\")","v":""},{"$f":"IFERROR(ROUND(E4*C4,2),\"\")","v":""},0,0,{"$f":"IFERROR(IF((D4-H4)/C4>=$L$3,$L$3,(D4-H4)/C4),0)","v":0},{"$f":"IFERROR(ROUND(J4/C4,2),0)","v":0},0,{"$f":"O4*0.1","v":0},{"$f":"IF(P4>=Y4,$M$1,$M$2)","v":"ok"},{"$f":"IF(W4<=$L$3,$M$1,$M$2)","v":"ok"},{"$f":"IFERROR((T4+R4)-D4,0)","v":0},{"$f":"IFERROR(D4-S4,0)","v":0}]
[{"$f":"'Rozliczenie końcowe'!A153","v":0},{"$f":"'Rozliczenie końcowe'!B153","v":""},{"$f":"'Rozliczenie końcowe'!I153","v":0},{"$f":"'Rozliczenie końcowe'!L153","v":0},"","","",{"$f":"'Rozliczenie końcowe'!C153","v":0},{"$f":"'Rozliczenie końcowe'!D153","v":0},{"$f":"'Rozliczenie końcowe'!E153","v":0},{"$f":"'Rozliczenie końcowe'!F153","v":0},null,null,0,0,"",0,"","",0,0,0,0,0,0,"ok","ok",0,0]
[{"$f":"'Rozliczenie końcowe'!A154","v":0},{"$f":"'Rozliczenie końcowe'!B154","v":""},{"$f":"'Rozliczenie końcowe'!I154","v":0},{"$f":"'Rozliczenie końcowe'!L154","v":0},"","","",{"$f":"'Rozliczenie końcowe'!C154","v":0},{"$f":"'Rozliczenie końcowe'!D154","v":0},{"$f":"'Rozliczenie końcowe'!E154","v":0},{"$f":"'Rozliczenie końcowe'!F154","v":0},null,null,0,0,"",0,"","",0,0,0,0,0,0,"ok","ok",0,0]
[{"$f":"'Rozliczenie końcowe'!A155","v":0},{"$f":"'Rozliczenie końcowe'!B155","v":""},{"$f":"'Rozliczenie końcowe'!I155","v":0},{"$f":"'Rozliczenie końcowe'!L155","v":0},"","","",{"$f":"'Rozliczenie końcowe'!C155","v":0},{"$f":"'Rozliczenie końcowe'!D155","v":0},{"$f":"'Rozliczenie końcowe'!E155","v":0},{"$f":"'Rozliczenie końcowe'!F155","v":0},null,null,0,0,"",0,"","",0,0,0,0,0,0,"ok","ok",0,0]
[{"$f":"'Rozliczenie końcowe'!A156","v":0},{"$f":"'Rozliczenie końcowe'!B156","v":""},{"$f":"'Rozliczenie końcowe'!I156","v":0},{"$f":"'Rozliczenie końcowe'!L156","v":0},"","","",{"$f":"'Rozliczenie końcowe'!C156","v":0},{"$f":"'Rozliczenie końcowe'!D156","v":0},{"$f":"'Rozliczenie końcowe'!E156","v":0},{"$f":"'Rozliczenie końcowe'!F156","v":0},null,null,0,0,"",0,"","",0,0,0,0,0,0,"ok","ok",0,0]
[{"$f":"'Rozliczenie końcowe'!A157","v":0},{"$f":"'Rozliczenie końcowe'!B157","v":""},{"$f":"'Rozliczenie końcowe'!I157","v":0},{"$f":"'Rozliczenie końcowe'!L157","v":0},"","","",{"$f":"'Rozliczenie końcowe'!C157","v":0},{"$f":"'Rozliczenie końcowe'!D157","v":0},{"$f":"'Rozliczenie końcowe'!E157","v":0},{"$f":"'Rozliczenie końcowe'!F157","v":0},null,null,0,0,"",0,"","",0,0,0,0,0,0,"ok","ok",0,0]
[{"$f":"'Rozliczenie końcowe'!A158","v":0},{"$f":"'Rozliczenie końcowe'!B158","v":""},{"$f":"'Rozliczenie końcowe'!I158","v":0},{"$f":"'Rozliczenie końcowe'!L158","v":0},"","","",{"$f":"'Rozliczenie końcowe'!C158","v":0},{"$f":"'Rozliczenie końcowe'!D158","v":0},{"$f":"'Rozliczenie końcowe'!E158","v":0},{"$f":"'Rozliczenie końcowe'!F158","v":0},null,null,0,0,"",0,"","",0,0,0,0,0,0,"ok","ok",0,0]
[{"$f":"'Rozliczenie końcowe'!A159","v":0},{"$f":"'Rozliczenie końcowe'!B159","v":""},{"$f":"'Rozliczenie końcowe'!I159","v":0},{"$f":"'Rozliczenie końcowe'!L159","v":0},"","","",{"$f":"'Rozliczenie końcowe'!C159","v":0},{"$f":"'Rozliczenie końcowe'!D159","v":0},{"$f":"'Rozliczenie końcowe'!E159","v":0},{"$f":"'Rozliczenie końcowe'!F159","v":0},null,null,0,0,"",0,"","",0,0,0,0,0,0,"ok","ok",0,0]
[{"$f":"'Rozliczenie końcowe'!A160","v":0},{"$f":"'Rozliczenie końcowe'!B160","v":""},{"$f":"'Rozliczenie końcowe'!I160","v":0},{"$f":"'Rozliczenie końcowe'!L160","v":0},"","","",{"$f":"'Rozliczenie końcowe'!C160","v":0},{"$f":"'Rozliczenie końcowe'!D160","v":0},{"$f":"'Rozliczenie końcowe'!E160","v":0},{"$f":"'Rozliczenie końcowe'!F160","v":0},null,null,0,0,"",0,"","",0,0,0,0,0,0,"ok","ok",0,0]
[{"$f":"'Rozliczenie końcowe'!A161","v":0},{"$f":"'Rozliczenie końcowe'!B161","v":""},{"$f":"'Rozliczenie końcowe'!I161","v":0},{"$f":"'Rozliczenie końcowe'!L161","v":0},"","","",{"$f":"'Rozliczenie końcowe'!C161","v":0},{"$f":"'Rozliczenie końcowe'!D161","v":0},{"$f":"'Rozliczenie końcowe'!E161","v":0},{"$f":"'Rozliczenie końcowe'!F161","v":0},null,null,0,0,"",0,"","",0,0,0,0,0,0,"ok","ok",0,0]
[{"$f":"'Rozliczenie końcowe'!A162","v":0},{"$f":"'Rozliczenie końcowe'!B162","v":""},{"$f":"'Rozliczenie końcowe'!I162","v":0},{"$f":"'Rozliczenie końcowe'!L162","v":0},"","","",{"$f":"'Rozliczenie końcowe'!C162","v":0},{"$f":"'Rozliczenie końcowe'!D162","v":0},{"$f":"'Rozliczenie końcowe'!E162","v":0},{"$f":"'Rozliczenie końcowe'!F162","v":0},null,null,0,0,"",0,"","",0,0,0,0,0,0,"ok","ok",0,0]
[{"$f":"'Rozliczenie końcowe'!A163","v":0},{"$f":"'Rozliczenie końcowe'!B163","v":""},{"$f":"'Rozliczenie końcowe'!I163","v":0},{"$f":"'Rozliczenie końcowe'!L163","v":0},"","","",{"$f":"'Rozliczenie końcowe'!C163","v":0},{"$f":"'Rozliczenie końcowe'!D163","v":0},{"$f":"'Rozliczenie końcowe'!E163","v":0},{"$f":"'Rozliczenie końcowe'!F163","v":0},null,null,0,0,"",0,"","",0,0,0,0,0,0,"ok","ok",0,0]
[{"$f":"'Rozliczenie końcowe'!A164","v":0},{"$f":"'Rozliczenie końcowe'!B164","v":""},{"$f":"'Rozliczenie końcowe'!I164","v":0},{"$f":"'Rozliczenie końcowe'!L164","v":0},"","","",{"$f":"'Rozliczenie końcowe'!C164","v":0},{"$f":"'Rozliczenie końcowe'!D164","v":0},{"$f":"'Rozliczenie końcowe'!E164","v":0},{"$f":"'Rozliczenie końcowe'!F164","v":0},null,null,0,0,"",0,"","",0,0,0,0,0,0,"ok","ok",0,0]
[{"$f":"'Rozliczenie końcowe'!A165","v":0},{"$f":"'Rozliczenie końcowe'!B165","v":""},{"$f":"'Rozliczenie końcowe'!I165","v":0},{"$f":"'Rozliczenie końcowe'!L165","v":0},"","","",{"$f":"'Rozliczenie końcowe'!C165","v":0},{"$f":"'Rozliczenie końcowe'!D165","v":0},{"$f":"'Rozliczenie końcowe'!E165","v":0},{"$f":"'Rozliczenie końcowe'!F165","v":0},null,null,0,0,"",0,"","",0,0,0,0,0,0,"ok","ok",0,0]
[{"$f":"'Rozliczenie końcowe'!A166","v":0},{"$f":"'Rozliczenie końcowe'!B166","v":""},{"$f":"'Rozliczenie końcowe'!I166","v":0},{"$f":"'Rozliczenie końcowe'!L166","v":0},"","","",{"$f":"'Rozliczenie końcowe'!C166","v":0},{"$f":"'Rozliczenie końcowe'!D166","v":0},{"$f":"'Rozliczenie końcowe'!E166","v":0},{"$f":"'Rozliczenie końcowe'!F166","v":0},null,null,0,0,"",0,"","",0,0,0,0,0,0,"ok","ok",0,0]
[{"$f":"'Rozliczenie końcowe'!A167","v":0},{"$f":"'Rozliczenie końcowe'!B167","v":""},{"$f":"'Rozliczenie końcowe'!I167","v":0},{"$f":"'Rozliczenie końcowe'!L167","v":0},"","","",{"$f":"'Rozliczenie końcowe'!C167","v":0},{"$f":"'Rozliczenie końcowe'!D167","v":0},{"$f":"'Rozliczenie końcowe'!E167","v":0},{"$f":"'Rozliczenie końcowe'!F167","v":0},null,null,0,0,"",0,"","",0,0,0,0,0,0,"ok","ok",0,0]
[{"$f":"'Rozliczenie końcowe'!A168","v":0},{"$f":"'Rozliczenie końcowe'!B168","v":""},{"$f":"'Rozliczenie końcowe'!I168","v":0},{"$f":"'Rozliczenie końcowe'!L168","v":0},"","","",{"$f":"'Rozliczenie końcowe'!C168","v":0},{"$f":"'Rozliczenie końcowe'!D168","v":0},{"$f":"'Rozliczenie końcowe'!E168","v":0},{"$f":"'Rozliczenie końcowe'!F168","v":0},null,null,0,0,"",0,"","",0,0,0,0,0,0,"ok","ok",0,0]
[{"$f":"'Rozliczenie końcowe'!A169","v":0},{"$f":"'Rozliczenie końcowe'!B169","v":""},{"$f":"'Rozliczenie końcowe'!I169","v":0},{"$f":"'Rozliczenie końcowe'!L169","v":0},"","","",{"$f":"'Rozliczenie końcowe'!C169","v":0},{"$f":"'Rozliczenie końcowe'!D169","v":0},{"$f":"'Rozliczenie końcowe'!E169","v":0},{"$f":"'Rozliczenie końcowe'!F169","v":0},null,null,0,0,"",0,"","",0,0,0,0,0,0,"ok","ok",0,0]
[{"$f":"'Rozliczenie końcowe'!A170","v":0},{"$f":"'Rozliczenie końcowe'!B170","v":""},{"$f":"'Rozliczenie końcowe'!I170","v":0},{"$f":"'Rozliczenie końcowe'!L170","v":0},"","","",{"$f":"'Rozliczenie końcowe'!C170","v":0},{"$f":"'Rozliczenie końcowe'!D170","v":0},{"$f":"'Rozliczenie końcowe'!E170","v":0},{"$f":"'Rozliczenie końcowe'!F170","v":0},null,null,0,0,"",0,"","",0,0,0,0,0,0,"ok","ok",0,0]
[{"$f":"'Rozliczenie końcowe'!A171","v":0},{"$f":"'Rozliczenie końcowe'!B171","v":""},{"$f":"'Rozliczenie końcowe'!I171","v":0},{"$f":"'Rozliczenie końcowe'!L171","v":0},"","","",{"$f":"'Rozliczenie końcowe'!C171","v":0},{"$f":"'Rozliczenie końcowe'!D171","v":0},{"$f":"'Rozliczenie końcowe'!E171","v":0},{"$f":"'Rozliczenie końcowe'!F171","v":0},null,null,0,0,"",0,"","",0,0,0,0,0,0,"ok","ok",0,0]
[{"$f":"'Rozliczenie końcowe'!A172","v":0},{"$f":"'Rozliczenie końcowe'!B172","v":""},{"$f":"'Rozliczenie końcowe'!I172","v":0},{"$f":"'Rozliczenie końcowe'!L172","v":0},"","","",{"$f":"'Rozliczenie końcowe'!C172","v":0},{"$f":"'Rozliczenie końcowe'!D172","v":0},{"$f":"'Rozliczenie końcowe'!E172","v":0},{"$f":"'Rozliczenie końcowe'!F172","v":0},null,null,0,0,"",0,"","",0,0,0,0,0,0,"ok","ok",0,0]
[{"$f":"'Rozliczenie końcowe'!A173","v":0},{"$f":"'Rozliczenie końcowe'!B173","v":""},{"$f":"'Rozliczenie końcowe'!I173","v":0},{"$f":"'Rozliczenie końcowe'!L173","v":0},"","","",{"$f":"'Rozliczenie końcowe'!C173","v":0},{"$f":"'Rozliczenie końcowe'!D173","v":0},{"$f":"'Rozliczenie końcowe'!E173","v":0},{"$f":"'Rozliczenie końcowe'!F173","v":0},null,null,0,0,"",0,"","",0,0,0,0,0,0,"ok","ok",0,0]
[{"$f":"'Rozliczenie końcowe'!A174","v":0},{"$f":"'Rozliczenie końcowe'!B174","v":""},{"$f":"'Rozliczenie końcowe'!I174","v":0},{"$f":"'Rozliczenie końcowe'!L174","v":0},"","","",{"$f":"'Rozliczenie końcowe'!C174","v":0},{"$f":"'Rozliczenie końcowe'!D174","v":0},{"$f":"'Rozliczenie końcowe'!E174","v":0},{"$f":"'Rozliczenie końcowe'!F174","v":0},null,null,0,0,"",0,"","",0,0,0,0,0,0,"ok","ok",0,0]
[{"$f":"'Rozliczenie końcowe'!A175","v":0},{"$f":"'Rozliczenie końcowe'!B175","v":""},{"$f":"'Rozliczenie końcowe'!I175","v":0},{"$f":"'Rozliczenie końcowe'!L175","v":0},"","","",{"$f":"'Rozliczenie końcowe'!C175","v":0},{"$f":"'Rozliczenie końcowe'!D175","v":0},{"$f":"'Rozliczenie końcowe'!E175","v":0},{"$f":"'Rozliczenie końcowe'!F175","v":0},null,null,0,0,"",0,"","",0,0,0,0,0,0,"ok","ok",0,0]
[{"$f":"'Rozliczenie końcowe'!A176","v":0},{"$f":"'Rozliczenie końcowe'!B176","v":""},{"$f":"'Rozliczenie końcowe'!I176","v":0},{"$f":"'Rozliczenie końcowe'!L176","v":0},"","","",{"$f":"'Rozliczenie końcowe'!C176","v":0},{"$f":"'Rozliczenie końcowe'!D176","v":0},{"$f":"'Rozliczenie końcowe'!E176","v":0},{"$f":"'Rozliczenie końcowe'!F176","v":0},null,null,0,0,"",0,"","",0,0,0,0,0,0,"ok","ok",0,0]
[{"$f":"'Rozliczenie końcowe'!A177","v":0},{"$f":"'Rozliczenie końcowe'!B177","v":""},{"$f":"'Rozliczenie końcowe'!I177","v":0},{"$f":"'Rozliczenie końcowe'!L177","v":0},"","","",{"$f":"'Rozliczenie końcowe'!C177","v":0},{"$f":"'Rozliczenie końcowe'!D177","v":0},{"$f":"'Rozliczenie końcowe'!E177","v":0},{"$f":"'Rozliczenie końcowe'!F177","v":0},null,null,0,0,"",0,"","",0,0,0,0,0,0,"ok","ok",0,0]
[{"$f":"'Rozliczenie końcowe'!A178","v":0},{"$f":"'Rozliczenie końcowe'!B178","v":""},{"$f":"'Rozliczenie końcowe'!I178","v":0},{"$f":"'Rozliczenie końcowe'!L178","v":0},"","","",{"$f":"'Rozliczenie końcowe'!C178","v":0},{"$f":"'Rozliczenie końcowe'!D178","v":0},{"$f":"'Rozliczenie końcowe'!E178","v":0},{"$f":"'Rozliczenie końcowe'!F178","v":0},null,null,0,0,"",0,"","",0,0,0,0,0,0,"ok","ok",0,0]
[{"$f":"'Rozliczenie końcowe'!A179","v":0},{"$f":"'Rozliczenie końcowe'!B179","v":""},{"$f":"'Rozliczenie końcowe'!I179","v":0},{"$f":"'Rozliczenie końcowe'!L179","v":0},"","","",{"$f":"'Rozliczenie końcowe'!C179","v":0},{"$f":"'Rozliczenie końcowe'!D179","v":0},{"$f":"'Rozliczenie końcowe'!E179","v":0},{"$f":"'Rozliczenie końcowe'!F179","v":0},null,null,0,0,"",0,"","",0,0,0,0,0,0,"ok","ok",0,0]
[{"$f":"'Rozliczenie końcowe'!A180","v":0},{"$f":"'Rozliczenie końcowe'!B180","v":""},{"$f":"'Rozliczenie końcowe'!I180","v":0},{"$f":"'Rozliczenie końcowe'!L180","v":0},"","","",{"$f":"'Rozliczenie końcowe'!C180","v":0},{"$f":"'Rozliczenie końcowe'!D180","v":0},{"$f":"'Rozliczenie końcowe'!E180","v":0},{"$f":"'Rozliczenie końcowe'!F180","v":0},null,null,0,0,"",0,"","",0,0,0,0,0,0,"ok","ok",0,0]
[{"$f":"'Rozliczenie końcowe'!A181","v":0},{"$f":"'Rozliczenie końcowe'!B181","v":""},{"$f":"'Rozliczenie końcowe'!I181","v":0},{"$f":"'Rozliczenie końcowe'!L181","v":0},"","","",{"$f":"'Rozliczenie końcowe'!C181","v":0},{"$f":"'Rozliczenie końcowe'!D181","v":0},{"$f":"'Rozliczenie końcowe'!E181","v":0},{"$f":"'Rozliczenie końcowe'!F181","v":0},null,null,0,0,"",0,"","",0,0,0,0,0,0,"ok","ok",0,0]
[{"$f":"'Rozliczenie końcowe'!A182","v":0},{"$f":"'Rozliczenie końcowe'!B182","v":""},{"$f":"'Rozliczenie końcowe'!I182","v":0},{"$f":"'Rozliczenie końcowe'!L182","v":0},"","","",{"$f":"'Rozliczenie końcowe'!C182","v":0},{"$f":"'Rozliczenie końcowe'!D182","v":0},{"$f":"'Rozliczenie końcowe'!E182","v":0},{"$f":"'Rozliczenie końcowe'!F182","v":0},null,null,{"$f":"A34","v":0},0,"",0,"","",0,0,0,0,0,0,"ok","ok",0,0]
[{"$f":"'Rozliczenie końcowe'!A183","v":0},{"$f":"'Rozliczenie końcowe'!B183","v":""},{"$f":"'Rozliczenie końcowe'!I183","v":0},{"$f":"'Rozliczenie końcowe'!L183","v":0},"","","",{"$f":"'Rozliczenie końcowe'!C183","v":0},{"$f":"'Rozliczenie końcowe'!D183","v":0},{"$f":"'Rozliczenie końcowe'!E183","v":0},{"$f":"'Rozliczenie końcowe'!F183","v":0},null,null,0,{"$f":"IFERROR(D35/C35,0)","v":0},"",0,"","",{"$f":"IFERROR(V35*C35,0)","v":0},{"$f":"V35*C35","v":0},{"$f":"IFERROR(IF((D35-H35)/C35>=$L$3,$L$3,(D35-H35)/C35),0)","v":0},0,{"$f":"D35*0.1","v":0},0,"ok","ok",0,0]
[{"$f":"'Rozliczenie końcowe'!A184","v":0},{"$f":"'Rozliczenie końcowe'!B184","v":""},{"$f":"'Rozliczenie końcowe'!I184","v":0},{"$f":"'Rozliczenie końcowe'!L184","v":0},"","","",{"$f":"'Rozliczenie końcowe'!C184","v":0},{"$f":"'Rozliczenie końcowe'!D184","v":0},{"$f":"'Rozliczenie końcowe'!E184","v":0},{"$f":"'Rozliczenie końcowe'!F184","v":0},null,null,0,0,"",0,"","",0,0,0,0,0,0,"ok","ok",0,0]
[{"$f":"'Rozliczenie końcowe'!A185","v":0},{"$f":"'Rozliczenie końcowe'!B185","v":""},{"$f":"'Rozliczenie końcowe'!I185","v":0},{"$f":"'Rozliczenie końcowe'!L185","v":0},"","","",{"$f":"'Rozliczenie końcowe'!C185","v":0},{"$f":"'Rozliczenie końcowe'!D185","v":0},{"$f":"'Rozliczenie końcowe'!E185","v":0},{"$f":"'Rozliczenie końcowe'!F185","v":0},null,null,0,0,"",0,"","",0,0,0,0,0,0,"ok","ok",0,0]
[{"$f":"'Rozliczenie końcowe'!A186","v":0},{"$f":"'Rozliczenie końcowe'!B186","v":""},{"$f":"'Rozliczenie końcowe'!I186","v":0},{"$f":"'Rozliczenie końcowe'!L186","v":0},"","","",{"$f":"'Rozliczenie końcowe'!C186","v":0},{"$f":"'Rozliczenie końcowe'!D186","v":0},{"$f":"'Rozliczenie końcowe'!E186","v":0},{"$f":"'Rozliczenie końcowe'!F186","v":0},null,null,0,0,"",0,"","",0,0,0,0,0,0,"ok","ok",0,0]
[{"$f":"'Rozliczenie końcowe'!A187","v":0},{"$f":"'Rozliczenie końcowe'!B187","v":""},{"$f":"'Rozliczenie końcowe'!I187","v":0},{"$f":"'Rozliczenie końcowe'!L187","v":0},"","","",{"$f":"'Rozliczenie końcowe'!C187","v":0},{"$f":"'Rozliczenie końcowe'!D187","v":0},{"$f":"'Rozliczenie końcowe'!E187","v":0},{"$f":"'Rozliczenie końcowe'!F187","v":0},null,null,0,0,"",0,"","",0,0,0,0,0,0,"ok","ok",0,0]
[{"$f":"'Rozliczenie końcowe'!A188","v":0},{"$f":"'Rozliczenie końcowe'!B188","v":""},{"$f":"'Rozliczenie końcowe'!I188","v":0},{"$f":"'Rozliczenie końcowe'!L188","v":0},"","","",{"$f":"'Rozliczenie końcowe'!C188","v":0},{"$f":"'Rozliczenie końcowe'!D188","v":0},{"$f":"'Rozliczenie końcowe'!E188","v":0},{"$f":"'Rozliczenie końcowe'!F188","v":0},null,null,0,0,"",0,"","",0,0,0,0,0,0,"ok","ok",0,0]
[{"$f":"'Rozliczenie końcowe'!A189","v":0},{"$f":"'Rozliczenie końcowe'!B189","v":""},{"$f":"'Rozliczenie końcowe'!I189","v":0},{"$f":"'Rozliczenie końcowe'!L189","v":0},"","","",{"$f":"'Rozliczenie końcowe'!C189","v":0},{"$f":"'Rozliczenie końcowe'!D189","v":0},{"$f":"'Rozliczenie końcowe'!E189","v":0},{"$f":"'Rozliczenie końcowe'!F189","v":0},null,null,0,0,"",0,"","",0,0,0,0,0,0,"ok","ok",0,0]
[{"$f":"'Rozliczenie końcowe'!A190","v":0},{"$f":"'Rozliczenie końcowe'!B190","v":""},{"$f":"'Rozliczenie końcowe'!I190","v":0},{"$f":"'Rozliczenie końcowe'!L190","v":0},"","","",{"$f":"'Rozliczenie końcowe'!C190","v":0},{"$f":"'Rozliczenie końcowe'!D190","v":0},{"$f":"'Rozliczenie końcowe'!E190","v":0},{"$f":"'Rozliczenie końcowe'!F190","v":0},null,null,0,0,"",0,"","",0,0,0,0,0,0,"ok","ok",0,0]
[{"$f":"'Rozliczenie końcowe'!A191","v":0},{"$f":"'Rozliczenie końcowe'!B191","v":""},{"$f":"'Rozliczenie końcowe'!I191","v":0},{"$f":"'Rozliczenie końcowe'!L191","v":0},"","","",{"$f":"'Rozliczenie końcowe'!C191","v":0},{"$f":"'Rozliczenie końcowe'!D191","v":0},{"$f":"'Rozliczenie końcowe'!E191","v":0},{"$f":"'Rozliczenie końcowe'!F191","v":0},null,null,0,0,"",0,"","",0,0,0,0,0,0,"ok","ok",0,0]
[{"$f":"'Rozliczenie końcowe'!A192","v":0},{"$f":"'Rozliczenie końcowe'!B192","v":""},{"$f":"'Rozliczenie końcowe'!I192","v":0},{"$f":"'Rozliczenie końcowe'!L192","v":0},"","","",{"$f":"'Rozliczenie końcowe'!C192","v":0},{"$f":"'Rozliczenie końcowe'!D192","v":0},{"$f":"'Rozliczenie końcowe'!E192","v":0},{"$f":"'Rozliczenie końcowe'!F192","v":0},null,null,0,0,"",0,"","",0,0,0,0,0,0,"ok","ok",0,0]
[{"$f":"'Rozliczenie końcowe'!A193","v":0},{"$f":"'Rozliczenie końcowe'!B193","v":""},{"$f":"'Rozliczenie końcowe'!I193","v":0},{"$f":"'Rozliczenie końcowe'!L193","v":0},"","","",{"$f":"'Rozliczenie końcowe'!C193","v":0},{"$f":"'Rozliczenie końcowe'!D193","v":0},{"$f":"'Rozliczenie końcowe'!E193","v":0},{"$f":"'Rozliczenie końcowe'!F193","v":0},null,null,0,0,"",0,"","",0,0,0,0,0,0,"ok","ok",0,0]
[{"$f":"'Rozliczenie końcowe'!A194","v":0},{"$f":"'Rozliczenie końcowe'!B194","v":""},{"$f":"'Rozliczenie końcowe'!I194","v":0},{"$f":"'Rozliczenie końcowe'!L194","v":0},"","","",{"$f":"'Rozliczenie końcowe'!C194","v":0},{"$f":"'Rozliczenie końcowe'!D194","v":0},{"$f":"'Rozliczenie końcowe'!E194","v":0},{"$f":"'Rozliczenie końcowe'!F194","v":0},null,null,0,0,"",0,"","",0,0,0,0,0,0,"ok","ok",0,0]
[{"$f":"'Rozliczenie końcowe'!A195","v":0},{"$f":"'Rozliczenie końcowe'!B195","v":""},{"$f":"'Rozliczenie końcowe'!I195","v":0},{"$f":"'Rozliczenie końcowe'!L195","v":0},"","","",{"$f":"'Rozliczenie końcowe'!C195","v":0},{"$f":"'Rozliczenie końcowe'!D195","v":0},{"$f":"'Rozliczenie końcowe'!E195","v":0},{"$f":"'Rozliczenie końcowe'!F195","v":0},null,null,0,0,"",0,"","",0,0,0,0,0,0,"ok","ok",0,0]
[{"$f":"'Rozliczenie końcowe'!A196","v":0},{"$f":"'Rozliczenie końcowe'!B196","v":""},{"$f":"'Rozliczenie końcowe'!I196","v":0},{"$f":"'Rozliczenie końcowe'!L196","v":0},"","","",{"$f":"'Rozliczenie końcowe'!C196","v":0},{"$f":"'Rozliczenie końcowe'!D196","v":0},{"$f":"'Rozliczenie końcowe'!E196","v":0},{"$f":"'Rozliczenie końcowe'!F196","v":0},null,null,0,0,"",0,"","",0,0,0,0,0,0,"ok","ok",0,0]
[{"$f":"'Rozliczenie końcowe'!A197","v":0},{"$f":"'Rozliczenie końcowe'!B197","v":""},{"$f":"'Rozliczenie końcowe'!I197","v":0},{"$f":"'Rozliczenie końcowe'!L197","v":0},"","","",{"$f":"'Rozliczenie końcowe'!C197","v":0},{"$f":"'Rozliczenie końcowe'!D197","v":0},{"$f":"'Rozliczenie końcowe'!E197","v":0},{"$f":"'Rozliczenie końcowe'!F197","v":0},null,null,0,0,"",0,"","",0,0,0,0,0,0,"ok","ok",0,0]
[{"$f":"'Rozliczenie końcowe'!A198","v":0},{"$f":"'Rozliczenie końcowe'!B198","v":""},{"$f":"'Rozliczenie końcowe'!I198","v":0},{"$f":"'Rozliczenie końcowe'!L198","v":0},"","","",{"$f":"'Rozliczenie końcowe'!C198","v":0},{"$f":"'Rozliczenie końcowe'!D198","v":0},{"$f":"'Rozliczenie końcowe'!E198","v":0},{"$f":"'Rozliczenie końcowe'!F198","v":0},null,null,0,0,"",0,"","",0,0,0,0,0,0,"ok","ok",0,0]
[{"$f":"'Rozliczenie końcowe'!A199","v":0},{"$f":"'Rozliczenie końcowe'!B199","v":""},{"$f":"'Rozliczenie końcowe'!I199","v":0},{"$f":"'Rozliczenie końcowe'!L199","v":0},"","","",{"$f":"'Rozliczenie końcowe'!C199","v":0},{"$f":"'Rozliczenie końcowe'!D199","v":0},{"$f":"'Rozliczenie końcowe'!E199","v":0},{"$f":"'Rozliczenie końcowe'!F199","v":0},null,null,0,0,"",0,"","",0,0,0,0,0,0,"ok","ok",0,0]
[{"$f":"'Rozliczenie końcowe'!A200","v":0},{"$f":"'Rozliczenie końcowe'!B200","v":""},{"$f":"'Rozliczenie końcowe'!I200","v":0},{"$f":"'Rozliczenie końcowe'!L200","v":0},"","","",{"$f":"'Rozliczenie końcowe'!C200","v":0},{"$f":"'Rozliczenie końcowe'!D200","v":0},{"$f":"'Rozliczenie końcowe'!E200","v":0},{"$f":"'Rozliczenie końcowe'!F200","v":0},null,null,0,0,"",0,"","",0,0,0,0,0,0,"ok","ok",0,0]
[{"$f":"'Rozliczenie końcowe'!A201","v":0},{"$f":"'Rozliczenie końcowe'!B201","v":""},{"$f":"'Rozliczenie końcowe'!I201","v":0},{"$f":"'Rozliczenie końcowe'!L201","v":0},"","","",{"$f":"'Rozliczenie końcowe'!C201","v":0},{"$f":"'Rozliczenie końcowe'!D201","v":0},{"$f":"'Rozliczenie końcowe'!E201","v":0},{"$f":"'Rozliczenie końcowe'!F201","v":0},null,null,0,0,"",0,"","",0,0,0,0,0,0,"ok","ok",0,0]
[{"$f":"'Rozliczenie końcowe'!A202","v":0},{"$f":"'Rozliczenie końcowe'!B202","v":""},{"$f":"'Rozliczenie końcowe'!I202","v":0},{"$f":"'Rozliczenie końcowe'!L202","v":0},"","","",{"$f":"'Rozliczenie końcowe'!C202","v":0},{"$f":"'Rozliczenie końcowe'!D202","v":0},{"$f":"'Rozliczenie końcowe'!E202","v":0},{"$f":"'Rozliczenie końcowe'!F202","v":0},null,null,0,0,"",0,"","",0,0,0,0,0,0,"ok","ok",0,0]
[{"$f":"'Rozliczenie końcowe'!A203","v":0},{"$f":"'Rozliczenie końcowe'!B203","v":""},{"$f":"'Rozliczenie końcowe'!I203","v":0},{"$f":"'Rozliczenie końcowe'!L203","v":0},"","","",{"$f":"'Rozliczenie końcowe'!C203","v":0},{"$f":"'Rozliczenie końcowe'!D203","v":0},{"$f":"'Rozliczenie końcowe'!E203","v":0},{"$f":"'Rozliczenie końcowe'!F203","v":0},null,null,0,0,"",0,"","",0,0,0,0,0,0,"ok","ok",0,0]
[{"$f":"'Rozliczenie końcowe'!A204","v":0},{"$f":"'Rozliczenie końcowe'!B204","v":""},{"$f":"'Rozliczenie końcowe'!I204","v":0},{"$f":"'Rozliczenie końcowe'!L204","v":0},"","","",{"$f":"'Rozliczenie końcowe'!C204","v":0},{"$f":"'Rozliczenie końcowe'!D204","v":0},{"$f":"'Rozliczenie końcowe'!E204","v":0},{"$f":"'Rozliczenie końcowe'!F204","v":0},null,null,0,0,"",0,"","",0,0,0,0,0,0,"ok","ok",0,0]
[{"$f":"'Rozliczenie końcowe'!A205","v":0},{"$f":"'Rozliczenie końcowe'!B205","v":""},{"$f":"'Rozliczenie końcowe'!I205","v":0},{"$f":"'Rozliczenie końcowe'!L205","v":0},"","","",{"$f":"'Rozliczenie końcowe'!C205","v":0},{"$f":"'Rozliczenie końcowe'!D205","v":0},{"$f":"'Rozliczenie końcowe'!E205","v":0},{"$f":"'Rozliczenie końcowe'!F205","v":0},null,null,0,0,"",0,"","",0,0,0,0,0,0,"ok","ok",0,0]
[{"$f":"'Rozliczenie końcowe'!A206","v":0},{"$f":"'Rozliczenie końcowe'!B206","v":""},{"$f":"'Rozliczenie końcowe'!I206","v":0},{"$f":"'Rozliczenie końcowe'!L206","v":0},"","","",{"$f":"'Rozliczenie końcowe'!C206","v":0},{"$f":"'Rozliczenie końcowe'!D206","v":0},{"$f":"'Rozliczenie końcowe'!E206","v":0},{"$f":"'Rozliczenie końcowe'!F206","v":0},null,null,0,0,"",0,"","",0,0,0,0,0,0,"ok","ok",0,0]
[{"$f":"'Rozliczenie końcowe'!A207","v":0},{"$f":"'Rozliczenie końcowe'!B207","v":""},{"$f":"'Rozliczenie końcowe'!I207","v":0},{"$f":"'Rozliczenie końcowe'!L207","v":0},"","","",{"$f":"'Rozliczenie końcowe'!C207","v":0},{"$f":"'Rozliczenie końcowe'!D207","v":0},{"$f":"'Rozliczenie końcowe'!E207","v":0},{"$f":"'Rozliczenie końcowe'!F207","v":0},null,null,0,0,"",0,"","",0,0,0,0,0,0,"ok","ok",0,0]
[{"$f":"'Rozliczenie końcowe'!A208","v":0},{"$f":"'Rozliczenie końcowe'!B208","v":""},{"$f":"'Rozliczenie końcowe'!I208","v":0},{"$f":"'Rozliczenie końcowe'!L208","v":0},"","","",{"$f":"'Rozliczenie końcowe'!C208","v":0},{"$f":"'Rozliczenie końcowe'!D208","v":0},{"$f":"'Rozliczenie końcowe'!E208","v":0},{"$f":"'Rozliczenie końcowe'!F208","v":0},null,null,0,0,"",0,"","",0,0,0,0,0,0,"ok","ok",0,0]
[{"$f":"'Rozliczenie końcowe'!A209","v":0},{"$f":"'Rozliczenie końcowe'!B209","v":""},{"$f":"'Rozliczenie końcowe'!I209","v":0},{"$f":"'Rozliczenie końcowe'!L209","v":0},"","","",{"$f":"'Rozliczenie końcowe'!C209","v":0},{"$f":"'Rozliczenie końcowe'!D209","v":0},{"$f":"'Rozliczenie końcowe'!E209","v":0},{"$f":"'Rozliczenie końcowe'!F209","v":0},null,null,0,0,"",0,"","",0,0,0,0,0,0,"ok","ok",0,0]
[{"$f":"'Rozliczenie końcowe'!A210","v":0},{"$f":"'Rozliczenie końcowe'!B210","v":""},{"$f":"'Rozliczenie końcowe'!I210","v":0},{"$f":"'Rozliczenie końcowe'!L210","v":0},"","","",{"$f":"'Rozliczenie końcowe'!C210","v":0},{"$f":"'Rozliczenie końcowe'!D210","v":0},{"$f":"'Rozliczenie końcowe'!E210","v":0},{"$f":"'Rozliczenie końcowe'!F210","v":0},null,null,0,0,"",0,"","",0,0,0,0,0,0,"ok","ok",0,0]
[{"$f":"'Rozliczenie końcowe'!A211","v":0},{"$f":"'Rozliczenie końcowe'!B211","v":""},{"$f":"'Rozliczenie końcowe'!I211","v":0},{"$f":"'Rozliczenie końcowe'!L211","v":0},"","","",{"$f":"'Rozliczenie końcowe'!C211","v":0},{"$f":"'Rozliczenie końcowe'!D211","v":0},{"$f":"'Rozliczenie końcowe'!E211","v":0},{"$f":"'Rozliczenie końcowe'!F211","v":0},null,null,0,0,{"$f":"F63","v":""},{"$f":"IFERROR(P63/O63,0)","v":0},"","",0,0,0,0,0,0,"ok","ok",0,0]
[{"$f":"'Rozliczenie końcowe'!A212","v":0},{"$f":"'Rozliczenie końcowe'!B212","v":""},{"$f":"'Rozliczenie końcowe'!I212","v":0},{"$f":"'Rozliczenie końcowe'!L212","v":0},"","","",{"$f":"'Rozliczenie końcowe'!C212","v":0},{"$f":"'Rozliczenie końcowe'!D212","v":0},{"$f":"'Rozliczenie końcowe'!E212","v":0},{"$f":"'Rozliczenie końcowe'!F212","v":0},null,null,0,0,{"$f":"F64","v":""},{"$f":"IFERROR(P64/O64,0)","v":0},"","",0,0,0,0,0,{"$f":"O64*0.1","v":0},{"$f":"IF(P64>=Y64,$M$1,$M$2)","v":"ok"},{"$f":"IF(W64<=$L$3,$M$1,$M$2)","v":"ok"},0,0]
[{"$f":"'Rozliczenie końcowe'!A213","v":0},{"$f":"'Rozliczenie końcowe'!B213","v":""},{"$f":"'Rozliczenie końcowe'!I213","v":0},{"$f":"'Rozliczenie końcowe'!L213","v":0},"","","",{"$f":"'Rozliczenie końcowe'!C213","v":0},{"$f":"'Rozliczenie końcowe'!D213","v":0},{"$f":"'Rozliczenie końcowe'!E213","v":0},{"$f":"'Rozliczenie końcowe'!F213","v":0},null,null,0,0,"",0,"","",0,0,0,0,0,0,"ok","ok",0,0]
[{"$f":"'Rozliczenie końcowe'!A214","v":0},{"$f":"'Rozliczenie końcowe'!B214","v":""},{"$f":"'Rozliczenie końcowe'!I214","v":0},{"$f":"'Rozliczenie końcowe'!L214","v":0},"","","",{"$f":"'Rozliczenie końcowe'!C214","v":0},{"$f":"'Rozliczenie końcowe'!D214","v":0},{"$f":"'Rozliczenie końcowe'!E214","v":0},{"$f":"'Rozliczenie końcowe'!F214","v":0},null,null,{"$f":"A66","v":0},0,"",0,"","",0,0,0,0,0,0,"ok","ok",0,0]
[{"$f":"'Rozliczenie końcowe'!A215","v":0},{"$f":"'Rozliczenie końcowe'!B215","v":""},{"$f":"'Rozliczenie końcowe'!I215","v":0},{"$f":"'Rozliczenie końcowe'!L215","v":0},"","","",{"$f":"'Rozliczenie końcowe'!C215","v":0},{"$f":"'Rozliczenie końcowe'!D215","v":0},{"$f":"'Rozliczenie końcowe'!E215","v":0},{"$f":"'Rozliczenie końcowe'!F215","v":0},null,null,0,{"$f":"IFERROR(D67/C67,0)","v":0},"",0,"","",{"$f":"IFERROR(V67*C67,0)","v":0},{"$f":"V67*C67","v":0},{"$f":"IFERROR(IF((D67-H67)/C67>=$L$3,$L$3,(D67-H67)/C67),0)","v":0},0,{"$f":"D67*0.1","v":0},0,"ok","ok",0,0]
[{"$f":"'Rozliczenie końcowe'!A216","v":0},{"$f":"'Rozliczenie końcowe'!B216","v":""},{"$f":"'Rozliczenie końcowe'!I216","v":0},{"$f":"'Rozliczenie końcowe'!L216","v":0},{"$f":"IFERROR(D68/C68,\"\")","v":""},{"$f":"IFERROR(ROUND(H68/C68,2),\"\")","v":""},{"$f":"IFERROR(ROUND(H68/D68,2),\"\")","v":""},{"$f":"'Rozliczenie końcowe'!C216","v":0},{"$f":"'Rozliczenie końcowe'!D216","v":0},{"$f":"'Rozliczenie końcowe'!E216","v":0},{"$f":"'Rozliczenie końcowe'!F216","v":0},null,null,0,0,"",0,{"$f":"IFERROR(ROUND(P68*C68,2),\"\")","v":""},{"$f":"IFERROR(ROUND(E68*C68,2),\"\")","v":""},0,0,0,{"$f":"IFERROR(ROUND(J68/C68,2),0)","v":0},0,0,"ok","ok",{"$f":"IFERROR((T68+R68)-D68,0)","v":0},{"$f":"IFERROR(D68-S68,0)","v":0}]
[{"$f":"'Rozliczenie końcowe'!A217","v":0},{"$f":"'Rozliczenie końcowe'!B217","v":""},{"$f":"'Rozliczenie końcowe'!I217","v":0},{"$f":"'Rozliczenie końcowe'!L217","v":0},"","","",{"$f":"'Rozliczenie końcowe'!C217","v":0},{"$f":"'Rozliczenie końcowe'!D217","v":0},{"$f":"'Rozliczenie końcowe'!E217","v":0},{"$f":"'Rozliczenie końcowe'!F217","v":0},null,null,0,0,"",0,"","",0,0,0,0,0,0,"ok","ok",0,0]
[{"$f":"'Rozliczenie końcowe'!A218","v":0},{"$f":"'Rozliczenie końcowe'!B218","v":""},{"$f":"'Rozliczenie końcowe'!I218","v":0},{"$f":"'Rozliczenie końcowe'!L218","v":0},"","","",{"$f":"'Rozliczenie końcowe'!C218","v":0},{"$f":"'Rozliczenie końcowe'!D218","v":0},{"$f":"'Rozliczenie końcowe'!E218","v":0},{"$f":"'Rozliczenie końcowe'!F218","v":0},null,null,0,0,"",0,"","",0,0,0,0,0,0,"ok","ok",0,0]
[{"$f":"'Rozliczenie końcowe'!A219","v":0},{"$f":"'Rozliczenie końcowe'!B219","v":""},{"$f":"'Rozliczenie końcowe'!I219","v":0},{"$f":"'Rozliczenie końcowe'!L219","v":0},"","","",{"$f":"'Rozliczenie końcowe'!C219","v":0},{"$f":"'Rozliczenie końcowe'!D219","v":0},{"$f":"'Rozliczenie końcowe'!E219","v":0},{"$f":"'Rozliczenie końcowe'!F219","v":0},null,null,0,0,"",0,"","",0,0,0,0,0,0,"ok","ok",0,0]
[{"$f":"'Rozliczenie końcowe'!A220","v":0},{"$f":"'Rozliczenie końcowe'!B220","v":""},{"$f":"'Rozliczenie końcowe'!I220","v":0},{"$f":"'Rozliczenie końcowe'!L220","v":0},"","","",{"$f":"'Rozliczenie końcowe'!C220","v":0},{"$f":"'Rozliczenie końcowe'!D220","v":0},{"$f":"'Rozliczenie końcowe'!E220","v":0},{"$f":"'Rozliczenie końcowe'!F220","v":0},null,null,0,0,"",0,"","",0,0,0,0,0,0,"ok","ok",0,0]
[{"$f":"'Rozliczenie końcowe'!A221","v":0},{"$f":"'Rozliczenie końcowe'!B221","v":""},{"$f":"'Rozliczenie końcowe'!I221","v":0},{"$f":"'Rozliczenie końcowe'!L221","v":0},"","","",{"$f":"'Rozliczenie końcowe'!C221","v":0},{"$f":"'Rozliczenie końcowe'!D221","v":0},{"$f":"'Rozliczenie końcowe'!E221","v":0},{"$f":"'Rozliczenie końcowe'!F221","v":0},null,null,0,0,{"$f":"F73","v":""},{"$f":"IFERROR(P73/O73,0)","v":0},"","",0,0,0,0,0,0,"ok","ok",0,0]
[{"$f":"'Rozliczenie końcowe'!A222","v":0},{"$f":"'Rozliczenie końcowe'!B222","v":""},{"$f":"'Rozliczenie końcowe'!I222","v":0},{"$f":"'Rozliczenie końcowe'!L222","v":0},"","","",{"$f":"'Rozliczenie końcowe'!C222","v":0},{"$f":"'Rozliczenie końcowe'!D222","v":0},{"$f":"'Rozliczenie końcowe'!E222","v":0},{"$f":"'Rozliczenie końcowe'!F222","v":0},null,null,0,0,{"$f":"F74","v":""},{"$f":"IFERROR(P74/O74,0)","v":0},"","",0,0,0,0,0,0,"ok","ok",0,0]
[{"$f":"'Rozliczenie końcowe'!A223","v":0},{"$f":"'Rozliczenie końcowe'!B223","v":""},{"$f":"'Rozliczenie końcowe'!I223","v":0},{"$f":"'Rozliczenie końcowe'!L223","v":0},"","","",{"$f":"'Rozliczenie końcowe'!C223","v":0},{"$f":"'Rozliczenie końcowe'!D223","v":0},{"$f":"'Rozliczenie końcowe'!E223","v":0},{"$f":"'Rozliczenie końcowe'!F223","v":0},null,null,0,0,"",0,"","",0,0,0,0,0,0,"ok","ok",0,0]
[{"$f":"'Rozliczenie końcowe'!A224","v":0},{"$f":"'Rozliczenie końcowe'!B224","v":""},{"$f":"'Rozliczenie końcowe'!I224","v":0},{"$f":"'Rozliczenie końcowe'!L224","v":0},"","","",{"$f":"'Rozliczenie końcowe'!C224","v":0},{"$f":"'Rozliczenie końcowe'!D224","v":0},{"$f":"'Rozliczenie końcowe'!E224","v":0},{"$f":"'Rozliczenie końcowe'!F224","v":0},null,null,{"$f":"A76","v":0},0,"",0,"","",0,0,0,0,0,0,"ok","ok",0,0]
[{"$f":"'Rozliczenie końcowe'!A225","v":0},{"$f":"'Rozliczenie końcowe'!B225","v":""},{"$f":"'Rozliczenie końcowe'!I225","v":0},{"$f":"'Rozliczenie końcowe'!L225","v":0},"","","",{"$f":"'Rozliczenie końcowe'!C225","v":0},{"$f":"'Rozliczenie końcowe'!D225","v":0},{"$f":"'Rozliczenie końcowe'!E225","v":0},{"$f":"'Rozliczenie końcowe'!F225","v":0},null,null,0,0,"",0,"","",0,0,0,0,0,0,"ok","ok",0,0]
[{"$f":"'Rozliczenie końcowe'!A226","v":0},{"$f":"'Rozliczenie końcowe'!B226","v":""},{"$f":"'Rozliczenie końcowe'!I226","v":0},{"$f":"'Rozliczenie końcowe'!L226","v":0},"","","",{"$f":"'Rozliczenie końcowe'!C226","v":0},{"$f":"'Rozliczenie końcowe'!D226","v":0},{"$f":"'Rozliczenie końcowe'!E226","v":0},{"$f":"'Rozliczenie końcowe'!F226","v":0},null,null,0,0,"",0,"","",0,0,0,0,0,0,"ok","ok",0,0]
[{"$f":"'Rozliczenie końcowe'!A227","v":0},{"$f":"'Rozliczenie końcowe'!B227","v":""},{"$f":"'Rozliczenie końcowe'!I227","v":0},{"$f":"'Rozliczenie końcowe'!L227","v":0},"","","",{"$f":"'Rozliczenie końcowe'!C227","v":0},{"$f":"'Rozliczenie końcowe'!D227","v":0},{"$f":"'Rozliczenie końcowe'!E227","v":0},{"$f":"'Rozliczenie końcowe'!F227","v":0},null,null,0,0,"",0,"","",0,0,0,0,0,0,"ok","ok",0,0]
[{"$f":"'Rozliczenie końcowe'!A228","v":0},{"$f":"'Rozliczenie końcowe'!B228","v":""},{"$f":"'Rozliczenie końcowe'!I228","v":0},{"$f":"'Rozliczenie końcowe'!L228","v":0},"","","",{"$f":"'Rozliczenie końcowe'!C228","v":0},{"$f":"'Rozliczenie końcowe'!D228","v":0},{"$f":"'Rozliczenie końcowe'!E228","v":0},{"$f":"'Rozliczenie końcowe'!F228","v":0},null,null,0,0,"",0,"","",0,0,0,0,0,0,"ok","ok",0,0]
[{"$f":"'Rozliczenie końcowe'!A229","v":0},{"$f":"'Rozliczenie końcowe'!B229","v":""},{"$f":"'Rozliczenie końcowe'!I229","v":0},{"$f":"'Rozliczenie końcowe'!L229","v":0},"","","",{"$f":"'Rozliczenie końcowe'!C229","v":0},{"$f":"'Rozliczenie końcowe'!D229","v":0},{"$f":"'Rozliczenie końcowe'!E229","v":0},{"$f":"'Rozliczenie końcowe'!F229","v":0},null,null,0,0,"",0,"","",0,0,0,0,0,0,"ok","ok",0,0]
[{"$f":"'Rozliczenie końcowe'!A230","v":0},{"$f":"'Rozliczenie końcowe'!B230","v":""},{"$f":"'Rozliczenie końcowe'!I230","v":0},{"$f":"'Rozliczenie końcowe'!L230","v":0},"","","",{"$f":"'Rozliczenie końcowe'!C230","v":0},{"$f":"'Rozliczenie końcowe'!D230","v":0},{"$f":"'Rozliczenie końcowe'!E230","v":0},{"$f":"'Rozliczenie końcowe'!F230","v":0},null,null,0,0,"",0,"","",0,0,0,0,0,0,"ok","ok",0,0]
[{"$f":"'Rozliczenie końcowe'!A231","v":0},{"$f":"'Rozliczenie końcowe'!B231","v":""},{"$f":"'Rozliczenie końcowe'!I231","v":0},{"$f":"'Rozliczenie końcowe'!L231","v":0},"","","",{"$f":"'Rozliczenie końcowe'!C231","v":0},{"$f":"'Rozliczenie końcowe'!D231","v":0},{"$f":"'Rozliczenie końcowe'!E231","v":0},{"$f":"'Rozliczenie końcowe'!F231","v":0},null,null,0,0,"",0,"","",0,0,0,0,0,0,"ok","ok",0,0]
[{"$f":"'Rozliczenie końcowe'!A232","v":0},{"$f":"'Rozliczenie końcowe'!B232","v":""},{"$f":"'Rozliczenie końcowe'!I232","v":0},{"$f":"'Rozliczenie końcowe'!L232","v":0},"","","",{"$f":"'Rozliczenie końcowe'!C232","v":0},{"$f":"'Rozliczenie końcowe'!D232","v":0},{"$f":"'Rozliczenie końcowe'!E232","v":0},{"$f":"'Rozliczenie końcowe'!F232","v":0},null,null,0,0,"",0,"","",0,0,0,0,0,0,"ok","ok",0,0]
[{"$f":"'Rozliczenie końcowe'!A233","v":0},{"$f":"'Rozliczenie końcowe'!B233","v":""},{"$f":"'Rozliczenie końcowe'!I233","v":0},{"$f":"'Rozliczenie końcowe'!L233","v":0},"","","",{"$f":"'Rozliczenie końcowe'!C233","v":0},{"$f":"'Rozliczenie końcowe'!D233","v":0},{"$f":"'Rozliczenie końcowe'!E233","v":0},{"$f":"'Rozliczenie końcowe'!F233","v":0},null,null,0,0,"",0,"","",0,0,0,0,0,0,"ok","ok",0,0]
[{"$f":"'Rozliczenie końcowe'!A234","v":0},{"$f":"'Rozliczenie końcowe'!B234","v":""},{"$f":"'Rozliczenie końcowe'!I234","v":0},{"$f":"'Rozliczenie końcowe'!L234","v":0},"","","",{"$f":"'Rozliczenie końcowe'!C234","v":0},{"$f":"'Rozliczenie końcowe'!D234","v":0},{"$f":"'Rozliczenie końcowe'!E234","v":0},{"$f":"'Rozliczenie końcowe'!F234","v":0},null,null,0,0,"",0,"","",0,0,0,0,0,0,"ok","ok",0,0]
[{"$f":"'Rozliczenie końcowe'!A235","v":0},{"$f":"'Rozliczenie końcowe'!B235","v":""},{"$f":"'Rozliczenie końcowe'!I235","v":0},{"$f":"'Rozliczenie końcowe'!L235","v":0},"","","",{"$f":"'Rozliczenie końcowe'!C235","v":0},{"$f":"'Rozliczenie końcowe'!D235","v":0},{"$f":"'Rozliczenie końcowe'!E235","v":0},{"$f":"'Rozliczenie końcowe'!F235","v":0},null,null,0,0,"",0,"","",0,0,0,0,0,0,"ok","ok",0,0]
[{"$f":"'Rozliczenie końcowe'!A236","v":0},{"$f":"'Rozliczenie końcowe'!B236","v":""},{"$f":"'Rozliczenie końcowe'!I236","v":0},{"$f":"'Rozliczenie końcowe'!L236","v":0},"","","",{"$f":"'Rozliczenie końcowe'!C236","v":0},{"$f":"'Rozliczenie końcowe'!D236","v":0},{"$f":"'Rozliczenie końcowe'!E236","v":0},{"$f":"'Rozliczenie końcowe'!F236","v":0},null,null,0,0,"",0,"","",0,0,0,0,0,0,"ok","ok",0,0]
[{"$f":"'Rozliczenie końcowe'!A237","v":0},{"$f":"'Rozliczenie końcowe'!B237","v":""},{"$f":"'Rozliczenie końcowe'!I237","v":0},{"$f":"'Rozliczenie końcowe'!L237","v":0},"","","",{"$f":"'Rozliczenie końcowe'!C237","v":0},{"$f":"'Rozliczenie końcowe'!D237","v":0},{"$f":"'Rozliczenie końcowe'!E237","v":0},{"$f":"'Rozliczenie końcowe'!F237","v":0},null,null,0,0,"",0,"","",0,0,0,0,0,0,"ok","ok",0,0]
[{"$f":"'Rozliczenie końcowe'!A238","v":0},{"$f":"'Rozliczenie końcowe'!B238","v":""},{"$f":"'Rozliczenie końcowe'!I238","v":0},{"$f":"'Rozliczenie końcowe'!L238","v":0},"","","",{"$f":"'Rozliczenie końcowe'!C238","v":0},{"$f":"'Rozliczenie końcowe'!D238","v":0},{"$f":"'Rozliczenie końcowe'!E238","v":0},{"$f":"'Rozliczenie końcowe'!F238","v":0},null,null,0,0,"",0,"","",0,0,0,0,0,0,"ok","ok",0,0]
[{"$f":"'Rozliczenie końcowe'!A239","v":0},{"$f":"'Rozliczenie końcowe'!B239","v":""},{"$f":"'Rozliczenie końcowe'!I239","v":0},{"$f":"'Rozliczenie końcowe'!L239","v":0},"","","",{"$f":"'Rozliczenie końcowe'!C239","v":0},{"$f":"'Rozliczenie końcowe'!D239","v":0},{"$f":"'Rozliczenie końcowe'!E239","v":0},{"$f":"'Rozliczenie końcowe'!F239","v":0},null,null,0,0,"",0,"","",0,0,0,0,0,0,"ok","ok",0,0]
[{"$f":"'Rozliczenie końcowe'!A240","v":0},{"$f":"'Rozliczenie końcowe'!B240","v":""},{"$f":"'Rozliczenie końcowe'!I240","v":0},{"$f":"'Rozliczenie końcowe'!L240","v":0},"","","",{"$f":"'Rozliczenie końcowe'!C240","v":0},{"$f":"'Rozliczenie końcowe'!D240","v":0},{"$f":"'Rozliczenie końcowe'!E240","v":0},{"$f":"'Rozliczenie końcowe'!F240","v":0},null,null,0,0,"",0,"","",0,0,0,0,0,0,"ok","ok",0,0]
[{"$f":"'Rozliczenie końcowe'!A241","v":0},{"$f":"'Rozliczenie końcowe'!B241","v":""},{"$f":"'Rozliczenie końcowe'!I241","v":0},{"$f":"'Rozliczenie końcowe'!L241","v":0},"","","",{"$f":"'Rozliczenie końcowe'!C241","v":0},{"$f":"'Rozliczenie końcowe'!D241","v":0},{"$f":"'Rozliczenie końcowe'!E241","v":0},{"$f":"'Rozliczenie końcowe'!F241","v":0},null,null,0,0,"",0,"","",0,0,0,0,0,0,"ok","ok",0,0]
[{"$f":"'Rozliczenie końcowe'!A242","v":0},{"$f":"'Rozliczenie końcowe'!B242","v":""},{"$f":"'Rozliczenie końcowe'!I242","v":0},{"$f":"'Rozliczenie końcowe'!L242","v":0},"","","",{"$f":"'Rozliczenie końcowe'!C242","v":0},{"$f":"'Rozliczenie końcowe'!D242","v":0},{"$f":"'Rozliczenie końcowe'!E242","v":0},{"$f":"'Rozliczenie końcowe'!F242","v":0},null,null,0,0,"",0,"","",0,0,0,0,0,0,"ok","ok",0,0]
[{"$f":"'Rozliczenie końcowe'!A243","v":0},{"$f":"'Rozliczenie końcowe'!B243","v":""},{"$f":"'Rozliczenie końcowe'!I243","v":0},{"$f":"'Rozliczenie końcowe'!L243","v":0},"","","",{"$f":"'Rozliczenie końcowe'!C243","v":0},{"$f":"'Rozliczenie końcowe'!D243","v":0},{"$f":"'Rozliczenie końcowe'!E243","v":0},{"$f":"'Rozliczenie końcowe'!F243","v":0},null,null,0,0,"",0,"","",0,0,0,0,0,0,"ok","ok",0,0]
[{"$f":"'Rozliczenie końcowe'!A244","v":0},{"$f":"'Rozliczenie końcowe'!B244","v":""},{"$f":"'Rozliczenie końcowe'!I244","v":0},{"$f":"'Rozliczenie końcowe'!L244","v":0},"","","",{"$f":"'Rozliczenie końcowe'!C244","v":0},{"$f":"'Rozliczenie końcowe'!D244","v":0},{"$f":"'Rozliczenie końcowe'!E244","v":0},{"$f":"'Rozliczenie końcowe'!F244","v":0},null,null,0,0,"",0,"","",0,0,0,0,0,0,"ok","ok",0,0]
[{"$f":"'Rozliczenie końcowe'!A245","v":0},{"$f":"'Rozliczenie końcowe'!B245","v":""},{"$f":"'Rozliczenie końcowe'!I245","v":0},{"$f":"'Rozliczenie końcowe'!L245","v":0},"","","",{"$f":"'Rozliczenie końcowe'!C245","v":0},{"$f":"'Rozliczenie końcowe'!D245","v":0},{"$f":"'Rozliczenie końcowe'!E245","v":0},{"$f":"'Rozliczenie końcowe'!F245","v":0},null,null,0,0,"",0,"","",0,0,0,0,0,0,"ok","ok",0,0]
[{"$f":"'Rozliczenie końcowe'!A246","v":0},{"$f":"'Rozliczenie końcowe'!B246","v":""},{"$f":"'Rozliczenie końcowe'!I246","v":0},{"$f":"'Rozliczenie końcowe'!L246","v":0},"","","",{"$f":"'Rozliczenie końcowe'!C246","v":0},{"$f":"'Rozliczenie końcowe'!D246","v":0},{"$f":"'Rozliczenie końcowe'!E246","v":0},{"$f":"'Rozliczenie końcowe'!F246","v":0},null,null,0,0,"",0,"","",0,0,0,0,0,0,"ok","ok",0,0]
[{"$f":"'Rozliczenie końcowe'!A247","v":0},{"$f":"'Rozliczenie końcowe'!B247","v":""},{"$f":"'Rozliczenie końcowe'!I247","v":0},{"$f":"'Rozliczenie końcowe'!L247","v":0},"","","",{"$f":"'Rozliczenie końcowe'!C247","v":0},{"$f":"'Rozliczenie końcowe'!D247","v":0},{"$f":"'Rozliczenie końcowe'!E247","v":0},{"$f":"'Rozliczenie końcowe'!F247","v":0},null,null,0,{"$f":"IFERROR(D99/C99,0)","v":0},"",0,"","",{"$f":"IFERROR(V99*C99,0)","v":0},{"$f":"V99*C99","v":0},{"$f":"IFERROR(IF((D99-H99)/C99>=$L$3,$L$3,(D99-H99)/C99),0)","v":0},0,{"$f":"D99*0.1","v":0},0,"ok","ok",0,0]
[{"$f":"'Rozliczenie końcowe'!A248","v":0},{"$f":"'Rozliczenie końcowe'!B248","v":""},{"$f":"'Rozliczenie końcowe'!I248","v":0},{"$f":"'Rozliczenie końcowe'!L248","v":0},"","","",{"$f":"'Rozliczenie końcowe'!C248","v":0},{"$f":"'Rozliczenie końcowe'!D248","v":0},{"$f":"'Rozliczenie końcowe'!E248","v":0},{"$f":"'Rozliczenie końcowe'!F248","v":0},null,null,0,0,"",0,"","",0,0,0,0,0,0,"ok","ok",0,0]
[{"$f":"'Rozliczenie końcowe'!A249","v":0},{"$f":"'Rozliczenie końcowe'!B249","v":""},{"$f":"'Rozliczenie końcowe'!I249","v":0},{"$f":"'Rozliczenie końcowe'!L249","v":0},"","","",{"$f":"'Rozliczenie końcowe'!C249","v":0},{"$f":"'Rozliczenie końcowe'!D249","v":0},{"$f":"'Rozliczenie końcowe'!E249","v":0},{"$f":"'Rozliczenie końcowe'!F249","v":0},null,null,0,0,"",0,"","",0,0,0,0,0,0,"ok","ok",0,0]
[{"$f":"'Rozliczenie końcowe'!A250","v":0},{"$f":"'Rozliczenie końcowe'!B250","v":""},{"$f":"'Rozliczenie końcowe'!I250","v":0},{"$f":"'Rozliczenie końcowe'!L250","v":0},"","","",{"$f":"'Rozliczenie końcowe'!C250","v":0},{"$f":"'Rozliczenie końcowe'!D250","v":0},{"$f":"'Rozliczenie końcowe'!E250","v":0},{"$f":"'Rozliczenie końcowe'!F250","v":0},null,null,0,0,"",0,"","",0,0,0,0,0,0,"ok","ok",0,0]
[{"$f":"'Rozliczenie końcowe'!A251","v":0},{"$f":"'Rozliczenie końcowe'!B251","v":""},{"$f":"'Rozliczenie końcowe'!I251","v":0},{"$f":"'Rozliczenie końcowe'!L251","v":0},"","","",{"$f":"'Rozliczenie końcowe'!C251","v":0},{"$f":"'Rozliczenie końcowe'!D251","v":0},{"$f":"'Rozliczenie końcowe'!E251","v":0},{"$f":"'Rozliczenie końcowe'!F251","v":0},null,null,0,0,"",0,"","",0,0,0,0,0,0,"ok","ok",0,0]
[{"$f":"'Rozliczenie końcowe'!A252","v":0},{"$f":"'Rozliczenie końcowe'!B252","v":""},{"$f":"'Rozliczenie końcowe'!I252","v":0},{"$f":"'Rozliczenie końcowe'!L252","v":0},"","","",{"$f":"'Rozliczenie końcowe'!C252","v":0},{"$f":"'Rozliczenie końcowe'!D252","v":0},{"$f":"'Rozliczenie końcowe'!E252","v":0},{"$f":"'Rozliczenie końcowe'!F252","v":0},null,null,0,0,"",0,"","",0,0,0,0,0,0,"ok","ok",0,0]
[{"$f":"'Rozliczenie końcowe'!A253","v":0},{"$f":"'Rozliczenie końcowe'!B253","v":""},{"$f":"'Rozliczenie końcowe'!I253","v":0},{"$f":"'Rozliczenie końcowe'!L253","v":0},"","","",{"$f":"'Rozliczenie końcowe'!C253","v":0},{"$f":"'Rozliczenie końcowe'!D253","v":0},{"$f":"'Rozliczenie końcowe'!E253","v":0},{"$f":"'Rozliczenie końcowe'!F253","v":0},null,null,0,0,"",0,"","",0,0,0,0,0,0,"ok","ok",0,0]
[{"$f":"'Rozliczenie końcowe'!A254","v":0},{"$f":"'Rozliczenie końcowe'!B254","v":""},{"$f":"'Rozliczenie końcowe'!I254","v":0},{"$f":"'Rozliczenie końcowe'!L254","v":0},"","","",{"$f":"'Rozliczenie końcowe'!C254","v":0},{"$f":"'Rozliczenie końcowe'!D254","v":0},{"$f":"'Rozliczenie końcowe'!E254","v":0},{"$f":"'Rozliczenie końcowe'!F254","v":0},null,null,0,0,"",0,"","",0,0,0,0,0,0,"ok","ok",0,0]
[{"$f":"'Rozliczenie końcowe'!A255","v":0},{"$f":"'Rozliczenie końcowe'!B255","v":""},{"$f":"'Rozliczenie końcowe'!I255","v":0},{"$f":"'Rozliczenie końcowe'!L255","v":0},"","","",{"$f":"'Rozliczenie końcowe'!C255","v":0},{"$f":"'Rozliczenie końcowe'!D255","v":0},{"$f":"'Rozliczenie końcowe'!E255","v":0},{"$f":"'Rozliczenie końcowe'!F255","v":0},null,null,0,0,"",0,"","",0,0,0,0,0,0,"ok","ok",0,0]
[{"$f":"'Rozliczenie końcowe'!A256","v":0},{"$f":"'Rozliczenie końcowe'!B256","v":""},{"$f":"'Rozliczenie końcowe'!I256","v":0},{"$f":"'Rozliczenie końcowe'!L256","v":0},"","","",{"$f":"'Rozliczenie końcowe'!C256","v":0},{"$f":"'Rozliczenie końcowe'!D256","v":0},{"$f":"'Rozliczenie końcowe'!E256","v":0},{"$f":"'Rozliczenie końcowe'!F256","v":0},null,null,0,0,"",0,"","",0,0,0,0,0,0,"ok","ok",0,0]
[{"$f":"'Rozliczenie końcowe'!A257","v":0},{"$f":"'Rozliczenie końcowe'!B257","v":""},{"$f":"'Rozliczenie końcowe'!I257","v":0},{"$f":"'Rozliczenie końcowe'!L257","v":0},"","","",{"$f":"'Rozliczenie końcowe'!C257","v":0},{"$f":"'Rozliczenie końcowe'!D257","v":0},{"$f":"'Rozliczenie końcowe'!E257","v":0},{"$f":"'Rozliczenie końcowe'!F257","v":0},null,null,0,0,"",0,"","",0,0,0,0,0,0,"ok","ok",0,0]
[{"$f":"'Rozliczenie końcowe'!A258","v":0},{"$f":"'Rozliczenie końcowe'!B258","v":""},{"$f":"'Rozliczenie końcowe'!I258","v":0},{"$f":"'Rozliczenie końcowe'!L258","v":0},"","","",{"$f":"'Rozliczenie końcowe'!C258","v":0},{"$f":"'Rozliczenie końcowe'!D258","v":0},{"$f":"'Rozliczenie końcowe'!E258","v":0},{"$f":"'Rozliczenie końcowe'!F258","v":0},null,null,0,0,"",0,"","",0,0,0,0,0,0,"ok","ok",0,0]
[{"$f":"'Rozliczenie końcowe'!A259","v":0},{"$f":"'Rozliczenie końcowe'!B259","v":""},{"$f":"'Rozliczenie końcowe'!I259","v":0},{"$f":"'Rozliczenie końcowe'!L259","v":0},"","","",{"$f":"'Rozliczenie końcowe'!C259","v":0},{"$f":"'Rozliczenie końcowe'!D259","v":0},{"$f":"'Rozliczenie końcowe'!E259","v":0},{"$f":"'Rozliczenie końcowe'!F259","v":0},null,null,0,0,"",0,"","",0,0,0,0,0,0,"ok","ok",0,0]
[{"$f":"'Rozliczenie końcowe'!A260","v":0},{"$f":"'Rozliczenie końcowe'!B260","v":""},{"$f":"'Rozliczenie końcowe'!I260","v":0},{"$f":"'Rozliczenie końcowe'!L260","v":0},"","","",{"$f":"'Rozliczenie końcowe'!C260","v":0},{"$f":"'Rozliczenie końcowe'!D260","v":0},{"$f":"'Rozliczenie końcowe'!E260","v":0},{"$f":"'Rozliczenie końcowe'!F260","v":0},null,null,0,0,"",0,"","",0,0,0,0,0,0,"ok","ok",0,0]
["Suma",null,{"$f":"SUM(C3:C112)","v":0},{"$f":"'Rozliczenie końcowe'!L261","v":0},null,null,null,{"$f":"'Rozliczenie końcowe'!C261","v":0},{"$f":"SUM(I3:I112)","v":0},{"$f":"SUM(J3:J112)","v":0},{"$f":"SUM(K3:K112)","v":0},null,null,null,null,null,null,0,0,{"$f":"SUM(T3:T112)","v":0},{"$f":"SUM(U3:U112)","v":0},null,null,0]
[null,null,null,null,null,null,null,null,null,{"$f":"'Rozliczenie końcowe'!K262","v":0},{"$f":"'Rozliczenie końcowe'!L262","v":0}]
[null,null,null,null,null,null,null,null,null,{"$f":"'Rozliczenie końcowe'!K263","v":0},{"$f":"'Rozliczenie końcowe'!L263","v":0}]

{"sheet":"Weryfikacja II kw","index":12,"n_rows":115,"n_cols":31,"rows_kept":115,"cut":false,"hidden":true,"merged":[[0,1,0,11]]}
[null,"Dane z wniosku",null,null,null,null,null,null,null,null,null,null,"ok","Wer.",null,null,null,null,null,null,null,null,null,null,null,null,null,null,null,null,"Zgodność danych z załącznikiem nr 1"]
["l.p","NAZWA LINII","WOZOKILOMETRY","DEFICYT","CENA USŁUGI","WKŁAD WŁASNY/KM [ZŁ]","WKŁAD WŁASNY [%]","WKŁAD WŁASNY [ZŁ]","POBRANA KWOTA DOPŁATY","NALEŻNA KWOTA DOPŁATY","NIEWYKORZYSTANA KWOTA DOPŁATY","STAWKA MAX Z UMOWY","X",{"$f":"A2","v":"l.p"},"Cena usługi","Wkład własny/km [zł]","Wkład własny [%]","Wkład własny [zł]","Def z ceny usł","Kwota dopłaty","Max kwota dopł na podst wk. wł.","Max kwota dopł na podst wk wł/wzkm ","Kwota dopłaty/wozokm","10% z deficytu ","10 % z ceny usługi","warunek 10%","max 1 (3) zł/wzkm","Różnica w finansowaniu","Różnica def z zaokrągleń",null,{"$f":"IF(Miesiące!P11='Rozliczenie końcowe'!R196,'Weryfikacja II kw'!$M$1,'Weryfikacja II kw'!$M$2)","v":"ok"}]
[{"$f":"'Rozliczenie końcowe'!A151","v":0},{"$f":"'Rozliczenie końcowe'!B269","v":""},{"$f":"'Rozliczenie końcowe'!I269","v":0},{"$f":"'Rozliczenie końcowe'!L269","v":0},{"$f":"IFERROR(D3/C3,\"\")","v":""},{"$f":"IFERROR(ROUND(H3/C3,2),\"\")","v":""},{"$f":"IFERROR(ROUND(H3/D3,2),\"\")","v":""},{"$f":"'Rozliczenie końcowe'!C269","v":0},{"$f":"'Rozliczenie końcowe'!D269","v":0},{"$f":"'Rozliczenie końcowe'!E269","v":0},{"$f":"'Rozliczenie końcowe'!F269","v":0},3,null,0,{"$f":"IFERROR(D3/C3,0)","v":0},{"$f":"F3","v":""},{"$f":"IFERROR(P3/O3,0)","v":0},{"$f":"IFERROR(ROUND(P3*C3,2),\"\")","v":""},{"$f":"IFERROR(ROUND(E3*C3,2),\"\")","v":""},{"$f":"IFERROR(V3*C3,0)","v":0},{"$f":"V3*C3","v":0},{"$f":"IFERROR(IF((D3-H3)/C3>=$L$3,$L$3,(D3-H3)/C3),0)","v":0},{"$f":"IFERROR(ROUND(J3/C3,2),0)","v":0},{"$f":"D3*0.1","v":0},{"$f":"O3*0.1","v":0},{"$f":"IF(P3>=Y3,$M$1,$M$2)","v":"ok"},{"$f":"IF(W3<=$L$3,$M$1,$M$2)","v":"ok"},{"$f":"IFERROR((T3+R3)-D3,0)","v":0},{"$f":"IFERROR(D3-S3,0)","v":0}]
[{"$f":"'Rozliczenie końcowe'!A152","v":0},{"$f":"'Rozliczenie końcowe'!B270","v":""},{"$f":"'Rozliczenie końcowe'!I270","v":0},{"$f":"'Rozliczenie końcowe'!L270","v":0},{"$f":"IFERROR(D4/C4,\"\")","v":""},{"$f":"IFERROR(ROUND(H4/C4,2),\"\")","v":""},{"$f":"IFERROR(ROUND(H4/D4,2),\"\")","v":""},{"$f":"'Rozliczenie końcowe'!C270","v":0},{"$f":"'Rozliczenie końcowe'!D270","v":0},{"$f":"'Rozliczenie końcowe'!E270","v":0},{"$f":"'Rozliczenie końcowe'!F270","v":0},null,null,0,0,{"$f":"F4","v":""},{"$f":"IFERROR(P4/O4,0)","v":0},{"$f":"IFERROR(ROUND(P4*C4,2),\"\")","v":""},{"$f":"IFERROR(ROUND(E4*C4,2),\"\")","v":""},0,0,{"$f":"IFERROR(IF((D4-H4)/C4>=$L$3,$L$3,(D4-H4)/C4),0)","v":0},{"$f":"IFERROR(ROUND(J4/C4,2),0)","v":0},0,0,{"$f":"IF(P4>=Y4,$M$1,$M$2)","v":"ok"},{"$f":"IF(W4<=$L$3,$M$1,$M$2)","v":"ok"},{"$f":"IFERROR((T4+R4)-D4,0)","v":0},{"$f":"IFERROR(D4-S4,0)","v":0}]
[{"$f":"'Rozliczenie końcowe'!A153","v":0},{"$f":"'Rozliczenie końcowe'!B271","v":""},{"$f":"'Rozliczenie końcowe'!I271","v":0},{"$f":"'Rozliczenie końcowe'!L271","v":0},"","","",{"$f":"'Rozliczenie końcowe'!C271","v":0},{"$f":"'Rozliczenie końcowe'!D271","v":0},{"$f":"'Rozliczenie końcowe'!E271","v":0},{"$f":"'Rozliczenie końcowe'!F271","v":0},null,null,0,0,"",0,"","",0,0,0,0,0,0,"ok","ok",0,0]
[{"$f":"'Rozliczenie końcowe'!A154","v":0},{"$f":"'Rozliczenie końcowe'!B272","v":""},{"$f":"'Rozliczenie końcowe'!I272","v":0},{"$f":"'Rozliczenie końcowe'!L272","v":0},"","","",{"$f":"'Rozliczenie końcowe'!C272","v":0},{"$f":"'Rozliczenie końcowe'!D272","v":0},{"$f":"'Rozliczenie końcowe'!E272","v":0},{"$f":"'Rozliczenie końcowe'!F272","v":0},null,null,0,0,"",0,"","",0,0,0,0,0,0,"ok","ok",0,0]
[{"$f":"'Rozliczenie końcowe'!A155","v":0},{"$f":"'Rozliczenie końcowe'!B273","v":""},{"$f":"'Rozliczenie końcowe'!I273","v":0},{"$f":"'Rozliczenie końcowe'!L273","v":0},"","","",{"$f":"'Rozliczenie końcowe'!C273","v":0},{"$f":"'Rozliczenie końcowe'!D273","v":0},{"$f":"'Rozliczenie końcowe'!E273","v":0},{"$f":"'Rozliczenie końcowe'!F273","v":0},null,null,0,0,"",0,"","",0,0,0,0,0,0,"ok","ok",0,0]
[{"$f":"'Rozliczenie końcowe'!A156","v":0},{"$f":"'Rozliczenie końcowe'!B274","v":""},{"$f":"'Rozliczenie końcowe'!I274","v":0},{"$f":"'Rozliczenie końcowe'!L274","v":0},"","","",{"$f":"'Rozliczenie końcowe'!C274","v":0},{"$f":"'Rozliczenie końcowe'!D274","v":0},{"$f":"'Rozliczenie końcowe'!E274","v":0},{"$f":"'Rozliczenie końcowe'!F274","v":0},null,null,0,0,"",0,"","",0,0,0,0,0,0,"ok","ok",0,0]
[{"$f":"'Rozliczenie końcowe'!A157","v":0},{"$f":"'Rozliczenie końcowe'!B275","v":""},{"$f":"'Rozliczenie końcowe'!I275","v":0},{"$f":"'Rozliczenie końcowe'!L275","v":0},"","","",{"$f":"'Rozliczenie końcowe'!C275","v":0},{"$f":"'Rozliczenie końcowe'!D275","v":0},{"$f":"'Rozliczenie końcowe'!E275","v":0},{"$f":"'Rozliczenie końcowe'!F275","v":0},null,null,0,0,"",0,"","",0,0,0,0,0,0,"ok","ok",0,0]
[{"$f":"'Rozliczenie końcowe'!A158","v":0},{"$f":"'Rozliczenie końcowe'!B276","v":""},{"$f":"'Rozliczenie końcowe'!I276","v":0},{"$f":"'Rozliczenie końcowe'!L276","v":0},"","","",{"$f":"'Rozliczenie końcowe'!C276","v":0},{"$f":"'Rozliczenie końcowe'!D276","v":0},{"$f":"'Rozliczenie końcowe'!E276","v":0},{"$f":"'Rozliczenie końcowe'!F276","v":0},null,null,0,0,"",0,"","",0,0,0,0,0,0,"ok","ok",0,0]
[{"$f":"'Rozliczenie końcowe'!A159","v":0},{"$f":"'Rozliczenie końcowe'!B277","v":""},{"$f":"'Rozliczenie końcowe'!I277","v":0},{"$f":"'Rozliczenie końcowe'!L277","v":0},"","","",{"$f":"'Rozliczenie końcowe'!C277","v":0},{"$f":"'Rozliczenie końcowe'!D277","v":0},{"$f":"'Rozliczenie końcowe'!E277","v":0},{"$f":"'Rozliczenie końcowe'!F277","v":0},null,null,0,0,"",0,"","",0,0,0,0,0,0,"ok","ok",0,0]
[{"$f":"'Rozliczenie końcowe'!A160","v":0},{"$f":"'Rozliczenie końcowe'!B278","v":""},{"$f":"'Rozliczenie końcowe'!I278","v":0},{"$f":"'Rozliczenie końcowe'!L278","v":0},"","","",{"$f":"'Rozliczenie końcowe'!C278","v":0},{"$f":"'Rozliczenie końcowe'!D278","v":0},{"$f":"'Rozliczenie końcowe'!E278","v":0},{"$f":"'Rozliczenie końcowe'!F278","v":0},null,null,0,0,"",0,"","",0,0,0,0,0,0,"ok","ok",0,0]
[{"$f":"'Rozliczenie końcowe'!A161","v":0},{"$f":"'Rozliczenie końcowe'!B279","v":""},{"$f":"'Rozliczenie końcowe'!I279","v":0},{"$f":"'Rozliczenie końcowe'!L279","v":0},"","","",{"$f":"'Rozliczenie końcowe'!C279","v":0},{"$f":"'Rozliczenie końcowe'!D279","v":0},{"$f":"'Rozliczenie końcowe'!E279","v":0},{"$f":"'Rozliczenie końcowe'!F279","v":0},null,null,0,0,"",0,"","",0,0,0,0,0,0,"ok","ok",0,0]
[{"$f":"'Rozliczenie końcowe'!A162","v":0},{"$f":"'Rozliczenie końcowe'!B280","v":""},{"$f":"'Rozliczenie końcowe'!I280","v":0},{"$f":"'Rozliczenie końcowe'!L280","v":0},"","","",{"$f":"'Rozliczenie końcowe'!C280","v":0},{"$f":"'Rozliczenie końcowe'!D280","v":0},{"$f":"'Rozliczenie końcowe'!E280","v":0},{"$f":"'Rozliczenie końcowe'!F280","v":0},null,null,0,0,"",0,"","",0,0,0,0,0,0,"ok","ok",0,0]
[{"$f":"'Rozliczenie końcowe'!A163","v":0},{"$f":"'Rozliczenie końcowe'!B281","v":""},{"$f":"'Rozliczenie końcowe'!I281","v":0},{"$f":"'Rozliczenie końcowe'!L281","v":0},"","","",{"$f":"'Rozliczenie końcowe'!C281","v":0},{"$f":"'Rozliczenie końcowe'!D281","v":0},{"$f":"'Rozliczenie końcowe'!E281","v":0},{"$f":"'Rozliczenie końcowe'!F281","v":0},null,null,0,0,"",0,"","",0,0,0,0,0,0,"ok","ok",0,0]
[{"$f":"'Rozliczenie końcowe'!A164","v":0},{"$f":"'Rozliczenie końcowe'!B282","v":""},{"$f":"'Rozliczenie końcowe'!I282","v":0},{"$f":"'Rozliczenie końcowe'!L282","v":0},"","","",{"$f":"'Rozliczenie końcowe'!C282","v":0},{"$f":"'Rozliczenie końcowe'!D282","v":0},{"$f":"'Rozliczenie końcowe'!E282","v":0},{"$f":"'Rozliczenie końcowe'!F282","v":0},null,null,0,0,"",0,"","",0,0,0,0,0,0,"ok","ok",0,0]
[{"$f":"'Rozliczenie końcowe'!A165","v":0},{"$f":"'Rozliczenie końcowe'!B283","v":""},{"$f":"'Rozliczenie końcowe'!I283","v":0},{"$f":"'Rozliczenie końcowe'!L283","v":0},"","","",{"$f":"'Rozliczenie końcowe'!C283","v":0},{"$f":"'Rozliczenie końcowe'!D283","v":0},{"$f":"'Rozliczenie końcowe'!E283","v":0},{"$f":"'Rozliczenie końcowe'!F283","v":0},null,null,0,0,"",0,"","",0,0,0,0,0,0,"ok","ok",0,0]
[{"$f":"'Rozliczenie końcowe'!A166","v":0},{"$f":"'Rozliczenie końcowe'!B284","v":""},{"$f":"'Rozliczenie końcowe'!I284","v":0},{"$f":"'Rozliczenie końcowe'!L284","v":0},"","","",{"$f":"'Rozliczenie końcowe'!C284","v":0},{"$f":"'Rozliczenie końcowe'!D284","v":0},{"$f":"'Rozliczenie końcowe'!E284","v":0},{"$f":"'Rozliczenie końcowe'!F284","v":0},null,null,0,0,"",0,"","",0,0,0,0,0,0,"ok","ok",0,0]
[{"$f":"'Rozliczenie końcowe'!A167","v":0},{"$f":"'Rozliczenie końcowe'!B285","v":""},{"$f":"'Rozliczenie końcowe'!I285","v":0},{"$f":"'Rozliczenie końcowe'!L285","v":0},"","","",{"$f":"'Rozliczenie końcowe'!C285","v":0},{"$f":"'Rozliczenie końcowe'!D285","v":0},{"$f":"'Rozliczenie końcowe'!E285","v":0},{"$f":"'Rozliczenie końcowe'!F285","v":0},null,null,0,0,"",0,"","",0,0,0,0,0,0,"ok","ok",0,0]
[{"$f":"'Rozliczenie końcowe'!A168","v":0},{"$f":"'Rozliczenie końcowe'!B286","v":""},{"$f":"'Rozliczenie końcowe'!I286","v":0},{"$f":"'Rozliczenie końcowe'!L286","v":0},"","","",{"$f":"'Rozliczenie końcowe'!C286","v":0},{"$f":"'Rozliczenie końcowe'!D286","v":0},{"$f":"'Rozliczenie końcowe'!E286","v":0},{"$f":"'Rozliczenie końcowe'!F286","v":0},null,null,0,0,"",0,"","",0,0,0,0,0,0,"ok","ok",0,0]
[{"$f":"'Rozliczenie końcowe'!A169","v":0},{"$f":"'Rozliczenie końcowe'!B287","v":""},{"$f":"'Rozliczenie końcowe'!I287","v":0},{"$f":"'Rozliczenie końcowe'!L287","v":0},"","","",{"$f":"'Rozliczenie końcowe'!C287","v":0},{"$f":"'Rozliczenie końcowe'!D287","v":0},{"$f":"'Rozliczenie końcowe'!E287","v":0},{"$f":"'Rozliczenie końcowe'!F287","v":0},null,null,0,0,"",0,"","",0,0,0,0,0,0,"ok","ok",0,0]
[{"$f":"'Rozliczenie końcowe'!A170","v":0},{"$f":"'Rozliczenie końcowe'!B288","v":""},{"$f":"'Rozliczenie końcowe'!I288","v":0},{"$f":"'Rozliczenie końcowe'!L288","v":0},"","","",{"$f":"'Rozliczenie końcowe'!C288","v":0},{"$f":"'Rozliczenie końcowe'!D288","v":0},{"$f":"'Rozliczenie końcowe'!E288","v":0},{"$f":"'Rozliczenie końcowe'!F288","v":0},null,null,0,0,"",0,"","",0,0,0,0,0,0,"ok","ok",0,0]
[{"$f":"'Rozliczenie końcowe'!A171","v":0},{"$f":"'Rozliczenie końcowe'!B289","v":""},{"$f":"'Rozliczenie końcowe'!I289","v":0},{"$f":"'Rozliczenie końcowe'!L289","v":0},"","","",{"$f":"'Rozliczenie końcowe'!C289","v":0},{"$f":"'Rozliczenie końcowe'!D289","v":0},{"$f":"'Rozliczenie końcowe'!E289","v":0},{"$f":"'Rozliczenie końcowe'!F289","v":0},null,null,0,0,"",0,"","",0,0,0,0,0,0,"ok","ok",0,0]
[{"$f":"'Rozliczenie końcowe'!A172","v":0},{"$f":"'Rozliczenie końcowe'!B290","v":""},{"$f":"'Rozliczenie końcowe'!I290","v":0},{"$f":"'Rozliczenie końcowe'!L290","v":0},"","","",{"$f":"'Rozliczenie końcowe'!C290","v":0},{"$f":"'Rozliczenie końcowe'!D290","v":0},{"$f":"'Rozliczenie końcowe'!E290","v":0},{"$f":"'Rozliczenie końcowe'!F290","v":0},null,null,0,0,"",0,"","",0,0,0,0,0,0,"ok","ok",0,0]
[{"$f":"'Rozliczenie końcowe'!A173","v":0},{"$f":"'Rozliczenie końcowe'!B291","v":""},{"$f":"'Rozliczenie końcowe'!I291","v":0},{"$f":"'Rozliczenie końcowe'!L291","v":0},"","","",{"$f":"'Rozliczenie końcowe'!C291","v":0},{"$f":"'Rozliczenie końcowe'!D291","v":0},{"$f":"'Rozliczenie końcowe'!E291","v":0},{"$f":"'Rozliczenie końcowe'!F291","v":0},null,null,0,0,"",0,"","",0,0,0,0,0,0,"ok","ok",0,0]
[{"$f":"'Rozliczenie końcowe'!A174","v":0},{"$f":"'Rozliczenie końcowe'!B292","v":""},{"$f":"'Rozliczenie końcowe'!I292","v":0},{"$f":"'Rozliczenie końcowe'!L292","v":0},"","","",{"$f":"'Rozliczenie końcowe'!C292","v":0},{"$f":"'Rozliczenie końcowe'!D292","v":0},{"$f":"'Rozliczenie końcowe'!E292","v":0},{"$f":"'Rozliczenie końcowe'!F292","v":0},null,null,0,0,"",0,"","",0,0,0,0,0,0,"ok","ok",0,0]
[{"$f":"'Rozliczenie końcowe'!A175","v":0},{"$f":"'Rozliczenie końcowe'!B293","v":""},{"$f":"'Rozliczenie końcowe'!I293","v":0},{"$f":"'Rozliczenie końcowe'!L293","v":0},"","","",{"$f":"'Rozliczenie końcowe'!C293","v":0},{"$f":"'Rozliczenie końcowe'!D293","v":0},{"$f":"'Rozliczenie końcowe'!E293","v":0},{"$f":"'Rozliczenie końcowe'!F293","v":0},null,null,0,0,"",0,"","",0,0,0,0,0,0,"ok","ok",0,0]
[{"$f":"'Rozliczenie końcowe'!A176","v":0},{"$f":"'Rozliczenie końcowe'!B294","v":""},{"$f":"'Rozliczenie końcowe'!I294","v":0},{"$f":"'Rozliczenie końcowe'!L294","v":0},"","","",{"$f":"'Rozliczenie końcowe'!C294","v":0},{"$f":"'Rozliczenie końcowe'!D294","v":0},{"$f":"'Rozliczenie końcowe'!E294","v":0},{"$f":"'Rozliczenie końcowe'!F294","v":0},null,null,0,0,"",0,"","",0,0,0,0,0,0,"ok","ok",0,0]
[{"$f":"'Rozliczenie końcowe'!A177","v":0},{"$f":"'Rozliczenie końcowe'!B295","v":""},{"$f":"'Rozliczenie końcowe'!I295","v":0},{"$f":"'Rozliczenie końcowe'!L295","v":0},"","","",{"$f":"'Rozliczenie końcowe'!C295","v":0},{"$f":"'Rozliczenie końcowe'!D295","v":0},{"$f":"'Rozliczenie końcowe'!E295","v":0},{"$f":"'Rozliczenie końcowe'!F295","v":0},null,null,0,0,"",0,"","",0,0,0,0,0,0,"ok","ok",0,0]
[{"$f":"'Rozliczenie końcowe'!A178","v":0},{"$f":"'Rozliczenie końcowe'!B296","v":""},{"$f":"'Rozliczenie końcowe'!I296","v":0},{"$f":"'Rozliczenie końcowe'!L296","v":0},"","","",{"$f":"'Rozliczenie końcowe'!C296","v":0},{"$f":"'Rozliczenie końcowe'!D296","v":0},{"$f":"'Rozliczenie końcowe'!E296","v":0},{"$f":"'Rozliczenie końcowe'!F296","v":0},null,null,0,0,"",0,"","",0,0,0,0,0,0,"ok","ok",0,0]
[{"$f":"'Rozliczenie końcowe'!A179","v":0},{"$f":"'Rozliczenie końcowe'!B297","v":""},{"$f":"'Rozliczenie końcowe'!I297","v":0},{"$f":"'Rozliczenie końcowe'!L297","v":0},"","","",{"$f":"'Rozliczenie końcowe'!C297","v":0},{"$f":"'Rozliczenie końcowe'!D297","v":0},{"$f":"'Rozliczenie końcowe'!E297","v":0},{"$f":"'Rozliczenie końcowe'!F297","v":0},null,null,0,0,"",0,"","",0,0,0,0,0,0,"ok","ok",0,0]
[{"$f":"'Rozliczenie końcowe'!A180","v":0},{"$f":"'Rozliczenie końcowe'!B298","v":""},{"$f":"'Rozliczenie końcowe'!I298","v":0},{"$f":"'Rozliczenie końcowe'!L298","v":0},"","","",{"$f":"'Rozliczenie końcowe'!C298","v":0},{"$f":"'Rozliczenie końcowe'!D298","v":0},{"$f":"'Rozliczenie końcowe'!E298","v":0},{"$f":"'Rozliczenie końcowe'!F298","v":0},null,null,0,0,"",0,"","",0,0,0,0,0,0,"ok","ok",0,0]
[{"$f":"'Rozliczenie końcowe'!A181","v":0},{"$f":"'Rozliczenie końcowe'!B299","v":""},{"$f":"'Rozliczenie końcowe'!I299","v":0},{"$f":"'Rozliczenie końcowe'!L299","v":0},"","","",{"$f":"'Rozliczenie końcowe'!C299","v":0},{"$f":"'Rozliczenie końcowe'!D299","v":0},{"$f":"'Rozliczenie końcowe'!E299","v":0},{"$f":"'Rozliczenie końcowe'!F299","v":0},null,null,0,0,"",0,"","",0,0,0,0,0,0,"ok","ok",0,0]
[{"$f":"'Rozliczenie końcowe'!A182","v":0},{"$f":"'Rozliczenie końcowe'!B300","v":""},{"$f":"'Rozliczenie końcowe'!I300","v":0},{"$f":"'Rozliczenie końcowe'!L300","v":0},"","","",{"$f":"'Rozliczenie końcowe'!C300","v":0},{"$f":"'Rozliczenie końcowe'!D300","v":0},{"$f":"'Rozliczenie końcowe'!E300","v":0},{"$f":"'Rozliczenie końcowe'!F300","v":0},null,null,0,0,"",0,"","",0,0,0,0,0,0,"ok","ok",0,0]
[{"$f":"'Rozliczenie końcowe'!A183","v":0},{"$f":"'Rozliczenie końcowe'!B301","v":""},{"$f":"'Rozliczenie końcowe'!I301","v":0},{"$f":"'Rozliczenie końcowe'!L301","v":0},"","","",{"$f":"'Rozliczenie końcowe'!C301","v":0},{"$f":"'Rozliczenie końcowe'!D301","v":0},{"$f":"'Rozliczenie końcowe'!E301","v":0},{"$f":"'Rozliczenie końcowe'!F301","v":0},null,null,0,0,"",0,"","",0,0,0,0,0,0,"ok","ok",0,0]
[{"$f":"'Rozliczenie końcowe'!A184","v":0},{"$f":"'Rozliczenie końcowe'!B302","v":""},{"$f":"'Rozliczenie końcowe'!I302","v":0},{"$f":"'Rozliczenie końcowe'!L302","v":0},"","","",{"$f":"'Rozliczenie końcowe'!C302","v":0},{"$f":"'Rozliczenie końcowe'!D302","v":0},{"$f":"'Rozliczenie końcowe'!E302","v":0},{"$f":"'Rozliczenie końcowe'!F302","v":0},null,null,0,0,"",0,"","",0,0,0,0,0,0,"ok","ok",0,0]
[{"$f":"'Rozliczenie końcowe'!A185","v":0},{"$f":"'Rozliczenie końcowe'!B303","v":""},{"$f":"'Rozliczenie końcowe'!I303","v":0},{"$f":"'Rozliczenie końcowe'!L303","v":0},"","","",{"$f":"'Rozliczenie końcowe'!C303","v":0},{"$f":"'Rozliczenie końcowe'!D303","v":0},{"$f":"'Rozliczenie końcowe'!E303","v":0},{"$f":"'Rozliczenie końcowe'!F303","v":0},null,null,0,0,"",0,"","",0,0,0,0,0,0,"ok","ok",0,0]
[{"$f":"'Rozliczenie końcowe'!A186","v":0},{"$f":"'Rozliczenie końcowe'!B304","v":""},{"$f":"'Rozliczenie końcowe'!I304","v":0},{"$f":"'Rozliczenie końcowe'!L304","v":0},"","","",{"$f":"'Rozliczenie końcowe'!C304","v":0},{"$f":"'Rozliczenie końcowe'!D304","v":0},{"$f":"'Rozliczenie końcowe'!E304","v":0},{"$f":"'Rozliczenie końcowe'!F304","v":0},null,null,0,0,"",0,"","",0,0,0,0,0,0,"ok","ok",0,0]
[{"$f":"'Rozliczenie końcowe'!A187","v":0},{"$f":"'Rozliczenie końcowe'!B305","v":""},{"$f":"'Rozliczenie końcowe'!I305","v":0},{"$f":"'Rozliczenie końcowe'!L305","v":0},"","","",{"$f":"'Rozliczenie końcowe'!C305","v":0},{"$f":"'Rozliczenie końcowe'!D305","v":0},{"$f":"'Rozliczenie końcowe'!E305","v":0},{"$f":"'Rozliczenie końcowe'!F305","v":0},null,null,0,0,"",0,"","",0,0,0,0,0,0,"ok","ok",0,0]
[{"$f":"'Rozliczenie końcowe'!A188","v":0},{"$f":"'Rozliczenie końcowe'!B306","v":""},{"$f":"'Rozliczenie końcowe'!I306","v":0},{"$f":"'Rozliczenie końcowe'!L306","v":0},"","","",{"$f":"'Rozliczenie końcowe'!C306","v":0},{"$f":"'Rozliczenie końcowe'!D306","v":0},{"$f":"'Rozliczenie końcowe'!E306","v":0},{"$f":"'Rozliczenie końcowe'!F306","v":0},null,null,0,0,"",0,"","",0,0,0,0,0,0,"ok","ok",0,0]
[{"$f":"'Rozliczenie końcowe'!A189","v":0},{"$f":"'Rozliczenie końcowe'!B307","v":""},{"$f":"'Rozliczenie końcowe'!I307","v":0},{"$f":"'Rozliczenie końcowe'!L307","v":0},"","","",{"$f":"'Rozliczenie końcowe'!C307","v":0},{"$f":"'Rozliczenie końcowe'!D307","v":0},{"$f":"'Rozliczenie końcowe'!E307","v":0},{"$f":"'Rozliczenie końcowe'!F307","v":0},null,null,0,0,"",0,"","",0,0,0,0,0,0,"ok","ok",0,0]
[{"$f":"'Rozliczenie końcowe'!A190","v":0},{"$f":"'Rozliczenie końcowe'!B308","v":""},{"$f":"'Rozliczenie końcowe'!I308","v":0},{"$f":"'Rozliczenie końcowe'!L308","v":0},"","","",{"$f":"'Rozliczenie końcowe'!C308","v":0},{"$f":"'Rozliczenie końcowe'!D308","v":0},{"$f":"'Rozliczenie końcowe'!E308","v":0},{"$f":"'Rozliczenie końcowe'!F308","v":0},null,null,0,0,"",0,"","",0,0,0,0,0,0,"ok","ok",0,0]
[{"$f":"'Rozliczenie końcowe'!A191","v":0},{"$f":"'Rozliczenie końcowe'!B309","v":""},{"$f":"'Rozliczenie końcowe'!I309","v":0},{"$f":"'Rozliczenie końcowe'!L309","v":0},"","","",{"$f":"'Rozliczenie końcowe'!C309","v":0},{"$f":"'Rozliczenie końcowe'!D309","v":0},{"$f":"'Rozliczenie końcowe'!E309","v":0},{"$f":"'Rozliczenie końcowe'!F309","v":0},null,null,0,0,"",0,"","",0,0,0,0,0,0,"ok","ok",0,0]
[{"$f":"'Rozliczenie końcowe'!A192","v":0},{"$f":"'Rozliczenie końcowe'!B310","v":""},{"$f":"'Rozliczenie końcowe'!I310","v":0},{"$f":"'Rozliczenie końcowe'!L310","v":0},"","","",{"$f":"'Rozliczenie końcowe'!C310","v":0},{"$f":"'Rozliczenie końcowe'!D310","v":0},{"$f":"'Rozliczenie końcowe'!E310","v":0},{"$f":"'Rozliczenie końcowe'!F310","v":0},null,null,0,0,"",0,"","",0,0,0,0,0,0,"ok","ok",0,0]
[{"$f":"'Rozliczenie końcowe'!A193","v":0},{"$f":"'Rozliczenie końcowe'!B311","v":""},{"$f":"'Rozliczenie końcowe'!I311","v":0},{"$f":"'Rozliczenie końcowe'!L311","v":0},"","","",{"$f":"'Rozliczenie końcowe'!C311","v":0},{"$f":"'Rozliczenie końcowe'!D311","v":0},{"$f":"'Rozliczenie końcowe'!E311","v":0},{"$f":"'Rozliczenie końcowe'!F311","v":0},null,null,0,0,"",0,"","",0,0,0,0,0,0,"ok","ok",0,0]
[{"$f":"'Rozliczenie końcowe'!A194","v":0},{"$f":"'Rozliczenie końcowe'!B312","v":""},{"$f":"'Rozliczenie końcowe'!I312","v":0},{"$f":"'Rozliczenie końcowe'!L312","v":0},"","","",{"$f":"'Rozliczenie końcowe'!C312","v":0},{"$f":"'Rozliczenie końcowe'!D312","v":0},{"$f":"'Rozliczenie końcowe'!E312","v":0},{"$f":"'Rozliczenie końcowe'!F312","v":0},null,null,0,0,"",0,"","",0,0,0,0,0,0,"ok","ok",0,0]
[{"$f":"'Rozliczenie końcowe'!A195","v":0},{"$f":"'Rozliczenie końcowe'!B313","v":""},{"$f":"'Rozliczenie końcowe'!I313","v":0},{"$f":"'Rozliczenie końcowe'!L313","v":0},"","","",{"$f":"'Rozliczenie końcowe'!C313","v":0},{"$f":"'Rozliczenie końcowe'!D313","v":0},{"$f":"'Rozliczenie końcowe'!E313","v":0},{"$f":"'Rozliczenie końcowe'!F313","v":0},null,null,0,0,"",0,"","",0,0,0,0,0,0,"ok","ok",0,0]
[{"$f":"'Rozliczenie końcowe'!A196","v":0},{"$f":"'Rozliczenie końcowe'!B314","v":""},{"$f":"'Rozliczenie końcowe'!I314","v":0},{"$f":"'Rozliczenie końcowe'!L314","v":0},"","","",{"$f":"'Rozliczenie końcowe'!C314","v":0},{"$f":"'Rozliczenie końcowe'!D314","v":0},{"$f":"'Rozliczenie końcowe'!E314","v":0},{"$f":"'Rozliczenie końcowe'!F314","v":0},null,null,0,0,"",0,"","",0,0,0,0,0,0,"ok","ok",0,0]
[{"$f":"'Rozliczenie końcowe'!A197","v":0},{"$f":"'Rozliczenie końcowe'!B315","v":""},{"$f":"'Rozliczenie końcowe'!I315","v":0},{"$f":"'Rozliczenie końcowe'!L315","v":0},"","","",{"$f":"'Rozliczenie końcowe'!C315","v":0},{"$f":"'Rozliczenie końcowe'!D315","v":0},{"$f":"'Rozliczenie końcowe'!E315","v":0},{"$f":"'Rozliczenie końcowe'!F315","v":0},null,null,0,0,"",0,"","",0,0,0,0,0,0,"ok","ok",0,0]
[{"$f":"'Rozliczenie końcowe'!A198","v":0},{"$f":"'Rozliczenie końcowe'!B316","v":""},{"$f":"'Rozliczenie końcowe'!I316","v":0},{"$f":"'Rozliczenie końcowe'!L316","v":0},"","","",{"$f":"'Rozliczenie końcowe'!C316","v":0},{"$f":"'Rozliczenie końcowe'!D316","v":0},{"$f":"'Rozliczenie końcowe'!E316","v":0},{"$f":"'Rozliczenie końcowe'!F316","v":0},null,null,0,0,"",0,"","",0,0,0,0,0,0,"ok","ok",0,0]
[{"$f":"'Rozliczenie końcowe'!A199","v":0},{"$f":"'Rozliczenie końcowe'!B317","v":""},{"$f":"'Rozliczenie końcowe'!I317","v":0},{"$f":"'Rozliczenie końcowe'!L317","v":0},"","","",{"$f":"'Rozliczenie końcowe'!C317","v":0},{"$f":"'Rozliczenie końcowe'!D317","v":0},{"$f":"'Rozliczenie końcowe'!E317","v":0},{"$f":"'Rozliczenie końcowe'!F317","v":0},null,null,0,0,"",0,"","",0,0,0,0,0,0,"ok","ok",0,0]
[{"$f":"'Rozliczenie końcowe'!A200","v":0},{"$f":"'Rozliczenie końcowe'!B318","v":""},{"$f":"'Rozliczenie końcowe'!I318","v":0},{"$f":"'Rozliczenie końcowe'!L318","v":0},"","","",{"$f":"'Rozliczenie końcowe'!C318","v":0},{"$f":"'Rozliczenie końcowe'!D318","v":0},{"$f":"'Rozliczenie końcowe'!E318","v":0},{"$f":"'Rozliczenie końcowe'!F318","v":0},null,null,0,0,"",0,"","",0,0,0,0,0,0,"ok","ok",0,0]
[{"$f":"'Rozliczenie końcowe'!A201","v":0},{"$f":"'Rozliczenie końcowe'!B319","v":""},{"$f":"'Rozliczenie końcowe'!I319","v":0},{"$f":"'Rozliczenie końcowe'!L319","v":0},"","","",{"$f":"'Rozliczenie końcowe'!C319","v":0},{"$f":"'Rozliczenie końcowe'!D319","v":0},{"$f":"'Rozliczenie końcowe'!E319","v":0},{"$f":"'Rozliczenie końcowe'!F319","v":0},null,null,0,0,"",0,"","",0,0,0,0,0,0,"ok","ok",0,0]
[{"$f":"'Rozliczenie końcowe'!A202","v":0},{"$f":"'Rozliczenie końcowe'!B320","v":""},{"$f":"'Rozliczenie końcowe'!I320","v":0},{"$f":"'Rozliczenie końcowe'!L320","v":0},"","","",{"$f":"'Rozliczenie końcowe'!C320","v":0},{"$f":"'Rozliczenie końcowe'!D320","v":0},{"$f":"'Rozliczenie końcowe'!E320","v":0},{"$f":"'Rozliczenie końcowe'!F320","v":0},null,null,0,0,"",0,"","",0,0,0,0,0,0,"ok","ok",0,0]
[{"$f":"'Rozliczenie końcowe'!A203","v":0},{"$f":"'Rozliczenie końcowe'!B321","v":""},{"$f":"'Rozliczenie końcowe'!I321","v":0},{"$f":"'Rozliczenie końcowe'!L321","v":0},"","","",{"$f":"'Rozliczenie końcowe'!C321","v":0},{"$f":"'Rozliczenie końcowe'!D321","v":0},{"$f":"'Rozliczenie końcowe'!E321","v":0},{"$f":"'Rozliczenie końcowe'!F321","v":0},null,null,0,0,"",0,"","",0,0,0,0,0,0,"ok","ok",0,0]
[{"$f":"'Rozliczenie końcowe'!A204","v":0},{"$f":"'Rozliczenie końcowe'!B322","v":""},{"$f":"'Rozliczenie końcowe'!I322","v":0},{"$f":"'Rozliczenie końcowe'!L322","v":0},"","","",{"$f":"'Rozliczenie końcowe'!C322","v":0},{"$f":"'Rozliczenie końcowe'!D322","v":0},{"$f":"'Rozliczenie końcowe'!E322","v":0},{"$f":"'Rozliczenie końcowe'!F322","v":0},null,null,0,0,"",0,"","",0,0,0,0,0,0,"ok","ok",0,0]
[{"$f":"'Rozliczenie końcowe'!A205","v":0},{"$f":"'Rozliczenie końcowe'!B323","v":""},{"$f":"'Rozliczenie końcowe'!I323","v":0},{"$f":"'Rozliczenie końcowe'!L323","v":0},"","","",{"$f":"'Rozliczenie końcowe'!C323","v":0},{"$f":"'Rozliczenie końcowe'!D323","v":0},{"$f":"'Rozliczenie końcowe'!E323","v":0},{"$f":"'Rozliczenie końcowe'!F323","v":0},null,null,0,0,"",0,"","",0,0,0,0,0,0,"ok","ok",0,0]
[{"$f":"'Rozliczenie końcowe'!A206","v":0},{"$f":"'Rozliczenie końcowe'!B324","v":""},{"$f":"'Rozliczenie końcowe'!I324","v":0},{"$f":"'Rozliczenie końcowe'!L324","v":0},"","","",{"$f":"'Rozliczenie końcowe'!C324","v":0},{"$f":"'Rozliczenie końcowe'!D324","v":0},{"$f":"'Rozliczenie końcowe'!E324","v":0},{"$f":"'Rozliczenie końcowe'!F324","v":0},null,null,0,0,"",0,"","",0,0,0,0,0,0,"ok","ok",0,0]
[{"$f":"'Rozliczenie końcowe'!A207","v":0},{"$f":"'Rozliczenie końcowe'!B325","v":""},{"$f":"'Rozliczenie końcowe'!I325","v":0},{"$f":"'Rozliczenie końcowe'!L325","v":0},"","","",{"$f":"'Rozliczenie końcowe'!C325","v":0},{"$f":"'Rozliczenie końcowe'!D325","v":0},{"$f":"'Rozliczenie końcowe'!E325","v":0},{"$f":"'Rozliczenie końcowe'!F325","v":0},null,null,0,0,"",0,"","",0,0,0,0,0,0,"ok","ok",0,0]
[{"$f":"'Rozliczenie końcowe'!A208","v":0},{"$f":"'Rozliczenie końcowe'!B326","v":""},{"$f":"'Rozliczenie końcowe'!I326","v":0},{"$f":"'Rozliczenie końcowe'!L326","v":0},"","","",{"$f":"'Rozliczenie końcowe'!C326","v":0},{"$f":"'Rozliczenie końcowe'!D326","v":0},{"$f":"'Rozliczenie końcowe'!E326","v":0},{"$f":"'Rozliczenie końcowe'!F326","v":0},null,null,0,0,"",0,"","",0,0,0,0,0,0,"ok","ok",0,0]
[{"$f":"'Rozliczenie końcowe'!A209","v":0},{"$f":"'Rozliczenie końcowe'!B327","v":""},{"$f":"'Rozliczenie końcowe'!I327","v":0},{"$f":"'Rozliczenie końcowe'!L327","v":0},"","","",{"$f":"'Rozliczenie końcowe'!C327","v":0},{"$f":"'Rozliczenie końcowe'!D327","v":0},{"$f":"'Rozliczenie końcowe'!E327","v":0},{"$f":"'Rozliczenie końcowe'!F327","v":0},null,null,0,0,"",0,"","",0,0,0,0,0,0,"ok","ok",0,0]
[{"$f":"'Rozliczenie końcowe'!A210","v":0},{"$f":"'Rozliczenie końcowe'!B328","v":""},{"$f":"'Rozliczenie końcowe'!I328","v":0},{"$f":"'Rozliczenie końcowe'!L328","v":0},"","","",{"$f":"'Rozliczenie końcowe'!C328","v":0},{"$f":"'Rozliczenie końcowe'!D328","v":0},{"$f":"'Rozliczenie końcowe'!E328","v":0},{"$f":"'Rozliczenie końcowe'!F328","v":0},null,null,0,0,"",0,"","",0,0,0,0,0,0,"ok","ok",0,0]
[{"$f":"'Rozliczenie końcowe'!A211","v":0},{"$f":"'Rozliczenie końcowe'!B329","v":""},{"$f":"'Rozliczenie końcowe'!I329","v":0},{"$f":"'Rozliczenie końcowe'!L329","v":0},"","","",{"$f":"'Rozliczenie końcowe'!C329","v":0},{"$f":"'Rozliczenie końcowe'!D329","v":0},{"$f":"'Rozliczenie końcowe'!E329","v":0},{"$f":"'Rozliczenie końcowe'!F329","v":0},null,null,0,0,{"$f":"F63","v":""},{"$f":"IFERROR(P63/O63,0)","v":0},"","",0,0,0,0,0,0,"ok","ok",0,0]
[{"$f":"'Rozliczenie końcowe'!A212","v":0},{"$f":"'Rozliczenie końcowe'!B330","v":""},{"$f":"'Rozliczenie końcowe'!I330","v":0},{"$f":"'Rozliczenie końcowe'!L330","v":0},"","","",{"$f":"'Rozliczenie końcowe'!C330","v":0},{"$f":"'Rozliczenie końcowe'!D330","v":0},{"$f":"'Rozliczenie końcowe'!E330","v":0},{"$f":"'Rozliczenie końcowe'!F330","v":0},null,null,0,0,{"$f":"F64","v":""},{"$f":"IFERROR(P64/O64,0)","v":0},"","",0,0,0,0,0,0,"ok","ok",0,0]
[{"$f":"'Rozliczenie końcowe'!A213","v":0},{"$f":"'Rozliczenie końcowe'!B331","v":""},{"$f":"'Rozliczenie końcowe'!I331","v":0},{"$f":"'Rozliczenie końcowe'!L331","v":0},"","","",{"$f":"'Rozliczenie końcowe'!C331","v":0},{"$f":"'Rozliczenie końcowe'!D331","v":0},{"$f":"'Rozliczenie końcowe'!E331","v":0},{"$f":"'Rozliczenie końcowe'!F331","v":0},null,null,0,0,"",0,"","",0,0,0,0,0,0,"ok","ok",0,0]
[{"$f":"'Rozliczenie końcowe'!A214","v":0},{"$f":"'Rozliczenie końcowe'!B332","v":""},{"$f":"'Rozliczenie końcowe'!I332","v":0},{"$f":"'Rozliczenie końcowe'!L332","v":0},"","","",{"$f":"'Rozliczenie końcowe'!C332","v":0},{"$f":"'Rozliczenie końcowe'!D332","v":0},{"$f":"'Rozliczenie końcowe'!E332","v":0},{"$f":"'Rozliczenie końcowe'!F332","v":0},null,null,{"$f":"A66","v":0},0,"",0,"","",0,0,0,0,0,0,"ok","ok",0,0]
[{"$f":"'Rozliczenie końcowe'!A215","v":0},{"$f":"'Rozliczenie końcowe'!B333","v":""},{"$f":"'Rozliczenie końcowe'!I333","v":0},{"$f":"'Rozliczenie końcowe'!L333","v":0},"","","",{"$f":"'Rozliczenie końcowe'!C333","v":0},{"$f":"'Rozliczenie końcowe'!D333","v":0},{"$f":"'Rozliczenie końcowe'!E333","v":0},{"$f":"'Rozliczenie końcowe'!F333","v":0},null,null,0,{"$f":"IFERROR(D67/C67,0)","v":0},"",0,"","",{"$f":"IFERROR(V67*C67,0)","v":0},{"$f":"V67*C67","v":0},0,0,{"$f":"D67*0.1","v":0},{"$f":"O67*0.1","v":0},"ok","ok",0,0]
[{"$f":"'Rozliczenie końcowe'!A216","v":0},{"$f":"'Rozliczenie końcowe'!B334","v":""},{"$f":"'Rozliczenie końcowe'!I334","v":0},{"$f":"'Rozliczenie końcowe'!L334","v":0},{"$f":"IFERROR(D68/C68,\"\")","v":""},{"$f":"IFERROR(ROUND(H68/C68,2),\"\")","v":""},{"$f":"IFERROR(ROUND(H68/D68,2),\"\")","v":""},{"$f":"'Rozliczenie końcowe'!C334","v":0},{"$f":"'Rozliczenie końcowe'!D334","v":0},{"$f":"'Rozliczenie końcowe'!E334","v":0},{"$f":"'Rozliczenie końcowe'!F334","v":0},null,null,0,0,"",0,{"$f":"IFERROR(ROUND(P68*C68,2),\"\")","v":""},{"$f":"IFERROR(ROUND(E68*C68,2),\"\")","v":""},0,0,{"$f":"IFERROR(IF((D68-H68)/C68>=$L$3,$L$3,(D68-H68)/C68),0)","v":0},{"$f":"IFERROR(ROUND(J68/C68,2),0)","v":0},0,0,{"$f":"IF(P68>=Y68,$M$1,$M$2)","v":"ok"},{"$f":"IF(W68<=$L$3,$M$1,$M$2)","v":"ok"},{"$f":"IFERROR((T68+R68)-D68,0)","v":0},{"$f":"IFERROR(D68-S68,0)","v":0}]
[{"$f":"'Rozliczenie końcowe'!A217","v":0},{"$f":"'Rozliczenie końcowe'!B335","v":""},{"$f":"'Rozliczenie końcowe'!I335","v":0},{"$f":"'Rozliczenie końcowe'!L335","v":0},"","","",{"$f":"'Rozliczenie końcowe'!C335","v":0},{"$f":"'Rozliczenie końcowe'!D335","v":0},{"$f":"'Rozliczenie końcowe'!E335","v":0},{"$f":"'Rozliczenie końcowe'!F335","v":0},null,null,0,0,"",0,"","",0,0,0,0,0,0,"ok","ok",0,0]
[{"$f":"'Rozliczenie końcowe'!A218","v":0},{"$f":"'Rozliczenie końcowe'!B336","v":""},{"$f":"'Rozliczenie końcowe'!I336","v":0},{"$f":"'Rozliczenie końcowe'!L336","v":0},"","","",{"$f":"'Rozliczenie końcowe'!C336","v":0},{"$f":"'Rozliczenie końcowe'!D336","v":0},{"$f":"'Rozliczenie końcowe'!E336","v":0},{"$f":"'Rozliczenie końcowe'!F336","v":0},null,null,0,0,"",0,"","",0,0,0,0,0,0,"ok","ok",0,0]
[{"$f":"'Rozliczenie końcowe'!A219","v":0},{"$f":"'Rozliczenie końcowe'!B337","v":""},{"$f":"'Rozliczenie końcowe'!I337","v":0},{"$f":"'Rozliczenie końcowe'!L337","v":0},"","","",{"$f":"'Rozliczenie końcowe'!C337","v":0},{"$f":"'Rozliczenie końcowe'!D337","v":0},{"$f":"'Rozliczenie końcowe'!E337","v":0},{"$f":"'Rozliczenie końcowe'!F337","v":0},null,null,0,0,"",0,"","",0,0,0,0,0,0,"ok","ok",0,0]
[{"$f":"'Rozliczenie końcowe'!A220","v":0},{"$f":"'Rozliczenie końcowe'!B338","v":""},{"$f":"'Rozliczenie końcowe'!I338","v":0},{"$f":"'Rozliczenie końcowe'!L338","v":0},"","","",{"$f":"'Rozliczenie końcowe'!C338","v":0},{"$f":"'Rozliczenie końcowe'!D338","v":0},{"$f":"'Rozliczenie końcowe'!E338","v":0},{"$f":"'Rozliczenie końcowe'!F338","v":0},null,null,0,0,"",0,"","",0,0,0,0,0,0,"ok","ok",0,0]
[{"$f":"'Rozliczenie końcowe'!A221","v":0},{"$f":"'Rozliczenie końcowe'!B339","v":""},{"$f":"'Rozliczenie końcowe'!I339","v":0},{"$f":"'Rozliczenie końcowe'!L339","v":0},"","","",{"$f":"'Rozliczenie końcowe'!C339","v":0},{"$f":"'Rozliczenie końcowe'!D339","v":0},{"$f":"'Rozliczenie końcowe'!E339","v":0},{"$f":"'Rozliczenie końcowe'!F339","v":0},null,null,0,0,{"$f":"F73","v":""},{"$f":"IFERROR(P73/O73,0)","v":0},"","",0,0,0,0,0,0,"ok","ok",0,0]
[{"$f":"'Rozliczenie końcowe'!A222","v":0},{"$f":"'Rozliczenie końcowe'!B340","v":""},{"$f":"'Rozliczenie końcowe'!I340","v":0},{"$f":"'Rozliczenie końcowe'!L340","v":0},"","","",{"$f":"'Rozliczenie końcowe'!C340","v":0},{"$f":"'Rozliczenie końcowe'!D340","v":0},{"$f":"'Rozliczenie końcowe'!E340","v":0},{"$f":"'Rozliczenie końcowe'!F340","v":0},null,null,0,0,{"$f":"F74","v":""},{"$f":"IFERROR(P74/O74,0)","v":0},"","",0,0,0,0,0,0,"ok","ok",0,0]
[{"$f":"'Rozliczenie końcowe'!A223","v":0},{"$f":"'Rozliczenie końcowe'!B341","v":""},{"$f":"'Rozliczenie końcowe'!I341","v":0},{"$f":"'Rozliczenie końcowe'!L341","v":0},"","","",{"$f":"'Rozliczenie końcowe'!C341","v":0},{"$f":"'Rozliczenie końcowe'!D341","v":0},{"$f":"'Rozliczenie końcowe'!E341","v":0},{"$f":"'Rozliczenie końcowe'!F341","v":0},null,null,0,0,"",0,"","",0,0,0,0,0,0,"ok","ok",0,0]
[{"$f":"'Rozliczenie końcowe'!A224","v":0},{"$f":"'Rozliczenie końcowe'!B342","v":""},{"$f":"'Rozliczenie końcowe'!I342","v":0},{"$f":"'Rozliczenie końcowe'!L342","v":0},"","","",{"$f":"'Rozliczenie końcowe'!C342","v":0},{"$f":"'Rozliczenie końcowe'!D342","v":0},{"$f":"'Rozliczenie końcowe'!E342","v":0},{"$f":"'Rozliczenie końcowe'!F342","v":0},null,null,0,0,"",0,"","",0,0,0,0,0,0,"ok","ok",0,0]
[{"$f":"'Rozliczenie końcowe'!A225","v":0},{"$f":"'Rozliczenie końcowe'!B343","v":""},{"$f":"'Rozliczenie końcowe'!I343","v":0},{"$f":"'Rozliczenie końcowe'!L343","v":0},"","","",{"$f":"'Rozliczenie końcowe'!C343","v":0},{"$f":"'Rozliczenie końcowe'!D343","v":0},{"$f":"'Rozliczenie końcowe'!E343","v":0},{"$f":"'Rozliczenie końcowe'!F343","v":0},null,null,0,0,"",0,"","",0,0,0,0,0,0,"ok","ok",0,0]
[{"$f":"'Rozliczenie końcowe'!A226","v":0},{"$f":"'Rozliczenie końcowe'!B344","v":""},{"$f":"'Rozliczenie końcowe'!I344","v":0},{"$f":"'Rozliczenie końcowe'!L344","v":0},"","","",{"$f":"'Rozliczenie końcowe'!C344","v":0},{"$f":"'Rozliczenie końcowe'!D344","v":0},{"$f":"'Rozliczenie końcowe'!E344","v":0},{"$f":"'Rozliczenie końcowe'!F344","v":0},null,null,0,0,"",0,"","",0,0,0,0,0,0,"ok","ok",0,0]
[{"$f":"'Rozliczenie końcowe'!A227","v":0},{"$f":"'Rozliczenie końcowe'!B345","v":""},{"$f":"'Rozliczenie końcowe'!I345","v":0},{"$f":"'Rozliczenie końcowe'!L345","v":0},"","","",{"$f":"'Rozliczenie końcowe'!C345","v":0},{"$f":"'Rozliczenie końcowe'!D345","v":0},{"$f":"'Rozliczenie końcowe'!E345","v":0},{"$f":"'Rozliczenie końcowe'!F345","v":0},null,null,0,0,"",0,"","",0,0,0,0,0,0,"ok","ok",0,0]
[{"$f":"'Rozliczenie końcowe'!A228","v":0},{"$f":"'Rozliczenie końcowe'!B346","v":""},{"$f":"'Rozliczenie końcowe'!I346","v":0},{"$f":"'Rozliczenie końcowe'!L346","v":0},"","","",{"$f":"'Rozliczenie końcowe'!C346","v":0},{"$f":"'Rozliczenie końcowe'!D346","v":0},{"$f":"'Rozliczenie końcowe'!E346","v":0},{"$f":"'Rozliczenie końcowe'!F346","v":0},null,null,0,0,"",0,"","",0,0,0,0,0,0,"ok","ok",0,0]
[{"$f":"'Rozliczenie końcowe'!A229","v":0},{"$f":"'Rozliczenie końcowe'!B347","v":""},{"$f":"'Rozliczenie końcowe'!I347","v":0},{"$f":"'Rozliczenie końcowe'!L347","v":0},"","","",{"$f":"'Rozliczenie końcowe'!C347","v":0},{"$f":"'Rozliczenie końcowe'!D347","v":0},{"$f":"'Rozliczenie końcowe'!E347","v":0},{"$f":"'Rozliczenie końcowe'!F347","v":0},null,null,0,0,"",0,"","",0,0,0,0,0,0,"ok","ok",0,0]
[{"$f":"'Rozliczenie końcowe'!A230","v":0},{"$f":"'Rozliczenie końcowe'!B348","v":""},{"$f":"'Rozliczenie końcowe'!I348","v":0},{"$f":"'Rozliczenie końcowe'!L348","v":0},"","","",{"$f":"'Rozliczenie końcowe'!C348","v":0},{"$f":"'Rozliczenie końcowe'!D348","v":0},{"$f":"'Rozliczenie końcowe'!E348","v":0},{"$f":"'Rozliczenie końcowe'!F348","v":0},null,null,0,0,"",0,"","",0,0,0,0,0,0,"ok","ok",0,0]
[{"$f":"'Rozliczenie końcowe'!A231","v":0},{"$f":"'Rozliczenie końcowe'!B349","v":""},{"$f":"'Rozliczenie końcowe'!I349","v":0},{"$f":"'Rozliczenie końcowe'!L349","v":0},"","","",{"$f":"'Rozliczenie końcowe'!C349","v":0},{"$f":"'Rozliczenie końcowe'!D349","v":0},{"$f":"'Rozliczenie końcowe'!E349","v":0},{"$f":"'Rozliczenie końcowe'!F349","v":0},null,null,0,0,"",0,"","",0,0,0,0,0,0,"ok","ok",0,0]
[{"$f":"'Rozliczenie końcowe'!A232","v":0},{"$f":"'Rozliczenie końcowe'!B350","v":""},{"$f":"'Rozliczenie końcowe'!I350","v":0},{"$f":"'Rozliczenie końcowe'!L350","v":0},"","","",{"$f":"'Rozliczenie końcowe'!C350","v":0},{"$f":"'Rozliczenie końcowe'!D350","v":0},{"$f":"'Rozliczenie końcowe'!E350","v":0},{"$f":"'Rozliczenie końcowe'!F350","v":0},null,null,0,0,"",0,"","",0,0,0,0,0,0,"ok","ok",0,0]
[{"$f":"'Rozliczenie końcowe'!A233","v":0},{"$f":"'Rozliczenie końcowe'!B351","v":""},{"$f":"'Rozliczenie końcowe'!I351","v":0},{"$f":"'Rozliczenie końcowe'!L351","v":0},"","","",{"$f":"'Rozliczenie końcowe'!C351","v":0},{"$f":"'Rozliczenie końcowe'!D351","v":0},{"$f":"'Rozliczenie końcowe'!E351","v":0},{"$f":"'Rozliczenie końcowe'!F351","v":0},null,null,0,0,"",0,"","",0,0,0,0,0,0,"ok","ok",0,0]
[{"$f":"'Rozliczenie końcowe'!A234","v":0},{"$f":"'Rozliczenie końcowe'!B352","v":""},{"$f":"'Rozliczenie końcowe'!I352","v":0},{"$f":"'Rozliczenie końcowe'!L352","v":0},"","","",{"$f":"'Rozliczenie końcowe'!C352","v":0},{"$f":"'Rozliczenie końcowe'!D352","v":0},{"$f":"'Rozliczenie końcowe'!E352","v":0},{"$f":"'Rozliczenie końcowe'!F352","v":0},null,null,0,0,"",0,"","",0,0,0,0,0,0,"ok","ok",0,0]
[{"$f":"'Rozliczenie końcowe'!A235","v":0},{"$f":"'Rozliczenie końcowe'!B353","v":""},{"$f":"'Rozliczenie końcowe'!I353","v":0},{"$f":"'Rozliczenie końcowe'!L353","v":0},"","","",{"$f":"'Rozliczenie końcowe'!C353","v":0},{"$f":"'Rozliczenie końcowe'!D353","v":0},{"$f":"'Rozliczenie końcowe'!E353","v":0},{"$f":"'Rozliczenie końcowe'!F353","v":0},null,null,0,0,"",0,"","",0,0,0,0,0,0,"ok","ok",0,0]
[{"$f":"'Rozliczenie końcowe'!A236","v":0},{"$f":"'Rozliczenie końcowe'!B354","v":""},{"$f":"'Rozliczenie końcowe'!I354","v":0},{"$f":"'Rozliczenie końcowe'!L354","v":0},"","","",{"$f":"'Rozliczenie końcowe'!C354","v":0},{"$f":"'Rozliczenie końcowe'!D354","v":0},{"$f":"'Rozliczenie końcowe'!E354","v":0},{"$f":"'Rozliczenie końcowe'!F354","v":0},null,null,0,0,"",0,"","",0,0,0,0,0,0,"ok","ok",0,0]
[{"$f":"'Rozliczenie końcowe'!A237","v":0},{"$f":"'Rozliczenie końcowe'!B355","v":""},{"$f":"'Rozliczenie końcowe'!I355","v":0},{"$f":"'Rozliczenie końcowe'!L355","v":0},"","","",{"$f":"'Rozliczenie końcowe'!C355","v":0},{"$f":"'Rozliczenie końcowe'!D355","v":0},{"$f":"'Rozliczenie końcowe'!E355","v":0},{"$f":"'Rozliczenie końcowe'!F355","v":0},null,null,0,0,"",0,"","",0,0,0,0,0,0,"ok","ok",0,0]
[{"$f":"'Rozliczenie końcowe'!A238","v":0},{"$f":"'Rozliczenie końcowe'!B356","v":""},{"$f":"'Rozliczenie końcowe'!I356","v":0},{"$f":"'Rozliczenie końcowe'!L356","v":0},"","","",{"$f":"'Rozliczenie końcowe'!C356","v":0},{"$f":"'Rozliczenie końcowe'!D356","v":0},{"$f":"'Rozliczenie końcowe'!E356","v":0},{"$f":"'Rozliczenie końcowe'!F356","v":0},null,null,0,0,"",0,"","",0,0,0,0,0,0,"ok","ok",0,0]
[{"$f":"'Rozliczenie końcowe'!A239","v":0},{"$f":"'Rozliczenie końcowe'!B357","v":""},{"$f":"'Rozliczenie końcowe'!I357","v":0},{"$f":"'Rozliczenie końcowe'!L357","v":0},"","","",{"$f":"'Rozliczenie końcowe'!C357","v":0},{"$f":"'Rozliczenie końcowe'!D357","v":0},{"$f":"'Rozliczenie końcowe'!E357","v":0},{"$f":"'Rozliczenie końcowe'!F357","v":0},null,null,0,0,"",0,"","",0,0,0,0,0,0,"ok","ok",0,0]
[{"$f":"'Rozliczenie końcowe'!A240","v":0},{"$f":"'Rozliczenie końcowe'!B358","v":""},{"$f":"'Rozliczenie końcowe'!I358","v":0},{"$f":"'Rozliczenie końcowe'!L358","v":0},"","","",{"$f":"'Rozliczenie końcowe'!C358","v":0},{"$f":"'Rozliczenie końcowe'!D358","v":0},{"$f":"'Rozliczenie końcowe'!E358","v":0},{"$f":"'Rozliczenie końcowe'!F358","v":0},null,null,0,0,"",0,"","",0,0,0,0,0,0,"ok","ok",0,0]
[{"$f":"'Rozliczenie końcowe'!A241","v":0},{"$f":"'Rozliczenie końcowe'!B359","v":""},{"$f":"'Rozliczenie końcowe'!I359","v":0},{"$f":"'Rozliczenie końcowe'!L359","v":0},"","","",{"$f":"'Rozliczenie końcowe'!C359","v":0},{"$f":"'Rozliczenie końcowe'!D359","v":0},{"$f":"'Rozliczenie końcowe'!E359","v":0},{"$f":"'Rozliczenie końcowe'!F359","v":0},null,null,0,0,"",0,"","",0,0,0,0,0,0,"ok","ok",0,0]
[{"$f":"'Rozliczenie końcowe'!A242","v":0},{"$f":"'Rozliczenie końcowe'!B360","v":""},{"$f":"'Rozliczenie końcowe'!I360","v":0},{"$f":"'Rozliczenie końcowe'!L360","v":0},"","","",{"$f":"'Rozliczenie końcowe'!C360","v":0},{"$f":"'Rozliczenie końcowe'!D360","v":0},{"$f":"'Rozliczenie końcowe'!E360","v":0},{"$f":"'Rozliczenie końcowe'!F360","v":0},null,null,0,0,"",0,"","",0,0,0,0,0,0,"ok","ok",0,0]
[{"$f":"'Rozliczenie końcowe'!A243","v":0},{"$f":"'Rozliczenie końcowe'!B361","v":""},{"$f":"'Rozliczenie końcowe'!I361","v":0},{"$f":"'Rozliczenie końcowe'!L361","v":0},"","","",{"$f":"'Rozliczenie końcowe'!C361","v":0},{"$f":"'Rozliczenie końcowe'!D361","v":0},{"$f":"'Rozliczenie końcowe'!E361","v":0},{"$f":"'Rozliczenie końcowe'!F361","v":0},null,null,0,0,"",0,"","",0,0,0,0,0,0,"ok","ok",0,0]
[{"$f":"'Rozliczenie końcowe'!A244","v":0},{"$f":"'Rozliczenie końcowe'!B362","v":""},{"$f":"'Rozliczenie końcowe'!I362","v":0},{"$f":"'Rozliczenie końcowe'!L362","v":0},"","","",{"$f":"'Rozliczenie końcowe'!C362","v":0},{"$f":"'Rozliczenie końcowe'!D362","v":0},{"$f":"'Rozliczenie końcowe'!E362","v":0},{"$f":"'Rozliczenie końcowe'!F362","v":0},null,null,0,0,"",0,"","",0,0,0,0,0,0,"ok","ok",0,0]
[{"$f":"'Rozliczenie końcowe'!A245","v":0},{"$f":"'Rozliczenie końcowe'!B363","v":""},{"$f":"'Rozliczenie końcowe'!I363","v":0},{"$f":"'Rozliczenie końcowe'!L363","v":0},"","","",{"$f":"'Rozliczenie końcowe'!C363","v":0},{"$f":"'Rozliczenie końcowe'!D363","v":0},{"$f":"'Rozliczenie końcowe'!E363","v":0},{"$f":"'Rozliczenie końcowe'!F363","v":0},null,null,0,0,"",0,"","",0,0,0,0,0,0,"ok","ok",0,0]
[{"$f":"'Rozliczenie końcowe'!A246","v":0},{"$f":"'Rozliczenie końcowe'!B364","v":""},{"$f":"'Rozliczenie końcowe'!I364","v":0},{"$f":"'Rozliczenie końcowe'!L364","v":0},"","","",{"$f":"'Rozliczenie końcowe'!C364","v":0},{"$f":"'Rozliczenie końcowe'!D364","v":0},{"$f":"'Rozliczenie końcowe'!E364","v":0},{"$f":"'Rozliczenie końcowe'!F364","v":0},null,null,0,0,"",0,"","",0,0,0,0,0,0,"ok","ok",0,0]
[{"$f":"'Rozliczenie końcowe'!A247","v":0},{"$f":"'Rozliczenie końcowe'!B365","v":""},{"$f":"'Rozliczenie końcowe'!I365","v":0},{"$f":"'Rozliczenie końcowe'!L365","v":0},"","","",{"$f":"'Rozliczenie końcowe'!C365","v":0},{"$f":"'Rozliczenie końcowe'!D365","v":0},{"$f":"'Rozliczenie końcowe'!E365","v":0},{"$f":"'Rozliczenie końcowe'!F365","v":0},null,null,0,0,"",0,"","",0,0,0,0,0,0,"ok","ok",0,0]
[{"$f":"'Rozliczenie końcowe'!A248","v":0},{"$f":"'Rozliczenie końcowe'!B366","v":""},{"$f":"'Rozliczenie końcowe'!I366","v":0},{"$f":"'Rozliczenie końcowe'!L366","v":0},"","","",{"$f":"'Rozliczenie końcowe'!C366","v":0},{"$f":"'Rozliczenie końcowe'!D366","v":0},{"$f":"'Rozliczenie końcowe'!E366","v":0},{"$f":"'Rozliczenie końcowe'!F366","v":0},null,null,0,0,"",0,"","",0,0,0,0,0,0,"ok","ok",0,0]
[{"$f":"'Rozliczenie końcowe'!A249","v":0},{"$f":"'Rozliczenie końcowe'!B367","v":""},{"$f":"'Rozliczenie końcowe'!I367","v":0},{"$f":"'Rozliczenie końcowe'!L367","v":0},"","","",{"$f":"'Rozliczenie końcowe'!C367","v":0},{"$f":"'Rozliczenie końcowe'!D367","v":0},{"$f":"'Rozliczenie końcowe'!E367","v":0},{"$f":"'Rozliczenie końcowe'!F367","v":0},null,null,0,0,"",0,"","",0,0,0,0,0,0,"ok","ok",0,0]
[{"$f":"'Rozliczenie końcowe'!A250","v":0},{"$f":"'Rozliczenie końcowe'!B368","v":""},{"$f":"'Rozliczenie końcowe'!I368","v":0},{"$f":"'Rozliczenie końcowe'!L368","v":0},"","","",{"$f":"'Rozliczenie końcowe'!C368","v":0},{"$f":"'Rozliczenie końcowe'!D368","v":0},{"$f":"'Rozliczenie końcowe'!E368","v":0},{"$f":"'Rozliczenie końcowe'!F368","v":0},null,null,0,0,"",0,"","",0,0,0,0,0,0,"ok","ok",0,0]
[{"$f":"'Rozliczenie końcowe'!A251","v":0},{"$f":"'Rozliczenie końcowe'!B369","v":""},{"$f":"'Rozliczenie końcowe'!I369","v":0},{"$f":"'Rozliczenie końcowe'!L369","v":0},"","","",{"$f":"'Rozliczenie końcowe'!C369","v":0},{"$f":"'Rozliczenie końcowe'!D369","v":0},{"$f":"'Rozliczenie końcowe'!E369","v":0},{"$f":"'Rozliczenie końcowe'!F369","v":0},null,null,0,0,"",0,"","",0,0,0,0,0,0,"ok","ok",0,0]
[{"$f":"'Rozliczenie końcowe'!A252","v":0},{"$f":"'Rozliczenie końcowe'!B370","v":""},{"$f":"'Rozliczenie końcowe'!I370","v":0},{"$f":"'Rozliczenie końcowe'!L370","v":0},"","","",{"$f":"'Rozliczenie końcowe'!C370","v":0},{"$f":"'Rozliczenie końcowe'!D370","v":0},{"$f":"'Rozliczenie końcowe'!E370","v":0},{"$f":"'Rozliczenie końcowe'!F370","v":0},null,null,0,0,"",0,"","",0,0,0,0,0,0,"ok","ok",0,0]
[{"$f":"'Rozliczenie końcowe'!A253","v":0},{"$f":"'Rozliczenie końcowe'!B371","v":""},{"$f":"'Rozliczenie końcowe'!I371","v":0},{"$f":"'Rozliczenie końcowe'!L371","v":0},"","","",{"$f":"'Rozliczenie końcowe'!C371","v":0},{"$f":"'Rozliczenie końcowe'!D371","v":0},{"$f":"'Rozliczenie końcowe'!E371","v":0},{"$f":"'Rozliczenie końcowe'!F371","v":0},null,null,0,0,"",0,"","",0,0,0,0,0,0,"ok","ok",0,0]
[{"$f":"'Rozliczenie końcowe'!A254","v":0},{"$f":"'Rozliczenie końcowe'!B372","v":""},{"$f":"'Rozliczenie końcowe'!I372","v":0},{"$f":"'Rozliczenie końcowe'!L372","v":0},"","","",{"$f":"'Rozliczenie końcowe'!C372","v":0},{"$f":"'Rozliczenie końcowe'!D372","v":0},{"$f":"'Rozliczenie końcowe'!E372","v":0},{"$f":"'Rozliczenie końcowe'!F372","v":0},null,null,0,0,"",0,"","",0,0,0,0,0,0,"ok","ok",0,0]
[{"$f":"'Rozliczenie końcowe'!A255","v":0},{"$f":"'Rozliczenie końcowe'!B373","v":""},{"$f":"'Rozliczenie końcowe'!I373","v":0},{"$f":"'Rozliczenie końcowe'!L373","v":0},"","","",{"$f":"'Rozliczenie końcowe'!C373","v":0},{"$f":"'Rozliczenie końcowe'!D373","v":0},{"$f":"'Rozliczenie końcowe'!E373","v":0},{"$f":"'Rozliczenie końcowe'!F373","v":0},null,null,0,0,"",0,"","",0,0,0,0,0,0,"ok","ok",0,0]
[{"$f":"'Rozliczenie końcowe'!A256","v":0},{"$f":"'Rozliczenie końcowe'!B374","v":""},{"$f":"'Rozliczenie końcowe'!I374","v":0},{"$f":"'Rozliczenie końcowe'!L374","v":0},"","","",{"$f":"'Rozliczenie końcowe'!C374","v":0},{"$f":"'Rozliczenie końcowe'!D374","v":0},{"$f":"'Rozliczenie końcowe'!E374","v":0},{"$f":"'Rozliczenie końcowe'!F374","v":0},null,null,0,0,"",0,"","",0,0,0,0,0,0,"ok","ok",0,0]
[{"$f":"'Rozliczenie końcowe'!A257","v":0},{"$f":"'Rozliczenie końcowe'!B375","v":""},{"$f":"'Rozliczenie końcowe'!I375","v":0},{"$f":"'Rozliczenie końcowe'!L375","v":0},"","","",{"$f":"'Rozliczenie końcowe'!C375","v":0},{"$f":"'Rozliczenie końcowe'!D375","v":0},{"$f":"'Rozliczenie końcowe'!E375","v":0},{"$f":"'Rozliczenie końcowe'!F375","v":0},null,null,0,0,"",0,"","",0,0,0,0,0,0,"ok","ok",0,0]
[{"$f":"'Rozliczenie końcowe'!A258","v":0},{"$f":"'Rozliczenie końcowe'!B376","v":""},{"$f":"'Rozliczenie końcowe'!I376","v":0},{"$f":"'Rozliczenie końcowe'!L376","v":0},"","","",{"$f":"'Rozliczenie końcowe'!C376","v":0},{"$f":"'Rozliczenie końcowe'!D376","v":0},{"$f":"'Rozliczenie końcowe'!E376","v":0},{"$f":"'Rozliczenie końcowe'!F376","v":0},null,null,0,0,"",0,"","",0,0,0,0,0,0,"ok","ok",0,0]
[{"$f":"'Rozliczenie końcowe'!A259","v":0},{"$f":"'Rozliczenie końcowe'!B377","v":""},{"$f":"'Rozliczenie końcowe'!I377","v":0},{"$f":"'Rozliczenie końcowe'!L377","v":0},"","","",{"$f":"'Rozliczenie końcowe'!C377","v":0},{"$f":"'Rozliczenie końcowe'!D377","v":0},{"$f":"'Rozliczenie końcowe'!E377","v":0},{"$f":"'Rozliczenie końcowe'!F377","v":0},null,null,0,0,"",0,"","",0,0,0,0,0,0,"ok","ok",0,0]
[{"$f":"'Rozliczenie końcowe'!A260","v":0},{"$f":"'Rozliczenie końcowe'!B378","v":""},{"$f":"'Rozliczenie końcowe'!I378","v":0},{"$f":"'Rozliczenie końcowe'!L378","v":0},"","","",{"$f":"'Rozliczenie końcowe'!C378","v":0},{"$f":"'Rozliczenie końcowe'!D378","v":0},{"$f":"'Rozliczenie końcowe'!E378","v":0},{"$f":"'Rozliczenie końcowe'!F378","v":0},null,null,0,0,"",0,"","",0,0,0,0,0,0,"ok","ok",0,0]
["Suma",{"$f":"'Rozliczenie końcowe'!B379","v":0},{"$f":"'Rozliczenie końcowe'!I379","v":0},{"$f":"'Rozliczenie końcowe'!L379","v":0},null,null,null,{"$f":"'Rozliczenie końcowe'!C379","v":0},{"$f":"'Rozliczenie końcowe'!D379","v":0},{"$f":"'Rozliczenie końcowe'!E379","v":0},{"$f":"'Rozliczenie końcowe'!F379","v":0},null,null,null,null,null,null,0,0,{"$f":"SUM(T3:T112)","v":0},{"$f":"SUM(U3:U112)","v":0},null,null,0]
[null,{"$f":"'Rozliczenie końcowe'!B380","v":0},null,null,null,null,null,null,null,{"$f":"'Rozliczenie końcowe'!E380","v":0},{"$f":"'Rozliczenie końcowe'!F380","v":0}]
[null,{"$f":"'Rozliczenie końcowe'!B381","v":0},null,null,null,null,null,null,null,{"$f":"'Rozliczenie końcowe'!E381","v":0},{"$f":"'Rozliczenie końcowe'!F381","v":0}]

{"sheet":"Weryfikacja III kw","index":13,"n_rows":115,"n_cols":31,"rows_kept":115,"cut":false,"hidden":true,"merged":[[0,1,0,11]]}
[null,"Dane z wniosku",null,null,null,null,null,null,null,null,null,null,"ok","Wer.",null,null,null,null,null,null,null,null,null,null,null,null,null,null,null,null,"Zgodność danych z załącznikiem nr 1"]
["l.p","NAZWA LINII","WOZOKILOMETRY","DEFICYT","CENA USŁUGI","WKŁAD WŁASNY/KM [ZŁ]","WKŁAD WŁASNY [%]","WKŁAD WŁASNY [ZŁ]","POBRANA KWOTA DOPŁATY","NALEŻNA KWOTA DOPŁATY","NIEWYKORZYSTANA KWOTA DOPŁATY","STAWKA MAX Z UMOWY","X",{"$f":"A2","v":"l.p"},"Cena usługi","Wkład własny/km [zł]","Wkład własny [%]","Wkład własny [zł]","Def z ceny usł","Kwota dopłaty","Max kwota dopł na podst wk. wł.","Max kwota dopł na podst wk wł/wzkm ","Kwota dopłaty/wozokm","10% z deficytu ","10 % z ceny usługi","warunek 10%","max 1 (3) zł/wzkm","Różnica w finansowaniu","Różnica def z zaokrągleń",null,{"$f":"IF(Miesiące!P11='Rozliczenie końcowe'!R196,'Weryfikacja III kw'!$M$1,'Weryfikacja III kw'!$M$2)","v":"ok"}]
[{"$f":"'Rozliczenie końcowe'!A151","v":0},{"$f":"'Rozliczenie końcowe'!B387","v":""},{"$f":"'Rozliczenie końcowe'!I387","v":0},{"$f":"'Rozliczenie końcowe'!L387","v":0},{"$f":"IFERROR(D3/C3,\"\")","v":""},{"$f":"IFERROR(ROUND(H3/C3,2),\"\")","v":""},{"$f":"IFERROR(ROUND(H3/D3,2),\"\")","v":""},{"$f":"'Rozliczenie końcowe'!C387","v":0},{"$f":"'Rozliczenie końcowe'!D387","v":0},{"$f":"'Rozliczenie końcowe'!E387","v":0},{"$f":"'Rozliczenie końcowe'!F387","v":0},3,null,0,{"$f":"IFERROR(D3/C3,0)","v":0},{"$f":"F3","v":""},{"$f":"IFERROR(P3/O3,0)","v":0},{"$f":"IFERROR(ROUND(P3*C3,2),\"\")","v":""},{"$f":"IFERROR(ROUND(E3*C3,2),\"\")","v":""},{"$f":"IFERROR(V3*C3,0)","v":0},{"$f":"V3*C3","v":0},{"$f":"IFERROR(IF((D3-H3)/C3>=$L$3,$L$3,(D3-H3)/C3),0)","v":0},{"$f":"IFERROR(ROUND(J3/C3,2),0)","v":0},{"$f":"D3*0.1","v":0},{"$f":"O3*0.1","v":0},{"$f":"IF(P3>=Y3,$M$1,$M$2)","v":"ok"},{"$f":"IF(W3<=$L$3,$M$1,$M$2)","v":"ok"},{"$f":"IFERROR((T3+R3)-D3,0)","v":0},{"$f":"IFERROR(D3-S3,0)","v":0}]
[{"$f":"'Rozliczenie końcowe'!A152","v":0},{"$f":"'Rozliczenie końcowe'!B388","v":""},{"$f":"'Rozliczenie końcowe'!I388","v":0},{"$f":"'Rozliczenie końcowe'!L388","v":0},{"$f":"IFERROR(D4/C4,\"\")","v":""},{"$f":"IFERROR(ROUND(H4/C4,2),\"\")","v":""},{"$f":"IFERROR(ROUND(H4/D4,2),\"\")","v":""},{"$f":"'Rozliczenie końcowe'!C388","v":0},{"$f":"'Rozliczenie końcowe'!D388","v":0},{"$f":"'Rozliczenie końcowe'!E388","v":0},{"$f":"'Rozliczenie końcowe'!F388","v":0},null,null,0,0,{"$f":"F4","v":""},{"$f":"IFERROR(P4/O4,0)","v":0},{"$f":"IFERROR(ROUND(P4*C4,2),\"\")","v":""},{"$f":"IFERROR(ROUND(E4*C4,2),\"\")","v":""},0,0,{"$f":"IFERROR(IF((D4-H4)/C4>=$L$3,$L$3,(D4-H4)/C4),0)","v":0},{"$f":"IFERROR(ROUND(J4/C4,2),0)","v":0},0,0,{"$f":"IF(P4>=Y4,$M$1,$M$2)","v":"ok"},{"$f":"IF(W4<=$L$3,$M$1,$M$2)","v":"ok"},{"$f":"IFERROR((T4+R4)-D4,0)","v":0},{"$f":"IFERROR(D4-S4,0)","v":0}]
[{"$f":"'Rozliczenie końcowe'!A153","v":0},{"$f":"'Rozliczenie końcowe'!B389","v":""},{"$f":"'Rozliczenie końcowe'!I389","v":0},{"$f":"'Rozliczenie końcowe'!L389","v":0},"","","",{"$f":"'Rozliczenie końcowe'!C389","v":0},{"$f":"'Rozliczenie końcowe'!D389","v":0},{"$f":"'Rozliczenie końcowe'!E389","v":0},{"$f":"'Rozliczenie końcowe'!F389","v":0},null,null,0,0,"",0,"","",0,0,0,0,0,0,"ok","ok",0,0]
[{"$f":"'Rozliczenie końcowe'!A154","v":0},{"$f":"'Rozliczenie końcowe'!B390","v":""},{"$f":"'Rozliczenie końcowe'!I390","v":0},{"$f":"'Rozliczenie końcowe'!L390","v":0},"","","",{"$f":"'Rozliczenie końcowe'!C390","v":0},{"$f":"'Rozliczenie końcowe'!D390","v":0},{"$f":"'Rozliczenie końcowe'!E390","v":0},{"$f":"'Rozliczenie końcowe'!F390","v":0},null,null,0,0,"",0,"","",0,0,0,0,0,0,"ok","ok",0,0]
[{"$f":"'Rozliczenie końcowe'!A155","v":0},{"$f":"'Rozliczenie końcowe'!B391","v":""},{"$f":"'Rozliczenie końcowe'!I391","v":0},{"$f":"'Rozliczenie końcowe'!L391","v":0},"","","",{"$f":"'Rozliczenie końcowe'!C391","v":0},{"$f":"'Rozliczenie końcowe'!D391","v":0},{"$f":"'Rozliczenie końcowe'!E391","v":0},{"$f":"'Rozliczenie końcowe'!F391","v":0},null,null,0,0,"",0,"","",0,0,0,0,0,0,"ok","ok",0,0]
[{"$f":"'Rozliczenie końcowe'!A156","v":0},{"$f":"'Rozliczenie końcowe'!B392","v":""},{"$f":"'Rozliczenie końcowe'!I392","v":0},{"$f":"'Rozliczenie końcowe'!L392","v":0},"","","",{"$f":"'Rozliczenie końcowe'!C392","v":0},{"$f":"'Rozliczenie końcowe'!D392","v":0},{"$f":"'Rozliczenie końcowe'!E392","v":0},{"$f":"'Rozliczenie końcowe'!F392","v":0},null,null,0,0,"",0,"","",0,0,0,0,0,0,"ok","ok",0,0]
[{"$f":"'Rozliczenie końcowe'!A157","v":0},{"$f":"'Rozliczenie końcowe'!B393","v":""},{"$f":"'Rozliczenie końcowe'!I393","v":0},{"$f":"'Rozliczenie końcowe'!L393","v":0},"","","",{"$f":"'Rozliczenie końcowe'!C393","v":0},{"$f":"'Rozliczenie końcowe'!D393","v":0},{"$f":"'Rozliczenie końcowe'!E393","v":0},{"$f":"'Rozliczenie końcowe'!F393","v":0},null,null,0,0,"",0,"","",0,0,0,0,0,0,"ok","ok",0,0]
[{"$f":"'Rozliczenie końcowe'!A158","v":0},{"$f":"'Rozliczenie końcowe'!B394","v":""},{"$f":"'Rozliczenie końcowe'!I394","v":0},{"$f":"'Rozliczenie końcowe'!L394","v":0},"","","",{"$f":"'Rozliczenie końcowe'!C394","v":0},{"$f":"'Rozliczenie końcowe'!D394","v":0},{"$f":"'Rozliczenie końcowe'!E394","v":0},{"$f":"'Rozliczenie końcowe'!F394","v":0},null,null,0,0,"",0,"","",0,0,0,0,0,0,"ok","ok",0,0]
[{"$f":"'Rozliczenie końcowe'!A159","v":0},{"$f":"'Rozliczenie końcowe'!B395","v":""},{"$f":"'Rozliczenie końcowe'!I395","v":0},{"$f":"'Rozliczenie końcowe'!L395","v":0},"","","",{"$f":"'Rozliczenie końcowe'!C395","v":0},{"$f":"'Rozliczenie końcowe'!D395","v":0},{"$f":"'Rozliczenie końcowe'!E395","v":0},{"$f":"'Rozliczenie końcowe'!F395","v":0},null,null,0,0,"",0,"","",0,0,0,0,0,0,"ok","ok",0,0]
[{"$f":"'Rozliczenie końcowe'!A160","v":0},{"$f":"'Rozliczenie końcowe'!B396","v":""},{"$f":"'Rozliczenie końcowe'!I396","v":0},{"$f":"'Rozliczenie końcowe'!L396","v":0},"","","",{"$f":"'Rozliczenie końcowe'!C396","v":0},{"$f":"'Rozliczenie końcowe'!D396","v":0},{"$f":"'Rozliczenie końcowe'!E396","v":0},{"$f":"'Rozliczenie końcowe'!F396","v":0},null,null,0,0,"",0,"","",0,0,0,0,0,0,"ok","ok",0,0]
[{"$f":"'Rozliczenie końcowe'!A161","v":0},{"$f":"'Rozliczenie końcowe'!B397","v":""},{"$f":"'Rozliczenie końcowe'!I397","v":0},{"$f":"'Rozliczenie końcowe'!L397","v":0},"","","",{"$f":"'Rozliczenie końcowe'!C397","v":0},{"$f":"'Rozliczenie końcowe'!D397","v":0},{"$f":"'Rozliczenie końcowe'!E397","v":0},{"$f":"'Rozliczenie końcowe'!F397","v":0},null,null,0,0,"",0,"","",0,0,0,0,0,0,"ok","ok",0,0]
[{"$f":"'Rozliczenie końcowe'!A162","v":0},{"$f":"'Rozliczenie końcowe'!B398","v":""},{"$f":"'Rozliczenie końcowe'!I398","v":0},{"$f":"'Rozliczenie końcowe'!L398","v":0},"","","",{"$f":"'Rozliczenie końcowe'!C398","v":0},{"$f":"'Rozliczenie końcowe'!D398","v":0},{"$f":"'Rozliczenie końcowe'!E398","v":0},{"$f":"'Rozliczenie końcowe'!F398","v":0},null,null,0,0,"",0,"","",0,0,0,0,0,0,"ok","ok",0,0]
[{"$f":"'Rozliczenie końcowe'!A163","v":0},{"$f":"'Rozliczenie końcowe'!B399","v":""},{"$f":"'Rozliczenie końcowe'!I399","v":0},{"$f":"'Rozliczenie końcowe'!L399","v":0},"","","",{"$f":"'Rozliczenie końcowe'!C399","v":0},{"$f":"'Rozliczenie końcowe'!D399","v":0},{"$f":"'Rozliczenie końcowe'!E399","v":0},{"$f":"'Rozliczenie końcowe'!F399","v":0},null,null,0,0,"",0,"","",0,0,0,0,0,0,"ok","ok",0,0]
[{"$f":"'Rozliczenie końcowe'!A164","v":0},{"$f":"'Rozliczenie końcowe'!B400","v":""},{"$f":"'Rozliczenie końcowe'!I400","v":0},{"$f":"'Rozliczenie końcowe'!L400","v":0},"","","",{"$f":"'Rozliczenie końcowe'!C400","v":0},{"$f":"'Rozliczenie końcowe'!D400","v":0},{"$f":"'Rozliczenie końcowe'!E400","v":0},{"$f":"'Rozliczenie końcowe'!F400","v":0},null,null,0,0,"",0,"","",0,0,0,0,0,0,"ok","ok",0,0]
[{"$f":"'Rozliczenie końcowe'!A165","v":0},{"$f":"'Rozliczenie końcowe'!B401","v":""},{"$f":"'Rozliczenie końcowe'!I401","v":0},{"$f":"'Rozliczenie końcowe'!L401","v":0},"","","",{"$f":"'Rozliczenie końcowe'!C401","v":0},{"$f":"'Rozliczenie końcowe'!D401","v":0},{"$f":"'Rozliczenie końcowe'!E401","v":0},{"$f":"'Rozliczenie końcowe'!F401","v":0},null,null,0,0,"",0,"","",0,0,0,0,0,0,"ok","ok",0,0]
[{"$f":"'Rozliczenie końcowe'!A166","v":0},{"$f":"'Rozliczenie końcowe'!B402","v":""},{"$f":"'Rozliczenie końcowe'!I402","v":0},{"$f":"'Rozliczenie końcowe'!L402","v":0},"","","",{"$f":"'Rozliczenie końcowe'!C402","v":0},{"$f":"'Rozliczenie końcowe'!D402","v":0},{"$f":"'Rozliczenie końcowe'!E402","v":0},{"$f":"'Rozliczenie końcowe'!F402","v":0},null,null,0,0,"",0,"","",0,0,0,0,0,0,"ok","ok",0,0]
[{"$f":"'Rozliczenie końcowe'!A167","v":0},{"$f":"'Rozliczenie końcowe'!B403","v":""},{"$f":"'Rozliczenie końcowe'!I403","v":0},{"$f":"'Rozliczenie końcowe'!L403","v":0},"","","",{"$f":"'Rozliczenie końcowe'!C403","v":0},{"$f":"'Rozliczenie końcowe'!D403","v":0},{"$f":"'Rozliczenie końcowe'!E403","v":0},{"$f":"'Rozliczenie końcowe'!F403","v":0},null,null,0,0,"",0,"","",0,0,0,0,0,0,"ok","ok",0,0]
[{"$f":"'Rozliczenie końcowe'!A168","v":0},{"$f":"'Rozliczenie końcowe'!B404","v":""},{"$f":"'Rozliczenie końcowe'!I404","v":0},{"$f":"'Rozliczenie końcowe'!L404","v":0},"","","",{"$f":"'Rozliczenie końcowe'!C404","v":0},{"$f":"'Rozliczenie końcowe'!D404","v":0},{"$f":"'Rozliczenie końcowe'!E404","v":0},{"$f":"'Rozliczenie końcowe'!F404","v":0},null,null,0,0,"",0,"","",0,0,0,0,0,0,"ok","ok",0,0]
[{"$f":"'Rozliczenie końcowe'!A169","v":0},{"$f":"'Rozliczenie końcowe'!B405","v":""},{"$f":"'Rozliczenie końcowe'!I405","v":0},{"$f":"'Rozliczenie końcowe'!L405","v":0},"","","",{"$f":"'Rozliczenie końcowe'!C405","v":0},{"$f":"'Rozliczenie końcowe'!D405","v":0},{"$f":"'Rozliczenie końcowe'!E405","v":0},{"$f":"'Rozliczenie końcowe'!F405","v":0},null,null,0,0,"",0,"","",0,0,0,0,0,0,"ok","ok",0,0]
[{"$f":"'Rozliczenie końcowe'!A170","v":0},{"$f":"'Rozliczenie końcowe'!B406","v":""},{"$f":"'Rozliczenie końcowe'!I406","v":0},{"$f":"'Rozliczenie końcowe'!L406","v":0},"","","",{"$f":"'Rozliczenie końcowe'!C406","v":0},{"$f":"'Rozliczenie końcowe'!D406","v":0},{"$f":"'Rozliczenie końcowe'!E406","v":0},{"$f":"'Rozliczenie końcowe'!F406","v":0},null,null,0,0,"",0,"","",0,0,0,0,0,0,"ok","ok",0,0]
[{"$f":"'Rozliczenie końcowe'!A171","v":0},{"$f":"'Rozliczenie końcowe'!B407","v":""},{"$f":"'Rozliczenie końcowe'!I407","v":0},{"$f":"'Rozliczenie końcowe'!L407","v":0},"","","",{"$f":"'Rozliczenie końcowe'!C407","v":0},{"$f":"'Rozliczenie końcowe'!D407","v":0},{"$f":"'Rozliczenie końcowe'!E407","v":0},{"$f":"'Rozliczenie końcowe'!F407","v":0},null,null,0,0,"",0,"","",0,0,0,0,0,0,"ok","ok",0,0]
[{"$f":"'Rozliczenie końcowe'!A172","v":0},{"$f":"'Rozliczenie końcowe'!B408","v":""},{"$f":"'Rozliczenie końcowe'!I408","v":0},{"$f":"'Rozliczenie końcowe'!L408","v":0},"","","",{"$f":"'Rozliczenie końcowe'!C408","v":0},{"$f":"'Rozliczenie końcowe'!D408","v":0},{"$f":"'Rozliczenie końcowe'!E408","v":0},{"$f":"'Rozliczenie końcowe'!F408","v":0},null,null,0,0,"",0,"","",0,0,0,0,0,0,"ok","ok",0,0]
[{"$f":"'Rozliczenie końcowe'!A173","v":0},{"$f":"'Rozliczenie końcowe'!B409","v":""},{"$f":"'Rozliczenie końcowe'!I409","v":0},{"$f":"'Rozliczenie końcowe'!L409","v":0},"","","",{"$f":"'Rozliczenie końcowe'!C409","v":0},{"$f":"'Rozliczenie końcowe'!D409","v":0},{"$f":"'Rozliczenie końcowe'!E409","v":0},{"$f":"'Rozliczenie końcowe'!F409","v":0},null,null,0,0,"",0,"","",0,0,0,0,0,0,"ok","ok",0,0]
[{"$f":"'Rozliczenie końcowe'!A174","v":0},{"$f":"'Rozliczenie końcowe'!B410","v":""},{"$f":"'Rozliczenie końcowe'!I410","v":0},{"$f":"'Rozliczenie końcowe'!L410","v":0},"","","",{"$f":"'Rozliczenie końcowe'!C410","v":0},{"$f":"'Rozliczenie końcowe'!D410","v":0},{"$f":"'Rozliczenie końcowe'!E410","v":0},{"$f":"'Rozliczenie końcowe'!F410","v":0},null,null,0,0,"",0,"","",0,0,0,0,0,0,"ok","ok",0,0]
[{"$f":"'Rozliczenie końcowe'!A175","v":0},{"$f":"'Rozliczenie końcowe'!B411","v":""},{"$f":"'Rozliczenie końcowe'!I411","v":0},{"$f":"'Rozliczenie końcowe'!L411","v":0},"","","",{"$f":"'Rozliczenie końcowe'!C411","v":0},{"$f":"'Rozliczenie końcowe'!D411","v":0},{"$f":"'Rozliczenie końcowe'!E411","v":0},{"$f":"'Rozliczenie końcowe'!F411","v":0},null,null,0,0,"",0,"","",0,0,0,0,0,0,"ok","ok",0,0]
[{"$f":"'Rozliczenie końcowe'!A176","v":0},{"$f":"'Rozliczenie końcowe'!B412","v":""},{"$f":"'Rozliczenie końcowe'!I412","v":0},{"$f":"'Rozliczenie końcowe'!L412","v":0},"","","",{"$f":"'Rozliczenie końcowe'!C412","v":0},{"$f":"'Rozliczenie końcowe'!D412","v":0},{"$f":"'Rozliczenie końcowe'!E412","v":0},{"$f":"'Rozliczenie końcowe'!F412","v":0},null,null,0,0,"",0,"","",0,0,0,0,0,0,"ok","ok",0,0]
[{"$f":"'Rozliczenie końcowe'!A177","v":0},{"$f":"'Rozliczenie końcowe'!B413","v":""},{"$f":"'Rozliczenie końcowe'!I413","v":0},{"$f":"'Rozliczenie końcowe'!L413","v":0},"","","",{"$f":"'Rozliczenie końcowe'!C413","v":0},{"$f":"'Rozliczenie końcowe'!D413","v":0},{"$f":"'Rozliczenie końcowe'!E413","v":0},{"$f":"'Rozliczenie końcowe'!F413","v":0},null,null,0,0,"",0,"","",0,0,0,0,0,0,"ok","ok",0,0]
[{"$f":"'Rozliczenie końcowe'!A178","v":0},{"$f":"'Rozliczenie końcowe'!B414","v":""},{"$f":"'Rozliczenie końcowe'!I414","v":0},{"$f":"'Rozliczenie końcowe'!L414","v":0},"","","",{"$f":"'Rozliczenie końcowe'!C414","v":0},{"$f":"'Rozliczenie końcowe'!D414","v":0},{"$f":"'Rozliczenie końcowe'!E414","v":0},{"$f":"'Rozliczenie końcowe'!F414","v":0},null,null,0,0,"",0,"","",0,0,0,0,0,0,"ok","ok",0,0]
[{"$f":"'Rozliczenie końcowe'!A179","v":0},{"$f":"'Rozliczenie końcowe'!B415","v":""},{"$f":"'Rozliczenie końcowe'!I415","v":0},{"$f":"'Rozliczenie końcowe'!L415","v":0},"","","",{"$f":"'Rozliczenie końcowe'!C415","v":0},{"$f":"'Rozliczenie końcowe'!D415","v":0},{"$f":"'Rozliczenie końcowe'!E415","v":0},{"$f":"'Rozliczenie końcowe'!F415","v":0},null,null,0,0,"",0,"","",0,0,0,0,0,0,"ok","ok",0,0]
[{"$f":"'Rozliczenie końcowe'!A180","v":0},{"$f":"'Rozliczenie końcowe'!B416","v":""},{"$f":"'Rozliczenie końcowe'!I416","v":0},{"$f":"'Rozliczenie końcowe'!L416","v":0},"","","",{"$f":"'Rozliczenie końcowe'!C416","v":0},{"$f":"'Rozliczenie końcowe'!D416","v":0},{"$f":"'Rozliczenie końcowe'!E416","v":0},{"$f":"'Rozliczenie końcowe'!F416","v":0},null,null,0,0,"",0,"","",0,0,0,0,0,0,"ok","ok",0,0]
[{"$f":"'Rozliczenie końcowe'!A181","v":0},{"$f":"'Rozliczenie końcowe'!B417","v":""},{"$f":"'Rozliczenie końcowe'!I417","v":0},{"$f":"'Rozliczenie końcowe'!L417","v":0},"","","",{"$f":"'Rozliczenie końcowe'!C417","v":0},{"$f":"'Rozliczenie końcowe'!D417","v":0},{"$f":"'Rozliczenie końcowe'!E417","v":0},{"$f":"'Rozliczenie końcowe'!F417","v":0},null,null,0,0,"",0,"","",0,0,0,0,0,0,"ok","ok",0,0]
[{"$f":"'Rozliczenie końcowe'!A182","v":0},{"$f":"'Rozliczenie końcowe'!B418","v":""},{"$f":"'Rozliczenie końcowe'!I418","v":0},{"$f":"'Rozliczenie końcowe'!L418","v":0},"","","",{"$f":"'Rozliczenie końcowe'!C418","v":0},{"$f":"'Rozliczenie końcowe'!D418","v":0},{"$f":"'Rozliczenie końcowe'!E418","v":0},{"$f":"'Rozliczenie końcowe'!F418","v":0},null,null,0,0,"",0,"","",0,0,0,0,0,0,"ok","ok",0,0]
[{"$f":"'Rozliczenie końcowe'!A183","v":0},{"$f":"'Rozliczenie końcowe'!B419","v":""},{"$f":"'Rozliczenie końcowe'!I419","v":0},{"$f":"'Rozliczenie końcowe'!L419","v":0},"","","",{"$f":"'Rozliczenie końcowe'!C419","v":0},{"$f":"'Rozliczenie końcowe'!D419","v":0},{"$f":"'Rozliczenie końcowe'!E419","v":0},{"$f":"'Rozliczenie końcowe'!F419","v":0},null,null,0,0,"",0,"","",0,0,0,0,0,0,"ok","ok",0,0]
[{"$f":"'Rozliczenie końcowe'!A184","v":0},{"$f":"'Rozliczenie końcowe'!B420","v":""},{"$f":"'Rozliczenie końcowe'!I420","v":0},{"$f":"'Rozliczenie końcowe'!L420","v":0},"","","",{"$f":"'Rozliczenie końcowe'!C420","v":0},{"$f":"'Rozliczenie końcowe'!D420","v":0},{"$f":"'Rozliczenie końcowe'!E420","v":0},{"$f":"'Rozliczenie końcowe'!F420","v":0},null,null,0,0,"",0,"","",0,0,0,0,0,0,"ok","ok",0,0]
[{"$f":"'Rozliczenie końcowe'!A185","v":0},{"$f":"'Rozliczenie końcowe'!B421","v":""},{"$f":"'Rozliczenie końcowe'!I421","v":0},{"$f":"'Rozliczenie końcowe'!L421","v":0},"","","",{"$f":"'Rozliczenie końcowe'!C421","v":0},{"$f":"'Rozliczenie końcowe'!D421","v":0},{"$f":"'Rozliczenie końcowe'!E421","v":0},{"$f":"'Rozliczenie końcowe'!F421","v":0},null,null,0,0,"",0,"","",0,0,0,0,0,0,"ok","ok",0,0]
[{"$f":"'Rozliczenie końcowe'!A186","v":0},{"$f":"'Rozliczenie końcowe'!B422","v":""},{"$f":"'Rozliczenie końcowe'!I422","v":0},{"$f":"'Rozliczenie końcowe'!L422","v":0},"","","",{"$f":"'Rozliczenie końcowe'!C422","v":0},{"$f":"'Rozliczenie końcowe'!D422","v":0},{"$f":"'Rozliczenie końcowe'!E422","v":0},{"$f":"'Rozliczenie końcowe'!F422","v":0},null,null,0,0,"",0,"","",0,0,0,0,0,0,"ok","ok",0,0]
[{"$f":"'Rozliczenie końcowe'!A187","v":0},{"$f":"'Rozliczenie końcowe'!B423","v":""},{"$f":"'Rozliczenie końcowe'!I423","v":0},{"$f":"'Rozliczenie końcowe'!L423","v":0},"","","",{"$f":"'Rozliczenie końcowe'!C423","v":0},{"$f":"'Rozliczenie końcowe'!D423","v":0},{"$f":"'Rozliczenie końcowe'!E423","v":0},{"$f":"'Rozliczenie końcowe'!F423","v":0},null,null,0,0,"",0,"","",0,0,0,0,0,0,"ok","ok",0,0]
[{"$f":"'Rozliczenie końcowe'!A188","v":0},{"$f":"'Rozliczenie końcowe'!B424","v":""},{"$f":"'Rozliczenie końcowe'!I424","v":0},{"$f":"'Rozliczenie końcowe'!L424","v":0},"","","",{"$f":"'Rozliczenie końcowe'!C424","v":0},{"$f":"'Rozliczenie końcowe'!D424","v":0},{"$f":"'Rozliczenie końcowe'!E424","v":0},{"$f":"'Rozliczenie końcowe'!F424","v":0},null,null,0,0,"",0,"","",0,0,0,0,0,0,"ok","ok",0,0]
[{"$f":"'Rozliczenie końcowe'!A189","v":0},{"$f":"'Rozliczenie końcowe'!B425","v":""},{"$f":"'Rozliczenie końcowe'!I425","v":0},{"$f":"'Rozliczenie końcowe'!L425","v":0},"","","",{"$f":"'Rozliczenie końcowe'!C425","v":0},{"$f":"'Rozliczenie końcowe'!D425","v":0},{"$f":"'Rozliczenie końcowe'!E425","v":0},{"$f":"'Rozliczenie końcowe'!F425","v":0},null,null,0,0,"",0,"","",0,0,0,0,0,0,"ok","ok",0,0]
[{"$f":"'Rozliczenie końcowe'!A190","v":0},{"$f":"'Rozliczenie końcowe'!B426","v":""},{"$f":"'Rozliczenie końcowe'!I426","v":0},{"$f":"'Rozliczenie końcowe'!L426","v":0},"","","",{"$f":"'Rozliczenie końcowe'!C426","v":0},{"$f":"'Rozliczenie końcowe'!D426","v":0},{"$f":"'Rozliczenie końcowe'!E426","v":0},{"$f":"'Rozliczenie końcowe'!F426","v":0},null,null,0,0,"",0,"","",0,0,0,0,0,0,"ok","ok",0,0]
[{"$f":"'Rozliczenie końcowe'!A191","v":0},{"$f":"'Rozliczenie końcowe'!B427","v":""},{"$f":"'Rozliczenie końcowe'!I427","v":0},{"$f":"'Rozliczenie końcowe'!L427","v":0},"","","",{"$f":"'Rozliczenie końcowe'!C427","v":0},{"$f":"'Rozliczenie końcowe'!D427","v":0},{"$f":"'Rozliczenie końcowe'!E427","v":0},{"$f":"'Rozliczenie końcowe'!F427","v":0},null,null,0,0,"",0,"","",0,0,0,0,0,0,"ok","ok",0,0]
[{"$f":"'Rozliczenie końcowe'!A192","v":0},{"$f":"'Rozliczenie końcowe'!B428","v":""},{"$f":"'Rozliczenie końcowe'!I428","v":0},{"$f":"'Rozliczenie końcowe'!L428","v":0},"","","",{"$f":"'Rozliczenie końcowe'!C428","v":0},{"$f":"'Rozliczenie końcowe'!D428","v":0},{"$f":"'Rozliczenie końcowe'!E428","v":0},{"$f":"'Rozliczenie końcowe'!F428","v":0},null,null,0,0,"",0,"","",0,0,0,0,0,0,"ok","ok",0,0]
[{"$f":"'Rozliczenie końcowe'!A193","v":0},{"$f":"'Rozliczenie końcowe'!B429","v":""},{"$f":"'Rozliczenie końcowe'!I429","v":0},{"$f":"'Rozliczenie końcowe'!L429","v":0},"","","",{"$f":"'Rozliczenie końcowe'!C429","v":0},{"$f":"'Rozliczenie końcowe'!D429","v":0},{"$f":"'Rozliczenie końcowe'!E429","v":0},{"$f":"'Rozliczenie końcowe'!F429","v":0},null,null,0,0,"",0,"","",0,0,0,0,0,0,"ok","ok",0,0]
[{"$f":"'Rozliczenie końcowe'!A194","v":0},{"$f":"'Rozliczenie końcowe'!B430","v":""},{"$f":"'Rozliczenie końcowe'!I430","v":0},{"$f":"'Rozliczenie końcowe'!L430","v":0},"","","",{"$f":"'Rozliczenie końcowe'!C430","v":0},{"$f":"'Rozliczenie końcowe'!D430","v":0},{"$f":"'Rozliczenie końcowe'!E430","v":0},{"$f":"'Rozliczenie końcowe'!F430","v":0},null,null,0,0,"",0,"","",0,0,0,0,0,0,"ok","ok",0,0]
[{"$f":"'Rozliczenie końcowe'!A195","v":0},{"$f":"'Rozliczenie końcowe'!B431","v":""},{"$f":"'Rozliczenie końcowe'!I431","v":0},{"$f":"'Rozliczenie końcowe'!L431","v":0},"","","",{"$f":"'Rozliczenie końcowe'!C431","v":0},{"$f":"'Rozliczenie końcowe'!D431","v":0},{"$f":"'Rozliczenie końcowe'!E431","v":0},{"$f":"'Rozliczenie końcowe'!F431","v":0},null,null,0,0,"",0,"","",0,0,0,0,0,0,"ok","ok",0,0]
[{"$f":"'Rozliczenie końcowe'!A196","v":0},{"$f":"'Rozliczenie końcowe'!B432","v":""},{"$f":"'Rozliczenie końcowe'!I432","v":0},{"$f":"'Rozliczenie końcowe'!L432","v":0},"","","",{"$f":"'Rozliczenie końcowe'!C432","v":0},{"$f":"'Rozliczenie końcowe'!D432","v":0},{"$f":"'Rozliczenie końcowe'!E432","v":0},{"$f":"'Rozliczenie końcowe'!F432","v":0},null,null,0,0,"",0,"","",0,0,0,0,0,0,"ok","ok",0,0]
[{"$f":"'Rozliczenie końcowe'!A197","v":0},{"$f":"'Rozliczenie końcowe'!B433","v":""},{"$f":"'Rozliczenie końcowe'!I433","v":0},{"$f":"'Rozliczenie końcowe'!L433","v":0},"","","",{"$f":"'Rozliczenie końcowe'!C433","v":0},{"$f":"'Rozliczenie końcowe'!D433","v":0},{"$f":"'Rozliczenie końcowe'!E433","v":0},{"$f":"'Rozliczenie końcowe'!F433","v":0},null,null,0,0,"",0,"","",0,0,0,0,0,0,"ok","ok",0,0]
[{"$f":"'Rozliczenie końcowe'!A198","v":0},{"$f":"'Rozliczenie końcowe'!B434","v":""},{"$f":"'Rozliczenie końcowe'!I434","v":0},{"$f":"'Rozliczenie końcowe'!L434","v":0},"","","",{"$f":"'Rozliczenie końcowe'!C434","v":0},{"$f":"'Rozliczenie końcowe'!D434","v":0},{"$f":"'Rozliczenie końcowe'!E434","v":0},{"$f":"'Rozliczenie końcowe'!F434","v":0},null,null,0,0,"",0,"","",0,0,0,0,0,0,"ok","ok",0,0]
[{"$f":"'Rozliczenie końcowe'!A199","v":0},{"$f":"'Rozliczenie końcowe'!B435","v":""},{"$f":"'Rozliczenie końcowe'!I435","v":0},{"$f":"'Rozliczenie końcowe'!L435","v":0},"","","",{"$f":"'Rozliczenie końcowe'!C435","v":0},{"$f":"'Rozliczenie końcowe'!D435","v":0},{"$f":"'Rozliczenie końcowe'!E435","v":0},{"$f":"'Rozliczenie końcowe'!F435","v":0},null,null,0,0,"",0,"","",0,0,0,0,0,0,"ok","ok",0,0]
[{"$f":"'Rozliczenie końcowe'!A200","v":0},{"$f":"'Rozliczenie końcowe'!B436","v":""},{"$f":"'Rozliczenie końcowe'!I436","v":0},{"$f":"'Rozliczenie końcowe'!L436","v":0},"","","",{"$f":"'Rozliczenie końcowe'!C436","v":0},{"$f":"'Rozliczenie końcowe'!D436","v":0},{"$f":"'Rozliczenie końcowe'!E436","v":0},{"$f":"'Rozliczenie końcowe'!F436","v":0},null,null,0,0,"",0,"","",0,0,0,0,0,0,"ok","ok",0,0]
[{"$f":"'Rozliczenie końcowe'!A201","v":0},{"$f":"'Rozliczenie końcowe'!B437","v":""},{"$f":"'Rozliczenie końcowe'!I437","v":0},{"$f":"'Rozliczenie końcowe'!L437","v":0},"","","",{"$f":"'Rozliczenie końcowe'!C437","v":0},{"$f":"'Rozliczenie końcowe'!D437","v":0},{"$f":"'Rozliczenie końcowe'!E437","v":0},{"$f":"'Rozliczenie końcowe'!F437","v":0},null,null,0,0,"",0,"","",0,0,0,0,0,0,"ok","ok",0,0]
[{"$f":"'Rozliczenie końcowe'!A202","v":0},{"$f":"'Rozliczenie końcowe'!B438","v":""},{"$f":"'Rozliczenie końcowe'!I438","v":0},{"$f":"'Rozliczenie końcowe'!L438","v":0},"","","",{"$f":"'Rozliczenie końcowe'!C438","v":0},{"$f":"'Rozliczenie końcowe'!D438","v":0},{"$f":"'Rozliczenie końcowe'!E438","v":0},{"$f":"'Rozliczenie końcowe'!F438","v":0},null,null,0,0,"",0,"","",0,0,0,0,0,0,"ok","ok",0,0]
[{"$f":"'Rozliczenie końcowe'!A203","v":0},{"$f":"'Rozliczenie końcowe'!B439","v":""},{"$f":"'Rozliczenie końcowe'!I439","v":0},{"$f":"'Rozliczenie końcowe'!L439","v":0},"","","",{"$f":"'Rozliczenie końcowe'!C439","v":0},{"$f":"'Rozliczenie końcowe'!D439","v":0},{"$f":"'Rozliczenie końcowe'!E439","v":0},{"$f":"'Rozliczenie końcowe'!F439","v":0},null,null,0,0,"",0,"","",0,0,0,0,0,0,"ok","ok",0,0]
[{"$f":"'Rozliczenie końcowe'!A204","v":0},{"$f":"'Rozliczenie końcowe'!B440","v":""},{"$f":"'Rozliczenie końcowe'!I440","v":0},{"$f":"'Rozliczenie końcowe'!L440","v":0},"","","",{"$f":"'Rozliczenie końcowe'!C440","v":0},{"$f":"'Rozliczenie końcowe'!D440","v":0},{"$f":"'Rozliczenie końcowe'!E440","v":0},{"$f":"'Rozliczenie końcowe'!F440","v":0},null,null,0,0,"",0,"","",0,0,0,0,0,0,"ok","ok",0,0]
[{"$f":"'Rozliczenie końcowe'!A205","v":0},{"$f":"'Rozliczenie końcowe'!B441","v":""},{"$f":"'Rozliczenie końcowe'!I441","v":0},{"$f":"'Rozliczenie końcowe'!L441","v":0},"","","",{"$f":"'Rozliczenie końcowe'!C441","v":0},{"$f":"'Rozliczenie końcowe'!D441","v":0},{"$f":"'Rozliczenie końcowe'!E441","v":0},{"$f":"'Rozliczenie końcowe'!F441","v":0},null,null,0,0,"",0,"","",0,0,0,0,0,0,"ok","ok",0,0]
[{"$f":"'Rozliczenie końcowe'!A206","v":0},{"$f":"'Rozliczenie końcowe'!B442","v":""},{"$f":"'Rozliczenie końcowe'!I442","v":0},{"$f":"'Rozliczenie końcowe'!L442","v":0},"","","",{"$f":"'Rozliczenie końcowe'!C442","v":0},{"$f":"'Rozliczenie końcowe'!D442","v":0},{"$f":"'Rozliczenie końcowe'!E442","v":0},{"$f":"'Rozliczenie końcowe'!F442","v":0},null,null,0,0,"",0,"","",0,0,0,0,0,0,"ok","ok",0,0]
[{"$f":"'Rozliczenie końcowe'!A207","v":0},{"$f":"'Rozliczenie końcowe'!B443","v":""},{"$f":"'Rozliczenie końcowe'!I443","v":0},{"$f":"'Rozliczenie końcowe'!L443","v":0},"","","",{"$f":"'Rozliczenie końcowe'!C443","v":0},{"$f":"'Rozliczenie końcowe'!D443","v":0},{"$f":"'Rozliczenie końcowe'!E443","v":0},{"$f":"'Rozliczenie końcowe'!F443","v":0},null,null,0,0,"",0,"","",0,0,0,0,0,0,"ok","ok",0,0]
[{"$f":"'Rozliczenie końcowe'!A208","v":0},{"$f":"'Rozliczenie końcowe'!B444","v":""},{"$f":"'Rozliczenie końcowe'!I444","v":0},{"$f":"'Rozliczenie końcowe'!L444","v":0},"","","",{"$f":"'Rozliczenie końcowe'!C444","v":0},{"$f":"'Rozliczenie końcowe'!D444","v":0},{"$f":"'Rozliczenie końcowe'!E444","v":0},{"$f":"'Rozliczenie końcowe'!F444","v":0},null,null,0,0,"",0,"","",0,0,0,0,0,0,"ok","ok",0,0]
[{"$f":"'Rozliczenie końcowe'!A209","v":0},{"$f":"'Rozliczenie końcowe'!B445","v":""},{"$f":"'Rozliczenie końcowe'!I445","v":0},{"$f":"'Rozliczenie końcowe'!L445","v":0},"","","",{"$f":"'Rozliczenie końcowe'!C445","v":0},{"$f":"'Rozliczenie końcowe'!D445","v":0},{"$f":"'Rozliczenie końcowe'!E445","v":0},{"$f":"'Rozliczenie końcowe'!F445","v":0},null,null,0,0,"",0,"","",0,0,0,0,0,0,"ok","ok",0,0]
[{"$f":"'Rozliczenie końcowe'!A210","v":0},{"$f":"'Rozliczenie końcowe'!B446","v":""},{"$f":"'Rozliczenie końcowe'!I446","v":0},{"$f":"'Rozliczenie końcowe'!L446","v":0},"","","",{"$f":"'Rozliczenie końcowe'!C446","v":0},{"$f":"'Rozliczenie końcowe'!D446","v":0},{"$f":"'Rozliczenie końcowe'!E446","v":0},{"$f":"'Rozliczenie końcowe'!F446","v":0},null,null,0,0,"",0,"","",0,0,0,0,0,0,"ok","ok",0,0]
[{"$f":"'Rozliczenie końcowe'!A211","v":0},{"$f":"'Rozliczenie końcowe'!B447","v":""},{"$f":"'Rozliczenie końcowe'!I447","v":0},{"$f":"'Rozliczenie końcowe'!L447","v":0},"","","",{"$f":"'Rozliczenie końcowe'!C447","v":0},{"$f":"'Rozliczenie końcowe'!D447","v":0},{"$f":"'Rozliczenie końcowe'!E447","v":0},{"$f":"'Rozliczenie końcowe'!F447","v":0},null,null,0,0,{"$f":"F63","v":""},{"$f":"IFERROR(P63/O63,0)","v":0},"","",0,0,0,0,0,0,"ok","ok",0,0]
[{"$f":"'Rozliczenie końcowe'!A212","v":0},{"$f":"'Rozliczenie końcowe'!B448","v":""},{"$f":"'Rozliczenie końcowe'!I448","v":0},{"$f":"'Rozliczenie końcowe'!L448","v":0},"","","",{"$f":"'Rozliczenie końcowe'!C448","v":0},{"$f":"'Rozliczenie końcowe'!D448","v":0},{"$f":"'Rozliczenie końcowe'!E448","v":0},{"$f":"'Rozliczenie końcowe'!F448","v":0},null,null,0,0,{"$f":"F64","v":""},{"$f":"IFERROR(P64/O64,0)","v":0},"","",0,0,0,0,0,0,"ok","ok",0,0]
[{"$f":"'Rozliczenie końcowe'!A213","v":0},{"$f":"'Rozliczenie końcowe'!B449","v":""},{"$f":"'Rozliczenie końcowe'!I449","v":0},{"$f":"'Rozliczenie końcowe'!L449","v":0},"","","",{"$f":"'Rozliczenie końcowe'!C449","v":0},{"$f":"'Rozliczenie końcowe'!D449","v":0},{"$f":"'Rozliczenie końcowe'!E449","v":0},{"$f":"'Rozliczenie końcowe'!F449","v":0},null,null,0,0,"",0,"","",0,0,0,0,0,0,"ok","ok",0,0]
[{"$f":"'Rozliczenie końcowe'!A214","v":0},{"$f":"'Rozliczenie końcowe'!B450","v":""},{"$f":"'Rozliczenie końcowe'!I450","v":0},{"$f":"'Rozliczenie końcowe'!L450","v":0},"","","",{"$f":"'Rozliczenie końcowe'!C450","v":0},{"$f":"'Rozliczenie końcowe'!D450","v":0},{"$f":"'Rozliczenie końcowe'!E450","v":0},{"$f":"'Rozliczenie końcowe'!F450","v":0},null,null,{"$f":"A66","v":0},0,"",0,"","",0,0,0,0,0,0,"ok","ok",0,0]
[{"$f":"'Rozliczenie końcowe'!A215","v":0},{"$f":"'Rozliczenie końcowe'!B451","v":""},{"$f":"'Rozliczenie końcowe'!I451","v":0},{"$f":"'Rozliczenie końcowe'!L451","v":0},"","","",{"$f":"'Rozliczenie końcowe'!C451","v":0},{"$f":"'Rozliczenie końcowe'!D451","v":0},{"$f":"'Rozliczenie końcowe'!E451","v":0},{"$f":"'Rozliczenie końcowe'!F451","v":0},null,null,0,{"$f":"IFERROR(D67/C67,0)","v":0},"",0,"","",{"$f":"IFERROR(V67*C67,0)","v":0},{"$f":"V67*C67","v":0},0,0,{"$f":"D67*0.1","v":0},{"$f":"O67*0.1","v":0},"ok","ok",0,0]
[{"$f":"'Rozliczenie końcowe'!A216","v":0},{"$f":"'Rozliczenie końcowe'!B452","v":""},{"$f":"'Rozliczenie końcowe'!I452","v":0},{"$f":"'Rozliczenie końcowe'!L452","v":0},{"$f":"IFERROR(D68/C68,\"\")","v":""},{"$f":"IFERROR(ROUND(H68/C68,2),\"\")","v":""},{"$f":"IFERROR(ROUND(H68/D68,2),\"\")","v":""},{"$f":"'Rozliczenie końcowe'!C452","v":0},{"$f":"'Rozliczenie końcowe'!D452","v":0},{"$f":"'Rozliczenie końcowe'!E452","v":0},{"$f":"'Rozliczenie końcowe'!F452","v":0},null,null,0,0,"",0,{"$f":"IFERROR(ROUND(P68*C68,2),\"\")","v":""},{"$f":"IFERROR(ROUND(E68*C68,2),\"\")","v":""},0,0,{"$f":"IFERROR(IF((D68-H68)/C68>=$L$3,$L$3,(D68-H68)/C68),0)","v":0},{"$f":"IFERROR(ROUND(J68/C68,2),0)","v":0},0,0,{"$f":"IF(P68>=Y68,$M$1,$M$2)","v":"ok"},{"$f":"IF(W68<=$L$3,$M$1,$M$2)","v":"ok"},{"$f":"IFERROR((T68+R68)-D68,0)","v":0},{"$f":"IFERROR(D68-S68,0)","v":0}]
[{"$f":"'Rozliczenie końcowe'!A217","v":0},{"$f":"'Rozliczenie końcowe'!B453","v":""},{"$f":"'Rozliczenie końcowe'!I453","v":0},{"$f":"'Rozliczenie końcowe'!L453","v":0},"","","",{"$f":"'Rozliczenie końcowe'!C453","v":0},{"$f":"'Rozliczenie końcowe'!D453","v":0},{"$f":"'Rozliczenie końcowe'!E453","v":0},{"$f":"'Rozliczenie końcowe'!F453","v":0},null,null,0,0,"",0,"","",0,0,0,0,0,0,"ok","ok",0,0]
[{"$f":"'Rozliczenie końcowe'!A218","v":0},{"$f":"'Rozliczenie końcowe'!B454","v":""},{"$f":"'Rozliczenie końcowe'!I454","v":0},{"$f":"'Rozliczenie końcowe'!L454","v":0},"","","",{"$f":"'Rozliczenie końcowe'!C454","v":0},{"$f":"'Rozliczenie końcowe'!D454","v":0},{"$f":"'Rozliczenie końcowe'!E454","v":0},{"$f":"'Rozliczenie końcowe'!F454","v":0},null,null,0,0,"",0,"","",0,0,0,0,0,0,"ok","ok",0,0]
[{"$f":"'Rozliczenie końcowe'!A219","v":0},{"$f":"'Rozliczenie końcowe'!B455","v":""},{"$f":"'Rozliczenie końcowe'!I455","v":0},{"$f":"'Rozliczenie końcowe'!L455","v":0},"","","",{"$f":"'Rozliczenie końcowe'!C455","v":0},{"$f":"'Rozliczenie końcowe'!D455","v":0},{"$f":"'Rozliczenie końcowe'!E455","v":0},{"$f":"'Rozliczenie końcowe'!F455","v":0},null,null,0,0,"",0,"","",0,0,0,0,0,0,"ok","ok",0,0]
[{"$f":"'Rozliczenie końcowe'!A220","v":0},{"$f":"'Rozliczenie końcowe'!B456","v":""},{"$f":"'Rozliczenie końcowe'!I456","v":0},{"$f":"'Rozliczenie końcowe'!L456","v":0},"","","",{"$f":"'Rozliczenie końcowe'!C456","v":0},{"$f":"'Rozliczenie końcowe'!D456","v":0},{"$f":"'Rozliczenie końcowe'!E456","v":0},{"$f":"'Rozliczenie końcowe'!F456","v":0},null,null,0,0,"",0,"","",0,0,0,0,0,0,"ok","ok",0,0]
[{"$f":"'Rozliczenie końcowe'!A221","v":0},{"$f":"'Rozliczenie końcowe'!B457","v":""},{"$f":"'Rozliczenie końcowe'!I457","v":0},{"$f":"'Rozliczenie końcowe'!L457","v":0},"","","",{"$f":"'Rozliczenie końcowe'!C457","v":0},{"$f":"'Rozliczenie końcowe'!D457","v":0},{"$f":"'Rozliczenie końcowe'!E457","v":0},{"$f":"'Rozliczenie końcowe'!F457","v":0},null,null,0,0,{"$f":"F73","v":""},{"$f":"IFERROR(P73/O73,0)","v":0},"","",0,0,0,0,0,0,"ok","ok",0,0]
[{"$f":"'Rozliczenie końcowe'!A222","v":0},{"$f":"'Rozliczenie końcowe'!B458","v":""},{"$f":"'Rozliczenie końcowe'!I458","v":0},{"$f":"'Rozliczenie końcowe'!L458","v":0},"","","",{"$f":"'Rozliczenie końcowe'!C458","v":0},{"$f":"'Rozliczenie końcowe'!D458","v":0},{"$f":"'Rozliczenie końcowe'!E458","v":0},{"$f":"'Rozliczenie końcowe'!F458","v":0},null,null,0,0,{"$f":"F74","v":""},{"$f":"IFERROR(P74/O74,0)","v":0},"","",0,0,0,0,0,0,"ok","ok",0,0]
[{"$f":"'Rozliczenie końcowe'!A223","v":0},{"$f":"'Rozliczenie końcowe'!B459","v":""},{"$f":"'Rozliczenie końcowe'!I459","v":0},{"$f":"'Rozliczenie końcowe'!L459","v":0},"","","",{"$f":"'Rozliczenie końcowe'!C459","v":0},{"$f":"'Rozliczenie końcowe'!D459","v":0},{"$f":"'Rozliczenie końcowe'!E459","v":0},{"$f":"'Rozliczenie końcowe'!F459","v":0},null,null,0,0,"",0,"","",0,0,0,0,0,0,"ok","ok",0,0]
[{"$f":"'Rozliczenie końcowe'!A224","v":0},{"$f":"'Rozliczenie końcowe'!B460","v":""},{"$f":"'Rozliczenie końcowe'!I460","v":0},{"$f":"'Rozliczenie końcowe'!L460","v":0},"","","",{"$f":"'Rozliczenie końcowe'!C460","v":0},{"$f":"'Rozliczenie końcowe'!D460","v":0},{"$f":"'Rozliczenie końcowe'!E460","v":0},{"$f":"'Rozliczenie końcowe'!F460","v":0},null,null,0,0,"",0,"","",0,0,0,0,0,0,"ok","ok",0,0]
[{"$f":"'Rozliczenie końcowe'!A225","v":0},{"$f":"'Rozliczenie końcowe'!B461","v":""},{"$f":"'Rozliczenie końcowe'!I461","v":0},{"$f":"'Rozliczenie końcowe'!L461","v":0},"","","",{"$f":"'Rozliczenie końcowe'!C461","v":0},{"$f":"'Rozliczenie końcowe'!D461","v":0},{"$f":"'Rozliczenie końcowe'!E461","v":0},{"$f":"'Rozliczenie końcowe'!F461","v":0},null,null,0,0,"",0,"","",0,0,0,0,0,0,"ok","ok",0,0]
[{"$f":"'Rozliczenie końcowe'!A226","v":0},{"$f":"'Rozliczenie końcowe'!B462","v":""},{"$f":"'Rozliczenie końcowe'!I462","v":0},{"$f":"'Rozliczenie końcowe'!L462","v":0},"","","",{"$f":"'Rozliczenie końcowe'!C462","v":0},{"$f":"'Rozliczenie końcowe'!D462","v":0},{"$f":"'Rozliczenie końcowe'!E462","v":0},{"$f":"'Rozliczenie końcowe'!F462","v":0},null,null,0,0,"",0,"","",0,0,0,0,0,0,"ok","ok",0,0]
[{"$f":"'Rozliczenie końcowe'!A227","v":0},{"$f":"'Rozliczenie końcowe'!B463","v":""},{"$f":"'Rozliczenie końcowe'!I463","v":0},{"$f":"'Rozliczenie końcowe'!L463","v":0},"","","",{"$f":"'Rozliczenie końcowe'!C463","v":0},{"$f":"'Rozliczenie końcowe'!D463","v":0},{"$f":"'Rozliczenie końcowe'!E463","v":0},{"$f":"'Rozliczenie końcowe'!F463","v":0},null,null,0,0,"",0,"","",0,0,0,0,0,0,"ok","ok",0,0]
[{"$f":"'Rozliczenie końcowe'!A228","v":0},{"$f":"'Rozliczenie końcowe'!B464","v":""},{"$f":"'Rozliczenie końcowe'!I464","v":0},{"$f":"'Rozliczenie końcowe'!L464","v":0},"","","",{"$f":"'Rozliczenie końcowe'!C464","v":0},{"$f":"'Rozliczenie końcowe'!D464","v":0},{"$f":"'Rozliczenie końcowe'!E464","v":0},{"$f":"'Rozliczenie końcowe'!F464","v":0},null,null,0,0,"",0,"","",0,0,0,0,0,0,"ok","ok",0,0]
[{"$f":"'Rozliczenie końcowe'!A229","v":0},{"$f":"'Rozliczenie końcowe'!B465","v":""},{"$f":"'Rozliczenie końcowe'!I465","v":0},{"$f":"'Rozliczenie końcowe'!L465","v":0},"","","",{"$f":"'Rozliczenie końcowe'!C465","v":0},{"$f":"'Rozliczenie końcowe'!D465","v":0},{"$f":"'Rozliczenie końcowe'!E465","v":0},{"$f":"'Rozliczenie końcowe'!F465","v":0},null,null,0,0,"",0,"","",0,0,0,0,0,0,"ok","ok",0,0]
[{"$f":"'Rozliczenie końcowe'!A230","v":0},{"$f":"'Rozliczenie końcowe'!B466","v":""},{"$f":"'Rozliczenie końcowe'!I466","v":0},{"$f":"'Rozliczenie końcowe'!L466","v":0},"","","",{"$f":"'Rozliczenie końcowe'!C466","v":0},{"$f":"'Rozliczenie końcowe'!D466","v":0},{"$f":"'Rozliczenie końcowe'!E466","v":0},{"$f":"'Rozliczenie końcowe'!F466","v":0},null,null,0,0,"",0,"","",0,0,0,0,0,0,"ok","ok",0,0]
[{"$f":"'Rozliczenie końcowe'!A231","v":0},{"$f":"'Rozliczenie końcowe'!B467","v":""},{"$f":"'Rozliczenie końcowe'!I467","v":0},{"$f":"'Rozliczenie końcowe'!L467","v":0},"","","",{"$f":"'Rozliczenie końcowe'!C467","v":0},{"$f":"'Rozliczenie końcowe'!D467","v":0},{"$f":"'Rozliczenie końcowe'!E467","v":0},{"$f":"'Rozliczenie końcowe'!F467","v":0},null,null,0,0,"",0,"","",0,0,0,0,0,0,"ok","ok",0,0]
[{"$f":"'Rozliczenie końcowe'!A232","v":0},{"$f":"'Rozliczenie końcowe'!B468","v":""},{"$f":"'Rozliczenie końcowe'!I468","v":0},{"$f":"'Rozliczenie końcowe'!L468","v":0},"","","",{"$f":"'Rozliczenie końcowe'!C468","v":0},{"$f":"'Rozliczenie końcowe'!D468","v":0},{"$f":"'Rozliczenie końcowe'!E468","v":0},{"$f":"'Rozliczenie końcowe'!F468","v":0},null,null,0,0,"",0,"","",0,0,0,0,0,0,"ok","ok",0,0]
[{"$f":"'Rozliczenie końcowe'!A233","v":0},{"$f":"'Rozliczenie końcowe'!B469","v":""},{"$f":"'Rozliczenie końcowe'!I469","v":0},{"$f":"'Rozliczenie końcowe'!L469","v":0},"","","",{"$f":"'Rozliczenie końcowe'!C469","v":0},{"$f":"'Rozliczenie końcowe'!D469","v":0},{"$f":"'Rozliczenie końcowe'!E469","v":0},{"$f":"'Rozliczenie końcowe'!F469","v":0},null,null,0,0,"",0,"","",0,0,0,0,0,0,"ok","ok",0,0]
[{"$f":"'Rozliczenie końcowe'!A234","v":0},{"$f":"'Rozliczenie końcowe'!B470","v":""},{"$f":"'Rozliczenie końcowe'!I470","v":0},{"$f":"'Rozliczenie końcowe'!L470","v":0},"","","",{"$f":"'Rozliczenie końcowe'!C470","v":0},{"$f":"'Rozliczenie końcowe'!D470","v":0},{"$f":"'Rozliczenie końcowe'!E470","v":0},{"$f":"'Rozliczenie końcowe'!F470","v":0},null,null,0,0,"",0,"","",0,0,0,0,0,0,"ok","ok",0,0]
[{"$f":"'Rozliczenie końcowe'!A235","v":0},{"$f":"'Rozliczenie końcowe'!B471","v":""},{"$f":"'Rozliczenie końcowe'!I471","v":0},{"$f":"'Rozliczenie końcowe'!L471","v":0},"","","",{"$f":"'Rozliczenie końcowe'!C471","v":0},{"$f":"'Rozliczenie końcowe'!D471","v":0},{"$f":"'Rozliczenie końcowe'!E471","v":0},{"$f":"'Rozliczenie końcowe'!F471","v":0},null,null,0,0,"",0,"","",0,0,0,0,0,0,"ok","ok",0,0]
[{"$f":"'Rozliczenie końcowe'!A236","v":0},{"$f":"'Rozliczenie końcowe'!B472","v":""},{"$f":"'Rozliczenie końcowe'!I472","v":0},{"$f":"'Rozliczenie końcowe'!L472","v":0},"","","",{"$f":"'Rozliczenie końcowe'!C472","v":0},{"$f":"'Rozliczenie końcowe'!D472","v":0},{"$f":"'Rozliczenie końcowe'!E472","v":0},{"$f":"'Rozliczenie końcowe'!F472","v":0},null,null,0,0,"",0,"","",0,0,0,0,0,0,"ok","ok",0,0]
[{"$f":"'Rozliczenie końcowe'!A237","v":0},{"$f":"'Rozliczenie końcowe'!B473","v":""},{"$f":"'Rozliczenie końcowe'!I473","v":0},{"$f":"'Rozliczenie końcowe'!L473","v":0},"","","",{"$f":"'Rozliczenie końcowe'!C473","v":0},{"$f":"'Rozliczenie końcowe'!D473","v":0},{"$f":"'Rozliczenie końcowe'!E473","v":0},{"$f":"'Rozliczenie końcowe'!F473","v":0},null,null,0,0,"",0,"","",0,0,0,0,0,0,"ok","ok",0,0]
[{"$f":"'Rozliczenie końcowe'!A238","v":0},{"$f":"'Rozliczenie końcowe'!B474","v":""},{"$f":"'Rozliczenie końcowe'!I474","v":0},{"$f":"'Rozliczenie końcowe'!L474","v":0},"","","",{"$f":"'Rozliczenie końcowe'!C474","v":0},{"$f":"'Rozliczenie końcowe'!D474","v":0},{"$f":"'Rozliczenie końcowe'!E474","v":0},{"$f":"'Rozliczenie końcowe'!F474","v":0},null,null,0,0,"",0,"","",0,0,0,0,0,0,"ok","ok",0,0]
[{"$f":"'Rozliczenie końcowe'!A239","v":0},{"$f":"'Rozliczenie końcowe'!B475","v":""},{"$f":"'Rozliczenie końcowe'!I475","v":0},{"$f":"'Rozliczenie końcowe'!L475","v":0},"","","",{"$f":"'Rozliczenie końcowe'!C475","v":0},{"$f":"'Rozliczenie końcowe'!D475","v":0},{"$f":"'Rozliczenie końcowe'!E475","v":0},{"$f":"'Rozliczenie końcowe'!F475","v":0},null,null,0,0,"",0,"","",0,0,0,0,0,0,"ok","ok",0,0]
[{"$f":"'Rozliczenie końcowe'!A240","v":0},{"$f":"'Rozliczenie końcowe'!B476","v":""},{"$f":"'Rozliczenie końcowe'!I476","v":0},{"$f":"'Rozliczenie końcowe'!L476","v":0},"","","",{"$f":"'Rozliczenie końcowe'!C476","v":0},{"$f":"'Rozliczenie końcowe'!D476","v":0},{"$f":"'Rozliczenie końcowe'!E476","v":0},{"$f":"'Rozliczenie końcowe'!F476","v":0},null,null,0,0,"",0,"","",0,0,0,0,0,0,"ok","ok",0,0]
[{"$f":"'Rozliczenie końcowe'!A241","v":0},{"$f":"'Rozliczenie końcowe'!B477","v":""},{"$f":"'Rozliczenie końcowe'!I477","v":0},{"$f":"'Rozliczenie końcowe'!L477","v":0},"","","",{"$f":"'Rozliczenie końcowe'!C477","v":0},{"$f":"'Rozliczenie końcowe'!D477","v":0},{"$f":"'Rozliczenie końcowe'!E477","v":0},{"$f":"'Rozliczenie końcowe'!F477","v":0},null,null,0,0,"",0,"","",0,0,0,0,0,0,"ok","ok",0,0]
[{"$f":"'Rozliczenie końcowe'!A242","v":0},{"$f":"'Rozliczenie końcowe'!B478","v":""},{"$f":"'Rozliczenie końcowe'!I478","v":0},{"$f":"'Rozliczenie końcowe'!L478","v":0},"","","",{"$f":"'Rozliczenie końcowe'!C478","v":0},{"$f":"'Rozliczenie końcowe'!D478","v":0},{"$f":"'Rozliczenie końcowe'!E478","v":0},{"$f":"'Rozliczenie końcowe'!F478","v":0},null,null,0,0,"",0,"","",0,0,0,0,0,0,"ok","ok",0,0]
[{"$f":"'Rozliczenie końcowe'!A243","v":0},{"$f":"'Rozliczenie końcowe'!B479","v":""},{"$f":"'Rozliczenie końcowe'!I479","v":0},{"$f":"'Rozliczenie końcowe'!L479","v":0},"","","",{"$f":"'Rozliczenie końcowe'!C479","v":0},{"$f":"'Rozliczenie końcowe'!D479","v":0},{"$f":"'Rozliczenie końcowe'!E479","v":0},{"$f":"'Rozliczenie końcowe'!F479","v":0},null,null,0,0,"",0,"","",0,0,0,0,0,0,"ok","ok",0,0]
[{"$f":"'Rozliczenie końcowe'!A244","v":0},{"$f":"'Rozliczenie końcowe'!B480","v":""},{"$f":"'Rozliczenie końcowe'!I480","v":0},{"$f":"'Rozliczenie końcowe'!L480","v":0},"","","",{"$f":"'Rozliczenie końcowe'!C480","v":0},{"$f":"'Rozliczenie końcowe'!D480","v":0},{"$f":"'Rozliczenie końcowe'!E480","v":0},{"$f":"'Rozliczenie końcowe'!F480","v":0},null,null,0,0,"",0,"","",0,0,0,0,0,0,"ok","ok",0,0]
[{"$f":"'Rozliczenie końcowe'!A245","v":0},{"$f":"'Rozliczenie końcowe'!B481","v":""},{"$f":"'Rozliczenie końcowe'!I481","v":0},{"$f":"'Rozliczenie końcowe'!L481","v":0},"","","",{"$f":"'Rozliczenie końcowe'!C481","v":0},{"$f":"'Rozliczenie końcowe'!D481","v":0},{"$f":"'Rozliczenie końcowe'!E481","v":0},{"$f":"'Rozliczenie końcowe'!F481","v":0},null,null,0,0,"",0,"","",0,0,0,0,0,0,"ok","ok",0,0]
[{"$f":"'Rozliczenie końcowe'!A246","v":0},{"$f":"'Rozliczenie końcowe'!B482","v":""},{"$f":"'Rozliczenie końcowe'!I482","v":0},{"$f":"'Rozliczenie końcowe'!L482","v":0},"","","",{"$f":"'Rozliczenie końcowe'!C482","v":0},{"$f":"'Rozliczenie końcowe'!D482","v":0},{"$f":"'Rozliczenie końcowe'!E482","v":0},{"$f":"'Rozliczenie końcowe'!F482","v":0},null,null,0,0,"",0,"","",0,0,0,0,0,0,"ok","ok",0,0]
[{"$f":"'Rozliczenie końcowe'!A247","v":0},{"$f":"'Rozliczenie końcowe'!B483","v":""},{"$f":"'Rozliczenie końcowe'!I483","v":0},{"$f":"'Rozliczenie końcowe'!L483","v":0},"","","",{"$f":"'Rozliczenie końcowe'!C483","v":0},{"$f":"'Rozliczenie końcowe'!D483","v":0},{"$f":"'Rozliczenie końcowe'!E483","v":0},{"$f":"'Rozliczenie końcowe'!F483","v":0},null,null,0,0,"",0,"","",0,0,0,0,0,0,"ok","ok",0,0]
[{"$f":"'Rozliczenie końcowe'!A248","v":0},{"$f":"'Rozliczenie końcowe'!B484","v":""},{"$f":"'Rozliczenie końcowe'!I484","v":0},{"$f":"'Rozliczenie końcowe'!L484","v":0},"","","",{"$f":"'Rozliczenie końcowe'!C484","v":0},{"$f":"'Rozliczenie końcowe'!D484","v":0},{"$f":"'Rozliczenie końcowe'!E484","v":0},{"$f":"'Rozliczenie końcowe'!F484","v":0},null,null,0,0,"",0,"","",0,0,0,0,0,0,"ok","ok",0,0]
[{"$f":"'Rozliczenie końcowe'!A249","v":0},{"$f":"'Rozliczenie końcowe'!B485","v":""},{"$f":"'Rozliczenie końcowe'!I485","v":0},{"$f":"'Rozliczenie końcowe'!L485","v":0},"","","",{"$f":"'Rozliczenie końcowe'!C485","v":0},{"$f":"'Rozliczenie końcowe'!D485","v":0},{"$f":"'Rozliczenie końcowe'!E485","v":0},{"$f":"'Rozliczenie końcowe'!F485","v":0},null,null,0,0,"",0,"","",0,0,0,0,0,0,"ok","ok",0,0]
[{"$f":"'Rozliczenie końcowe'!A250","v":0},{"$f":"'Rozliczenie końcowe'!B486","v":""},{"$f":"'Rozliczenie końcowe'!I486","v":0},{"$f":"'Rozliczenie końcowe'!L486","v":0},"","","",{"$f":"'Rozliczenie końcowe'!C486","v":0},{"$f":"'Rozliczenie końcowe'!D486","v":0},{"$f":"'Rozliczenie końcowe'!E486","v":0},{"$f":"'Rozliczenie końcowe'!F486","v":0},null,null,0,0,"",0,"","",0,0,0,0,0,0,"ok","ok",0,0]
[{"$f":"'Rozliczenie końcowe'!A251","v":0},{"$f":"'Rozliczenie końcowe'!B487","v":""},{"$f":"'Rozliczenie końcowe'!I487","v":0},{"$f":"'Rozliczenie końcowe'!L487","v":0},"","","",{"$f":"'Rozliczenie końcowe'!C487","v":0},{"$f":"'Rozliczenie końcowe'!D487","v":0},{"$f":"'Rozliczenie końcowe'!E487","v":0},{"$f":"'Rozliczenie końcowe'!F487","v":0},null,null,0,0,"",0,"","",0,0,0,0,0,0,"ok","ok",0,0]
[{"$f":"'Rozliczenie końcowe'!A252","v":0},{"$f":"'Rozliczenie końcowe'!B488","v":""},{"$f":"'Rozliczenie końcowe'!I488","v":0},{"$f":"'Rozliczenie końcowe'!L488","v":0},"","","",{"$f":"'Rozliczenie końcowe'!C488","v":0},{"$f":"'Rozliczenie końcowe'!D488","v":0},{"$f":"'Rozliczenie końcowe'!E488","v":0},{"$f":"'Rozliczenie końcowe'!F488","v":0},null,null,0,0,"",0,"","",0,0,0,0,0,0,"ok","ok",0,0]
[{"$f":"'Rozliczenie końcowe'!A253","v":0},{"$f":"'Rozliczenie końcowe'!B489","v":""},{"$f":"'Rozliczenie końcowe'!I489","v":0},{"$f":"'Rozliczenie końcowe'!L489","v":0},"","","",{"$f":"'Rozliczenie końcowe'!C489","v":0},{"$f":"'Rozliczenie końcowe'!D489","v":0},{"$f":"'Rozliczenie końcowe'!E489","v":0},{"$f":"'Rozliczenie końcowe'!F489","v":0},null,null,0,0,"",0,"","",0,0,0,0,0,0,"ok","ok",0,0]
[{"$f":"'Rozliczenie końcowe'!A254","v":0},{"$f":"'Rozliczenie końcowe'!B490","v":""},{"$f":"'Rozliczenie końcowe'!I490","v":0},{"$f":"'Rozliczenie końcowe'!L490","v":0},"","","",{"$f":"'Rozliczenie końcowe'!C490","v":0},{"$f":"'Rozliczenie końcowe'!D490","v":0},{"$f":"'Rozliczenie końcowe'!E490","v":0},{"$f":"'Rozliczenie końcowe'!F490","v":0},null,null,0,0,"",0,"","",0,0,0,0,0,0,"ok","ok",0,0]
[{"$f":"'Rozliczenie końcowe'!A255","v":0},{"$f":"'Rozliczenie końcowe'!B491","v":""},{"$f":"'Rozliczenie końcowe'!I491","v":0},{"$f":"'Rozliczenie końcowe'!L491","v":0},"","","",{"$f":"'Rozliczenie końcowe'!C491","v":0},{"$f":"'Rozliczenie końcowe'!D491","v":0},{"$f":"'Rozliczenie końcowe'!E491","v":0},{"$f":"'Rozliczenie końcowe'!F491","v":0},null,null,0,0,"",0,"","",0,0,0,0,0,0,"ok","ok",0,0]
[{"$f":"'Rozliczenie końcowe'!A256","v":0},{"$f":"'Rozliczenie końcowe'!B492","v":""},{"$f":"'Rozliczenie końcowe'!I492","v":0},{"$f":"'Rozliczenie końcowe'!L492","v":0},"","","",{"$f":"'Rozliczenie końcowe'!C492","v":0},{"$f":"'Rozliczenie końcowe'!D492","v":0},{"$f":"'Rozliczenie końcowe'!E492","v":0},{"$f":"'Rozliczenie końcowe'!F492","v":0},null,null,0,0,"",0,"","",0,0,0,0,0,0,"ok","ok",0,0]
[{"$f":"'Rozliczenie końcowe'!A257","v":0},{"$f":"'Rozliczenie końcowe'!B493","v":""},{"$f":"'Rozliczenie końcowe'!I493","v":0},{"$f":"'Rozliczenie końcowe'!L493","v":0},"","","",{"$f":"'Rozliczenie końcowe'!C493","v":0},{"$f":"'Rozliczenie końcowe'!D493","v":0},{"$f":"'Rozliczenie końcowe'!E493","v":0},{"$f":"'Rozliczenie końcowe'!F493","v":0},null,null,0,0,"",0,"","",0,0,0,0,0,0,"ok","ok",0,0]
[{"$f":"'Rozliczenie końcowe'!A258","v":0},{"$f":"'Rozliczenie końcowe'!B494","v":""},{"$f":"'Rozliczenie końcowe'!I494","v":0},{"$f":"'Rozliczenie końcowe'!L494","v":0},"","","",{"$f":"'Rozliczenie końcowe'!C494","v":0},{"$f":"'Rozliczenie końcowe'!D494","v":0},{"$f":"'Rozliczenie końcowe'!E494","v":0},{"$f":"'Rozliczenie końcowe'!F494","v":0},null,null,0,0,"",0,"","",0,0,0,0,0,0,"ok","ok",0,0]
[{"$f":"'Rozliczenie końcowe'!A259","v":0},{"$f":"'Rozliczenie końcowe'!B495","v":""},{"$f":"'Rozliczenie końcowe'!I495","v":0},{"$f":"'Rozliczenie końcowe'!L495","v":0},"","","",{"$f":"'Rozliczenie końcowe'!C495","v":0},{"$f":"'Rozliczenie końcowe'!D495","v":0},{"$f":"'Rozliczenie końcowe'!E495","v":0},{"$f":"'Rozliczenie końcowe'!F495","v":0},null,null,0,0,"",0,"","",0,0,0,0,0,0,"ok","ok",0,0]
[{"$f":"'Rozliczenie końcowe'!A260","v":0},{"$f":"'Rozliczenie końcowe'!B496","v":""},{"$f":"'Rozliczenie końcowe'!I496","v":0},{"$f":"'Rozliczenie końcowe'!L496","v":0},"","","",{"$f":"'Rozliczenie końcowe'!C496","v":0},{"$f":"'Rozliczenie końcowe'!D496","v":0},{"$f":"'Rozliczenie końcowe'!E496","v":0},{"$f":"'Rozliczenie końcowe'!F496","v":0},null,null,0,0,"",0,"","",0,0,0,0,0,0,"ok","ok",0,0]
["Suma",null,{"$f":"'Rozliczenie końcowe'!I497","v":0},{"$f":"'Rozliczenie końcowe'!L497","v":0},null,null,null,{"$f":"'Rozliczenie końcowe'!C497","v":0},{"$f":"'Rozliczenie końcowe'!D497","v":0},{"$f":"'Rozliczenie końcowe'!E497","v":0},{"$f":"'Rozliczenie końcowe'!F497","v":0},null,null,null,null,null,null,0,0,{"$f":"SUM(T3:T112)","v":0},{"$f":"SUM(U3:U112)","v":0},null,null,0]
[null,null,null,null,null,null,null,null,null,{"$f":"'Rozliczenie końcowe'!K262","v":0},{"$f":"'Rozliczenie końcowe'!L262","v":0}]
[null,null,null,null,null,null,null,null,null,{"$f":"'Rozliczenie końcowe'!K263","v":0},{"$f":"'Rozliczenie końcowe'!L263","v":0}]

{"sheet":"Weryfikacja IV kw","index":14,"n_rows":115,"n_cols":31,"rows_kept":115,"cut":false,"hidden":true,"merged":[[0,1,0,11]]}
[null,"Dane z wniosku",null,null,null,null,null,null,null,null,null,null,"ok","Wer.",null,null,null,null,null,null,null,null,null,null,null,null,null,null,null,null,"Zgodność danych z załącznikiem nr 1"]
["l.p","NAZWA LINII","WOZOKILOMETRY","DEFICYT","CENA USŁUGI","WKŁAD WŁASNY/KM [ZŁ]","WKŁAD WŁASNY [%]","WKŁAD WŁASNY [ZŁ]","POBRANA KWOTA DOPŁATY","NALEŻNA KWOTA DOPŁATY","NIEWYKORZYSTANA KWOTA DOPŁATY","STAWKA MAX Z UMOWY","X",{"$f":"A2","v":"l.p"},"Cena usługi","Wkład własny/km [zł]","Wkład własny [%]","Wkład własny [zł]","Def z ceny usł","Kwota dopłaty","Max kwota dopł na podst wk. wł.","Max kwota dopł na podst wk wł/wzkm ","Kwota dopłaty/wozokm","10% z deficytu ","10 % z ceny usługi","warunek 10%","max 1 (3) zł/wzkm","Różnica w finansowaniu","Różnica def z zaokrągleń",null,{"$f":"IF(Miesiące!P11='Rozliczenie końcowe'!R196,'Weryfikacja IV kw'!$M$1,'Weryfikacja IV kw'!$M$2)","v":"ok"}]
[{"$f":"'Rozliczenie końcowe'!A151","v":0},{"$f":"'Rozliczenie końcowe'!B505","v":""},{"$f":"'Rozliczenie końcowe'!I505","v":0},{"$f":"'Rozliczenie końcowe'!L505","v":0},{"$f":"IFERROR(D3/C3,\"\")","v":""},{"$f":"IFERROR(ROUND(H3/C3,2),\"\")","v":""},{"$f":"IFERROR(ROUND(H3/D3,2),\"\")","v":""},{"$f":"'Rozliczenie końcowe'!C505","v":0},{"$f":"'Rozliczenie końcowe'!D505","v":0},{"$f":"'Rozliczenie końcowe'!E505","v":0},{"$f":"'Rozliczenie końcowe'!F505","v":0},3,null,0,{"$f":"IFERROR(D3/C3,0)","v":0},{"$f":"F3","v":""},{"$f":"IFERROR(P3/O3,0)","v":0},{"$f":"IFERROR(ROUND(P3*C3,2),\"\")","v":""},{"$f":"IFERROR(ROUND(E3*C3,2),\"\")","v":""},{"$f":"IFERROR(V3*C3,0)","v":0},{"$f":"V3*C3","v":0},{"$f":"IFERROR(IF((D3-H3)/C3>=$L$3,$L$3,(D3-H3)/C3),0)","v":0},{"$f":"IFERROR(ROUND(J3/C3,2),0)","v":0},{"$f":"D3*0.1","v":0},{"$f":"O3*0.1","v":0},{"$f":"IF(P3>=Y3,$M$1,$M$2)","v":"ok"},{"$f":"IF(W3<=$L$3,$M$1,$M$2)","v":"ok"},{"$f":"IFERROR((T3+R3)-D3,0)","v":0},{"$f":"IFERROR(D3-S3,0)","v":0}]
[{"$f":"'Rozliczenie końcowe'!A152","v":0},{"$f":"'Rozliczenie końcowe'!B506","v":""},{"$f":"'Rozliczenie końcowe'!I506","v":0},{"$f":"'Rozliczenie końcowe'!L506","v":0},{"$f":"IFERROR(D4/C4,\"\")","v":""},{"$f":"IFERROR(ROUND(H4/C4,2),\"\")","v":""},{"$f":"IFERROR(ROUND(H4/D4,2),\"\")","v":""},{"$f":"'Rozliczenie końcowe'!C506","v":0},{"$f":"'Rozliczenie końcowe'!D506","v":0},{"$f":"'Rozliczenie końcowe'!E506","v":0},{"$f":"'Rozliczenie końcowe'!F506","v":0},null,null,0,0,{"$f":"F4","v":""},{"$f":"IFERROR(P4/O4,0)","v":0},{"$f":"IFERROR(ROUND(P4*C4,2),\"\")","v":""},{"$f":"IFERROR(ROUND(E4*C4,2),\"\")","v":""},0,0,{"$f":"IFERROR(IF((D4-H4)/C4>=$L$3,$L$3,(D4-H4)/C4),0)","v":0},{"$f":"IFERROR(ROUND(J4/C4,2),0)","v":0},0,0,{"$f":"IF(P4>=Y4,$M$1,$M$2)","v":"ok"},{"$f":"IF(W4<=$L$3,$M$1,$M$2)","v":"ok"},{"$f":"IFERROR((T4+R4)-D4,0)","v":0},{"$f":"IFERROR(D4-S4,0)","v":0}]
[{"$f":"'Rozliczenie końcowe'!A153","v":0},{"$f":"'Rozliczenie końcowe'!B507","v":""},{"$f":"'Rozliczenie końcowe'!I507","v":0},{"$f":"'Rozliczenie końcowe'!L507","v":0},"","","",{"$f":"'Rozliczenie końcowe'!C507","v":0},{"$f":"'Rozliczenie końcowe'!D507","v":0},{"$f":"'Rozliczenie końcowe'!E507","v":0},{"$f":"'Rozliczenie końcowe'!F507","v":0},null,null,0,0,"",0,"","",0,0,0,0,0,0,"ok","ok",0,0]
[{"$f":"'Rozliczenie końcowe'!A154","v":0},{"$f":"'Rozliczenie końcowe'!B508","v":""},{"$f":"'Rozliczenie końcowe'!I508","v":0},{"$f":"'Rozliczenie końcowe'!L508","v":0},"","","",{"$f":"'Rozliczenie końcowe'!C508","v":0},{"$f":"'Rozliczenie końcowe'!D508","v":0},{"$f":"'Rozliczenie końcowe'!E508","v":0},{"$f":"'Rozliczenie końcowe'!F508","v":0},null,null,0,0,"",0,"","",0,0,0,0,0,0,"ok","ok",0,0]
[{"$f":"'Rozliczenie końcowe'!A155","v":0},{"$f":"'Rozliczenie końcowe'!B509","v":""},{"$f":"'Rozliczenie końcowe'!I509","v":0},{"$f":"'Rozliczenie końcowe'!L509","v":0},"","","",{"$f":"'Rozliczenie końcowe'!C509","v":0},{"$f":"'Rozliczenie końcowe'!D509","v":0},{"$f":"'Rozliczenie końcowe'!E509","v":0},{"$f":"'Rozliczenie końcowe'!F509","v":0},null,null,0,0,"",0,"","",0,0,0,0,0,0,"ok","ok",0,0]
[{"$f":"'Rozliczenie końcowe'!A156","v":0},{"$f":"'Rozliczenie końcowe'!B510","v":""},{"$f":"'Rozliczenie końcowe'!I510","v":0},{"$f":"'Rozliczenie końcowe'!L510","v":0},"","","",{"$f":"'Rozliczenie końcowe'!C510","v":0},{"$f":"'Rozliczenie końcowe'!D510","v":0},{"$f":"'Rozliczenie końcowe'!E510","v":0},{"$f":"'Rozliczenie końcowe'!F510","v":0},null,null,0,0,"",0,"","",0,0,0,0,0,0,"ok","ok",0,0]
[{"$f":"'Rozliczenie końcowe'!A157","v":0},{"$f":"'Rozliczenie końcowe'!B511","v":""},{"$f":"'Rozliczenie końcowe'!I511","v":0},{"$f":"'Rozliczenie końcowe'!L511","v":0},"","","",{"$f":"'Rozliczenie końcowe'!C511","v":0},{"$f":"'Rozliczenie końcowe'!D511","v":0},{"$f":"'Rozliczenie końcowe'!E511","v":0},{"$f":"'Rozliczenie końcowe'!F511","v":0},null,null,0,0,"",0,"","",0,0,0,0,0,0,"ok","ok",0,0]
[{"$f":"'Rozliczenie końcowe'!A158","v":0},{"$f":"'Rozliczenie końcowe'!B512","v":""},{"$f":"'Rozliczenie końcowe'!I512","v":0},{"$f":"'Rozliczenie końcowe'!L512","v":0},"","","",{"$f":"'Rozliczenie końcowe'!C512","v":0},{"$f":"'Rozliczenie końcowe'!D512","v":0},{"$f":"'Rozliczenie końcowe'!E512","v":0},{"$f":"'Rozliczenie końcowe'!F512","v":0},null,null,0,0,"",0,"","",0,0,0,0,0,0,"ok","ok",0,0]
[{"$f":"'Rozliczenie końcowe'!A159","v":0},{"$f":"'Rozliczenie końcowe'!B513","v":""},{"$f":"'Rozliczenie końcowe'!I513","v":0},{"$f":"'Rozliczenie końcowe'!L513","v":0},"","","",{"$f":"'Rozliczenie końcowe'!C513","v":0},{"$f":"'Rozliczenie końcowe'!D513","v":0},{"$f":"'Rozliczenie końcowe'!E513","v":0},{"$f":"'Rozliczenie końcowe'!F513","v":0},null,null,0,0,"",0,"","",0,0,0,0,0,0,"ok","ok",0,0]
[{"$f":"'Rozliczenie końcowe'!A160","v":0},{"$f":"'Rozliczenie końcowe'!B514","v":""},{"$f":"'Rozliczenie końcowe'!I514","v":0},{"$f":"'Rozliczenie końcowe'!L514","v":0},"","","",{"$f":"'Rozliczenie końcowe'!C514","v":0},{"$f":"'Rozliczenie końcowe'!D514","v":0},{"$f":"'Rozliczenie końcowe'!E514","v":0},{"$f":"'Rozliczenie końcowe'!F514","v":0},null,null,0,0,"",0,"","",0,0,0,0,0,0,"ok","ok",0,0]
[{"$f":"'Rozliczenie końcowe'!A161","v":0},{"$f":"'Rozliczenie końcowe'!B515","v":""},{"$f":"'Rozliczenie końcowe'!I515","v":0},{"$f":"'Rozliczenie końcowe'!L515","v":0},"","","",{"$f":"'Rozliczenie końcowe'!C515","v":0},{"$f":"'Rozliczenie końcowe'!D515","v":0},{"$f":"'Rozliczenie końcowe'!E515","v":0},{"$f":"'Rozliczenie końcowe'!F515","v":0},null,null,0,0,"",0,"","",0,0,0,0,0,0,"ok","ok",0,0]
[{"$f":"'Rozliczenie końcowe'!A162","v":0},{"$f":"'Rozliczenie końcowe'!B516","v":""},{"$f":"'Rozliczenie końcowe'!I516","v":0},{"$f":"'Rozliczenie końcowe'!L516","v":0},"","","",{"$f":"'Rozliczenie końcowe'!C516","v":0},{"$f":"'Rozliczenie końcowe'!D516","v":0},{"$f":"'Rozliczenie końcowe'!E516","v":0},{"$f":"'Rozliczenie końcowe'!F516","v":0},null,null,0,0,"",0,"","",0,0,0,0,0,0,"ok","ok",0,0]
[{"$f":"'Rozliczenie końcowe'!A163","v":0},{"$f":"'Rozliczenie końcowe'!B517","v":""},{"$f":"'Rozliczenie końcowe'!I517","v":0},{"$f":"'Rozliczenie końcowe'!L517","v":0},"","","",{"$f":"'Rozliczenie końcowe'!C517","v":0},{"$f":"'Rozliczenie końcowe'!D517","v":0},{"$f":"'Rozliczenie końcowe'!E517","v":0},{"$f":"'Rozliczenie końcowe'!F517","v":0},null,null,0,0,"",0,"","",0,0,0,0,0,0,"ok","ok",0,0]
[{"$f":"'Rozliczenie końcowe'!A164","v":0},{"$f":"'Rozliczenie końcowe'!B518","v":""},{"$f":"'Rozliczenie końcowe'!I518","v":0},{"$f":"'Rozliczenie końcowe'!L518","v":0},"","","",{"$f":"'Rozliczenie końcowe'!C518","v":0},{"$f":"'Rozliczenie końcowe'!D518","v":0},{"$f":"'Rozliczenie końcowe'!E518","v":0},{"$f":"'Rozliczenie końcowe'!F518","v":0},null,null,0,0,"",0,"","",0,0,0,0,0,0,"ok","ok",0,0]
[{"$f":"'Rozliczenie końcowe'!A165","v":0},{"$f":"'Rozliczenie końcowe'!B519","v":""},{"$f":"'Rozliczenie końcowe'!I519","v":0},{"$f":"'Rozliczenie końcowe'!L519","v":0},"","","",{"$f":"'Rozliczenie końcowe'!C519","v":0},{"$f":"'Rozliczenie końcowe'!D519","v":0},{"$f":"'Rozliczenie końcowe'!E519","v":0},{"$f":"'Rozliczenie końcowe'!F519","v":0},null,null,0,0,"",0,"","",0,0,0,0,0,0,"ok","ok",0,0]
[{"$f":"'Rozliczenie końcowe'!A166","v":0},{"$f":"'Rozliczenie końcowe'!B520","v":""},{"$f":"'Rozliczenie końcowe'!I520","v":0},{"$f":"'Rozliczenie końcowe'!L520","v":0},"","","",{"$f":"'Rozliczenie końcowe'!C520","v":0},{"$f":"'Rozliczenie końcowe'!D520","v":0},{"$f":"'Rozliczenie końcowe'!E520","v":0},{"$f":"'Rozliczenie końcowe'!F520","v":0},null,null,0,0,"",0,"","",0,0,0,0,0,0,"ok","ok",0,0]
[{"$f":"'Rozliczenie końcowe'!A167","v":0},{"$f":"'Rozliczenie końcowe'!B521","v":""},{"$f":"'Rozliczenie końcowe'!I521","v":0},{"$f":"'Rozliczenie końcowe'!L521","v":0},"","","",{"$f":"'Rozliczenie końcowe'!C521","v":0},{"$f":"'Rozliczenie końcowe'!D521","v":0},{"$f":"'Rozliczenie końcowe'!E521","v":0},{"$f":"'Rozliczenie końcowe'!F521","v":0},null,null,0,0,"",0,"","",0,0,0,0,0,0,"ok","ok",0,0]
[{"$f":"'Rozliczenie końcowe'!A168","v":0},{"$f":"'Rozliczenie końcowe'!B522","v":""},{"$f":"'Rozliczenie końcowe'!I522","v":0},{"$f":"'Rozliczenie końcowe'!L522","v":0},"","","",{"$f":"'Rozliczenie końcowe'!C522","v":0},{"$f":"'Rozliczenie końcowe'!D522","v":0},{"$f":"'Rozliczenie końcowe'!E522","v":0},{"$f":"'Rozliczenie końcowe'!F522","v":0},null,null,0,0,"",0,"","",0,0,0,0,0,0,"ok","ok",0,0]
[{"$f":"'Rozliczenie końcowe'!A169","v":0},{"$f":"'Rozliczenie końcowe'!B523","v":""},{"$f":"'Rozliczenie końcowe'!I523","v":0},{"$f":"'Rozliczenie końcowe'!L523","v":0},"","","",{"$f":"'Rozliczenie końcowe'!C523","v":0},{"$f":"'Rozliczenie końcowe'!D523","v":0},{"$f":"'Rozliczenie końcowe'!E523","v":0},{"$f":"'Rozliczenie końcowe'!F523","v":0},null,null,0,0,"",0,"","",0,0,0,0,0,0,"ok","ok",0,0]
[{"$f":"'Rozliczenie końcowe'!A170","v":0},{"$f":"'Rozliczenie końcowe'!B524","v":""},{"$f":"'Rozliczenie końcowe'!I524","v":0},{"$f":"'Rozliczenie końcowe'!L524","v":0},"","","",{"$f":"'Rozliczenie końcowe'!C524","v":0},{"$f":"'Rozliczenie końcowe'!D524","v":0},{"$f":"'Rozliczenie końcowe'!E524","v":0},{"$f":"'Rozliczenie końcowe'!F524","v":0},null,null,0,0,"",0,"","",0,0,0,0,0,0,"ok","ok",0,0]
[{"$f":"'Rozliczenie końcowe'!A171","v":0},{"$f":"'Rozliczenie końcowe'!B525","v":""},{"$f":"'Rozliczenie końcowe'!I525","v":0},{"$f":"'Rozliczenie końcowe'!L525","v":0},"","","",{"$f":"'Rozliczenie końcowe'!C525","v":0},{"$f":"'Rozliczenie końcowe'!D525","v":0},{"$f":"'Rozliczenie końcowe'!E525","v":0},{"$f":"'Rozliczenie końcowe'!F525","v":0},null,null,0,0,"",0,"","",0,0,0,0,0,0,"ok","ok",0,0]
[{"$f":"'Rozliczenie końcowe'!A172","v":0},{"$f":"'Rozliczenie końcowe'!B526","v":""},{"$f":"'Rozliczenie końcowe'!I526","v":0},{"$f":"'Rozliczenie końcowe'!L526","v":0},"","","",{"$f":"'Rozliczenie końcowe'!C526","v":0},{"$f":"'Rozliczenie końcowe'!D526","v":0},{"$f":"'Rozliczenie końcowe'!E526","v":0},{"$f":"'Rozliczenie końcowe'!F526","v":0},null,null,0,0,"",0,"","",0,0,0,0,0,0,"ok","ok",0,0]
[{"$f":"'Rozliczenie końcowe'!A173","v":0},{"$f":"'Rozliczenie końcowe'!B527","v":""},{"$f":"'Rozliczenie końcowe'!I527","v":0},{"$f":"'Rozliczenie końcowe'!L527","v":0},"","","",{"$f":"'Rozliczenie końcowe'!C527","v":0},{"$f":"'Rozliczenie końcowe'!D527","v":0},{"$f":"'Rozliczenie końcowe'!E527","v":0},{"$f":"'Rozliczenie końcowe'!F527","v":0},null,null,0,0,"",0,"","",0,0,0,0,0,0,"ok","ok",0,0]
[{"$f":"'Rozliczenie końcowe'!A174","v":0},{"$f":"'Rozliczenie końcowe'!B528","v":""},{"$f":"'Rozliczenie końcowe'!I528","v":0},{"$f":"'Rozliczenie końcowe'!L528","v":0},"","","",{"$f":"'Rozliczenie końcowe'!C528","v":0},{"$f":"'Rozliczenie końcowe'!D528","v":0},{"$f":"'Rozliczenie końcowe'!E528","v":0},{"$f":"'Rozliczenie końcowe'!F528","v":0},null,null,0,0,"",0,"","",0,0,0,0,0,0,"ok","ok",0,0]
[{"$f":"'Rozliczenie końcowe'!A175","v":0},{"$f":"'Rozliczenie końcowe'!B529","v":""},{"$f":"'Rozliczenie końcowe'!I529","v":0},{"$f":"'Rozliczenie końcowe'!L529","v":0},"","","",{"$f":"'Rozliczenie końcowe'!C529","v":0},{"$f":"'Rozliczenie końcowe'!D529","v":0},{"$f":"'Rozliczenie końcowe'!E529","v":0},{"$f":"'Rozliczenie końcowe'!F529","v":0},null,null,0,0,"",0,"","",0,0,0,0,0,0,"ok","ok",0,0]
[{"$f":"'Rozliczenie końcowe'!A176","v":0},{"$f":"'Rozliczenie końcowe'!B530","v":""},{"$f":"'Rozliczenie końcowe'!I530","v":0},{"$f":"'Rozliczenie końcowe'!L530","v":0},"","","",{"$f":"'Rozliczenie końcowe'!C530","v":0},{"$f":"'Rozliczenie końcowe'!D530","v":0},{"$f":"'Rozliczenie końcowe'!E530","v":0},{"$f":"'Rozliczenie końcowe'!F530","v":0},null,null,0,0,"",0,"","",0,0,0,0,0,0,"ok","ok",0,0]
[{"$f":"'Rozliczenie końcowe'!A177","v":0},{"$f":"'Rozliczenie końcowe'!B531","v":""},{"$f":"'Rozliczenie końcowe'!I531","v":0},{"$f":"'Rozliczenie końcowe'!L531","v":0},"","","",{"$f":"'Rozliczenie końcowe'!C531","v":0},{"$f":"'Rozliczenie końcowe'!D531","v":0},{"$f":"'Rozliczenie końcowe'!E531","v":0},{"$f":"'Rozliczenie końcowe'!F531","v":0},null,null,0,0,"",0,"","",0,0,0,0,0,0,"ok","ok",0,0]
[{"$f":"'Rozliczenie końcowe'!A178","v":0},{"$f":"'Rozliczenie końcowe'!B532","v":""},{"$f":"'Rozliczenie końcowe'!I532","v":0},{"$f":"'Rozliczenie końcowe'!L532","v":0},"","","",{"$f":"'Rozliczenie końcowe'!C532","v":0},{"$f":"'Rozliczenie końcowe'!D532","v":0},{"$f":"'Rozliczenie końcowe'!E532","v":0},{"$f":"'Rozliczenie końcowe'!F532","v":0},null,null,0,0,"",0,"","",0,0,0,0,0,0,"ok","ok",0,0]
[{"$f":"'Rozliczenie końcowe'!A179","v":0},{"$f":"'Rozliczenie końcowe'!B533","v":""},{"$f":"'Rozliczenie końcowe'!I533","v":0},{"$f":"'Rozliczenie końcowe'!L533","v":0},"","","",{"$f":"'Rozliczenie końcowe'!C533","v":0},{"$f":"'Rozliczenie końcowe'!D533","v":0},{"$f":"'Rozliczenie końcowe'!E533","v":0},{"$f":"'Rozliczenie końcowe'!F533","v":0},null,null,0,0,"",0,"","",0,0,0,0,0,0,"ok","ok",0,0]
[{"$f":"'Rozliczenie końcowe'!A180","v":0},{"$f":"'Rozliczenie końcowe'!B534","v":""},{"$f":"'Rozliczenie końcowe'!I534","v":0},{"$f":"'Rozliczenie końcowe'!L534","v":0},"","","",{"$f":"'Rozliczenie końcowe'!C534","v":0},{"$f":"'Rozliczenie końcowe'!D534","v":0},{"$f":"'Rozliczenie końcowe'!E534","v":0},{"$f":"'Rozliczenie końcowe'!F534","v":0},null,null,0,0,"",0,"","",0,0,0,0,0,0,"ok","ok",0,0]
[{"$f":"'Rozliczenie końcowe'!A181","v":0},{"$f":"'Rozliczenie końcowe'!B535","v":""},{"$f":"'Rozliczenie końcowe'!I535","v":0},{"$f":"'Rozliczenie końcowe'!L535","v":0},"","","",{"$f":"'Rozliczenie końcowe'!C535","v":0},{"$f":"'Rozliczenie końcowe'!D535","v":0},{"$f":"'Rozliczenie końcowe'!E535","v":0},{"$f":"'Rozliczenie końcowe'!F535","v":0},null,null,0,0,"",0,"","",0,0,0,0,0,0,"ok","ok",0,0]
[{"$f":"'Rozliczenie końcowe'!A182","v":0},{"$f":"'Rozliczenie końcowe'!B536","v":""},{"$f":"'Rozliczenie końcowe'!I536","v":0},{"$f":"'Rozliczenie końcowe'!L536","v":0},"","","",{"$f":"'Rozliczenie końcowe'!C536","v":0},{"$f":"'Rozliczenie końcowe'!D536","v":0},{"$f":"'Rozliczenie końcowe'!E536","v":0},{"$f":"'Rozliczenie końcowe'!F536","v":0},null,null,0,0,"",0,"","",0,0,0,0,0,0,"ok","ok",0,0]
[{"$f":"'Rozliczenie końcowe'!A183","v":0},{"$f":"'Rozliczenie końcowe'!B537","v":""},{"$f":"'Rozliczenie końcowe'!I537","v":0},{"$f":"'Rozliczenie końcowe'!L537","v":0},"","","",{"$f":"'Rozliczenie końcowe'!C537","v":0},{"$f":"'Rozliczenie końcowe'!D537","v":0},{"$f":"'Rozliczenie końcowe'!E537","v":0},{"$f":"'Rozliczenie końcowe'!F537","v":0},null,null,0,0,"",0,"","",0,0,0,0,0,0,"ok","ok",0,0]
[{"$f":"'Rozliczenie końcowe'!A184","v":0},{"$f":"'Rozliczenie końcowe'!B538","v":""},{"$f":"'Rozliczenie końcowe'!I538","v":0},{"$f":"'Rozliczenie końcowe'!L538","v":0},"","","",{"$f":"'Rozliczenie końcowe'!C538","v":0},{"$f":"'Rozliczenie końcowe'!D538","v":0},{"$f":"'Rozliczenie końcowe'!E538","v":0},{"$f":"'Rozliczenie końcowe'!F538","v":0},null,null,0,0,"",0,"","",0,0,0,0,0,0,"ok","ok",0,0]
[{"$f":"'Rozliczenie końcowe'!A185","v":0},{"$f":"'Rozliczenie końcowe'!B539","v":""},{"$f":"'Rozliczenie końcowe'!I539","v":0},{"$f":"'Rozliczenie końcowe'!L539","v":0},"","","",{"$f":"'Rozliczenie końcowe'!C539","v":0},{"$f":"'Rozliczenie końcowe'!D539","v":0},{"$f":"'Rozliczenie końcowe'!E539","v":0},{"$f":"'Rozliczenie końcowe'!F539","v":0},null,null,0,0,"",0,"","",0,0,0,0,0,0,"ok","ok",0,0]
[{"$f":"'Rozliczenie końcowe'!A186","v":0},{"$f":"'Rozliczenie końcowe'!B540","v":""},{"$f":"'Rozliczenie końcowe'!I540","v":0},{"$f":"'Rozliczenie końcowe'!L540","v":0},"","","",{"$f":"'Rozliczenie końcowe'!C540","v":0},{"$f":"'Rozliczenie końcowe'!D540","v":0},{"$f":"'Rozliczenie końcowe'!E540","v":0},{"$f":"'Rozliczenie końcowe'!F540","v":0},null,null,0,0,"",0,"","",0,0,0,0,0,0,"ok","ok",0,0]
[{"$f":"'Rozliczenie końcowe'!A187","v":0},{"$f":"'Rozliczenie końcowe'!B541","v":""},{"$f":"'Rozliczenie końcowe'!I541","v":0},{"$f":"'Rozliczenie końcowe'!L541","v":0},"","","",{"$f":"'Rozliczenie końcowe'!C541","v":0},{"$f":"'Rozliczenie końcowe'!D541","v":0},{"$f":"'Rozliczenie końcowe'!E541","v":0},{"$f":"'Rozliczenie końcowe'!F541","v":0},null,null,0,0,"",0,"","",0,0,0,0,0,0,"ok","ok",0,0]
[{"$f":"'Rozliczenie końcowe'!A188","v":0},{"$f":"'Rozliczenie końcowe'!B542","v":""},{"$f":"'Rozliczenie końcowe'!I542","v":0},{"$f":"'Rozliczenie końcowe'!L542","v":0},"","","",{"$f":"'Rozliczenie końcowe'!C542","v":0},{"$f":"'Rozliczenie końcowe'!D542","v":0},{"$f":"'Rozliczenie końcowe'!E542","v":0},{"$f":"'Rozliczenie końcowe'!F542","v":0},null,null,0,0,"",0,"","",0,0,0,0,0,0,"ok","ok",0,0]
[{"$f":"'Rozliczenie końcowe'!A189","v":0},{"$f":"'Rozliczenie końcowe'!B543","v":""},{"$f":"'Rozliczenie końcowe'!I543","v":0},{"$f":"'Rozliczenie końcowe'!L543","v":0},"","","",{"$f":"'Rozliczenie końcowe'!C543","v":0},{"$f":"'Rozliczenie końcowe'!D543","v":0},{"$f":"'Rozliczenie końcowe'!E543","v":0},{"$f":"'Rozliczenie końcowe'!F543","v":0},null,null,0,0,"",0,"","",0,0,0,0,0,0,"ok","ok",0,0]
[{"$f":"'Rozliczenie końcowe'!A190","v":0},{"$f":"'Rozliczenie końcowe'!B544","v":""},{"$f":"'Rozliczenie końcowe'!I544","v":0},{"$f":"'Rozliczenie końcowe'!L544","v":0},"","","",{"$f":"'Rozliczenie końcowe'!C544","v":0},{"$f":"'Rozliczenie końcowe'!D544","v":0},{"$f":"'Rozliczenie końcowe'!E544","v":0},{"$f":"'Rozliczenie końcowe'!F544","v":0},null,null,0,0,"",0,"","",0,0,0,0,0,0,"ok","ok",0,0]
[{"$f":"'Rozliczenie końcowe'!A191","v":0},{"$f":"'Rozliczenie końcowe'!B545","v":""},{"$f":"'Rozliczenie końcowe'!I545","v":0},{"$f":"'Rozliczenie końcowe'!L545","v":0},"","","",{"$f":"'Rozliczenie końcowe'!C545","v":0},{"$f":"'Rozliczenie końcowe'!D545","v":0},{"$f":"'Rozliczenie końcowe'!E545","v":0},{"$f":"'Rozliczenie końcowe'!F545","v":0},null,null,0,0,"",0,"","",0,0,0,0,0,0,"ok","ok",0,0]
[{"$f":"'Rozliczenie końcowe'!A192","v":0},{"$f":"'Rozliczenie końcowe'!B546","v":""},{"$f":"'Rozliczenie końcowe'!I546","v":0},{"$f":"'Rozliczenie końcowe'!L546","v":0},"","","",{"$f":"'Rozliczenie końcowe'!C546","v":0},{"$f":"'Rozliczenie końcowe'!D546","v":0},{"$f":"'Rozliczenie końcowe'!E546","v":0},{"$f":"'Rozliczenie końcowe'!F546","v":0},null,null,0,0,"",0,"","",0,0,0,0,0,0,"ok","ok",0,0]
[{"$f":"'Rozliczenie końcowe'!A193","v":0},{"$f":"'Rozliczenie końcowe'!B547","v":""},{"$f":"'Rozliczenie końcowe'!I547","v":0},{"$f":"'Rozliczenie końcowe'!L547","v":0},"","","",{"$f":"'Rozliczenie końcowe'!C547","v":0},{"$f":"'Rozliczenie końcowe'!D547","v":0},{"$f":"'Rozliczenie końcowe'!E547","v":0},{"$f":"'Rozliczenie końcowe'!F547","v":0},null,null,0,0,"",0,"","",0,0,0,0,0,0,"ok","ok",0,0]
[{"$f":"'Rozliczenie końcowe'!A194","v":0},{"$f":"'Rozliczenie końcowe'!B548","v":""},{"$f":"'Rozliczenie końcowe'!I548","v":0},{"$f":"'Rozliczenie końcowe'!L548","v":0},"","","",{"$f":"'Rozliczenie końcowe'!C548","v":0},{"$f":"'Rozliczenie końcowe'!D548","v":0},{"$f":"'Rozliczenie końcowe'!E548","v":0},{"$f":"'Rozliczenie końcowe'!F548","v":0},null,null,0,0,"",0,"","",0,0,0,0,0,0,"ok","ok",0,0]
[{"$f":"'Rozliczenie końcowe'!A195","v":0},{"$f":"'Rozliczenie końcowe'!B549","v":""},{"$f":"'Rozliczenie końcowe'!I549","v":0},{"$f":"'Rozliczenie końcowe'!L549","v":0},"","","",{"$f":"'Rozliczenie końcowe'!C549","v":0},{"$f":"'Rozliczenie końcowe'!D549","v":0},{"$f":"'Rozliczenie końcowe'!E549","v":0},{"$f":"'Rozliczenie końcowe'!F549","v":0},null,null,0,0,"",0,"","",0,0,0,0,0,0,"ok","ok",0,0]
[{"$f":"'Rozliczenie końcowe'!A196","v":0},{"$f":"'Rozliczenie końcowe'!B550","v":""},{"$f":"'Rozliczenie końcowe'!I550","v":0},{"$f":"'Rozliczenie końcowe'!L550","v":0},"","","",{"$f":"'Rozliczenie końcowe'!C550","v":0},{"$f":"'Rozliczenie końcowe'!D550","v":0},{"$f":"'Rozliczenie końcowe'!E550","v":0},{"$f":"'Rozliczenie końcowe'!F550","v":0},null,null,0,0,"",0,"","",0,0,0,0,0,0,"ok","ok",0,0]
[{"$f":"'Rozliczenie końcowe'!A197","v":0},{"$f":"'Rozliczenie końcowe'!B551","v":""},{"$f":"'Rozliczenie końcowe'!I551","v":0},{"$f":"'Rozliczenie końcowe'!L551","v":0},"","","",{"$f":"'Rozliczenie końcowe'!C551","v":0},{"$f":"'Rozliczenie końcowe'!D551","v":0},{"$f":"'Rozliczenie końcowe'!E551","v":0},{"$f":"'Rozliczenie końcowe'!F551","v":0},null,null,0,0,"",0,"","",0,0,0,0,0,0,"ok","ok",0,0]
[{"$f":"'Rozliczenie końcowe'!A198","v":0},{"$f":"'Rozliczenie końcowe'!B552","v":""},{"$f":"'Rozliczenie końcowe'!I552","v":0},{"$f":"'Rozliczenie końcowe'!L552","v":0},"","","",{"$f":"'Rozliczenie końcowe'!C552","v":0},{"$f":"'Rozliczenie końcowe'!D552","v":0},{"$f":"'Rozliczenie końcowe'!E552","v":0},{"$f":"'Rozliczenie końcowe'!F552","v":0},null,null,0,0,"",0,"","",0,0,0,0,0,0,"ok","ok",0,0]
[{"$f":"'Rozliczenie końcowe'!A199","v":0},{"$f":"'Rozliczenie końcowe'!B553","v":""},{"$f":"'Rozliczenie końcowe'!I553","v":0},{"$f":"'Rozliczenie końcowe'!L553","v":0},"","","",{"$f":"'Rozliczenie końcowe'!C553","v":0},{"$f":"'Rozliczenie końcowe'!D553","v":0},{"$f":"'Rozliczenie końcowe'!E553","v":0},{"$f":"'Rozliczenie końcowe'!F553","v":0},null,null,0,0,"",0,"","",0,0,0,0,0,0,"ok","ok",0,0]
[{"$f":"'Rozliczenie końcowe'!A200","v":0},{"$f":"'Rozliczenie końcowe'!B554","v":""},{"$f":"'Rozliczenie końcowe'!I554","v":0},{"$f":"'Rozliczenie końcowe'!L554","v":0},"","","",{"$f":"'Rozliczenie końcowe'!C554","v":0},{"$f":"'Rozliczenie końcowe'!D554","v":0},{"$f":"'Rozliczenie końcowe'!E554","v":0},{"$f":"'Rozliczenie końcowe'!F554","v":0},null,null,0,0,"",0,"","",0,0,0,0,0,0,"ok","ok",0,0]
[{"$f":"'Rozliczenie końcowe'!A201","v":0},{"$f":"'Rozliczenie końcowe'!B555","v":""},{"$f":"'Rozliczenie końcowe'!I555","v":0},{"$f":"'Rozliczenie końcowe'!L555","v":0},"","","",{"$f":"'Rozliczenie końcowe'!C555","v":0},{"$f":"'Rozliczenie końcowe'!D555","v":0},{"$f":"'Rozliczenie końcowe'!E555","v":0},{"$f":"'Rozliczenie końcowe'!F555","v":0},null,null,0,0,"",0,"","",0,0,0,0,0,0,"ok","ok",0,0]
[{"$f":"'Rozliczenie końcowe'!A202","v":0},{"$f":"'Rozliczenie końcowe'!B556","v":""},{"$f":"'Rozliczenie końcowe'!I556","v":0},{"$f":"'Rozliczenie końcowe'!L556","v":0},"","","",{"$f":"'Rozliczenie końcowe'!C556","v":0},{"$f":"'Rozliczenie końcowe'!D556","v":0},{"$f":"'Rozliczenie końcowe'!E556","v":0},{"$f":"'Rozliczenie końcowe'!F556","v":0},null,null,0,0,"",0,"","",0,0,0,0,0,0,"ok","ok",0,0]
[{"$f":"'Rozliczenie końcowe'!A203","v":0},{"$f":"'Rozliczenie końcowe'!B557","v":""},{"$f":"'Rozliczenie końcowe'!I557","v":0},{"$f":"'Rozliczenie końcowe'!L557","v":0},"","","",{"$f":"'Rozliczenie końcowe'!C557","v":0},{"$f":"'Rozliczenie końcowe'!D557","v":0},{"$f":"'Rozliczenie końcowe'!E557","v":0},{"$f":"'Rozliczenie końcowe'!F557","v":0},null,null,0,0,"",0,"","",0,0,0,0,0,0,"ok","ok",0,0]
[{"$f":"'Rozliczenie końcowe'!A204","v":0},{"$f":"'Rozliczenie końcowe'!B558","v":""},{"$f":"'Rozliczenie końcowe'!I558","v":0},{"$f":"'Rozliczenie końcowe'!L558","v":0},"","","",{"$f":"'Rozliczenie końcowe'!C558","v":0},{"$f":"'Rozliczenie końcowe'!D558","v":0},{"$f":"'Rozliczenie końcowe'!E558","v":0},{"$f":"'Rozliczenie końcowe'!F558","v":0},null,null,0,0,"",0,"","",0,0,0,0,0,0,"ok","ok",0,0]
[{"$f":"'Rozliczenie końcowe'!A205","v":0},{"$f":"'Rozliczenie końcowe'!B559","v":""},{"$f":"'Rozliczenie końcowe'!I559","v":0},{"$f":"'Rozliczenie końcowe'!L559","v":0},"","","",{"$f":"'Rozliczenie końcowe'!C559","v":0},{"$f":"'Rozliczenie końcowe'!D559","v":0},{"$f":"'Rozliczenie końcowe'!E559","v":0},{"$f":"'Rozliczenie końcowe'!F559","v":0},null,null,0,0,"",0,"","",0,0,0,0,0,0,"ok","ok",0,0]
[{"$f":"'Rozliczenie końcowe'!A206","v":0},{"$f":"'Rozliczenie końcowe'!B560","v":""},{"$f":"'Rozliczenie końcowe'!I560","v":0},{"$f":"'Rozliczenie końcowe'!L560","v":0},"","","",{"$f":"'Rozliczenie końcowe'!C560","v":0},{"$f":"'Rozliczenie końcowe'!D560","v":0},{"$f":"'Rozliczenie końcowe'!E560","v":0},{"$f":"'Rozliczenie końcowe'!F560","v":0},null,null,0,0,"",0,"","",0,0,0,0,0,0,"ok","ok",0,0]
[{"$f":"'Rozliczenie końcowe'!A207","v":0},{"$f":"'Rozliczenie końcowe'!B561","v":""},{"$f":"'Rozliczenie końcowe'!I561","v":0},{"$f":"'Rozliczenie końcowe'!L561","v":0},"","","",{"$f":"'Rozliczenie końcowe'!C561","v":0},{"$f":"'Rozliczenie końcowe'!D561","v":0},{"$f":"'Rozliczenie końcowe'!E561","v":0},{"$f":"'Rozliczenie końcowe'!F561","v":0},null,null,0,0,"",0,"","",0,0,0,0,0,0,"ok","ok",0,0]
[{"$f":"'Rozliczenie końcowe'!A208","v":0},{"$f":"'Rozliczenie końcowe'!B562","v":""},{"$f":"'Rozliczenie końcowe'!I562","v":0},{"$f":"'Rozliczenie końcowe'!L562","v":0},"","","",{"$f":"'Rozliczenie końcowe'!C562","v":0},{"$f":"'Rozliczenie końcowe'!D562","v":0},{"$f":"'Rozliczenie końcowe'!E562","v":0},{"$f":"'Rozliczenie końcowe'!F562","v":0},null,null,0,0,"",0,"","",0,0,0,0,0,0,"ok","ok",0,0]
[{"$f":"'Rozliczenie końcowe'!A209","v":0},{"$f":"'Rozliczenie końcowe'!B563","v":""},{"$f":"'Rozliczenie końcowe'!I563","v":0},{"$f":"'Rozliczenie końcowe'!L563","v":0},"","","",{"$f":"'Rozliczenie końcowe'!C563","v":0},{"$f":"'Rozliczenie końcowe'!D563","v":0},{"$f":"'Rozliczenie końcowe'!E563","v":0},{"$f":"'Rozliczenie końcowe'!F563","v":0},null,null,0,0,"",0,"","",0,0,0,0,0,0,"ok","ok",0,0]
[{"$f":"'Rozliczenie końcowe'!A210","v":0},{"$f":"'Rozliczenie końcowe'!B564","v":""},{"$f":"'Rozliczenie końcowe'!I564","v":0},{"$f":"'Rozliczenie końcowe'!L564","v":0},"","","",{"$f":"'Rozliczenie końcowe'!C564","v":0},{"$f":"'Rozliczenie końcowe'!D564","v":0},{"$f":"'Rozliczenie końcowe'!E564","v":0},{"$f":"'Rozliczenie końcowe'!F564","v":0},null,null,0,0,"",0,"","",0,0,0,0,0,0,"ok","ok",0,0]
[{"$f":"'Rozliczenie końcowe'!A211","v":0},{"$f":"'Rozliczenie końcowe'!B565","v":""},{"$f":"'Rozliczenie końcowe'!I565","v":0},{"$f":"'Rozliczenie końcowe'!L565","v":0},"","","",{"$f":"'Rozliczenie końcowe'!C565","v":0},{"$f":"'Rozliczenie końcowe'!D565","v":0},{"$f":"'Rozliczenie końcowe'!E565","v":0},{"$f":"'Rozliczenie końcowe'!F565","v":0},null,null,0,0,{"$f":"F63","v":""},{"$f":"IFERROR(P63/O63,0)","v":0},"","",0,0,0,0,0,0,"ok","ok",0,0]
[{"$f":"'Rozliczenie końcowe'!A212","v":0},{"$f":"'Rozliczenie końcowe'!B566","v":""},{"$f":"'Rozliczenie końcowe'!I566","v":0},{"$f":"'Rozliczenie końcowe'!L566","v":0},"","","",{"$f":"'Rozliczenie końcowe'!C566","v":0},{"$f":"'Rozliczenie końcowe'!D566","v":0},{"$f":"'Rozliczenie końcowe'!E566","v":0},{"$f":"'Rozliczenie końcowe'!F566","v":0},null,null,0,0,{"$f":"F64","v":""},{"$f":"IFERROR(P64/O64,0)","v":0},"","",0,0,0,0,0,0,"ok","ok",0,0]
[{"$f":"'Rozliczenie końcowe'!A213","v":0},{"$f":"'Rozliczenie końcowe'!B567","v":""},{"$f":"'Rozliczenie końcowe'!I567","v":0},{"$f":"'Rozliczenie końcowe'!L567","v":0},"","","",{"$f":"'Rozliczenie końcowe'!C567","v":0},{"$f":"'Rozliczenie końcowe'!D567","v":0},{"$f":"'Rozliczenie końcowe'!E567","v":0},{"$f":"'Rozliczenie końcowe'!F567","v":0},null,null,0,0,"",0,"","",0,0,0,0,0,0,"ok","ok",0,0]
[{"$f":"'Rozliczenie końcowe'!A214","v":0},{"$f":"'Rozliczenie końcowe'!B568","v":""},{"$f":"'Rozliczenie końcowe'!I568","v":0},{"$f":"'Rozliczenie końcowe'!L568","v":0},"","","",{"$f":"'Rozliczenie końcowe'!C568","v":0},{"$f":"'Rozliczenie końcowe'!D568","v":0},{"$f":"'Rozliczenie końcowe'!E568","v":0},{"$f":"'Rozliczenie końcowe'!F568","v":0},null,null,{"$f":"A66","v":0},0,"",0,"","",0,0,0,0,0,0,"ok","ok",0,0]
[{"$f":"'Rozliczenie końcowe'!A215","v":0},{"$f":"'Rozliczenie końcowe'!B569","v":""},{"$f":"'Rozliczenie końcowe'!I569","v":0},{"$f":"'Rozliczenie końcowe'!L569","v":0},"","","",{"$f":"'Rozliczenie końcowe'!C569","v":0},{"$f":"'Rozliczenie końcowe'!D569","v":0},{"$f":"'Rozliczenie końcowe'!E569","v":0},{"$f":"'Rozliczenie końcowe'!F569","v":0},null,null,0,{"$f":"IFERROR(D67/C67,0)","v":0},"",0,"","",{"$f":"IFERROR(V67*C67,0)","v":0},{"$f":"V67*C67","v":0},0,0,{"$f":"D67*0.1","v":0},{"$f":"O67*0.1","v":0},"ok","ok",0,0]
[{"$f":"'Rozliczenie końcowe'!A216","v":0},{"$f":"'Rozliczenie końcowe'!B570","v":""},{"$f":"'Rozliczenie końcowe'!I570","v":0},{"$f":"'Rozliczenie końcowe'!L570","v":0},{"$f":"IFERROR(D68/C68,\"\")","v":""},{"$f":"IFERROR(ROUND(H68/C68,2),\"\")","v":""},{"$f":"IFERROR(ROUND(H68/D68,2),\"\")","v":""},{"$f":"'Rozliczenie końcowe'!C570","v":0},{"$f":"'Rozliczenie końcowe'!D570","v":0},{"$f":"'Rozliczenie końcowe'!E570","v":0},{"$f":"'Rozliczenie końcowe'!F570","v":0},null,null,0,0,"",0,{"$f":"IFERROR(ROUND(P68*C68,2),\"\")","v":""},{"$f":"IFERROR(ROUND(E68*C68,2),\"\")","v":""},0,0,{"$f":"IFERROR(IF((D68-H68)/C68>=$L$3,$L$3,(D68-H68)/C68),0)","v":0},{"$f":"IFERROR(ROUND(J68/C68,2),0)","v":0},0,0,{"$f":"IF(P68>=Y68,$M$1,$M$2)","v":"ok"},{"$f":"IF(W68<=$L$3,$M$1,$M$2)","v":"ok"},{"$f":"IFERROR((T68+R68)-D68,0)","v":0},{"$f":"IFERROR(D68-S68,0)","v":0}]
[{"$f":"'Rozliczenie końcowe'!A217","v":0},{"$f":"'Rozliczenie końcowe'!B571","v":""},{"$f":"'Rozliczenie końcowe'!I571","v":0},{"$f":"'Rozliczenie końcowe'!L571","v":0},"","","",{"$f":"'Rozliczenie końcowe'!C571","v":0},{"$f":"'Rozliczenie końcowe'!D571","v":0},{"$f":"'Rozliczenie końcowe'!E571","v":0},{"$f":"'Rozliczenie końcowe'!F571","v":0},null,null,0,0,"",0,"","",0,0,0,0,0,0,"ok","ok",0,0]
[{"$f":"'Rozliczenie końcowe'!A218","v":0},{"$f":"'Rozliczenie końcowe'!B572","v":""},{"$f":"'Rozliczenie końcowe'!I572","v":0},{"$f":"'Rozliczenie końcowe'!L572","v":0},"","","",{"$f":"'Rozliczenie końcowe'!C572","v":0},{"$f":"'Rozliczenie końcowe'!D572","v":0},{"$f":"'Rozliczenie końcowe'!E572","v":0},{"$f":"'Rozliczenie końcowe'!F572","v":0},null,null,0,0,"",0,"","",0,0,0,0,0,0,"ok","ok",0,0]
[{"$f":"'Rozliczenie końcowe'!A219","v":0},{"$f":"'Rozliczenie końcowe'!B573","v":""},{"$f":"'Rozliczenie końcowe'!I573","v":0},{"$f":"'Rozliczenie końcowe'!L573","v":0},"","","",{"$f":"'Rozliczenie końcowe'!C573","v":0},{"$f":"'Rozliczenie końcowe'!D573","v":0},{"$f":"'Rozliczenie końcowe'!E573","v":0},{"$f":"'Rozliczenie końcowe'!F573","v":0},null,null,0,0,"",0,"","",0,0,0,0,0,0,"ok","ok",0,0]
[{"$f":"'Rozliczenie końcowe'!A220","v":0},{"$f":"'Rozliczenie końcowe'!B574","v":""},{"$f":"'Rozliczenie końcowe'!I574","v":0},{"$f":"'Rozliczenie końcowe'!L574","v":0},"","","",{"$f":"'Rozliczenie końcowe'!C574","v":0},{"$f":"'Rozliczenie końcowe'!D574","v":0},{"$f":"'Rozliczenie końcowe'!E574","v":0},{"$f":"'Rozliczenie końcowe'!F574","v":0},null,null,0,0,"",0,"","",0,0,0,0,0,0,"ok","ok",0,0]
[{"$f":"'Rozliczenie końcowe'!A221","v":0},{"$f":"'Rozliczenie końcowe'!B575","v":""},{"$f":"'Rozliczenie końcowe'!I575","v":0},{"$f":"'Rozliczenie końcowe'!L575","v":0},"","","",{"$f":"'Rozliczenie końcowe'!C575","v":0},{"$f":"'Rozliczenie końcowe'!D575","v":0},{"$f":"'Rozliczenie końcowe'!E575","v":0},{"$f":"'Rozliczenie końcowe'!F575","v":0},null,null,0,0,{"$f":"F73","v":""},{"$f":"IFERROR(P73/O73,0)","v":0},"","",0,0,0,0,0,0,"ok","ok",0,0]
[{"$f":"'Rozliczenie końcowe'!A222","v":0},{"$f":"'Rozliczenie końcowe'!B576","v":""},{"$f":"'Rozliczenie końcowe'!I576","v":0},{"$f":"'Rozliczenie końcowe'!L576","v":0},"","","",{"$f":"'Rozliczenie końcowe'!C576","v":0},{"$f":"'Rozliczenie końcowe'!D576","v":0},{"$f":"'Rozliczenie końcowe'!E576","v":0},{"$f":"'Rozliczenie końcowe'!F576","v":0},null,null,0,0,{"$f":"F74","v":""},{"$f":"IFERROR(P74/O74,0)","v":0},"","",0,0,0,0,0,0,"ok","ok",0,0]
[{"$f":"'Rozliczenie końcowe'!A223","v":0},{"$f":"'Rozliczenie końcowe'!B577","v":""},{"$f":"'Rozliczenie końcowe'!I577","v":0},{"$f":"'Rozliczenie końcowe'!L577","v":0},"","","",{"$f":"'Rozliczenie końcowe'!C577","v":0},{"$f":"'Rozliczenie końcowe'!D577","v":0},{"$f":"'Rozliczenie końcowe'!E577","v":0},{"$f":"'Rozliczenie końcowe'!F577","v":0},null,null,0,0,"",0,"","",0,0,0,0,0,0,"ok","ok",0,0]
[{"$f":"'Rozliczenie końcowe'!A224","v":0},{"$f":"'Rozliczenie końcowe'!B578","v":""},{"$f":"'Rozliczenie końcowe'!I578","v":0},{"$f":"'Rozliczenie końcowe'!L578","v":0},"","","",{"$f":"'Rozliczenie końcowe'!C578","v":0},{"$f":"'Rozliczenie końcowe'!D578","v":0},{"$f":"'Rozliczenie końcowe'!E578","v":0},{"$f":"'Rozliczenie końcowe'!F578","v":0},null,null,0,0,"",0,"","",0,0,0,0,0,0,"ok","ok",0,0]
[{"$f":"'Rozliczenie końcowe'!A225","v":0},{"$f":"'Rozliczenie końcowe'!B579","v":""},{"$f":"'Rozliczenie końcowe'!I579","v":0},{"$f":"'Rozliczenie końcowe'!L579","v":0},"","","",{"$f":"'Rozliczenie końcowe'!C579","v":0},{"$f":"'Rozliczenie końcowe'!D579","v":0},{"$f":"'Rozliczenie końcowe'!E579","v":0},{"$f":"'Rozliczenie końcowe'!F579","v":0},null,null,0,0,"",0,"","",0,0,0,0,0,0,"ok","ok",0,0]
[{"$f":"'Rozliczenie końcowe'!A226","v":0},{"$f":"'Rozliczenie końcowe'!B580","v":""},{"$f":"'Rozliczenie końcowe'!I580","v":0},{"$f":"'Rozliczenie końcowe'!L580","v":0},"","","",{"$f":"'Rozliczenie końcowe'!C580","v":0},{"$f":"'Rozliczenie końcowe'!D580","v":0},{"$f":"'Rozliczenie końcowe'!E580","v":0},{"$f":"'Rozliczenie końcowe'!F580","v":0},null,null,0,0,"",0,"","",0,0,0,0,0,0,"ok","ok",0,0]
[{"$f":"'Rozliczenie końcowe'!A227","v":0},{"$f":"'Rozliczenie końcowe'!B581","v":""},{"$f":"'Rozliczenie końcowe'!I581","v":0},{"$f":"'Rozliczenie końcowe'!L581","v":0},"","","",{"$f":"'Rozliczenie końcowe'!C581","v":0},{"$f":"'Rozliczenie końcowe'!D581","v":0},{"$f":"'Rozliczenie końcowe'!E581","v":0},{"$f":"'Rozliczenie końcowe'!F581","v":0},null,null,0,0,"",0,"","",0,0,0,0,0,0,"ok","ok",0,0]
[{"$f":"'Rozliczenie końcowe'!A228","v":0},{"$f":"'Rozliczenie końcowe'!B582","v":""},{"$f":"'Rozliczenie końcowe'!I582","v":0},{"$f":"'Rozliczenie końcowe'!L582","v":0},"","","",{"$f":"'Rozliczenie końcowe'!C582","v":0},{"$f":"'Rozliczenie końcowe'!D582","v":0},{"$f":"'Rozliczenie końcowe'!E582","v":0},{"$f":"'Rozliczenie końcowe'!F582","v":0},null,null,0,0,"",0,"","",0,0,0,0,0,0,"ok","ok",0,0]
[{"$f":"'Rozliczenie końcowe'!A229","v":0},{"$f":"'Rozliczenie końcowe'!B583","v":""},{"$f":"'Rozliczenie końcowe'!I583","v":0},{"$f":"'Rozliczenie końcowe'!L583","v":0},"","","",{"$f":"'Rozliczenie końcowe'!C583","v":0},{"$f":"'Rozliczenie końcowe'!D583","v":0},{"$f":"'Rozliczenie końcowe'!E583","v":0},{"$f":"'Rozliczenie końcowe'!F583","v":0},null,null,0,0,"",0,"","",0,0,0,0,0,0,"ok","ok",0,0]
[{"$f":"'Rozliczenie końcowe'!A230","v":0},{"$f":"'Rozliczenie końcowe'!B584","v":""},{"$f":"'Rozliczenie końcowe'!I584","v":0},{"$f":"'Rozliczenie końcowe'!L584","v":0},"","","",{"$f":"'Rozliczenie końcowe'!C584","v":0},{"$f":"'Rozliczenie końcowe'!D584","v":0},{"$f":"'Rozliczenie końcowe'!E584","v":0},{"$f":"'Rozliczenie końcowe'!F584","v":0},null,null,0,0,"",0,"","",0,0,0,0,0,0,"ok","ok",0,0]
[{"$f":"'Rozliczenie końcowe'!A231","v":0},{"$f":"'Rozliczenie końcowe'!B585","v":""},{"$f":"'Rozliczenie końcowe'!I585","v":0},{"$f":"'Rozliczenie końcowe'!L585","v":0},"","","",{"$f":"'Rozliczenie końcowe'!C585","v":0},{"$f":"'Rozliczenie końcowe'!D585","v":0},{"$f":"'Rozliczenie końcowe'!E585","v":0},{"$f":"'Rozliczenie końcowe'!F585","v":0},null,null,0,0,"",0,"","",0,0,0,0,0,0,"ok","ok",0,0]
[{"$f":"'Rozliczenie końcowe'!A232","v":0},{"$f":"'Rozliczenie końcowe'!B586","v":""},{"$f":"'Rozliczenie końcowe'!I586","v":0},{"$f":"'Rozliczenie końcowe'!L586","v":0},"","","",{"$f":"'Rozliczenie końcowe'!C586","v":0},{"$f":"'Rozliczenie końcowe'!D586","v":0},{"$f":"'Rozliczenie końcowe'!E586","v":0},{"$f":"'Rozliczenie końcowe'!F586","v":0},null,null,0,0,"",0,"","",0,0,0,0,0,0,"ok","ok",0,0]
[{"$f":"'Rozliczenie końcowe'!A233","v":0},{"$f":"'Rozliczenie końcowe'!B587","v":""},{"$f":"'Rozliczenie końcowe'!I587","v":0},{"$f":"'Rozliczenie końcowe'!L587","v":0},"","","",{"$f":"'Rozliczenie końcowe'!C587","v":0},{"$f":"'Rozliczenie końcowe'!D587","v":0},{"$f":"'Rozliczenie końcowe'!E587","v":0},{"$f":"'Rozliczenie końcowe'!F587","v":0},null,null,0,0,"",0,"","",0,0,0,0,0,0,"ok","ok",0,0]
[{"$f":"'Rozliczenie końcowe'!A234","v":0},{"$f":"'Rozliczenie końcowe'!B588","v":""},{"$f":"'Rozliczenie końcowe'!I588","v":0},{"$f":"'Rozliczenie końcowe'!L588","v":0},"","","",{"$f":"'Rozliczenie końcowe'!C588","v":0},{"$f":"'Rozliczenie końcowe'!D588","v":0},{"$f":"'Rozliczenie końcowe'!E588","v":0},{"$f":"'Rozliczenie końcowe'!F588","v":0},null,null,0,0,"",0,"","",0,0,0,0,0,0,"ok","ok",0,0]
[{"$f":"'Rozliczenie końcowe'!A235","v":0},{"$f":"'Rozliczenie końcowe'!B589","v":""},{"$f":"'Rozliczenie końcowe'!I589","v":0},{"$f":"'Rozliczenie końcowe'!L589","v":0},"","","",{"$f":"'Rozliczenie końcowe'!C589","v":0},{"$f":"'Rozliczenie końcowe'!D589","v":0},{"$f":"'Rozliczenie końcowe'!E589","v":0},{"$f":"'Rozliczenie końcowe'!F589","v":0},null,null,0,0,"",0,"","",0,0,0,0,0,0,"ok","ok",0,0]
[{"$f":"'Rozliczenie końcowe'!A236","v":0},{"$f":"'Rozliczenie końcowe'!B590","v":""},{"$f":"'Rozliczenie końcowe'!I590","v":0},{"$f":"'Rozliczenie końcowe'!L590","v":0},"","","",{"$f":"'Rozliczenie końcowe'!C590","v":0},{"$f":"'Rozliczenie końcowe'!D590","v":0},{"$f":"'Rozliczenie końcowe'!E590","v":0},{"$f":"'Rozliczenie końcowe'!F590","v":0},null,null,0,0,"",0,"","",0,0,0,0,0,0,"ok","ok",0,0]
[{"$f":"'Rozliczenie końcowe'!A237","v":0},{"$f":"'Rozliczenie końcowe'!B591","v":""},{"$f":"'Rozliczenie końcowe'!I591","v":0},{"$f":"'Rozliczenie końcowe'!L591","v":0},"","","",{"$f":"'Rozliczenie końcowe'!C591","v":0},{"$f":"'Rozliczenie końcowe'!D591","v":0},{"$f":"'Rozliczenie końcowe'!E591","v":0},{"$f":"'Rozliczenie końcowe'!F591","v":0},null,null,0,0,"",0,"","",0,0,0,0,0,0,"ok","ok",0,0]
[{"$f":"'Rozliczenie końcowe'!A238","v":0},{"$f":"'Rozliczenie końcowe'!B592","v":""},{"$f":"'Rozliczenie końcowe'!I592","v":0},{"$f":"'Rozliczenie końcowe'!L592","v":0},"","","",{"$f":"'Rozliczenie końcowe'!C592","v":0},{"$f":"'Rozliczenie końcowe'!D592","v":0},{"$f":"'Rozliczenie końcowe'!E592","v":0},{"$f":"'Rozliczenie końcowe'!F592","v":0},null,null,0,0,"",0,"","",0,0,0,0,0,0,"ok","ok",0,0]
[{"$f":"'Rozliczenie końcowe'!A239","v":0},{"$f":"'Rozliczenie końcowe'!B593","v":""},{"$f":"'Rozliczenie końcowe'!I593","v":0},{"$f":"'Rozliczenie końcowe'!L593","v":0},"","","",{"$f":"'Rozliczenie końcowe'!C593","v":0},{"$f":"'Rozliczenie końcowe'!D593","v":0},{"$f":"'Rozliczenie końcowe'!E593","v":0},{"$f":"'Rozliczenie końcowe'!F593","v":0},null,null,0,0,"",0,"","",0,0,0,0,0,0,"ok","ok",0,0]
[{"$f":"'Rozliczenie końcowe'!A240","v":0},{"$f":"'Rozliczenie końcowe'!B594","v":""},{"$f":"'Rozliczenie końcowe'!I594","v":0},{"$f":"'Rozliczenie końcowe'!L594","v":0},"","","",{"$f":"'Rozliczenie końcowe'!C594","v":0},{"$f":"'Rozliczenie końcowe'!D594","v":0},{"$f":"'Rozliczenie końcowe'!E594","v":0},{"$f":"'Rozliczenie końcowe'!F594","v":0},null,null,0,0,"",0,"","",0,0,0,0,0,0,"ok","ok",0,0]
[{"$f":"'Rozliczenie końcowe'!A241","v":0},{"$f":"'Rozliczenie końcowe'!B595","v":""},{"$f":"'Rozliczenie końcowe'!I595","v":0},{"$f":"'Rozliczenie końcowe'!L595","v":0},"","","",{"$f":"'Rozliczenie końcowe'!C595","v":0},{"$f":"'Rozliczenie końcowe'!D595","v":0},{"$f":"'Rozliczenie końcowe'!E595","v":0},{"$f":"'Rozliczenie końcowe'!F595","v":0},null,null,0,0,"",0,"","",0,0,0,0,0,0,"ok","ok",0,0]
[{"$f":"'Rozliczenie końcowe'!A242","v":0},{"$f":"'Rozliczenie końcowe'!B596","v":""},{"$f":"'Rozliczenie końcowe'!I596","v":0},{"$f":"'Rozliczenie końcowe'!L596","v":0},"","","",{"$f":"'Rozliczenie końcowe'!C596","v":0},{"$f":"'Rozliczenie końcowe'!D596","v":0},{"$f":"'Rozliczenie końcowe'!E596","v":0},{"$f":"'Rozliczenie końcowe'!F596","v":0},null,null,0,0,"",0,"","",0,0,0,0,0,0,"ok","ok",0,0]
[{"$f":"'Rozliczenie końcowe'!A243","v":0},{"$f":"'Rozliczenie końcowe'!B597","v":""},{"$f":"'Rozliczenie końcowe'!I597","v":0},{"$f":"'Rozliczenie końcowe'!L597","v":0},"","","",{"$f":"'Rozliczenie końcowe'!C597","v":0},{"$f":"'Rozliczenie końcowe'!D597","v":0},{"$f":"'Rozliczenie końcowe'!E597","v":0},{"$f":"'Rozliczenie końcowe'!F597","v":0},null,null,0,0,"",0,"","",0,0,0,0,0,0,"ok","ok",0,0]
[{"$f":"'Rozliczenie końcowe'!A244","v":0},{"$f":"'Rozliczenie końcowe'!B598","v":""},{"$f":"'Rozliczenie końcowe'!I598","v":0},{"$f":"'Rozliczenie końcowe'!L598","v":0},"","","",{"$f":"'Rozliczenie końcowe'!C598","v":0},{"$f":"'Rozliczenie końcowe'!D598","v":0},{"$f":"'Rozliczenie końcowe'!E598","v":0},{"$f":"'Rozliczenie końcowe'!F598","v":0},null,null,0,0,"",0,"","",0,0,0,0,0,0,"ok","ok",0,0]
[{"$f":"'Rozliczenie końcowe'!A245","v":0},{"$f":"'Rozliczenie końcowe'!B599","v":""},{"$f":"'Rozliczenie końcowe'!I599","v":0},{"$f":"'Rozliczenie końcowe'!L599","v":0},"","","",{"$f":"'Rozliczenie końcowe'!C599","v":0},{"$f":"'Rozliczenie końcowe'!D599","v":0},{"$f":"'Rozliczenie końcowe'!E599","v":0},{"$f":"'Rozliczenie końcowe'!F599","v":0},null,null,0,0,"",0,"","",0,0,0,0,0,0,"ok","ok",0,0]
[{"$f":"'Rozliczenie końcowe'!A246","v":0},{"$f":"'Rozliczenie końcowe'!B600","v":""},{"$f":"'Rozliczenie końcowe'!I600","v":0},{"$f":"'Rozliczenie końcowe'!L600","v":0},"","","",{"$f":"'Rozliczenie końcowe'!C600","v":0},{"$f":"'Rozliczenie końcowe'!D600","v":0},{"$f":"'Rozliczenie końcowe'!E600","v":0},{"$f":"'Rozliczenie końcowe'!F600","v":0},null,null,0,0,"",0,"","",0,0,0,0,0,0,"ok","ok",0,0]
[{"$f":"'Rozliczenie końcowe'!A247","v":0},{"$f":"'Rozliczenie końcowe'!B601","v":""},{"$f":"'Rozliczenie końcowe'!I601","v":0},{"$f":"'Rozliczenie końcowe'!L601","v":0},"","","",{"$f":"'Rozliczenie końcowe'!C601","v":0},{"$f":"'Rozliczenie końcowe'!D601","v":0},{"$f":"'Rozliczenie końcowe'!E601","v":0},{"$f":"'Rozliczenie końcowe'!F601","v":0},null,null,0,0,"",0,"","",0,0,0,0,0,0,"ok","ok",0,0]
[{"$f":"'Rozliczenie końcowe'!A248","v":0},{"$f":"'Rozliczenie końcowe'!B602","v":""},{"$f":"'Rozliczenie końcowe'!I602","v":0},{"$f":"'Rozliczenie końcowe'!L602","v":0},"","","",{"$f":"'Rozliczenie końcowe'!C602","v":0},{"$f":"'Rozliczenie końcowe'!D602","v":0},{"$f":"'Rozliczenie końcowe'!E602","v":0},{"$f":"'Rozliczenie końcowe'!F602","v":0},null,null,0,0,"",0,"","",0,0,0,0,0,0,"ok","ok",0,0]
[{"$f":"'Rozliczenie końcowe'!A249","v":0},{"$f":"'Rozliczenie końcowe'!B603","v":""},{"$f":"'Rozliczenie końcowe'!I603","v":0},{"$f":"'Rozliczenie końcowe'!L603","v":0},"","","",{"$f":"'Rozliczenie końcowe'!C603","v":0},{"$f":"'Rozliczenie końcowe'!D603","v":0},{"$f":"'Rozliczenie końcowe'!E603","v":0},{"$f":"'Rozliczenie końcowe'!F603","v":0},null,null,0,0,"",0,"","",0,0,0,0,0,0,"ok","ok",0,0]
[{"$f":"'Rozliczenie końcowe'!A250","v":0},{"$f":"'Rozliczenie końcowe'!B604","v":""},{"$f":"'Rozliczenie końcowe'!I604","v":0},{"$f":"'Rozliczenie końcowe'!L604","v":0},"","","",{"$f":"'Rozliczenie końcowe'!C604","v":0},{"$f":"'Rozliczenie końcowe'!D604","v":0},{"$f":"'Rozliczenie końcowe'!E604","v":0},{"$f":"'Rozliczenie końcowe'!F604","v":0},null,null,0,0,"",0,"","",0,0,0,0,0,0,"ok","ok",0,0]
[{"$f":"'Rozliczenie końcowe'!A251","v":0},{"$f":"'Rozliczenie końcowe'!B605","v":""},{"$f":"'Rozliczenie końcowe'!I605","v":0},{"$f":"'Rozliczenie końcowe'!L605","v":0},"","","",{"$f":"'Rozliczenie końcowe'!C605","v":0},{"$f":"'Rozliczenie końcowe'!D605","v":0},{"$f":"'Rozliczenie końcowe'!E605","v":0},{"$f":"'Rozliczenie końcowe'!F605","v":0},null,null,0,0,"",0,"","",0,0,0,0,0,0,"ok","ok",0,0]
[{"$f":"'Rozliczenie końcowe'!A252","v":0},{"$f":"'Rozliczenie końcowe'!B606","v":""},{"$f":"'Rozliczenie końcowe'!I606","v":0},{"$f":"'Rozliczenie końcowe'!L606","v":0},"","","",{"$f":"'Rozliczenie końcowe'!C606","v":0},{"$f":"'Rozliczenie końcowe'!D606","v":0},{"$f":"'Rozliczenie końcowe'!E606","v":0},{"$f":"'Rozliczenie końcowe'!F606","v":0},null,null,0,0,"",0,"","",0,0,0,0,0,0,"ok","ok",0,0]
[{"$f":"'Rozliczenie końcowe'!A253","v":0},{"$f":"'Rozliczenie końcowe'!B607","v":""},{"$f":"'Rozliczenie końcowe'!I607","v":0},{"$f":"'Rozliczenie końcowe'!L607","v":0},"","","",{"$f":"'Rozliczenie końcowe'!C607","v":0},{"$f":"'Rozliczenie końcowe'!D607","v":0},{"$f":"'Rozliczenie końcowe'!E607","v":0},{"$f":"'Rozliczenie końcowe'!F607","v":0},null,null,0,0,"",0,"","",0,0,0,0,0,0,"ok","ok",0,0]
[{"$f":"'Rozliczenie końcowe'!A254","v":0},{"$f":"'Rozliczenie końcowe'!B608","v":""},{"$f":"'Rozliczenie końcowe'!I608","v":0},{"$f":"'Rozliczenie końcowe'!L608","v":0},"","","",{"$f":"'Rozliczenie końcowe'!C608","v":0},{"$f":"'Rozliczenie końcowe'!D608","v":0},{"$f":"'Rozliczenie końcowe'!E608","v":0},{"$f":"'Rozliczenie końcowe'!F608","v":0},null,null,0,0,"",0,"","",0,0,0,0,0,0,"ok","ok",0,0]
[{"$f":"'Rozliczenie końcowe'!A255","v":0},{"$f":"'Rozliczenie końcowe'!B609","v":""},{"$f":"'Rozliczenie końcowe'!I609","v":0},{"$f":"'Rozliczenie końcowe'!L609","v":0},"","","",{"$f":"'Rozliczenie końcowe'!C609","v":0},{"$f":"'Rozliczenie końcowe'!D609","v":0},{"$f":"'Rozliczenie końcowe'!E609","v":0},{"$f":"'Rozliczenie końcowe'!F609","v":0},null,null,0,0,"",0,"","",0,0,0,0,0,0,"ok","ok",0,0]
[{"$f":"'Rozliczenie końcowe'!A256","v":0},{"$f":"'Rozliczenie końcowe'!B610","v":""},{"$f":"'Rozliczenie końcowe'!I610","v":0},{"$f":"'Rozliczenie końcowe'!L610","v":0},"","","",{"$f":"'Rozliczenie końcowe'!C610","v":0},{"$f":"'Rozliczenie końcowe'!D610","v":0},{"$f":"'Rozliczenie końcowe'!E610","v":0},{"$f":"'Rozliczenie końcowe'!F610","v":0},null,null,0,0,"",0,"","",0,0,0,0,0,0,"ok","ok",0,0]
[{"$f":"'Rozliczenie końcowe'!A257","v":0},{"$f":"'Rozliczenie końcowe'!B611","v":""},{"$f":"'Rozliczenie końcowe'!I611","v":0},{"$f":"'Rozliczenie końcowe'!L611","v":0},"","","",{"$f":"'Rozliczenie końcowe'!C611","v":0},{"$f":"'Rozliczenie końcowe'!D611","v":0},{"$f":"'Rozliczenie końcowe'!E611","v":0},{"$f":"'Rozliczenie końcowe'!F611","v":0},null,null,0,0,"",0,"","",0,0,0,0,0,0,"ok","ok",0,0]
[{"$f":"'Rozliczenie końcowe'!A258","v":0},{"$f":"'Rozliczenie końcowe'!B612","v":""},{"$f":"'Rozliczenie końcowe'!I612","v":0},{"$f":"'Rozliczenie końcowe'!L612","v":0},"","","",{"$f":"'Rozliczenie końcowe'!C612","v":0},{"$f":"'Rozliczenie końcowe'!D612","v":0},{"$f":"'Rozliczenie końcowe'!E612","v":0},{"$f":"'Rozliczenie końcowe'!F612","v":0},null,null,0,0,"",0,"","",0,0,0,0,0,0,"ok","ok",0,0]
[{"$f":"'Rozliczenie końcowe'!A259","v":0},{"$f":"'Rozliczenie końcowe'!B613","v":""},{"$f":"'Rozliczenie końcowe'!I613","v":0},{"$f":"'Rozliczenie końcowe'!L613","v":0},"","","",{"$f":"'Rozliczenie końcowe'!C613","v":0},{"$f":"'Rozliczenie końcowe'!D613","v":0},{"$f":"'Rozliczenie końcowe'!E613","v":0},{"$f":"'Rozliczenie końcowe'!F613","v":0},null,null,0,0,"",0,"","",0,0,0,0,0,0,"ok","ok",0,0]
[{"$f":"'Rozliczenie końcowe'!A260","v":0},{"$f":"'Rozliczenie końcowe'!B614","v":""},{"$f":"'Rozliczenie końcowe'!I614","v":0},{"$f":"'Rozliczenie końcowe'!L614","v":0},"","","",{"$f":"'Rozliczenie końcowe'!C614","v":0},{"$f":"'Rozliczenie końcowe'!D614","v":0},{"$f":"'Rozliczenie końcowe'!E614","v":0},{"$f":"'Rozliczenie końcowe'!F614","v":0},null,null,0,0,"",0,"","",0,0,0,0,0,0,"ok","ok",0,0]
["Suma",null,{"$f":"SUM(C3:C112)","v":0},{"$f":"'Rozliczenie końcowe'!L261","v":0},null,null,null,{"$f":"'Rozliczenie końcowe'!C615","v":0},{"$f":"'Rozliczenie końcowe'!D615","v":0},{"$f":"'Rozliczenie końcowe'!E615","v":0},{"$f":"'Rozliczenie końcowe'!F615","v":0},null,null,null,null,null,null,0,0,{"$f":"SUM(T3:T112)","v":0},{"$f":"SUM(U3:U112)","v":0},null,null,0]
[null,null,null,null,null,null,null,null,null,{"$f":"'Rozliczenie końcowe'!K262","v":0},{"$f":"'Rozliczenie końcowe'!L262","v":0}]
[null,null,null,null,null,null,null,null,null,{"$f":"'Rozliczenie końcowe'!K263","v":0},{"$f":"'Rozliczenie końcowe'!L263","v":0}]

{"sheet":"Weryfikacja roczna","index":15,"n_rows":115,"n_cols":31,"rows_kept":115,"cut":false,"hidden":true,"merged":[[0,1,0,11]]}
[null,"Dane z wniosku",null,null,null,null,null,null,null,null,null,null,"ok","Wer.",null,null,null,null,null,null,null,null,null,null,null,null,null,null,null,null,"Zgodność danych z załącznikiem nr 1"]
["l.p","NAZWA LINII","WOZOKILOMETRY","DEFICYT","CENA USŁUGI","WKŁAD WŁASNY/KM [ZŁ]","WKŁAD WŁASNY [%]","WKŁAD WŁASNY [ZŁ]","POBRANA KWOTA DOPŁATY","NALEŻNA KWOTA DOPŁATY","NIEWYKORZYSTANA KWOTA DOPŁATY","STAWKA MAX Z UMOWY","X",{"$f":"A2","v":"l.p"},"Cena usługi","Wkład własny/km [zł]","Wkład własny [%]","Wkład własny [zł]","Def z ceny usł","Kwota dopłaty","Max kwota dopł na podst wk. wł.","Max kwota dopł na podst wk wł/wzkm ","Kwota dopłaty/wozokm","10% z deficytu ","10 % z ceny usługi","warunek 10%","max 1 (3) zł/wzkm","Różnica w finansowaniu","Różnica def z zaokrągleń",null,{"$f":"IF(Miesiące!P11='Rozliczenie końcowe'!R196,'Weryfikacja roczna'!$M$1,'Weryfikacja roczna'!$M$2)","v":"ok"}]
[{"$f":"'Rozliczenie końcowe'!A151","v":0},{"$f":"'Rozliczenie końcowe'!B623","v":""},{"$f":"'Rozliczenie końcowe'!I623","v":""},{"$f":"'Rozliczenie końcowe'!L623","v":""},{"$f":"IFERROR(D3/C3,\"\")","v":""},{"$f":"IFERROR(ROUND(H3/C3,2),\"\")","v":""},{"$f":"IFERROR(ROUND(H3/D3,2),\"\")","v":""},{"$f":"'Rozliczenie końcowe'!C623","v":""},{"$f":"'Rozliczenie końcowe'!D623","v":""},{"$f":"'Rozliczenie końcowe'!E623","v":""},{"$f":"'Rozliczenie końcowe'!F623","v":""},3,null,0,{"$f":"IFERROR(D3/C3,0)","v":0},{"$f":"F3","v":""},{"$f":"IFERROR(P3/O3,0)","v":0},{"$f":"IFERROR(ROUND(P3*C3,2),\"\")","v":""},{"$f":"IFERROR(ROUND(E3*C3,2),\"\")","v":""},{"$f":"IFERROR(V3*C3,0)","v":0},{"$f":"IFERROR(V3*C3,\"\")","v":""},{"$f":"IFERROR(IF((D3-H3)/C3>=$L$3,$L$3,(D3-H3)/C3),0)","v":0},{"$f":"IFERROR(ROUND(J3/C3,2),0)","v":0},{"$f":"IFERROR(D3*0.1,\"\")","v":""},{"$f":"O3*0.1","v":0},{"$f":"IF(P3>=Y3,$M$1,$M$2)","v":"ok"},{"$f":"IF(W3<=$L$3,$M$1,$M$2)","v":"ok"},{"$f":"IFERROR((T3+R3)-D3,0)","v":0},{"$f":"IFERROR(D3-S3,0)","v":0}]
[{"$f":"'Rozliczenie końcowe'!A152","v":0},{"$f":"'Rozliczenie końcowe'!B624","v":""},{"$f":"'Rozliczenie końcowe'!I624","v":""},{"$f":"'Rozliczenie końcowe'!L624","v":""},{"$f":"IFERROR(D4/C4,\"\")","v":""},{"$f":"IFERROR(ROUND(H4/C4,2),\"\")","v":""},{"$f":"IFERROR(ROUND(H4/D4,2),\"\")","v":""},{"$f":"'Rozliczenie końcowe'!C624","v":""},{"$f":"'Rozliczenie końcowe'!D624","v":""},{"$f":"'Rozliczenie końcowe'!E624","v":""},{"$f":"'Rozliczenie końcowe'!F624","v":""},null,null,0,0,{"$f":"F4","v":""},{"$f":"IFERROR(P4/O4,0)","v":0},{"$f":"IFERROR(ROUND(P4*C4,2),\"\")","v":""},{"$f":"IFERROR(ROUND(E4*C4,2),\"\")","v":""},0,{"$f":"IFERROR(V4*C4,\"\")","v":""},{"$f":"IFERROR(IF((D4-H4)/C4>=$L$3,$L$3,(D4-H4)/C4),0)","v":0},{"$f":"IFERROR(ROUND(J4/C4,2),0)","v":0},{"$f":"IFERROR(D4*0.1,\"\")","v":""},0,{"$f":"IF(P4>=Y4,$M$1,$M$2)","v":"ok"},{"$f":"IF(W4<=$L$3,$M$1,$M$2)","v":"ok"},{"$f":"IFERROR((T4+R4)-D4,0)","v":0},{"$f":"IFERROR(D4-S4,0)","v":0}]
[{"$f":"'Rozliczenie końcowe'!A153","v":0},{"$f":"'Rozliczenie końcowe'!B625","v":""},{"$f":"'Rozliczenie końcowe'!I625","v":""},{"$f":"'Rozliczenie końcowe'!L625","v":""},"","","",{"$f":"'Rozliczenie końcowe'!C625","v":""},{"$f":"'Rozliczenie końcowe'!D625","v":""},{"$f":"'Rozliczenie końcowe'!E625","v":""},{"$f":"'Rozliczenie końcowe'!F625","v":""},null,null,0,0,"",0,"","",0,"",0,0,"",0,"ok","ok",0,0]
[{"$f":"'Rozliczenie końcowe'!A154","v":0},{"$f":"'Rozliczenie końcowe'!B626","v":""},{"$f":"'Rozliczenie końcowe'!I626","v":""},{"$f":"'Rozliczenie końcowe'!L626","v":""},"","","",{"$f":"'Rozliczenie końcowe'!C626","v":""},{"$f":"'Rozliczenie końcowe'!D626","v":""},{"$f":"'Rozliczenie końcowe'!E626","v":""},{"$f":"'Rozliczenie końcowe'!F626","v":""},null,null,0,0,"",0,"","",0,"",0,0,"",0,"ok","ok",0,0]
[{"$f":"'Rozliczenie końcowe'!A155","v":0},{"$f":"'Rozliczenie końcowe'!B627","v":""},{"$f":"'Rozliczenie końcowe'!I627","v":""},{"$f":"'Rozliczenie końcowe'!L627","v":""},"","","",{"$f":"'Rozliczenie końcowe'!C627","v":""},{"$f":"'Rozliczenie końcowe'!D627","v":""},{"$f":"'Rozliczenie końcowe'!E627","v":""},{"$f":"'Rozliczenie końcowe'!F627","v":""},null,null,0,0,"",0,"","",0,"",0,0,"",0,"ok","ok",0,0]
[{"$f":"'Rozliczenie końcowe'!A156","v":0},{"$f":"'Rozliczenie końcowe'!B628","v":""},{"$f":"'Rozliczenie końcowe'!I628","v":""},{"$f":"'Rozliczenie końcowe'!L628","v":""},"","","",{"$f":"'Rozliczenie końcowe'!C628","v":""},{"$f":"'Rozliczenie końcowe'!D628","v":""},{"$f":"'Rozliczenie końcowe'!E628","v":""},{"$f":"'Rozliczenie końcowe'!F628","v":""},null,null,0,0,"",0,"","",0,"",0,0,"",0,"ok","ok",0,0]
[{"$f":"'Rozliczenie końcowe'!A157","v":0},{"$f":"'Rozliczenie końcowe'!B629","v":""},{"$f":"'Rozliczenie końcowe'!I629","v":""},{"$f":"'Rozliczenie końcowe'!L629","v":""},"","","",{"$f":"'Rozliczenie końcowe'!C629","v":""},{"$f":"'Rozliczenie końcowe'!D629","v":""},{"$f":"'Rozliczenie końcowe'!E629","v":""},{"$f":"'Rozliczenie końcowe'!F629","v":""},null,null,0,0,"",0,"","",0,"",0,0,"",0,"ok","ok",0,0]
[{"$f":"'Rozliczenie końcowe'!A158","v":0},{"$f":"'Rozliczenie końcowe'!B630","v":""},{"$f":"'Rozliczenie końcowe'!I630","v":""},{"$f":"'Rozliczenie końcowe'!L630","v":""},"","","",{"$f":"'Rozliczenie końcowe'!C630","v":""},{"$f":"'Rozliczenie końcowe'!D630","v":""},{"$f":"'Rozliczenie końcowe'!E630","v":""},{"$f":"'Rozliczenie końcowe'!F630","v":""},null,null,0,0,"",0,"","",0,"",0,0,"",0,"ok","ok",0,0]
[{"$f":"'Rozliczenie końcowe'!A159","v":0},{"$f":"'Rozliczenie końcowe'!B631","v":""},{"$f":"'Rozliczenie końcowe'!I631","v":""},{"$f":"'Rozliczenie końcowe'!L631","v":""},"","","",{"$f":"'Rozliczenie końcowe'!C631","v":""},{"$f":"'Rozliczenie końcowe'!D631","v":""},{"$f":"'Rozliczenie końcowe'!E631","v":""},{"$f":"'Rozliczenie końcowe'!F631","v":""},null,null,0,0,"",0,"","",0,"",0,0,"",0,"ok","ok",0,0]
[{"$f":"'Rozliczenie końcowe'!A160","v":0},{"$f":"'Rozliczenie końcowe'!B632","v":""},{"$f":"'Rozliczenie końcowe'!I632","v":""},{"$f":"'Rozliczenie końcowe'!L632","v":""},"","","",{"$f":"'Rozliczenie końcowe'!C632","v":""},{"$f":"'Rozliczenie końcowe'!D632","v":""},{"$f":"'Rozliczenie końcowe'!E632","v":""},{"$f":"'Rozliczenie końcowe'!F632","v":""},null,null,0,0,"",0,"","",0,"",0,0,"",0,"ok","ok",0,0]
[{"$f":"'Rozliczenie końcowe'!A161","v":0},{"$f":"'Rozliczenie końcowe'!B633","v":""},{"$f":"'Rozliczenie końcowe'!I633","v":""},{"$f":"'Rozliczenie końcowe'!L633","v":""},"","","",{"$f":"'Rozliczenie końcowe'!C633","v":""},{"$f":"'Rozliczenie końcowe'!D633","v":""},{"$f":"'Rozliczenie końcowe'!E633","v":""},{"$f":"'Rozliczenie końcowe'!F633","v":""},null,null,0,0,"",0,"","",0,"",0,0,"",0,"ok","ok",0,0]
[{"$f":"'Rozliczenie końcowe'!A162","v":0},{"$f":"'Rozliczenie końcowe'!B634","v":""},{"$f":"'Rozliczenie końcowe'!I634","v":""},{"$f":"'Rozliczenie końcowe'!L634","v":""},"","","",{"$f":"'Rozliczenie końcowe'!C634","v":""},{"$f":"'Rozliczenie końcowe'!D634","v":""},{"$f":"'Rozliczenie końcowe'!E634","v":""},{"$f":"'Rozliczenie końcowe'!F634","v":""},null,null,0,0,"",0,"","",0,"",0,0,"",0,"ok","ok",0,0]
[{"$f":"'Rozliczenie końcowe'!A163","v":0},{"$f":"'Rozliczenie końcowe'!B635","v":""},{"$f":"'Rozliczenie końcowe'!I635","v":""},{"$f":"'Rozliczenie końcowe'!L635","v":""},"","","",{"$f":"'Rozliczenie końcowe'!C635","v":""},{"$f":"'Rozliczenie końcowe'!D635","v":""},{"$f":"'Rozliczenie końcowe'!E635","v":""},{"$f":"'Rozliczenie końcowe'!F635","v":""},null,null,0,0,"",0,"","",0,"",0,0,"",0,"ok","ok",0,0]
[{"$f":"'Rozliczenie końcowe'!A164","v":0},{"$f":"'Rozliczenie końcowe'!B636","v":""},{"$f":"'Rozliczenie końcowe'!I636","v":""},{"$f":"'Rozliczenie końcowe'!L636","v":""},"","","",{"$f":"'Rozliczenie końcowe'!C636","v":""},{"$f":"'Rozliczenie końcowe'!D636","v":""},{"$f":"'Rozliczenie końcowe'!E636","v":""},{"$f":"'Rozliczenie końcowe'!F636","v":""},null,null,0,0,"",0,"","",0,"",0,0,"",0,"ok","ok",0,0]
[{"$f":"'Rozliczenie końcowe'!A165","v":0},{"$f":"'Rozliczenie końcowe'!B637","v":""},{"$f":"'Rozliczenie końcowe'!I637","v":""},{"$f":"'Rozliczenie końcowe'!L637","v":""},"","","",{"$f":"'Rozliczenie końcowe'!C637","v":""},{"$f":"'Rozliczenie końcowe'!D637","v":""},{"$f":"'Rozliczenie końcowe'!E637","v":""},{"$f":"'Rozliczenie końcowe'!F637","v":""},null,null,0,0,"",0,"","",0,"",0,0,"",0,"ok","ok",0,0]
[{"$f":"'Rozliczenie końcowe'!A166","v":0},{"$f":"'Rozliczenie końcowe'!B638","v":""},{"$f":"'Rozliczenie końcowe'!I638","v":""},{"$f":"'Rozliczenie końcowe'!L638","v":""},"","","",{"$f":"'Rozliczenie końcowe'!C638","v":""},{"$f":"'Rozliczenie końcowe'!D638","v":""},{"$f":"'Rozliczenie końcowe'!E638","v":""},{"$f":"'Rozliczenie końcowe'!F638","v":""},null,null,0,0,"",0,"","",0,"",0,0,"",0,"ok","ok",0,0]
[{"$f":"'Rozliczenie końcowe'!A167","v":0},{"$f":"'Rozliczenie końcowe'!B639","v":""},{"$f":"'Rozliczenie końcowe'!I639","v":""},{"$f":"'Rozliczenie końcowe'!L639","v":""},"","","",{"$f":"'Rozliczenie końcowe'!C639","v":""},{"$f":"'Rozliczenie końcowe'!D639","v":""},{"$f":"'Rozliczenie końcowe'!E639","v":""},{"$f":"'Rozliczenie końcowe'!F639","v":""},null,null,0,0,"",0,"","",0,"",0,0,"",0,"ok","ok",0,0]
[{"$f":"'Rozliczenie końcowe'!A168","v":0},{"$f":"'Rozliczenie końcowe'!B640","v":""},{"$f":"'Rozliczenie końcowe'!I640","v":""},{"$f":"'Rozliczenie końcowe'!L640","v":""},"","","",{"$f":"'Rozliczenie końcowe'!C640","v":""},{"$f":"'Rozliczenie końcowe'!D640","v":""},{"$f":"'Rozliczenie końcowe'!E640","v":""},{"$f":"'Rozliczenie końcowe'!F640","v":""},null,null,0,0,"",0,"","",0,"",0,0,"",0,"ok","ok",0,0]
[{"$f":"'Rozliczenie końcowe'!A169","v":0},{"$f":"'Rozliczenie końcowe'!B641","v":""},{"$f":"'Rozliczenie końcowe'!I641","v":""},{"$f":"'Rozliczenie końcowe'!L641","v":""},"","","",{"$f":"'Rozliczenie końcowe'!C641","v":""},{"$f":"'Rozliczenie końcowe'!D641","v":""},{"$f":"'Rozliczenie końcowe'!E641","v":""},{"$f":"'Rozliczenie końcowe'!F641","v":""},null,null,0,0,"",0,"","",0,"",0,0,"",0,"ok","ok",0,0]
[{"$f":"'Rozliczenie końcowe'!A170","v":0},{"$f":"'Rozliczenie końcowe'!B642","v":""},{"$f":"'Rozliczenie końcowe'!I642","v":""},{"$f":"'Rozliczenie końcowe'!L642","v":""},"","","",{"$f":"'Rozliczenie końcowe'!C642","v":""},{"$f":"'Rozliczenie końcowe'!D642","v":""},{"$f":"'Rozliczenie końcowe'!E642","v":""},{"$f":"'Rozliczenie końcowe'!F642","v":""},null,null,0,0,"",0,"","",0,"",0,0,"",0,"ok","ok",0,0]
[{"$f":"'Rozliczenie końcowe'!A171","v":0},{"$f":"'Rozliczenie końcowe'!B643","v":""},{"$f":"'Rozliczenie końcowe'!I643","v":""},{"$f":"'Rozliczenie końcowe'!L643","v":""},"","","",{"$f":"'Rozliczenie końcowe'!C643","v":""},{"$f":"'Rozliczenie końcowe'!D643","v":""},{"$f":"'Rozliczenie końcowe'!E643","v":""},{"$f":"'Rozliczenie końcowe'!F643","v":""},null,null,0,0,"",0,"","",0,"",0,0,"",0,"ok","ok",0,0]
[{"$f":"'Rozliczenie końcowe'!A172","v":0},{"$f":"'Rozliczenie końcowe'!B644","v":""},{"$f":"'Rozliczenie końcowe'!I644","v":""},{"$f":"'Rozliczenie końcowe'!L644","v":""},"","","",{"$f":"'Rozliczenie końcowe'!C644","v":""},{"$f":"'Rozliczenie końcowe'!D644","v":""},{"$f":"'Rozliczenie końcowe'!E644","v":""},{"$f":"'Rozliczenie końcowe'!F644","v":""},null,null,0,0,"",0,"","",0,"",0,0,"",0,"ok","ok",0,0]
[{"$f":"'Rozliczenie końcowe'!A173","v":0},{"$f":"'Rozliczenie końcowe'!B645","v":""},{"$f":"'Rozliczenie końcowe'!I645","v":""},{"$f":"'Rozliczenie końcowe'!L645","v":""},"","","",{"$f":"'Rozliczenie końcowe'!C645","v":""},{"$f":"'Rozliczenie końcowe'!D645","v":""},{"$f":"'Rozliczenie końcowe'!E645","v":""},{"$f":"'Rozliczenie końcowe'!F645","v":""},null,null,0,0,"",0,"","",0,"",0,0,"",0,"ok","ok",0,0]
[{"$f":"'Rozliczenie końcowe'!A174","v":0},{"$f":"'Rozliczenie końcowe'!B646","v":""},{"$f":"'Rozliczenie końcowe'!I646","v":""},{"$f":"'Rozliczenie końcowe'!L646","v":""},"","","",{"$f":"'Rozliczenie końcowe'!C646","v":""},{"$f":"'Rozliczenie końcowe'!D646","v":""},{"$f":"'Rozliczenie końcowe'!E646","v":""},{"$f":"'Rozliczenie końcowe'!F646","v":""},null,null,0,0,"",0,"","",0,"",0,0,"",0,"ok","ok",0,0]
[{"$f":"'Rozliczenie końcowe'!A175","v":0},{"$f":"'Rozliczenie końcowe'!B647","v":""},{"$f":"'Rozliczenie końcowe'!I647","v":""},{"$f":"'Rozliczenie końcowe'!L647","v":""},"","","",{"$f":"'Rozliczenie końcowe'!C647","v":""},{"$f":"'Rozliczenie końcowe'!D647","v":""},{"$f":"'Rozliczenie końcowe'!E647","v":""},{"$f":"'Rozliczenie końcowe'!F647","v":""},null,null,0,0,"",0,"","",0,"",0,0,"",0,"ok","ok",0,0]
[{"$f":"'Rozliczenie końcowe'!A176","v":0},{"$f":"'Rozliczenie końcowe'!B648","v":""},{"$f":"'Rozliczenie końcowe'!I648","v":""},{"$f":"'Rozliczenie końcowe'!L648","v":""},"","","",{"$f":"'Rozliczenie końcowe'!C648","v":""},{"$f":"'Rozliczenie końcowe'!D648","v":""},{"$f":"'Rozliczenie końcowe'!E648","v":""},{"$f":"'Rozliczenie końcowe'!F648","v":""},null,null,0,0,"",0,"","",0,"",0,0,"",0,"ok","ok",0,0]
[{"$f":"'Rozliczenie końcowe'!A177","v":0},{"$f":"'Rozliczenie końcowe'!B649","v":""},{"$f":"'Rozliczenie końcowe'!I649","v":""},{"$f":"'Rozliczenie końcowe'!L649","v":""},"","","",{"$f":"'Rozliczenie końcowe'!C649","v":""},{"$f":"'Rozliczenie końcowe'!D649","v":""},{"$f":"'Rozliczenie końcowe'!E649","v":""},{"$f":"'Rozliczenie końcowe'!F649","v":""},null,null,0,0,"",0,"","",0,"",0,0,"",0,"ok","ok",0,0]
[{"$f":"'Rozliczenie końcowe'!A178","v":0},{"$f":"'Rozliczenie końcowe'!B650","v":""},{"$f":"'Rozliczenie końcowe'!I650","v":""},{"$f":"'Rozliczenie końcowe'!L650","v":""},"","","",{"$f":"'Rozliczenie końcowe'!C650","v":""},{"$f":"'Rozliczenie końcowe'!D650","v":""},{"$f":"'Rozliczenie końcowe'!E650","v":""},{"$f":"'Rozliczenie końcowe'!F650","v":""},null,null,0,0,"",0,"","",0,"",0,0,"",0,"ok","ok",0,0]
[{"$f":"'Rozliczenie końcowe'!A179","v":0},{"$f":"'Rozliczenie końcowe'!B651","v":""},{"$f":"'Rozliczenie końcowe'!I651","v":""},{"$f":"'Rozliczenie końcowe'!L651","v":""},"","","",{"$f":"'Rozliczenie końcowe'!C651","v":""},{"$f":"'Rozliczenie końcowe'!D651","v":""},{"$f":"'Rozliczenie końcowe'!E651","v":""},{"$f":"'Rozliczenie końcowe'!F651","v":""},null,null,0,0,"",0,"","",0,"",0,0,"",0,"ok","ok",0,0]
[{"$f":"'Rozliczenie końcowe'!A180","v":0},{"$f":"'Rozliczenie końcowe'!B652","v":""},{"$f":"'Rozliczenie końcowe'!I652","v":""},{"$f":"'Rozliczenie końcowe'!L652","v":""},"","","",{"$f":"'Rozliczenie końcowe'!C652","v":""},{"$f":"'Rozliczenie końcowe'!D652","v":""},{"$f":"'Rozliczenie końcowe'!E652","v":""},{"$f":"'Rozliczenie końcowe'!F652","v":""},null,null,0,0,"",0,"","",0,"",0,0,"",0,"ok","ok",0,0]
[{"$f":"'Rozliczenie końcowe'!A181","v":0},{"$f":"'Rozliczenie końcowe'!B653","v":""},{"$f":"'Rozliczenie końcowe'!I653","v":""},{"$f":"'Rozliczenie końcowe'!L653","v":""},"","","",{"$f":"'Rozliczenie końcowe'!C653","v":""},{"$f":"'Rozliczenie końcowe'!D653","v":""},{"$f":"'Rozliczenie końcowe'!E653","v":""},{"$f":"'Rozliczenie końcowe'!F653","v":""},null,null,0,0,"",0,"","",0,"",0,0,"",0,"ok","ok",0,0]
[{"$f":"'Rozliczenie końcowe'!A182","v":0},{"$f":"'Rozliczenie końcowe'!B654","v":""},{"$f":"'Rozliczenie końcowe'!I654","v":""},{"$f":"'Rozliczenie końcowe'!L654","v":""},"","","",{"$f":"'Rozliczenie końcowe'!C654","v":""},{"$f":"'Rozliczenie końcowe'!D654","v":""},{"$f":"'Rozliczenie końcowe'!E654","v":""},{"$f":"'Rozliczenie końcowe'!F654","v":""},null,null,0,0,"",0,"","",0,"",0,0,"",0,"ok","ok",0,0]
[{"$f":"'Rozliczenie końcowe'!A183","v":0},{"$f":"'Rozliczenie końcowe'!B655","v":""},{"$f":"'Rozliczenie końcowe'!I655","v":""},{"$f":"'Rozliczenie końcowe'!L655","v":""},"","","",{"$f":"'Rozliczenie końcowe'!C655","v":""},{"$f":"'Rozliczenie końcowe'!D655","v":""},{"$f":"'Rozliczenie końcowe'!E655","v":""},{"$f":"'Rozliczenie końcowe'!F655","v":""},null,null,0,0,"",0,"","",0,"",0,0,"",0,"ok","ok",0,0]
[{"$f":"'Rozliczenie końcowe'!A184","v":0},{"$f":"'Rozliczenie końcowe'!B656","v":""},{"$f":"'Rozliczenie końcowe'!I656","v":""},{"$f":"'Rozliczenie końcowe'!L656","v":""},"","","",{"$f":"'Rozliczenie końcowe'!C656","v":""},{"$f":"'Rozliczenie końcowe'!D656","v":""},{"$f":"'Rozliczenie końcowe'!E656","v":""},{"$f":"'Rozliczenie końcowe'!F656","v":""},null,null,0,0,"",0,"","",0,"",0,0,"",0,"ok","ok",0,0]
[{"$f":"'Rozliczenie końcowe'!A185","v":0},{"$f":"'Rozliczenie końcowe'!B657","v":""},{"$f":"'Rozliczenie końcowe'!I657","v":""},{"$f":"'Rozliczenie końcowe'!L657","v":""},"","","",{"$f":"'Rozliczenie końcowe'!C657","v":""},{"$f":"'Rozliczenie końcowe'!D657","v":""},{"$f":"'Rozliczenie końcowe'!E657","v":""},{"$f":"'Rozliczenie końcowe'!F657","v":""},null,null,0,0,"",0,"","",0,"",0,0,"",0,"ok","ok",0,0]
[{"$f":"'Rozliczenie końcowe'!A186","v":0},{"$f":"'Rozliczenie końcowe'!B658","v":""},{"$f":"'Rozliczenie końcowe'!I658","v":""},{"$f":"'Rozliczenie końcowe'!L658","v":""},"","","",{"$f":"'Rozliczenie końcowe'!C658","v":""},{"$f":"'Rozliczenie końcowe'!D658","v":""},{"$f":"'Rozliczenie końcowe'!E658","v":""},{"$f":"'Rozliczenie końcowe'!F658","v":""},null,null,0,0,"",0,"","",0,"",0,0,"",0,"ok","ok",0,0]
[{"$f":"'Rozliczenie końcowe'!A187","v":0},{"$f":"'Rozliczenie końcowe'!B659","v":""},{"$f":"'Rozliczenie końcowe'!I659","v":""},{"$f":"'Rozliczenie końcowe'!L659","v":""},"","","",{"$f":"'Rozliczenie końcowe'!C659","v":""},{"$f":"'Rozliczenie końcowe'!D659","v":""},{"$f":"'Rozliczenie końcowe'!E659","v":""},{"$f":"'Rozliczenie końcowe'!F659","v":""},null,null,0,0,"",0,"","",0,"",0,0,"",0,"ok","ok",0,0]
[{"$f":"'Rozliczenie końcowe'!A188","v":0},{"$f":"'Rozliczenie końcowe'!B660","v":""},{"$f":"'Rozliczenie końcowe'!I660","v":""},{"$f":"'Rozliczenie końcowe'!L660","v":""},"","","",{"$f":"'Rozliczenie końcowe'!C660","v":""},{"$f":"'Rozliczenie końcowe'!D660","v":""},{"$f":"'Rozliczenie końcowe'!E660","v":""},{"$f":"'Rozliczenie końcowe'!F660","v":""},null,null,0,0,"",0,"","",0,"",0,0,"",0,"ok","ok",0,0]
[{"$f":"'Rozliczenie końcowe'!A189","v":0},{"$f":"'Rozliczenie końcowe'!B661","v":""},{"$f":"'Rozliczenie końcowe'!I661","v":""},{"$f":"'Rozliczenie końcowe'!L661","v":""},"","","",{"$f":"'Rozliczenie końcowe'!C661","v":""},{"$f":"'Rozliczenie końcowe'!D661","v":""},{"$f":"'Rozliczenie końcowe'!E661","v":""},{"$f":"'Rozliczenie końcowe'!F661","v":""},null,null,0,0,"",0,"","",0,"",0,0,"",0,"ok","ok",0,0]
[{"$f":"'Rozliczenie końcowe'!A190","v":0},{"$f":"'Rozliczenie końcowe'!B662","v":""},{"$f":"'Rozliczenie końcowe'!I662","v":""},{"$f":"'Rozliczenie końcowe'!L662","v":""},"","","",{"$f":"'Rozliczenie końcowe'!C662","v":""},{"$f":"'Rozliczenie końcowe'!D662","v":""},{"$f":"'Rozliczenie końcowe'!E662","v":""},{"$f":"'Rozliczenie końcowe'!F662","v":""},null,null,0,0,"",0,"","",0,"",0,0,"",0,"ok","ok",0,0]
[{"$f":"'Rozliczenie końcowe'!A191","v":0},{"$f":"'Rozliczenie końcowe'!B663","v":""},{"$f":"'Rozliczenie końcowe'!I663","v":""},{"$f":"'Rozliczenie końcowe'!L663","v":""},"","","",{"$f":"'Rozliczenie końcowe'!C663","v":""},{"$f":"'Rozliczenie końcowe'!D663","v":""},{"$f":"'Rozliczenie końcowe'!E663","v":""},{"$f":"'Rozliczenie końcowe'!F663","v":""},null,null,0,0,"",0,"","",0,"",0,0,"",0,"ok","ok",0,0]
[{"$f":"'Rozliczenie końcowe'!A192","v":0},{"$f":"'Rozliczenie końcowe'!B664","v":""},{"$f":"'Rozliczenie końcowe'!I664","v":""},{"$f":"'Rozliczenie końcowe'!L664","v":""},"","","",{"$f":"'Rozliczenie końcowe'!C664","v":""},{"$f":"'Rozliczenie końcowe'!D664","v":""},{"$f":"'Rozliczenie końcowe'!E664","v":""},{"$f":"'Rozliczenie końcowe'!F664","v":""},null,null,0,0,"",0,"","",0,"",0,0,"",0,"ok","ok",0,0]
[{"$f":"'Rozliczenie końcowe'!A193","v":0},{"$f":"'Rozliczenie końcowe'!B665","v":""},{"$f":"'Rozliczenie końcowe'!I665","v":""},{"$f":"'Rozliczenie końcowe'!L665","v":""},"","","",{"$f":"'Rozliczenie końcowe'!C665","v":""},{"$f":"'Rozliczenie końcowe'!D665","v":""},{"$f":"'Rozliczenie końcowe'!E665","v":""},{"$f":"'Rozliczenie końcowe'!F665","v":""},null,null,0,0,"",0,"","",0,"",0,0,"",0,"ok","ok",0,0]
[{"$f":"'Rozliczenie końcowe'!A194","v":0},{"$f":"'Rozliczenie końcowe'!B666","v":""},{"$f":"'Rozliczenie końcowe'!I666","v":""},{"$f":"'Rozliczenie końcowe'!L666","v":""},"","","",{"$f":"'Rozliczenie końcowe'!C666","v":""},{"$f":"'Rozliczenie końcowe'!D666","v":""},{"$f":"'Rozliczenie końcowe'!E666","v":""},{"$f":"'Rozliczenie końcowe'!F666","v":""},null,null,0,0,"",0,"","",0,"",0,0,"",0,"ok","ok",0,0]
[{"$f":"'Rozliczenie końcowe'!A195","v":0},{"$f":"'Rozliczenie końcowe'!B667","v":""},{"$f":"'Rozliczenie końcowe'!I667","v":""},{"$f":"'Rozliczenie końcowe'!L667","v":""},"","","",{"$f":"'Rozliczenie końcowe'!C667","v":""},{"$f":"'Rozliczenie końcowe'!D667","v":""},{"$f":"'Rozliczenie końcowe'!E667","v":""},{"$f":"'Rozliczenie końcowe'!F667","v":""},null,null,0,0,"",0,"","",0,"",0,0,"",0,"ok","ok",0,0]
[{"$f":"'Rozliczenie końcowe'!A196","v":0},{"$f":"'Rozliczenie końcowe'!B668","v":""},{"$f":"'Rozliczenie końcowe'!I668","v":""},{"$f":"'Rozliczenie końcowe'!L668","v":""},"","","",{"$f":"'Rozliczenie końcowe'!C668","v":""},{"$f":"'Rozliczenie końcowe'!D668","v":""},{"$f":"'Rozliczenie końcowe'!E668","v":""},{"$f":"'Rozliczenie końcowe'!F668","v":""},null,null,0,0,"",0,"","",0,"",0,0,"",0,"ok","ok",0,0]
[{"$f":"'Rozliczenie końcowe'!A197","v":0},{"$f":"'Rozliczenie końcowe'!B669","v":""},{"$f":"'Rozliczenie końcowe'!I669","v":""},{"$f":"'Rozliczenie końcowe'!L669","v":""},"","","",{"$f":"'Rozliczenie końcowe'!C669","v":""},{"$f":"'Rozliczenie końcowe'!D669","v":""},{"$f":"'Rozliczenie końcowe'!E669","v":""},{"$f":"'Rozliczenie końcowe'!F669","v":""},null,null,0,0,"",0,"","",0,"",0,0,"",0,"ok","ok",0,0]
[{"$f":"'Rozliczenie końcowe'!A198","v":0},{"$f":"'Rozliczenie końcowe'!B670","v":""},{"$f":"'Rozliczenie końcowe'!I670","v":""},{"$f":"'Rozliczenie końcowe'!L670","v":""},"","","",{"$f":"'Rozliczenie końcowe'!C670","v":""},{"$f":"'Rozliczenie końcowe'!D670","v":""},{"$f":"'Rozliczenie końcowe'!E670","v":""},{"$f":"'Rozliczenie końcowe'!F670","v":""},null,null,0,0,"",0,"","",0,"",0,0,"",0,"ok","ok",0,0]
[{"$f":"'Rozliczenie końcowe'!A199","v":0},{"$f":"'Rozliczenie końcowe'!B671","v":""},{"$f":"'Rozliczenie końcowe'!I671","v":""},{"$f":"'Rozliczenie końcowe'!L671","v":""},"","","",{"$f":"'Rozliczenie końcowe'!C671","v":""},{"$f":"'Rozliczenie końcowe'!D671","v":""},{"$f":"'Rozliczenie końcowe'!E671","v":""},{"$f":"'Rozliczenie końcowe'!F671","v":""},null,null,0,0,"",0,"","",0,"",0,0,"",0,"ok","ok",0,0]
[{"$f":"'Rozliczenie końcowe'!A200","v":0},{"$f":"'Rozliczenie końcowe'!B672","v":""},{"$f":"'Rozliczenie końcowe'!I672","v":""},{"$f":"'Rozliczenie końcowe'!L672","v":""},"","","",{"$f":"'Rozliczenie końcowe'!C672","v":""},{"$f":"'Rozliczenie końcowe'!D672","v":""},{"$f":"'Rozliczenie końcowe'!E672","v":""},{"$f":"'Rozliczenie końcowe'!F672","v":""},null,null,0,0,"",0,"","",0,"",0,0,"",0,"ok","ok",0,0]
[{"$f":"'Rozliczenie końcowe'!A201","v":0},{"$f":"'Rozliczenie końcowe'!B673","v":""},{"$f":"'Rozliczenie końcowe'!I673","v":""},{"$f":"'Rozliczenie końcowe'!L673","v":""},"","","",{"$f":"'Rozliczenie końcowe'!C673","v":""},{"$f":"'Rozliczenie końcowe'!D673","v":""},{"$f":"'Rozliczenie końcowe'!E673","v":""},{"$f":"'Rozliczenie końcowe'!F673","v":""},null,null,0,0,"",0,"","",0,"",0,0,"",0,"ok","ok",0,0]
[{"$f":"'Rozliczenie końcowe'!A202","v":0},{"$f":"'Rozliczenie końcowe'!B674","v":""},{"$f":"'Rozliczenie końcowe'!I674","v":""},{"$f":"'Rozliczenie końcowe'!L674","v":""},"","","",{"$f":"'Rozliczenie końcowe'!C674","v":""},{"$f":"'Rozliczenie końcowe'!D674","v":""},{"$f":"'Rozliczenie końcowe'!E674","v":""},{"$f":"'Rozliczenie końcowe'!F674","v":""},null,null,0,0,"",0,"","",0,"",0,0,"",0,"ok","ok",0,0]
[{"$f":"'Rozliczenie końcowe'!A203","v":0},{"$f":"'Rozliczenie końcowe'!B675","v":""},{"$f":"'Rozliczenie końcowe'!I675","v":""},{"$f":"'Rozliczenie końcowe'!L675","v":""},"","","",{"$f":"'Rozliczenie końcowe'!C675","v":""},{"$f":"'Rozliczenie końcowe'!D675","v":""},{"$f":"'Rozliczenie końcowe'!E675","v":""},{"$f":"'Rozliczenie końcowe'!F675","v":""},null,null,0,0,"",0,"","",0,"",0,0,"",0,"ok","ok",0,0]
[{"$f":"'Rozliczenie końcowe'!A204","v":0},{"$f":"'Rozliczenie końcowe'!B676","v":""},{"$f":"'Rozliczenie końcowe'!I676","v":""},{"$f":"'Rozliczenie końcowe'!L676","v":""},"","","",{"$f":"'Rozliczenie końcowe'!C676","v":""},{"$f":"'Rozliczenie końcowe'!D676","v":""},{"$f":"'Rozliczenie końcowe'!E676","v":""},{"$f":"'Rozliczenie końcowe'!F676","v":""},null,null,0,0,"",0,"","",0,"",0,0,"",0,"ok","ok",0,0]
[{"$f":"'Rozliczenie końcowe'!A205","v":0},{"$f":"'Rozliczenie końcowe'!B677","v":""},{"$f":"'Rozliczenie końcowe'!I677","v":""},{"$f":"'Rozliczenie końcowe'!L677","v":""},"","","",{"$f":"'Rozliczenie końcowe'!C677","v":""},{"$f":"'Rozliczenie końcowe'!D677","v":""},{"$f":"'Rozliczenie końcowe'!E677","v":""},{"$f":"'Rozliczenie końcowe'!F677","v":""},null,null,0,0,"",0,"","",0,"",0,0,"",0,"ok","ok",0,0]
[{"$f":"'Rozliczenie końcowe'!A206","v":0},{"$f":"'Rozliczenie końcowe'!B678","v":""},{"$f":"'Rozliczenie końcowe'!I678","v":""},{"$f":"'Rozliczenie końcowe'!L678","v":""},"","","",{"$f":"'Rozliczenie końcowe'!C678","v":""},{"$f":"'Rozliczenie końcowe'!D678","v":""},{"$f":"'Rozliczenie końcowe'!E678","v":""},{"$f":"'Rozliczenie końcowe'!F678","v":""},null,null,0,0,"",0,"","",0,"",0,0,"",0,"ok","ok",0,0]
[{"$f":"'Rozliczenie końcowe'!A207","v":0},{"$f":"'Rozliczenie końcowe'!B679","v":""},{"$f":"'Rozliczenie końcowe'!I679","v":""},{"$f":"'Rozliczenie końcowe'!L679","v":""},"","","",{"$f":"'Rozliczenie końcowe'!C679","v":""},{"$f":"'Rozliczenie końcowe'!D679","v":""},{"$f":"'Rozliczenie końcowe'!E679","v":""},{"$f":"'Rozliczenie końcowe'!F679","v":""},null,null,0,0,"",0,"","",0,"",0,0,"",0,"ok","ok",0,0]
[{"$f":"'Rozliczenie końcowe'!A208","v":0},{"$f":"'Rozliczenie końcowe'!B680","v":""},{"$f":"'Rozliczenie końcowe'!I680","v":""},{"$f":"'Rozliczenie końcowe'!L680","v":""},"","","",{"$f":"'Rozliczenie końcowe'!C680","v":""},{"$f":"'Rozliczenie końcowe'!D680","v":""},{"$f":"'Rozliczenie końcowe'!E680","v":""},{"$f":"'Rozliczenie końcowe'!F680","v":""},null,null,0,0,"",0,"","",0,"",0,0,"",0,"ok","ok",0,0]
[{"$f":"'Rozliczenie końcowe'!A209","v":0},{"$f":"'Rozliczenie końcowe'!B681","v":""},{"$f":"'Rozliczenie końcowe'!I681","v":""},{"$f":"'Rozliczenie końcowe'!L681","v":""},"","","",{"$f":"'Rozliczenie końcowe'!C681","v":""},{"$f":"'Rozliczenie końcowe'!D681","v":""},{"$f":"'Rozliczenie końcowe'!E681","v":""},{"$f":"'Rozliczenie końcowe'!F681","v":""},null,null,0,0,"",0,"","",0,"",0,0,"",0,"ok","ok",0,0]
[{"$f":"'Rozliczenie końcowe'!A210","v":0},{"$f":"'Rozliczenie końcowe'!B682","v":""},{"$f":"'Rozliczenie końcowe'!I682","v":""},{"$f":"'Rozliczenie końcowe'!L682","v":""},"","","",{"$f":"'Rozliczenie końcowe'!C682","v":""},{"$f":"'Rozliczenie końcowe'!D682","v":""},{"$f":"'Rozliczenie końcowe'!E682","v":""},{"$f":"'Rozliczenie końcowe'!F682","v":""},null,null,0,0,"",0,"","",0,"",0,0,"",0,"ok","ok",0,0]
[{"$f":"'Rozliczenie końcowe'!A211","v":0},{"$f":"'Rozliczenie końcowe'!B683","v":""},{"$f":"'Rozliczenie końcowe'!I683","v":""},{"$f":"'Rozliczenie końcowe'!L683","v":""},"","","",{"$f":"'Rozliczenie końcowe'!C683","v":""},{"$f":"'Rozliczenie końcowe'!D683","v":""},{"$f":"'Rozliczenie końcowe'!E683","v":""},{"$f":"'Rozliczenie końcowe'!F683","v":""},null,null,0,0,{"$f":"F63","v":""},{"$f":"IFERROR(P63/O63,0)","v":0},"","",0,"",0,0,"",0,"ok","ok",0,0]
[{"$f":"'Rozliczenie końcowe'!A212","v":0},{"$f":"'Rozliczenie końcowe'!B684","v":""},{"$f":"'Rozliczenie końcowe'!I684","v":""},{"$f":"'Rozliczenie końcowe'!L684","v":""},"","","",{"$f":"'Rozliczenie końcowe'!C684","v":""},{"$f":"'Rozliczenie końcowe'!D684","v":""},{"$f":"'Rozliczenie końcowe'!E684","v":""},{"$f":"'Rozliczenie końcowe'!F684","v":""},null,null,0,0,{"$f":"F64","v":""},{"$f":"IFERROR(P64/O64,0)","v":0},"","",0,"",0,0,"",0,"ok","ok",0,0]
[{"$f":"'Rozliczenie końcowe'!A213","v":0},{"$f":"'Rozliczenie końcowe'!B685","v":""},{"$f":"'Rozliczenie końcowe'!I685","v":""},{"$f":"'Rozliczenie końcowe'!L685","v":""},"","","",{"$f":"'Rozliczenie końcowe'!C685","v":""},{"$f":"'Rozliczenie końcowe'!D685","v":""},{"$f":"'Rozliczenie końcowe'!E685","v":""},{"$f":"'Rozliczenie końcowe'!F685","v":""},null,null,0,0,"",0,"","",0,"",0,0,"",0,"ok","ok",0,0]
[{"$f":"'Rozliczenie końcowe'!A214","v":0},{"$f":"'Rozliczenie końcowe'!B686","v":""},{"$f":"'Rozliczenie końcowe'!I686","v":""},{"$f":"'Rozliczenie końcowe'!L686","v":""},"","","",{"$f":"'Rozliczenie końcowe'!C686","v":""},{"$f":"'Rozliczenie końcowe'!D686","v":""},{"$f":"'Rozliczenie końcowe'!E686","v":""},{"$f":"'Rozliczenie końcowe'!F686","v":""},null,null,{"$f":"A66","v":0},0,"",0,"","",0,"",0,0,"",0,"ok","ok",0,0]
[{"$f":"'Rozliczenie końcowe'!A215","v":0},{"$f":"'Rozliczenie końcowe'!B687","v":""},{"$f":"'Rozliczenie końcowe'!I687","v":""},{"$f":"'Rozliczenie końcowe'!L687","v":""},"","","",{"$f":"'Rozliczenie końcowe'!C687","v":""},{"$f":"'Rozliczenie końcowe'!D687","v":""},{"$f":"'Rozliczenie końcowe'!E687","v":""},{"$f":"'Rozliczenie końcowe'!F687","v":""},null,null,0,{"$f":"IFERROR(D67/C67,0)","v":0},"",0,"","",{"$f":"IFERROR(V67*C67,0)","v":0},"",0,0,"",{"$f":"O67*0.1","v":0},"ok","ok",0,0]
[{"$f":"'Rozliczenie końcowe'!A216","v":0},{"$f":"'Rozliczenie końcowe'!B688","v":""},{"$f":"'Rozliczenie końcowe'!I688","v":""},{"$f":"'Rozliczenie końcowe'!L688","v":""},{"$f":"IFERROR(D68/C68,\"\")","v":""},{"$f":"IFERROR(ROUND(H68/C68,2),\"\")","v":""},{"$f":"IFERROR(ROUND(H68/D68,2),\"\")","v":""},{"$f":"'Rozliczenie końcowe'!C688","v":""},{"$f":"'Rozliczenie końcowe'!D688","v":""},{"$f":"'Rozliczenie końcowe'!E688","v":""},{"$f":"'Rozliczenie końcowe'!F688","v":""},null,null,0,0,"",0,{"$f":"IFERROR(ROUND(P68*C68,2),\"\")","v":""},{"$f":"IFERROR(ROUND(E68*C68,2),\"\")","v":""},0,{"$f":"IFERROR(V68*C68,\"\")","v":""},{"$f":"IFERROR(IF((D68-H68)/C68>=$L$3,$L$3,(D68-H68)/C68),0)","v":0},{"$f":"IFERROR(ROUND(J68/C68,2),0)","v":0},{"$f":"IFERROR(D68*0.1,\"\")","v":""},0,{"$f":"IF(P68>=Y68,$M$1,$M$2)","v":"ok"},{"$f":"IF(W68<=$L$3,$M$1,$M$2)","v":"ok"},{"$f":"IFERROR((T68+R68)-D68,0)","v":0},{"$f":"IFERROR(D68-S68,0)","v":0}]
[{"$f":"'Rozliczenie końcowe'!A217","v":0},{"$f":"'Rozliczenie końcowe'!B689","v":""},{"$f":"'Rozliczenie końcowe'!I689","v":""},{"$f":"'Rozliczenie końcowe'!L689","v":""},"","","",{"$f":"'Rozliczenie końcowe'!C689","v":""},{"$f":"'Rozliczenie końcowe'!D689","v":""},{"$f":"'Rozliczenie końcowe'!E689","v":""},{"$f":"'Rozliczenie końcowe'!F689","v":""},null,null,0,0,"",0,"","",0,"",0,0,"",0,"ok","ok",0,0]
[{"$f":"'Rozliczenie końcowe'!A218","v":0},{"$f":"'Rozliczenie końcowe'!B690","v":""},{"$f":"'Rozliczenie końcowe'!I690","v":""},{"$f":"'Rozliczenie końcowe'!L690","v":""},"","","",{"$f":"'Rozliczenie końcowe'!C690","v":""},{"$f":"'Rozliczenie końcowe'!D690","v":""},{"$f":"'Rozliczenie końcowe'!E690","v":""},{"$f":"'Rozliczenie końcowe'!F690","v":""},null,null,0,0,"",0,"","",0,"",0,0,"",0,"ok","ok",0,0]
[{"$f":"'Rozliczenie końcowe'!A219","v":0},{"$f":"'Rozliczenie końcowe'!B691","v":""},{"$f":"'Rozliczenie końcowe'!I691","v":""},{"$f":"'Rozliczenie końcowe'!L691","v":""},"","","",{"$f":"'Rozliczenie końcowe'!C691","v":""},{"$f":"'Rozliczenie końcowe'!D691","v":""},{"$f":"'Rozliczenie końcowe'!E691","v":""},{"$f":"'Rozliczenie końcowe'!F691","v":""},null,null,0,0,"",0,"","",0,"",0,0,"",0,"ok","ok",0,0]
[{"$f":"'Rozliczenie końcowe'!A220","v":0},{"$f":"'Rozliczenie końcowe'!B692","v":""},{"$f":"'Rozliczenie końcowe'!I692","v":""},{"$f":"'Rozliczenie końcowe'!L692","v":""},"","","",{"$f":"'Rozliczenie końcowe'!C692","v":""},{"$f":"'Rozliczenie końcowe'!D692","v":""},{"$f":"'Rozliczenie końcowe'!E692","v":""},{"$f":"'Rozliczenie końcowe'!F692","v":""},null,null,0,0,"",0,"","",0,"",0,0,"",0,"ok","ok",0,0]
[{"$f":"'Rozliczenie końcowe'!A221","v":0},{"$f":"'Rozliczenie końcowe'!B693","v":""},{"$f":"'Rozliczenie końcowe'!I693","v":""},{"$f":"'Rozliczenie końcowe'!L693","v":""},"","","",{"$f":"'Rozliczenie końcowe'!C693","v":""},{"$f":"'Rozliczenie końcowe'!D693","v":""},{"$f":"'Rozliczenie końcowe'!E693","v":""},{"$f":"'Rozliczenie końcowe'!F693","v":""},null,null,0,0,{"$f":"F73","v":""},{"$f":"IFERROR(P73/O73,0)","v":0},"","",0,"",0,0,"",0,"ok","ok",0,0]
[{"$f":"'Rozliczenie końcowe'!A222","v":0},{"$f":"'Rozliczenie końcowe'!B694","v":""},{"$f":"'Rozliczenie końcowe'!I694","v":""},{"$f":"'Rozliczenie końcowe'!L694","v":""},"","","",{"$f":"'Rozliczenie końcowe'!C694","v":""},{"$f":"'Rozliczenie końcowe'!D694","v":""},{"$f":"'Rozliczenie końcowe'!E694","v":""},{"$f":"'Rozliczenie końcowe'!F694","v":""},null,null,0,0,{"$f":"F74","v":""},{"$f":"IFERROR(P74/O74,0)","v":0},"","",0,"",0,0,"",0,"ok","ok",0,0]
[{"$f":"'Rozliczenie końcowe'!A223","v":0},{"$f":"'Rozliczenie końcowe'!B695","v":""},{"$f":"'Rozliczenie końcowe'!I695","v":""},{"$f":"'Rozliczenie końcowe'!L695","v":""},"","","",{"$f":"'Rozliczenie końcowe'!C695","v":""},{"$f":"'Rozliczenie końcowe'!D695","v":""},{"$f":"'Rozliczenie końcowe'!E695","v":""},{"$f":"'Rozliczenie końcowe'!F695","v":""},null,null,0,0,"",0,"","",0,"",0,0,"",0,"ok","ok",0,0]
[{"$f":"'Rozliczenie końcowe'!A224","v":0},{"$f":"'Rozliczenie końcowe'!B696","v":""},{"$f":"'Rozliczenie końcowe'!I696","v":""},{"$f":"'Rozliczenie końcowe'!L696","v":""},"","","",{"$f":"'Rozliczenie końcowe'!C696","v":""},{"$f":"'Rozliczenie końcowe'!D696","v":""},{"$f":"'Rozliczenie końcowe'!E696","v":""},{"$f":"'Rozliczenie końcowe'!F696","v":""},null,null,0,0,"",0,"","",0,"",0,0,"",0,"ok","ok",0,0]
[{"$f":"'Rozliczenie końcowe'!A225","v":0},{"$f":"'Rozliczenie końcowe'!B697","v":""},{"$f":"'Rozliczenie końcowe'!I697","v":""},{"$f":"'Rozliczenie końcowe'!L697","v":""},"","","",{"$f":"'Rozliczenie końcowe'!C697","v":""},{"$f":"'Rozliczenie końcowe'!D697","v":""},{"$f":"'Rozliczenie końcowe'!E697","v":""},{"$f":"'Rozliczenie końcowe'!F697","v":""},null,null,0,0,"",0,"","",0,"",0,0,"",0,"ok","ok",0,0]
[{"$f":"'Rozliczenie końcowe'!A226","v":0},{"$f":"'Rozliczenie końcowe'!B698","v":""},{"$f":"'Rozliczenie końcowe'!I698","v":""},{"$f":"'Rozliczenie końcowe'!L698","v":""},"","","",{"$f":"'Rozliczenie końcowe'!C698","v":""},{"$f":"'Rozliczenie końcowe'!D698","v":""},{"$f":"'Rozliczenie końcowe'!E698","v":""},{"$f":"'Rozliczenie końcowe'!F698","v":""},null,null,0,0,"",0,"","",0,"",0,0,"",0,"ok","ok",0,0]
[{"$f":"'Rozliczenie końcowe'!A227","v":0},{"$f":"'Rozliczenie końcowe'!B699","v":""},{"$f":"'Rozliczenie końcowe'!I699","v":""},{"$f":"'Rozliczenie końcowe'!L699","v":""},"","","",{"$f":"'Rozliczenie końcowe'!C699","v":""},{"$f":"'Rozliczenie końcowe'!D699","v":""},{"$f":"'Rozliczenie końcowe'!E699","v":""},{"$f":"'Rozliczenie końcowe'!F699","v":""},null,null,0,0,"",0,"","",0,"",0,0,"",0,"ok","ok",0,0]
[{"$f":"'Rozliczenie końcowe'!A228","v":0},{"$f":"'Rozliczenie końcowe'!B700","v":""},{"$f":"'Rozliczenie końcowe'!I700","v":""},{"$f":"'Rozliczenie końcowe'!L700","v":""},"","","",{"$f":"'Rozliczenie końcowe'!C700","v":""},{"$f":"'Rozliczenie końcowe'!D700","v":""},{"$f":"'Rozliczenie końcowe'!E700","v":""},{"$f":"'Rozliczenie końcowe'!F700","v":""},null,null,0,0,"",0,"","",0,"",0,0,"",0,"ok","ok",0,0]
[{"$f":"'Rozliczenie końcowe'!A229","v":0},{"$f":"'Rozliczenie końcowe'!B701","v":""},{"$f":"'Rozliczenie końcowe'!I701","v":""},{"$f":"'Rozliczenie końcowe'!L701","v":""},"","","",{"$f":"'Rozliczenie końcowe'!C701","v":""},{"$f":"'Rozliczenie końcowe'!D701","v":""},{"$f":"'Rozliczenie końcowe'!E701","v":""},{"$f":"'Rozliczenie końcowe'!F701","v":""},null,null,0,0,"",0,"","",0,"",0,0,"",0,"ok","ok",0,0]
[{"$f":"'Rozliczenie końcowe'!A230","v":0},{"$f":"'Rozliczenie końcowe'!B702","v":""},{"$f":"'Rozliczenie końcowe'!I702","v":""},{"$f":"'Rozliczenie końcowe'!L702","v":""},"","","",{"$f":"'Rozliczenie końcowe'!C702","v":""},{"$f":"'Rozliczenie końcowe'!D702","v":""},{"$f":"'Rozliczenie końcowe'!E702","v":""},{"$f":"'Rozliczenie końcowe'!F702","v":""},null,null,0,0,"",0,"","",0,"",0,0,"",0,"ok","ok",0,0]
[{"$f":"'Rozliczenie końcowe'!A231","v":0},{"$f":"'Rozliczenie końcowe'!B703","v":""},{"$f":"'Rozliczenie końcowe'!I703","v":""},{"$f":"'Rozliczenie końcowe'!L703","v":""},"","","",{"$f":"'Rozliczenie końcowe'!C703","v":""},{"$f":"'Rozliczenie końcowe'!D703","v":""},{"$f":"'Rozliczenie końcowe'!E703","v":""},{"$f":"'Rozliczenie końcowe'!F703","v":""},null,null,0,0,"",0,"","",0,"",0,0,"",0,"ok","ok",0,0]
[{"$f":"'Rozliczenie końcowe'!A232","v":0},{"$f":"'Rozliczenie końcowe'!B704","v":""},{"$f":"'Rozliczenie końcowe'!I704","v":""},{"$f":"'Rozliczenie końcowe'!L704","v":""},"","","",{"$f":"'Rozliczenie końcowe'!C704","v":""},{"$f":"'Rozliczenie końcowe'!D704","v":""},{"$f":"'Rozliczenie końcowe'!E704","v":""},{"$f":"'Rozliczenie końcowe'!F704","v":""},null,null,0,0,"",0,"","",0,"",0,0,"",0,"ok","ok",0,0]
[{"$f":"'Rozliczenie końcowe'!A233","v":0},{"$f":"'Rozliczenie końcowe'!B705","v":""},{"$f":"'Rozliczenie końcowe'!I705","v":""},{"$f":"'Rozliczenie końcowe'!L705","v":""},"","","",{"$f":"'Rozliczenie końcowe'!C705","v":""},{"$f":"'Rozliczenie końcowe'!D705","v":""},{"$f":"'Rozliczenie końcowe'!E705","v":""},{"$f":"'Rozliczenie końcowe'!F705","v":""},null,null,0,0,"",0,"","",0,"",0,0,"",0,"ok","ok",0,0]
[{"$f":"'Rozliczenie końcowe'!A234","v":0},{"$f":"'Rozliczenie końcowe'!B706","v":""},{"$f":"'Rozliczenie końcowe'!I706","v":""},{"$f":"'Rozliczenie końcowe'!L706","v":""},"","","",{"$f":"'Rozliczenie końcowe'!C706","v":""},{"$f":"'Rozliczenie końcowe'!D706","v":""},{"$f":"'Rozliczenie końcowe'!E706","v":""},{"$f":"'Rozliczenie końcowe'!F706","v":""},null,null,0,0,"",0,"","",0,"",0,0,"",0,"ok","ok",0,0]
[{"$f":"'Rozliczenie końcowe'!A235","v":0},{"$f":"'Rozliczenie końcowe'!B707","v":""},{"$f":"'Rozliczenie końcowe'!I707","v":""},{"$f":"'Rozliczenie końcowe'!L707","v":""},"","","",{"$f":"'Rozliczenie końcowe'!C707","v":""},{"$f":"'Rozliczenie końcowe'!D707","v":""},{"$f":"'Rozliczenie końcowe'!E707","v":""},{"$f":"'Rozliczenie końcowe'!F707","v":""},null,null,0,0,"",0,"","",0,"",0,0,"",0,"ok","ok",0,0]
[{"$f":"'Rozliczenie końcowe'!A236","v":0},{"$f":"'Rozliczenie końcowe'!B708","v":""},{"$f":"'Rozliczenie końcowe'!I708","v":""},{"$f":"'Rozliczenie końcowe'!L708","v":""},"","","",{"$f":"'Rozliczenie końcowe'!C708","v":""},{"$f":"'Rozliczenie końcowe'!D708","v":""},{"$f":"'Rozliczenie końcowe'!E708","v":""},{"$f":"'Rozliczenie końcowe'!F708","v":""},null,null,0,0,"",0,"","",0,"",0,0,"",0,"ok","ok",0,0]
[{"$f":"'Rozliczenie końcowe'!A237","v":0},{"$f":"'Rozliczenie końcowe'!B709","v":""},{"$f":"'Rozliczenie końcowe'!I709","v":""},{"$f":"'Rozliczenie końcowe'!L709","v":""},"","","",{"$f":"'Rozliczenie końcowe'!C709","v":""},{"$f":"'Rozliczenie końcowe'!D709","v":""},{"$f":"'Rozliczenie końcowe'!E709","v":""},{"$f":"'Rozliczenie końcowe'!F709","v":""},null,null,0,0,"",0,"","",0,"",0,0,"",0,"ok","ok",0,0]
[{"$f":"'Rozliczenie końcowe'!A238","v":0},{"$f":"'Rozliczenie końcowe'!B710","v":""},{"$f":"'Rozliczenie końcowe'!I710","v":""},{"$f":"'Rozliczenie końcowe'!L710","v":""},"","","",{"$f":"'Rozliczenie końcowe'!C710","v":""},{"$f":"'Rozliczenie końcowe'!D710","v":""},{"$f":"'Rozliczenie końcowe'!E710","v":""},{"$f":"'Rozliczenie końcowe'!F710","v":""},null,null,0,0,"",0,"","",0,"",0,0,"",0,"ok","ok",0,0]
[{"$f":"'Rozliczenie końcowe'!A239","v":0},{"$f":"'Rozliczenie końcowe'!B711","v":""},{"$f":"'Rozliczenie końcowe'!I711","v":""},{"$f":"'Rozliczenie końcowe'!L711","v":""},"","","",{"$f":"'Rozliczenie końcowe'!C711","v":""},{"$f":"'Rozliczenie końcowe'!D711","v":""},{"$f":"'Rozliczenie końcowe'!E711","v":""},{"$f":"'Rozliczenie końcowe'!F711","v":""},null,null,0,0,"",0,"","",0,"",0,0,"",0,"ok","ok",0,0]
[{"$f":"'Rozliczenie końcowe'!A240","v":0},{"$f":"'Rozliczenie końcowe'!B712","v":""},{"$f":"'Rozliczenie końcowe'!I712","v":""},{"$f":"'Rozliczenie końcowe'!L712","v":""},"","","",{"$f":"'Rozliczenie końcowe'!C712","v":""},{"$f":"'Rozliczenie końcowe'!D712","v":""},{"$f":"'Rozliczenie końcowe'!E712","v":""},{"$f":"'Rozliczenie końcowe'!F712","v":""},null,null,0,0,"",0,"","",0,"",0,0,"",0,"ok","ok",0,0]
[{"$f":"'Rozliczenie końcowe'!A241","v":0},{"$f":"'Rozliczenie końcowe'!B713","v":""},{"$f":"'Rozliczenie końcowe'!I713","v":""},{"$f":"'Rozliczenie końcowe'!L713","v":""},"","","",{"$f":"'Rozliczenie końcowe'!C713","v":""},{"$f":"'Rozliczenie końcowe'!D713","v":""},{"$f":"'Rozliczenie końcowe'!E713","v":""},{"$f":"'Rozliczenie końcowe'!F713","v":""},null,null,0,0,"",0,"","",0,"",0,0,"",0,"ok","ok",0,0]
[{"$f":"'Rozliczenie końcowe'!A242","v":0},{"$f":"'Rozliczenie końcowe'!B714","v":""},{"$f":"'Rozliczenie końcowe'!I714","v":""},{"$f":"'Rozliczenie końcowe'!L714","v":""},"","","",{"$f":"'Rozliczenie końcowe'!C714","v":""},{"$f":"'Rozliczenie końcowe'!D714","v":""},{"$f":"'Rozliczenie końcowe'!E714","v":""},{"$f":"'Rozliczenie końcowe'!F714","v":""},null,null,0,0,"",0,"","",0,"",0,0,"",0,"ok","ok",0,0]
[{"$f":"'Rozliczenie końcowe'!A243","v":0},{"$f":"'Rozliczenie końcowe'!B715","v":""},{"$f":"'Rozliczenie końcowe'!I715","v":""},{"$f":"'Rozliczenie końcowe'!L715","v":""},"","","",{"$f":"'Rozliczenie końcowe'!C715","v":""},{"$f":"'Rozliczenie końcowe'!D715","v":""},{"$f":"'Rozliczenie końcowe'!E715","v":""},{"$f":"'Rozliczenie końcowe'!F715","v":""},null,null,0,0,"",0,"","",0,"",0,0,"",0,"ok","ok",0,0]
[{"$f":"'Rozliczenie końcowe'!A244","v":0},{"$f":"'Rozliczenie końcowe'!B716","v":""},{"$f":"'Rozliczenie końcowe'!I716","v":""},{"$f":"'Rozliczenie końcowe'!L716","v":""},"","","",{"$f":"'Rozliczenie końcowe'!C716","v":""},{"$f":"'Rozliczenie końcowe'!D716","v":""},{"$f":"'Rozliczenie końcowe'!E716","v":""},{"$f":"'Rozliczenie końcowe'!F716","v":""},null,null,0,0,"",0,"","",0,"",0,0,"",0,"ok","ok",0,0]
[{"$f":"'Rozliczenie końcowe'!A245","v":0},{"$f":"'Rozliczenie końcowe'!B717","v":""},{"$f":"'Rozliczenie końcowe'!I717","v":""},{"$f":"'Rozliczenie końcowe'!L717","v":""},"","","",{"$f":"'Rozliczenie końcowe'!C717","v":""},{"$f":"'Rozliczenie końcowe'!D717","v":""},{"$f":"'Rozliczenie końcowe'!E717","v":""},{"$f":"'Rozliczenie końcowe'!F717","v":""},null,null,0,0,"",0,"","",0,"",0,0,"",0,"ok","ok",0,0]
[{"$f":"'Rozliczenie końcowe'!A246","v":0},{"$f":"'Rozliczenie końcowe'!B718","v":""},{"$f":"'Rozliczenie końcowe'!I718","v":""},{"$f":"'Rozliczenie końcowe'!L718","v":""},"","","",{"$f":"'Rozliczenie końcowe'!C718","v":""},{"$f":"'Rozliczenie końcowe'!D718","v":""},{"$f":"'Rozliczenie końcowe'!E718","v":""},{"$f":"'Rozliczenie końcowe'!F718","v":""},null,null,0,0,"",0,"","",0,"",0,0,"",0,"ok","ok",0,0]
[{"$f":"'Rozliczenie końcowe'!A247","v":0},{"$f":"'Rozliczenie końcowe'!B719","v":""},{"$f":"'Rozliczenie końcowe'!I719","v":""},{"$f":"'Rozliczenie końcowe'!L719","v":""},"","","",{"$f":"'Rozliczenie końcowe'!C719","v":""},{"$f":"'Rozliczenie końcowe'!D719","v":""},{"$f":"'Rozliczenie końcowe'!E719","v":""},{"$f":"'Rozliczenie końcowe'!F719","v":""},null,null,0,0,"",0,"","",0,"",0,0,"",0,"ok","ok",0,0]
[{"$f":"'Rozliczenie końcowe'!A248","v":0},{"$f":"'Rozliczenie końcowe'!B720","v":""},{"$f":"'Rozliczenie końcowe'!I720","v":""},{"$f":"'Rozliczenie końcowe'!L720","v":""},"","","",{"$f":"'Rozliczenie końcowe'!C720","v":""},{"$f":"'Rozliczenie końcowe'!D720","v":""},{"$f":"'Rozliczenie końcowe'!E720","v":""},{"$f":"'Rozliczenie końcowe'!F720","v":""},null,null,0,0,"",0,"","",0,"",0,0,"",0,"ok","ok",0,0]
[{"$f":"'Rozliczenie końcowe'!A249","v":0},{"$f":"'Rozliczenie końcowe'!B721","v":""},{"$f":"'Rozliczenie końcowe'!I721","v":""},{"$f":"'Rozliczenie końcowe'!L721","v":""},"","","",{"$f":"'Rozliczenie końcowe'!C721","v":""},{"$f":"'Rozliczenie końcowe'!D721","v":""},{"$f":"'Rozliczenie końcowe'!E721","v":""},{"$f":"'Rozliczenie końcowe'!F721","v":""},null,null,0,0,"",0,"","",0,"",0,0,"",0,"ok","ok",0,0]
[{"$f":"'Rozliczenie końcowe'!A250","v":0},{"$f":"'Rozliczenie końcowe'!B722","v":""},{"$f":"'Rozliczenie końcowe'!I722","v":""},{"$f":"'Rozliczenie końcowe'!L722","v":""},"","","",{"$f":"'Rozliczenie końcowe'!C722","v":""},{"$f":"'Rozliczenie końcowe'!D722","v":""},{"$f":"'Rozliczenie końcowe'!E722","v":""},{"$f":"'Rozliczenie końcowe'!F722","v":""},null,null,0,0,"",0,"","",0,"",0,0,"",0,"ok","ok",0,0]
[{"$f":"'Rozliczenie końcowe'!A251","v":0},{"$f":"'Rozliczenie końcowe'!B723","v":""},{"$f":"'Rozliczenie końcowe'!I723","v":""},{"$f":"'Rozliczenie końcowe'!L723","v":""},"","","",{"$f":"'Rozliczenie końcowe'!C723","v":""},{"$f":"'Rozliczenie końcowe'!D723","v":""},{"$f":"'Rozliczenie końcowe'!E723","v":""},{"$f":"'Rozliczenie końcowe'!F723","v":""},null,null,0,0,"",0,"","",0,"",0,0,"",0,"ok","ok",0,0]
[{"$f":"'Rozliczenie końcowe'!A252","v":0},{"$f":"'Rozliczenie końcowe'!B724","v":""},{"$f":"'Rozliczenie końcowe'!I724","v":""},{"$f":"'Rozliczenie końcowe'!L724","v":""},"","","",{"$f":"'Rozliczenie końcowe'!C724","v":""},{"$f":"'Rozliczenie końcowe'!D724","v":""},{"$f":"'Rozliczenie końcowe'!E724","v":""},{"$f":"'Rozliczenie końcowe'!F724","v":""},null,null,0,0,"",0,"","",0,"",0,0,"",0,"ok","ok",0,0]
[{"$f":"'Rozliczenie końcowe'!A253","v":0},{"$f":"'Rozliczenie końcowe'!B725","v":""},{"$f":"'Rozliczenie końcowe'!I725","v":""},{"$f":"'Rozliczenie końcowe'!L725","v":""},"","","",{"$f":"'Rozliczenie końcowe'!C725","v":""},{"$f":"'Rozliczenie końcowe'!D725","v":""},{"$f":"'Rozliczenie końcowe'!E725","v":""},{"$f":"'Rozliczenie końcowe'!F725","v":""},null,null,0,0,"",0,"","",0,"",0,0,"",0,"ok","ok",0,0]
[{"$f":"'Rozliczenie końcowe'!A254","v":0},{"$f":"'Rozliczenie końcowe'!B726","v":""},{"$f":"'Rozliczenie końcowe'!I726","v":""},{"$f":"'Rozliczenie końcowe'!L726","v":""},"","","",{"$f":"'Rozliczenie końcowe'!C726","v":""},{"$f":"'Rozliczenie końcowe'!D726","v":""},{"$f":"'Rozliczenie końcowe'!E726","v":""},{"$f":"'Rozliczenie końcowe'!F726","v":""},null,null,0,0,"",0,"","",0,"",0,0,"",0,"ok","ok",0,0]
[{"$f":"'Rozliczenie końcowe'!A255","v":0},{"$f":"'Rozliczenie końcowe'!B727","v":""},{"$f":"'Rozliczenie końcowe'!I727","v":""},{"$f":"'Rozliczenie końcowe'!L727","v":""},"","","",{"$f":"'Rozliczenie końcowe'!C727","v":""},{"$f":"'Rozliczenie końcowe'!D727","v":""},{"$f":"'Rozliczenie końcowe'!E727","v":""},{"$f":"'Rozliczenie końcowe'!F727","v":""},null,null,0,0,"",0,"","",0,"",0,0,"",0,"ok","ok",0,0]
[{"$f":"'Rozliczenie końcowe'!A256","v":0},{"$f":"'Rozliczenie końcowe'!B728","v":""},{"$f":"'Rozliczenie końcowe'!I728","v":""},{"$f":"'Rozliczenie końcowe'!L728","v":""},"","","",{"$f":"'Rozliczenie końcowe'!C728","v":""},{"$f":"'Rozliczenie końcowe'!D728","v":""},{"$f":"'Rozliczenie końcowe'!E728","v":""},{"$f":"'Rozliczenie końcowe'!F728","v":""},null,null,0,0,"",0,"","",0,"",0,0,"",0,"ok","ok",0,0]
[{"$f":"'Rozliczenie końcowe'!A257","v":0},{"$f":"'Rozliczenie końcowe'!B729","v":""},{"$f":"'Rozliczenie końcowe'!I729","v":""},{"$f":"'Rozliczenie końcowe'!L729","v":""},"","","",{"$f":"'Rozliczenie końcowe'!C729","v":""},{"$f":"'Rozliczenie końcowe'!D729","v":""},{"$f":"'Rozliczenie końcowe'!E729","v":""},{"$f":"'Rozliczenie końcowe'!F729","v":""},null,null,0,0,"",0,"","",0,"",0,0,"",0,"ok","ok",0,0]
[{"$f":"'Rozliczenie końcowe'!A258","v":0},{"$f":"'Rozliczenie końcowe'!B730","v":""},{"$f":"'Rozliczenie końcowe'!I730","v":""},{"$f":"'Rozliczenie końcowe'!L730","v":""},"","","",{"$f":"'Rozliczenie końcowe'!C730","v":""},{"$f":"'Rozliczenie końcowe'!D730","v":""},{"$f":"'Rozliczenie końcowe'!E730","v":""},{"$f":"'Rozliczenie końcowe'!F730","v":""},null,null,0,0,"",0,"","",0,"",0,0,"",0,"ok","ok",0,0]
[{"$f":"'Rozliczenie końcowe'!A259","v":0},{"$f":"'Rozliczenie końcowe'!B731","v":""},{"$f":"'Rozliczenie końcowe'!I731","v":""},{"$f":"'Rozliczenie końcowe'!L731","v":""},"","","",{"$f":"'Rozliczenie końcowe'!C731","v":""},{"$f":"'Rozliczenie końcowe'!D731","v":""},{"$f":"'Rozliczenie końcowe'!E731","v":""},{"$f":"'Rozliczenie końcowe'!F731","v":""},null,null,0,0,"",0,"","",0,"",0,0,"",0,"ok","ok",0,0]
[{"$f":"'Rozliczenie końcowe'!A260","v":0},{"$f":"'Rozliczenie końcowe'!B732","v":""},{"$f":"'Rozliczenie końcowe'!I732","v":""},{"$f":"'Rozliczenie końcowe'!L732","v":""},"","","",{"$f":"'Rozliczenie końcowe'!C732","v":""},{"$f":"'Rozliczenie końcowe'!D732","v":""},{"$f":"'Rozliczenie końcowe'!E732","v":""},{"$f":"'Rozliczenie końcowe'!F732","v":""},null,null,0,0,"",0,"","",0,"",0,0,"",0,"ok","ok",0,0]
["Suma",null,{"$f":"'Rozliczenie końcowe'!I733","v":0},{"$f":"'Rozliczenie końcowe'!L733","v":0},null,null,null,{"$f":"'Rozliczenie końcowe'!C733","v":0},{"$f":"'Rozliczenie końcowe'!D733","v":0},{"$f":"'Rozliczenie końcowe'!E733","v":0},{"$f":"'Rozliczenie końcowe'!F733","v":0},null,null,null,null,null,null,0,0,{"$f":"SUM(T3:T112)","v":0},0,null,null,0]
[null,null,null,null,null,null,null,null,null,{"$f":"'Rozliczenie końcowe'!K262","v":0},{"$f":"'Rozliczenie końcowe'!L262","v":0}]
[null,null,null,null,null,null,null,null,null,{"$f":"'Rozliczenie końcowe'!K263","v":0},{"$f":"'Rozliczenie końcowe'!L263","v":0}]