Workbook

Sheet Strona tytułowa
B6: KASA ROLNICZEGO UBEZPIECZENIA SPOŁECZNEGO
A15: KWARTALNA INFORMACJA STATYSTYCZNA
A17: IV KWARTAŁ 2021 R.
A34: Warszawa 2022 rok

Sheet Spis treści
A1: SPIS TREŚCI
B2: Nr | C2: Str.
A3: Uwagi wstępne | B3: x | C3: 5
A4: Objaśnienia znaków umownych | B4: x | C4: 11
A5: Objaśnienia skrótów | B5: x | C5: 11
A6: SPIS TABLIC STATYSTYCZNYCH
A7: I. EMERYTURY I RENTY REALIZOWANE PRZEZ KRUS
A8: Emerytury i renty | B8: 1 | C8: 12
A9: Zwiększenia do emerytur i rent finansowane z Funduszu Emerytalno-Rentowego, wypłacane przy świadczeniach pracowniczych | B9: 2 | C9: 13
A10: Wnioski o przyznanie emerytur i rent według rodzajów świadczeń | B10: 3 | C10: 13
A11: Decyzje i postępowania umorzone w sprawach o emerytury i renty według rodzajów świadczeń | B11: 4 | C11: 14
A12: Decyzje i postępowania umorzone w sprawach o emerytury i renty według województw | B12: 5 | C12: 14
A13: Odwołania od decyzji Prezesa KRUS | B13: 6 | C13: 15
A14: Sposób roztrzygnięcia odwołań od decyzji Prezesa KRUS przez sądy I instancji | B14: 7 | C14: 15
A15: Wnioski o przyznanie emerytur i rent rolniczych rozpatrywane z zastosowaniem przepisów wspólnotowych UE | B15: 8 | C15: 16
A16: Decyzje w sprawach wniosków o przyznanie emerytur i rent rolniczych z zastosowaniem przepisów wspólnotowych UE | B16: 9 | C16: 16
A17: Wnioski o przyznanie emerytur i rent rolniczych z zastosowaniem postanowień umów dwustronnych o zabezpieczeniu społecznym | B17: 10 | C17: 17
A18: Decyzje w sprawach wniosków o przyznanie emerytur i rent rolniczych z zastosowaniem postanowień umów dwustronnych o zabezpieczeniu społecznym | B18: 11 | C18: 17
A19: Świadczenia emerytalno-rentowe transferowane do poszczególnych państw UE/EFTA i Wielkiej Brytanii oraz do innych państw na podstawie umów dwustronnych | B19: 12 | C19: 18
A20: Liczba przekazanych gospodarstw rolnych | B20: 13 | C20: 19
A21: II. FUNDUSZ EMERYTALNO-RENTOWY
A22: 1. EMERYTURY I RENTY
A23: Przeciętna miesięczna liczba emerytur i rent według rodzajów świadczeń | B23: 1 (14) | C23: 20
A24: Liczba ubezpieczonych oraz przeciętna miesięczna liczba świadczeniobiorców według województw | B24: 2 (15) | C24: 21
A25: Przeciętne miesięczne świadczenia emerytalno-rentowe według województw | B25: 3 (16) | C25: 22
A26: Przeciętna miesięczna liczba emerytur i rent według województw oraz świadczeń emerytalnych wypłaconych przez MON, MSWiA i MS | B26: 4 (17) | C26: 23
A27: Wydatki na świadczenia emerytalno-rentowe według rodzajów świadczeń | B27: 5 (18) | C27: 24
A28: Wydatki na świadczenia emerytalno-rentowe według województw oraz świadczenia emerytalne wypłacone przez MON, MSWiA i MS | B28: 6 (19) | C28: 26
B29: Nr | C29: Str.
A30: Przeciętne miesięczne świadczenie emerytalno-rentowe według rodzajów świadczeń | B30: 7 (20) | C30: 27
A31: Przeciętne miesięczne świadczenie emerytalno-rentowe według województw oraz przeciętne miesięczne świadczenie emerytalne wypłacone przez MON, MSWiA i MS | B31: 8 (21) | C31: 28
A32: Świadczenia emerytalno-rentowe bez dodatków do emerytur i rent | B32: 9 (22) | C32: 29
A33: Liczba świadczeniobiorców według wysokości świadczeń emerytalno-rentowych | B33: 10 (23) | C33: 29
A34: Dodatki płacone przy świadczeniach emerytalno-rentowych | B34: 11 (24) | C34: 30
A35: Liczba osób pobierających emerytury według wieku i płci | B35: 12 (25) | C35: 30
A36: Liczba osób pobierających renty z tytułu niezdolności do pracy według wieku i płci | B36: 13 (26) | C36: 31
A37: 2. ZASIŁKI
A38: Zasiłki macierzyńskie | B38: 14 (27) | C38: 32
A39: Zasiłki macierzyńskie według województw | B39: 15 (28) | C39: 32
A40: Zasiłki pogrzebowe | B40: 16 (29) | C40: 33
...

Sheet Uwagi wstępne
A1: UWAGI WSTĘPNE
B2: Kwartalna Informacja Statystyczna zawiera podstawowe dane, zagregowane tematycznie, dotyczące realizacji zadań wynikających z ustawy z dnia 20 grudnia 1990 r. o ubezpieczeniu społecznym rolników oraz zadań zleconych do wypłaty Kasie Rolniczego Ubezpieczenia Społecznego.
B3: Ze względu na zaokrąglenia danych, w niektórych przypadkach sumy składników mogą się różnić od podanych wielkości "ogółem".
B4: Przeciętne i wskaźniki obliczono z reguły na podstawie danych liczbowych, wyrażonych z większą dokładnością niż podano w tablicach.
A5: I. | B5: Dział Emerytury i renty realizowane przez KRUS zawiera informacje dotyczące m.in. przyznawania i wypłat świadczeń emerytalno-rentowych.
B6: Kwoty wypłat emerytur i rent wykazywane są łącznie z:
B7: - wypłatami z innych systemów ubezpieczeniowych w przypadku zbiegu uprawnień do świadczeń z tych systemów z uprawnieniami do świadczeń z funduszu emerytalno-rentowego,
B8: - wypłatami dokonywanymi w związku z zatrudnieniem poza rolnictwem, czynną służbą wojskową i działalnością kombatancką na podstawie art. 25 ust. 2a ustawy o ubezpieczeniu społecznym rolników,
B9: Ponadto:
B10: - emerytury prezentowane są łącznie z rodzicielskimi świadczeniami uzupełniającymi, ze świadczeniami rolnymi w wysokości 50% ze względu na uprawnienia do świadczeń pracowniczych zbiegających się ze świadczeniami zagranicznymi oraz z emeryturami finansowanymi z funduszu emerytalno-rentowego, a wypłaconymi przez MON, MSWiA, MS,
B11: - renty prezentowane są łącznie z rentami socjalnymi.
B12: Świadczenia pracownicze wypłacane przy świadczeniach rolniczych, finansowane są z Funduszu Ubezpieczeń Społecznych, którym dysponuje Zakład Ubezpieczeń Społecznych.
B13: W związku z akcesją Polski do Unii Europejskiej, KRUS realizuje zadania wynikające z przepisów rozporządzeń unijnych w sprawie koordynacji systemów zabezpieczenia społecznego. Zadania te realizuje Centrala KRUS jako instytucja łącznikowa oraz wytypowane jednostki organizacyjne KRUS, pełniące funkcję instytucji właściwych w postępowaniu międzynarodowym, są to: Oddział Regionalny KRUS w Krakowie – Wydział Świadczeń Zagranicznych w Nowym Sączu oraz Placówka Terenowa KRUS w Ostrowie Wielkopolskim.
B14: Ponadto Kasa realizuje zadania wynikające z zawartych umów dwustronnych o zabezpieczeniu społecznym. Zadania te realizuje Centrala KRUS, jako instytucja łącznikowa oraz Oddział Regionalny KRUS w Krakowie - Wydział Świadczeń Zagranicznych w Nowym Sączu, pełniący funkcje instytucji właściwej w postępowaniu międzynarodowym.
A15: II. | B15: Dział Fundusz Emerytalno-Rentowy zawiera informacje dotyczące świadczeń pieniężnych z ubezpieczenia emerytalno-rentowego, finansowanych z funduszu emerytalno-rentowego, tj.:
B16: • emerytura rolnicza przysługuje ubezpieczonemu (rolnikowi, domownikowi), który spełnia łącznie następujące warunki:
B17: - osiągnął wiek emerytalny - który wynosi 60 lat dla kobiety i 65 lat dla mężczyzny,
B18: - podlegał ubezpieczeniu emerytalno-rentowemu przez okres co najmniej 25 lat.
B19: Emerytury prezentowane są łącznie ze świadczeniami rolnymi w wysokości 50% ze względu na uprawnienia do świadczeń pracowniczych zbiegających się ze świadczeniami zagranicznymi oraz z emeryturami finansowanymi z funduszu emerytalno-rentowego, a wypłaconymi przez MON, MSWiA i MS.
B20: • renta rolnicza z tytułu niezdolności do pracy przysługuje ubezpieczonemu (rolnikowi, domownikowi), który spełnia łącznie następujące warunki:
B21: - podlegał ubezpieczeniu emerytalno-rentowemu przez wymagany okres wynoszący od 1 roku do 5 lat w zależności od wieku, w jakim powstała całkowita niezdolność do pracy.
B22: - jest trwale lub okresowo całkowicie niezdolny do pracy w gospodarstwie rolnym,
B23: - całkowita niezdolność do pracy w gospodarstwie rolnym powstała w okresie podlegania ubezpieczeniu emerytalno-rentowemu lub nie później niż w ciągu 18 miesięcy od ustania tych okresów,
B24: • renta rodzinna przysługuje uprawnionym członkom rodziny zmarłego emeryta/rencisty oraz ubezpieczonego, który w chwili śmierci spełniał warunki do uzyskania emerytury rolniczej lub renty rolniczej z tytułu niezdolności do pracy.
B25: Za członków rodziny uprawnionych do renty rodzinnej uznaje się przede wszystkim dzieci do ukończenia 16 lat, a jeżeli przekroczyły ten wiek - do ukończenia nauki w szkole, nie dłużej jednak niż do osiągnięcia 25 lat życia oraz dzieci bez względu na wiek, jeżeli w okresie nauki stały się całkowicie niezdolne do pracy. Ponadto, jeżeli dziecko osiągnęło 25 lat życia, będąc na ostatnim roku studiów, prawo do renty rodzinnej przedłuża się do zakończenia tego roku studiów. Na równi z dziećmi traktowane są przyjęte na utrzymanie i wychowanie wnuki oraz rodzeństwo.
B26: Z prawa do renty rodzinnej mogą korzystać także małżonek zmarłego (wdowa, wdowiec) i rodzice, o ile spełnią warunki do tego świadczenia. Wszystkim uprawnionym członkom rodziny przysługuje jedna wspólna renta rodzinna, która może ulec podziałowi pomiędzy uprawnionych na równe części.
B27: • dodatek pielęgnacyjny przysługuje osobie uprawnionej do emerytury lub renty, jeżeli osoba ta została uznana za całkowicie niezdolną do pracy oraz do samodzielnej egzystencji albo ukończyła 75 lat.
... B42: Kwota nie obejmuje należnych świadczeń z innych systemów ubezpieczeniowych, wypłacanych w tzw. zbiegu z emeryturą lub rentą rolną.
A43: III. | B43: Dział Świadczenia finansowane z budżetu państwa zawiera informacje dotyczące świadczeń finansowanych z budżetu państwa zleconych do wypłaty KRUS, tj.:
B44: - świadczeń pieniężnych dla inwalidów wojennych, wojskowych i osób represjonowanych,
B45: - zasiłków pogrzebowych wypłaconych po osobach pobierających wyżej wymienione świadczenia i po członkach ich rodzin,
B46: - dodatków kombatanckich,
B47: - dodatków pieniężnych dla inwalidów wojennych,
B48: - ryczałtów energetycznych,
B49: - świadczeń pieniężnych dla żołnierzy zastępczej służby wojskowej,
B50: - świadczeń pieniężnych dla osób deportowanych do pracy przymusowej,
B51: - dodatków kompensacyjnych,
B52: - świadczeń pieniężnych dla cywilnych niewidomych ofiar działań wojennych,
B53: - dodatków dla weterana poszkodowanego,
B54: - rodzicielskich świadczeń uzupełniających,
...

Sheet Objaśnienia i skróty
A1: OBJAŚNIENIA ZNAKÓW UMOWNYCH
A3: Symbol | B3: Opis
A4: Kreska (-) | B4: zjawisko nie wystąpiło
A5: Zero (0) | B5: zjawisko istniało w wielkości mniejszej od 0,5
A6: Zero (0,0) | B6: zjawisko istniało w wielkości mniejszej od 0,05
A7: Kropka (.) | B7: brak informacji albo brak informacji wiarygodnych
A8: Znak (x) | B8: wypełnienie pozycji jest niemożliwe lub niecelowe
A9: „w tym” | B9: oznacza, że nie podaje się wszystkich składników sumy
A10: "z tego" | B10: oznacza, że podaje się wszystkie składniki sumy
A12: OBJAŚNIENIA SKRÓTÓW
A14: Skrót | B14: Znaczenie
A15: KRUS | B15: Kasa Rolniczego Ubezpieczenia Społecznego
A16: ZUS | B16: Zakład Ubezpieczeń Społecznych
A17: Fundusz Składkowy | B17: Fundusz Składkowy Ubezpieczenia Społecznego Rolników
A18: MON | B18: Ministerstwo Obrony Narodowej
A19: MSWiA | B19: Zakład Emerytalno-Rentowy Ministerstwa Spraw Wewnętrznych i Administracji
A20: MS | B20: Ministerstwo Sprawiedliwości
A21: NFZ | B21: Narodowy Fundusz Zdrowia
A22: FER | B22: Fundusz Emerytalno-Rentowy
A23: UE | B23: Unia Europejska
A24: EFTA | B24: Europejskie Stowarzyszenie Wolnego Handlu
A25: zł | B25: złoty

Sheet Tab 1
A1: I. EMERYTURY I RENTY REALIZOWANE PRZEZ KRUS
A2: TABLICA 1. EMERYTURY I RENTY
A3: Wyszczególnienie | B3: 2020 rok | D3: 2021 rok
B4: IV kwartał | C4: Rok | D4: III kwartał | E4: IV kwartał | F4: Rok | G4: porównanie (wzrost/spadek)
G5: IV kwartału 2021 r. z III kwartałem 2021 r. | H5: IV kwartału 2021 r. z IV kwartałem 2020 r. | I5: Roku 2021 z rokiem 2020
A6: OGÓŁEM
A7: Przeciętna miesięczna liczba świadczeniobiorców | B7: 1069204 | C7: 1083411 | D7: 1030578 | E7: 1020809 | F7: 1036621 | G7: =E7/D7-1 -> -0.0094791467 | H7: =E7/B7-1 -> -0.045262644 | I7: =F7/C7-1 -> -0.043187673
A8: w tym świadczenia zbiegowe pracownicze | B8: 52124 | C8: 55096 | D8: 44941 | E8: 43260 | F8: 46078 | G8: =E8/D8-1 -> -0.037404597 | H8: =E8/B8-1 -> -0.17005602 | I8: =F8/C8-1 -> -0.16367794
A9: Kwota wypłat w zł | B9: 4.4530902e+09 | C9: 1.7894769e+10 | D9: 4.4451043e+09 | E9: 4.399271e+09 | F9: 1.777399e+10 | G9: =E9/D9-1 -> -0.01031096 | H9: =E9/B9-1 -> -0.012085812 | I9: =F9/C9-1 -> -0.0067494069
A10: w tym świadczenia zbiegowe pracownicze | B10: 2.367856e+08 | C10: 9.9262901e+08 | D10: 2.1402364e+08 | E10: 2.0580252e+08 | F10: 8.6972347e+08 | G10: =E10/D10-1 -> -0.038412186 | H10: =E10/B10-1 -> -0.13084866 | I10: =F10/C10-1 -> -0.12381821
A11: Przeciętne świadczenie w zł | B11: 1388.29 | C11: 1376.42 | D11: 1437.74 | E11: 1436.53 | F11: 1428.84 | G11: =E11/D11-1 -> -0.00084159862 | H11: =E11/B11-1 -> 0.034747783 | I11: =F11/C11-1 -> 0.038084306
A12: EMERYTURY
A13: Przeciętna miesięczna liczba świadczeniobiorców | B13: 841533 | C13: 853823 | D13: 805439 | E13: 797948 | F13: 811029 | G13: =E13/D13-1 -> -0.0093005181 | H13: =E13/B13-1 -> -0.051792384 | I13: =F13/C13-1 -> -0.050120458
A14: Kwota wypłat w zł | B14: 3.5191478e+09 | C14: 1.4176003e+10 | D14: 3.49346e+09 | E14: 3.4542994e+09 | F14: 1.3978505e+10 | G14: =E14/D14-1 -> -0.011209686 | H14: =E14/B14-1 -> -0.01842728 | I14: =F14/C14-1 -> -0.013931846
A15: Przeciętne świadczenie w zł | B15: 1393.94 | C15: 1383.58 | D15: 1445.78 | E15: 1442.99 | F15: 1436.29 | G15: =E15/D15-1 -> -0.0019297542 | H15: =E15/B15-1 -> 0.035188028 | I15: =F15/C15-1 -> 0.038096821
A16: RENTY Z TYTUŁU NIEZDOLNOŚCI DO PRACY
A17: Przeciętna miesięczna liczba świadczeniobiorców | B17: 186667 | C17: 187601 | D17: 183359 | E17: 181836 | F17: 183887 | G17: =E17/D17-1 -> -0.0083061099 | H17: =E17/B17-1 -> -0.025880311 | I17: =F17/C17-1 -> -0.019797336
A18: w tym renty z tytułu niezdolności do pracy wypadkowe | B18: 12388 | C18: 12455 | D18: 12216 | E18: 12142 | F18: 12243 | G18: =E18/D18-1 -> -0.0060576293 | H18: =E18/B18-1 -> -0.019857927 | I18: =F18/C18-1 -> -0.017021277
A19: Kwota wypłat w zł | B19: 7.0872124e+08 | C19: 2.8292301e+09 | D19: 7.1877768e+08 | E19: 7.1181755e+08 | F19: 2.8665393e+09 | G19: =E19/D19-1 -> -0.0096832828 | H19: =E19/B19-1 -> 0.0043688637 | I19: =F19/C19-1 -> 0.013187071
A20: w tym renty z tytułu niezdolności do pracy wypadkowe | B20: 51352344 | C20: 2.0413878e+08 | D20: 52475853 | E20: 52385627 | F20: 2.0921688e+08 | G20: =E20/D20-1 -> -0.0017193775 | H20: =E20/B20-1 -> 0.02012143 | I20: =F20/C20-1 -> 0.024875736
A21: Przeciętne świadczenie w zł | B21: 1265.57 | C21: 1256.76 | D21: 1306.69 | E21: 1304.87 | F21: 1299.05 | G21: =E21/D21-1 -> -0.0013928323 | H21: =E21/B21-1 -> 0.031053201 | I21: =F21/C21-1 -> 0.033650021
A22: RENTY RODZINNE
A23: Przeciętna miesięczna liczba świadczeniobiorców | B23: 41004 | C23: 41988 | D23: 41780 | E23: 41026 | F23: 41704 | G23: =E23/D23-1 -> -0.018046912 | H23: =E23/B23-1 -> 0.00053653302 | I23: =F23/C23-1 -> -0.0067638373
A24: Kwota wypłat w zł | B24: 2.2519557e+08 | C24: 8.8943212e+08 | D24: 2.328421e+08 | E24: 2.3313149e+08 | F24: 9.2884757e+08 | G24: =E24/D24-1 -> 0.0012428759 | H24: =E24/B24-1 -> 0.035240117 | I24: =F24/C24-1 -> 0.044315297
A25: Przeciętne świadczenie w zł | B25: 1830.66 | C25: 1765.26 | D25: 1857.68 | E25: 1894.19 | F25: 1856.03 | G25: =E25/D25-1 -> 0.019653546 | H25: =E25/B25-1 -> 0.034703331 | I25: =F25/C25-1 -> 0.051420187
A26: ŚWIADCZENIA PIENIĘŻNE DLA CYWILNYCH NIEWIDOMYCH OFIAR DZIAŁAŃ WOJENNYCH
A27: Kwota wypłat w zł | B27: 25676.88 | C27: 103317.92 | D27: 24529.71 | E27: 22559.85 | F27: 97427 | G27: =E27/D27-1 -> -0.080305067 | H27: =E27/B27-1 -> -0.12139442 | I27: =F27/C27-1 -> -0.057017435

Sheet Tab 2 i 3
A1: ='Tab 1'!A1:I1 -> I. EMERYTURY I RENTY REALIZOWANE PRZEZ KRUS
A3: TABLICA 2. ZWIĘKSZENIA DO EMERYTUR I RENT FINANSOWANE Z FUNDUSZU EMERYTALNO-RENTOWEGO, WYPŁACANE PRZY ŚWIADCZENIACH PRACOWNICZYCH
A4: Wyszczególnienie | B4: 2020 rok | D4: 2021 rok
B5: IV kwartał | C5: Rok | D5: III kwartał | E5: IV kwartał | F5: Rok | G5: porównanie (wzrost/spadek)
G6: IV kwartału 2021 r. z III kwartałem 2021 r. | H6: IV kwartału 2021 r. z IV kwartałem 2020 r. | I6: Roku 2021 z rokiem 2020
A7: OGÓŁEM
A8: Przeciętna miesięczna liczba osób | B8: 643824 | C8: 644814 | D8: 633933 | E8: 634045 | F8: 635167 | G8: =E8/D8-1 -> 0.00017667482 | H8: =E8/B8-1 -> -0.015188934 | I8: =F8/C8-1 -> -0.014960903
A9: Kwota wypłat w zł | B9: 1.8090962e+08 | C9: 7.1390774e+08 | D9: 1.8952492e+08 | E9: 1.8938694e+08 | F9: 7.4731939e+08 | G9: =E9/D9-1 -> -0.00072803058 | H9: =E9/B9-1 -> 0.046859426 | I9: =F9/C9-1 -> 0.046801075
A10: EMERYTURY
A11: Przeciętna miesięczna liczba osób | B11: 518360 | C11: 518169 | D11: 510043 | E11: 511062 | F11: 511289 | G11: =E11/D11-1 -> 0.0019978708 | H11: =E11/B11-1 -> -0.014079018 | I11: =F11/C11-1 -> -0.013277521
A12: Kwota wypłat w zł | B12: 1.606155e+08 | C12: 6.3300596e+08 | D12: 1.6800922e+08 | E12: 1.6813323e+08 | F12: 6.6310324e+08 | G12: =E12/D12-1 -> 0.00073812945 | H12: =E12/B12-1 -> 0.046805733 | I12: =F12/C12-1 -> 0.047546609
A13: RENTY Z TYTUŁU NIEZDOLNOŚCI DO PRACY
A14: Przeciętna miesięczna liczba osób | B14: 11239 | C14: 11479 | D14: 10701 | E14: 10448 | F14: 10713 | G14: =E14/D14-1 -> -0.02364265 | H14: =E14/B14-1 -> -0.070379927 | I14: =F14/C14-1 -> -0.066730551
A15: Kwota wypłat w zł | B15: 3184093 | C15: 12917124 | D15: 3154408.1 | E15: 3064605.5 | F15: 12410681 | G15: =E15/D15-1 -> -0.028468898 | H15: =E15/B15-1 -> -0.037526366 | I15: =F15/C15-1 -> -0.039207115
A16: RENTY RODZINNE
A17: Przeciętna miesięczna liczba osób | B17: 114225 | C17: 115167 | D17: 113189 | E17: 112534 | F17: 113164 | G17: =E17/D17-1 -> -0.0057867814 | H17: =E17/B17-1 -> -0.014804115 | I17: =F17/C17-1 -> -0.017392135
A18: Kwota wypłat w zł | B18: 17110026 | C18: 67984662 | D18: 18361298 | E18: 18189108 | F18: 71805468 | G18: =E18/D18-1 -> -0.0093778757 | H18: =E18/B18-1 -> 0.063067246 | I18: =F18/C18-1 -> 0.056201003
A20: TABLICA 3. WNIOSKI O PRZYZNANIE EMERYTUR I RENT WEDŁUG RODZAJÓW ŚWIADCZEŃ
A21: Wyszczególnienie | B21: Wnioski pozostałe z poprzedniego okresu | C21: Zarejestrowane wnioski | D21: Załatwione wnioski | F21: Wnioski pozostałe do załatwienia w następnym okresie
D22: Razem | E22: w tym po terminie ustawowym
B23: IV KWARTAŁ 2021 R.
A24: OGÓŁEM | B24: =B25+B27+B31 -> 18502 | C24: =C25+C27+C31 -> 19629 | D24: =D25+D27+D31 -> 19828 | E24: =E25+E27+E31 -> 2 | F24: =F25+F27+F31 -> 18303
A25: Emerytury razem | B25: 1370 | C25: 4371 | D25: 4466 | E25: 0 | F25: 1275
A26: w tym wcześniejsze | B26: 2 | C26: 5 | D26: 5 | E26: 0 | F26: 2
A27: Renty razem, z tego: | B27: =B28+B30 -> 17132 | C27: =C28+C30 -> 15258 | D27: =D28+D30 -> 15362 | E27: =E28+E30 -> 2 | F27: =F28+F30 -> 17028
A28: Renty z tytułu niezdolności do pracy | B28: 16840 | C28: 13984 | D28: 14153 | E28: 2 | F28: 16671
A29: w tym renty z tytułu niezdolności do pracy wypadkowe | B29: 744 | C29: 670 | D29: 619 | E29: 0 | F29: 795
A30: Renty rodzinne | B30: 292 | C30: 1274 | D30: 1209 | E30: 0 | F30: 357
A31: Emerytury i renty z art. 9 ustawy z dnia 24 lutego 1990 r. | B31: 0 | C31: 0 | D31: 0 | E31: 0 | F31: 0

Sheet Tab 4 i 5
A1: ='Tab 2 i 3'!A1:I1 -> I. EMERYTURY I RENTY REALIZOWANE PRZEZ KRUS
A2: TABLICA 4. DECYZJE I POSTĘPOWANIA UMORZONE W SPRAWACH O EMERYTURY I RENTY WEDŁUG RODZAJÓW ŚWIADCZEŃ
A3: Wyszczególnienie | B3: Liczba wydanych decyzji i postępowań umorzonych | C3: Liczba wydanych decyzji | G3: Postępowania umorzone
C4: Ogółem | D4: przyznających świadczenia | E4: odmownych | F4: udział odmownych decyzji do ogółem wydanych decyzji
B5: ROK 2021
A6: OGÓŁEM | B6: =C6+G6 -> 78859 | C6: =D6+E6 -> 77822 | D6: =D7+D9+D13 -> 70546 | E6: =E7+E9 -> 7276 | F6: =E6/C6 -> 0.093495413 | G6: =G7+G9 -> 1037
A7: Emerytury razem | B7: =C7+G7 -> 18303 | C7: =D7+E7 -> 18120 | D7: 16255 | E7: 1865 | F7: =E7/C7 -> 0.10292494 | G7: 183
A8: w tym wcześniejsze | B8: =C8+G8 -> 37 | C8: =D8+E8 -> 35 | D8: 28 | E8: 7 | F8: =E8/C8 -> 0.2 | G8: 2
A9: Renty razem, z tego: | B9: =C9+G9 -> 60556 | C9: =D9+E9 -> 59702 | D9: 54291 | E9: 5411 | F9: =E9/C9 -> 0.09063348 | G9: 854
A10: Renty z tytułu niezdolności do pracy razem | B10: =C10+G10 -> 55787 | C10: =D10+E10 -> 55043 | D10: 49893 | E10: 5150 | F10: =E10/C10 -> 0.093563214 | G10: 744
A11: w tym renty z tytułu niezdolności do pracy wypadkowe | B11: =C11+G11 -> 2544 | C11: =D11+E11 -> 2520 | D11: 2036 | E11: 484 | F11: =E11/C11 -> 0.19206349 | G11: 24
A12: Renty rodzinne | B12: =C12+G12 -> 4769 | C12: =D12+E12 -> 4659 | D12: 4398 | E12: 261 | F12: =E12/C12 -> 0.056020605 | G12: 110
A13: Emerytury i renty z art. 9 ustawy z dnia 24 lutego 1990 r. | B13: =C13+G13 -> 0 | C13: =D13+E13 -> 0 | D13: 0 | E13: 0 | F13: - | G13: 0
A15: TABLICA 5. DECYZJE I POSTĘPOWANIA UMORZONE W SPRAWACH O EMERYTURY I RENTY WEDŁUG WOJEWÓDZTW
A16: Wyszczególnienie | B16: Liczba wydanych decyzji i postępowań umorzonych | C16: Liczba wydanych decyzji | G16: Postępowania umorzone
C17: Ogółem | D17: przyznających świadczenia | E17: odmownych | F17: udział odmownych decyzji do ogółem wydanych decyzji
B18: =B5 -> ROK 2021
A19: OGÓŁEM | B19: =SUM(B20:B35) -> 78859 | C19: =SUM(C20:C35) -> 77822 | D19: =SUM(D20:D35) -> 70546 | E19: =SUM(E20:E35) -> 7276 | F19: =E19/C19 -> 0.093495413 | G19: =SUM(G20:G35) -> 1037
A20: dolnośląskie | B20: =C20+G20 -> 2462 | C20: =SUM(D20:E20) -> 2438 | D20: 2180 | E20: 258 | F20: =E20/C20 -> 0.10582445 | G20: 24
A21: kujawsko-pomorskie | B21: =C21+G21 -> 5107 | C21: =SUM(D21:E21) -> 5050 | D21: 4615 | E21: 435 | F21: =E21/C21 -> 0.086138614 | G21: 57
A22: lubelskie | B22: =C22+G22 -> 9762 | C22: =SUM(D22:E22) -> 9632 | D22: 8475 | E22: 1157 | F22: =E22/C22 -> 0.12012043 | G22: 130
A23: lubuskie | B23: =C23+G23 -> 985 | C23: =SUM(D23:E23) -> 963 | D23: 900 | E23: 63 | F23: =E23/C23 -> 0.065420561 | G23: 22
A24: łódzkie | B24: =C24+G24 -> 5520 | C24: =SUM(D24:E24) -> 5468 | D24: 4921 | E24: 547 | F24: =E24/C24 -> 0.10003658 | G24: 52
A25: małopolskie | B25: =C25+G25 -> 9641 | C25: =SUM(D25:E25) -> 9530 | D25: 8821 | E25: 709 | F25: =E25/C25 -> 0.074396642 | G25: 111
A26: mazowieckie | B26: =C26+G26 -> 10444 | C26: =SUM(D26:E26) -> 10357 | D26: 9441 | E26: 916 | F26: =E26/C26 -> 0.088442599 | G26: 87
A27: opolskie | B27: =C27+G27 -> 970 | C27: =SUM(D27:E27) -> 954 | D27: 837 | E27: 117 | F27: =E27/C27 -> 0.12264151 | G27: 16
A28: podkarpackie | B28: =C28+G28 -> 5384 | C28: =SUM(D28:E28) -> 5227 | D28: 4799 | E28: 428 | F28: =E28/C28 -> 0.081882533 | G28: 157
A29: podlaskie | B29: =C29+G29 -> 5410 | C29: =SUM(D29:E29) -> 5344 | D29: 4690 | E29: 654 | F29: =E29/C29 -> 0.12238024 | G29: 66
A30: pomorskie | B30: =C30+G30 -> 3033 | C30: =SUM(D30:E30) -> 3004 | D30: 2794 | E30: 210 | F30: =E30/C30 -> 0.069906791 | G30: 29
A31: śląskie | B31: =C31+G31 -> 2388 | C31: =SUM(D31:E31) -> 2376 | D31: 2167 | E31: 209 | F31: =E31/C31 -> 0.087962963 | G31: 12
... A35: zachodniopomorskie | B35: =C35+G35 -> 1417 | C35: =SUM(D35:E35) -> 1398 | D35: 1254 | E35: 144 | F35: =E35/C35 -> 0.10300429 | G35: 19

Sheet Tab 6 i 7
A1: ='Tab 2 i 3'!A1:I1 -> I. EMERYTURY I RENTY REALIZOWANE PRZEZ KRUS
A2: TABLICA 6. ODWOŁANIA OD DECYZJI PREZESA KRUS
A3: Odwołania | B3: Pozostałe z poprzedniego okresu | C3: Zarejestrowane w okresie sprawozdawczym | D3: Załatwione przez wydanie decyzji uwzględniającej roszczenie | E3: Przekazane do sądu | F3: Załatwione w inny sposób | G3: Pozostałe na następny okres
B4: ROK 2021
A5: OGÓŁEM, dotyczące: | B5: =SUM(B6:B12) -> 265 | C5: =SUM(C6:C12) -> 5869 | D5: =SUM(D6:D12) -> 733 | E5: =SUM(E6:E12) -> 5112 | F5: =SUM(F6:F12) -> 111 | G5: =SUM(G6:G12) -> 178
A6: świadczeń z tytułu wypadku, choroby i macierzyństwa | B6: 38 | C6: 686 | D6: 79 | E6: 601 | F6: 22 | G6: 22
A7: emerytur | B7: 67 | C7: 1057 | D7: 137 | E7: 933 | F7: 24 | G7: 30
A8: rent | B8: 64 | C8: 1912 | D8: 195 | E8: 1688 | F8: 23 | G8: 70
A9: zasiłków macierzyńskich | B9: 0 | C9: 10 | D9: 2 | E9: 7 | F9: 0 | G9: 1
A10: niewydania decyzji w ciągu dwóch miesięcy | B10: 0 | C10: 2 | D10: 0 | E10: 2 | F10: 0 | G10: 0
A11: ubezpieczenia i opłacania składek na ubezpieczenie | B11: 19 | C11: 525 | D11: 100 | E11: 411 | F11: 15 | G11: 18
A12: pozostałych decyzji | B12: 77 | C12: 1677 | D12: 220 | E12: 1470 | F12: 27 | G12: 37
A14: TABLICA 7. SPOSÓB ROZSTRZYGNIĘCIA ODWOŁAŃ OD DECYZJI PREZESA KRUS PRZEZ SĄDY I INSTANCJI
A15: Orzeczenia | B15: Liczba wydanych przez sądy orzeczeń | C15: z tego orzeczenia:
C16: uwzględniające odwołanie | D16: oddalające odwołanie | E16: umarzające postępowanie | F16: pozostałe orzeczenia
B17: =B4 -> ROK 2021
A18: OGÓŁEM, dotyczące: | B18: =SUM(B20:B26) -> 4748 | C18: =SUM(C20:C26) -> 1013 | D18: =SUM(D20:D26) -> 2946 | E18: =SUM(E20:E26) -> 391 | F18: =SUM(F20:F26) -> 398
A19: w tym sprawy, w których kwestionowane są orzeczenia lekarza rzeczoznawcy lub komisji lekarskich KRUS | B19: 2672 | C19: 535 | D19: 1743 | E19: 109 | F19: 285
A20: świadczeń z tytułu wypadku, choroby i macierzyństwa | B20: 613 | C20: 202 | D20: 339 | E20: 48 | F20: 24
A21: emerytur | B21: 875 | C21: 200 | D21: 530 | E21: 85 | F21: 60
A22: rent | B22: 1489 | C22: 315 | D22: 940 | E22: 104 | F22: 130
A23: zasiłków macierzyńskich | B23: 6 | C23: 1 | D23: 5 | E23: 0 | F23: 0
A24: niewydania decyzji w ciągu dwóch miesięcy | B24: 1 | C24: 0 | D24: 0 | E24: 1 | F24: 0
A25: ubezpieczenia i opłacania składek na ubezpieczenie | B25: 384 | C25: 81 | D25: 202 | E25: 67 | F25: 34
A26: pozostałych | B26: 1380 | C26: 214 | D26: 930 | E26: 86 | F26: 150

Sheet Tab 8 i 9
A1: ='Tab 4 i 5'!A1:G1 -> I. EMERYTURY I RENTY REALIZOWANE PRZEZ KRUS
A3: TABLICA 8. WNIOSKI O PRZYZNANIE EMERYTUR I RENT ROLNICZYCH ROZPATRYWANE Z ZASTOSOWANIEM PRZEPISÓW WSPÓLNOTOWYCH UE
A4: Wyszczególnienie | B4: Liczba wniosków pozostałych do załatwienia z poprzedniego okresu sprawozdawczego | C4: Liczba wniosków które wpłynęły w okresie sprawozdawczym | D4: Liczba wniosków przekazanych do instytucji zagranicznych | E4: Liczba spraw załatwionych ogółem | F4: Liczba spraw, w których trwa postępowanie międzynarodowe
B5: ='Tab 2 i 3'!B23:F23 -> IV KWARTAŁ 2021 R.
A6: OGÓŁEM | B6: =B7+B9 -> 858 | C6: =C7+C9 -> 641 | D6: =D7+D9 -> 117 | E6: =E7+E9 -> 656 | F6: =F7+F9 -> 896
A7: Emerytury razem | B7: 262 | C7: 230 | D7: 40 | E7: 238 | F7: 277
A8: w tym wcześniejsze | B8: 19 | C8: 9 | D8: 1 | E8: 13 | F8: 15
A9: Renty razem, z tego: | B9: =B10+B12 -> 596 | C9: =C10+C12 -> 411 | D9: =D10+D12 -> 77 | E9: =E10+E12 -> 418 | F9: =F10+F12 -> 619
A10: Renty z tytułu niezdolności do pracy razem | B10: 507 | C10: 343 | D10: 63 | E10: 341 | F10: 532
A11: w tym renty z tytułu niezdolności do pracy wypadkowe | B11: 10 | C11: 6 | D11: 1 | E11: 7 | F11: 9
A12: Renty rodzinne | B12: 89 | C12: 68 | D12: 14 | E12: 77 | F12: 87
A14: TABLICA 9. DECYZJE W SPRAWACH WNIOSKÓW O PRZYZNANIE EMERYTUR I RENT ROLNICZYCH Z ZASTOSOWANIEM PRZEPISÓW WSPÓLNOTOWYCH UE
A15: Wyszczególnienie | B15: Liczba wydanych decyzji
B16: Ogółem | C16: w tym: | G16: Decyzji odmownych
C17: Decyzji ostatecznych | F17: Decyzji tymczasowych
C18: Razem | D18: Płatne pro rata temporis 1) | E18: Płatne na podstawie tylko polskich okresów ubezpieczenia
B19: =B5 -> IV KWARTAŁ 2021 R.
A20: OGÓŁEM | B20: =C20+F20+G20 -> 586 | C20: =SUM(D20:E20) -> 398 | D20: =D21+D23 -> 189 | E20: =E21+E23 -> 209 | F20: =F21+F23 -> 104 | G20: =G21+G23 -> 84
A21: Emerytury razem | B21: =C21+F21+G21 -> 218 | C21: =SUM(D21:E21) -> 128 | D21: 75 | E21: 53 | F21: 51 | G21: 39
A22: w tym wcześniejsze | B22: =C22+F22+G22 -> 9 | C22: =SUM(D22:E22) -> 6 | D22: 6 | E22: 0 | F22: 0 | G22: 3
A23: Renty razem, z tego: | B23: =C23+F23+G23 -> 368 | C23: =SUM(D23:E23) -> 270 | D23: 114 | E23: 156 | F23: 53 | G23: 45
A24: Renty z tytułu niezdolności do pracy razem | B24: =C24+F24+G24 -> 309 | C24: =SUM(D24:E24) -> 229 | D24: 95 | E24: 134 | F24: 43 | G24: 37
A25: w tym renty z tytułu niezdolności do pracy wypadkowe | B25: =C25+F25+G25 -> 7 | C25: =SUM(D25:E25) -> 3 | D25: 1 | E25: 2 | F25: 1 | G25: 3
A26: Renty rodzinne | B26: =C26+F26+G26 -> 59 | C26: =SUM(D26:E26) -> 41 | D26: 19 | E26: 22 | F26: 10 | G26: 8
A27: 1) "pro rata temporis" emerytura ustalana i wypłacana jest w wysokościach częściowych, wynikających z proporcji okresów ubezpieczenia przebytych w danym państwie członkowskim do łącznych okresów ubezpieczenia przebytych we wszystkich państwach członkowskich. Każde państwo wypłaca emeryturę (rentę) wyłącznie za okresy ubezpieczenia przebyte na swoim terytorium.

Sheet Tab 10 i 11
A1: ='Tab 8 i 9'!A1:G1 -> I. EMERYTURY I RENTY REALIZOWANE PRZEZ KRUS
A3: TABLICA 10. WNIOSKI O PRZYZNANIE EMERYTUR I RENT ROLNICZYCH Z ZASTOSOWANIEM POSTANOWIEŃ UMÓW DWUSTRONNYCH O ZABEZPIECZENIU SPOŁECZNYM
A4: Wyszczególnienie | B4: Liczba wniosków pozostałych do załatwienia z poprzedniego okresu sprawozdawczego | C4: Liczba wniosków które wpłynęły w okresie sprawozdawczym | D4: Liczba wniosków przekazanych do instytucji zagranicznych | E4: Liczba spraw załatwionych ogółem | F4: Liczba spraw, w których trwa postępowanie międzynarodowe
B5: ='Tab 8 i 9'!B19:G19 -> IV KWARTAŁ 2021 R.
A6: OGÓŁEM | B6: =B7+B9 -> 43 | C6: =C7+C9 -> 41 | D6: =D7+D9 -> 1 | E6: =E7+E9 -> 32 | F6: =F7+F9 -> 52
A7: Emerytury razem | B7: 23 | C7: 25 | D7: 0 | E7: 20 | F7: 28
A8: w tym wcześniejsze | B8: 0 | C8: 1 | D8: 0 | E8: 1 | F8: 0
A9: Renty razem, z tego: | B9: =B10+B12 -> 20 | C9: =C10+C12 -> 16 | D9: =D10+D12 -> 1 | E9: =E10+E12 -> 12 | F9: =F10+F12 -> 24
A10: Renty z tytułu niezdolności do pracy razem | B10: 15 | C10: 13 | D10: 1 | E10: 8 | F10: 20
A11: w tym renty z tytułu niezdolności do pracy wypadkowe | B11: 1 | C11: 0 | D11: 0 | E11: 0 | F11: 1
A12: Renty rodzinne | B12: 5 | C12: 3 | D12: 0 | E12: 4 | F12: 4
A14: TABLICA 11. DECYZJE W SPRAWACH WNIOSKÓW O PRZYZNANIE EMERYTUR I RENT ROLNICZYCH Z ZASTOSOWANIEM POSTANOWIEŃ UMÓW DWUSTRONNYCH O ZABEZPIECZENIU SPOŁECZNYM
A15: Wyszczególnienie | B15: Liczba wydanych decyzji
B16: Ogółem | C16: w tym: | F16: Decyzji odmownych
C17: Decyzji ostatecznych
C18: Razem | D18: Płatne pro rata temporis 1) | E18: Płatne na podstawie tylko polskich okresów ubezpieczenia
B19: =B5 -> IV KWARTAŁ 2021 R.
A20: OGÓŁEM | B20: =C20+F20 -> 30 | C20: =SUM(D20:E20) -> 20 | D20: =D21+D23 -> 9 | E20: =E21+E23 -> 11 | F20: =F21+F23 -> 10
A21: Emerytury razem | B21: 19 | C21: 12 | D21: 9 | E21: 3 | F21: 7
A22: w tym wcześniejsze | B22: 1 | C22: 1 | D22: 0 | E22: 1 | F22: 0
A23: Renty razem, z tego: | B23: =C23+F23 -> 11 | C23: =SUM(D23:E23) -> 8 | D23: 0 | E23: 8 | F23: 3
A24: Renty z tytułu niezdolności do pracy razem | B24: 7 | C24: 6 | D24: 0 | E24: 6 | F24: 1
A25: w tym renty z tytułu niezdolności do pracy wypadkowe | B25: 0 | C25: 0 | D25: 0 | E25: 0 | F25: 0
A26: Renty rodzinne | B26: 4 | C26: 2 | D26: 0 | E26: 2 | F26: 2
A27: 1) "pro rata temporis" emerytura ustalana i wypłacana jest w wysokościach częściowych, wynikających z proporcji okresów ubezpieczenia przebytych w danym państwie członkowskim do łącznych okresów ubezpieczenia przebytych we wszystkich państwach członkowskich. Każde państwo wypłaca emeryturę (rentę) wyłącznie za okresy ubezpieczenia przebyte na swoim terytorium.

Sheet Tab 12
A1: ='Tab 10 i 11'!A1:F1 -> I. EMERYTURY I RENTY REALIZOWANE PRZEZ KRUS
A3: TABLICA 12. ŚWIADCZENIA EMERYTALNO-RENTOWE TRANSFEROWANE DO POSZCZEGÓLNYCH PAŃSTW UE/EFTA I WIELKIEJ BRYTANII ORAZ DO INNYCH PAŃSTW NA PODSTAWIE UMÓW DWUSTRONNYCH
A4: Wyszczególnienie | B4: Razem emerytury i renty | D4: Emerytury | F4: Renty z tytułu niezdolności do pracy | H4: w tym: renty z tytułu niezdolności do pracy wypadkowe | J4: Renty rodzinne
B5: Przeciętna liczba osób | C5: Kwota wypłat w zł | D5: Przeciętna liczba osób | E5: Kwota wypłat w zł | F5: Przeciętna liczba osób | G5: Kwota wypłat w zł | H5: Przeciętna liczba osób | I5: Kwota wypłat w zł | J5: Przeciętna liczba osób | K5: Kwota wypłat w zł
B6: ='Tab 10 i 11'!B19:F19 -> IV KWARTAŁ 2021 R.
A7: OGÓŁEM | B7: 3824 | C7: 8644044.1 | D7: 3122 | E7: 6852798.9 | F7: 316 | G7: 870663.29 | H7: 3 | I7: 13136.82 | J7: 386 | K7: 920581.97
A8: w tym:
A9: świadczenia "zbiegowe" | B9: 45 | C9: 215011.71 | D9: 44 | E9: 210210.21 | F9: 1 | G9: 4801.5 | H9: 0 | I9: 0 | J9: 0 | K9: 0
A10: z tego:
A11: do państw UE/EFTA i Wielkiej Brytanii razem | B11: 3554 | C11: 7657279.4 | D11: 2871 | E11: 5954862.7 | F11: 310 | G11: 846003.71 | H11: 3 | I11: 13136.82 | J11: 373 | K11: 856412.93
A12: Austria | B12: 88 | C12: 181263.77 | D12: 51 | E12: 96007.79 | F12: 30 | G12: 69582.75 | H12: 0 | I12: 0 | J12: 7 | K12: 15673.23
A13: Belgia | B13: 48 | C13: 203282.25 | D13: 21 | E13: 71287.71 | F13: 24 | G13: 120609.42 | H13: 0 | I13: 0 | J13: 3 | K13: 11385.12
A14: Bułgaria | B14: 0 | C14: 0 | D14: 0 | E14: 0 | F14: 0 | G14: 0 | H14: 0 | I14: 0 | J14: 0 | K14: 0
A15: Chorwacja | B15: 0 | C15: 0 | D15: 0 | E15: 0 | F15: 0 | G15: 0 | H15: 0 | I15: 0 | J15: 0 | K15: 0
A16: Cypr | B16: 0 | C16: 0 | D16: 0 | E16: 0 | F16: 0 | G16: 0 | H16: 0 | I16: 0 | J16: 0 | K16: 0
A17: Czechy | B17: 1 | C17: 4630.05 | D17: 0 | E17: 0 | F17: 1 | G17: 4630.05 | H17: 0 | I17: 0 | J17: 0 | K17: 0
A18: Dania | B18: 0 | C18: 0 | D18: 0 | E18: 0 | F18: 0 | G18: 0 | H18: 0 | I18: 0 | J18: 0 | K18: 0
A19: Estonia | B19: 0 | C19: 0 | D19: 0 | E19: 0 | F19: 0 | G19: 0 | H19: 0 | I19: 0 | J19: 0 | K19: 0
A20: Finlandia | B20: 0 | C20: 0 | D20: 0 | E20: 0 | F20: 0 | G20: 0 | H20: 0 | I20: 0 | J20: 0 | K20: 0
A21: Francja | B21: 25 | C21: 90071.73 | D21: 20 | E21: 81998.91 | F21: 4 | G21: 8001.81 | H21: 0 | I21: 0 | J21: 1 | K21: 71.01
A22: Grecja | B22: 0 | C22: 0 | D22: 0 | E22: 0 | F22: 0 | G22: 0 | H22: 0 | I22: 0 | J22: 0 | K22: 0
... A54: USA | B54: 117 | C54: 478537.38 | D54: 110 | E54: 446359.32 | F54: 2 | G54: 8224.26 | H54: 0 | I54: 0 | J54: 5 | K54: 23953.8

Sheet Tab 13
A1: ='Tab 2 i 3'!A1:I1 -> I. EMERYTURY I RENTY REALIZOWANE PRZEZ KRUS
A3: TABLICA 13. LICZBA PRZEKAZANYCH GOSPODARSTW ROLNYCH
A4: Wyszczególnienie | B4: Ogółem
B5: ='Tab 6 i 7'!B17:F17 -> ROK 2021
A6: OGÓŁEM | B6: =SUM(B7:B22) -> 21115
A7: dolnośląskie | B7: 1172
A8: kujawsko-pomorskie | B8: 2123
A9: lubelskie | B9: 2352
A10: lubuskie | B10: 361
A11: łódzkie | B11: 1325
A12: małopolskie | B12: 2497
A13: mazowieckie | B13: 3899
A14: opolskie | B14: 6
A15: podkarpackie | B15: 1330
A16: podlaskie | B16: 416
A17: pomorskie | B17: 724
A18: śląskie | B18: 864
... A22: zachodniopomorskie | B22: 285

Sheet Tab 1 (14)
A1: II. FUNDUSZ EMERYTALNO-RENTOWY
A2: TABLICA 1 (14). PRZECIĘTNA MIESIĘCZNA LICZBA EMERYTUR I RENT WEDŁUG RODZAJÓW ŚWIADCZEŃ
A3: Wyszczególnienie | B3: 2020 rok | D3: 2021 rok
B4: IV kwartał | C4: Rok | D4: III kwartał | E4: IV kwartał | F4: Rok | G4: porównanie (wzrost/spadek)
G5: IV kwartału 2021 r. z III kwartałem 2021 r. | H5: IV kwartału 2021 r. z IV kwartałem 2020 r. | I5: Roku 2021 z rokiem 2020
A6: OGÓŁEM
A7: EMERYTURY I RENTY ogółem | B7: 1068143 | C7: 1082437 | D7: 1029384 | E7: 1019571 | F7: 1035449 | G7: =E7/D7-1 -> -0.0095328857 | H7: =E7/B7-1 -> -0.045473312 | I7: =F7/C7-1 -> -0.043409455
A8: Emerytury | B8: 840471 | C8: 852849 | D8: 804245 | E8: 796710 | F8: 809857 | G8: =E8/D8-1 -> -0.0093690356 | H8: =E8/B8-1 -> -0.052067234 | I8: =F8/C8-1 -> -0.050409862
A9: Renty | B9: 227671 | C9: 229588 | D9: 225139 | E9: 222861 | F9: 225591 | G9: =E9/D9-1 -> -0.010118194 | H9: =E9/B9-1 -> -0.021126977 | I9: =F9/C9-1 -> -0.017409446
A10: EMERYTURY
A11: EMERYTURY RAZEM | B11: 840471 | C11: 852849 | D11: 804245 | E11: 796710 | F11: 809857 | G11: =E11/D11-1 -> -0.0093690356 | H11: =E11/B11-1 -> -0.052067234 | I11: =F11/C11-1 -> -0.050409862
A12: w tym emerytury wcześniejsze | B12: 30812 | C12: 36607 | D12: 18485 | E12: 15125 | F12: 20600 | G12: =E12/D12-1 -> -0.181769 | H12: =E12/B12-1 -> -0.50911982 | I12: =F12/C12-1 -> -0.4372661
A13: Emerytury rolnicze | B13: 721230 | C13: 726241 | D13: 702419 | E13: 699067 | F13: 705304 | G13: =E13/D13-1 -> -0.0047720805 | H13: =E13/B13-1 -> -0.030729448 | I13: =F13/C13-1 -> -0.028829273
A14: Emerytury za przekazane gospodarstwo rolne Państwu | B14: 19339 | C14: 20543 | D14: 16488 | E14: 15836 | F14: 16932 | G14: =E14/D14-1 -> -0.039543911 | H14: =E14/B14-1 -> -0.18113656 | I14: =F14/C14-1 -> -0.17577764
A15: Emerytury za przekazane gospodarstwo rolne następcy | B15: 97009 | C15: 103118 | D15: 82620 | E15: 79128 | F15: 84877 | G15: =E15/D15-1 -> -0.042265795 | H15: =E15/B15-1 -> -0.1843231 | I15: =F15/C15-1 -> -0.17689443
A16: Emerytury nie związane z przekazaniem gospodarstwa rolnego | B16: 2893 | C16: 2947 | D16: 2717 | E16: 2678 | F16: 2743 | G16: =E16/D16-1 -> -0.014354067 | H16: =E16/B16-1 -> -0.074317318 | I16: =F16/C16-1 -> -0.069222939
A17: RENTY
A18: RENTY RAZEM | B18: 227671 | C18: 229588 | D18: 225139 | E18: 222861 | F18: 225591 | G18: =E18/D18-1 -> -0.010118194 | H18: =E18/B18-1 -> -0.021126977 | I18: =F18/C18-1 -> -0.017409446
A19: RENTY Z TYTUŁU NIEZDOLNOŚCI DO PRACY RAZEM | B19: 186667 | C19: 187601 | D19: 183359 | E19: 181836 | F19: 183887 | G19: =E19/D19-1 -> -0.0083061099 | H19: =E19/B19-1 -> -0.025880311 | I19: =F19/C19-1 -> -0.019797336
A20: w tym renty z tytułu niezdolności do pracy wypadkowe | B20: 12388 | C20: 12455 | D20: 12216 | E20: 12142 | F20: 12243 | G20: =E20/D20-1 -> -0.0060576293 | H20: =E20/B20-1 -> -0.019857927 | I20: =F20/C20-1 -> -0.017021277
A21: Renty rolnicze z tytułu niezdolności do pracy | B21: 184020 | C21: 184808 | D21: 180977 | E21: 179529 | F21: 181461 | G21: =E21/D21-1 -> -0.0080010167 | H21: =E21/B21-1 -> -0.024404956 | I21: =F21/C21-1 -> -0.018110688
A22: Renty z tytułu niezdolności do pracy za przekazane gospodarstwo rolne Państwu | B22: 217 | C22: 230 | D22: 188 | E22: 181 | F22: 193 | G22: =E22/D22-1 -> -0.037234043 | H22: =E22/B22-1 -> -0.16589862 | I22: =F22/C22-1 -> -0.16086957
A23: Renty z tytułu niezdolności do pracy za przekazane gospodarstwo rolne następcy | B23: 601 | C23: 634 | D23: 546 | E23: 524 | F23: 554 | G23: =E23/D23-1 -> -0.04029304 | H23: =E23/B23-1 -> -0.1281198 | I23: =F23/C23-1 -> -0.12618297
A24: Renty z tytułu niezdolności do pracy nie związane z przekazaniem gospodarstwa rolnego | B24: 1829 | C24: 1929 | D24: 1648 | E24: 1601 | F24: 1679 | G24: =E24/D24-1 -> -0.028519417 | H24: =E24/B24-1 -> -0.12465828 | I24: =F24/C24-1 -> -0.12960083
A25: RENTY RODZINNE RAZEM | B25: 41004 | C25: 41988 | D25: 41780 | E25: 41026 | F25: 41704 | G25: =E25/D25-1 -> -0.018046912 | H25: =E25/B25-1 -> 0.00053653302 | I25: =F25/C25-1 -> -0.0067638373
A26: w tym renty rodzinne wypadkowe | B26: 841 | C26: 898 | D26: 832 | E26: 811 | F26: 840 | G26: =E26/D26-1 -> -0.025240385 | H26: =E26/B26-1 -> -0.035671819 | I26: =F26/C26-1 -> -0.064587973
A27: Renty rodzinne rolnicze | B27: 39415 | C27: 40372 | D27: 40278 | E27: 39549 | F27: 40192 | G27: =E27/D27-1 -> -0.01809921 | H27: =E27/B27-1 -> 0.0033997209 | I27: =F27/C27-1 -> -0.0044585356
A28: Renty rodzinne za przekazane gospodarstwo rolne Państwu | B28: 361 | C28: 369 | D28: 328 | E28: 319 | F28: 332 | G28: =E28/D28-1 -> -0.027439024 | H28: =E28/B28-1 -> -0.11634349 | I28: =F28/C28-1 -> -0.100271
A29: Renty rodzinne za przekazane gospodarstwo rolne następcy | B29: 866 | C29: 880 | D29: 821 | E29: 809 | F29: 827 | G29: =E29/D29-1 -> -0.014616322 | H29: =E29/B29-1 -> -0.065819861 | I29: =F29/C29-1 -> -0.060227273
A30: Renty rodzinne nie związane z przekazaniem gospodarstwa rolnego | B30: 363 | C30: 366 | D30: 352 | E30: 350 | F30: 353 | G30: =E30/D30-1 -> -0.0056818182 | H30: =E30/B30-1 -> -0.035812672 | I30: =F30/C30-1 -> -0.035519126

Sheet Tab 2 (15) i wykres 1
A1: ='Tab 1 (14)'!A1:I1 -> II. FUNDUSZ EMERYTALNO-RENTOWY
A2: TABLICA 2 (15). LICZBA UBEZPIECZONYCH ORAZ PRZECIĘTNA MIESIĘCZNA LICZBA ŚWIADCZENIOBIORCÓW WEDŁUG WOJEWÓDZTW
A3: Wyszczególnienie | B3: Liczba ubezpieczonych stan na 31 grudnia 2021 r. | C3: Przeciętna miesięczna liczba świadczeniobiorców w IV kwartale 2021 r.
A4: dolnośląskie | B4: 38582 | C4: 38229
A5: kujawsko-pomorskie | B5: 61231 | C5: 68790
A6: lubelskie | B6: 144618 | C6: 130892
A7: lubuskie | B7: 13480 | C7: 13722
A8: łódzkie | B8: 89663 | C8: 86887
A9: małopolskie | B9: 133690 | C9: 87447
A10: mazowieckie | B10: 159772 | C10: 156747
A11: opolskie | B11: 24588 | C11: 20510
A12: podkarpackie | B12: 83701 | C12: 58746
A13: podlaskie | B13: 79673 | C13: 72919
A14: pomorskie | B14: 37808 | C14: 33074
A15: śląskie | B15: 31503 | C15: 29134
... A19: zachodniopomorskie | B19: 22943 | C19: 21894
A20: MON | C20: 99
A21: MSWiA | C21: 468
A22: MS | C22: 50
A23: Ogółem | B23: =SUM(B4:B22) -> 1134603 | C23: 1019571
A25: WYKRES NR 1. PRZECIĘTNA MIESIĘCZNA LICZBA ŚWIADCZENIOBIORCÓW NA TLE LICZBY UBEZPIECZONYCH

Sheet Tab 3 (16) i wykres 2
A1: ='Tab 2 (15) i wykres 1'!A1:E1 -> II. FUNDUSZ EMERYTALNO-RENTOWY
A2: TABLICA 3 (16). PRZECIĘTNE MIESIĘCZNE ŚWIADCZENIA EMERYTALNO-RENTOWE WEDŁUG WOJEWÓDZTW
A3: Wyszczególnienie | B3: Świadczenia rolne wypłacane z FER | C3: Świadczenia realizowane przez KRUS ogółem
B4: w złotych
B5: ROK 2021
A6: dolnośląskie | B6: 1304.14 | C6: 1474.51
A7: kujawsko-pomorskie | B7: 1369.86 | C7: 1443.15
A8: lubelskie | B8: 1345.98 | C8: 1439.01
A9: lubuskie | B9: 1268.55 | C9: 1542.66
A10: łódzkie | B10: 1351.16 | C10: 1427.19
A11: małopolskie | B11: 1311.3 | C11: 1393.38
A12: mazowieckie | B12: 1347.32 | C12: 1405.54
A13: opolskie | B13: 1352.14 | C13: 1465.89
A14: podkarpackie | B14: 1327.46 | C14: 1411.39
A15: podlaskie | B15: 1369.99 | C15: 1425.27
A16: pomorskie | B16: 1337.64 | C16: 1439.14
A17: śląskie | B17: 1269.2 | C17: 1568.24
... A24: MS | B24: 558.68 | C24: 558.68
A27: WYKRES NR 2. PRZECIĘTNE MIESIĘCZNE ŚWIADCZENIA ROLNE WYPŁACANE Z FER W ODNIESIENIU DO ŚWIADCZEŃ REALIZOWANYCH PRZEZ KRUS OGÓŁEM

Sheet Tab 4 (17)
A1: ='Tab 3 (16) i wykres 2'!A1:E1 -> II. FUNDUSZ EMERYTALNO-RENTOWY
A3: TABLICA 4 (17). PRZECIĘTNA MIESIĘCZNA LICZBA EMERYTUR I RENT WEDŁUG WOJEWÓDZTW ORAZ ŚWIADCZEŃ EMERYTALNYCH WYPŁACONYCH PRZEZ MON, MSWiA i MS
A4: Wyszczególnienie | B4: Ogółem | C4: z tego:
C5: emerytury | D5: renty razem | E5: z tego:
E6: z tytułu niezdolności do pracy | G6: rodzinne
E7: ogółem | F7: w tym wypadkowe | G7: ogółem | H7: w tym wypadkowe
B9: ROK 2021
A10: OGÓŁEM | B10: 1035449 | C10: 809857 | D10: 225591 | E10: 183887 | F10: 12243 | G10: 41704 | H10: 840
A11: dolnośląskie | B11: 38883 | C11: 30460 | D11: 8423 | E11: 6879 | F11: 482 | G11: 1544 | H11: 24
A12: kujawsko-pomorskie | B12: 69668 | C12: 54317 | D12: 15350 | E12: 12949 | F12: 1041 | G12: 2401 | H12: 63
A13: lubelskie | B13: 133092 | C13: 104293 | D13: 28798 | E13: 23745 | F13: 1509 | G13: 5053 | H13: 122
A14: lubuskie | B14: 14022 | C14: 10427 | D14: 3595 | E14: 3039 | F14: 193 | G14: 556 | H14: 9
A15: łódzkie | B15: 88327 | C15: 74129 | D15: 14198 | E15: 10986 | F15: 953 | G15: 3213 | H15: 52
A16: małopolskie | B16: 88358 | C16: 60101 | D16: 28258 | E16: 24581 | F16: 1169 | G16: 3677 | H16: 66
A17: mazowieckie | B17: 159159 | C17: 129336 | D17: 29823 | E17: 22906 | F17: 1659 | G17: 6917 | H17: 122
A18: opolskie | B18: 20872 | C18: 17936 | D18: 2937 | E18: 2230 | F18: 171 | G18: 707 | H18: 12
A19: podkarpackie | B19: 59849 | C19: 45341 | D19: 14508 | E19: 12196 | F19: 618 | G19: 2312 | H19: 29
A20: podlaskie | B20: 74156 | C20: 59965 | D20: 14190 | E20: 11225 | F20: 788 | G20: 2965 | H20: 68
A21: pomorskie | B21: 33566 | C21: 24822 | D21: 8744 | E21: 7191 | F21: 463 | G21: 1553 | H21: 31
... A26: zachodniopomorskie | B26: 22301 | C26: 17361 | D26: 4940 | E26: 4040 | F26: 278 | G26: 900 | H26: 19
A27: Emerytury finansowane z funduszu emerytalno-rentowego, wypłacane przez MON, MSWiA, MS z tego: | B27: =C27 -> 652 | C27: 652 | D27: 0 | E27: 0 | F27: 0 | G27: 0 | H27: 0
A28: MON | B28: =C28 -> 102 | C28: 102 | D28: 0 | E28: 0 | F28: 0 | G28: 0 | H28: 0
A29: MSWiA | B29: =C29 -> 497 | C29: 497 | D29: 0 | E29: 0 | F29: 0 | G29: 0 | H29: 0
A30: MS | B30: =C30 -> 53 | C30: 53 | D30: 0 | E30: 0 | F30: 0 | G30: 0 | H30: 0

Sheet Tab 5 (18)
A1: ='Tab 4 (17)'!A1:H1 -> II. FUNDUSZ EMERYTALNO-RENTOWY
A3: TABLICA 5 (18). WYDATKI NA ŚWIADCZENIA EMERYTALNO-RENTOWE WEDŁUG RODZAJÓW ŚWIADCZEŃ
A4: Wyszczególnienie | B4: 2020 rok | D4: 2021 rok
B5: IV kwartał | C5: Rok | D5: III kwartał | E5: IV kwartał | F5: Rok | G5: porównanie (wzrost/spadek)
G6: IV kwartału 2021 r. z III kwartałem 2021 r. | H6: IV kwartału 2021 r. z IV kwartałem 2020 r. | I6: Roku 2021 z rokiem 2020
B7: w złotych
A8: OGÓŁEM1)
A9: EMERYTURY I RENTY z tego: | B9: =B10+B11 -> 4.1416889e+09 | C9: =C10+C11 -> 1.660184e+10 | D9: =D10+D11 -> 4.1563803e+09 | E9: =E10+E11 -> 4.1197142e+09 | F9: =F10+F11 -> 1.6606225e+10 | G9: =E9/D9-1 -> -0.0088216488 | H9: =E9/B9-1 -> -0.0053057181 | I9: =F9/C9-1 -> 0.00026413543
A10: Emerytury | B10: =B13 -> 3.2565733e+09 | C10: =C13 -> 1.3075158e+10 | D10: =D13 -> 3.2557157e+09 | E10: =E13 -> 3.2258636e+09 | F10: =F13 -> 1.301319e+10 | G10: =E10/D10-1 -> -0.0091691205 | H10: =E10/B10-1 -> -0.0094300642 | I10: =F10/C10-1 -> -0.0047393681
A11: Renty | B11: =B20 -> 8.8511553e+08 | C11: =C20 -> 3.5266824e+09 | D11: =D20 -> 9.0066467e+08 | E11: =E20 -> 8.9385059e+08 | F11: =F20 -> 3.5930355e+09 | G11: =E11/D11-1 -> -0.0075656107 | H11: =E11/B11-1 -> 0.0098688381 | I11: =F11/C11-1 -> 0.0188146
A12: EMERYTURY
A13: EMERYTURY RAZEM | B13: =SUM(B15:B18) -> 3.2565733e+09 | C13: =SUM(C15:C18) -> 1.3075158e+10 | D13: =SUM(D15:D18) -> 3.2557157e+09 | E13: =SUM(E15:E18) -> 3.2258636e+09 | F13: =SUM(F15:F18) -> 1.301319e+10 | G13: =E13/D13-1 -> -0.0091691205 | H13: =E13/B13-1 -> -0.0094300642 | I13: =F13/C13-1 -> -0.0047393681
A14: w tym emerytury wcześniejsze | B14: 1.1179374e+08 | C14: 5.2086019e+08 | D14: 70592203 | E14: 58123934 | F14: 3.1127381e+08 | G14: =E14/D14-1 -> -0.17662388 | H14: =E14/B14-1 -> -0.48007882 | I14: =F14/C14-1 -> -0.4023851
A15: Emerytury rolnicze | B15: 2.8406214e+09 | C15: 1.1330357e+10 | D15: 2.8825046e+09 | E15: 2.8679677e+09 | F15: 1.149531e+10 | G15: =E15/D15-1 -> -0.0050431371 | H15: =E15/B15-1 -> 0.009626873 | I15: =F15/C15-1 -> 0.014558488
A16: Emerytury za przekazane gospodarstwo rolne Państwu | B16: 63664436 | C16: 2.66916e+08 | D16: 57303969 | E16: 54969889 | F16: 2.3275118e+08 | G16: =E16/D16-1 -> -0.040731571 | H16: =E16/B16-1 -> -0.13656835 | I16: =F16/C16-1 -> -0.12799841
A17: Emerytury za przekazane gospodarstwo rolne następcy | B17: 3.4050503e+08 | C17: 1.4304624e+09 | D17: 3.0437144e+08 | E17: 2.9156649e+08 | F17: 1.2388862e+09 | G17: =E17/D17-1 -> -0.042070126 | H17: =E17/B17-1 -> -0.1437234 | I17: =F17/C17-1 -> -0.13392605
A18: Emerytury nie związane z przekazaniem gospodarstwa rolnego | B18: 11782447 | C18: 47422080 | D18: 11535695 | E18: 11359537 | F18: 46242241 | G18: =E18/D18-1 -> -0.015270707 | H18: =E18/B18-1 -> -0.03589324 | I18: =F18/C18-1 -> -0.02487953
A19: RENTY
A20: RENTY RAZEM z tego: | B20: =B21+B27 -> 8.8511553e+08 | C20: =C21+C27 -> 3.5266824e+09 | D20: =D21+D27 -> 9.0066467e+08 | E20: =E21+E27 -> 8.9385059e+08 | F20: =F21+F27 -> 3.5930355e+09 | G20: =E20/D20-1 -> -0.0075656107 | H20: =E20/B20-1 -> 0.0098688381 | I20: =F20/C20-1 -> 0.0188146
A21: RENTY Z TYTUŁU NIEZDOLNOŚCI DO PRACY RAZEM | B21: =SUM(B23:B26) -> 7.0305566e+08 | C21: =SUM(C23:C26) -> 2807200019 | D21: =SUM(D23:D26) -> 7.1268604e+08 | E21: =SUM(E23:E26) -> 7.0542438e+08 | F21: =SUM(F23:F26) -> 2.8420755e+09 | G21: =E21/D21-1 -> -0.010189138 | H21: =E21/B21-1 -> 0.0033691742 | I21: =F21/C21-1 -> 0.012423596
A22: w tym renty z tytułu niezdolności do pracy wypadkowe | B22: 47524098 | C22: 1.8967363e+08 | D22: 48208634 | E22: 47819909 | F22: 1.920987e+08 | G22: =E22/D22-1 -> -0.0080633878 | H22: =E22/B22-1 -> 0.0062244335 | I22: =F22/C22-1 -> 0.012785476
A23: Renty rolnicze z tytułu niezdolności do pracy | B23: 6.9346632e+08 | C23: 2.7672937e+09 | D23: 7.0371228e+08 | E23: 6.9675881e+08 | F23: 2.8057656e+09 | G23: =E23/D23-1 -> -0.0098811288 | H23: =E23/B23-1 -> 0.0047478778 | I23: =F23/C23-1 -> 0.013902355
A24: Renty z tytułu niezdolności do pracy za przekazane gospodarstwo rolne Państwu | B24: 710193.38 | C24: 3000773.8 | D24: 647783.05 | E24: 612810.17 | F24: 2617263.5 | G24: =E24/D24-1 -> -0.053988569 | H24: =E24/B24-1 -> -0.1371221 | I24: =F24/C24-1 -> -0.12780381
A25: Renty z tytułu niezdolności do pracy za przekazane gospodarstwo rolne następcy | B25: 1859496.6 | C25: 7747259.5 | D25: 1752104.3 | E25: 1665229.8 | F25: 7060181.2 | G25: =E25/D25-1 -> -0.049582933 | H25: =E25/B25-1 -> -0.10447278 | I25: =F25/C25-1 -> -0.088686624
A26: Renty z tytułu niezdolności do pracy nie związane z przekazaniem gospodarstwa rolnego | B26: 7019655.4 | C26: 29158321 | D26: 6573866.5 | E26: 6387529.1 | F26: 26632530 | G26: =E26/D26-1 -> -0.028345186 | H26: =E26/B26-1 -> -0.090050913 | I26: =F26/C26-1 -> -0.086623312
A27: RENTY RODZINNE RAZEM | B27: =SUM(B29:B32) -> 1.8205986e+08 | C27: =SUM(C29:C32) -> 7.1948241e+08 | D27: =SUM(D29:D32) -> 1.8797863e+08 | E27: =SUM(E29:E32) -> 1.8842621e+08 | F27: =SUM(F29:F32) -> 7.5096e+08 | G27: =E27/D27-1 -> 0.0023810059 | H27: =E27/B27-1 -> 0.034968415 | I27: =F27/C27-1 -> 0.043750339
A28: w tym renty rodzinne wypadkowe | B28: 3964720.4 | C28: 16029415 | D28: 3913104.5 | E28: 3892679.7 | F28: 15747177 | G28: =E28/D28-1 -> -0.0052195974 | H28: =E28/B28-1 -> -0.018170432 | I28: =F28/C28-1 -> -0.01760753
A29: Renty rodzinne rolnicze | B29: 1.7400584e+08 | C29: 6.8712789e+08 | D29: 1.8003741e+08 | E29: 1.8060952e+08 | F29: 7.1923581e+08 | G29: =E29/D29-1 -> 0.0031777103 | H29: =E29/B29-1 -> 0.037950862 | I29: =F29/C29-1 -> 0.04672772
A30: Renty rodzinne za przekazane gospodarstwo rolne Państwu | B30: 1881509 | C30: 7639990.7 | D30: 1780880.5 | E30: 1751486.5 | F30: 7191025.5 | G30: =E30/D30-1 -> -0.016505324 | H30: =E30/B30-1 -> -0.069105446 | I30: =F30/C30-1 -> -0.058765144
A31: Renty rodzinne za przekazane gospodarstwo rolne następcy | B31: 4441874.7 | C31: 17821242 | D31: 4371514.9 | E31: 4313962.3 | F31: 17502763 | G31: =E31/D31-1 -> -0.013165388 | H31: =E31/B31-1 -> -0.028796958 | I31: =F31/C31-1 -> -0.017870756
A32: Renty rodzinne nie związane z przekazaniem gospodarstwa rolnego | B32: 1730636.5 | C32: 6893279.4 | D32: 1788826.4 | E32: 1751244.6 | F32: 7030402.8 | G32: =E32/D32-1 -> -0.021009194 | H32: =E32/B32-1 -> 0.011907786 | I32: =F32/C32-1 -> 0.019892343
A33: 1) Kwota nie obejmuje należnych świadczeń z innych systemów ubezpieczeniowych, wypłacanych w tzw. zbiegu z emeryturą lub rentą rolną.

Sheet Wykres 3
A1: ='Tab 2 (15) i wykres 1'!A1:E1 -> II. FUNDUSZ EMERYTALNO-RENTOWY
A3: Dane do wykresu nr 3
A4: Wyszczególnienie | B4: Emerytury | C4: Renty z tytułu niezdolności do pracy | D4: Renty rodzinne | E4: Emerytury finansowane z Funduszu Emerytalno-Rentowego, a wypłacane przez MON, MSWiA i MS | F4: Ogółem
A5: Kwota w zł | B5: ='Tab 5 (18)'!F13-'Wykres 3'!E5 -> 1.30085e+10 | C5: ='Tab 5 (18)'!F21 -> 2.8420755e+09 | D5: ='Tab 5 (18)'!F27 -> 7.5096e+08 | E5: 4689878.4 | F5: =SUM(B5:E5) -> 1.6606225e+10
A6: Udział procentowy | B6: =B5/$F$5 -> 0.7833508 | C6: =C5/$F$5 -> 0.17114519 | D6: =D5/$F$5 -> 0.045221596 | E6: =E5/$F$5 -> 0.00028241689 | F6: =F5/$F$5 -> 1

Sheet Tab 6 (19)
A1: ='Tab 1 (14)'!A1 -> II. FUNDUSZ EMERYTALNO-RENTOWY
A3: TABLICA 6 (19). WYDATKI NA ŚWIADCZENIA EMERYTALNO-RENTOWE WEDŁUG WOJEWÓDZTW ORAZ ŚWIADCZENIA EMERYTALNE WYPŁACONE PRZEZ MON, MSWiA i MS
A4: Wyszczególnienie | B4: Ogółem1) | C4: z tego:
C5: emerytury | D5: renty razem | E5: z tego:
E6: z tytułu niezdolności do pracy | G6: rodzinne
E7: ogółem | F7: w tym wypadkowe | G7: ogółem | H7: w tym wypadkowe
B9: ='Tab 4 (17)'!B9:H9 -> ROK 2021
B10: w złotych
A11: OGÓŁEM | B11: =SUM(B12:B28) -> 1.6606225e+10 | C11: =SUM(C12:C28) -> 1.301319e+10 | D11: =SUM(D12:D27) -> 3.5930355e+09 | E11: =SUM(E12:E27) -> 2.8420755e+09 | F11: =SUM(F12:F27) -> 1.920987e+08 | G11: =SUM(G12:G27) -> 7.5096e+08 | H11: =SUM(H12:H27) -> 15747177
A12: dolnośląskie | B12: =SUM(C12:D12) -> 6.0850423e+08 | C12: 4.7692709e+08 | D12: 1.3157714e+08 | E12: 1.0472083e+08 | F12: 7291653.4 | G12: 26856310 | H12: 386624.41
A13: kujawsko-pomorskie | B13: =SUM(C13:D13) -> 1.1452215e+09 | C13: 8.905553e+08 | D13: 2.5466618e+08 | E13: 2.063382e+08 | F13: 16977854 | G13: 48327986 | H13: 1401547.6
A14: lubelskie | B14: =SUM(C14:D14) -> 2.1496725e+09 | C14: 1.687862e+09 | D14: 4.6181053e+08 | E14: 3.7027935e+08 | F14: 23889920 | G14: 91531179 | H14: 2170023.1
A15: lubuskie | B15: =SUM(C15:D15) -> 2.1344416e+08 | C15: 1.5756731e+08 | D15: 55876850 | E15: 46117162 | F15: 2880058.4 | G15: 9759688.2 | H15: 152038.74
A16: łódzkie | B16: =SUM(C16:D16) -> 1.4321284e+09 | C16: 1.1961007e+09 | D16: 2.3602775e+08 | E16: 1.6977959e+08 | F16: 14852953 | G16: 66248157 | H16: 1270890.9
A17: małopolskie | B17: =SUM(C17:D17) -> 1.3903708e+09 | C17: 9.5057508e+08 | D17: 4.3979577e+08 | E17: 3.7639159e+08 | F17: 18075030 | G17: 63404173 | H17: 1157438.6
A18: mazowieckie | B18: =SUM(C18:D18) -> 2.57326e+09 | C18: 2.1015411e+09 | D18: 4.7171891e+08 | E18: 3.5056764e+08 | F18: 25917482 | G18: 1.2115126e+08 | H18: 2335516.6
A19: opolskie | B19: =SUM(C19:D19) -> 3.3866782e+08 | C19: 2.8964859e+08 | D19: 49019234 | E19: 35436398 | F19: 2752076.7 | G19: 13582837 | H19: 230872.73
A20: podkarpackie | B20: =SUM(C20:D20) -> 9.533619e+08 | C20: 7.2582918e+08 | D20: 2.2753271e+08 | E20: 1.8641289e+08 | F20: 9542458.9 | G20: 41119823 | H20: 553031.73
A21: podlaskie | B21: =SUM(C21:D21) -> 1.2191116e+09 | C21: 9.8993981e+08 | D21: 2.2917181e+08 | E21: 1.7432546e+08 | F21: 12538209 | G21: 54846356 | H21: 1301067.8
A22: pomorskie | B22: =SUM(C22:D22) -> 5.3878588e+08 | C22: 3.9925424e+08 | D22: 1.3953164e+08 | E22: 1.1160583e+08 | F22: 7302069.5 | G22: 27925819 | H22: 552171.58
A23: śląskie | B23: =SUM(C23:D23) -> 4.5361263e+08 | C23: 3.6330896e+08 | D23: 90303671 | E23: 72852040 | F23: 5141692.2 | G23: 17451631 | H23: 382793.47
... A27: zachodniopomorskie | B27: =SUM(C27:D27) -> 3.5693887e+08 | C27: 2.7699548e+08 | D27: 79943389 | E27: 62595337 | F27: 4250478.2 | G27: 17348053 | H27: 315874.89
A28: Emerytury finansowane z funduszu emerytalno-rentowego, wypłacane przez MON, MSWiA, MS z tego: | B28: =B29+B30+B31 -> 4689878.4 | C28: =C29+C30+C31 -> 4689878.4 | D28: 0 | E28: 0 | F28: 0 | G28: 0 | H28: 0
A29: MON | B29: =C29 -> 843613.18 | C29: 843613.18 | D29: 0 | E29: 0 | F29: 0 | G29: 0 | H29: 0
A30: MSWiA | B30: =C30 -> 3488154.4 | C30: 3488154.4 | D30: 0 | E30: 0 | F30: 0 | G30: 0 | H30: 0
A31: MS | B31: =C31 -> 358110.88 | C31: 358110.88 | D31: 0 | E31: 0 | F31: 0 | G31: 0 | H31: 0
A32: 1) Kwota nie obejmuje należnych świadczeń z innych systemów ubezpieczeniowych, wypłacanych w tzw. zbiegu z emeryturą lub rentą rolną.

Sheet Tab 7 (20)
A1: ='Tab 1 (14)'!A1 -> II. FUNDUSZ EMERYTALNO-RENTOWY
A3: TABLICA 7 (20). PRZECIĘTNE MIESIĘCZNE ŚWIADCZENIE EMERYTALNO-RENTOWE WEDŁUG RODZAJÓW ŚWIADCZEŃ
A4: Wyszczególnienie | B4: 2020 rok | D4: 2021 rok
B5: IV kwartał | C5: Rok | D5: III kwartał | E5: IV kwartał | F5: Rok | G5: porównanie (wzrost/spadek)
G6: IV kwartału 2021 r. z III kwartałem 2021 r. | H6: IV kwartału 2021 r. z IV kwartałem 2020 r. | I6: Roku 2021 z rokiem 2020
B7: w złotych
A8: OGÓŁEM1)
A9: EMERYTURY I RENTY z tego: | B9: 1292.49 | C9: 1278.12 | D9: 1345.91 | E9: 1346.88 | F9: 1336.48 | G9: =E9/D9-1 -> 0.00072070198 | H9: =E9/B9-1 -> 0.042081563 | I9: =F9/C9-1 -> 0.045660814
A10: Emerytury | B10: 1291.57 | C10: 1277.6 | D10: 1349.39 | E10: 1349.66 | F10: 1339.04 | G10: =E10/D10-1 -> 0.00020009041 | H10: =E10/B10-1 -> 0.044976269 | I10: =F10/C10-1 -> 0.048090169
A11: Renty | B11: 1295.9 | C11: 1280.08 | D11: 1333.49 | E11: 1336.93 | F11: 1327.27 | G11: =E11/D11-1 -> 0.0025796969 | H11: =E11/B11-1 -> 0.031661394 | I11: =F11/C11-1 -> 0.036864883
A12: EMERYTURY
A13: EMERYTURY RAZEM | B13: 1291.57 | C13: 1277.6 | D13: 1349.39 | E13: 1349.66 | F13: 1339.04 | G13: =E13/D13-1 -> 0.00020009041 | H13: =E13/B13-1 -> 0.044976269 | I13: =F13/C13-1 -> 0.048090169
A14: w tym emerytury wcześniejsze | B14: 1209.42 | C14: 1185.71 | D14: 1272.94 | E14: 1281 | F14: 1259.18 | G14: =E14/D14-1 -> 0.0063317988 | H14: =E14/B14-1 -> 0.059185395 | I14: =F14/C14-1 -> 0.061962875
A15: Emerytury rolnicze | B15: 1312.86 | C15: 1300.11 | D15: 1367.89 | E15: 1367.52 | F15: 1358.2 | G15: =E15/D15-1 -> -0.00027048959 | H15: =E15/B15-1 -> 0.041634295 | I15: =F15/C15-1 -> 0.044680835
A16: Emerytury za przekazane gospodarstwo rolne Państwu | B16: 1097.32 | C16: 1082.75 | D16: 1158.5 | E16: 1157.04 | F16: 1145.5 | G16: =E16/D16-1 -> -0.0012602503 | H16: =E16/B16-1 -> 0.054423505 | I16: =F16/C16-1 -> 0.057954283
A17: Emerytury za przekazane gospodarstwo rolne następcy | B17: 1170.01 | C17: 1156 | D17: 1227.99 | E17: 1228.24 | F17: 1216.35 | G17: =E17/D17-1 -> 0.00020358472 | H17: =E17/B17-1 -> 0.049768805 | I17: =F17/C17-1 -> 0.052205882
A18: Emerytury nie związane z przekazaniem gospodarstwa rolnego | B18: 1357.58 | C18: 1341.2 | D18: 1415.25 | E18: 1413.93 | F18: 1404.64 | G18: =E18/D18-1 -> -0.0009326974 | H18: =E18/B18-1 -> 0.041507683 | I18: =F18/C18-1 -> 0.047300925
A19: RENTY
A20: RENTY RAZEM z tego: | B20: 1295.9 | C20: 1280.08 | D20: 1333.49 | E20: 1336.93 | F20: 1327.27 | G20: =E20/D20-1 -> 0.0025796969 | H20: =E20/B20-1 -> 0.031661394 | I20: =F20/C20-1 -> 0.036864883
A21: RENTY Z TYTUŁU NIEZDOLNOŚCI DO PRACY RAZEM | B21: 1255.45 | C21: 1246.98 | D21: 1295.61 | E21: 1293.15 | F21: 1287.96 | G21: =E21/D21-1 -> -0.0018987195 | H21: =E21/B21-1 -> 0.030029073 | I21: =F21/C21-1 -> 0.032863398
A22: w tym renty z tytułu niezdolności do pracy wypadkowe | B22: 1278.77 | C22: 1269.11 | D22: 1315.49 | E22: 1312.8 | F22: 1307.5 | G22: =E22/D22-1 -> -0.0020448654 | H22: =E22/B22-1 -> 0.026611509 | I22: =F22/C22-1 -> 0.030249545
A23: Renty rolnicze z tytułu niezdolności do pracy | B23: 1256.15 | C23: 1247.83 | D23: 1296.14 | E23: 1293.68 | F23: 1288.51 | G23: =E23/D23-1 -> -0.0018979431 | H23: =E23/B23-1 -> 0.029877005 | I23: =F23/C23-1 -> 0.032600595
A24: Renty z tytułu niezdolności do pracy za przekazane gospodarstwo rolne Państwu | B24: 1090.93 | C24: 1088.03 | D24: 1146.52 | E24: 1128.56 | F24: 1131.06 | G24: =E24/D24-1 -> -0.015664794 | H24: =E24/B24-1 -> 0.034493506 | I24: =F24/C24-1 -> 0.039548542
A25: Renty z tytułu niezdolności do pracy za przekazane gospodarstwo rolne następcy | B25: 1031.33 | C25: 1018.17 | D25: 1070.31 | E25: 1058.63 | F25: 1061.84 | G25: =E25/D25-1 -> -0.010912726 | H25: =E25/B25-1 -> 0.026470674 | I25: =F25/C25-1 -> 0.042890676
A26: Renty z tytułu niezdolności do pracy nie związane z przekazaniem gospodarstwa rolnego | B26: 1279.09 | C26: 1259.59 | D26: 1329.4 | E26: 1329.63 | F26: 1321.71 | G26: =E26/D26-1 -> 0.00017301038 | H26: =E26/B26-1 -> 0.039512466 | I26: =F26/C26-1 -> 0.049317635
A27: RENTY RODZINNE RAZEM | B27: 1480.01 | C27: 1427.96 | D27: 1499.75 | E27: 1530.96 | F27: 1500.58 | G27: =E27/D27-1 -> 0.020810135 | H27: =E27/B27-1 -> 0.034425443 | I27: =F27/C27-1 -> 0.050855766
A28: w tym renty rodzinne wypadkowe | B28: 1572.05 | C28: 1487.51 | D28: 1568.38 | E28: 1599.29 | F28: 1563 | G28: =E28/D28-1 -> 0.019708234 | H28: =E28/B28-1 -> 0.017327693 | I28: =F28/C28-1 -> 0.050749239
A29: Renty rodzinne rolnicze | B29: 1471.58 | C29: 1418.32 | D29: 1489.94 | E29: 1522.26 | F29: 1491.25 | G29: =E29/D29-1 -> 0.021692149 | H29: =E29/B29-1 -> 0.034439174 | I29: =F29/C29-1 -> 0.05141999
A30: Renty rodzinne za przekazane gospodarstwo rolne Państwu | B30: 1737.31 | C30: 1723.82 | D30: 1809.84 | E30: 1832.1 | F30: 1804.98 | G30: =E30/D30-1 -> 0.01229943 | H30: =E30/B30-1 -> 0.054561362 | I30: =F30/C30-1 -> 0.047081482
A31: Renty rodzinne za przekazane gospodarstwo rolne następcy | B31: 1709.73 | C31: 1686.82 | D31: 1774.15 | E31: 1778.22 | F31: 1763.86 | G31: =E31/D31-1 -> 0.0022940563 | H31: =E31/B31-1 -> 0.040058957 | I31: =F31/C31-1 -> 0.045671737
A32: Renty rodzinne nie związane z przekazaniem gospodarstwa rolnego | B32: 1590.66 | C32: 1570.58 | D32: 1692.36 | E32: 1669.44 | F32: 1659.68 | G32: =E32/D32-1 -> -0.013543218 | H32: =E32/B32-1 -> 0.049526612 | I32: =F32/C32-1 -> 0.056730635
A33: 1) Kwota nie obejmuje należnych świadczeń z innych systemów ubezpieczeniowych, wypłacanych w tzw. zbiegu z emeryturą lub rentą rolną.

Sheet Tab 8 (21)
A1: ='Tab 1 (14)'!A1 -> II. FUNDUSZ EMERYTALNO-RENTOWY
A3: TABLICA 8 (21). PRZECIĘTNE MIESIĘCZNE ŚWIADCZENIE EMERYTALNO-RENTOWE WEDŁUG WOJEWÓDZTW ORAZ PRZECIĘTNE MIESIĘCZNE ŚWIADCZENIE EMERYTALNE WYPŁACONE PRZEZ MON, MSWiA i MS
A4: Wyszczególnienie | B4: Ogółem1) | C4: w tym:
C5: emerytury | D5: renty razem | E5: z tego:
E6: z tytułu niezdolności do pracy | G6: rodzinne
E7: ogółem | F7: w tym wypadkowe | G7: ogółem | H7: w tym wypadkowe
B9: ='Tab 6 (19)'!B9:H9 -> ROK 2021
B10: w złotych
