Workbook

Sheet Strona tytułowa
B6: KASA ROLNICZEGO UBEZPIECZENIA SPOŁECZNEGO
A15: KWARTALNA INFORMACJA STATYSTYCZNA
A17: IV KWARTAŁ 2021 R.
A34: Warszawa 2022 rok

Sheet Spis treści
A1: SPIS TREŚCI
B2: Nr | C2: Str.
A3: Uwagi wstępne | B3: x | C3: 5
A4: Objaśnienia znaków umownych | B4: x | C4: 11
A5: Objaśnienia skrótów | B5: x | C5: 11
A6: SPIS TABLIC STATYSTYCZNYCH
A7: I. EMERYTURY I RENTY REALIZOWANE PRZEZ KRUS
A8: Emerytury i renty | B8: 1 | C8: 12
A9: Zwiększenia do emerytur i rent finansowane z Funduszu Emerytalno-Rentowego, wypłacane przy świadczeniach pracowniczych | B9: 2 | C9: 13
A10: Wnioski o przyznanie emerytur i rent według rodzajów świadczeń | B10: 3 | C10: 13
A11: Decyzje i postępowania umorzone w sprawach o emerytury i renty według rodzajów świadczeń | B11: 4 | C11: 14
A12: Decyzje i postępowania umorzone w sprawach o emerytury i renty według województw | B12: 5 | C12: 14
A13: Odwołania od decyzji Prezesa KRUS | B13: 6 | C13: 15
A14: Sposób roztrzygnięcia odwołań od decyzji Prezesa KRUS przez sądy I instancji | B14: 7 | C14: 15
A15: Wnioski o przyznanie emerytur i rent rolniczych rozpatrywane z zastosowaniem przepisów wspólnotowych UE | B15: 8 | C15: 16
A16: Decyzje w sprawach wniosków o przyznanie emerytur i rent rolniczych z zastosowaniem przepisów wspólnotowych UE | B16: 9 | C16: 16
A17: Wnioski o przyznanie emerytur i rent rolniczych z zastosowaniem postanowień umów dwustronnych o zabezpieczeniu społecznym | B17: 10 | C17: 17
A18: Decyzje w sprawach wniosków o przyznanie emerytur i rent rolniczych z zastosowaniem postanowień umów dwustronnych o zabezpieczeniu społecznym | B18: 11 | C18: 17
A19: Świadczenia emerytalno-rentowe transferowane do poszczególnych państw UE/EFTA i Wielkiej Brytanii oraz do innych państw na podstawie umów dwustronnych | B19: 12 | C19: 18
A20: Liczba przekazanych gospodarstw rolnych | B20: 13 | C20: 19
A21: II. FUNDUSZ EMERYTALNO-RENTOWY
A22: 1. EMERYTURY I RENTY
A23: Przeciętna miesięczna liczba emerytur i rent według rodzajów świadczeń | B23: 1 (14) | C23: 20
A24: Liczba ubezpieczonych oraz przeciętna miesięczna liczba świadczeniobiorców według województw | B24: 2 (15) | C24: 21
A25: Przeciętne miesięczne świadczenia emerytalno-rentowe według województw | B25: 3 (16) | C25: 22
A26: Przeciętna miesięczna liczba emerytur i rent według województw oraz świadczeń emerytalnych wypłaconych przez MON, MSWiA i MS | B26: 4 (17) | C26: 23
A27: Wydatki na świadczenia emerytalno-rentowe według rodzajów świadczeń | B27: 5 (18) | C27: 24
A28: Wydatki na świadczenia emerytalno-rentowe według województw oraz świadczenia emerytalne wypłacone przez MON, MSWiA i MS | B28: 6 (19) | C28: 26
B29: Nr | C29: Str.
A30: Przeciętne miesięczne świadczenie emerytalno-rentowe według rodzajów świadczeń | B30: 7 (20) | C30: 27
A31: Przeciętne miesięczne świadczenie emerytalno-rentowe według województw oraz przeciętne miesięczne świadczenie emerytalne wypłacone przez MON, MSWiA i MS | B31: 8 (21) | C31: 28
A32: Świadczenia emerytalno-rentowe bez dodatków do emerytur i rent | B32: 9 (22) | C32: 29
A33: Liczba świadczeniobiorców według wysokości świadczeń emerytalno-rentowych | B33: 10 (23) | C33: 29
A34: Dodatki płacone przy świadczeniach emerytalno-rentowych | B34: 11 (24) | C34: 30
A35: Liczba osób pobierających emerytury według wieku i płci | B35: 12 (25) | C35: 30
A36: Liczba osób pobierających renty z tytułu niezdolności do pracy według wieku i płci | B36: 13 (26) | C36: 31
A37: 2. ZASIŁKI
A38: Zasiłki macierzyńskie | B38: 14 (27) | C38: 32
A39: Zasiłki macierzyńskie według województw | B39: 15 (28) | C39: 32
A40: Zasiłki pogrzebowe | B40: 16 (29) | C40: 33
A41: Zasiłki pogrzebowe według województw | B41: 17 (30) | C41: 33
A42: III. ŚWIADCZENIA FINANSOWANE Z BUDŻETU PAŃSTWA
A43: Świadczenia finansowane z budżetu państwa zlecone do wypłaty Kasie Rolniczego Ubezpieczenia Społecznego | B43: 1 (31) | C43: 34
A44: IV. FUNDUSZ SKŁADKOWY UBEZPIECZENIA SPOŁECZNEGO ROLNIKÓW
A45: Zasiłki chorobowe i jednorazowe odszkodowania | B45: 1 (32) | C45: 35
A46: Zasiłki chorobowe i jednorazowe odszkodowania według województw | B46: 2 (33) | C46: 35
A47: Wypadki przy pracy rolniczej i choroby zawodowe rolników | B47: 3 (34) | C47: 37
A48: Wypadki i choroby zawodowe, z tytułu których przyznano jednorazowe odszkodowania według województw | B48: 4 (35) | C48: 37
A49: V. UBEZPIECZENIE SPOŁECZNE ROLNIKÓW
A50: Liczba płatników składek według województw | B50: 1 (36) | C50: 39
A51: Liczba ubezpieczonych według statusu ubezpieczonego | B51: 2 (37) | C51: 40
A52: Liczba ubezpieczonych i płatników składek | B52: 3 (38) | C52: 40
A53: Liczba ubezpieczonych według województw | B53: 4 (39) | C53: 41
A54: Liczba ubezpieczonych według wieku i płci | B54: 5 (40) | C54: 42
A55: Liczba ubezpieczonych z tytułu prowadzenia jednocześnie działalności rolniczej i pozarolniczej działalności gospodarczej według województw | B55: 6 (41) | C55: 43
A56: Liczba ubezpieczonych w KRUS objętych jednocześnie ubezpieczeniem społecznym w ZUS z tytułu umowy zlecenia lub pełnienia funkcji w Radzie Nadzorczej według województw | B56: 7 (42) | C56: 43
A57: Przypis i wpływy należności z tytułu składek na ubezpieczenie społeczne rolników według województw | B57: 8 (43) | C57: 44
A58: Decyzje o podleganiu i ustaniu ubezpieczenia społecznego rolników według województw | B58: 9 (44) | C58: 44
B59: Nr | C59: Str.
A60: VI. UBEZPIECZENIE ZDROWOTNE
A61: Liczba osób podlegających ubezpieczeniu zdrowotnemu według województw | B61: 1 (45) | C61: 45
A62: Przypis składek na ubezpieczenie zdrowotne | B62: 2 (46) | C62: 45
A63: SPIS WYKRESÓW
A64: Przeciętna miesięczna liczba świadczeniobiorców na tle liczby ubezpieczonych | B64: 1 | C64: 21
A65: Przeciętne miesięczne świadczenia rolne wypłacane z FER w odniesieniu do świadczeń realizowanych przez KRUS ogółem | B65: 2 | C65: 22
A66: Struktura wydatków na świadczenia finansowane z Funduszu Emerytalno-Rentowego | B66: 3 | C66: 25
A67: Liczba osób pobierających emerytury według wieku i płci | B67: 4 | C67: 30
A68: Liczba osób pobierających renty z tytułu niezdolności do pracy według wieku i płci | B68: 5 | C68: 31
A69: Struktura wydatków na świadczenia finansowane z Funduszu Składkowego | B69: 6 | C69: 36
A70: Wypadki przy pracy rolniczej | B70: 7 | C70: 38
A71: Liczba ubezpieczonych mężczyzn i kobiet w odniesieniu do ubezpieczonych ogółem | B71: 8 | C71: 42

Sheet Uwagi wstępne
A1: UWAGI WSTĘPNE
B2: Kwartalna Informacja Statystyczna zawiera podstawowe dane, zagregowane tematycznie, dotyczące realizacji zadań wynikających z ustawy z dnia 20 grudnia 1990 r. o ubezpieczeniu społecznym rolników oraz zadań zleconych do wypłaty Kasie Rolniczego Ubezpieczenia Społecznego.
B3: Ze względu na zaokrąglenia danych, w niektórych przypadkach sumy składników mogą się różnić od podanych wielkości "ogółem".
B4: Przeciętne i wskaźniki obliczono z reguły na podstawie danych liczbowych, wyrażonych z większą dokładnością niż podano w tablicach.
A5: I. | B5: Dział Emerytury i renty realizowane przez KRUS zawiera informacje dotyczące m.in. przyznawania i wypłat świadczeń emerytalno-rentowych.
B6: Kwoty wypłat emerytur i rent wykazywane są łącznie z:
B7: - wypłatami z innych systemów ubezpieczeniowych w przypadku zbiegu uprawnień do świadczeń z tych systemów z uprawnieniami do świadczeń z funduszu emerytalno-rentowego,
B8: - wypłatami dokonywanymi w związku z zatrudnieniem poza rolnictwem, czynną służbą wojskową i działalnością kombatancką na podstawie art. 25 ust. 2a ustawy o ubezpieczeniu społecznym rolników,
B9: Ponadto:
B10: - emerytury prezentowane są łącznie z rodzicielskimi świadczeniami uzupełniającymi, ze świadczeniami rolnymi w wysokości 50% ze względu na uprawnienia do świadczeń pracowniczych zbiegających się ze świadczeniami zagranicznymi oraz z emeryturami finansowanymi z funduszu emerytalno-rentowego, a wypłaconymi przez MON, MSWiA, MS,
B11: - renty prezentowane są łącznie z rentami socjalnymi.
B12: Świadczenia pracownicze wypłacane przy świadczeniach rolniczych, finansowane są z Funduszu Ubezpieczeń Społecznych, którym dysponuje Zakład Ubezpieczeń Społecznych.
B13: W związku z akcesją Polski do Unii Europejskiej, KRUS realizuje zadania wynikające z przepisów rozporządzeń unijnych w sprawie koordynacji systemów zabezpieczenia społecznego. Zadania te realizuje Centrala KRUS jako instytucja łącznikowa oraz wytypowane jednostki organizacyjne KRUS, pełniące funkcję instytucji właściwych w postępowaniu międzynarodowym, są to: Oddział Regionalny KRUS w Krakowie – Wydział Świadczeń Zagranicznych w Nowym Sączu oraz Placówka Terenowa KRUS w Ostrowie Wielkopolskim.
B14: Ponadto Kasa realizuje zadania wynikające z zawartych umów dwustronnych o zabezpieczeniu społecznym. Zadania te realizuje Centrala KRUS, jako instytucja łącznikowa oraz Oddział Regionalny KRUS w Krakowie - Wydział Świadczeń Zagranicznych w Nowym Sączu, pełniący funkcje instytucji właściwej w postępowaniu międzynarodowym.
A15: II. | B15: Dział Fundusz Emerytalno-Rentowy zawiera informacje dotyczące świadczeń pieniężnych z ubezpieczenia emerytalno-rentowego, finansowanych z funduszu emerytalno-rentowego, tj.:
B16: • emerytura rolnicza przysługuje ubezpieczonemu (rolnikowi, domownikowi), który spełnia łącznie następujące warunki:
B17: - osiągnął wiek emerytalny - który wynosi 60 lat dla kobiety i 65 lat dla mężczyzny,
B18: - podlegał ubezpieczeniu emerytalno-rentowemu przez okres co najmniej 25 lat.
B19: Emerytury prezentowane są łącznie ze świadczeniami rolnymi w wysokości 50% ze względu na uprawnienia do świadczeń pracowniczych zbiegających się ze świadczeniami zagranicznymi oraz z emeryturami finansowanymi z funduszu emerytalno-rentowego, a wypłaconymi przez MON, MSWiA i MS.
B20: • renta rolnicza z tytułu niezdolności do pracy przysługuje ubezpieczonemu (rolnikowi, domownikowi), który spełnia łącznie następujące warunki:
B21: - podlegał ubezpieczeniu emerytalno-rentowemu przez wymagany okres wynoszący od 1 roku do 5 lat w zależności od wieku, w jakim powstała całkowita niezdolność do pracy.
B22: - jest trwale lub okresowo całkowicie niezdolny do pracy w gospodarstwie rolnym,
B23: - całkowita niezdolność do pracy w gospodarstwie rolnym powstała w okresie podlegania ubezpieczeniu emerytalno-rentowemu lub nie później niż w ciągu 18 miesięcy od ustania tych okresów,
B24: • renta rodzinna przysługuje uprawnionym członkom rodziny zmarłego emeryta/rencisty oraz ubezpieczonego, który w chwili śmierci spełniał warunki do uzyskania emerytury rolniczej lub renty rolniczej z tytułu niezdolności do pracy.
B25: Za członków rodziny uprawnionych do renty rodzinnej uznaje się przede wszystkim dzieci do ukończenia 16 lat, a jeżeli przekroczyły ten wiek - do ukończenia nauki w szkole, nie dłużej jednak niż do osiągnięcia 25 lat życia oraz dzieci bez względu na wiek, jeżeli w okresie nauki stały się całkowicie niezdolne do pracy. Ponadto, jeżeli dziecko osiągnęło 25 lat życia, będąc na ostatnim roku studiów, prawo do renty rodzinnej przedłuża się do zakończenia tego roku studiów. Na równi z dziećmi traktowane są przyjęte na utrzymanie i wychowanie wnuki oraz rodzeństwo.
B26: Z prawa do renty rodzinnej mogą korzystać także małżonek zmarłego (wdowa, wdowiec) i rodzice, o ile spełnią warunki do tego świadczenia. Wszystkim uprawnionym członkom rodziny przysługuje jedna wspólna renta rodzinna, która może ulec podziałowi pomiędzy uprawnionych na równe części.
B27: • dodatek pielęgnacyjny przysługuje osobie uprawnionej do emerytury lub renty, jeżeli osoba ta została uznana za całkowicie niezdolną do pracy oraz do samodzielnej egzystencji albo ukończyła 75 lat.
... B42: Kwota nie obejmuje należnych świadczeń z innych systemów ubezpieczeniowych, wypłacanych w tzw. zbiegu z emeryturą lub rentą rolną.
A43: III. | B43: Dział Świadczenia finansowane z budżetu państwa zawiera informacje dotyczące świadczeń finansowanych z budżetu państwa zleconych do wypłaty KRUS, tj.:
B44: - świadczeń pieniężnych dla inwalidów wojennych, wojskowych i osób represjonowanych,
B45: - zasiłków pogrzebowych wypłaconych po osobach pobierających wyżej wymienione świadczenia i po członkach ich rodzin,
B46: - dodatków kombatanckich,
B47: - dodatków pieniężnych dla inwalidów wojennych,
B48: - ryczałtów energetycznych,
B49: - świadczeń pieniężnych dla żołnierzy zastępczej służby wojskowej,
B50: - świadczeń pieniężnych dla osób deportowanych do pracy przymusowej,
B51: - dodatków kompensacyjnych,
B52: - świadczeń pieniężnych dla cywilnych niewidomych ofiar działań wojennych,
B53: - dodatków dla weterana poszkodowanego,
B54: - rodzicielskich świadczeń uzupełniających,
B55: - rent socjalnych,
... B57: - świadczeń wyrównawczych dla działaczy opozycji antykomunistycznej oraz osób represjonowanych z powodów politycznych.
A58: IV. | B58: Dział Fundusz Składkowy Ubezpieczenia Społecznego Rolników zawiera informacje dotyczące świadczeń pieniężnych z ubezpieczenia wypadkowego, chorobowego i macierzyńskiego tj.:
B59: • zasiłek chorobowy przysługujący ubezpieczonemu (rolnikowi, domownikowi), który wskutek choroby jest niezdolny do pracy nieprzerwanie co najmniej przez 30 dni, nie dłużej jednak niż przez 180 dni. Jeżeli po wyczerpaniu 180-dniowego okresu zasiłkowego ubezpieczony jest nadal niezdolny do pracy, a w wyniku dalszego leczenia i rehabilitacji rokuje odzyskanie zdolności do pracy, okres zasiłkowy przedłuża się na czas niezbędny do jej przywrócenia, nie dłużej niż o dalsze 360 dni.
B60: • jednorazowe odszkodowanie przysługujące ubezpieczonemu (rolnikowi, domownikowi, pomocnikowi rolnika), który doznał stałego lub długotrwałego uszczerbku na zdrowiu wskutek wypadku przy pracy rolniczej lub rolniczej choroby zawodowej oraz członkom rodziny ubezpieczonego, który zmarł wskutek wypadku przy pracy rolniczej lub rolniczej choroby zawodowej.
B61: Za wypadek przy pracy rolniczej uważa się nagłe zdarzenie wywołane przyczyną zewnętrzną, które nastąpiło podczas wykonywania czynności związanych z prowadzeniem działalności rolniczej albo pozostających w związku z wykonywaniem tych czynności: na terenie gospodarstwa rolnego, które ubezpieczony prowadzi lub w którym stale pracuje, albo na terenie gospodarstwa domowego bezpośrednio związanego z tym gospodarstwem rolnym lub w drodze ubezpieczonego z mieszkania do gospodarstwa rolnego, albo w drodze powrotnej lub podczas wykonywania poza terenem gospodarstwa rolnego zwykłych czynności związanych z prowadzeniem działalności rolniczej lub w związku z wykonywaniem tych czynności lub w drodze do miejsca wykonywania czynności poza terenem gospodarstwa rolnego związanych z prowadzeniem działalności rolniczej, albo w drodze powrotnej.
B62: W przypadku pomocnika rolnika za wypadek przy pracy rolniczej uznaje się nagłe zdarzenie wywołane przyczyną zewnętrzną, która nastąpiła podczas wykonywania przez pomocnika rolnika czynności określonych w umowie o pomocy przy zbiorach.
B63: Jednorazowe odszkodowanie dla ubezpieczonego z tytułu wypadku przy pracy rolniczej lub rolniczej choroby zawodowej ustala się w wysokości proporcjonalnej do określonego procentowo stałego lub długotrwałego uszczerbku na zdrowiu.
A64: V. | B64: Dział Ubezpieczenie Społeczne Rolników zawiera informacje dotyczące:
B65: • liczby płatników składek – tj. osób opłacających składki, za co najmniej jednego ubezpieczonego w gospodarstwie rolnym/dziale specjalnym produkcji rolnej lub za ubezpieczonego pobierającego rentę strukturalną lub na koncie, których, za co najmniej jedną osobę składka jest finansowana z dotacji budżetu państwa z tytułu sprawowania osobistej opieki nad dzieckiem oraz podmiotów – wójtów, burmistrzów, prezydentów miast opłacających składki na ubezpieczenie za osoby sprawujące opiekę nad osobami niepełnosprawnymi oraz liczbę osób lub podmiotów nie będących aktualnie płatnikiem czynnym, ale posiadających zadłużenie z tytułu nieopłaconych składek na ubezpieczenie,
B66: Renty strukturalne są przyznane i wypłacane przez Agencję Restrukturyzacji i Modernizacji Rolnictwa zgodnie z ustawą z dnia 28 listopada 2003 r. o wspieraniu rozwoju obszarów wiejskich ze środków pochodzących z Sekcji Gwarancji Europejskiego Funduszu Orientacji i Gwarancji Rolnej.
B67: • liczby ubezpieczonych, tj. rolników / współmałżonków i pracujących z nimi domowników, pomocników rolnika, osób ubezpieczonych na wniosek z tytułu przyznania świadczenia pielęgnacyjnego lub specjalnego zasiłku opiekuńczego albo zasiłku dla opiekuna, a także osób będących członkami rodziny (rolnika lub domownika) sprawujących opiekę nad dzieckiem, objętych ubezpieczeniem społecznym rolników, zgodnie z zasadami określonymi w ustawie z dnia 20 grudnia 1990 r. o ubezpieczeniu społecznym rolników.
B68: W ubezpieczeniu społecznym rolników występują dwa rodzaje ubezpieczeń:
B69: - ubezpieczenie wypadkowe, chorobowe i macierzyńskie (świadczenia z tego ubezpieczenia finansowane są z funduszu składkowego),
B70: - ubezpieczenie emerytalno-rentowe (świadczenia z tego ubezpieczenia finansowane są z funduszu emerytalno-rentowego)
B71: W ramach każdego z tych ubezpieczeń występuje ubezpieczenie z mocy ustawy (obowiązkowe) i ubezpieczenie na wniosek (dobrowolne).
B72: Z mocy ustawy (obowiązkowo) obydwoma rodzajami ubezpieczenia obejmowany jest:
B73: • rolnik, tj.: pełnoletnia osoba fizyczna zamieszkująca i prowadząca na terytorium Rzeczypospolitej Polskiej osobiście i na własny rachunek działalność rolniczą w pozostającym w jej posiadaniu gospodarstwie rolnym, o powierzchni powyżej 1 ha przeliczeniowego użytków rolnych (w tym również w ramach grupy producentów rolnych) lub dział specjalny produkcji rolnej, którego rozmiar i rodzaj określa załącznik do ustawy o ubezpieczeniu społecznym rolników, a także osoba, która przeznaczyła grunty prowadzonego przez siebie gospodarstwa do zalesienia,
B74: • małżonek rolnika, jeśli pracuje w gospodarstwie rolnym lub w gospodarstwie domowym bezpośrednio związanym z tym gospodarstwem rolnym,
B75: • domownik, tj.: osoba bliska rolnikowi, która ukończyła 16 lat, pozostaje z rolnikiem we wspólnym gospodarstwie domowym lub zamieszkuje na terenie jego gospodarstwa albo w bliskim sąsiedztwie, stale pracuje w tym gospodarstwie rolnym i nie jest związana z rolnikiem stosunkiem pracy, jeżeli osoby te nie podlegają innemu ubezpieczeniu społecznemu i nie mają ustalonego prawa do emerytury lub renty albo nie mają ustalonego prawa do świadczeń z ubezpieczeń społecznych.
B76: Zgodnie z brzmieniem art. 5a ustawy o ubezpieczeniu społecznym rolników, rolnik lub domownik, który rozpoczyna prowadzenie pozarolniczej działalności gospodarczej lub rozpoczyna współpracę przy prowadzeniu tej działalności, może nadal podlegać ubezpieczeniu społecznemu rolników, jeśli:
... B109: • liczby wydanych decyzji o podleganiu i ustaniu ubezpieczenia społecznego rolników.
A110: VI. | B110: Dział Ubezpieczenie Zdrowotne zawiera dane statystyczne dotyczące realizowanych przez KRUS zadań na podstawie ustawy z dnia 27 sierpnia 2004 r. o świadczeniach opieki zdrowotnej finansowanych ze środków publicznych.
B111: Ubezpieczeniu zdrowotnemu podlegają:
B112: • osoby spełniające warunki do objęcia ubezpieczeniem społecznym rolników, które są rolnikami, małżonkami lub domownikami w rozumieniu przepisów ustawy o ubezpieczeniu społecznym rolników,
B113: • pomocnicy rolnika w rozumieniu przepisów ustawy o ubezpieczeniu społecznym rolników,
B114: • rolnicy i ich domownicy, którzy nie podlegają ubezpieczeniu społecznemu rolników z mocy ustawy o ubezpieczeniu społecznym rolników, niepodlegający ubezpieczeniu zdrowotnemu z innego tytułu;
B115: • członkowie rodzin wyżej wymienionych rolników i domowników, którzy nie podlegają ubezpieczeniu zdrowotnemu z innego tytułu i zostali zgłoszeni do ubezpieczenia zdrowotnego w KRUS.
B116: Składki na ubezpieczenie zdrowotne za rolników objętych tym ubezpieczeniem, którzy prowadzą działalność rolniczą na gruntach rolnych poniżej 6 ha przeliczeniowych oraz za ich domowników, finansowane są przez budżet państwa. Natomiast rolnicy prowadzący gospodarstwa rolne o powierzchni 6 i więcej hektarów przeliczeniowych użytków rolnych składkę na ubezpieczenie zdrowotne za siebie, małżonków i domowników podlegających temu ubezpieczeniu, opłacają indywidualnie w wysokości 1 zł miesięcznie od każdego pełnego hektara przeliczeniowego użytków rolnych. Również indywidualnie opłacana jest składka przez rolników, prowadzących działalność rolniczą w ramach działów specjalnych w rozumieniu przepisów ustawy o ubezpieczeniu społecznym rolników (niezależnie czy działalność ta prowadzona jest wyłącznie w samoistnym dziale specjalnym, czy też dodatkowo na użytkach rolnych).
B117: Rolnik prowadzący dział specjalny produkcji rolnej opłaca składki zdrowotne na swoje ubezpieczenie od deklarowanej podstawy wymiaru składki odpowiadającej:
B118: - dochodowi ustalonemu dla opodatkowania podatkiem dochodowym od osób fizycznych, w kwocie nie niższej jednak niż kwota odpowiadająca wysokości minimalnego wynagrodzenia bądź,
B119: - minimalnemu wynagrodzeniu w przypadku prowadzenia działalności niepodlegającej opodatkowaniu podatkiem dochodowym od osób fizycznych.
B120: Składka na ubezpieczenie zdrowotne za domowników opłacana jest w zależności od zakresu prowadzonej przez rolnika działalności rolniczej:
B121: • w przypadku prowadzenia działów specjalnych łącznie z gospodarstwem rolnym o powierzchni użytków rolnych 6 i więcej hektarów przeliczeniowych rolnik opłaca składkę na ubezpieczenie zdrowotne od użytków rolnych (1 zł za 1 hektar przeliczeniowy),
B122: • w przypadku prowadzenia wyłącznie działów specjalnych rolnik opłaca składkę na ubezpieczenie zdrowotne w wysokości 9 % podstawy wymiaru, który stanowi kwota 33,4% przeciętnego miesięcznego wynagrodzenia w sektorze przedsiębiorstw w czwartym kwartale roku poprzedniego włącznie z wypłatami z zysku,
... B130: Składka zdrowotna za emerytów i rencistów wynosi 9% podstawy wymiaru, z czego ubezpieczony finansuje składkę w wysokości 1,25% podstawy z kwoty netto emerytury lub renty (z wyłączeniem dodatków, świadczeń pieniężnych i ryczałtu energetycznego oraz do deputatu węglowego). Natomiast składka pomniejszająca zaliczkę na podatek dochodowy stanowi 7,75% podstawy.

Sheet Objaśnienia i skróty
A1: OBJAŚNIENIA ZNAKÓW UMOWNYCH
A3: Symbol | B3: Opis
A4: Kreska (-) | B4: zjawisko nie wystąpiło
A5: Zero (0) | B5: zjawisko istniało w wielkości mniejszej od 0,5
A6: Zero (0,0) | B6: zjawisko istniało w wielkości mniejszej od 0,05
A7: Kropka (.) | B7: brak informacji albo brak informacji wiarygodnych
A8: Znak (x) | B8: wypełnienie pozycji jest niemożliwe lub niecelowe
A9: „w tym” | B9: oznacza, że nie podaje się wszystkich składników sumy
A10: "z tego" | B10: oznacza, że podaje się wszystkie składniki sumy
A12: OBJAŚNIENIA SKRÓTÓW
A14: Skrót | B14: Znaczenie
A15: KRUS | B15: Kasa Rolniczego Ubezpieczenia Społecznego
A16: ZUS | B16: Zakład Ubezpieczeń Społecznych
A17: Fundusz Składkowy | B17: Fundusz Składkowy Ubezpieczenia Społecznego Rolników
A18: MON | B18: Ministerstwo Obrony Narodowej
A19: MSWiA | B19: Zakład Emerytalno-Rentowy Ministerstwa Spraw Wewnętrznych i Administracji
A20: MS | B20: Ministerstwo Sprawiedliwości
A21: NFZ | B21: Narodowy Fundusz Zdrowia
A22: FER | B22: Fundusz Emerytalno-Rentowy
A23: UE | B23: Unia Europejska
A24: EFTA | B24: Europejskie Stowarzyszenie Wolnego Handlu
A25: zł | B25: złoty

Sheet Tab 1
A1: I. EMERYTURY I RENTY REALIZOWANE PRZEZ KRUS
A2: TABLICA 1. EMERYTURY I RENTY
A3: Wyszczególnienie | B3: 2020 rok | D3: 2021 rok
B4: IV kwartał | C4: Rok | D4: III kwartał | E4: IV kwartał | F4: Rok | G4: porównanie (wzrost/spadek)
G5: IV kwartału 2021 r. z III kwartałem 2021 r. | H5: IV kwartału 2021 r. z IV kwartałem 2020 r. | I5: Roku 2021 z rokiem 2020
A6: OGÓŁEM
A7: Przeciętna miesięczna liczba świadczeniobiorców | B7: 1069204 | C7: 1083411 | D7: 1030578 | E7: 1020809 | F7: 1036621 | G7: =E7/D7-1 -> -0.0094791467 | H7: =E7/B7-1 -> -0.045262644 | I7: =F7/C7-1 -> -0.043187673
A8: w tym świadczenia zbiegowe pracownicze | B8: 52124 | C8: 55096 | D8: 44941 | E8: 43260 | F8: 46078 | G8: =E8/D8-1 -> -0.037404597 | H8: =E8/B8-1 -> -0.17005602 | I8: =F8/C8-1 -> -0.16367794
A9: Kwota wypłat w zł | B9: 4.4530902e+09 | C9: 1.7894769e+10 | D9: 4.4451043e+09 | E9: 4.399271e+09 | F9: 1.777399e+10 | G9: =E9/D9-1 -> -0.01031096 | H9: =E9/B9-1 -> -0.012085812 | I9: =F9/C9-1 -> -0.0067494069
A10: w tym świadczenia zbiegowe pracownicze | B10: 2.367856e+08 | C10: 9.9262901e+08 | D10: 2.1402364e+08 | E10: 2.0580252e+08 | F10: 8.6972347e+08 | G10: =E10/D10-1 -> -0.038412186 | H10: =E10/B10-1 -> -0.13084866 | I10: =F10/C10-1 -> -0.12381821
A11: Przeciętne świadczenie w zł | B11: 1388.29 | C11: 1376.42 | D11: 1437.74 | E11: 1436.53 | F11: 1428.84 | G11: =E11/D11-1 -> -0.00084159862 | H11: =E11/B11-1 -> 0.034747783 | I11: =F11/C11-1 -> 0.038084306
A12: EMERYTURY
A13: Przeciętna miesięczna liczba świadczeniobiorców | B13: 841533 | C13: 853823 | D13: 805439 | E13: 797948 | F13: 811029 | G13: =E13/D13-1 -> -0.0093005181 | H13: =E13/B13-1 -> -0.051792384 | I13: =F13/C13-1 -> -0.050120458
A14: Kwota wypłat w zł | B14: 3.5191478e+09 | C14: 1.4176003e+10 | D14: 3.49346e+09 | E14: 3.4542994e+09 | F14: 1.3978505e+10 | G14: =E14/D14-1 -> -0.011209686 | H14: =E14/B14-1 -> -0.01842728 | I14: =F14/C14-1 -> -0.013931846
A15: Przeciętne świadczenie w zł | B15: 1393.94 | C15: 1383.58 | D15: 1445.78 | E15: 1442.99 | F15: 1436.29 | G15: =E15/D15-1 -> -0.0019297542 | H15: =E15/B15-1 -> 0.035188028 | I15: =F15/C15-1 -> 0.038096821
A16: RENTY Z TYTUŁU NIEZDOLNOŚCI DO PRACY
A17: Przeciętna miesięczna liczba świadczeniobiorców | B17: 186667 | C17: 187601 | D17: 183359 | E17: 181836 | F17: 183887 | G17: =E17/D17-1 -> -0.0083061099 | H17: =E17/B17-1 -> -0.025880311 | I17: =F17/C17-1 -> -0.019797336
A18: w tym renty z tytułu niezdolności do pracy wypadkowe | B18: 12388 | C18: 12455 | D18: 12216 | E18: 12142 | F18: 12243 | G18: =E18/D18-1 -> -0.0060576293 | H18: =E18/B18-1 -> -0.019857927 | I18: =F18/C18-1 -> -0.017021277
A19: Kwota wypłat w zł | B19: 7.0872124e+08 | C19: 2.8292301e+09 | D19: 7.1877768e+08 | E19: 7.1181755e+08 | F19: 2.8665393e+09 | G19: =E19/D19-1 -> -0.0096832828 | H19: =E19/B19-1 -> 0.0043688637 | I19: =F19/C19-1 -> 0.013187071
A20: w tym renty z tytułu niezdolności do pracy wypadkowe | B20: 51352344 | C20: 2.0413878e+08 | D20: 52475853 | E20: 52385627 | F20: 2.0921688e+08 | G20: =E20/D20-1 -> -0.0017193775 | H20: =E20/B20-1 -> 0.02012143 | I20: =F20/C20-1 -> 0.024875736
A21: Przeciętne świadczenie w zł | B21: 1265.57 | C21: 1256.76 | D21: 1306.69 | E21: 1304.87 | F21: 1299.05 | G21: =E21/D21-1 -> -0.0013928323 | H21: =E21/B21-1 -> 0.031053201 | I21: =F21/C21-1 -> 0.033650021
A22: RENTY RODZINNE
A23: Przeciętna miesięczna liczba świadczeniobiorców | B23: 41004 | C23: 41988 | D23: 41780 | E23: 41026 | F23: 41704 | G23: =E23/D23-1 -> -0.018046912 | H23: =E23/B23-1 -> 0.00053653302 | I23: =F23/C23-1 -> -0.0067638373
A24: Kwota wypłat w zł | B24: 2.2519557e+08 | C24: 8.8943212e+08 | D24: 2.328421e+08 | E24: 2.3313149e+08 | F24: 9.2884757e+08 | G24: =E24/D24-1 -> 0.0012428759 | H24: =E24/B24-1 -> 0.035240117 | I24: =F24/C24-1 -> 0.044315297
A25: Przeciętne świadczenie w zł | B25: 1830.66 | C25: 1765.26 | D25: 1857.68 | E25: 1894.19 | F25: 1856.03 | G25: =E25/D25-1 -> 0.019653546 | H25: =E25/B25-1 -> 0.034703331 | I25: =F25/C25-1 -> 0.051420187
A26: ŚWIADCZENIA PIENIĘŻNE DLA CYWILNYCH NIEWIDOMYCH OFIAR DZIAŁAŃ WOJENNYCH
A27: Kwota wypłat w zł | B27: 25676.88 | C27: 103317.92 | D27: 24529.71 | E27: 22559.85 | F27: 97427 | G27: =E27/D27-1 -> -0.080305067 | H27: =E27/B27-1 -> -0.12139442 | I27: =F27/C27-1 -> -0.057017435

Sheet Tab 2 i 3
A1: ='Tab 1'!A1:I1 -> I. EMERYTURY I RENTY REALIZOWANE PRZEZ KRUS
A3: TABLICA 2. ZWIĘKSZENIA DO EMERYTUR I RENT FINANSOWANE Z FUNDUSZU EMERYTALNO-RENTOWEGO, WYPŁACANE PRZY ŚWIADCZENIACH PRACOWNICZYCH
A4: Wyszczególnienie | B4: 2020 rok | D4: 2021 rok
B5: IV kwartał | C5: Rok | D5: III kwartał | E5: IV kwartał | F5: Rok | G5: porównanie (wzrost/spadek)
G6: IV kwartału 2021 r. z III kwartałem 2021 r. | H6: IV kwartału 2021 r. z IV kwartałem 2020 r. | I6: Roku 2021 z rokiem 2020
A7: OGÓŁEM
A8: Przeciętna miesięczna liczba osób | B8: 643824 | C8: 644814 | D8: 633933 | E8: 634045 | F8: 635167 | G8: =E8/D8-1 -> 0.00017667482 | H8: =E8/B8-1 -> -0.015188934 | I8: =F8/C8-1 -> -0.014960903
A9: Kwota wypłat w zł | B9: 1.8090962e+08 | C9: 7.1390774e+08 | D9: 1.8952492e+08 | E9: 1.8938694e+08 | F9: 7.4731939e+08 | G9: =E9/D9-1 -> -0.00072803058 | H9: =E9/B9-1 -> 0.046859426 | I9: =F9/C9-1 -> 0.046801075
A10: EMERYTURY
A11: Przeciętna miesięczna liczba osób | B11: 518360 | C11: 518169 | D11: 510043 | E11: 511062 | F11: 511289 | G11: =E11/D11-1 -> 0.0019978708 | H11: =E11/B11-1 -> -0.014079018 | I11: =F11/C11-1 -> -0.013277521
A12: Kwota wypłat w zł | B12: 1.606155e+08 | C12: 6.3300596e+08 | D12: 1.6800922e+08 | E12: 1.6813323e+08 | F12: 6.6310324e+08 | G12: =E12/D12-1 -> 0.00073812945 | H12: =E12/B12-1 -> 0.046805733 | I12: =F12/C12-1 -> 0.047546609
A13: RENTY Z TYTUŁU NIEZDOLNOŚCI DO PRACY
A14: Przeciętna miesięczna liczba osób | B14: 11239 | C14: 11479 | D14: 10701 | E14: 10448 | F14: 10713 | G14: =E14/D14-1 -> -0.02364265 | H14: =E14/B14-1 -> -0.070379927 | I14: =F14/C14-1 -> -0.066730551
A15: Kwota wypłat w zł | B15: 3184093 | C15: 12917124 | D15: 3154408.1 | E15: 3064605.5 | F15: 12410681 | G15: =E15/D15-1 -> -0.028468898 | H15: =E15/B15-1 -> -0.037526366 | I15: =F15/C15-1 -> -0.039207115
A16: RENTY RODZINNE
A17: Przeciętna miesięczna liczba osób | B17: 114225 | C17: 115167 | D17: 113189 | E17: 112534 | F17: 113164 | G17: =E17/D17-1 -> -0.0057867814 | H17: =E17/B17-1 -> -0.014804115 | I17: =F17/C17-1 -> -0.017392135
A18: Kwota wypłat w zł | B18: 17110026 | C18: 67984662 | D18: 18361298 | E18: 18189108 | F18: 71805468 | G18: =E18/D18-1 -> -0.0093778757 | H18: =E18/B18-1 -> 0.063067246 | I18: =F18/C18-1 -> 0.056201003
A20: TABLICA 3. WNIOSKI O PRZYZNANIE EMERYTUR I RENT WEDŁUG RODZAJÓW ŚWIADCZEŃ
A21: Wyszczególnienie | B21: Wnioski pozostałe z poprzedniego okresu | C21: Zarejestrowane wnioski | D21: Załatwione wnioski | F21: Wnioski pozostałe do załatwienia w następnym okresie
D22: Razem | E22: w tym po terminie ustawowym
B23: IV KWARTAŁ 2021 R.
A24: OGÓŁEM | B24: =B25+B27+B31 -> 18502 | C24: =C25+C27+C31 -> 19629 | D24: =D25+D27+D31 -> 19828 | E24: =E25+E27+E31 -> 2 | F24: =F25+F27+F31 -> 18303
A25: Emerytury razem | B25: 1370 | C25: 4371 | D25: 4466 | E25: 0 | F25: 1275
A26: w tym wcześniejsze | B26: 2 | C26: 5 | D26: 5 | E26: 0 | F26: 2
A27: Renty razem, z tego: | B27: =B28+B30 -> 17132 | C27: =C28+C30 -> 15258 | D27: =D28+D30 -> 15362 | E27: =E28+E30 -> 2 | F27: =F28+F30 -> 17028
A28: Renty z tytułu niezdolności do pracy | B28: 16840 | C28: 13984 | D28: 14153 | E28: 2 | F28: 16671
A29: w tym renty z tytułu niezdolności do pracy wypadkowe | B29: 744 | C29: 670 | D29: 619 | E29: 0 | F29: 795
A30: Renty rodzinne | B30: 292 | C30: 1274 | D30: 1209 | E30: 0 | F30: 357
A31: Emerytury i renty z art. 9 ustawy z dnia 24 lutego 1990 r. | B31: 0 | C31: 0 | D31: 0 | E31: 0 | F31: 0

Sheet Tab 4 i 5
A1: ='Tab 2 i 3'!A1:I1 -> I. EMERYTURY I RENTY REALIZOWANE PRZEZ KRUS
A2: TABLICA 4. DECYZJE I POSTĘPOWANIA UMORZONE W SPRAWACH O EMERYTURY I RENTY WEDŁUG RODZAJÓW ŚWIADCZEŃ
A3: Wyszczególnienie | B3: Liczba wydanych decyzji i postępowań umorzonych | C3: Liczba wydanych decyzji | G3: Postępowania umorzone
C4: Ogółem | D4: przyznających świadczenia | E4: odmownych | F4: udział odmownych decyzji do ogółem wydanych decyzji
B5: ROK 2021
A6: OGÓŁEM | B6: =C6+G6 -> 78859 | C6: =D6+E6 -> 77822 | D6: =D7+D9+D13 -> 70546 | E6: =E7+E9 -> 7276 | F6: =E6/C6 -> 0.093495413 | G6: =G7+G9 -> 1037
A7: Emerytury razem | B7: =C7+G7 -> 18303 | C7: =D7+E7 -> 18120 | D7: 16255 | E7: 1865 | F7: =E7/C7 -> 0.10292494 | G7: 183
A8: w tym wcześniejsze | B8: =C8+G8 -> 37 | C8: =D8+E8 -> 35 | D8: 28 | E8: 7 | F8: =E8/C8 -> 0.2 | G8: 2
A9: Renty razem, z tego: | B9: =C9+G9 -> 60556 | C9: =D9+E9 -> 59702 | D9: 54291 | E9: 5411 | F9: =E9/C9 -> 0.09063348 | G9: 854
A10: Renty z tytułu niezdolności do pracy razem | B10: =C10+G10 -> 55787 | C10: =D10+E10 -> 55043 | D10: 49893 | E10: 5150 | F10: =E10/C10 -> 0.093563214 | G10: 744
A11: w tym renty z tytułu niezdolności do pracy wypadkowe | B11: =C11+G11 -> 2544 | C11: =D11+E11 -> 2520 | D11: 2036 | E11: 484 | F11: =E11/C11 -> 0.19206349 | G11: 24
A12: Renty rodzinne | B12: =C12+G12 -> 4769 | C12: =D12+E12 -> 4659 | D12: 4398 | E12: 261 | F12: =E12/C12 -> 0.056020605 | G12: 110
A13: Emerytury i renty z art. 9 ustawy z dnia 24 lutego 1990 r. | B13: =C13+G13 -> 0 | C13: =D13+E13 -> 0 | D13: 0 | E13: 0 | F13: - | G13: 0
A15: TABLICA 5. DECYZJE I POSTĘPOWANIA UMORZONE W SPRAWACH O EMERYTURY I RENTY WEDŁUG WOJEWÓDZTW
A16: Wyszczególnienie | B16: Liczba wydanych decyzji i postępowań umorzonych | C16: Liczba wydanych decyzji | G16: Postępowania umorzone
C17: Ogółem | D17: przyznających świadczenia | E17: odmownych | F17: udział odmownych decyzji do ogółem wydanych decyzji
B18: =B5 -> ROK 2021
A19: OGÓŁEM | B19: =SUM(B20:B35) -> 78859 | C19: =SUM(C20:C35) -> 77822 | D19: =SUM(D20:D35) -> 70546 | E19: =SUM(E20:E35) -> 7276 | F19: =E19/C19 -> 0.093495413 | G19: =SUM(G20:G35) -> 1037
A20: dolnośląskie | B20: =C20+G20 -> 2462 | C20: =SUM(D20:E20) -> 2438 | D20: 2180 | E20: 258 | F20: =E20/C20 -> 0.10582445 | G20: 24
A21: kujawsko-pomorskie | B21: =C21+G21 -> 5107 | C21: =SUM(D21:E21) -> 5050 | D21: 4615 | E21: 435 | F21: =E21/C21 -> 0.086138614 | G21: 57
A22: lubelskie | B22: =C22+G22 -> 9762 | C22: =SUM(D22:E22) -> 9632 | D22: 8475 | E22: 1157 | F22: =E22/C22 -> 0.12012043 | G22: 130
A23: lubuskie | B23: =C23+G23 -> 985 | C23: =SUM(D23:E23) -> 963 | D23: 900 | E23: 63 | F23: =E23/C23 -> 0.065420561 | G23: 22
A24: łódzkie | B24: =C24+G24 -> 5520 | C24: =SUM(D24:E24) -> 5468 | D24: 4921 | E24: 547 | F24: =E24/C24 -> 0.10003658 | G24: 52
A25: małopolskie | B25: =C25+G25 -> 9641 | C25: =SUM(D25:E25) -> 9530 | D25: 8821 | E25: 709 | F25: =E25/C25 -> 0.074396642 | G25: 111
A26: mazowieckie | B26: =C26+G26 -> 10444 | C26: =SUM(D26:E26) -> 10357 | D26: 9441 | E26: 916 | F26: =E26/C26 -> 0.088442599 | G26: 87
A27: opolskie | B27: =C27+G27 -> 970 | C27: =SUM(D27:E27) -> 954 | D27: 837 | E27: 117 | F27: =E27/C27 -> 0.12264151 | G27: 16
A28: podkarpackie | B28: =C28+G28 -> 5384 | C28: =SUM(D28:E28) -> 5227 | D28: 4799 | E28: 428 | F28: =E28/C28 -> 0.081882533 | G28: 157
A29: podlaskie | B29: =C29+G29 -> 5410 | C29: =SUM(D29:E29) -> 5344 | D29: 4690 | E29: 654 | F29: =E29/C29 -> 0.12238024 | G29: 66
A30: pomorskie | B30: =C30+G30 -> 3033 | C30: =SUM(D30:E30) -> 3004 | D30: 2794 | E30: 210 | F30: =E30/C30 -> 0.069906791 | G30: 29
A31: śląskie | B31: =C31+G31 -> 2388 | C31: =SUM(D31:E31) -> 2376 | D31: 2167 | E31: 209 | F31: =E31/C31 -> 0.087962963 | G31: 12
... A35: zachodniopomorskie | B35: =C35+G35 -> 1417 | C35: =SUM(D35:E35) -> 1398 | D35: 1254 | E35: 144 | F35: =E35/C35 -> 0.10300429 | G35: 19

Sheet Tab 6 i 7
A1: ='Tab 2 i 3'!A1:I1 -> I. EMERYTURY I RENTY REALIZOWANE PRZEZ KRUS
A2: TABLICA 6. ODWOŁANIA OD DECYZJI PREZESA KRUS
A3: Odwołania | B3: Pozostałe z poprzedniego okresu | C3: Zarejestrowane w okresie sprawozdawczym | D3: Załatwione przez wydanie decyzji uwzględniającej roszczenie | E3: Przekazane do sądu | F3: Załatwione w inny sposób | G3: Pozostałe na następny okres
B4: ROK 2021
A5: OGÓŁEM, dotyczące: | B5: =SUM(B6:B12) -> 265 | C5: =SUM(C6:C12) -> 5869 | D5: =SUM(D6:D12) -> 733 | E5: =SUM(E6:E12) -> 5112 | F5: =SUM(F6:F12) -> 111 | G5: =SUM(G6:G12) -> 178
A6: świadczeń z tytułu wypadku, choroby i macierzyństwa | B6: 38 | C6: 686 | D6: 79 | E6: 601 | F6: 22 | G6: 22
A7: emerytur | B7: 67 | C7: 1057 | D7: 137 | E7: 933 | F7: 24 | G7: 30
A8: rent | B8: 64 | C8: 1912 | D8: 195 | E8: 1688 | F8: 23 | G8: 70
A9: zasiłków macierzyńskich | B9: 0 | C9: 10 | D9: 2 | E9: 7 | F9: 0 | G9: 1
A10: niewydania decyzji w ciągu dwóch miesięcy | B10: 0 | C10: 2 | D10: 0 | E10: 2 | F10: 0 | G10: 0
A11: ubezpieczenia i opłacania składek na ubezpieczenie | B11: 19 | C11: 525 | D11: 100 | E11: 411 | F11: 15 | G11: 18
A12: pozostałych decyzji | B12: 77 | C12: 1677 | D12: 220 | E12: 1470 | F12: 27 | G12: 37
A14: TABLICA 7. SPOSÓB ROZSTRZYGNIĘCIA ODWOŁAŃ OD DECYZJI PREZESA KRUS PRZEZ SĄDY I INSTANCJI
A15: Orzeczenia | B15: Liczba wydanych przez sądy orzeczeń | C15: z tego orzeczenia:
C16: uwzględniające odwołanie | D16: oddalające odwołanie | E16: umarzające postępowanie | F16: pozostałe orzeczenia
B17: =B4 -> ROK 2021
A18: OGÓŁEM, dotyczące: | B18: =SUM(B20:B26) -> 4748 | C18: =SUM(C20:C26) -> 1013 | D18: =SUM(D20:D26) -> 2946 | E18: =SUM(E20:E26) -> 391 | F18: =SUM(F20:F26) -> 398
A19: w tym sprawy, w których kwestionowane są orzeczenia lekarza rzeczoznawcy lub komisji lekarskich KRUS | B19: 2672 | C19: 535 | D19: 1743 | E19: 109 | F19: 285
A20: świadczeń z tytułu wypadku, choroby i macierzyństwa | B20: 613 | C20: 202 | D20: 339 | E20: 48 | F20: 24
A21: emerytur | B21: 875 | C21: 200 | D21: 530 | E21: 85 | F21: 60
A22: rent | B22: 1489 | C22: 315 | D22: 940 | E22: 104 | F22: 130
A23: zasiłków macierzyńskich | B23: 6 | C23: 1 | D23: 5 | E23: 0 | F23: 0
A24: niewydania decyzji w ciągu dwóch miesięcy | B24: 1 | C24: 0 | D24: 0 | E24: 1 | F24: 0
A25: ubezpieczenia i opłacania składek na ubezpieczenie | B25: 384 | C25: 81 | D25: 202 | E25: 67 | F25: 34
A26: pozostałych | B26: 1380 | C26: 214 | D26: 930 | E26: 86 | F26: 150

Sheet Tab 8 i 9
A1: ='Tab 4 i 5'!A1:G1 -> I. EMERYTURY I RENTY REALIZOWANE PRZEZ KRUS
A3: TABLICA 8. WNIOSKI O PRZYZNANIE EMERYTUR I RENT ROLNICZYCH ROZPATRYWANE Z ZASTOSOWANIEM PRZEPISÓW WSPÓLNOTOWYCH UE
A4: Wyszczególnienie | B4: Liczba wniosków pozostałych do załatwienia z poprzedniego okresu sprawozdawczego | C4: Liczba wniosków które wpłynęły w okresie sprawozdawczym | D4: Liczba wniosków przekazanych do instytucji zagranicznych | E4: Liczba spraw załatwionych ogółem | F4: Liczba spraw, w których trwa postępowanie międzynarodowe
B5: ='Tab 2 i 3'!B23:F23 -> IV KWARTAŁ 2021 R.
A6: OGÓŁEM | B6: =B7+B9 -> 858 | C6: =C7+C9 -> 641 | D6: =D7+D9 -> 117 | E6: =E7+E9 -> 656 | F6: =F7+F9 -> 896
A7: Emerytury razem | B7: 262 | C7: 230 | D7: 40 | E7: 238 | F7: 277
A8: w tym wcześniejsze | B8: 19 | C8: 9 | D8: 1 | E8: 13 | F8: 15
A9: Renty razem, z tego: | B9: =B10+B12 -> 596 | C9: =C10+C12 -> 411 | D9: =D10+D12 -> 77 | E9: =E10+E12 -> 418 | F9: =F10+F12 -> 619
A10: Renty z tytułu niezdolności do pracy razem | B10: 507 | C10: 343 | D10: 63 | E10: 341 | F10: 532
A11: w tym renty z tytułu niezdolności do pracy wypadkowe | B11: 10 | C11: 6 | D11: 1 | E11: 7 | F11: 9
A12: Renty rodzinne | B12: 89 | C12: 68 | D12: 14 | E12: 77 | F12: 87
A14: TABLICA 9. DECYZJE W SPRAWACH WNIOSKÓW O PRZYZNANIE EMERYTUR I RENT ROLNICZYCH Z ZASTOSOWANIEM PRZEPISÓW WSPÓLNOTOWYCH UE
A15: Wyszczególnienie | B15: Liczba wydanych decyzji
B16: Ogółem | C16: w tym: | G16: Decyzji odmownych
C17: Decyzji ostatecznych | F17: Decyzji tymczasowych
C18: Razem | D18: Płatne pro rata temporis 1) | E18: Płatne na podstawie tylko polskich okresów ubezpieczenia
B19: =B5 -> IV KWARTAŁ 2021 R.
A20: OGÓŁEM | B20: =C20+F20+G20 -> 586 | C20: =SUM(D20:E20) -> 398 | D20: =D21+D23 -> 189 | E20: =E21+E23 -> 209 | F20: =F21+F23 -> 104 | G20: =G21+G23 -> 84
A21: Emerytury razem | B21: =C21+F21+G21 -> 218 | C21: =SUM(D21:E21) -> 128 | D21: 75 | E21: 53 | F21: 51 | G21: 39
A22: w tym wcześniejsze | B22: =C22+F22+G22 -> 9 | C22: =SUM(D22:E22) -> 6 | D22: 6 | E22: 0 | F22: 0 | G22: 3
A23: Renty razem, z tego: | B23: =C23+F23+G23 -> 368 | C23: =SUM(D23:E23) -> 270 | D23: 114 | E23: 156 | F23: 53 | G23: 45
A24: Renty z tytułu niezdolności do pracy razem | B24: =C24+F24+G24 -> 309 | C24: =SUM(D24:E24) -> 229 | D24: 95 | E24: 134 | F24: 43 | G24: 37
A25: w tym renty z tytułu niezdolności do pracy wypadkowe | B25: =C25+F25+G25 -> 7 | C25: =SUM(D25:E25) -> 3 | D25: 1 | E25: 2 | F25: 1 | G25: 3
A26: Renty rodzinne | B26: =C26+F26+G26 -> 59 | C26: =SUM(D26:E26) -> 41 | D26: 19 | E26: 22 | F26: 10 | G26: 8
A27: 1) "pro rata temporis" emerytura ustalana i wypłacana jest w wysokościach częściowych, wynikających z proporcji okresów ubezpieczenia przebytych w danym państwie członkowskim do łącznych okresów ubezpieczenia przebytych we wszystkich państwach członkowskich. Każde państwo wypłaca emeryturę (rentę) wyłącznie za okresy ubezpieczenia przebyte na swoim terytorium.

Sheet Tab 10 i 11
A1: ='Tab 8 i 9'!A1:G1 -> I. EMERYTURY I RENTY REALIZOWANE PRZEZ KRUS
A3: TABLICA 10. WNIOSKI O PRZYZNANIE EMERYTUR I RENT ROLNICZYCH Z ZASTOSOWANIEM POSTANOWIEŃ UMÓW DWUSTRONNYCH O ZABEZPIECZENIU SPOŁECZNYM
A4: Wyszczególnienie | B4: Liczba wniosków pozostałych do załatwienia z poprzedniego okresu sprawozdawczego | C4: Liczba wniosków które wpłynęły w okresie sprawozdawczym | D4: Liczba wniosków przekazanych do instytucji zagranicznych | E4: Liczba spraw załatwionych ogółem | F4: Liczba spraw, w których trwa postępowanie międzynarodowe
B5: ='Tab 8 i 9'!B19:G19 -> IV KWARTAŁ 2021 R.
A6: OGÓŁEM | B6: =B7+B9 -> 43 | C6: =C7+C9 -> 41 | D6: =D7+D9 -> 1 | E6: =E7+E9 -> 32 | F6: =F7+F9 -> 52
A7: Emerytury razem | B7: 23 | C7: 25 | D7: 0 | E7: 20 | F7: 28
A8: w tym wcześniejsze | B8: 0 | C8: 1 | D8: 0 | E8: 1 | F8: 0
A9: Renty razem, z tego: | B9: =B10+B12 -> 20 | C9: =C10+C12 -> 16 | D9: =D10+D12 -> 1 | E9: =E10+E12 -> 12 | F9: =F10+F12 -> 24
A10: Renty z tytułu niezdolności do pracy razem | B10: 15 | C10: 13 | D10: 1 | E10: 8 | F10: 20
A11: w tym renty z tytułu niezdolności do pracy wypadkowe | B11: 1 | C11: 0 | D11: 0 | E11: 0 | F11: 1
A12: Renty rodzinne | B12: 5 | C12: 3 | D12: 0 | E12: 4 | F12: 4
A14: TABLICA 11. DECYZJE W SPRAWACH WNIOSKÓW O PRZYZNANIE EMERYTUR I RENT ROLNICZYCH Z ZASTOSOWANIEM POSTANOWIEŃ UMÓW DWUSTRONNYCH O ZABEZPIECZENIU SPOŁECZNYM
A15: Wyszczególnienie | B15: Liczba wydanych decyzji
B16: Ogółem | C16: w tym: | F16: Decyzji odmownych
C17: Decyzji ostatecznych
C18: Razem | D18: Płatne pro rata temporis 1) | E18: Płatne na podstawie tylko polskich okresów ubezpieczenia
B19: =B5 -> IV KWARTAŁ 2021 R.
A20: OGÓŁEM | B20: =C20+F20 -> 30 | C20: =SUM(D20:E20) -> 20 | D20: =D21+D23 -> 9 | E20: =E21+E23 -> 11 | F20: =F21+F23 -> 10
A21: Emerytury razem | B21: 19 | C21: 12 | D21: 9 | E21: 3 | F21: 7
A22: w tym wcześniejsze | B22: 1 | C22: 1 | D22: 0 | E22: 1 | F22: 0
A23: Renty razem, z tego: | B23: =C23+F23 -> 11 | C23: =SUM(D23:E23) -> 8 | D23: 0 | E23: 8 | F23: 3
A24: Renty z tytułu niezdolności do pracy razem | B24: 7 | C24: 6 | D24: 0 | E24: 6 | F24: 1
A25: w tym renty z tytułu niezdolności do pracy wypadkowe | B25: 0 | C25: 0 | D25: 0 | E25: 0 | F25: 0
A26: Renty rodzinne | B26: 4 | C26: 2 | D26: 0 | E26: 2 | F26: 2
A27: 1) "pro rata temporis" emerytura ustalana i wypłacana jest w wysokościach częściowych, wynikających z proporcji okresów ubezpieczenia przebytych w danym państwie członkowskim do łącznych okresów ubezpieczenia przebytych we wszystkich państwach członkowskich. Każde państwo wypłaca emeryturę (rentę) wyłącznie za okresy ubezpieczenia przebyte na swoim terytorium.

Sheet Tab 12
A1: ='Tab 10 i 11'!A1:F1 -> I. EMERYTURY I RENTY REALIZOWANE PRZEZ KRUS
A3: TABLICA 12. ŚWIADCZENIA EMERYTALNO-RENTOWE TRANSFEROWANE DO POSZCZEGÓLNYCH PAŃSTW UE/EFTA I WIELKIEJ BRYTANII ORAZ DO INNYCH PAŃSTW NA PODSTAWIE UMÓW DWUSTRONNYCH
A4: Wyszczególnienie | B4: Razem emerytury i renty | D4: Emerytury | F4: Renty z tytułu niezdolności do pracy | H4: w tym: renty z tytułu niezdolności do pracy wypadkowe | J4: Renty rodzinne
B5: Przeciętna liczba osób | C5: Kwota wypłat w zł | D5: Przeciętna liczba osób | E5: Kwota wypłat w zł | F5: Przeciętna liczba osób | G5: Kwota wypłat w zł | H5: Przeciętna liczba osób | I5: Kwota wypłat w zł | J5: Przeciętna liczba osób | K5: Kwota wypłat w zł
B6: ='Tab 10 i 11'!B19:F19 -> IV KWARTAŁ 2021 R.
A7: OGÓŁEM | B7: 3824 | C7: 8644044.1 | D7: 3122 | E7: 6852798.9 | F7: 316 | G7: 870663.29 | H7: 3 | I7: 13136.82 | J7: 386 | K7: 920581.97
A8: w tym:
A9: świadczenia "zbiegowe" | B9: 45 | C9: 215011.71 | D9: 44 | E9: 210210.21 | F9: 1 | G9: 4801.5 | H9: 0 | I9: 0 | J9: 0 | K9: 0
A10: z tego:
A11: do państw UE/EFTA i Wielkiej Brytanii razem | B11: 3554 | C11: 7657279.4 | D11: 2871 | E11: 5954862.7 | F11: 310 | G11: 846003.71 | H11: 3 | I11: 13136.82 | J11: 373 | K11: 856412.93
A12: Austria | B12: 88 | C12: 181263.77 | D12: 51 | E12: 96007.79 | F12: 30 | G12: 69582.75 | H12: 0 | I12: 0 | J12: 7 | K12: 15673.23
A13: Belgia | B13: 48 | C13: 203282.25 | D13: 21 | E13: 71287.71 | F13: 24 | G13: 120609.42 | H13: 0 | I13: 0 | J13: 3 | K13: 11385.12
A14: Bułgaria | B14: 0 | C14: 0 | D14: 0 | E14: 0 | F14: 0 | G14: 0 | H14: 0 | I14: 0 | J14: 0 | K14: 0
A15: Chorwacja | B15: 0 | C15: 0 | D15: 0 | E15: 0 | F15: 0 | G15: 0 | H15: 0 | I15: 0 | J15: 0 | K15: 0
A16: Cypr | B16: 0 | C16: 0 | D16: 0 | E16: 0 | F16: 0 | G16: 0 | H16: 0 | I16: 0 | J16: 0 | K16: 0
A17: Czechy | B17: 1 | C17: 4630.05 | D17: 0 | E17: 0 | F17: 1 | G17: 4630.05 | H17: 0 | I17: 0 | J17: 0 | K17: 0
A18: Dania | B18: 0 | C18: 0 | D18: 0 | E18: 0 | F18: 0 | G18: 0 | H18: 0 | I18: 0 | J18: 0 | K18: 0
A19: Estonia | B19: 0 | C19: 0 | D19: 0 | E19: 0 | F19: 0 | G19: 0 | H19: 0 | I19: 0 | J19: 0 | K19: 0
A20: Finlandia | B20: 0 | C20: 0 | D20: 0 | E20: 0 | F20: 0 | G20: 0 | H20: 0 | I20: 0 | J20: 0 | K20: 0
A21: Francja | B21: 25 | C21: 90071.73 | D21: 20 | E21: 81998.91 | F21: 4 | G21: 8001.81 | H21: 0 | I21: 0 | J21: 1 | K21: 71.01
A22: Grecja | B22: 0 | C22: 0 | D22: 0 | E22: 0 | F22: 0 | G22: 0 | H22: 0 | I22: 0 | J22: 0 | K22: 0
... A54: USA | B54: 117 | C54: 478537.38 | D54: 110 | E54: 446359.32 | F54: 2 | G54: 8224.26 | H54: 0 | I54: 0 | J54: 5 | K54: 23953.8

Sheet Tab 13
A1: ='Tab 2 i 3'!A1:I1 -> I. EMERYTURY I RENTY REALIZOWANE PRZEZ KRUS
A3: TABLICA 13. LICZBA PRZEKAZANYCH GOSPODARSTW ROLNYCH
A4: Wyszczególnienie | B4: Ogółem
B5: ='Tab 6 i 7'!B17:F17 -> ROK 2021
A6: OGÓŁEM | B6: =SUM(B7:B22) -> 21115
A7: dolnośląskie | B7: 1172
A8: kujawsko-pomorskie | B8: 2123
A9: lubelskie | B9: 2352
A10: lubuskie | B10: 361
A11: łódzkie | B11: 1325
A12: małopolskie | B12: 2497
A13: mazowieckie | B13: 3899
A14: opolskie | B14: 6
A15: podkarpackie | B15: 1330
A16: podlaskie | B16: 416
A17: pomorskie | B17: 724
A18: śląskie | B18: 864
... A22: zachodniopomorskie | B22: 285

Sheet Tab 1 (14)
A1: II. FUNDUSZ EMERYTALNO-RENTOWY
A2: TABLICA 1 (14). PRZECIĘTNA MIESIĘCZNA LICZBA EMERYTUR I RENT WEDŁUG RODZAJÓW ŚWIADCZEŃ
A3: Wyszczególnienie | B3: 2020 rok | D3: 2021 rok
B4: IV kwartał | C4: Rok | D4: III kwartał | E4: IV kwartał | F4: Rok | G4: porównanie (wzrost/spadek)
G5: IV kwartału 2021 r. z III kwartałem 2021 r. | H5: IV kwartału 2021 r. z IV kwartałem 2020 r. | I5: Roku 2021 z rokiem 2020
A6: OGÓŁEM
A7: EMERYTURY I RENTY ogółem | B7: 1068143 | C7: 1082437 | D7: 1029384 | E7: 1019571 | F7: 1035449 | G7: =E7/D7-1 -> -0.0095328857 | H7: =E7/B7-1 -> -0.045473312 | I7: =F7/C7-1 -> -0.043409455
A8: Emerytury | B8: 840471 | C8: 852849 | D8: 804245 | E8: 796710 | F8: 809857 | G8: =E8/D8-1 -> -0.0093690356 | H8: =E8/B8-1 -> -0.052067234 | I8: =F8/C8-1 -> -0.050409862
A9: Renty | B9: 227671 | C9: 229588 | D9: 225139 | E9: 222861 | F9: 225591 | G9: =E9/D9-1 -> -0.010118194 | H9: =E9/B9-1 -> -0.021126977 | I9: =F9/C9-1 -> -0.017409446
A10: EMERYTURY
A11: EMERYTURY RAZEM | B11: 840471 | C11: 852849 | D11: 804245 | E11: 796710 | F11: 809857 | G11: =E11/D11-1 -> -0.0093690356 | H11: =E11/B11-1 -> -0.052067234 | I11: =F11/C11-1 -> -0.050409862
A12: w tym emerytury wcześniejsze | B12: 30812 | C12: 36607 | D12: 18485 | E12: 15125 | F12: 20600 | G12: =E12/D12-1 -> -0.181769 | H12: =E12/B12-1 -> -0.50911982 | I12: =F12/C12-1 -> -0.4372661
A13: Emerytury rolnicze | B13: 721230 | C13: 726241 | D13: 702419 | E13: 699067 | F13: 705304 | G13: =E13/D13-1 -> -0.0047720805 | H13: =E13/B13-1 -> -0.030729448 | I13: =F13/C13-1 -> -0.028829273
A14: Emerytury za przekazane gospodarstwo rolne Państwu | B14: 19339 | C14: 20543 | D14: 16488 | E14: 15836 | F14: 16932 | G14: =E14/D14-1 -> -0.039543911 | H14: =E14/B14-1 -> -0.18113656 | I14: =F14/C14-1 -> -0.17577764
A15: Emerytury za przekazane gospodarstwo rolne następcy | B15: 97009 | C15: 103118 | D15: 82620 | E15: 79128 | F15: 84877 | G15: =E15/D15-1 -> -0.042265795 | H15: =E15/B15-1 -> -0.1843231 | I15: =F15/C15-1 -> -0.17689443
A16: Emerytury nie związane z przekazaniem gospodarstwa rolnego | B16: 2893 | C16: 2947 | D16: 2717 | E16: 2678 | F16: 2743 | G16: =E16/D16-1 -> -0.014354067 | H16: =E16/B16-1 -> -0.074317318 | I16: =F16/C16-1 -> -0.069222939
A17: RENTY
A18: RENTY RAZEM | B18: 227671 | C18: 229588 | D18: 225139 | E18: 222861 | F18: 225591 | G18: =E18/D18-1 -> -0.010118194 | H18: =E18/B18-1 -> -0.021126977 | I18: =F18/C18-1 -> -0.017409446
A19: RENTY Z TYTUŁU NIEZDOLNOŚCI DO PRACY RAZEM | B19: 186667 | C19: 187601 | D19: 183359 | E19: 181836 | F19: 183887 | G19: =E19/D19-1 -> -0.0083061099 | H19: =E19/B19-1 -> -0.025880311 | I19: =F19/C19-1 -> -0.019797336
A20: w tym renty z tytułu niezdolności do pracy wypadkowe | B20: 12388 | C20: 12455 | D20: 12216 | E20: 12142 | F20: 12243 | G20: =E20/D20-1 -> -0.0060576293 | H20: =E20/B20-1 -> -0.019857927 | I20: =F20/C20-1 -> -0.017021277
A21: Renty rolnicze z tytułu niezdolności do pracy | B21: 184020 | C21: 184808 | D21: 180977 | E21: 179529 | F21: 181461 | G21: =E21/D21-1 -> -0.0080010167 | H21: =E21/B21-1 -> -0.024404956 | I21: =F21/C21-1 -> -0.018110688
A22: Renty z tytułu niezdolności do pracy za przekazane gospodarstwo rolne Państwu | B22: 217 | C22: 230 | D22: 188 | E22: 181 | F22: 193 | G22: =E22/D22-1 -> -0.037234043 | H22: =E22/B22-1 -> -0.16589862 | I22: =F22/C22-1 -> -0.16086957
A23: Renty z tytułu niezdolności do pracy za przekazane gospodarstwo rolne następcy | B23: 601 | C23: 634 | D23: 546 | E23: 524 | F23: 554 | G23: =E23/D23-1 -> -0.04029304 | H23: =E23/B23-1 -> -0.1281198 | I23: =F23/C23-1 -> -0.12618297
A24: Renty z tytułu niezdolności do pracy nie związane z przekazaniem gospodarstwa rolnego | B24: 1829 | C24: 1929 | D24: 1648 | E24: 1601 | F24: 1679 | G24: =E24/D24-1 -> -0.028519417 | H24: =E24/B24-1 -> -0.12465828 | I24: =F24/C24-1 -> -0.12960083
A25: RENTY RODZINNE RAZEM | B25: 41004 | C25: 41988 | D25: 41780 | E25: 41026 | F25: 41704 | G25: =E25/D25-1 -> -0.018046912 | H25: =E25/B25-1 -> 0.00053653302 | I25: =F25/C25-1 -> -0.0067638373
A26: w tym renty rodzinne wypadkowe | B26: 841 | C26: 898 | D26: 832 | E26: 811 | F26: 840 | G26: =E26/D26-1 -> -0.025240385 | H26: =E26/B26-1 -> -0.035671819 | I26: =F26/C26-1 -> -0.064587973
A27: Renty rodzinne rolnicze | B27: 39415 | C27: 40372 | D27: 40278 | E27: 39549 | F27: 40192 | G27: =E27/D27-1 -> -0.01809921 | H27: =E27/B27-1 -> 0.0033997209 | I27: =F27/C27-1 -> -0.0044585356
A28: Renty rodzinne za przekazane gospodarstwo rolne Państwu | B28: 361 | C28: 369 | D28: 328 | E28: 319 | F28: 332 | G28: =E28/D28-1 -> -0.027439024 | H28: =E28/B28-1 -> -0.11634349 | I28: =F28/C28-1 -> -0.100271
A29: Renty rodzinne za przekazane gospodarstwo rolne następcy | B29: 866 | C29: 880 | D29: 821 | E29: 809 | F29: 827 | G29: =E29/D29-1 -> -0.014616322 | H29: =E29/B29-1 -> -0.065819861 | I29: =F29/C29-1 -> -0.060227273
A30: Renty rodzinne nie związane z przekazaniem gospodarstwa rolnego | B30: 363 | C30: 366 | D30: 352 | E30: 350 | F30: 353 | G30: =E30/D30-1 -> -0.0056818182 | H30: =E30/B30-1 -> -0.035812672 | I30: =F30/C30-1 -> -0.035519126

Sheet Tab 2 (15) i wykres 1
A1: ='Tab 1 (14)'!A1:I1 -> II. FUNDUSZ EMERYTALNO-RENTOWY
A2: TABLICA 2 (15). LICZBA UBEZPIECZONYCH ORAZ PRZECIĘTNA MIESIĘCZNA LICZBA ŚWIADCZENIOBIORCÓW WEDŁUG WOJEWÓDZTW
A3: Wyszczególnienie | B3: Liczba ubezpieczonych stan na 31 grudnia 2021 r. | C3: Przeciętna miesięczna liczba świadczeniobiorców w IV kwartale 2021 r.
A4: dolnośląskie | B4: 38582 | C4: 38229
A5: kujawsko-pomorskie | B5: 61231 | C5: 68790
A6: lubelskie | B6: 144618 | C6: 130892
A7: lubuskie | B7: 13480 | C7: 13722
A8: łódzkie | B8: 89663 | C8: 86887
A9: małopolskie | B9: 133690 | C9: 87447
A10: mazowieckie | B10: 159772 | C10: 156747
A11: opolskie | B11: 24588 | C11: 20510
A12: podkarpackie | B12: 83701 | C12: 58746
A13: podlaskie | B13: 79673 | C13: 72919
A14: pomorskie | B14: 37808 | C14: 33074
A15: śląskie | B15: 31503 | C15: 29134
... A19: zachodniopomorskie | B19: 22943 | C19: 21894
A20: MON | C20: 99
A21: MSWiA | C21: 468
A22: MS | C22: 50
A23: Ogółem | B23: =SUM(B4:B22) -> 1134603 | C23: 1019571
A25: WYKRES NR 1. PRZECIĘTNA MIESIĘCZNA LICZBA ŚWIADCZENIOBIORCÓW NA TLE LICZBY UBEZPIECZONYCH

Sheet Tab 3 (16) i wykres 2
A1: ='Tab 2 (15) i wykres 1'!A1:E1 -> II. FUNDUSZ EMERYTALNO-RENTOWY
A2: TABLICA 3 (16). PRZECIĘTNE MIESIĘCZNE ŚWIADCZENIA EMERYTALNO-RENTOWE WEDŁUG WOJEWÓDZTW
A3: Wyszczególnienie | B3: Świadczenia rolne wypłacane z FER | C3: Świadczenia realizowane przez KRUS ogółem
B4: w złotych
B5: ROK 2021
A6: dolnośląskie | B6: 1304.14 | C6: 1474.51
A7: kujawsko-pomorskie | B7: 1369.86 | C7: 1443.15
A8: lubelskie | B8: 1345.98 | C8: 1439.01
A9: lubuskie | B9: 1268.55 | C9: 1542.66
A10: łódzkie | B10: 1351.16 | C10: 1427.19
A11: małopolskie | B11: 1311.3 | C11: 1393.38
A12: mazowieckie | B12: 1347.32 | C12: 1405.54
A13: opolskie | B13: 1352.14 | C13: 1465.89
A14: podkarpackie | B14: 1327.46 | C14: 1411.39
A15: podlaskie | B15: 1369.99 | C15: 1425.27
A16: pomorskie | B16: 1337.64 | C16: 1439.14
A17: śląskie | B17: 1269.2 | C17: 1568.24
... A24: MS | B24: 558.68 | C24: 558.68
A27: WYKRES NR 2. PRZECIĘTNE MIESIĘCZNE ŚWIADCZENIA ROLNE WYPŁACANE Z FER W ODNIESIENIU DO ŚWIADCZEŃ REALIZOWANYCH PRZEZ KRUS OGÓŁEM

Sheet Tab 4 (17)
A1: ='Tab 3 (16) i wykres 2'!A1:E1 -> II. FUNDUSZ EMERYTALNO-RENTOWY
A3: TABLICA 4 (17). PRZECIĘTNA MIESIĘCZNA LICZBA EMERYTUR I RENT WEDŁUG WOJEWÓDZTW ORAZ ŚWIADCZEŃ EMERYTALNYCH WYPŁACONYCH PRZEZ MON, MSWiA i MS
A4: Wyszczególnienie | B4: Ogółem | C4: z tego:
C5: emerytury | D5: renty razem | E5: z tego:
E6: z tytułu niezdolności do pracy | G6: rodzinne
E7: ogółem | F7: w tym wypadkowe | G7: ogółem | H7: w tym wypadkowe
B9: ROK 2021
A10: OGÓŁEM | B10: 1035449 | C10: 809857 | D10: 225591 | E10: 183887 | F10: 12243 | G10: 41704 | H10: 840
A11: dolnośląskie | B11: 38883 | C11: 30460 | D11: 8423 | E11: 6879 | F11: 482 | G11: 1544 | H11: 24
A12: kujawsko-pomorskie | B12: 69668 | C12: 54317 | D12: 15350 | E12: 12949 | F12: 1041 | G12: 2401 | H12: 63
A13: lubelskie | B13: 133092 | C13: 104293 | D13: 28798 | E13: 23745 | F13: 1509 | G13: 5053 | H13: 122
A14: lubuskie | B14: 14022 | C14: 10427 | D14: 3595 | E14: 3039 | F14: 193 | G14: 556 | H14: 9
A15: łódzkie | B15: 88327 | C15: 74129 | D15: 14198 | E15: 10986 | F15: 953 | G15: 3213 | H15: 52
A16: małopolskie | B16: 88358 | C16: 60101 | D16: 28258 | E16: 24581 | F16: 1169 | G16: 3677 | H16: 66
A17: mazowieckie | B17: 159159 | C17: 129336 | D17: 29823 | E17: 22906 | F17: 1659 | G17: 6917 | H17: 122
A18: opolskie | B18: 20872 | C18: 17936 | D18: 2937 | E18: 2230 | F18: 171 | G18: 707 | H18: 12
A19: podkarpackie | B19: 59849 | C19: 45341 | D19: 14508 | E19: 12196 | F19: 618 | G19: 2312 | H19: 29
A20: podlaskie | B20: 74156 | C20: 59965 | D20: 14190 | E20: 11225 | F20: 788 | G20: 2965 | H20: 68
A21: pomorskie | B21: 33566 | C21: 24822 | D21: 8744 | E21: 7191 | F21: 463 | G21: 1553 | H21: 31
... A26: zachodniopomorskie | B26: 22301 | C26: 17361 | D26: 4940 | E26: 4040 | F26: 278 | G26: 900 | H26: 19
A27: Emerytury finansowane z funduszu emerytalno-rentowego, wypłacane przez MON, MSWiA, MS z tego: | B27: =C27 -> 652 | C27: 652 | D27: 0 | E27: 0 | F27: 0 | G27: 0 | H27: 0
A28: MON | B28: =C28 -> 102 | C28: 102 | D28: 0 | E28: 0 | F28: 0 | G28: 0 | H28: 0
A29: MSWiA | B29: =C29 -> 497 | C29: 497 | D29: 0 | E29: 0 | F29: 0 | G29: 0 | H29: 0
A30: MS | B30: =C30 -> 53 | C30: 53 | D30: 0 | E30: 0 | F30: 0 | G30: 0 | H30: 0

Sheet Tab 5 (18)
A1: ='Tab 4 (17)'!A1:H1 -> II. FUNDUSZ EMERYTALNO-RENTOWY
A3: TABLICA 5 (18). WYDATKI NA ŚWIADCZENIA EMERYTALNO-RENTOWE WEDŁUG RODZAJÓW ŚWIADCZEŃ
A4: Wyszczególnienie | B4: 2020 rok | D4: 2021 rok
B5: IV kwartał | C5: Rok | D5: III kwartał | E5: IV kwartał | F5: Rok | G5: porównanie (wzrost/spadek)
G6: IV kwartału 2021 r. z III kwartałem 2021 r. | H6: IV kwartału 2021 r. z IV kwartałem 2020 r. | I6: Roku 2021 z rokiem 2020
B7: w złotych
A8: OGÓŁEM1)
A9: EMERYTURY I RENTY z tego: | B9: =B10+B11 -> 4.1416889e+09 | C9: =C10+C11 -> 1.660184e+10 | D9: =D10+D11 -> 4.1563803e+09 | E9: =E10+E11 -> 4.1197142e+09 | F9: =F10+F11 -> 1.6606225e+10 | G9: =E9/D9-1 -> -0.0088216488 | H9: =E9/B9-1 -> -0.0053057181 | I9: =F9/C9-1 -> 0.00026413543
A10: Emerytury | B10: =B13 -> 3.2565733e+09 | C10: =C13 -> 1.3075158e+10 | D10: =D13 -> 3.2557157e+09 | E10: =E13 -> 3.2258636e+09 | F10: =F13 -> 1.301319e+10 | G10: =E10/D10-1 -> -0.0091691205 | H10: =E10/B10-1 -> -0.0094300642 | I10: =F10/C10-1 -> -0.0047393681
A11: Renty | B11: =B20 -> 8.8511553e+08 | C11: =C20 -> 3.5266824e+09 | D11: =D20 -> 9.0066467e+08 | E11: =E20 -> 8.9385059e+08 | F11: =F20 -> 3.5930355e+09 | G11: =E11/D11-1 -> -0.0075656107 | H11: =E11/B11-1 -> 0.0098688381 | I11: =F11/C11-1 -> 0.0188146
A12: EMERYTURY
A13: EMERYTURY RAZEM | B13: =SUM(B15:B18) -> 3.2565733e+09 | C13: =SUM(C15:C18) -> 1.3075158e+10 | D13: =SUM(D15:D18) -> 3.2557157e+09 | E13: =SUM(E15:E18) -> 3.2258636e+09 | F13: =SUM(F15:F18) -> 1.301319e+10 | G13: =E13/D13-1 -> -0.0091691205 | H13: =E13/B13-1 -> -0.0094300642 | I13: =F13/C13-1 -> -0.0047393681
A14: w tym emerytury wcześniejsze | B14: 1.1179374e+08 | C14: 5.2086019e+08 | D14: 70592203 | E14: 58123934 | F14: 3.1127381e+08 | G14: =E14/D14-1 -> -0.17662388 | H14: =E14/B14-1 -> -0.48007882 | I14: =F14/C14-1 -> -0.4023851
A15: Emerytury rolnicze | B15: 2.8406214e+09 | C15: 1.1330357e+10 | D15: 2.8825046e+09 | E15: 2.8679677e+09 | F15: 1.149531e+10 | G15: =E15/D15-1 -> -0.0050431371 | H15: =E15/B15-1 -> 0.009626873 | I15: =F15/C15-1 -> 0.014558488
A16: Emerytury za przekazane gospodarstwo rolne Państwu | B16: 63664436 | C16: 2.66916e+08 | D16: 57303969 | E16: 54969889 | F16: 2.3275118e+08 | G16: =E16/D16-1 -> -0.040731571 | H16: =E16/B16-1 -> -0.13656835 | I16: =F16/C16-1 -> -0.12799841
A17: Emerytury za przekazane gospodarstwo rolne następcy | B17: 3.4050503e+08 | C17: 1.4304624e+09 | D17: 3.0437144e+08 | E17: 2.9156649e+08 | F17: 1.2388862e+09 | G17: =E17/D17-1 -> -0.042070126 | H17: =E17/B17-1 -> -0.1437234 | I17: =F17/C17-1 -> -0.13392605
A18: Emerytury nie związane z przekazaniem gospodarstwa rolnego | B18: 11782447 | C18: 47422080 | D18: 11535695 | E18: 11359537 | F18: 46242241 | G18: =E18/D18-1 -> -0.015270707 | H18: =E18/B18-1 -> -0.03589324 | I18: =F18/C18-1 -> -0.02487953
A19: RENTY
A20: RENTY RAZEM z tego: | B20: =B21+B27 -> 8.8511553e+08 | C20: =C21+C27 -> 3.5266824e+09 | D20: =D21+D27 -> 9.0066467e+08 | E20: =E21+E27 -> 8.9385059e+08 | F20: =F21+F27 -> 3.5930355e+09 | G20: =E20/D20-1 -> -0.0075656107 | H20: =E20/B20-1 -> 0.0098688381 | I20: =F20/C20-1 -> 0.0188146
A21: RENTY Z TYTUŁU NIEZDOLNOŚCI DO PRACY RAZEM | B21: =SUM(B23:B26) -> 7.0305566e+08 | C21: =SUM(C23:C26) -> 2807200019 | D21: =SUM(D23:D26) -> 7.1268604e+08 | E21: =SUM(E23:E26) -> 7.0542438e+08 | F21: =SUM(F23:F26) -> 2.8420755e+09 | G21: =E21/D21-1 -> -0.010189138 | H21: =E21/B21-1 -> 0.0033691742 | I21: =F21/C21-1 -> 0.012423596
A22: w tym renty z tytułu niezdolności do pracy wypadkowe | B22: 47524098 | C22: 1.8967363e+08 | D22: 48208634 | E22: 47819909 | F22: 1.920987e+08 | G22: =E22/D22-1 -> -0.0080633878 | H22: =E22/B22-1 -> 0.0062244335 | I22: =F22/C22-1 -> 0.012785476
A23: Renty rolnicze z tytułu niezdolności do pracy | B23: 6.9346632e+08 | C23: 2.7672937e+09 | D23: 7.0371228e+08 | E23: 6.9675881e+08 | F23: 2.8057656e+09 | G23: =E23/D23-1 -> -0.0098811288 | H23: =E23/B23-1 -> 0.0047478778 | I23: =F23/C23-1 -> 0.013902355
A24: Renty z tytułu niezdolności do pracy za przekazane gospodarstwo rolne Państwu | B24: 710193.38 | C24: 3000773.8 | D24: 647783.05 | E24: 612810.17 | F24: 2617263.5 | G24: =E24/D24-1 -> -0.053988569 | H24: =E24/B24-1 -> -0.1371221 | I24: =F24/C24-1 -> -0.12780381
A25: Renty z tytułu niezdolności do pracy za przekazane gospodarstwo rolne następcy | B25: 1859496.6 | C25: 7747259.5 | D25: 1752104.3 | E25: 1665229.8 | F25: 7060181.2 | G25: =E25/D25-1 -> -0.049582933 | H25: =E25/B25-1 -> -0.10447278 | I25: =F25/C25-1 -> -0.088686624
A26: Renty z tytułu niezdolności do pracy nie związane z przekazaniem gospodarstwa rolnego | B26: 7019655.4 | C26: 29158321 | D26: 6573866.5 | E26: 6387529.1 | F26: 26632530 | G26: =E26/D26-1 -> -0.028345186 | H26: =E26/B26-1 -> -0.090050913 | I26: =F26/C26-1 -> -0.086623312
A27: RENTY RODZINNE RAZEM | B27: =SUM(B29:B32) -> 1.8205986e+08 | C27: =SUM(C29:C32) -> 7.1948241e+08 | D27: =SUM(D29:D32) -> 1.8797863e+08 | E27: =SUM(E29:E32) -> 1.8842621e+08 | F27: =SUM(F29:F32) -> 7.5096e+08 | G27: =E27/D27-1 -> 0.0023810059 | H27: =E27/B27-1 -> 0.034968415 | I27: =F27/C27-1 -> 0.043750339
A28: w tym renty rodzinne wypadkowe | B28: 3964720.4 | C28: 16029415 | D28: 3913104.5 | E28: 3892679.7 | F28: 15747177 | G28: =E28/D28-1 -> -0.0052195974 | H28: =E28/B28-1 -> -0.018170432 | I28: =F28/C28-1 -> -0.01760753
A29: Renty rodzinne rolnicze | B29: 1.7400584e+08 | C29: 6.8712789e+08 | D29: 1.8003741e+08 | E29: 1.8060952e+08 | F29: 7.1923581e+08 | G29: =E29/D29-1 -> 0.0031777103 | H29: =E29/B29-1 -> 0.037950862 | I29: =F29/C29-1 -> 0.04672772
A30: Renty rodzinne za przekazane gospodarstwo rolne Państwu | B30: 1881509 | C30: 7639990.7 | D30: 1780880.5 | E30: 1751486.5 | F30: 7191025.5 | G30: =E30/D30-1 -> -0.016505324 | H30: =E30/B30-1 -> -0.069105446 | I30: =F30/C30-1 -> -0.058765144
A31: Renty rodzinne za przekazane gospodarstwo rolne następcy | B31: 4441874.7 | C31: 17821242 | D31: 4371514.9 | E31: 4313962.3 | F31: 17502763 | G31: =E31/D31-1 -> -0.013165388 | H31: =E31/B31-1 -> -0.028796958 | I31: =F31/C31-1 -> -0.017870756
A32: Renty rodzinne nie związane z przekazaniem gospodarstwa rolnego | B32: 1730636.5 | C32: 6893279.4 | D32: 1788826.4 | E32: 1751244.6 | F32: 7030402.8 | G32: =E32/D32-1 -> -0.021009194 | H32: =E32/B32-1 -> 0.011907786 | I32: =F32/C32-1 -> 0.019892343
A33: 1) Kwota nie obejmuje należnych świadczeń z innych systemów ubezpieczeniowych, wypłacanych w tzw. zbiegu z emeryturą lub rentą rolną.

Sheet Wykres 3
A1: ='Tab 2 (15) i wykres 1'!A1:E1 -> II. FUNDUSZ EMERYTALNO-RENTOWY
A3: Dane do wykresu nr 3
A4: Wyszczególnienie | B4: Emerytury | C4: Renty z tytułu niezdolności do pracy | D4: Renty rodzinne | E4: Emerytury finansowane z Funduszu Emerytalno-Rentowego, a wypłacane przez MON, MSWiA i MS | F4: Ogółem
A5: Kwota w zł | B5: ='Tab 5 (18)'!F13-'Wykres 3'!E5 -> 1.30085e+10 | C5: ='Tab 5 (18)'!F21 -> 2.8420755e+09 | D5: ='Tab 5 (18)'!F27 -> 7.5096e+08 | E5: 4689878.4 | F5: =SUM(B5:E5) -> 1.6606225e+10
A6: Udział procentowy | B6: =B5/$F$5 -> 0.7833508 | C6: =C5/$F$5 -> 0.17114519 | D6: =D5/$F$5 -> 0.045221596 | E6: =E5/$F$5 -> 0.00028241689 | F6: =F5/$F$5 -> 1

Sheet Tab 6 (19)
A1: ='Tab 1 (14)'!A1 -> II. FUNDUSZ EMERYTALNO-RENTOWY
A3: TABLICA 6 (19). WYDATKI NA ŚWIADCZENIA EMERYTALNO-RENTOWE WEDŁUG WOJEWÓDZTW ORAZ ŚWIADCZENIA EMERYTALNE WYPŁACONE PRZEZ MON, MSWiA i MS
A4: Wyszczególnienie | B4: Ogółem1) | C4: z tego:
C5: emerytury | D5: renty razem | E5: z tego:
E6: z tytułu niezdolności do pracy | G6: rodzinne
E7: ogółem | F7: w tym wypadkowe | G7: ogółem | H7: w tym wypadkowe
B9: ='Tab 4 (17)'!B9:H9 -> ROK 2021
B10: w złotych
A11: OGÓŁEM | B11: =SUM(B12:B28) -> 1.6606225e+10 | C11: =SUM(C12:C28) -> 1.301319e+10 | D11: =SUM(D12:D27) -> 3.5930355e+09 | E11: =SUM(E12:E27) -> 2.8420755e+09 | F11: =SUM(F12:F27) -> 1.920987e+08 | G11: =SUM(G12:G27) -> 7.5096e+08 | H11: =SUM(H12:H27) -> 15747177
A12: dolnośląskie | B12: =SUM(C12:D12) -> 6.0850423e+08 | C12: 4.7692709e+08 | D12: 1.3157714e+08 | E12: 1.0472083e+08 | F12: 7291653.4 | G12: 26856310 | H12: 386624.41
A13: kujawsko-pomorskie | B13: =SUM(C13:D13) -> 1.1452215e+09 | C13: 8.905553e+08 | D13: 2.5466618e+08 | E13: 2.063382e+08 | F13: 16977854 | G13: 48327986 | H13: 1401547.6
A14: lubelskie | B14: =SUM(C14:D14) -> 2.1496725e+09 | C14: 1.687862e+09 | D14: 4.6181053e+08 | E14: 3.7027935e+08 | F14: 23889920 | G14: 91531179 | H14: 2170023.1
A15: lubuskie | B15: =SUM(C15:D15) -> 2.1344416e+08 | C15: 1.5756731e+08 | D15: 55876850 | E15: 46117162 | F15: 2880058.4 | G15: 9759688.2 | H15: 152038.74
A16: łódzkie | B16: =SUM(C16:D16) -> 1.4321284e+09 | C16: 1.1961007e+09 | D16: 2.3602775e+08 | E16: 1.6977959e+08 | F16: 14852953 | G16: 66248157 | H16: 1270890.9
A17: małopolskie | B17: =SUM(C17:D17) -> 1.3903708e+09 | C17: 9.5057508e+08 | D17: 4.3979577e+08 | E17: 3.7639159e+08 | F17: 18075030 | G17: 63404173 | H17: 1157438.6
A18: mazowieckie | B18: =SUM(C18:D18) -> 2.57326e+09 | C18: 2.1015411e+09 | D18: 4.7171891e+08 | E18: 3.5056764e+08 | F18: 25917482 | G18: 1.2115126e+08 | H18: 2335516.6
A19: opolskie | B19: =SUM(C19:D19) -> 3.3866782e+08 | C19: 2.8964859e+08 | D19: 49019234 | E19: 35436398 | F19: 2752076.7 | G19: 13582837 | H19: 230872.73
A20: podkarpackie | B20: =SUM(C20:D20) -> 9.533619e+08 | C20: 7.2582918e+08 | D20: 2.2753271e+08 | E20: 1.8641289e+08 | F20: 9542458.9 | G20: 41119823 | H20: 553031.73
A21: podlaskie | B21: =SUM(C21:D21) -> 1.2191116e+09 | C21: 9.8993981e+08 | D21: 2.2917181e+08 | E21: 1.7432546e+08 | F21: 12538209 | G21: 54846356 | H21: 1301067.8
A22: pomorskie | B22: =SUM(C22:D22) -> 5.3878588e+08 | C22: 3.9925424e+08 | D22: 1.3953164e+08 | E22: 1.1160583e+08 | F22: 7302069.5 | G22: 27925819 | H22: 552171.58
A23: śląskie | B23: =SUM(C23:D23) -> 4.5361263e+08 | C23: 3.6330896e+08 | D23: 90303671 | E23: 72852040 | F23: 5141692.2 | G23: 17451631 | H23: 382793.47
... A27: zachodniopomorskie | B27: =SUM(C27:D27) -> 3.5693887e+08 | C27: 2.7699548e+08 | D27: 79943389 | E27: 62595337 | F27: 4250478.2 | G27: 17348053 | H27: 315874.89
A28: Emerytury finansowane z funduszu emerytalno-rentowego, wypłacane przez MON, MSWiA, MS z tego: | B28: =B29+B30+B31 -> 4689878.4 | C28: =C29+C30+C31 -> 4689878.4 | D28: 0 | E28: 0 | F28: 0 | G28: 0 | H28: 0
A29: MON | B29: =C29 -> 843613.18 | C29: 843613.18 | D29: 0 | E29: 0 | F29: 0 | G29: 0 | H29: 0
A30: MSWiA | B30: =C30 -> 3488154.4 | C30: 3488154.4 | D30: 0 | E30: 0 | F30: 0 | G30: 0 | H30: 0
A31: MS | B31: =C31 -> 358110.88 | C31: 358110.88 | D31: 0 | E31: 0 | F31: 0 | G31: 0 | H31: 0
A32: 1) Kwota nie obejmuje należnych świadczeń z innych systemów ubezpieczeniowych, wypłacanych w tzw. zbiegu z emeryturą lub rentą rolną.

Sheet Tab 7 (20)
A1: ='Tab 1 (14)'!A1 -> II. FUNDUSZ EMERYTALNO-RENTOWY
A3: TABLICA 7 (20). PRZECIĘTNE MIESIĘCZNE ŚWIADCZENIE EMERYTALNO-RENTOWE WEDŁUG RODZAJÓW ŚWIADCZEŃ
A4: Wyszczególnienie | B4: 2020 rok | D4: 2021 rok
B5: IV kwartał | C5: Rok | D5: III kwartał | E5: IV kwartał | F5: Rok | G5: porównanie (wzrost/spadek)
G6: IV kwartału 2021 r. z III kwartałem 2021 r. | H6: IV kwartału 2021 r. z IV kwartałem 2020 r. | I6: Roku 2021 z rokiem 2020
B7: w złotych
A8: OGÓŁEM1)
A9: EMERYTURY I RENTY z tego: | B9: 1292.49 | C9: 1278.12 | D9: 1345.91 | E9: 1346.88 | F9: 1336.48 | G9: =E9/D9-1 -> 0.00072070198 | H9: =E9/B9-1 -> 0.042081563 | I9: =F9/C9-1 -> 0.045660814
A10: Emerytury | B10: 1291.57 | C10: 1277.6 | D10: 1349.39 | E10: 1349.66 | F10: 1339.04 | G10: =E10/D10-1 -> 0.00020009041 | H10: =E10/B10-1 -> 0.044976269 | I10: =F10/C10-1 -> 0.048090169
A11: Renty | B11: 1295.9 | C11: 1280.08 | D11: 1333.49 | E11: 1336.93 | F11: 1327.27 | G11: =E11/D11-1 -> 0.0025796969 | H11: =E11/B11-1 -> 0.031661394 | I11: =F11/C11-1 -> 0.036864883
A12: EMERYTURY
A13: EMERYTURY RAZEM | B13: 1291.57 | C13: 1277.6 | D13: 1349.39 | E13: 1349.66 | F13: 1339.04 | G13: =E13/D13-1 -> 0.00020009041 | H13: =E13/B13-1 -> 0.044976269 | I13: =F13/C13-1 -> 0.048090169
A14: w tym emerytury wcześniejsze | B14: 1209.42 | C14: 1185.71 | D14: 1272.94 | E14: 1281 | F14: 1259.18 | G14: =E14/D14-1 -> 0.0063317988 | H14: =E14/B14-1 -> 0.059185395 | I14: =F14/C14-1 -> 0.061962875
A15: Emerytury rolnicze | B15: 1312.86 | C15: 1300.11 | D15: 1367.89 | E15: 1367.52 | F15: 1358.2 | G15: =E15/D15-1 -> -0.00027048959 | H15: =E15/B15-1 -> 0.041634295 | I15: =F15/C15-1 -> 0.044680835
A16: Emerytury za przekazane gospodarstwo rolne Państwu | B16: 1097.32 | C16: 1082.75 | D16: 1158.5 | E16: 1157.04 | F16: 1145.5 | G16: =E16/D16-1 -> -0.0012602503 | H16: =E16/B16-1 -> 0.054423505 | I16: =F16/C16-1 -> 0.057954283
A17: Emerytury za przekazane gospodarstwo rolne następcy | B17: 1170.01 | C17: 1156 | D17: 1227.99 | E17: 1228.24 | F17: 1216.35 | G17: =E17/D17-1 -> 0.00020358472 | H17: =E17/B17-1 -> 0.049768805 | I17: =F17/C17-1 -> 0.052205882
A18: Emerytury nie związane z przekazaniem gospodarstwa rolnego | B18: 1357.58 | C18: 1341.2 | D18: 1415.25 | E18: 1413.93 | F18: 1404.64 | G18: =E18/D18-1 -> -0.0009326974 | H18: =E18/B18-1 -> 0.041507683 | I18: =F18/C18-1 -> 0.047300925
A19: RENTY
A20: RENTY RAZEM z tego: | B20: 1295.9 | C20: 1280.08 | D20: 1333.49 | E20: 1336.93 | F20: 1327.27 | G20: =E20/D20-1 -> 0.0025796969 | H20: =E20/B20-1 -> 0.031661394 | I20: =F20/C20-1 -> 0.036864883
A21: RENTY Z TYTUŁU NIEZDOLNOŚCI DO PRACY RAZEM | B21: 1255.45 | C21: 1246.98 | D21: 1295.61 | E21: 1293.15 | F21: 1287.96 | G21: =E21/D21-1 -> -0.0018987195 | H21: =E21/B21-1 -> 0.030029073 | I21: =F21/C21-1 -> 0.032863398
A22: w tym renty z tytułu niezdolności do pracy wypadkowe | B22: 1278.77 | C22: 1269.11 | D22: 1315.49 | E22: 1312.8 | F22: 1307.5 | G22: =E22/D22-1 -> -0.0020448654 | H22: =E22/B22-1 -> 0.026611509 | I22: =F22/C22-1 -> 0.030249545
A23: Renty rolnicze z tytułu niezdolności do pracy | B23: 1256.15 | C23: 1247.83 | D23: 1296.14 | E23: 1293.68 | F23: 1288.51 | G23: =E23/D23-1 -> -0.0018979431 | H23: =E23/B23-1 -> 0.029877005 | I23: =F23/C23-1 -> 0.032600595
A24: Renty z tytułu niezdolności do pracy za przekazane gospodarstwo rolne Państwu | B24: 1090.93 | C24: 1088.03 | D24: 1146.52 | E24: 1128.56 | F24: 1131.06 | G24: =E24/D24-1 -> -0.015664794 | H24: =E24/B24-1 -> 0.034493506 | I24: =F24/C24-1 -> 0.039548542
A25: Renty z tytułu niezdolności do pracy za przekazane gospodarstwo rolne następcy | B25: 1031.33 | C25: 1018.17 | D25: 1070.31 | E25: 1058.63 | F25: 1061.84 | G25: =E25/D25-1 -> -0.010912726 | H25: =E25/B25-1 -> 0.026470674 | I25: =F25/C25-1 -> 0.042890676
A26: Renty z tytułu niezdolności do pracy nie związane z przekazaniem gospodarstwa rolnego | B26: 1279.09 | C26: 1259.59 | D26: 1329.4 | E26: 1329.63 | F26: 1321.71 | G26: =E26/D26-1 -> 0.00017301038 | H26: =E26/B26-1 -> 0.039512466 | I26: =F26/C26-1 -> 0.049317635
A27: RENTY RODZINNE RAZEM | B27: 1480.01 | C27: 1427.96 | D27: 1499.75 | E27: 1530.96 | F27: 1500.58 | G27: =E27/D27-1 -> 0.020810135 | H27: =E27/B27-1 -> 0.034425443 | I27: =F27/C27-1 -> 0.050855766
A28: w tym renty rodzinne wypadkowe | B28: 1572.05 | C28: 1487.51 | D28: 1568.38 | E28: 1599.29 | F28: 1563 | G28: =E28/D28-1 -> 0.019708234 | H28: =E28/B28-1 -> 0.017327693 | I28: =F28/C28-1 -> 0.050749239
A29: Renty rodzinne rolnicze | B29: 1471.58 | C29: 1418.32 | D29: 1489.94 | E29: 1522.26 | F29: 1491.25 | G29: =E29/D29-1 -> 0.021692149 | H29: =E29/B29-1 -> 0.034439174 | I29: =F29/C29-1 -> 0.05141999
A30: Renty rodzinne za przekazane gospodarstwo rolne Państwu | B30: 1737.31 | C30: 1723.82 | D30: 1809.84 | E30: 1832.1 | F30: 1804.98 | G30: =E30/D30-1 -> 0.01229943 | H30: =E30/B30-1 -> 0.054561362 | I30: =F30/C30-1 -> 0.047081482
A31: Renty rodzinne za przekazane gospodarstwo rolne następcy | B31: 1709.73 | C31: 1686.82 | D31: 1774.15 | E31: 1778.22 | F31: 1763.86 | G31: =E31/D31-1 -> 0.0022940563 | H31: =E31/B31-1 -> 0.040058957 | I31: =F31/C31-1 -> 0.045671737
A32: Renty rodzinne nie związane z przekazaniem gospodarstwa rolnego | B32: 1590.66 | C32: 1570.58 | D32: 1692.36 | E32: 1669.44 | F32: 1659.68 | G32: =E32/D32-1 -> -0.013543218 | H32: =E32/B32-1 -> 0.049526612 | I32: =F32/C32-1 -> 0.056730635
A33: 1) Kwota nie obejmuje należnych świadczeń z innych systemów ubezpieczeniowych, wypłacanych w tzw. zbiegu z emeryturą lub rentą rolną.

Sheet Tab 8 (21)
A1: ='Tab 1 (14)'!A1 -> II. FUNDUSZ EMERYTALNO-RENTOWY
A3: TABLICA 8 (21). PRZECIĘTNE MIESIĘCZNE ŚWIADCZENIE EMERYTALNO-RENTOWE WEDŁUG WOJEWÓDZTW ORAZ PRZECIĘTNE MIESIĘCZNE ŚWIADCZENIE EMERYTALNE WYPŁACONE PRZEZ MON, MSWiA i MS
A4: Wyszczególnienie | B4: Ogółem1) | C4: w tym:
C5: emerytury | D5: renty razem | E5: z tego:
E6: z tytułu niezdolności do pracy | G6: rodzinne
E7: ogółem | F7: w tym wypadkowe | G7: ogółem | H7: w tym wypadkowe
B9: ='Tab 6 (19)'!B9:H9 -> ROK 2021
B10: w złotych
A11: OGÓŁEM | B11: 1336.48 | C11: 1339.04 | D11: 1327.27 | E11: 1287.96 | F11: 1307.5 | G11: 1500.58 | H11: 1563
A12: dolnośląskie | B12: 1304.14 | C12: 1304.78 | D12: 1301.79 | E12: 1268.65 | F12: 1260.01 | G12: 1449.42 | H12: 1342.45
A13: kujawsko-pomorskie | B13: 1369.86 | C13: 1366.29 | D13: 1382.52 | E13: 1327.88 | F13: 1359.1 | G13: 1677.18 | H13: 1863.76
A14: lubelskie | B14: 1345.98 | C14: 1348.65 | D14: 1336.33 | E14: 1299.49 | F14: 1318.94 | G14: 1509.49 | H14: 1484.28
A15: lubuskie | B15: 1268.55 | C15: 1259.35 | D15: 1295.24 | E15: 1264.49 | F15: 1241.94 | G15: 1463.44 | H15: 1382.17
A16: łódzkie | B16: 1351.16 | C16: 1344.62 | D16: 1385.3 | E16: 1287.89 | F16: 1299.13 | G16: 1718.41 | H16: 2049.82
A17: małopolskie | B17: 1311.3 | C17: 1318.03 | D17: 1296.99 | E17: 1276.02 | F17: 1288.86 | G17: 1437.15 | H17: 1472.57
A18: mazowieckie | B18: 1347.32 | C18: 1354.06 | D18: 1318.11 | E18: 1275.41 | F18: 1301.6 | G18: 1459.51 | H18: 1592.04
A19: opolskie | B19: 1352.14 | C19: 1345.79 | D19: 1390.93 | E19: 1324.08 | F19: 1343.13 | G19: 1601.94 | H19: 1592.23
A20: podkarpackie | B20: 1327.46 | C20: 1334.03 | D20: 1306.92 | E20: 1273.72 | F20: 1286.74 | G20: 1482.06 | H20: 1566.66
A21: podlaskie | B21: 1369.99 | C21: 1375.72 | D21: 1345.81 | E21: 1294.18 | F21: 1326.23 | G21: 1541.28 | H21: 1600.33
A22: pomorskie | B22: 1337.64 | C22: 1340.4 | D22: 1329.8 | E22: 1293.43 | F22: 1315.21 | G22: 1498.17 | H22: 1496.4
... A27: zachodniopomorskie | B27: 1333.78 | C27: 1329.59 | D27: 1348.5 | E27: 1291.08 | F27: 1272.98 | G27: 1606.3 | H27: 1361.53
A28: Emerytury finansowane z funduszu emerytalno-rentowego, wypłacane przez MON, MSWiA, MS z tego: | B28: =C28 -> 599.19 | C28: 599.19 | D28: 0 | E28: 0 | F28: 0 | G28: 0 | H28: 0
A29: MON | B29: =C29 -> 688.66 | C29: 688.66 | D29: 0 | E29: 0 | F29: 0 | G29: 0 | H29: 0
A30: MSWiA | B30: =C30 -> 585.16 | C30: 585.16 | D30: 0 | E30: 0 | F30: 0 | G30: 0 | H30: 0
A31: MS | B31: =C31 -> 558.68 | C31: 558.68 | D31: 0 | E31: 0 | F31: 0 | G31: 0 | H31: 0
A32: 1) Kwota nie obejmuje należnych świadczeń z innych systemów ubezpieczeniowych, wypłacanych w tzw. zbiegu z emeryturą lub rentą rolną.

Sheet Tab 9 (22) i 10 (23)
A1: ='Tab 2 (15) i wykres 1'!A1:E1 -> II. FUNDUSZ EMERYTALNO-RENTOWY
A3: TABLICA 9 (22). ŚWIADCZENIA EMERYTALNO-RENTOWE BEZ DODATKÓW DO EMERYTUR I RENT
A4: Wyszczególnienie | B4: Liczba | C4: Kwota wypłat w zł1) | D4: Przeciętne świadczenie w zł
B5: STAN NA DZIEŃ 31 GRUDNIA 2021 R.
A6: OGÓŁEM | B6: =B7+B9+B10 -> 1016729 | C6: =C7+C9+C10 -> 1.233169e+09 | D6: =ROUND(C6/B6,2) -> 1212.88
A7: Emerytury razem | B7: 793492 | C7: 9.6279782e+08 | D7: =ROUND(C7/B7,2) -> 1213.37
A8: w tym wcześniejsze | B8: 14193 | C8: 18159660 | D8: =ROUND(C8/B8,2) -> 1279.48
A9: Renty z tytułu niezdolności do pracy | B9: 181618 | C9: 2.1468701e+08 | D9: =ROUND(C9/B9,2) -> 1182.08
A10: Renty rodzinne | B10: 41619 | C10: 55684141 | D10: =ROUND(C10/B10,2) -> 1337.95
A11: 1) Bez wypłat dokonywanych na podstawie art. 25 ust. 4 w związku z art. 25 ust. 2a ustawy o ubezpieczenie społecznym rolników oraz bez potrąceń nieprzekazywanych.
A13: TABLICA 10 (23). LICZBA ŚWIADCZENIOBIORCÓW WEDŁUG WYSOKOŚCI ŚWIADCZEŃ EMERYTALNO-RENTOWYCH
A14: Wysokość w zł 1) | B14: Ogółem | C14: z tego:
C15: emerytury 2) | D15: renty
D16: z tytułu niezdolności do pracy | E16: rodzinne
B17: =B5 -> STAN NA DZIEŃ 31 GRUDNIA 2021 R.
A18: OGÓŁEM | B18: =SUM(B19:B32) -> 1016729 | C18: =SUM(C19:C32) -> 793492 | D18: =SUM(D19:D32) -> 181618 | E18: =SUM(E19:E32) -> 41619
A19: 100,01 - 200 | B19: =SUM(C19:E19) -> 3416 | C19: 1469 | D19: 1380 | E19: 567
A20: 200,01 - 300 | B20: =SUM(C20:E20) -> 9710 | C20: 6588 | D20: 1726 | E20: 1396
A21: 300,01 - 400 | B21: =SUM(C21:E21) -> 8901 | C21: 6887 | D21: 1811 | E21: 203
A22: 400,01 - 500 | B22: =SUM(C22:E22) -> 6119 | C22: 4523 | D22: 1489 | E22: 107
A23: 500,01 - 600 | B23: =SUM(C23:E23) -> 41851 | C23: 40211 | D23: 1343 | E23: 297
A24: 600,01 - 700 | B24: =SUM(C24:E24) -> 5483 | C24: 2921 | D24: 2459 | E24: 103
A25: 700,01 - 800 | B25: =SUM(C25:E25) -> 4927 | C25: 343 | D25: 4415 | E25: 169
A26: 800,01 - 900 | B26: =SUM(C26:E26) -> 4599 | C26: 193 | D26: 4358 | E26: 48
A27: 900,01 - 1000 | B27: =SUM(C27:E27) -> 1589 | C27: 301 | D27: 1191 | E27: 97
A28: 1000,01 - 1100 | B28: =SUM(C28:E28) -> 512 | C28: 264 | D28: 203 | E28: 45
A29: 1100,01 - 1200 | B29: =SUM(C29:E29) -> 7465 | C29: 7380 | D29: 66 | E29: 19
A30: 1200,01 - 1300 | B30: =SUM(C30:E30) -> 609905 | C30: 460254 | D30: 111267 | E30: 38384
... A32: 1400,01 i więcej | B32: =SUM(C32:E32) -> 33073 | C32: 27943 | D32: 5120 | E32: 10
A33: 1) W kwotach brutto bez dodatków do emerytur i rent.
A34: 2) Bez świadczeń emerytalnych wypłacanych przez MON, MSWiA i MS.

Sheet Tab 11 (24); 12 (25) i wykres 4
A1: ='Tab 2 (15) i wykres 1'!A1:E1 -> II. FUNDUSZ EMERYTALNO-RENTOWY
A3: TABLICA 11 (24). DODATKI PŁACONE PRZY ŚWIADCZENIACH EMERYTALNO-RENTOWYCH
A4: Wyszczególnienie | B4: Przeciętna miesięczna liczba | C4: Kwota wypłat w zł | D4: Przeciętna wysokość dodatku w zł
B5: ROK 2021
A6: Dodatki pielęgnacyjne z tytułu 75 lat | B6: 210704 | C6: 6.0044091e+08 | D6: 237.47
A7: Dodatki pielęgnacyjne z tytułu niezdolności do samodzielnej egzystencji | B7: 205224 | C7: 5.9615559e+08 | D7: 242.08
A8: Dodatki dla sierot zupełnych | B8: 7372 | C8: 40444386 | D8: 457.17
A10: TABLICA 12 (25). LICZBA OSÓB POBIERAJĄCYCH EMERYTURY WEDŁUG WIEKU I PŁCI 1) 2)
A11: Wiek | B11: Ogółem | C11: Mężczyźni | D11: Kobiety
B13: ='Tab 9 (22) i 10 (23)'!B17:E17 -> STAN NA DZIEŃ 31 GRUDNIA 2021 R.
A14: OGÓŁEM | B14: =SUM(B15:B20) -> 793492 | C14: =SUM(C15:C20) -> 244278 | D14: =SUM(D15:D20) -> 549214
A15: 55 - 59 | B15: =SUM(C15:D15) -> 5633 | C15: 0 | D15: 5633
A16: 60 - 64 | B16: =SUM(C16:D16) -> 97206 | C16: 8556 | D16: 88650
A17: 65 - 69 | B17: =SUM(C17:D17) -> 172720 | C17: 78001 | D17: 94719
A18: 70 - 74 | B18: =SUM(C18:D18) -> 160039 | C18: 62336 | D18: 97703
A19: 75 - 79 | B19: =SUM(C19:D19) -> 109396 | C19: 34949 | D19: 74447
A20: 80 i więcej | B20: =SUM(C20:D20) -> 248498 | C20: 60436 | D20: 188062
A21: 1) Bez osób, którym świadczenia emerytalne wypłaca MON, MSWiA i MS.
A22: 2) Łącznie z rodzicielskimi świadczeniami uzupełniającymi.
A24: WYKRES NR 4. LICZBA OSÓB POBIERAJĄCYCH EMERYTURY WEDŁUG WIEKU I PŁCI

Sheet Tab 13 (26) i wykres 5
A1: ='Tab 2 (15) i wykres 1'!A1:E1 -> II. FUNDUSZ EMERYTALNO-RENTOWY
A3: TABLICA 13 (26). LICZBA OSÓB POBIERAJĄCYCH RENTY Z TYTUŁU NIEZDOLNOŚCI DO PRACY WEDŁUG WIEKU I PŁCI
A4: Wiek | B4: Ogółem | C4: Mężczyźni | D4: Kobiety
B6: ='Tab 9 (22) i 10 (23)'!B17:E17 -> STAN NA DZIEŃ 31 GRUDNIA 2021 R.
A7: OGÓŁEM | B7: =SUM(B8:B14) -> 181618 | C7: =SUM(C8:C14) -> 95136 | D7: =SUM(D8:D14) -> 86482
A8: 29 i mniej | B8: =SUM(C8:D8) -> 303 | C8: 228 | D8: 75
A9: 30 - 39 | B9: =SUM(C9:D9) -> 3086 | C9: 1783 | D9: 1303
A10: 40 - 49 | B10: =SUM(C10:D10) -> 16282 | C10: 7952 | D10: 8330
A11: 50 - 54 | B11: =SUM(C11:D11) -> 19910 | C11: 9420 | D11: 10490
A12: 55 - 59 | B12: =SUM(C12:D12) -> 38227 | C12: 18336 | D12: 19891
A13: 60 - 64 | B13: =SUM(C13:D13) -> 50775 | C13: 35138 | D13: 15637
A14: 65 i więcej | B14: =SUM(C14:D14) -> 53035 | C14: 22279 | D14: 30756
A17: WYKRES NR 5. LICZBA OSÓB POBIERAJĄCYCH RENTY Z TYTUŁU NIEZDOLNOŚCI DO PRACY WEDŁUG WIEKU I PŁCI

Sheet Tab 14 (27) i 15 (28)
A1: ='Tab 8 (21)'!A1:H1 -> II. FUNDUSZ EMERYTALNO-RENTOWY
A3: TABLICA 14 (27). ZASIŁKI MACIERZYŃSKIE
A4: Wyszczególnienie | B4: 2020 rok | D4: 2021 rok
B5: IV kwartał | C5: Rok | D5: III kwartał | E5: IV kwartał | F5: Rok | G5: porównanie (wzrost/spadek)
G6: IV kwartału 2021 r. z III kwartałem 2021 r. | H6: IV kwartału 2021 r. z IV kwartałem 2020 r. | I6: Roku 2021 z rokiem 2020
A7: Liczba świadczeń | B7: 41269 | C7: 174409 | D7: 37631 | E7: 36360 | F7: 153089 | G7: =E7/D7-1 -> -0.033775345 | H7: =E7/B7-1 -> -0.11895127 | I7: =F7/C7-1 -> -0.1222414
A8: Kwota wypłat w zł | B8: 41077583 | C8: 1.7251864e+08 | D8: 36963592 | E8: 35912527 | F8: 1.5135972e+08 | G8: =E8/D8-1 -> -0.028435151 | H8: =E8/B8-1 -> -0.12573905 | I8: =F8/C8-1 -> -0.12264715
A9: Przeciętne świadczenie w zł | B9: =ROUND(B8/B7,2) -> 995.36 | C9: =ROUND(C8/C7,2) -> 989.16 | D9: =ROUND(D8/D7,2) -> 982.26 | E9: =ROUND(E8/E7,2) -> 987.69 | F9: =ROUND(F8/F7,2) -> 988.7 | G9: =E9/D9-1 -> 0.0055280679 | H9: =E9/B9-1 -> -0.0077057547 | I9: =F9/C9-1 -> -0.00046504104
A11: TABLICA 15 (28). ZASIŁKI MACIERZYŃSKIE WEDŁUG WOJEWÓDZTW
A12: Wyszczególnienie | B12: Liczba świadczeń | C12: Kwota wypłat w zł | D12: Przeciętne świadczenie
B13: ROK 2021
A14: OGÓŁEM | B14: =SUM(B15:B30) -> 153089 | C14: =SUM(C15:C30) -> 1.5135972e+08 | D14: =ROUND(C14/B14,2) -> 988.7
A15: dolnośląskie | B15: 3188 | C15: 3176556.3 | D15: =ROUND(C15/B15,2) -> 996.41
A16: kujawsko-pomorskie | B16: 6287 | C16: 6225296.1 | D16: =ROUND(C16/B16,2) -> 990.19
A17: lubelskie | B17: 20615 | C17: 20875263 | D17: =ROUND(C17/B17,2) -> 1012.62
A18: lubuskie | B18: 1400 | C18: 1403034.9 | D18: =ROUND(C18/B18,2) -> 1002.17
A19: łódzkie | B19: 9940 | C19: 9846012.8 | D19: =ROUND(C19/B19,2) -> 990.54
A20: małopolskie | B20: 26670 | C20: 26020742 | D20: =ROUND(C20/B20,2) -> 975.66
A21: mazowieckie | B21: 18584 | C21: 18603229 | D21: =ROUND(C21/B21,2) -> 1001.03
A22: opolskie | B22: 3392 | C22: 3311358.5 | D22: =ROUND(C22/B22,2) -> 976.23
A23: podkarpackie | B23: 14417 | C23: 14139617 | D23: =ROUND(C23/B23,2) -> 980.76
A24: podlaskie | B24: 11204 | C24: 11013070 | D24: =ROUND(C24/B24,2) -> 982.96
A25: pomorskie | B25: 5330 | C25: 5257119.2 | D25: =ROUND(C25/B25,2) -> 986.33
A26: śląskie | B26: 3495 | C26: 3425359.7 | D26: =ROUND(C26/B26,2) -> 980.07
... A30: zachodniopomorskie | B30: 1732 | C30: 1712276.4 | D30: =ROUND(C30/B30,2) -> 988.61

Sheet Tab 16 (29) i 17 (30)
A1: ='Tab 14 (27) i 15 (28)'!A1:I1 -> II. FUNDUSZ EMERYTALNO-RENTOWY
A2: TABLICA 16 (29). ZASIŁKI POGRZEBOWE
A3: Wyszczególnienie | B3: 2020 rok | D3: 2021 rok
B4: IV kwartał | C4: Rok | D4: III kwartał | E4: IV kwartał | F4: Rok | G4: porównanie (wzrost/spadek)
G5: IV kwartału 2021 r. z III kwartałem 2021 r. | H5: IV kwartału 2021 r. z IV kwartałem 2020 r. | I5: Roku 2021 z rokiem 2020
A6: ZASIŁKI POGRZEBOWE OGÓŁEM
A7: Liczba świadczeń | B7: 17098 | C7: 53814 | D7: 11768 | E7: 15395 | F7: 59343 | G7: =E7/D7-1 -> 0.3082087 | H7: =E7/B7-1 -> -0.099602293 | I7: =F7/C7-1 -> 0.10274278
A8: Kwota wypłat w zł | B8: 68383627 | C8: 2.1522591e+08 | D8: 47059160 | E8: 61577202 | F8: 2.3733496e+08 | G8: =E8/D8-1 -> 0.30850618 | H8: =E8/B8-1 -> -0.099532961 | I8: =F8/C8-1 -> 0.10272486
A9: Przeciętne świadczenie w zł | B9: =ROUND(B8/B7,2) -> 3999.51 | C9: =ROUND(C8/C7,2) -> 3999.44 | D9: =ROUND(D8/D7,2) -> 3998.91 | E9: =ROUND(E8/E7,2) -> 3999.82 | F9: =ROUND(F8/F7,2) -> 3999.38 | G9: =E9/D9-1 -> 0.00022756201 | H9: =E9/B9-1 -> 7.7509495e-05 | I9: =F9/C9-1 -> -1.50021e-05
A10: ZASIŁKI POGRZEBOWE PO EMERYTACH I RENCISTACH
A11: Liczba świadczeń | B11: 15476 | C11: 48134 | D11: 10343 | E11: 13798 | F11: 53213 | G11: =E11/D11-1 -> 0.33404235 | H11: =E11/B11-1 -> -0.10842595 | I11: =F11/C11-1 -> 0.10551793
A12: Kwota wypłat w zł | B12: 61895627 | C12: 1.925143e+08 | D12: 41360660 | E12: 55189679 | F12: 2.1282536e+08 | G12: =E12/D12-1 -> 0.33435199 | H12: =E12/B12-1 -> -0.10834284 | I12: =F12/C12-1 -> 0.10550416
A13: Przeciętne świadczenie w zł | B13: =ROUND(B12/B11,2) -> 3999.46 | C13: =ROUND(C12/C11,2) -> 3999.55 | D13: =ROUND(D12/D11,2) -> 3998.9 | E13: =ROUND(E12/E11,2) -> 3999.83 | F13: =ROUND(F12/F11,2) -> 3999.5 | G13: =E13/D13-1 -> 0.00023256396 | H13: =E13/B13-1 -> 9.2512489e-05 | I13: =F13/C13-1 -> -1.2501406e-05
A14: ZASIŁKI POGRZEBOWE PO UBEZPIECZONYCH
A15: Liczba świadczeń | B15: 1077 | C15: 3685 | D15: 920 | E15: 1073 | F15: 4093 | G15: =E15/D15-1 -> 0.16630435 | H15: =E15/B15-1 -> -0.0037140204 | I15: =F15/C15-1 -> 0.11071913
A16: Kwota wypłat w zł | B16: 4308000 | C16: 14736000 | D16: 3680000 | E16: 4291800 | F16: 16371800 | G16: =E16/D16-1 -> 0.16625 | H16: =E16/B16-1 -> -0.0037604457 | I16: =F16/C16-1 -> 0.11100706
A17: Przeciętne świadczenie w zł | B17: =ROUND(B16/B15,2) -> 4000 | C17: =ROUND(C16/C15,2) -> 3998.91 | D17: =ROUND(D16/D15,2) -> 4000 | E17: =ROUND(E16/E15,2) -> 3999.81 | F17: =ROUND(F16/F15,2) -> 3999.95 | G17: =E17/D17-1 -> -4.75e-05 | H17: =E17/B17-1 -> -4.75e-05 | I17: =F17/C17-1 -> 0.00026007087
A18: ZASIŁKI POGRZEBOWE PO CZŁONKACH RODZIN
A19: Liczba świadczeń | B19: 545 | C19: 1995 | D19: 505 | E19: 524 | F19: 2037 | G19: =E19/D19-1 -> 0.037623762 | H19: =E19/B19-1 -> -0.03853211 | I19: =F19/C19-1 -> 0.021052632
A20: Kwota wypłat w zł | B20: 2180000 | C20: 7975610 | D20: 2018500 | E20: 2095723 | F20: 8137802.4 | G20: =E20/D20-1 -> 0.038257617 | H20: =E20/B20-1 -> -0.038659174 | I20: =F20/C20-1 -> 0.02033605
A21: Przeciętne świadczenie w zł | B21: =ROUND(B20/B19,2) -> 4000 | C21: =ROUND(C20/C19,2) -> 3997.8 | D21: =ROUND(D20/D19,2) -> 3997.03 | E21: =ROUND(E20/E19,2) -> 3999.47 | F21: =ROUND(F20/F19,2) -> 3994.99 | G21: =E21/D21-1 -> 0.00061045326 | H21: =E21/B21-1 -> -0.0001325 | I21: =F21/C21-1 -> -0.00070288659
A23: TABLICA 17 (30). ZASIŁKI POGRZEBOWE WEDŁUG WOJEWÓDZTW
A24: Wyszczególnienie | B24: Zasiłki pogrzebowe
B25: Ogółem | D25: z tego:
D26: po emerytach, rencistach | F26: po ubezpieczonych | H26: po członkach rodzin
B27: Liczba świadczeń | C27: Kwota wypłat w zł | D27: Liczba świadczeń | E27: Kwota wypłat w zł | F27: Liczba świadczeń | G27: Kwota wypłat w zł | H27: Liczba świadczeń | I27: Kwota wypłat w zł
B28: ='Tab 14 (27) i 15 (28)'!B13:D13 -> ROK 2021
A29: OGÓŁEM | B29: =SUM(B30:B45) -> 59343 | C29: =SUM(C30:C45) -> 2.3733496e+08 | D29: =SUM(D30:D45) -> 53213 | E29: =SUM(E30:E45) -> 2.1282536e+08 | F29: =SUM(F30:F45) -> 4093 | G29: =SUM(G30:G45) -> 16371800 | H29: =SUM(H30:H45) -> 2037 | I29: =SUM(I30:I45) -> 8137802.4
A30: dolnośląskie | B30: =D30+F30+H30 -> 2027 | C30: =E30+G30+I30 -> 8107996 | D30: 1803 | E30: 7211996 | F30: 139 | G30: 556000 | H30: 85 | I30: 340000
A31: kujawsko-pomorskie | B31: =D31+F31+H31 -> 3931 | C31: =E31+G31+I31 -> 15718550 | D31: 3587 | E31: 14342550 | F31: 231 | G31: 924000 | H31: 113 | I31: 452000
A32: lubelskie | B32: =D32+F32+H32 -> 8185 | C32: =E32+G32+I32 -> 32731250 | D32: 7343 | E32: 29363450 | F32: 569 | G32: 2275800 | H32: 273 | I32: 1092000
A33: lubuskie | B33: =D33+F33+H33 -> 712 | C33: =E33+G33+I33 -> 2846776.3 | D33: 650 | E33: 2598776.3 | F33: 40 | G33: 160000 | H33: 22 | I33: 88000
A34: łódzkie | B34: =D34+F34+H34 -> 5028 | C34: =E34+G34+I34 -> 20109277 | D34: 4549 | E34: 18194777 | F34: 372 | G34: 1488000 | H34: 107 | I34: 426500
A35: małopolskie | B35: =D35+F35+H35 -> 4316 | C35: =E35+G35+I35 -> 17261065 | D35: 3643 | E35: 14570814 | F35: 427 | G35: 1708000 | H35: 246 | I35: 982251
A36: mazowieckie | B36: =D36+F36+H36 -> 9959 | C36: =E36+G36+I36 -> 39824858 | D36: 9026 | E36: 36095530 | F36: 619 | G36: 2476000 | H36: 314 | I36: 1253328.4
A37: opolskie | B37: =D37+F37+H37 -> 1225 | C37: =E37+G37+I37 -> 4899642 | D37: 1084 | E37: 4335642 | F37: 116 | G37: 464000 | H37: 25 | I37: 100000
A38: podkarpackie | B38: =D38+F38+H38 -> 3464 | C38: =E38+G38+I38 -> 13854331 | D38: 3037 | E38: 12150331 | F38: 290 | G38: 1160000 | H38: 137 | I38: 544000
A39: podlaskie | B39: =D39+F39+H39 -> 5176 | C39: =E39+G39+I39 -> 20703830 | D39: 4659 | E39: 18635830 | F39: 331 | G39: 1324000 | H39: 186 | I39: 744000
A40: pomorskie | B40: =D40+F40+H40 -> 1816 | C40: =E40+G40+I40 -> 7264000 | D40: 1644 | E40: 6576000 | F40: 87 | G40: 348000 | H40: 85 | I40: 340000
A41: śląskie | B41: =D41+F41+H41 -> 1297 | C41: =E41+G41+I41 -> 5187421.6 | D41: 1154 | E41: 4615421.6 | F41: 104 | G41: 416000 | H41: 39 | I41: 156000
... A45: zachodniopomorskie | B45: =D45+F45+H45 -> 1352 | C45: =E45+G45+I45 -> 5408000 | D45: 1247 | E45: 4988000 | F45: 61 | G45: 244000 | H45: 44 | I45: 176000

Sheet Tab 1 (31)
A1: III. ŚWIADCZENIA FINANSOWANE Z BUDŻETU PAŃSTWA
A2: TABLICA 1 (31). ŚWIADCZENIA FINANSOWANE Z BUDŻETU PAŃSTWA ZLECONE DO WYPŁATY KASIE ROLNICZEGO UBEZPIECZENIA SPOŁECZNEGO
A3: Wyszczególnienie | B3: 2020 rok | D3: 2021 rok
B4: IV kwartał | C4: Rok | D4: III kwartał | E4: IV kwartał | F4: Rok | G4: porównanie (wzrost/spadek)
G5: IV kwartału 2021 r. z III kwartałem 2021 r. | H5: IV kwartału 2021 r. z IV kwartałem 2020 r. | I5: Roku 2021 z rokiem 2020
A6: ŚWIADCZENIA PIENIĘŻNE DLA INWALIDÓW WOJENNYCH, WOJSKOWYCH I OSÓB REPRESJONOWANYCH
A7: Przeciętna miesięczna liczba osób | B7: 3796 | C7: 4011 | D7: 3340 | E7: 3230 | F7: 3411 | G7: =E7/D7-1 -> -0.032934132 | H7: =E7/B7-1 -> -0.14910432 | I7: =F7/C7-1 -> -0.14958863
A8: Kwota wypłat w zł | B8: 27505741 | C8: 1.1585256e+08 | D8: 25211599 | E8: 24267785 | F8: 1.0206408e+08 | G8: =E8/D8-1 -> -0.037435682 | H8: =E8/B8-1 -> -0.11771927 | I8: =F8/C8-1 -> -0.11901741
A9: Przeciętne świadczenie w zł | B9: 2415.54 | C9: 2406.88 | D9: 2516.38 | E9: 2504.67 | F9: 2493.87 | G9: =E9/D9-1 -> -0.0046535102 | H9: =E9/B9-1 -> 0.036898582 | I9: =F9/C9-1 -> 0.036142226
A10: ZASIŁKI POGRZEBOWE PO INWALIDACH WOJENNYCH, WOJSKOWYCH, OSOBACH REPRESJONOWANYCH I CZŁONKACH ICH RODZIN
A11: Liczba świadczeń | B11: 172 | C11: 556 | D11: 105 | E11: 142 | F11: 547 | G11: =E11/D11-1 -> 0.35238095 | H11: =E11/B11-1 -> -0.1744186 | I11: =F11/C11-1 -> -0.01618705
A12: Kwota wypłat w zł | B12: 688000 | C12: 2221235.2 | D12: 420000 | E12: 568000 | F12: 2188000 | G12: =E12/D12-1 -> 0.35238095 | H12: =E12/B12-1 -> -0.1744186 | I12: =F12/C12-1 -> -0.014962495
A13: Przeciętne świadczenie w zł | B13: =ROUND(B12/B11,2) -> 4000 | C13: =ROUND(C12/C11,2) -> 3995.03 | D13: =ROUND(D12/D11,2) -> 4000 | E13: =ROUND(E12/E11,2) -> 4000 | F13: =ROUND(F12/F11,2) -> 4000 | G13: =E13/D13-1 -> 0 | H13: =E13/B13-1 -> 0 | I13: =F13/C13-1 -> 0.0012440457
A14: DODATKI KOMBATANCKIE
A15: Przeciętna miesięczna liczba świadczeń | B15: 11528 | C15: 12216 | D15: 9913 | E15: 9525 | F15: 10155 | G15: =E15/D15-1 -> -0.039140523 | H15: =E15/B15-1 -> -0.17375087 | I15: =F15/C15-1 -> -0.16871316
A16: Kwota wypłat w zł | B16: 7893829.7 | C16: 33344771 | D16: 7099632.4 | E16: 6803228.4 | F16: 28838627 | G16: =E16/D16-1 -> -0.0417492 | H16: =E16/B16-1 -> -0.1381587 | I16: =F16/C16-1 -> -0.13513796
A17: Przeciętne świadczenie w zł | B17: 228.25 | C17: 227.46 | D17: 238.73 | E17: 238.07 | F17: 236.65 | G17: =E17/D17-1 -> -0.0027646295 | H17: =E17/B17-1 -> 0.043023001 | I17: =F17/C17-1 -> 0.040402708
A18: DODATKI PIENIĘŻNE DLA INWALIDÓW WOJENNYCH
A19: Przeciętna miesięczna liczba świadczeń | B19: 203 | C19: 228 | D19: 155 | E19: 143 | F19: 163 | G19: =E19/D19-1 -> -0.077419355 | H19: =E19/B19-1 -> -0.2955665 | I19: =F19/C19-1 -> -0.28508772
A20: Kwota wypłat w zł | B20: 536958.6 | C20: 2406468 | D20: 426674.7 | E20: 393641.82 | F20: 1780791.5 | G20: =E20/D20-1 -> -0.077419355 | H20: =E20/B20-1 -> -0.26690471 | I20: =F20/C20-1 -> -0.25999785
A21: Wysokość świadczenia w zł | B21: 880.26 | C21: 880.26 | D21: 917.58 | E21: 917.58 | F21: 917.58 | G21: =E21/D21-1 -> 0 | H21: =E21/B21-1 -> 0.042396565 | I21: =F21/C21-1 -> 0.042396565
A22: RYCZAŁTY ENERGETYCZNE
A23: Przeciętna miesięczna liczba świadczeń | B23: 39565 | C23: 41772 | D23: 34374 | E23: 33108 | F23: 35175 | G23: =E23/D23-1 -> -0.036830162 | H23: =E23/B23-1 -> -0.1631998 | I23: =F23/C23-1 -> -0.15792876
A24: Kwota wypłat w zł | B24: 20219015 | C24: 85624463 | D24: 18510005 | E24: 17773756 | F24: 75013422 | G24: =E24/D24-1 -> -0.039775731 | H24: =E24/B24-1 -> -0.12093855 | I24: =F24/C24-1 -> -0.12392534
A25: Przeciętne świadczenie w zł | B25: 170.35 | C25: 170.82 | D25: 179.49 | E25: 178.95 | F25: 177.72 | G25: =E25/D25-1 -> -0.0030085242 | H25: =E25/B25-1 -> 0.050484297 | I25: =F25/C25-1 -> 0.040393397
A26: ŚWIADCZENIA PIENIĘŻNE DLA ŻOŁNIERZY ZASTĘPCZEJ SŁUŻBY WOJSKOWEJ
A27: Przeciętna miesięczna liczba świadczeń | B27: 3198 | C27: 3408 | D27: 2646 | E27: 2520 | F27: 2729 | G27: =E27/D27-1 -> -0.047619048 | H27: =E27/B27-1 -> -0.2120075 | I27: =F27/C27-1 -> -0.19923709
A28: Kwota wypłat w zł | B28: 2187823.6 | C28: 9300190 | D28: 1893793.3 | E28: 1798408.6 | F28: 7739823 | G28: =E28/D28-1 -> -0.050366996 | H28: =E28/B28-1 -> -0.17799192 | I28: =F28/C28-1 -> -0.16777797
A29: Przeciętne świadczenie w zł | B29: 228.04 | C29: 227.42 | D29: 238.6 | E29: 237.88 | F29: 236.32 | G29: =E29/D29-1 -> -0.0030176027 | H29: =E29/B29-1 -> 0.043150325 | I29: =F29/C29-1 -> 0.039134641
A30: ŚWIADCZENIA PIENIĘŻNE DLA OSÓB DEPORTOWANYCH DO PRACY PRZYMUSOWEJ
A31: Przeciętna miesięczna liczba świadczeń | B31: 8044 | C31: 8579 | D31: 6839 | E31: 6514 | F31: 7010 | G31: =E31/D31-1 -> -0.047521567 | H31: =E31/B31-1 -> -0.19020388 | I31: =F31/C31-1 -> -0.18288845
A32: Kwota wypłat w zł | B32: 4956380.9 | C32: 21098873 | D32: 4389683.1 | E32: 4162973.7 | F32: 17839317 | G32: =E32/D32-1 -> -0.051645974 | H32: =E32/B32-1 -> -0.16007793 | I32: =F32/C32-1 -> -0.15448962
A33: Przeciętne świadczenie w zł | B33: 205.39 | C33: 204.95 | D33: 213.95 | E33: 213.03 | F33: 212.08 | G33: =E33/D33-1 -> -0.0043000701 | H33: =E33/B33-1 -> 0.037197527 | I33: =F33/C33-1 -> 0.034788973
A34: DODATKI KOMPENSACYJNE
A35: Przeciętna miesięczna liczba świadczeń | B35: 33504 | C35: 35583 | D35: 28658 | E35: 27465 | F35: 29398 | G35: =E35/D35-1 -> -0.041628865 | H35: =E35/B35-1 -> -0.18024713 | I35: =F35/C35-1 -> -0.17381896
A36: Kwota wypłat w zł | B36: 3442895.1 | C36: 14578385 | D36: 3082930.1 | E36: 2945013.1 | F36: 12536884 | G36: =E36/D36-1 -> -0.044735685 | H36: =E36/B36-1 -> -0.14461142 | I36: =F36/C36-1 -> -0.14003611
A37: Przeciętne świadczenie w zł | B37: 34.25 | C37: 34.14 | D37: 35.86 | E37: 35.74 | F37: 35.54 | G37: =E37/D37-1 -> -0.0033463469 | H37: =E37/B37-1 -> 0.04350365 | I37: =F37/C37-1 -> 0.041007616
A38: ŚWIADCZENIA PIENIĘŻNE DLA CYWILNYCH NIEWIDOMYCH OFIAR DZIAŁAŃ WOJENNYCH
A39: Przeciętna miesięczna liczba świadczeń | B39: 10 | C39: 10 | D39: 9 | E39: 8 | F39: 9 | G39: =E39/D39-1 -> -0.11111111 | H39: =E39/B39-1 -> -0.2 | I39: =F39/C39-1 -> -0.1
A40: Kwota wypłat w zł | B40: 25676.88 | C40: 103317.92 | D40: 24529.71 | E40: 22559.85 | F40: 97427 | G40: =E40/D40-1 -> -0.080305067 | H40: =E40/B40-1 -> -0.12139442 | I40: =F40/C40-1 -> -0.057017435
A41: Przeciętne świadczenie w zł | B41: 885.41 | C41: 868.22 | D41: 943.45 | E41: 939.99 | F41: 936.8 | G41: =E41/D41-1 -> -0.003667391 | H41: =E41/B41-1 -> 0.061643758 | I41: =F41/C41-1 -> 0.078989196
A42: DODATKI DLA WETERANA POSZKODOWANEGO
A43: Przeciętna miesięczna liczba świadczeń | B43: 1 | C43: 1 | D43: 1 | E43: 1 | F43: 1 | G43: =E43/D43-1 -> 0 | H43: =E43/B43-1 -> 0 | I43: =F43/C43-1 -> 0
A44: Kwota wypłat w zł | B44: 360 | C44: 1420 | D44: 375.27 | E44: 375.27 | F44: 1490.9 | G44: =E44/D44-1 -> 0 | H44: =E44/B44-1 -> 0.042416667 | I44: =F44/C44-1 -> 0.049929577
A45: Przeciętne świadczenie w zł | B45: 120 | C45: 118.33 | D45: 125.09 | E45: 125.09 | F45: 124.24 | G45: =E45/D45-1 -> 0 | H45: =E45/B45-1 -> 0.042416667 | I45: =F45/C45-1 -> 0.049945069
A46: RODZICIELSKIE ŚWIADCZENIA UZUPEŁNIAJĄCE
A47: Przeciętna miesięczna liczba osób | B47: 1062 | C47: 974 | D47: 1194 | E47: 1238 | F47: 1172 | G47: =E47/D47-1 -> 0.036850921 | H47: =E47/B47-1 -> 0.16572505 | I47: =F47/C47-1 -> 0.20328542
A48: Kwota wypłat w zł | B48: 3953463 | C48: 14393101 | D48: 4601993.4 | E48: 4758660.7 | F48: 17991522 | G48: =E48/D48-1 -> 0.034043372 | H48: =E48/B48-1 -> 0.20366896 | I48: =F48/C48-1 -> 0.25001015
A49: Wysokość świadczenia w zł | B49: 1200 | C49: 1200 | D49: 1250.88 | E49: 1250.88 | F49: 1250.88 | G49: =E49/D49-1 -> 0 | H49: =E49/B49-1 -> 0.0424 | I49: =F49/C49-1 -> 0.0424
A50: RENTY SOCJALNE
A51: Przeciętna miesięczna liczba osób | B51: 11855 | C51: 11828 | D51: 11832 | E51: 11821 | F51: 11833 | G51: =E51/D51-1 -> -0.00092968222 | H51: =E51/B51-1 -> -0.0028679882 | I51: =F51/C51-1 -> 0.00042272574
A52: Kwota wypłat w zł | B52: 43130909 | C52: 1.6995091e+08 | D52: 44862216 | E52: 44705282 | F52: 1.7788819e+08 | G52: =E52/D52-1 -> -0.0034981221 | H52: =E52/B52-1 -> 0.036502212 | I52: =F52/C52-1 -> 0.046703329
A53: Przeciętne świadczenie w zł | B53: 1212.77 | C53: 1197.43 | D53: 1263.83 | E53: 1260.62 | F53: 1252.72 | G53: =E53/D53-1 -> -0.0025398986 | H53: =E53/B53-1 -> 0.039455132 | I53: =F53/C53-1 -> 0.046173889
A54: ŚWIADCZENIE UZUPEŁNIAJĄCE DLA OSÓB NIEZDOLNYCH DO SAMODZIELNEJ EGZYSTENCJI
A55: Przeciętna miesięczna liczba świadczeń | B55: 195488 | C55: 166709 | D55: 194818 | E55: 195215 | F55: 195033 | G55: =E55/D55-1 -> 0.0020377994 | H55: =E55/B55-1 -> -0.0013965052 | I55: =F55/C55-1 -> 0.16990085
A56: Kwota wypłat w zł | B56: 3.1367327e+08 | C56: 1.233468e+09 | D56: 2.9841134e+08 | E56: 2.9849153e+08 | F56: 1.1959564e+09 | G56: =E56/D56-1 -> 0.00026874039 | H56: =E56/B56-1 -> -0.048399843 | I56: =F56/C56-1 -> -0.03041147
A57: Przeciętne świadczenie w zł | B57: 534.85 | C57: 616.58 | D57: 510.58 | E57: 509.68 | F57: 511.01 | G57: =E57/D57-1 -> -0.0017627012 | H57: =E57/B57-1 -> -0.047059923 | I57: =F57/C57-1 -> -0.17121866
A58: ŚWIADCZENIA WYRÓWNAWCZE DLA DZIAŁACZY OPOZYCJI ANTYKOMUNISTYCZNEJ ORAZ OSÓB REPRESJONOWANYCH Z POWODÓW POLITYCZNYCH
A59: Przeciętna miesięczna liczba świadczeń1) | B59: 82 | C59: 82 | D59: 256 | E59: 274 | F59: 244 | G59: =E59/D59-1 -> 0.0703125 | H59: =E59/B59-1 -> 2.3414634 | I59: =F59/C59-1 -> 1.9756098
A60: Kwota wypłat w zł1) | B60: 445332.4 | C60: 445332.4 | D60: 936691.91 | E60: 992885.12 | F60: 3790087.1 | G60: =E60/D60-1 -> 0.059991134 | H60: =E60/B60-1 -> 1.2295371 | I60: =F60/C60-1 -> 7.5106925
A61: Przeciętne świadczenie w zł | B61: 1802.97 | C61: 1802.97 | D61: 1218.06 | E61: 1209.36 | F61: 1294.43 | G61: =E61/D61-1 -> -0.0071425053 | H61: =E61/B61-1 -> -0.32924009 | I61: =F61/C61-1 -> -0.28205683
A62: 1) Dane od miesiąca listopada 2020 r. - ze względu na niepełne okresy dane są nieporównywalne.

Sheet Tab 1 (32) i 2 (33)
A1: IV. FUNDUSZ SKŁADKOWY
A3: TABLICA 1 (32). ZASIŁKI CHOROBOWE I JEDNORAZOWE ODSZKODOWANIA
A4: Wyszczególnienie | B4: 2020 rok | D4: 2021 rok
B5: IV kwartał | C5: Rok | D5: III kwartał | E5: IV kwartał | F5: Rok | G5: porównanie (wzrost/spadek)
G6: IV kwartału 2021 r. z III kwartałem 2021 r. | H6: IV kwartału 2021 r. z IV kwartałem 2020 r. | I6: Roku 2021 z rokiem 2020
A7: ZASIŁKI CHOROBOWE
A8: Liczba dni | B8: 5575375 | C8: 22176205 | D8: 5126457 | E8: 5641221 | F8: 21674882 | G8: =E8/D8-1 -> 0.10041321 | H8: =E8/B8-1 -> 0.011810147 | I8: =F8/C8-1 -> -0.022606348
A9: w tym zasiłki chorobowe o przedłużonym okresie zasiłku | B9: 628913 | C9: 2460483 | D9: 528159 | E9: 579596 | F9: 2133576 | G9: =E9/D9-1 -> 0.097389233 | H9: =E9/B9-1 -> -0.078416252 | I9: =F9/C9-1 -> -0.13286294
A10: Kwota wypłat w zł | B10: 55916015 | C10: 2.2193433e+08 | D10: 51325392 | E10: 57430888 | F10: 2.1847504e+08 | G10: =E10/D10-1 -> 0.11895665 | H10: =E10/B10-1 -> 0.02709194 | I10: =F10/C10-1 -> -0.015587019
A11: w tym zasiłki chorobowe o przedłużonym okresie zasiłku | B11: 6290625 | C11: 24606866 | D11: 5282975 | E11: 5865587 | F11: 21407557 | G11: =E11/D11-1 -> 0.11028104 | H11: =E11/B11-1 -> -0.067566902 | I11: =F11/C11-1 -> -0.13001692
A12: Przeciętny zasiłek za 1 dzień w zł | B12: =ROUND(B10/B8,2) -> 10.03 | C12: =ROUND(C10/C8,2) -> 10.01 | D12: =ROUND(D10/D8,2) -> 10.01 | E12: =ROUND(E10/E8,2) -> 10.18 | F12: =ROUND(F10/F8,2) -> 10.08 | G12: =E12/D12-1 -> 0.016983017 | H12: =E12/B12-1 -> 0.014955135 | I12: =F12/C12-1 -> 0.006993007
A13: JEDNORAZOWE ODSZKODOWANIA
A14: Liczba świadczeń | B14: 1441 | C14: 7986 | D14: 2294 | E14: 2367 | F14: 9889 | G14: =E14/D14-1 -> 0.031822145 | H14: =E14/B14-1 -> 0.6426093 | I14: =F14/C14-1 -> 0.23829201
A15: Kwota wypłat w zł | B15: 9090465 | C15: 46067530 | D15: 13798713 | E15: 14109143 | F15: 58821184 | G15: =E15/D15-1 -> 0.022497026 | H15: =E15/B15-1 -> 0.55208155 | I15: =F15/C15-1 -> 0.27684692
A16: Przeciętne świadczenie w zł | B16: =ROUND(B15/B14,2) -> 6308.44 | C16: =ROUND(C15/C14,2) -> 5768.54 | D16: =ROUND(D15/D14,2) -> 6015.13 | E16: =ROUND(E15/E14,2) -> 5960.77 | F16: =ROUND(F15/F14,2) -> 5948.14 | G16: =E16/D16-1 -> -0.0090372112 | H16: =E16/B16-1 -> -0.055111882 | I16: =F16/C16-1 -> 0.031134394
A18: TABLICA 2 (33). ZASIŁKI CHOROBOWE I JEDNORAZOWE ODSZKODOWANIA WEDŁUG WOJEWÓDZTW
A19: Wyszczególnienie | B19: Zasiłki chorobowe | F19: Jednorazowe odszkodowania
B20: ogółem | D20: w tym: zasiłki chorobowe o przedłużonym okresie zasiłku
B21: Liczba dni | C21: Kwota wypłat w zł | D21: Liczba dni | E21: Kwota wypłat w zł | F21: Liczba świadczeń | G21: Kwota wypłat w zł
B22: ='Tab 16 (29) i 17 (30)'!B28:I28 -> ROK 2021
A23: OGÓŁEM | B23: =SUM(B24:B39) -> 21674882 | C23: =SUM(C24:C39) -> 2.1847504e+08 | D23: =SUM(D24:D39) -> 2133576 | E23: =SUM(E24:E39) -> 21407557 | F23: =SUM(F24:F39) -> 9889 | G23: =SUM(G24:G39) -> 58821184
A24: dolnośląskie | B24: 546237 | C24: 5548800 | D24: 52335 | E24: 529970 | F24: 290 | G24: 1748249
A25: kujawsko-pomorskie | B25: 1249660 | C25: 12723237 | D25: 171706 | E25: 1740522 | F25: 692 | G25: 4319230
A26: lubelskie | B26: 3603948 | C26: 36189086 | D26: 332162 | E26: 3321270 | F26: 1365 | G26: 7792120
A27: lubuskie | B27: 185098 | C27: 1871245 | D27: 30928 | E27: 310470 | F27: 104 | G27: 714347
A28: łódzkie | B28: 2005488 | C28: 20116438 | D28: 214365 | E28: 2143705 | F28: 785 | G28: 4788459
A29: małopolskie | B29: 2203087 | C29: 22106765 | D29: 173690 | E29: 1737840 | F29: 792 | G29: 4775639
A30: mazowieckie | B30: 2813371 | C30: 28510215 | D30: 287842 | E30: 2895720 | F30: 1422 | G30: 9217278
A31: opolskie | B31: 304070 | C31: 3061662.7 | D31: 25160 | E31: 251340 | F31: 124 | G31: 724460
A32: podkarpackie | B32: 2026877 | C32: 20327834 | D32: 125582 | E32: 1255780 | F32: 656 | G32: 3119101
A33: podlaskie | B33: 1103411 | C33: 11192900 | D33: 191937 | E33: 1925460 | F33: 910 | G33: 5629460.5
A34: pomorskie | B34: 718442 | C34: 7215125 | D34: 87146 | E34: 872210 | F34: 335 | G34: 2369966.5
A35: śląskie | B35: 454267 | C35: 4562885 | D35: 34353 | E35: 344050 | F35: 161 | G35: 1027430
... A39: zachodniopomorskie | B39: 292253 | C39: 2939640 | D39: 33923 | E39: 339230 | F39: 139 | G39: 848641

Sheet Wykres 6
A1: IV. FUNDUSZ SKŁADKOWY
A31: Dane do wykresu nr 4
B32: Zasiłki chorobowe | C32: Jednorazowe odszkodowania | D32: Ogółem
A33: Kwota w zł | B33: ='Tab 1 (32) i 2 (33)'!F10 -> 2.1847504e+08 | C33: ='Tab 1 (32) i 2 (33)'!F15 -> 58821184 | D33: =SUM(B33:C33) -> 2.7729622e+08
A34: Udział procentowy | B34: =B33/$D$33 -> 0.787876 | C34: =C33/$D$33 -> 0.212124 | D34: =D33/$D$33 -> 1

Sheet Tab 3 (34) i 4 (35)
A1: ='Tab 1 (32) i 2 (33)'!A1:G1 -> IV. FUNDUSZ SKŁADKOWY
A2: TABLICA 3 (34). WYPADKI PRZY PRACY ROLNICZEJ I CHOROBY ZAWODOWE ROLNIKÓW
A3: Wyszczególnienie | C3: 2020 rok | E3: 2021 rok
C4: IV kwartał | D4: Rok | E4: III kwartał | F4: IV kwartał | G4: Rok | H4: porównanie (wzrost/spadek)
H5: IV kwartału 2021 r. z III kwartałem 2021 r. | I5: IV kwartału 2021 r. z IV kwartałem 2020 r. | J5: Roku 2021 z rokiem 2020
A6: WYPADKI PRZY PRACY ROLNICZEJ
A7: Liczba zdarzeń zgłoszonych jako wypadki przy pracy rolniczej | C7: 2291 | D7: 10974 | E7: 3195 | F7: 2876 | G7: 12088 | H7: =F7/E7-1 -> -0.099843505 | I7: =F7/C7-1 -> 0.25534701 | J7: =G7/D7-1 -> 0.10151267
A8: Liczba zdarzeń uznanych za wypadki przy pracy rolniczej | C8: 1716 | D8: 9957 | E8: 2761 | F8: 2555 | G8: 11597 | H8: =F8/E8-1 -> -0.074610648 | I8: =F8/C8-1 -> 0.48892774 | J8: =G8/D8-1 -> 0.16470825
A9: Liczba decyzji przyznających świadczenia | C9: 1325 | D9: 7872 | E9: 2244 | F9: 2123 | G9: 9595 | H9: =F9/E9-1 -> -0.053921569 | I9: =F9/C9-1 -> 0.60226415 | J9: =G9/D9-1 -> 0.21887703
A10: w tym śmiertelnych | C10: 11 | D10: 35 | E10: 10 | F10: 15 | G10: 45 | H10: =F10/E10-1 -> 0.5 | I10: =F10/C10-1 -> 0.36363636 | J10: =G10/D10-1 -> 0.28571429
A11: Liczba decyzji odmawiających świadczenia | C11: 634 | D11: 3328 | E11: 804 | F11: 677 | G11: 3267 | H11: =F11/E11-1 -> -0.1579602 | I11: =F11/C11-1 -> 0.067823344 | J11: =G11/D11-1 -> -0.018329327
A12: CHOROBY ZAWODOWE
A13: Liczba zarejestrowanych wniosków o jednorazowe odszkodowanie zakończonych wydaniem decyzji | C13: 58 | D13: 302 | E13: 84 | F13: 60 | G13: 321 | H13: =F13/E13-1 -> -0.28571429 | I13: =F13/C13-1 -> 0.034482759 | J13: =G13/D13-1 -> 0.062913907
A14: Liczba decyzji przyznających świadczenia | C14: 49 | D14: 233 | E14: 54 | F14: 38 | G14: 209 | H14: =F14/E14-1 -> -0.2962963 | I14: =F14/C14-1 -> -0.2244898 | J14: =G14/D14-1 -> -0.10300429
A15: w tym śmiertelnych | C15: 0 | D15: 0 | E15: 0 | F15: 0 | G15: 0 | H15: - | I15: - | J15: -
A16: Liczba decyzji odmawiających świadczenia | C16: 12 | D16: 73 | E16: 28 | F16: 19 | G16: 106 | H16: =F16/E16-1 -> -0.32142857 | I16: =F16/C16-1 -> 0.58333333 | J16: =G16/D16-1 -> 0.45205479
A18: TABLICA 4 (35). WYPADKI I CHOROBY ZAWODOWE, Z TYTUŁU KTÓRYCH PRZYZNANO JEDNORAZOWE ODSZKODOWANIA WEDŁUG WOJEWÓDZTW
A19: Wyszczególnienie | B19: Liczba wypadków | E19: z tego według rodzajów zdarzeń: | J19: Liczba chorób zawodowych
B20: Ogółem | C20: w tym śmiertelnych | D20: na 1000 ubezpieczonych (wg decyzji przyznających jednorazowe odszkodowania) | E20: upadek osób | F20: upadek przedmiotów | G20: pochwycenie, uderzenie przez części ruchome maszyn i urządzeń | H20: uderzenie, przygniecenie, pogryzienie przez zwierzęta | I20: pozostałe
B21: ='Tab 8 (21)'!B9:H9 -> ROK 2021
A22: OGÓŁEM | B22: =SUM(B23:B38) -> 9595 | C22: =SUM(C23:C38) -> 45 | D22: 8.3 | E22: =SUM(E23:E38) -> 4812 | F22: =SUM(F23:F38) -> 525 | G22: =SUM(G23:G38) -> 1221 | H22: =SUM(H23:H38) -> 1130 | I22: =SUM(I23:I38) -> 1907 | J22: =SUM(J23:J38) -> 209
A23: dolnośląskie | B23: 287 | C23: 2 | D23: 7.2 | E23: 149 | F23: 17 | G23: 38 | H23: 14 | I23: 69 | J23: 3
A24: kujawsko pomorskie | B24: 659 | C24: 5 | D24: 10.6 | E24: 289 | F24: 34 | G24: 88 | H24: 93 | I24: 155 | J24: 9
A25: lubelskie | B25: 1344 | C25: 5 | D25: 9.1 | E25: 713 | F25: 80 | G25: 177 | H25: 80 | I25: 294 | J25: 25
A26: lubuskie | B26: 93 | C26: 0 | D26: 6.8 | E26: 41 | F26: 7 | G26: 8 | H26: 15 | I26: 22 | J26: 12
A27: łódzkie | B27: 795 | C27: 2 | D27: 8.7 | E27: 420 | F27: 50 | G27: 102 | H27: 90 | I27: 133 | J27: 8
A28: małopolskie | B28: 792 | C28: 3 | D28: 5.9 | E28: 476 | F28: 42 | G28: 108 | H28: 42 | I28: 124 | J28: 12
A29: mazowieckie | B29: 1378 | C29: 7 | D29: 8.3 | E29: 707 | F29: 66 | G29: 180 | H29: 184 | I29: 241 | J29: 27
A30: opolskie | B30: 119 | C30: 0 | D30: 4.8 | E30: 64 | F30: 9 | G30: 18 | H30: 8 | I30: 20 | J30: 1
A31: podkarpackie | B31: 641 | C31: 1 | D31: 7.6 | E31: 375 | F31: 32 | G31: 84 | H31: 27 | I31: 123 | J31: 14
A32: podlaskie | B32: 864 | C32: 5 | D32: 10.7 | E32: 358 | F32: 52 | G32: 95 | H32: 209 | I32: 150 | J32: 23
A33: pomorskie | B33: 327 | C33: 5 | D33: 8.5 | E33: 156 | F33: 17 | G33: 44 | H33: 50 | I33: 60 | J33: 5
A34: śląskie | B34: 153 | C34: 0 | D34: 4.8 | E34: 81 | F34: 11 | G34: 15 | H34: 13 | I34: 33 | J34: 8
... A38: zachodniopomorskie | B38: 132 | C38: 0 | D38: 5.6 | E38: 60 | F38: 9 | G38: 23 | H38: 11 | I38: 29 | J38: 2

Sheet Wykres 7
B1: IV. FUNDUSZ SKŁADKOWY
B18: Dane do wykresu nr 7
C19: Upadek osób | D19: Upadek przedmiotów | E19: Pochwycenie, uderzenie przez części ruchome maszyn i urządzeń | F19: Uderzenie, przygniecenie, pogryzienie przez zwierzęta | G19: Pozostałe | H19: Ogółem
B20: Liczba | C20: ='Tab 3 (34) i 4 (35)'!E22 -> 4812 | D20: ='Tab 3 (34) i 4 (35)'!F22 -> 525 | E20: ='Tab 3 (34) i 4 (35)'!G22 -> 1221 | F20: ='Tab 3 (34) i 4 (35)'!H22 -> 1130 | G20: ='Tab 3 (34) i 4 (35)'!I22 -> 1907 | H20: =SUM(C20:G20) -> 9595
B21: Udział procentowy | C21: =ROUND(C20/$H$20,2) -> 0.5 | D21: =ROUND(D20/$H$20,2) -> 0.05 | E21: =ROUND(E20/$H$20,2) -> 0.13 | F21: =ROUND(F20/$H$20,2) -> 0.12 | G21: =ROUND(G20/$H$20,2) -> 0.2 | H21: =H20/$H$20 -> 1

Sheet Tab 1 (36)
A1: V. UBEZPIECZENIE SPOŁECZNE ROLNIKÓW
A2: TABLICA 1 (36). LICZBA PŁATNIKÓW SKŁADEK WEDŁUG WOJEWÓDZTW
A3: Wyszczególnienie | B3: Liczba płatników ogółem | C3: w tym: | E3: z tego:
C4: liczba płatników czynnych | D4: w tym płatników czynnych, którzy zawarli z pomocnikami umowy o pomocy przy zbiorach | E4: w Funduszu Składkowym (wyłącznie ubezpieczenie wypadkowe, chorobowe i macierzyńskie) | G4: w Funduszu Emerytalno-Rentowym (wyłącznie ubezpieczenie emerytalno-rentowe) | K4: w Funduszu Składkowym i Emerytalno-Rentowym (łącznie ubezpieczenie wypadkowe, chorobowe i macierzyńskie oraz emerytalno-rentowe)
E5: razem | F5: w tym czynnych | G5: razem | H5: w tym czynnych | I5: w tym | K5: razem | L5: w tym czynnych
I6: pobierających renty strukturalne | J6: konta założone w związku z art. 16c
B7: STAN NA DZIEŃ 31 GRUDNIA 2021 R.
A8: OGÓŁEM | B8: =SUM(B9:B24) -> 864187 | C8: =SUM(C9:C24) -> 839040 | D8: =SUM(D9:D24) -> 495 | E8: =SUM(E9:E24) -> 6357 | F8: =SUM(F9:F24) -> 4310 | G8: =SUM(G9:G24) -> 8563 | H8: =SUM(H9:H24) -> 6215 | I8: =SUM(I9:I24) -> 3 | ... L8: =SUM(L9:L24) -> 828515
A9: dolnośląskie | B9: =E9+G9+K9 -> 31701 | C9: 29998 | D9: 15 | E9: 282 | F9: 72 | G9: 560 | H9: 237 | I9: 1 | J9: 0 | K9: 30859 | L9: 29689
A10: kujawsko-pomorskie | B10: =E10+G10+K10 -> 45539 | C10: 44085 | D10: 19 | E10: 380 | F10: 286 | G10: 460 | H10: 358 | I10: 0 | J10: 0 | K10: 44699 | L10: 43441
A11: lubelskie | B11: =E11+G11+K11 -> 113258 | C11: 109476 | D11: 31 | E11: 429 | F11: 255 | G11: 724 | H11: 563 | I11: 0 | J11: 0 | K11: 112105 | L11: 108658
A12: lubuskie | B12: =E12+G12+K12 -> 10730 | C12: 10408 | D12: 8 | E12: 61 | F12: 51 | G12: 101 | H12: 85 | I12: 0 | J12: 0 | K12: 10568 | L12: 10272
A13: łódzkie | B13: =E13+G13+K13 -> 69248 | C13: 66692 | D13: 60 | E13: 673 | F13: 448 | G13: 772 | H13: 466 | I13: 0 | J13: 0 | K13: 67803 | L13: 65778
A14: małopolskie | B14: =E14+G14+K14 -> 101505 | C14: 99503 | D14: 13 | E14: 1654 | F14: 1468 | G14: 894 | H14: 767 | I14: 0 | J14: 0 | K14: 98957 | L14: 97268
A15: mazowieckie | B15: =E15+G15+K15 -> 121062 | C15: 117315 | D15: 211 | E15: 977 | F15: 450 | G15: 1297 | H15: 923 | I15: 0 | J15: 0 | K15: 118788 | L15: 115942
A16: opolskie | B16: =E16+G16+K16 -> 18316 | C16: 17973 | D16: 1 | E16: 53 | F16: 36 | G16: 134 | H16: 111 | I16: 0 | J16: 0 | K16: 18129 | L16: 17826
A17: podkarpackie | B17: =E17+G17+K17 -> 67881 | C17: 66555 | D17: 4 | E17: 295 | F17: 231 | G17: 596 | H17: 500 | I17: 0 | J17: 0 | K17: 66990 | L17: 65824
A18: podlaskie | B18: =E18+G18+K18 -> 55316 | C18: 54306 | D18: 2 | E18: 186 | F18: 148 | G18: 517 | H18: 468 | I18: 0 | J18: 0 | K18: 54613 | L18: 53690
A19: pomorskie | B19: =E19+G19+K19 -> 27379 | C19: 26513 | D19: 10 | E19: 159 | F19: 70 | G19: 371 | H19: 226 | I19: 1 | J19: 0 | K19: 26849 | L19: 26217
A20: śląskie | B20: =E20+G20+K20 -> 25458 | C20: 24881 | D20: 9 | E20: 91 | F20: 63 | G20: 281 | H20: 233 | I20: 0 | J20: 0 | K20: 25086 | L20: 24585
... A24: zachodniopomorskie | B24: =E24+G24+K24 -> 19058 | C24: 17866 | D24: 6 | E24: 193 | F24: 40 | G24: 365 | H24: 161 | I24: 1 | J24: 0 | K24: 18500 | L24: 17665

Sheet Tab 2 (37) i 3 (38)
A1: ='Tab 4 (39)'!A1:H1 -> V. UBEZPIECZENIE SPOŁECZNE ROLNIKÓW
A2: TABLICA 2 (37). LICZBA UBEZPIECZONYCH WEDŁUG STATUSU UBEZPIECZONEGO
A3: Wyszczególnienie | B3: Ogółem 1) 2) 3) | C3: z tego:
C4: Fundusz Składkowy (ubezpieczenie wypadkowe, chorobowe i macierzyńskie na wniosek) | D4: Fundusz Składkowy (ubezpieczenie wypadkowe, chorobowe i macierzyńskie z mocy ustawy w zakresie ograniczonym) 1) | E4: Fundusz Emerytalno-Rentowy (ubezpieczenie emerytalno-rentowe na wniosek) | F4: Fundusz Emerytalno-Rentowy (ubezpieczenie emerytalno-rentowe z mocy ustawy) 2) | G4: Fundusz Składkowy i Emerytalno-Rentowy (łącznie objętych ubezpieczeniem wypadkowym, chorobowym i macierzyńskim oraz ubezpieczeniem emerytalno-rentowym) | H4: w tym: ubezpieczeni na wniosek
B5: ='Tab 1 (36)'!B7:L7 -> STAN NA DZIEŃ 31 GRUDNIA 2021 R.
A6: OGÓŁEM | B6: =SUM(B8:B13) -> 1134603 | C6: =SUM(C8:C13) -> 10046 | D6: =SUM(D8:D13) -> 1431 | E6: =SUM(E8:E13) -> 14650 | F6: =SUM(F8:F13) -> 3 | G6: =SUM(G8:G13) -> 1108473 | H6: =SUM(H8:H13) -> 120129
A7: z tego:
A8: Liczba rolników | B8: =SUM(C8:G8) -> 679189 | C8: 5276 | D8: 0 | E8: 3134 | F8: 3 | G8: 670776 | H8: 76121
A9: Liczba współmałżonków | B9: =SUM(C9:G9) -> 297825 | C9: 1609 | D9: 0 | E9: 1393 | F9: 0 | G9: 294823 | H9: 23903
A10: Liczba domowników | B10: =SUM(C10:G10) -> 146253 | C10: 3161 | D10: 0 | E10: 218 | F10: 0 | G10: 142874 | H10: 20105
A11: Liczba pomocników rolnika | B11: =SUM(C11:G11) -> 1431 | C11: 0 | D11: 1431 | E11: 0 | F11: 0 | G11: 0 | H11: 0
A12: Liczba ubezpieczonych z tytułu przyznania świadczenia pielęgnacyjnego lub specjalnego zasiłku opiekuńczego albo zasiłku dla opiekuna | B12: =SUM(C12:G12) -> 9894 | C12: 0 | D12: 0 | E12: 9894 | F12: 0 | G12: 0 | H12: 0
A13: Liczba członków rodzin sprawujących opiekę nad dzieckiem 3) | B13: =SUM(C13:G13) -> 11 | C13: 0 | D13: 0 | E13: 11 | F13: 0 | G13: 0 | H13: 0
A14: 1) Liczba pomocników rolnika podlegających ubezpieczeniu wypadkowemu, chorobowemu i macierzyńskiemu z mocy ustawy w zakresie ograniczonym do jednorazowego odszkodowania z tytułu stałego lub długotrwałego uszczerbku na zdrowiu albo śmierci wskutek wypadku przy pracy rolniczej lub rolniczej choroby zawodowej z tytułu świadczenia odpłatnej pomocy przy zbiorach chmielu, owoców warzyw, tytoniu, ziół i roślin zielarskich.
A15: 2) Liczba rolników/współmałżonków podlegających obowiązkowo ubezpieczeniu z tytułu pobierania renty strukturalnej przyznanej i wypłacanej przez Agencję Restrukturyzacji i Modernizacji Rolnictwa zgodnie z ustawą z dnia 28 listopada 2003 r. o wspieraniu rozwoju obszarów wiejskich ze środków pochodzących z Sekcji Gwarancji Europejskiego Funduszu Orientacji i Gwarancji Rolnej.
A16: 3) Liczba członków rodzin (rolnika lub domownika) sprawujących opiekę nad dzieckiem podlegających ubezpieczeniu emerytalno-rentowemu na wniosek na podstawie art.16c ustawy o ubezpieczeniu społecznym rolników.
A18: TABLICA 3 (38). LICZBA UBEZPIECZONYCH I PŁATNIKÓW SKŁADEK
A19: Wyszczególnienie | B19: 2020 rok | D19: 2021 rok
B20: IV kwartał (stan na dzień 31 grudnia) | C20: Przeciętna z roku | D20: III kwartał (stan na dzień 30 września) | E20: IV kwartał (stan na dzień 31 grudnia) | F20: Przeciętna z roku | G20: porównanie (wzrost/spadek)
G21: IV kwartału 2021 r. z III kwartałem 2021 r. | H21: IV kwartału 2021 r. z IV kwartałem 2020 r. | I21: Roku 2021 z rokiem 2020
A22: LICZBA PŁATNIKÓW
A23: OGÓŁEM | B23: 890882 | C23: 900236 | D23: 872520 | E23: 864187 | F23: 875073 | G23: =E23/D23-1 -> -0.0095504974 | H23: =E23/B23-1 -> -0.029964687 | I23: =F23/C23-1 -> -0.027951559
A24: Fundusz Składkowy | B24: 882449 | C24: 891328 | D24: 863978 | E24: 855624 | F24: 866565 | G24: =E24/D24-1 -> -0.0096692277 | H24: =E24/B24-1 -> -0.030398357 | I24: =F24/C24-1 -> -0.027782141
A25: Fundusz Emerytalno-Rentowy | B25: 883922 | C25: 892257 | D25: 865712 | E25: 857830 | F25: 868388 | G25: =E25/D25-1 -> -0.0091046445 | H25: =E25/B25-1 -> -0.029518442 | I25: =F25/C25-1 -> -0.026751261
A26: LICZBA UBEZPIECZONYCH
A27: OGÓŁEM | B27: 1173236 | C27: 1196106 | D27: 1154379 | E27: 1134603 | F27: 1157367 | G27: =E27/D27-1 -> -0.017131289 | H27: =E27/B27-1 -> -0.032928584 | I27: =F27/C27-1 -> -0.032387598
A28: Fundusz Składkowy | B28: 1159627 | C28: 1182221 | D28: 1139699 | E28: 1119950 | F28: 1142933 | G28: =E28/D28-1 -> -0.017328259 | H28: =E28/B28-1 -> -0.034215312 | I28: =F28/C28-1 -> -0.033232365
A29: Fundusz Emerytalno-Rentowy | B29: 1161073 | C29: 1172677 | D29: 1131323 | E29: 1123126 | F29: 1136294 | G29: =E29/D29-1 -> -0.0072454993 | H29: =E29/B29-1 -> -0.0326827 | I29: =F29/C29-1 -> -0.031025594

Sheet Tab 4 (39)
A1: ='Tab 1 (36)'!A1:L1 -> V. UBEZPIECZENIE SPOŁECZNE ROLNIKÓW
A3: TABLICA 4 (39). LICZBA UBEZPIECZONYCH WEDŁUG WOJEWÓDZTW
A4: Wyszczególnienie | B4: Ogółem 1) 2) | C4: z tego:
C5: Fundusz Składkowy (ubezpieczenie wypadkowe, chorobowe i macierzyńskie na wniosek) | D5: Fundusz Składkowy (ubezpieczenie wypadkowe, chorobowe i macierzyńskie z mocy ustawy w zakresie ograniczonym) 1) | E5: Fundusz Emerytalno-Rentowy (ubezpieczenie emerytalno-rentowe na wniosek) | F5: Fundusz Emerytalno-Rentowy (ubezpieczenie emerytalno-rentowe z mocy ustawy)2) | G5: Fundusz Składkowy i Emerytalno-Rentowy (łącznie objętych ubezpieczeniem wypadkowym, chorobowym i macierzyńskim oraz ubezpieczeniem emerytalno-rentowym)
G6: Ogółem | H6: w tym ubezpieczeni na wniosek
B7: ='Tab 2 (37) i 3 (38)'!B5:H5 -> STAN NA DZIEŃ 31 GRUDNIA 2021 R.
A8: OGÓŁEM | B8: =SUM(B9:B24) -> 1134603 | C8: =SUM(C9:C24) -> 10046 | D8: =SUM(D9:D24) -> 1431 | E8: =SUM(E9:E24) -> 14650 | F8: =SUM(F9:F24) -> 3 | G8: =SUM(G9:G24) -> 1108473 | H8: =SUM(H9:H24) -> 120129
A9: dolnośląskie | B9: =SUM(C9:G9) -> 38582 | C9: 145 | D9: 34 | E9: 325 | F9: 1 | G9: 38077 | H9: 1853
A10: kujawsko-pomorskie | B10: =SUM(C10:G10) -> 61231 | C10: 770 | D10: 47 | E10: 721 | F10: 0 | G10: 59693 | H10: 2366
A11: lubelskie | B11: =SUM(C11:G11) -> 144618 | C11: 514 | D11: 139 | E11: 1684 | F11: 0 | G11: 142281 | H11: 6525
A12: lubuskie | B12: =SUM(C12:G12) -> 13480 | C12: 84 | D12: 40 | E12: 113 | F12: 0 | G12: 13243 | H12: 1094
A13: łódzkie | B13: =SUM(C13:G13) -> 89663 | C13: 1030 | D13: 256 | E13: 944 | F13: 0 | G13: 87433 | H13: 6503
A14: małopolskie | B14: =SUM(C14:G14) -> 133690 | C14: 3640 | D14: 31 | E14: 1848 | F14: 0 | G14: 128171 | H14: 45381
A15: mazowieckie | B15: =SUM(C15:G15) -> 159772 | C15: 830 | D15: 508 | E15: 1882 | F15: 0 | G15: 156552 | H15: 10276
A16: opolskie | B16: =SUM(C16:G16) -> 24588 | C16: 94 | D16: 1 | E16: 146 | F16: 0 | G16: 24347 | H16: 1491
A17: podkarpackie | B17: =SUM(C17:G17) -> 83701 | C17: 325 | D17: 7 | E17: 2093 | F17: 0 | G17: 81276 | H17: 14597
A18: podlaskie | B18: =SUM(C18:G18) -> 79673 | C18: 415 | D18: 2 | E18: 1037 | F18: 0 | G18: 78219 | H18: 4951
A19: pomorskie | B19: =SUM(C19:G19) -> 37808 | C19: 203 | D19: 52 | E19: 457 | F19: 1 | G19: 37095 | H19: 3687
A20: śląskie | B20: =SUM(C20:G20) -> 31503 | C20: 101 | D20: 24 | E20: 455 | F20: 0 | G20: 30923 | H20: 4568
... A24: zachodniopomorskie | B24: =SUM(C24:G24) -> 22943 | C24: 66 | D24: 18 | E24: 224 | F24: 1 | G24: 22634 | H24: 919
A25: 1) Liczba pomocników rolników świadczących pomoc przy zbiorach podlegających ubezpieczeniu z mocy ustawy w zakresie ograniczonym do świadczeń takich jak jednorazowe odszkodowanie z tytułu stałego lub długotrwałego uszczerbku na zdrowiu albo śmierci wskutek wypadku przy pracy rolniczej lub rolniczej choroby zawodowej.
A26: 2) Liczba rolników/współmałżonków ubezpieczonych obowiązkowo z tytułu pobierania renty strukturalnej przyznanej i wypłacanej przez Agencję Restrukturyzacji i Modernizacji Rolnictwa zgodnie z ustawą z dnia 28 listopada 2003 r. o wspieraniu rozwoju obszarów wiejskich ze środków pochodzących z Sekcji Gwarancji Europejskiego Funduszu Orientacji i Gwarancji Rolnej.

Sheet Tab 5 (40) i wykres 8
A1: ='Tab 2 (37) i 3 (38)'!A1:I1 -> V. UBEZPIECZENIE SPOŁECZNE ROLNIKÓW
A2: TABLICA 5 (40). LICZBA UBEZPIECZONYCH WEDŁUG WIEKU I PŁCI
A3: Wyszczególnienie | B3: Ogółem | C3: Mężczyźni | D3: Kobiety
B4: ='Tab 4 (39)'!B7:H7 -> STAN NA DZIEŃ 31 GRUDNIA 2021 R.
A5: OGÓŁEM | B5: =SUM(B6:B15) -> 1134603 | C5: =SUM(C6:C15) -> 612212 | D5: =SUM(D6:D15) -> 522391
A6: 0 - 18 | B6: =SUM(C6:D6) -> 306 | C6: 196 | D6: 110
A7: 19 - 24 | B7: =SUM(C7:D7) -> 34544 | C7: 24687 | D7: 9857
A8: 25 - 30 | B8: =SUM(C8:D8) -> 82601 | C8: 49593 | D8: 33008
A9: 31 - 36 | B9: =SUM(C9:D9) -> 127371 | C9: 66178 | D9: 61193
A10: 37 - 42 | B10: =SUM(C10:D10) -> 175444 | C10: 85238 | D10: 90206
A11: 43 - 48 | B11: =SUM(C11:D11) -> 214868 | C11: 102942 | D11: 111926
A12: 49 - 54 | B12: =SUM(C12:D12) -> 220175 | C12: 104631 | D12: 115544
A13: 55 - 60 | B13: =SUM(C13:D13) -> 201466 | C13: 108470 | D13: 92996
A14: 61 - 66 | B14: =SUM(C14:D14) -> 72958 | C14: 66886 | D14: 6072
A15: 67 - i więcej | B15: =SUM(C15:D15) -> 4870 | C15: 3391 | D15: 1479
A17: WYKRES NR 8. LICZBA UBEZPIECZONYCH MĘŻCZYZN I KOBIET W ODNIESIENIU DO UBEZPIECZONYCH OGÓŁEM

Sheet Tab 6 (41) i 7 (42)
A1: ='Tab 2 (37) i 3 (38)'!A1:I1 -> V. UBEZPIECZENIE SPOŁECZNE ROLNIKÓW
A2: TABLICA 6 (41). LICZBA UBEZPIECZONYCH Z TYTUŁU PROWADZENIA JEDNOCZEŚNIE DZIAŁALNOŚCI ROLNICZEJ I POZAROLNICZEJ DZIAŁALNOŚCI GOSPODARCZEJ WEDŁUG WOJEWÓDZTW
A3: Wyszczególnienie | B3: Ogółem | C3: z tego:
C4: rolnicy/współmałżonkowie | D4: domownicy
B6: ='Tab 4 (39)'!B7:H7 -> STAN NA DZIEŃ 31 GRUDNIA 2021 R.
A7: OGÓŁEM | B7: =SUM(B8:B23) -> 75218 | C7: =SUM(C8:C23) -> 69087 | D7: =SUM(D8:D23) -> 6131
A8: dolnośląskie | B8: =SUM(C8:D8) -> 3371 | C8: 3085 | D8: 286
A9: kujawsko-pomorskie | B9: =SUM(C9:D9) -> 3439 | C9: 3238 | D9: 201
A10: lubelskie | B10: =SUM(C10:D10) -> 9087 | C10: 8588 | D10: 499
A11: lubuskie | B11: =SUM(C11:D11) -> 1301 | C11: 1179 | D11: 122
A12: łódzkie | B12: =SUM(C12:D12) -> 6645 | C12: 6159 | D12: 486
A13: małopolskie | B13: =SUM(C13:D13) -> 7759 | C13: 6718 | D13: 1041
A14: mazowieckie | B14: =SUM(C14:D14) -> 10241 | C14: 9615 | D14: 626
A15: opolskie | B15: =SUM(C15:D15) -> 2015 | C15: 1780 | D15: 235
A16: podkarpackie | B16: =SUM(C16:D16) -> 5732 | C16: 5320 | D16: 412
A17: podlaskie | B17: =SUM(C17:D17) -> 4063 | C17: 3764 | D17: 299
A18: pomorskie | B18: =SUM(C18:D18) -> 2318 | C18: 2089 | D18: 229
A19: śląskie | B19: =SUM(C19:D19) -> 3251 | C19: 2986 | D19: 265
... A23: zachodniopomorskie | B23: =SUM(C23:D23) -> 1949 | C23: 1839 | D23: 110
A25: TABLICA 7 (42). LICZBA UBEZPIECZONYCH W KRUS OBJĘTYCH JEDNOCZEŚNIE UBEZPIECZENIEM SPOŁECZNYM W ZUS Z TYTUŁU UMOWY ZLECENIA LUB PEŁNIENIA FUNKCJI W RADZIE NADZORCZEJ WEDŁUG WOJEWÓDZTW
A26: Wyszczególnienie | B26: Ogółem | C26: z tego:
C27: rolnicy/współmałżonkowie | D27: domownicy
B29: =B6 -> STAN NA DZIEŃ 31 GRUDNIA 2021 R.
A30: OGÓŁEM | B30: =SUM(B31:B46) -> 10377 | C30: =SUM(C31:C46) -> 9316 | D30: =SUM(D31:D46) -> 1061
A31: dolnośląskie | B31: =SUM(C31:D31) -> 390 | C31: 352 | D31: 38
A32: kujawsko-pomorskie | B32: =SUM(C32:D32) -> 597 | C32: 548 | D32: 49
A33: lubelskie | B33: =SUM(C33:D33) -> 1231 | C33: 1148 | D33: 83
A34: lubuskie | B34: =SUM(C34:D34) -> 143 | C34: 131 | D34: 12
A35: łódzkie | B35: =SUM(C35:D35) -> 763 | C35: 700 | D35: 63
A36: małopolskie | B36: =SUM(C36:D36) -> 1176 | C36: 989 | D36: 187
A37: mazowieckie | B37: =SUM(C37:D37) -> 1280 | C37: 1189 | D37: 91
A38: opolskie | B38: =SUM(C38:D38) -> 352 | C38: 294 | D38: 58
A39: podkarpackie | B39: =SUM(C39:D39) -> 596 | C39: 542 | D39: 54
A40: podlaskie | B40: =SUM(C40:D40) -> 887 | C40: 788 | D40: 99
A41: pomorskie | B41: =SUM(C41:D41) -> 287 | C41: 237 | D41: 50
A42: śląskie | B42: =SUM(C42:D42) -> 305 | C42: 278 | D42: 27
... A46: zachodniopomorskie | B46: =SUM(C46:D46) -> 309 | C46: 281 | D46: 28

Sheet Tab 8 (43) i 9 (44)
A1: ='Tab 6 (41) i 7 (42)'!A1:D1 -> V. UBEZPIECZENIE SPOŁECZNE ROLNIKÓW
A2: TABLICA 8 (43). PRZYPIS I WPŁYWY NALEŻNOŚCI Z TYTUŁU SKŁADEK NA UBEZPIECZENIE SPOŁECZNE ROLNIKÓW WEDŁUG WOJEWÓDZTW
A3: Wyszczególnienie | B3: Przypis należności z tytułu składek | E3: Wpływy z tytułu należności składkowych | H3: Wskaźnik ściągalności (wpływy ogółem/przypis ogółem) | I3: Składki finansowane z budżetu państwa na ubezpieczenie emerytalno-rentowe za osoby sprawujące opiekę nad dzieckiem 1)
B4: Ogółem | C4: Fundusz Składkowy (ubezpieczenie wypadkowe, chorobowe i macierzyńskie) | D4: Fundusz Emerytalno-Rentowy (ubezpieczenie emerytalno-rentowe) | E4: Ogółem | F4: Fundusz Składkowy (ubezpieczenie wypadkowe, chorobowe i macierzyńskie) | G4: Fundusz Emerytalno-Rentowy (ubezpieczenie emerytalno-rentowe)
B5: IV KWARTAŁ 2021 R.
B6: w złotych
A7: OGÓŁEM | B7: =SUM(B8:B23) -> 5.0226042e+08 | C7: =SUM(C8:C23) -> 1.4112839e+08 | D7: =SUM(D8:D23) -> 3.6113204e+08 | E7: =SUM(E8:E23) -> 5.2220918e+08 | F7: =SUM(F8:F23) -> 1.4759475e+08 | G7: =SUM(G8:G23) -> 3.7461443e+08 | H7: =E7/B7 -> 1.0397179 | I7: =SUM(I8:I23) -> 13784112
A8: dolnośląskie | B8: =SUM(C8:D8) -> 18374015 | C8: 4779953.7 | D8: 13594062 | E8: 19094156 | F8: 5013743 | G8: 14080413 | H8: =E8/B8 -> 1.0391934 | I8: 262114
A9: kujawsko-pomorskie | B9: =SUM(C9:D9) -> 28293081 | C9: 7591197 | D9: 20701884 | E9: 29565745 | F9: 7962078.6 | G9: 21603666 | H9: =E9/B9 -> 1.0449815 | I9: 459318
A10: lubelskie | B10: =SUM(C10:D10) -> 62994525 | C10: 17974696 | D10: 45019828 | E10: 67516198 | F10: 19438887 | G10: 48077311 | H10: =E10/B10 -> 1.0717788 | I10: 1978228
A11: lubuskie | B11: =SUM(C11:D11) -> 6601339.4 | C11: 1698529.6 | D11: 4902809.8 | E11: 6940660.1 | F11: 1787671.6 | G11: 5152988.5 | H11: =E11/B11 -> 1.0514018 | I11: 86165
A12: łódzkie | B12: =SUM(C12:D12) -> 39441344 | C12: 11216842 | D12: 28224502 | E12: 41532949 | F12: 11909234 | G12: 29623714 | H12: =E12/B12 -> 1.0530308 | I12: 907264
A13: małopolskie | B13: =SUM(C13:D13) -> 55798076 | C13: 16559356 | D13: 39238721 | E13: 56525572 | F13: 16798878 | G13: 39726694 | H13: =E13/B13 -> 1.013038 | I13: 2531442
A14: mazowieckie | B14: =SUM(C14:D14) -> 70529669 | C14: 20287188 | D14: 50242481 | E14: 72910793 | F14: 21169818 | G14: 51740976 | H14: =E14/B14 -> 1.0337606 | I14: 1713332
A15: opolskie | B15: =SUM(C15:D15) -> 11652440 | C15: 3054181 | D15: 8598258.8 | E15: 11866085 | F15: 3104107 | G15: 8761977.7 | H15: =E15/B15 -> 1.0183348 | I15: 255455
A16: podkarpackie | B16: =SUM(C16:D16) -> 35578269 | C16: 10113762 | D16: 25464507 | E16: 36672879 | F16: 10466005 | G16: 26206874 | H16: =E16/B16 -> 1.0307663 | I16: 1422632
A17: podlaskie | B17: =SUM(C17:D17) -> 34127286 | C17: 9823691.6 | D17: 24303595 | E17: 35144281 | F17: 10170726 | G17: 24973555 | H17: =E17/B17 -> 1.0298 | I17: 1005692
A18: pomorskie | B18: =SUM(C18:D18) -> 17371450 | C18: 4717012.3 | D18: 12654438 | E18: 18029631 | F18: 4919168.2 | G18: 13110463 | H18: =E18/B18 -> 1.0378887 | I18: 427717
A19: śląskie | B19: =SUM(C19:D19) -> 14483321 | C19: 3931675.8 | D19: 10551645 | E19: 15069140 | F19: 4107790.1 | G19: 10961350 | H19: =E19/B19 -> 1.0404479 | I19: 274201
... A23: zachodniopomorskie | B23: =SUM(C23:D23) -> 11513146 | C23: 2804915.5 | D23: 8708230.5 | E23: 12390153 | F23: 3038569.8 | G23: 9351583.4 | H23: =E23/B23 -> 1.0761744 | I23: 77553
A24: 1) Składki finansowane z budżetu państwa na ubezpieczenie emerytalno-rentowe za osoby sprawujące osobistą opiekę nad dzieckiem; uprawnienie do finansowania składek jest związane z wiekiem dziecka, nad którym sprawowana jest osobista opieka i realizowane przez okres do 3 lat, nie dłużej jednak niż do ukończenia przez dziecko 5 roku życia, a w przypadku sprawowania opieki nad dzieckiem niepełnosprawnym przez okres 6 lat, nie dłużej jednak niż do ukończenia przez dziecko 18 roku życia.
A26: TABLICA 9 (44). DECYZJE O PODLEGANIU I USTANIU UBEZPIECZENIA SPOŁECZNEGO ROLNIKÓW WEDŁUG WOJEWÓDZTW
A27: Wyszczególnienie | B27: Liczba wydanych decyzji
B28: o podleganiu ubezpieczeniu społecznemu rolników | C28: o ustaniu ubezpieczenia społecznego rolników
B29: =B5 -> IV KWARTAŁ 2021 R.
A30: OGÓŁEM | B30: =SUM(B31:B46) -> 27053 | C30: =SUM(C31:C46) -> 39638
A31: dolnośląskie | B31: 815 | C31: 1352
A32: kujawsko-pomorskie | B32: 1076 | C32: 1756
A33: lubelskie | B33: 3625 | C33: 5537
A34: lubuskie | B34: 319 | C34: 496
A35: łódzkie | B35: 2102 | C35: 3023
A36: małopolskie | B36: 4162 | C36: 5430
A37: mazowieckie | B37: 3081 | C37: 4666
A38: opolskie | B38: 524 | C38: 926
A39: podkarpackie | B39: 2935 | C39: 4127
A40: podlaskie | B40: 1532 | C40: 2157
A41: pomorskie | B41: 750 | C41: 1097
A42: śląskie | B42: 693 | C42: 1005
... A46: zachodniopomorskie | B46: 496 | C46: 808

Sheet Tab 1 (45) i 2 (46)
A1: VI. UBEZPIECZENIA ZDROWOTNE
A2: TABLICA 1 (45). LICZBA OSÓB PODLEGAJĄCYCH UBEZPIECZENIU ZDROWOTNEMU WEDŁUG WOJEWÓDZTW
A3: Wyszczególnienie | B3: Ogółem | C3: z tego: | L3: członkowie rodzin rolników i domowników 4) | M3: członkowie rodzin emerytów i rencistów 4)
C4: rolnicy prowadzący działalność rolniczą w gospodarstwach rolnych poniżej 6 ha przelicz.1) | D4: domownicy rolników pracujący w gospodarstwach rolnych poniżej 6 ha przelicz.1) | E4: rolnicy prowadzący działalność rolniczą w gospodarstwach rolnych 6 ha przelicz. i więcej | F4: domownicy pracujący w gospodarstwach rolnych 6 ha przelicz. i więcej | G4: rolnicy prowadzący gospodarstwo rolne i dział specjalny produkcji rolnej 2) | H4: rolnicy prowadzący wyłącznie działy specjalne produkcji rolnej 2) | I4: domownicy rolników pracujący wyłącznie w działach specjalnych produkcji rolnej 2) | J4: pomocnicy rolników 3) | K4: emeryci i renciści
B5: W GRUDNIU 2021 ROKU
A6: Ogółem | B6: =SUM(B7:B22) -> 2148137 | C6: =SUM(C7:C22) -> 593456 | D6: =SUM(D7:D22) -> 95073 | E6: =SUM(E7:E22) -> 366287 | F6: =SUM(F7:F22) -> 50643 | G6: =SUM(G7:G22) -> 10882 | H6: =SUM(H7:H22) -> 2984 | I6: =SUM(I7:I22) -> 171 | ... M6: =SUM(M7:M22) -> 30656
A7: dolnośląskie | B7: =SUM(C7:K7) -> 77179 | C7: 17812 | D7: 2751 | E7: 15182 | F7: 2323 | G7: 424 | H7: 144 | I7: 6 | J7: 94 | K7: 38443 | L7: 14138 | M7: 900
A8: kujawsko-pomorskie | B8: =SUM(C8:K8) -> 129345 | C8: 19322 | D8: 1865 | E8: 33849 | F8: 3835 | G8: 493 | H8: 128 | I8: 6 | J8: 92 | K8: 69755 | L8: 26924 | M8: 2102
A9: lubelskie | B9: =SUM(C9:K9) -> 274572 | C9: 76136 | D9: 7877 | E9: 52351 | F9: 5394 | G9: 516 | H9: 47 | I9: 0 | J9: 288 | K9: 131963 | L9: 69615 | M9: 4245
A10: lubuskie | B10: =SUM(C10:K10) -> 27087 | C10: 6214 | D10: 959 | E10: 4926 | F10: 807 | G10: 261 | H10: 103 | I10: 7 | J10: 56 | K10: 13754 | L10: 5330 | M10: 385
A11: łódzkie | B11: =SUM(C11:K11) -> 178264 | C11: 49068 | D11: 6000 | E11: 29485 | F11: 3921 | G11: 933 | H11: 144 | I11: 9 | J11: 458 | K11: 88246 | L11: 37760 | M11: 1529
A12: małopolskie | B12: =SUM(C12:K12) -> 219519 | C12: 88785 | D12: 28397 | E12: 11417 | F12: 1834 | G12: 623 | H12: 137 | I12: 3 | J12: 96 | K12: 88227 | L12: 77812 | M12: 4405
A13: mazowieckie | B13: =SUM(C13:K13) -> 318122 | C13: 84625 | D13: 9070 | E13: 56906 | F13: 6216 | G13: 1657 | H13: 305 | I13: 24 | J13: 929 | K13: 158390 | L13: 74294 | M13: 3857
A14: opolskie | B14: =SUM(C14:K14) -> 45197 | C14: 9971 | D14: 1802 | E14: 10580 | F14: 1937 | G14: 215 | H14: 69 | I14: 10 | J14: 10 | K14: 20603 | L14: 12556 | M14: 354
A15: podkarpackie | B15: =SUM(C15:K15) -> 140477 | C15: 62204 | D15: 9256 | E15: 7965 | F15: 1185 | G15: 387 | H15: 49 | I15: 4 | J15: 11 | K15: 59416 | L15: 41433 | M15: 2107
A16: podlaskie | B16: =SUM(C16:K16) -> 151847 | C16: 37136 | D16: 5012 | E16: 30279 | F16: 5335 | G16: 393 | H16: 41 | I16: 0 | J16: 21 | K16: 73630 | L16: 39883 | M16: 2479
A17: pomorskie | B17: =SUM(C17:K17) -> 70980 | C17: 18234 | D17: 3696 | E17: 12576 | F17: 2086 | G17: 488 | H17: 143 | I17: 9 | J17: 102 | K17: 33646 | L17: 20057 | M17: 1230
A18: śląskie | B18: =SUM(C18:K18) -> 60344 | C18: 18965 | D18: 3070 | E18: 6677 | F18: 1026 | G18: 893 | H18: 376 | I18: 24 | J18: 38 | K18: 29275 | L18: 12239 | M18: 701
... A22: zachodniopomorskie | B22: =SUM(C22:K22) -> 44807 | C22: 9555 | D22: 1047 | E22: 10345 | F22: 1346 | G22: 277 | H22: 124 | I22: 7 | J22: 40 | K22: 22066 | L22: 8856 | M22: 585
A23: 1) Za rolników i domowników prowadzących działalność rolniczą w gospodarstwach rolnych poniżej 6 ha przeliczeniowych składka na ubezpieczenie zdrowotne finansowana jest z dotacji budżetowej.
A24: 2) Dział specjalny produkcji rolnej w rozumieniu ustawy o ubezpieczeniu społecznym rolników, o którym mowa w załączniku do ustawy o ubezpieczeniu społecznym rolników.
A25: 3) Obowiązek ubezpieczenia zdrowotnego pomocników rolnika powstaje od dnia zgłoszenia do tego ubezpieczenia w trybie ustawy o ubezpieczeniu społecznym rolników, a ustaje z dniem rozwiązania lub wygaśnięcia umowy o pomocy przy zbiorach.
A26: 4) Za członków rodzin rolników, domowników i świadczeniobiorców nie jest odprowadzana składka na ubezpieczenie zdrowotne.
A27: TABLICA 2 (46). PRZYPIS SKŁADEK NA UBEZPIECZENIE ZDROWOTNE
A28: Wyszczególnienie | C28: Rok
C29: Kwota w złotych
A30: Ogółem z tego: | C30: =SUM(C31:C34) -> 3.6023536e+09
A31: składka od emerytów i rencistów | C31: 1670684771
A32: składka za rolników i domowników | C32: 1862004000
A33: składka za pomocników rolnika | C33: 24737664
A34: działy specjalne produkcji rolnej | C34: 44927207
