Workbook
Name CIT98_MM_SUM: #REF!
Name CIT98_MM_SUM: #REF!
Name GK: 'MNPP jednostkowo'!$B$4
Name GK: 'Powiaty jednostkowo'!$B$4
Name GK: 'Woj. jednostkowo '!$B$4
Name GK: 'Gminy jednostkowo'!$B$4
Name mko: 'MNPP jednostkowo'!$B$5
Name PK: 'MNPP jednostkowo'!$B$3
Name PK: 'Powiaty jednostkowo'!$B$3
Name PK: 'Woj. jednostkowo '!$B$3
Name PK: 'Gminy jednostkowo'!$B$3
Name PozDaneG: slownik!$B$8
Name PozIPWG: slownik!$B$9
Name TableName: "Dummy"
Name TERYT: 'MNPP jednostkowo'!$B$5
Name TERYT: 'Powiaty jednostkowo'!$B$5
Name TERYT: 'Woj. jednostkowo '!$B$5
Name TERYT: 'Gminy jednostkowo'!$B$5
Name WK_: 'MNPP jednostkowo'!$B$2
Name WK_: 'Powiaty jednostkowo'!$B$2
Name WK_: 'Woj. jednostkowo '!$B$2
Name WK_: 'Gminy jednostkowo'!$B$2

Sheet slownik
B3: Gminy | D3: Powiaty | F3: MNPP | H3: Woj.
A4: WK | B4: =+TEXT(WK_,"00") -> 14 | C4: =+VLOOKUP(TEXT(B4,"00"),Tabela1[[Kod GUS]:[Nazwa JST]],2,FALSE) -> mazowieckie | D4: =+TEXT('Powiaty jednostkowo'!WK_,"00") -> 02 | E4: =+VLOOKUP(TEXT(D4,"00"),Tabela1[[Kod GUS]:[Nazwa JST]],2,FALSE) -> dolnośląskie | F4: =+TEXT('MNPP jednostkowo'!WK_,"00") -> 02 | G4: =+VLOOKUP(TEXT(F4,"00"),Tabela1[[Kod GUS]:[Nazwa JST]],2,FALSE) -> dolnośląskie | H4: =+TEXT('Woj. jednostkowo '!WK_,"00") -> 02 | I4: =+VLOOKUP(TEXT(H4,"00"),Tabela1[[Kod GUS]:[Nazwa JST]],2,FALSE) -> dolnośląskie
A5: WKPK | B5: =+TEXT(WK_,"00")&TEXT(PK,"00") -> 1428 | C5: =+VLOOKUP(TEXT(B5,"0000"),Tabela1[[Kod GUS]:[Nazwa JST]],2,FALSE) -> sochaczewski | D5: =+TEXT('Powiaty jednostkowo'!WK_,"00")&TEXT('Powiaty jednostkowo'!PK,"00") -> 0201 | E5: =+VLOOKUP(TEXT(D5,"0000"),Tabela1[[Kod GUS]:[Nazwa JST]],2,FALSE) -> bolesławiecki | F5: =+TEXT('MNPP jednostkowo'!WK_,"00")&TEXT('MNPP jednostkowo'!PK,"00") -> 0261 | G5: =+VLOOKUP(TEXT(F5,"0000"),Tabela1[[Kod GUS]:[Nazwa JST]],2,FALSE) -> Jelenia Góra
A6: WKPKGK | B6: =+TEXT(WK_,"00")&TEXT(PK,"00")&TEXT(GK,"00") -> 142807 | C6: =+VLOOKUP(TEXT(B6,"000000"),Tabela1[[Kod GUS]:[Nazwa JST]],2,FALSE) -> SOCHACZEW
A8: PozDaneG | B8: =+IF(ISERROR(MATCH('Gminy jednostkowo'!$B$5,Tabela1[Kod GUS],0)),2808,MATCH('Gminy jednostkowo'!$B$5,Tabela1[Kod GUS],0)) -> 1192 | C8: PozDaneP | D8: =+IF(ISERROR(MATCH('Powiaty jednostkowo'!$B$5,Tabela1[Kod GUS],0)),2808,MATCH('Powiaty jednostkowo'!$B$5,Tabela1[Kod GUS],0)) -> 2480 | E8: PozDaneM | F8: =+IF(ISERROR(MATCH('MNPP jednostkowo'!$B$5,Tabela1[Kod GUS],0)),2808,MATCH('MNPP jednostkowo'!$B$5,Tabela1[Kod GUS],0)) -> 2414 | G8: PozDaneW | H8: =+IF(ISERROR(MATCH('Woj. jednostkowo '!$B$5,Tabela1[Kod GUS],0)),2808,MATCH('Woj. jednostkowo '!$B$5,Tabela1[Kod GUS],0)) -> 2794
A9: PozIPWG | B9: =+IF(ISERROR(MATCH('Gminy jednostkowo'!$B$5,TabIPW[Kod GUS],0)),2808,MATCH('Gminy jednostkowo'!$B$5,TabIPW[Kod GUS],0)) -> 1192 | C9: PozIPWP | D9: =+IF(ISERROR(MATCH('Powiaty jednostkowo'!$B$5,TabIPW[Kod GUS],0)),2808,MATCH('Powiaty jednostkowo'!$B$5,TabIPW[Kod GUS],0)) -> 2480 | E9: PozIPWM | F9: =+IF(ISERROR(MATCH('MNPP jednostkowo'!$B$5,TabIPW[Kod GUS],0)),2808,MATCH('MNPP jednostkowo'!$B$5,TabIPW[Kod GUS],0)) -> 2414 | G9: PozIPWW | H9: =+IF(ISERROR(MATCH('Woj. jednostkowo '!$B$5,TabIPW[Kod GUS],0)),2808,MATCH('Woj. jednostkowo '!$B$5,TabIPW[Kod GUS],0)) -> 2794
A11: Gminy
A12: Powiaty
A13: Miasta na prawach powiatu
A14: Województwa
A17: 1 | B17: 332.7 | C17: g
A18: 2 | B18: 75.13 | C18: p
A19: 3 | B19: 332.7 | C19: m
A20: 4 | B20: 37.57 | C20: w

Sheet Indeksy
E1: WK | F1: 10 | G1: Łódzkie
E2: PK | F2: 10 | G2: piotrkowski
E3: GK | F3: 2
A4: X | E4: TERYT | F4: 1010 | G4: piotrkowski [1010]
A6: x | G6: piotrkowski [1010]
A7: x | B7: 8 | C7: 15 | F7: 1. | G7: Dochody podatników 2025 r. | H7: w zł
A8: x | B8: 9 | C8: =+C7+1 -> 16 | F8: 2. | G8: wskaźnik waloryzacji | H8: %
A9: x | B9: 10 | C9: =+C8+1 -> 17 | F9: 3. | G9: Zwaloryzowane dochody podatników na 2027 r. [1] * [2] | H9: w zł
A10: x | B10: 11 | C10: =+C9+1 -> 18 | F10: 4. | G10: stawka udziału | H10: %
A11: x | B11: 12 | C11: =+C10+1 -> 19 | F11: 5. | G11: Naliczony dochód JST na 2027 r. wg projektu ustawy [3] * (4] | H11: w zł
A13: x | B13: 22 | F13: 6. | G13: Kwota kalkulacyjna 2027 | H13: w zł
A14: x
B15: 38 | F15: 6a. | G15: Przyrost kwoty kalkulacyjnej r/r | H15: w zł
B17: 24 | F17: 7. | G17: Potrzeby finansowe 2027 | H17: w zł
B19: 36 | F19: 7a. | G19: Przyrost potrzeb finansowych r/r | H19: w zł
B21: 37 | F21: 7b. | G21: Przyrost potrzeb finansowych z uwzglednieniem roliczenia potrzeb finansowych za 2025 r. [7a] + (14] | H21: w zł
B23: 39 | F23: 7c. | G23: Przyrost subwencji [7b] - (6a] | H23: w zł
A25: x | B25: =+B32+1 -> 30 | F25: 8. | G25: Naliczona subwencja ogólna z budżetu państwa na 2027 r. [8] - [6] | H25: w zł
A26: x
A27: x | B27: 24 | F27: 9. | G27: Potrzeby finansowe, z tego: | H27: w zł
A28: x | B28: 25 | F28: 9.1. | G28: potrzeby wyrównawcze | H28: w zł
A29: x | B29: 28 | F29: 9.2. | G29: potrzeby oświatowe | H29: w zł
A30: x | B30: 27 | F30: 9.3. | G30: potrzeby rozwojowe | H30: w zł
A31: x | B31: 26 | F31: 9.4. | G31: potrzeby ekologiczne | H31: w zł
B32: 29 | F32: 9.5. | G32: potrzeby uzupełniające | H32: w zł
A34: x | B34: 53 | F34: 10. | G34: Wyliczenie potrzeb ekologicznych
A35: x | F35: 10.1. | G35: przeliczeniowa powierzchnia obszaru prawnie chronionego | H35: ha
A36: x | F36: 10.2. | G36: stawka bazowa za 1 ha obszaru prawnie chronionego | H36: w zł
A37: x
F38: 10.3. | G38: Obszary prawnie chronione:
A39: x | B39: 54 | F39: 10.3.1. | G39: Parki Narodowe | H39: ha
A40: x | B40: 55 | F40: 10.3.2. | G40: Rezerwaty | H40: ha
F41: 10.3.3. | G41: Strefy ochrony krajobrazu ustanowionych w granicach parków krajobrazowych lub obszarach chronionego krajobrazu | H41: ha
B42: 56 | F42: 10.3.4. | G42: Parki Krajobrazowe i Obszary chronionego krajobrazu, na których ustanowiono przynajmniej pięć zakazów wybranych spośród zakazów, o których mowa w art. 17 ust. 1 pkt 1 i 4-9 lub art. 24 ust. 1 pkt 2 i 4-9 ustawy o ochronie przyrody | H42: ha
A43: x | B43: 57 | F43: 10.3.5. | G43: Natura 2000 | H43: ha
A44: x | B44: 58 | F44: 10.3.6. | G44: Parki Krajobrazowe i Obszary chronionego krajobrazu, na których ustanowiono przynajmniej jeden z zakazów wybrany spośród zakazów, o których mowa w art. 17 ust. 1 pkt 1 i 4-9 lub art. 24 ust. 1 pkt 2 i 4-9 ustawy o ochronie przyrody | H44: ha
A46: x | B46: 25 | F46: 11. | G46: Wyliczenie potrzeb wyrównawczych
B47: 66 | F47: 11.1. | G47: relacja wsk. zamożności jednostki do wsk. zamożności danej kategorii JST | H47: %
B48: 68 | F48: 11.2. | G48: przeliczeniowa liczba ludności
B49: 67 | F49: 11.3. | G49: Indeks bieżących potrzeb wydatkowych jednostki IPW
B51: NrWiersza | C51: Rodzaj | D51: TypJST | G51: Obszar / Determinanta | H51: Waga obszaru
B52: 12 | C52: 1 | D52: 1 | G52: Administracja publiczna | H52: 0.24
B53: 13 | C53: 2 | D53: 1 | G53: iloczyn liczby mieszkańców i relacji przeciętnego miesięcznego wynagrodzenia brutto w danym powiecie do średniej krajowej
B54: 16 | C54: 1 | D54: 1 | G54: Oświata i wychowanie - przedszkola | H54: 0.19
B55: 17 | C55: 2 | D55: 1 | G55: liczba dzieci uczęszczajacych do przedszkola
B56: 14 | C56: 1 | D56: 1 | G56: Oświata i wychowanie - szkoły | H56: 0.17
B57: 15 | C57: 2 | D57: 1 | G57: liczba oddziałów w szkołach podstawowych
B58: 18 | C58: 1 | D58: 1 | G58: Polityka społeczna | H58: 0.12
B59: 19 | C59: 2 | D59: 1 | G59: liczba gospodarstw domowych korzystających ze środowiskowej pomocy społecznej
B60: 20 | C60: 1 | D60: 1 | G60: Gospodarka komunalna i ochrona środowiska | H60: 0.07
B61: 21 | C61: 2 | D61: 1 | G61: ilość wody dostarczonej i ścieków bytowych odprowadzonych siecią kanalizacyjną [dam3]
B62: 22 | C62: 1 | D62: 1 | G62: Kultura i ochrona dziedzictwa narodowego | H62: 0.07
B63: 23 | C63: 2 | D63: 1 | G63: iloczyn liczby mieszkańców i relacji przeciętnego miesięcznego wynagrodzenia brutto w danym powiecie do średniej krajowej
B64: 10 | C64: 1 | D64: 1 | G64: Transport i łączność | H64: 0.06
B65: 11 | C65: 2 | D65: 1 | G65: liczba mieszkańców w wieku 20-64
B66: 8 | C66: 1 | D66: 1 | G66: Pozostałe | H66: 0.08
B67: 9 | C67: 2 | D67: 1 | G67: liczba mieszkańców
B68: 41 | C68: 1 | D68: 2 | F68: POWIATY | G68: Administracja publiczna | H68: 0.4
B69: 42 | C69: 2 | D69: 2 | G69: iloczyn liczby mieszkańców i relacji przeciętnego miesięcznego wynagrodzenia brutto do średniej krajowej
B70: 43 | C70: 1 | D70: 2 | G70: Polityka społeczna | H70: 0.25
B71: 44 | C71: 2 | D71: 2 | G71: liczba mieszkańców zakładów stacjonarnych pomocy społecznej podleglych samorządowi powiatu (łącznie z filiami)
B72: 45 | C72: 2 | D72: 2 | G72: liczba bezrobotnych zarejestrowanych
B73: 49 | C73: 1 | D73: 2 | G73: Oświata i wychowanie - szkoły | H73: 0.16
B74: 50 | C74: 2 | D74: 2 | G74: liczba oddziałów w szkołach ponadpodstawowych i policealnych
B75: 46 | C75: 1 | D75: 2 | G75: Transport i łączność | H75: 0.12
B76: 47 | C76: 2 | D76: 2 | G76: długość dróg powiatowych o nawierzchni twardej [w km]
B77: 48 | C77: 2 | D77: 2 | G77: liczba mieszkańców w wieku 20-64
B78: 51 | C78: 1 | D78: 2 | G78: Pozostałe | H78: 0.07
B79: 52 | C79: 2 | D79: 2 | G79: liczba mieszkańców
B80: 31 | C80: 1 | D80: 3 | F80: Mnpp | G80: Transport i łączność | H80: 0.18
B81: 32 | C81: 2 | D81: 3 | G81: liczba pracujących ogółem
B82: 26 | C82: 1 | D82: 3 | G82: Oświata i wychowanie - przedszkola | H82: 0.17
B83: 27 | C83: 2 | D83: 3 | G83: liczba dzieci uczęszczajacych do przedszkola
B84: 24 | C84: 1 | D84: 3 | G84: Oświata i wychowanie - szkoły | H84: 0.15
B85: 25 | C85: 2 | D85: 3 | G85: liczba oddziałów w szkołach podstawowych, ponadpodstawowych i policealnych
B86: 28 | C86: 1 | D86: 3 | G86: Polityka społeczna | H86: 0.15
B87: 29 | C87: 2 | D87: 3 | G87: liczba osób korzystających ze środowiskowej pomocy społecznej (łącznie z filiami)
B88: 30 | C88: 2 | D88: 3 | G88: liczba bezrobotnych
B89: 33 | C89: 1 | D89: 3 | G89: Administracja publiczna | H89: 0.15
B90: 34 | C90: 2 | D90: 3 | G90: iloczyn liczby mieszkańców i relacji przeciętnego miesięcznego wynagrodzenia brutto do średniej krajowej
B91: 37 | C91: 1 | D91: 3 | G91: Kultura i ochrona dziedzictwa narodowego | H91: 0.06
B92: 38 | C92: 2 | D92: 3 | G92: iloczyn liczby mieszkańców i relacji przeciętnego miesięcznego wynagrodzenia brutto do średniej krajowej
B93: 35 | C93: 1 | D93: 3 | G93: Gospodarka komunalna i ochrona środowiska | H93: 0.05
B94: 36 | C94: 2 | D94: 3 | G94: suma powierzchni parków spac.-wyp., zieleńców i terenów zieleni osiedlowej oraz średniej pow. objętej utrzymaniem czystości i porządku przez gminy w okresie letnim i w okresie zimowym – będąca w gestii miasta [w ha]
B95: 39 | C95: 1 | D95: 3 | G95: Pozostałe | H95: 0.09
B96: 40 | C96: 2 | D96: 3 | G96: liczba mieszkańców
B97: 55 | C97: 1 | D97: 4 | G97: Transport i łączność | H97: 0.36
B98: 56 | C98: 2 | D98: 4 | G98: suma dł. linii kolejowych eksploatowanych i dł. dróg wojewódzkich o naw. twardej [w km]
B99: 59 | C99: 1 | D99: 4 | G99: Administracja publiczna | H99: 0.24
B100: 60 | C100: 2 | D100: 4 | G100: iloczyn liczby mieszkańców i relacji przeciętnego miesięcznego wynagrodzenia brutto do średniej krajowej
B101: 57 | C101: 1 | D101: 4 | G101: Kultura i ochrona dziedzictwa narodowego | H101: 0.16
B102: 58 | C102: 2 | D102: 4 | G102: iloczyn liczby mieszkańców i relacji przeciętnego miesięcznego wynagrodzenia brutto do średniej krajowej
B103: 61 | C103: 1 | D103: 4 | G103: Polityka społeczna | H103: 0.08
B104: 62 | C104: 2 | D104: 4 | G104: suma liczby bezrobotnych zarejestrowanych i liczby osób w wieku poprodukcyjnym
B105: 53 | C105: 1 | D105: 4 | G105: Ochrona zdrowia | H105: 0.05
B106: 54 | C106: 2 | D106: 4 | G106: liczba mieszkańców
B107: 63 | C107: 1 | D107: 4 | G107: Pozostałe | H107: 0.11
B108: 64 | C108: 2 | D108: 4 | G108: liczba mieszkańców
A110: x | B110: 27 | F110: 12. | G110: Wyliczenie potrzeb rozwojowych
A111: x | B111: 59 | F111: 12.1. | G111: część podstawowa proporcjonalna do liczby mieszkańców | H111: w zł
...

Sheet Gminy jednostkowo
A1: TypJST | B1: 1
A2: WK | B2: 14 | C2: =+IF(ISBLANK(WK_),"Podaj WK",IF(ISERROR(slownik!C4),"Błędny WK",slownik!C4)) -> mazowieckie
A3: PK | B3: 28 | C3: =+IF(AND(ISBLANK(PK),'Gminy jednostkowo'!B1<>4),"Podaj PK",+IF('Gminy jednostkowo'!B1=4,"",IF(ISERROR(slownik!C5),"Błędny PK",slownik!C5))) -> sochaczewski
A4: GK | B4: 7 | C4: =+IF(AND(ISBLANK(GK),'Gminy jednostkowo'!B1=1),"Podaj GK",+IF(OR('Gminy jednostkowo'!B1=4,'Gminy jednostkowo'!B1=3),"",IF(ISERROR(slownik!C6),"Błędny GK","")))
A5: TERYT | B5: =+TEXT(WK_,"00")&TEXT(PK,"00")&TEXT(GK,"00") -> 142807 | C5: {=+IF(ISERROR(INDEX(Tabela1[Nazwa JST],slownik!B8)),"Popraw WK/PK/GK",+INDEX(Tabela1[Nazwa JST],slownik!B8)&" ["&B5&"]")} -> SOCHACZEW [142807]
C6: =+C5 -> SOCHACZEW [142807] | F6: PIT | G6: CIT
B7: 1. | C7: Dochody podatników 2025 r. | D7: w zł | F7: {=+INDEX(Tabela1[],slownik!$B$8,Indeksy!B7)} -> 6.9444464e+08 | G7: {=+INDEX(Tabela1[],slownik!$B$8,Indeksy!C7)} -> 2.9624669e+08
B8: 2. | C8: wskaźnik waloryzacji | D8: % | F8: {=+INDEX(Tabela1[],slownik!$B$8,Indeksy!B8)} -> 1.125 | G8: {=+INDEX(Tabela1[],slownik!$B$8,Indeksy!C8)} -> 1.125
B9: 3. | C9: Zwaloryzowane dochody podatników na 2027 r. [1] * [2] | D9: w zł | F9: {=+INDEX(Tabela1[],slownik!$B$8,Indeksy!B9)} -> 7.8125022e+08 | G9: {=+INDEX(Tabela1[],slownik!$B$8,Indeksy!C9)} -> 3.3327753e+08
B10: 4. | C10: stawka udziału | D10: % | F10: {=+INDEX(Tabela1[],slownik!$B$8,Indeksy!B10)} -> 0.07 | G10: {=+INDEX(Tabela1[],slownik!$B$8,Indeksy!C10)} -> 0.016
B11: 5. | C11: Naliczony dochód JST na 2027 r. [3] * (4] | D11: w zł | F11: {=+INDEX(Tabela1[],slownik!$B$8,Indeksy!B11)} -> 54687516 | G11: {=+INDEX(Tabela1[],slownik!$B$8,Indeksy!C11)} -> 5332441
B13: 6. | C13: Kwota kalkulacyjna 2027 | D13: w zł | F13: {=+INDEX(Tabela1[],slownik!$B$8,Indeksy!B13)} -> 26187590
B15: 6a. | C15: Przyrost kwoty kalkulacyjnej r/r | D15: w zł | F15: {=+INDEX(Tabela1[],slownik!$B$8,Indeksy!B15)} -> 1416945
B17: 7. | C17: Potrzeby finansowe 2027 | D17: w zł | F17: {=+INDEX(Tabela1[],slownik!$B$8,Indeksy!B17)} -> 43979161
B19: 7a. | C19: Przyrost potrzeb finansowych r/r | D19: w zł | F19: {=+INDEX(Tabela1[],slownik!$B$8,Indeksy!B19)} -> 4049651
B21: 7b. | C21: Przyrost potrzeb finansowych z uwzględnieniem rozliczenia potrzeb finansowych za 2025 r. [7a] + (14] | D21: w zł | F21: {=+INDEX(Tabela1[],slownik!$B$8,Indeksy!B21)} -> 4099996
B23: 7c. | C23: Przyrost subwencji [7b] - (6a] | D23: w zł | F23: {=+INDEX(Tabela1[],slownik!$B$8,Indeksy!B23)} -> 2683051
B25: 8. | C25: Naliczona subwencja ogólna z budżetu państwa na 2027 r. | D25: w zł | F25: {=+INDEX(Tabela1[],slownik!$B$8,Indeksy!B25)} -> 17841916
B27: 9. | C27: Potrzeby finansowe, z tego: | D27: w zł | F27: {=+INDEX(Tabela1[],slownik!$B$8,Indeksy!B27)} -> 43979161
B28: 9.1. | C28: potrzeby wyrównawcze | D28: w zł | F28: {=+INDEX(Tabela1[],slownik!$B$8,Indeksy!B28)} -> 0
B29: 9.2. | C29: potrzeby oświatowe | D29: w zł | F29: {=+INDEX(Tabela1[],slownik!$B$8,Indeksy!B29)} -> 35556051
B30: 9.3. | C30: potrzeby rozwojowe | D30: w zł | F30: {=+INDEX(Tabela1[],slownik!$B$8,Indeksy!B30)} -> 2104571
B31: 9.4. | C31: potrzeby ekologiczne | D31: w zł | F31: {=+INDEX(Tabela1[],slownik!$B$8,Indeksy!B31)} -> 5
B32: 9.5. | C32: potrzeby uzupełniające | D32: w zł | F32: {=+INDEX(Tabela1[],slownik!$B$8,Indeksy!B32)} -> 6318534
B34: 10. | C34: Wyliczenie potrzeb ekologicznych
B35: 10.1. | C35: przeliczeniowa powierzchnia obszaru prawnie chronionego | D35: ha | F35: =+SUM(G39:G44) -> 0.015
B36: 10.2. | C36: stawka bazowa za 1 ha obszaru prawnie chronionego | D36: w zł | F36: =+VLOOKUP('Gminy jednostkowo'!B1,slownik!$A$17:$B$20,2,FALSE) -> 332.7
B38: 10.3. | C38: Obszary prawnie chronione: | E38: waga | F38: Powierzchnia faktyczna | G38: Powierzchnia przeliczeniowa
B39: 10.3.1. | C39: Parki Narodowe | D39: ha | E39: 2 | F39: {=+INDEX(Tabela1[],slownik!$B$8,Indeksy!B39)} -> 0 | G39: =+E39*F39 -> 0
B40: 10.3.2. | C40: Rezerwaty | D40: ha | E40: 1 | F40: {=+INDEX(Tabela1[],slownik!$B$8,Indeksy!B40)} -> 0 | G40: =+E40*F40 -> 0
B41: 10.3.3. | C41: Strefy ochrony krajobrazu ustanowione w granicach parków krajobrazowych lub obszarach chronionego krajobrazu | D41: ha | E41: 0.6
B42: 10.3.4. | C42: Parki Krajobrazowe i Obszary chronionego krajobrazu, na których ustanowiono przynajmniej pięć zakazów wybranych spośród zakazów, o których mowa w art. 17 ust. 1 pkt 1 i 4-9 lub art. 24 ust. 1 pkt 2 i 4-9 ustawy o ochronie przyrody | D42: ha | E42: 0.3 | F42: {=+INDEX(Tabela1[],slownik!$B$8,Indeksy!B42)} -> 0.05 | G42: =+E42*F42 -> 0.015
B43: 10.3.5. | C43: Natura 2000 | D43: ha | E43: 0.15 | F43: {=+INDEX(Tabela1[],slownik!$B$8,Indeksy!B43)} -> 0 | G43: =+E43*F43 -> 0
B44: 10.3.6. | C44: Parki Krajobrazowe i Obszary chronionego krajobrazu, na których ustanowiono przynajmniej jeden z zakazów wybrany spośród zakazów, o których mowa w art. 17 ust. 1 pkt 1 i 4-9 lub art. 24 ust. 1 pkt 2 i 4-9 ustawy o ochronie przyrody | D44: ha | E44: 0.1 | F44: {=+INDEX(Tabela1[],slownik!$B$8,Indeksy!B44)} -> 0 | G44: =+F44*E44 -> 0
B46: 11. | C46: Wyliczenie potrzeb wyrównawczych
B47: 11.1. | C47: relacja wsk. zamożności jednostki do wsk. zamożności danej kategorii JST | D47: % | F47: {=+INDEX(Tabela1[],slownik!$B$8,Indeksy!B47)} -> 1.3666434
B48: 11.2. | C48: przeliczeniowa liczba ludności | F48: {=+INDEX(Tabela1[],slownik!$B$8,Indeksy!B48)} -> 12189
B49: 11.3. | C49: indeks bieżących potrzeb wydatkowych jednostki IPW | F49: {=+INDEX(Tabela1[],slownik!$B$8,Indeksy!B49)} -> 0.0004846984
C51: Obszar / Determinanta | D51: Waga obszaru | E51: Beta | F51: cząstkowy IPW | G51: wartość determinanty
C52: Administracja publiczna | D52: 0.24 | F52: {=+INDEX(TabIPW[],PozIPWG,Indeksy!B52)} -> 0.00014011015
C53: iloczyn liczby mieszkańców i relacji przeciętnego miesięcznego wynagrodzenia brutto w danym powiecie do średniej krajowej | E53: 1 | G53: {=+INDEX(TabIPW[],PozIPWG,Indeksy!B53)} -> 12737.616
C54: Oświata i wychowanie - przedszkola | D54: 0.19 | F54: {=+INDEX(TabIPW[],PozIPWG,Indeksy!B54)} -> 7.2606953e-05
C55: liczba dzieci uczęszczających do przedszkoli, oddziałów przedszkolnych w szkołach podstawowych i innych form wychowania przedszkolnego prowadzonych przez jednostki samorządu terytorialnego, osoby prawne niebędące jednostkami samorządu terytorialnego oraz osoby fizyczne | E55: 1 | G55: {=+INDEX(TabIPW[],PozIPWG,Indeksy!B55)} -> 369
C56: Oświata i wychowanie - szkoły | D56: 0.17 | F56: {=+INDEX(TabIPW[],PozIPWG,Indeksy!B56)} -> 9.2501491e-05
C57: liczba oddziałów w szkołach podstawowych | E57: 1 | G57: {=+INDEX(TabIPW[],PozIPWG,Indeksy!B57)} -> 73
C58: Polityka społeczna | D58: 0.12 | F58: {=+INDEX(TabIPW[],PozIPWG,Indeksy!B58)} -> 2.4060973e-05
C59: liczba gospodarstw domowych korzystających ze środowiskowej pomocy społecznej | E59: 1 | G59: {=+INDEX(TabIPW[],PozIPWG,Indeksy!B59)} -> 88
C60: Gospodarka komunalna i ochrona środowiska | D60: 0.07 | F60: {=+INDEX(TabIPW[],PozIPWG,Indeksy!B60)} -> 4.6277212e-05
C61: ilość wody dostarczonej i ścieków bytowych odprowadzonych siecią kanalizacyjną [dam3] | E61: 1 | G61: {=+INDEX(TabIPW[],PozIPWG,Indeksy!B61)} -> 1134
C62: Kultura i ochrona dziedzictwa narodowego | D62: 0.07 | F62: {=+INDEX(TabIPW[],PozIPWG,Indeksy!B62)} -> 4.0865459e-05
C63: iloczyn liczby mieszkańców i relacji przeciętnego miesięcznego wynagrodzenia brutto w danym powiecie do średniej krajowej | E63: 1 | G63: {=+INDEX(TabIPW[],PozIPWG,Indeksy!B63)} -> 12737.616
C64: Transport i łączność | D64: 0.06 | F64: {=+INDEX(TabIPW[],PozIPWG,Indeksy!B64)} -> 2.9738666e-05
C65: liczba mieszkańców w wieku 20-64 | E65: 1 | G65: {=+INDEX(TabIPW[],PozIPWG,Indeksy!B65)} -> 7374
C66: Pozostałe | D66: 0.08 | F66: {=+INDEX(TabIPW[],PozIPWG,Indeksy!B66)} -> 3.8537508e-05
C67: liczba mieszkańców | E67: 1 | G67: {=+INDEX(TabIPW[],PozIPWG,Indeksy!B67)} -> 12108
B69: 12. | C69: Wyliczenie potrzeb rozwojowych
B70: 12.1. | C70: część podstawowa proporcjonalna do liczby mieszkańców | D70: w zł | F70: {=+INDEX(Tabela1[],slownik!$B$8,Indeksy!B111)} -> 1288583
B71: 12.2. | C71: część inwestycyjna proporcjonalna do udziału przeliczeniowych wydatków mająt. jednostki w przeliczeniowych wydatkach mająt. danej kategorii JST | D71: w zł | F71: {=+INDEX(Tabela1[],slownik!$B$8,Indeksy!B112)} -> 815988
C72: Podstawa wyliczenia części podstawowej potrzeb rozwojowych
B73: 12.1.1. | C73: Ludność | D73: os. | F73: {=+INDEX(Tabela1[],slownik!$B$8,Indeksy!B114)} -> 12108
C74: Podstawa wyliczenia części inwestycyjnej potrzeb rozwojowych
B75: 12.2.1. | C75: Przeliczeniowe wydatki majątkowe | D75: w zł | F75: {=+INDEX(Tabela1[],slownik!$B$8,Indeksy!B116)} -> 12539159
C76: Średnie wydatki majątkowe budżetu JST w latach 2023-2025 | E76: waga | F76: Faktyczne | G76: Przeliczeniowe
B77: 12.2.1.1. | C77: Wydatki majątkowe własne | D77: w zł | E77: 1 | F77: {=+INDEX(Tabela1[],slownik!$B$8,Indeksy!B118)} -> 10478879 | G77: =+E77*F77 -> 10478879
B78: 12.2.1.2. | C78: Wydatki majątkowe na programy finansowane z udziałem środków UE | D78: w zł | E78: 0.5 | F78: {=+INDEX(Tabela1[],slownik!$B$8,Indeksy!B119)} -> 1302585.9 | G78: =+E78*F78 -> 651292.93
B79: 12.2.1.3. | C79: Pozostałe wydatki majątkowe | D79: w zł | E79: 0.25 | F79: {=+INDEX(Tabela1[],slownik!$B$8,Indeksy!B120)} -> 5635947.2 | G79: =+E79*F79 -> 1408986.8
B81: 13. | C81: Potrzeby oświatowe | D81: w zł | F81: {=+INDEX(Tabela1[],slownik!$B$8,Indeksy!B122)} -> 35556051
B83: 14. | C83: Rozliczenie potrzeb finansowych za 2025 r. z tego: | D83: w zł | F83: {=+INDEX(Tabela1[],slownik!$B$8,Indeksy!B124)} -> 50345
B84: 14.1 | C84: Rozliczenie potrzeb wyrównawczych | D84: w zł | F84: {=+INDEX(Tabela1[],slownik!$B$8,Indeksy!B125)} -> 0
B85: 14.2 | C85: Rozliczenie potrzeb oświatowych* | D85: w zł | F85: {=+INDEX(Tabela1[],slownik!$B$8,Indeksy!B126)} -> 1251591
B86: 14.3 | C86: Rozliczenie potrzeb rozwojowych | D86: w zł | F86: {=+INDEX(Tabela1[],slownik!$B$8,Indeksy!B127)} -> 0
B87: 14.2 | C87: Rozliczenie potrzeb ekologicznych | D87: w zł | F87: {=+INDEX(Tabela1[],slownik!$B$8,Indeksy!B128)} -> 0
B88: 14.3 | C88: Rozliczenie potrzeb uzupełniających** | D88: w zł | F88: {=+INDEX(Tabela1[],slownik!$B$8,Indeksy!B129)} -> -1201246
B90: 15. | C90: Korekta z tytułu zamożnosci | D90: w zł | F90: {=+INDEX(Tabela1[],slownik!$B$8,Indeksy!B131)} -> 4947966
B92: 16. | C92: PIT NALEŻNY *** | D92: w zł | F92: {=+INDEX(Tabela1[],slownik!$B$8,Indeksy!B134)} -> 54687516
B93: 17. | C93: CIT NALEŻNY *** | D93: w zł | F93: {=+INDEX(Tabela1[],slownik!$B$8,Indeksy!B135)} -> 5332441
B94: 18. | C94: SUBWENCJA OGÓLNA NALEŻNA *** | D94: w zł | F94: {=+INDEX(Tabela1[],slownik!$B$8,Indeksy!B136)} -> 12893950
C96: ŁĄCZNA KWOTA DOCHODÓW na 2027 r. (16.+17.+18.) | D96: w zł | F96: =SUM(F92:F95) -> 72913907
B98: */ Kwota rozliczenia potrzeb oświatowych za 2025 r. wynika z ponownego przeliczenia potrzeb oświatowych zgodnie z algorytmem stanowiącym integralną część rozporządzenia Ministra Edukacji z dnia 18 grudnia 2024 r. w sprawie sposobu podziału łącznej kwoty potrzeb oświatowych między jednostki samorządu terytorialnego w roku 2025, w oparciu o dane zgromadzone w Systemie Informacji Oświatowej według stanu na ostatni dzień każdego miesiąca roku 2025, przy zachowaniu niezmienionego standardu finansowego A. Kwota rozliczenia uwzględnia także kwotę środków rezerwy na uzupełnienie dochodów jednostek samorządu terytorialnego, przeznaczonych w 2025 r. na finansowanie wzrostu zakresu zadań oświatowych - w przypadku przyznania danej jednostce takich środków w 2025 r.
B99: **/ Kwota rozliczenia potrzeb uzupełniających wynika z przeliczenia systemu dochodów 2025 r. przy uwzględnieniu zmienionych - na skutek rozliczenia - pozostałych potrzeb finasowych.
B100: ***/ kwoty uwzględniają korektę z tytułu zamożności.

Sheet Powiaty jednostkowo
A1: TypJST | B1: 2
A2: WK | B2: 2 | C2: =+IF(ISBLANK(WK_),"Podaj WK",IF(ISERROR(slownik!E4),"Błędny WK",slownik!E4)) -> dolnośląskie
A3: PK | B3: 1 | C3: =+IF(ISBLANK(PK),"Podaj PK",IF(VALUE(PK)>60,"Podaj PK dla powiatu lub przejdż na arkusz dla Miast na prawach powiatu",IF(ISERROR(slownik!E5),"Błędny PK",slownik!E5))) -> bolesławiecki
A5: TERYT | B5: =+TEXT(WK_,"00")&TEXT(PK,"00") -> 0201 | C5: {=+IF(ISERROR(INDEX(Tabela1[Nazwa JST],slownik!D8)),"Popraw WK/PK/GK",+INDEX(Tabela1[Nazwa JST],slownik!D8)&" ["&B5&"]")} -> bolesławiecki [0201]
C6: =+C5 -> bolesławiecki [0201] | F6: PIT | G6: CIT
B7: 1. | C7: Dochody podatników 2025 r. | D7: w zł | F7: {=+INDEX(Tabela1[],slownik!$D$8,Indeksy!B7)} -> 4.1204966e+09 | G7: {=+INDEX(Tabela1[],slownik!$D$8,Indeksy!C7)} -> 5.7452659e+08
B8: 2. | C8: wskaźnik waloryzacji | D8: % | F8: {=+INDEX(Tabela1[],slownik!$D$8,Indeksy!B8)} -> 1.125 | G8: {=+INDEX(Tabela1[],slownik!$D$8,Indeksy!C8)} -> 1.125
B9: 3. | C9: Zwaloryzowane dochody podatników na 2027 r. [1] * [2] | D9: w zł | F9: {=+INDEX(Tabela1[],slownik!$D$8,Indeksy!B9)} -> 4.6355587e+09 | G9: {=+INDEX(Tabela1[],slownik!$D$8,Indeksy!C9)} -> 6.4634241e+08
B10: 4. | C10: stawka udziału | D10: % | F10: {=+INDEX(Tabela1[],slownik!$D$8,Indeksy!B10)} -> 0.02 | G10: {=+INDEX(Tabela1[],slownik!$D$8,Indeksy!C10)} -> 0.017
B11: 5. | C11: Naliczony dochód JST na 2027 r. [3] * (4] | D11: w zł | F11: {=+INDEX(Tabela1[],slownik!$D$8,Indeksy!B11)} -> 92711174 | G11: {=+INDEX(Tabela1[],slownik!$D$8,Indeksy!C11)} -> 10987821
B13: 6. | C13: Kwota kalkulacyjna 2027 | D13: w zł | F13: {=+INDEX(Tabela1[],slownik!$D$8,Indeksy!B13)} -> 67009527
B15: 6a. | C15: Przyrost kwoty kalkulacyjnej r/r | D15: w zł | F15: {=+INDEX(Tabela1[],slownik!$D$8,Indeksy!B15)} -> 4720057
B17: 7. | C17: Potrzeby finansowe 2027 | D17: w zł | F17: {=+INDEX(Tabela1[],slownik!$D$8,Indeksy!B17)} -> 104098584
B19: 7a. | C19: Przyrost potrzeb finansowych r/r | D19: w zł | F19: {=+INDEX(Tabela1[],slownik!$D$8,Indeksy!B19)} -> 2849744
B21: 7b. | C21: Przyrost potrzeb finansowych z uwzględnieniem rozliczenia potrzeb finansowych za 2025 r. [7a] + (14] | D21: w zł | F21: {=+INDEX(Tabela1[],slownik!$D$8,Indeksy!B21)} -> 2849744
B23: 7c. | C23: Przyrost subwencji [7b] - (6a] | D23: w zł | F23: {=+INDEX(Tabela1[],slownik!$D$8,Indeksy!B23)} -> -1870313
B25: 8. | C25: Naliczona subwencja ogólna z budżetu państwa na 2027 r. [8] - [6] | D25: w zł | F25: {=+INDEX(Tabela1[],slownik!$D$8,Indeksy!B25)} -> 37089057
B27: 9. | C27: Potrzeby finansowe, z tego: | D27: w zł | F27: {=+INDEX(Tabela1[],slownik!$D$8,Indeksy!B27)} -> 104098584
B28: 9.1. | C28: potrzeby wyrównawcze | D28: w zł | F28: {=+INDEX(Tabela1[],slownik!$D$8,Indeksy!B28)} -> 0
B29: 9.2. | C29: potrzeby oświatowe | D29: w zł | F29: {=+INDEX(Tabela1[],slownik!$D$8,Indeksy!B29)} -> 85934069
B30: 9.3. | C30: potrzeby rozwojowe | D30: w zł | F30: {=+INDEX(Tabela1[],slownik!$D$8,Indeksy!B30)} -> 2268277
B31: 9.4. | C31: potrzeby ekologiczne | D31: w zł | F31: {=+INDEX(Tabela1[],slownik!$D$8,Indeksy!B31)} -> 1092536
B32: 9.5. | C32: potrzeby uzupełniające | D32: w zł | F32: {=+INDEX(Tabela1[],slownik!$D$8,Indeksy!B32)} -> 14803702
B34: 10. | C34: Wyliczenie potrzeb ekologicznych
B35: 10.1. | C35: przeliczeniowa powierzchnia obszaru prawnie chronionego | D35: ha | F35: =+SUM(G39:G44) -> 14541.934
B36: 10.2. | C36: stawka bazowa za 1 ha obszaru prawnie chronionego | D36: w zł | F36: =+VLOOKUP('Powiaty jednostkowo'!B1,slownik!$A$17:$B$20,2,FALSE) -> 75.13
B38: 10.3. | C38: Obszary prawnie chronione: | E38: waga | F38: Powierzchnia faktyczna | G38: Powierzchnia przeliczeniowa
B39: 10.3.1. | C39: Parki Narodowe | D39: ha | E39: 2 | F39: {=+INDEX(Tabela1[],slownik!$D$8,Indeksy!B39)} -> 0 | G39: =+E39*F39 -> 0
B40: 10.3.2. | C40: Rezerwaty | D40: ha | E40: 1 | F40: {=+INDEX(Tabela1[],slownik!$D$8,Indeksy!B40)} -> 214.2 | G40: =+E40*F40 -> 214.2
B41: 10.3.3. | C41: Strefy ochrony krajobrazu ustanowione w granicach parków krajobrazowych lub obszarach chronionego krajobrazu | D41: ha | E41: 0.6
B42: 10.3.4. | C42: Parki Krajobrazowe i Obszary chronionego krajobrazu, na których ustanowiono przynajmniej pięć zakazów wybranych spośród zakazów, o których mowa w art. 17 ust. 1 pkt 1 i 4-9 lub art. 24 ust. 1 pkt 2 i 4-9 ustawy o ochronie przyrody | D42: ha | E42: 0.3 | F42: {=+INDEX(Tabela1[],slownik!$D$8,Indeksy!B42)} -> 12322.53 | G42: =+E42*F42 -> 3696.759
B43: 10.3.5. | C43: Natura 2000 | D43: ha | E43: 0.15 | F43: {=+INDEX(Tabela1[],slownik!$D$8,Indeksy!B43)} -> 70873.17 | G43: =+E43*F43 -> 10630.975
B44: 10.3.6. | C44: Parki Krajobrazowe i Obszary chronionego krajobrazu, na których ustanowiono przynajmniej jeden z zakazów wybrany spośród zakazów, o których mowa w art. 17 ust. 1 pkt 1 i 4-9 lub art. 24 ust. 1 pkt 2 i 4-9 ustawy o ochronie przyrody | D44: ha | E44: 0.1 | F44: {=+INDEX(Tabela1[],slownik!$D$8,Indeksy!B44)} -> 0 | G44: =+F44*E44 -> 0
B46: 11. | C46: Wyliczenie potrzeb wyrównawczych
B47: 11.1. | C47: relacja wsk. zamożności jednostki do wsk. zamożności danej kategorii JST | D47: % | F47: {=+INDEX(Tabela1[],slownik!$D$8,Indeksy!B47)} -> 1.0807838
B48: 11.2. | C48: przeliczeniowa liczba ludności | F48: {=+INDEX(Tabela1[],slownik!$D$8,Indeksy!B48)} -> 78827
B49: 11.3. | C49: indeks bieżących potrzeb wydatkowych jednostki IPW | F49: {=+INDEX(Tabela1[],slownik!$D$8,Indeksy!B49)} -> 0.0031245063
C51: Obszar / Determinanta | D51: Waga obszaru | E51: Beta | F51: cząstkowy IPW | G51: wartość determinanty
C52: Administracja publiczna | D52: 0.4 | F52: {=+INDEX(TabIPW[],slownik!$D$9,Indeksy!B68)} -> 0.0014525625
C53: iloczyn liczby mieszkańców i relacji przeciętnego miesięcznego wynagrodzenia brutto do średniej krajowej | E53: 1 | G53: {=+INDEX(TabIPW[],slownik!$D$9,Indeksy!B69)} -> 79232.736
C54: Polityka społeczna | D54: 0.25 | F54: {=+INDEX(TabIPW[],slownik!$D$9,Indeksy!B70)} -> 0.00032336479
C55: liczba mieszkańców zakładów stacjonarnych pomocy społecznej podleglych samorządowi powiatu (łącznie z filiami) | E55: 0.3712 | G55: {=+INDEX(TabIPW[],slownik!$D$9,Indeksy!B71)} -> 0
C56: liczba bezrobotnych zarejestrowanych | E56: 0.6288 | G56: {=+INDEX(TabIPW[],slownik!$D$9,Indeksy!B72)} -> 1403
C57: Oświata i wychowanie - szkoły | D57: 0.16 | F57: {=+INDEX(TabIPW[],slownik!$D$9,Indeksy!B73)} -> 0.00070413496
C58: liczba oddziałów w szkołach ponadpodstawowych i policealnych | E58: 1 | G58: {=+INDEX(TabIPW[],slownik!$D$9,Indeksy!B74)} -> 192
C59: Transport i łączność | D59: 0.12 | F59: {=+INDEX(TabIPW[],slownik!$D$9,Indeksy!B75)} -> 0.00040249205
C60: długość dróg powiatowych o nawierzchni twardej [w km] | E60: 0.1632 | G60: {=+INDEX(TabIPW[],slownik!$D$9,Indeksy!B76)} -> 311.4
C61: liczba mieszkańców w wieku 20-64 | E61: 0.8368 | G61: {=+INDEX(TabIPW[],slownik!$D$9,Indeksy!B77)} -> 51410
C62: Pozostałe | D62: 0.07 | F62: {=+INDEX(TabIPW[],slownik!$D$9,Indeksy!B78)} -> 0.00024195193
C63: liczba mieszkańców | E63: 1 | G63: {=+INDEX(TabIPW[],slownik!$D$9,Indeksy!B79)} -> 86878
B66: 12. | C66: Wyliczenie potrzeb rozwojowych
B67: 12.1. | C67: część podstawowa proporcjonalna do liczby mieszkańców | D67: w zł | F67: {=+INDEX(Tabela1[],slownik!$D$8,Indeksy!B111)} -> 1706102
B68: 12.2. | C68: część inwestycyjna proporcjonalna do udziału przeliczeniowych wydatków maj. jednostki w przeliczeniowych wydatkach maj. danej kategorii JST | D68: w zł | F68: {=+INDEX(Tabela1[],slownik!$D$8,Indeksy!B112)} -> 562175
B70: 12.1.1. | C70: Ludność | D70: os. | F70: {=+INDEX(Tabela1[],slownik!$D$8,Indeksy!B114)} -> 86878
B72: 12.2.1. | C72: Przeliczeniowe wydatki majątkowe | D72: w zł | F72: {=+INDEX(Tabela1[],slownik!$D$8,Indeksy!B116)} -> 9768184
C73: Średnie wydatki majątkowe budżetu JST w latach 2023-2025 | E73: waga | F73: Faktyczne | G73: Przeliczeniowe
B74: 12.2.1.1. | C74: Wydatki majątkowe własne | D74: w zł | E74: 1 | F74: {=+INDEX(Tabela1[],slownik!$D$8,Indeksy!B118)} -> 4628229.5 | G74: =+E74*F74 -> 4628229.5
B75: 12.2.1.2. | C75: Wydatki majątkowe na programy finansowane z udziałem środków UE | D75: w zł | E75: 0.5 | F75: {=+INDEX(Tabela1[],slownik!$D$8,Indeksy!B119)} -> 1373773.4 | G75: =+E75*F75 -> 686886.71
B76: 12.2.1.3. | C76: Pozostałe wydatki majątkowe | D76: w zł | E76: 0.25 | F76: {=+INDEX(Tabela1[],slownik!$D$8,Indeksy!B120)} -> 17812271 | G76: =+E76*F76 -> 4453067.8
B78: 13. | C78: Potrzeby oświatowe | D78: w zł | F78: {=+INDEX(Tabela1[],slownik!$D$8,Indeksy!B122)} -> 85934069
B80: 14. | C80: Rozliczenie potrzeb finansowych za 2025 r. z tego: | D80: w zł | F80: {=+INDEX(Tabela1[],slownik!$D$8,Indeksy!B124)} -> 0
B81: 14.1 | C81: Rozliczenie potrzeb wyrównawczych | D81: w zł | F81: {=+INDEX(Tabela1[],slownik!$D$8,Indeksy!B125)} -> 0
B82: 14.2 | C82: Rozliczenie potrzeb oświatowych* | D82: w zł | F82: {=+INDEX(Tabela1[],slownik!$D$8,Indeksy!B126)} -> 774190
B83: 14.3 | C83: Rozliczenie potrzeb rozwojowych | D83: w zł | F83: {=+INDEX(Tabela1[],slownik!$D$8,Indeksy!B127)} -> 0
B84: 14.2 | C84: Rozliczenie potrzeb ekologicznych | D84: w zł | F84: {=+INDEX(Tabela1[],slownik!$D$8,Indeksy!B128)} -> 0
B85: 14.3 | C85: Rozliczenie potrzeb uzupełniających** | D85: w zł | F85: {=+INDEX(Tabela1[],slownik!$D$8,Indeksy!B129)} -> -774190
B87: 15. | C87: Korekta z tytułu zamożnosci | D87: w zł | F87: {=+INDEX(Tabela1[],slownik!$D$8,Indeksy!B131)} -> 0
B89: 16. | C89: PIT NALEŻNY *** | D89: w zł | F89: {=+INDEX(Tabela1[],slownik!$D$8,Indeksy!B134)} -> 92711174
B90: 17. | C90: CIT NALEŻNY *** | D90: w zł | F90: {=+INDEX(Tabela1[],slownik!$D$8,Indeksy!B135)} -> 10987821
B91: 18. | C91: SUBWENCJA OGÓLNA NALEŻNA *** | D91: w zł | F91: {=+INDEX(Tabela1[],slownik!$D$8,Indeksy!B136)} -> 37089057
C93: ŁĄCZNA KWOTA DOCHODÓW na 2027 r. (16.+17.+18.) | D93: w zł | F93: =SUM(F89:F92) -> 140788052
B95: */ Kwota rozliczenia potrzeb oświatowych za 2025 r. wynika z ponownego przeliczenia potrzeb oświatowych zgodnie z algorytmem stanowiącym integralną część rozporządzenia Ministra Edukacji z dnia 18 grudnia 2024 r. w sprawie sposobu podziału łącznej kwoty potrzeb oświatowych między jednostki samorządu terytorialnego w roku 2025, w oparciu o dane zgromadzone w Systemie Informacji Oświatowej według stanu na ostatni dzień każdego miesiąca roku 2025, przy zachowaniu niezmienionego standardu finansowego A. Kwota rozliczenia uwzględnia także kwotę środków rezerwy na uzupełnienie dochodów jednostek samorządu terytorialnego, przeznaczonych w 2025 r. na finansowanie wzrostu zakresu zadań oświatowych - w przypadku przyznania danej jednostce takich środków w 2025 r.
B96: **/ Kwota rozliczenia potrzeb uzupełniających wynika z przeliczenia systemu dochodów 2025 r. przy uwzględnieniu zmienionych - na skutek rozliczenia - pozostałych potrzeb finasowych.
B97: ***/ kwoty uwzględniają korektę z tytułu zamożności.

Sheet MNPP jednostkowo
A1: TypJST | B1: 3
A2: WK | B2: 2 | C2: =+IF(ISBLANK(WK_),"Podaj WK",IF(ISERROR(slownik!G4),"Błędny WK",slownik!G4)) -> dolnośląskie
A3: PK | B3: 61 | C3: =+IF(ISBLANK(PK),"Podaj PK",IF(VALUE(PK)<=60,"Podaj PK dla Miasta na prawach powiatu lub przejdź na arkusz Powiaty",IF(ISERROR(slownik!G5),"Błędny PK",slownik!G5))) -> Jelenia Góra
A5: TERYT | B5: =+TEXT(WK_,"00")&TEXT(PK,"00") -> 0261 | C5: {=+IF(ISERROR(INDEX(Tabela1[Nazwa JST],slownik!F8)),"Popraw WK/PK/GK",+INDEX(Tabela1[Nazwa JST],slownik!F8)&" ["&B5&"]")} -> Jelenia Góra [0261]
C6: =+C5 -> Jelenia Góra [0261] | F6: PIT | G6: CIT
B7: 1. | C7: Dochody podatników 2025 r. | D7: w zł | F7: {=+INDEX(Tabela1[],slownik!$F$8,Indeksy!B7)} -> 3.9153342e+09 | G7: {=+INDEX(Tabela1[],slownik!$F$8,Indeksy!C7)} -> 9.3096291e+08
B8: 2. | C8: wskaźnik waloryzacji | D8: % | F8: {=+INDEX(Tabela1[],slownik!$F$8,Indeksy!B8)} -> 1.125 | G8: {=+INDEX(Tabela1[],slownik!$F$8,Indeksy!C8)} -> 1.125
B9: 3. | C9: Zwaloryzowane dochody podatników na 2027 r. [1] * [2] | D9: w zł | F9: {=+INDEX(Tabela1[],slownik!$F$8,Indeksy!B9)} -> 4.4047509e+09 | G9: {=+INDEX(Tabela1[],slownik!$F$8,Indeksy!C9)} -> 1.0473333e+09
B10: 4. | C10: stawka udziału | D10: % | F10: {=+INDEX(Tabela1[],slownik!$F$8,Indeksy!B10)} -> 0.086 | G10: {=+INDEX(Tabela1[],slownik!$F$8,Indeksy!C10)} -> 0.022
B11: 5. | C11: Naliczony dochód JST na 2027 r. [3] * (4] | D11: w zł | F11: {=+INDEX(Tabela1[],slownik!$F$8,Indeksy!B11)} -> 378808582 | G11: {=+INDEX(Tabela1[],slownik!$F$8,Indeksy!C11)} -> 23041332
B13: 6. | C13: Kwota kalkulacyjna 2027 | D13: w zł | F13: {=+INDEX(Tabela1[],slownik!$F$8,Indeksy!B13)} -> 218724338
B15: 6a. | C15: Przyrost kwoty kalkulacyjnej r/r | D15: w zł | F15: {=+INDEX(Tabela1[],slownik!$F$8,Indeksy!B15)} -> 12987893
B17: 7. | C17: Potrzeby finansowe 2027 | D17: w zł | F17: {=+INDEX(Tabela1[],slownik!$F$8,Indeksy!B17)} -> 306727819
B19: 7a. | C19: Przyrost potrzeb finansowych r/r | D19: w zł | F19: {=+INDEX(Tabela1[],slownik!$F$8,Indeksy!B19)} -> 13894236
B21: 7b. | C21: Przyrost potrzeb finansowych z uwzględnieniem rozliczenia potrzeb finansowych za 2025 r. [7a] + (14] | D21: w zł | F21: {=+INDEX(Tabela1[],slownik!$F$8,Indeksy!B21)} -> 13894236
B23: 7c. | C23: Przyrost subwencji [7b] - (6a] | D23: w zł | F23: {=+INDEX(Tabela1[],slownik!$F$8,Indeksy!B23)} -> 906343
B25: 8. | C25: Naliczona subwencja ogólna z budżetu państwa na 2027 r. [8] - [6] | D25: w zł | F25: {=+INDEX(Tabela1[],slownik!$F$8,Indeksy!B25)} -> 88003481
B27: 9. | C27: Potrzeby finansowe, z tego: | D27: w zł | F27: {=+INDEX(Tabela1[],slownik!$F$8,Indeksy!B27)} -> 306727819
B28: 9.1. | C28: potrzeby wyrównawcze | D28: w zł | F28: {=+INDEX(Tabela1[],slownik!$F$8,Indeksy!B28)} -> 0
B29: 9.2. | C29: potrzeby oświatowe | D29: w zł | F29: {=+INDEX(Tabela1[],slownik!$F$8,Indeksy!B29)} -> 263323991
B30: 9.3. | C30: potrzeby rozwojowe | D30: w zł | F30: {=+INDEX(Tabela1[],slownik!$F$8,Indeksy!B30)} -> 15645201
B31: 9.4. | C31: potrzeby ekologiczne | D31: w zł | F31: {=+INDEX(Tabela1[],slownik!$F$8,Indeksy!B31)} -> 1235684
B32: 9.5. | C32: potrzeby uzupełniające | D32: w zł | F32: {=+INDEX(Tabela1[],slownik!$F$8,Indeksy!B32)} -> 26522943
B34: 10. | C34: Wyliczenie potrzeb ekologicznych
B35: 10.1. | C35: przeliczeniowa powierzchnia obszaru prawnie chronionego | D35: ha | E35: x | F35: =+SUM(G39:G44) -> 3714.109
B36: 10.2. | C36: stawka bazowa za 1 ha obszaru prawnie chronionego | D36: w zł | E36: x | F36: =+VLOOKUP('MNPP jednostkowo'!B1,slownik!$A$17:$B$20,2,FALSE) -> 332.7
B38: 10.3. | C38: Obszary prawnie chronione: | E38: waga | F38: Powierzchnia faktyczna | G38: Powierzchnia przeliczeniowa
B39: 10.3.1. | C39: Parki Narodowe | D39: ha | E39: 2 | F39: {=+INDEX(Tabela1[],slownik!$F$8,Indeksy!B39)} -> 1712.84 | G39: =+E39*F39 -> 3425.68
B40: 10.3.2. | C40: Rezerwaty | D40: ha | E40: 1 | F40: {=+INDEX(Tabela1[],slownik!$F$8,Indeksy!B40)} -> 0 | G40: =+E40*F40 -> 0
B41: 10.3.3. | C41: Strefy ochrony krajobrazu ustanowione w granicach parków krajobrazowych lub obszarach chronionego krajobrazu | D41: ha | E41: 0.6
B42: 10.3.4. | C42: Parki Krajobrazowe i Obszary chronionego krajobrazu, na których ustanowiono przynajmniej pięć zakazów wybranych spośród zakazów, o których mowa w art. 17 ust. 1 pkt 1 i 4-9 lub art. 24 ust. 1 pkt 2 i 4-9 ustawy o ochronie przyrody | D42: ha | E42: 0.3 | F42: {=+INDEX(Tabela1[],slownik!$F$8,Indeksy!B42)} -> 470.42 | G42: =+E42*F42 -> 141.126
B43: 10.3.5. | C43: Natura 2000 | D43: ha | E43: 0.15 | F43: {=+INDEX(Tabela1[],slownik!$F$8,Indeksy!B43)} -> 982.02 | G43: =+E43*F43 -> 147.303
B44: 10.3.6. | C44: Parki Krajobrazowe i Obszary chronionego krajobrazu, na których ustanowiono przynajmniej jeden z zakazów wybrany spośród zakazów, o których mowa w art. 17 ust. 1 pkt 1 i 4-9 lub art. 24 ust. 1 pkt 2 i 4-9 ustawy o ochronie przyrody | D44: ha | E44: 0.1 | F44: {=+INDEX(Tabela1[],slownik!$F$8,Indeksy!B44)} -> 0 | G44: =+F44*E44 -> 0
B46: 11. | C46: Wyliczenie potrzeb wyrównawczych
B47: 11.1. | C47: relacja wsk. zamożności jednostki do wsk. zamożności danej kategorii JST | D47: % | F47: {=+INDEX(Tabela1[],slownik!$F$8,Indeksy!B47)} -> 0.9070416
B48: 11.2. | C48: przeliczeniowa liczba ludności | F48: {=+INDEX(Tabela1[],slownik!$F$8,Indeksy!B48)} -> 64552
B49: 11.3. | C49: Indeks bieżących potrzeb wydatkowych jednostki IPW | F49: {=+INDEX(Tabela1[],slownik!$F$8,Indeksy!B49)} -> 0.0052908172
C51: Obszar / Determinanta | D51: Waga obszaru | E51: Beta | F51: cząstkowy IPW | G51: wartość determinanty
C52: Transport i łączność | D52: 0.18 | F52: {=+INDEX(TabIPW[],slownik!$F$9,Indeksy!B80)} -> 0.00066183883
C53: liczba pracujących ogółem | E53: 1 | G53: {=+INDEX(TabIPW[],slownik!$F$9,Indeksy!B81)} -> 26458
C54: Oświata i wychowanie - przedszkola | D54: 0.17 | F54: {=+INDEX(TabIPW[],slownik!$F$9,Indeksy!B82)} -> 0.00086390883
C55: liczba dzieci uczęszczających do przedszkoli, oddziałów przedszkolnych w szkołach podstawowych i innych form wychowania przedszkolnego prowadzonych przez jednostki samorządu terytorialnego, osoby prawne niebędące jednostkami samorządu terytorialnego oraz osoby fizyczne | E55: 1 | G55: {=+INDEX(TabIPW[],slownik!$F$9,Indeksy!B83)} -> 2473
C56: Oświata i wychowanie - szkoły | D56: 0.15 | F56: {=+INDEX(TabIPW[],slownik!$F$9,Indeksy!B84)} -> 0.00092345916
C57: liczba oddziałów w szkołach podstawowych, ponadpodstawowych i policealnych | E57: 1 | G57: {=+INDEX(TabIPW[],slownik!$F$9,Indeksy!B85)} -> 617
C58: Polityka społeczna | D58: 0.15 | F58: {=+INDEX(TabIPW[],slownik!$F$9,Indeksy!B86)} -> 0.00098377117
C59: liczba osób korzystających ze środowiskowej pomocy społecznej (łącznie z filiami) | E59: 0.8065 | G59: {=+INDEX(TabIPW[],slownik!$F$9,Indeksy!B87)} -> 1857
C60: liczba bezrobotnych | E60: 0.1935 | G60: {=+INDEX(TabIPW[],slownik!$F$9,Indeksy!B88)} -> 1538
C61: Administracja publiczna | D61: 0.15 | F61: {=+INDEX(TabIPW[],slownik!$F$9,Indeksy!B89)} -> 0.00082451237
C62: iloczyn liczby mieszkańców i relacji przeciętnego miesięcznego wynagrodzenia brutto do średniej krajowej | E62: 1 | G62: {=+INDEX(TabIPW[],slownik!$F$9,Indeksy!B90)} -> 70457.73
C63: Kultura i ochrona dziedzictwa narodowego | D63: 0.06 | F63: {=+INDEX(TabIPW[],slownik!$F$9,Indeksy!B91)} -> 0.00032980495
C64: iloczyn liczby mieszkańców i relacji przeciętnego miesięcznego wynagrodzenia brutto do średniej krajowej | E64: 1 | G64: {=+INDEX(TabIPW[],slownik!$F$9,Indeksy!B92)} -> 70457.73
C65: Gospodarka komunalna i ochrona środowiska | D65: 0.05 | F65: {=+INDEX(TabIPW[],slownik!$F$9,Indeksy!B93)} -> 0.00016141979
C66: suma powierzchni parków spac.-wyp., zieleńców i terenów zieleni osiedlowej oraz średniej pow. objętej utrzymaniem czystości i porządku przez gminy w okresie letnim i w okresie zimowym – będąca w gestii miasta [w ha] | E66: 1 | G66: {=+INDEX(TabIPW[],slownik!$F$9,Indeksy!B94)} -> 206.6
C67: Pozostałe | D67: 0.09 | F67: {=+INDEX(TabIPW[],slownik!$F$9,Indeksy!B95)} -> 0.00054210213
C68: liczba mieszkańców | E68: 1 | G68: {=+INDEX(TabIPW[],slownik!$F$9,Indeksy!B96)} -> 73470
B71: 12. | C71: Wyliczenie potrzeb rozwojowych
B72: 12.1. | C72: część podstawowa proporcjonalna do liczby mieszkańców | D72: w zł | F72: {=+INDEX(Tabela1[],slownik!$F$8,Indeksy!B111)} -> 10224684
B73: 12.2. | C73: część inwestycyjna proporcjonalna do udziału przeliczeniowych wydatków maj. jednostki w przeliczeniowych wydatkach maj. danej kategorii JST | D73: w zł | F73: {=+INDEX(Tabela1[],slownik!$F$8,Indeksy!B112)} -> 5420517
B75: 12.1.1. | C75: Ludność | D75: os. | F75: {=+INDEX(Tabela1[],slownik!$F$8,Indeksy!B114)} -> 73470
B77: 12.2.1. | C77: Przeliczeniowe wydatki majątkowe | D77: w zł | F77: {=+INDEX(Tabela1[],slownik!$F$8,Indeksy!B116)} -> 69657243
C78: Średnie wydatki majątkowe budżetu JST w latach 2023-2025 | E78: waga | F78: Faktyczne | G78: Przeliczeniowe
B79: 12.2.1.1. | C79: Wydatki majątkowe własne | D79: w zł | E79: 1 | F79: {=+INDEX(Tabela1[],slownik!$F$8,Indeksy!B118)} -> 43610167 | G79: =+E79*F79 -> 43610167
B80: 12.2.1.2. | C80: Wydatki majątkowe na programy finansowane z udziałem środków UE | D80: w zł | E80: 0.5 | F80: {=+INDEX(Tabela1[],slownik!$F$8,Indeksy!B119)} -> 33503487 | G80: =+E80*F80 -> 16751743
B81: 12.2.1.3. | C81: Pozostałe wydatki majątkowe | D81: w zł | E81: 0.25 | F81: {=+INDEX(Tabela1[],slownik!$F$8,Indeksy!B120)} -> 37181330 | G81: =+E81*F81 -> 9295332.6
B83: 13. | C83: Potrzeby oświatowe | D83: w zł | F83: {=+INDEX(Tabela1[],slownik!$F$8,Indeksy!B122)} -> 263323991
B85: 14. | C85: Rozliczenie potrzeb finansowych za 2025 r. z tego: | D85: w zł | F85: {=+INDEX(Tabela1[],slownik!$F$8,Indeksy!B124)} -> 0
B86: 14.1 | C86: Rozliczenie potrzeb wyrównawczych | D86: w zł | F86: {=+INDEX(Tabela1[],slownik!$F$8,Indeksy!B125)} -> 0
B87: 14.2 | C87: Rozliczenie potrzeb oświatowych* | D87: w zł | F87: {=+INDEX(Tabela1[],slownik!$F$8,Indeksy!B126)} -> -3015251
B88: 14.3 | C88: Rozliczenie potrzeb rozwojowych | D88: w zł | F88: {=+INDEX(Tabela1[],slownik!$F$8,Indeksy!B127)} -> 0
B89: 14.2 | C89: Rozliczenie potrzeb ekologicznych | D89: w zł | F89: {=+INDEX(Tabela1[],slownik!$F$8,Indeksy!B128)} -> 0
B90: 14.3 | C90: Rozliczenie potrzeb uzupełniających** | D90: w zł | F90: {=+INDEX(Tabela1[],slownik!$F$8,Indeksy!B129)} -> 3015251
B92: 15. | C92: Korekta z tytułu zamożnosci | D92: w zł | F92: {=+INDEX(Tabela1[],slownik!$F$8,Indeksy!B131)} -> 0
B94: 16. | C94: PIT NALEŻNY *** | D94: w zł | F94: {=+INDEX(Tabela1[],slownik!$F$8,Indeksy!B134)} -> 378808582
B95: 17. | C95: CIT NALEŻNY *** | D95: w zł | F95: {=+INDEX(Tabela1[],slownik!$F$8,Indeksy!B135)} -> 23041332
B96: 18. | C96: SUBWENCJA OGÓLNA NALEŻNA *** | D96: w zł | F96: {=+INDEX(Tabela1[],slownik!$F$8,Indeksy!B136)} -> 88003481
C98: ŁĄCZNA KWOTA DOCHODÓW na 2027 r. (16.+17.+18.) | D98: w zł | F98: =SUM(F94:F97) -> 489853395
B100: */ Kwota rozliczenia potrzeb oświatowych za 2025 r. wynika z ponownego przeliczenia potrzeb oświatowych zgodnie z algorytmem stanowiącym integralną część rozporządzenia Ministra Edukacji z dnia 18 grudnia 2024 r. w sprawie sposobu podziału łącznej kwoty potrzeb oświatowych między jednostki samorządu terytorialnego w roku 2025, w oparciu o dane zgromadzone w Systemie Informacji Oświatowej według stanu na ostatni dzień każdego miesiąca roku 2025, przy zachowaniu niezmienionego standardu finansowego A. Kwota rozliczenia uwzględnia także kwotę środków rezerwy na uzupełnienie dochodów jednostek samorządu terytorialnego, przeznaczonych w 2025 r. na finansowanie wzrostu zakresu zadań oświatowych - w przypadku przyznania danej jednostce takich środków w 2025 r.
B101: **/ Kwota rozliczenia potrzeb uzupełniających wynika z przeliczenia systemu dochodów 2025 r. przy uwzględnieniu zmienionych - na skutek rozliczenia - pozostałych potrzeb finasowych.
B102: ***/ kwoty uwzględniają korektę z tytułu zamożności.

Sheet Woj. jednostkowo 
A1: TypJST | B1: 4
A2: WK | B2: 2 | C2: =+IF(ISBLANK(WK_),"Podaj WK",IF(ISERROR(slownik!I4),"Błędny WK",slownik!I4)) -> dolnośląskie
A5: TERYT | B5: =+TEXT(WK_,"00") -> 02 | C5: {=+IF(ISERROR(INDEX(Tabela1[Nazwa JST],slownik!H8)),"Popraw WK/PK/GK",+INDEX(Tabela1[Nazwa JST],slownik!H8)&" ["&B5&"]")} -> dolnośląskie [02]
C6: =+C5 -> dolnośląskie [02] | F6: PIT | G6: CIT
B7: 1. | C7: Dochody podatników 2025 r. | D7: w zł | F7: {=+INDEX(Tabela1[],slownik!$H$8,Indeksy!B7)} -> 1.628571e+11 | G7: {=+INDEX(Tabela1[],slownik!$H$8,Indeksy!C7)} -> 4.406248e+10
B8: 2. | C8: wskaźnik waloryzacji | D8: % | F8: {=+INDEX(Tabela1[],slownik!$H$8,Indeksy!B8)} -> 1.125 | G8: {=+INDEX(Tabela1[],slownik!$H$8,Indeksy!C8)} -> 1.125
B9: 3. | C9: Zwaloryzowane dochody podatników na 2027 r. [1] * [2] | D9: w zł | F9: {=+INDEX(Tabela1[],slownik!$H$8,Indeksy!B9)} -> 1.8321424e+11 | G9: {=+INDEX(Tabela1[],slownik!$H$8,Indeksy!C9)} -> 4.957029e+10
B10: 4. | C10: stawka udziału | D10: % | F10: {=+INDEX(Tabela1[],slownik!$H$8,Indeksy!B10)} -> 0.0035 | G10: {=+INDEX(Tabela1[],slownik!$H$8,Indeksy!C10)} -> 0.023
B11: 5. | C11: Naliczony dochód JST na 2027 r. [3] * (4] | D11: w zł | F11: {=+INDEX(Tabela1[],slownik!$H$8,Indeksy!B11)} -> 641249851 | G11: {=+INDEX(Tabela1[],slownik!$H$8,Indeksy!C11)} -> 1140116668
B13: 6. | C13: Kwota kalkulacyjna 2027 | D13: w zł | F13: {=+INDEX(Tabela1[],slownik!$H$8,Indeksy!B13)} -> 294216051
B15: 6a. | C15: Przyrost kwoty kalkulacyjnej r/r | D15: w zł | F15: {=+INDEX(Tabela1[],slownik!$H$8,Indeksy!B15)} -> 11730138
B17: 7. | C17: Potrzeby finansowe 2027 | D17: w zł | F17: {=+INDEX(Tabela1[],slownik!$H$8,Indeksy!B17)} -> 297346594
B19: 7a. | C19: Przyrost potrzeb finansowych r/r | D19: w zł | F19: {=+INDEX(Tabela1[],slownik!$H$8,Indeksy!B19)} -> 65338417
B21: 7b. | C21: Przyrost potrzeb finansowych z uwzględnieniem rozliczenia potrzeb finansowych za 2025 r. [7a] + (14] | D21: w zł | F21: {=+INDEX(Tabela1[],slownik!$H$8,Indeksy!B21)} -> 65338417
B23: 7c. | C23: Przyrost subwencji [7b] - (6a] | D23: w zł | F23: {=+INDEX(Tabela1[],slownik!$H$8,Indeksy!B23)} -> 53608279
B25: 8. | C25: Naliczona subwencja ogólna z budżetu państwa na 2027 r. [8] - [6] | D25: w zł | F25: {=+INDEX(Tabela1[],slownik!$H$8,Indeksy!B25)} -> 129668631
B27: 9. | C27: Potrzeby finansowe, z tego: | D27: w zł | F27: {=+INDEX(Tabela1[],slownik!$H$8,Indeksy!B27)} -> 297346594
B28: 9.1. | C28: potrzeby wyrównawcze | D28: w zł | F28: {=+INDEX(Tabela1[],slownik!$H$8,Indeksy!B28)} -> 30608032
B29: 9.2. | C29: potrzeby oświatowe | D29: w zł | F29: {=+INDEX(Tabela1[],slownik!$H$8,Indeksy!B29)} -> 119330024
B30: 9.3. | C30: potrzeby rozwojowe | D30: w zł | F30: {=+INDEX(Tabela1[],slownik!$H$8,Indeksy!B30)} -> 124014527
B31: 9.4. | C31: potrzeby ekologiczne | D31: w zł | F31: {=+INDEX(Tabela1[],slownik!$H$8,Indeksy!B31)} -> 6551642
B32: 9.5. | C32: potrzeby uzupełniające | D32: w zł | F32: {=+INDEX(Tabela1[],slownik!$H$8,Indeksy!B32)} -> 16842369
B34: 10. | C34: Wyliczenie potrzeb ekologicznych
B35: 10.1. | C35: przeliczeniowa powierzchnia obszaru prawnie chronionego | D35: ha | F35: =+SUM(G39:G44) -> 174384.94
B36: 10.2. | C36: stawka bazowa za 1 ha obszaru prawnie chronionego | D36: w zł | F36: =+VLOOKUP('Woj. jednostkowo '!B1,slownik!$A$17:$B$20,2,FALSE) -> 37.57
B38: 10.3. | C38: Obszary prawnie chronione: | E38: waga | F38: Powierzchnia faktyczna | G38: Powierzchnia przeliczeniowa
B39: 10.3.1. | C39: Parki Narodowe | D39: ha | E39: 2 | F39: {=+INDEX(Tabela1[],slownik!$H$8,Indeksy!B39)} -> 12287.47 | G39: =+E39*F39 -> 24574.94
B40: 10.3.2. | C40: Rezerwaty | D40: ha | E40: 1 | F40: {=+INDEX(Tabela1[],slownik!$H$8,Indeksy!B40)} -> 11453.53 | G40: =+E40*F40 -> 11453.53
B41: 10.3.3. | C41: Strefy ochrony krajobrazu ustanowione w granicach parków krajobrazowych lub obszarach chronionego krajobrazu | D41: ha | E41: 0.6
B42: 10.3.4. | C42: Parki Krajobrazowe i Obszary chronionego krajobrazu, na których ustanowiono przynajmniej pięć zakazów wybranych spośród zakazów, o których mowa w art. 17 ust. 1 pkt 1 i 4-9 lub art. 24 ust. 1 pkt 2 i 4-9 ustawy o ochronie przyrody | D42: ha | E42: 0.3 | F42: {=+INDEX(Tabela1[],slownik!$H$8,Indeksy!B42)} -> 319232.89 | G42: =+E42*F42 -> 95769.867
B43: 10.3.5. | C43: Natura 2000 | D43: ha | E43: 0.15 | F43: {=+INDEX(Tabela1[],slownik!$H$8,Indeksy!B43)} -> 278814.87 | G43: =+E43*F43 -> 41822.23
B44: 10.3.6. | C44: Parki Krajobrazowe i Obszary chronionego krajobrazu, na których ustanowiono przynajmniej jeden z zakazów wybrany spośród zakazów, o których mowa w art. 17 ust. 1 pkt 1 i 4-9 lub art. 24 ust. 1 pkt 2 i 4-9 ustawy o ochronie przyrody | D44: ha | E44: 0.1 | F44: {=+INDEX(Tabela1[],slownik!$H$8,Indeksy!B44)} -> 7643.74 | G44: =+F44*E44 -> 764.374
B46: 11. | C46: Wyliczenie potrzeb wyrównawczych
B47: 11.1. | C47: relacja wsk. zamożności jednostki do wsk. zamożności danej kategorii JST | D47: % | F47: {=+INDEX(Tabela1[],slownik!$H$8,Indeksy!B47)} -> 0.97897356
B48: 11.2. | C48: przeliczeniowa liczba ludności | F48: {=+INDEX(Tabela1[],slownik!$H$8,Indeksy!B48)} -> 3038923
B49: 11.3. | C49: Indeks bieżących potrzeb wydatkowych jednostki IPW | F49: {=+INDEX(Tabela1[],slownik!$H$8,Indeksy!B49)} -> 0.081246361
C51: Obszar / Determinanta | D51: Waga obszaru | E51: Beta | F51: cząstkowy IPW | G51: wartość determinanty
C52: Transport i łączność | D52: 0.36 | F52: {=+INDEX(TabIPW[],slownik!$H$9,Indeksy!B97)} -> 0.030537978
C53: suma dł. linii kolejowych eksploatowanych i dł. dróg wojewódzkich o naw. twardej [w km] | E53: 1 | G53: {=+INDEX(TabIPW[],slownik!$H$9,Indeksy!B98)} -> 4173.6
C54: Administracja publiczna | D54: 0.24 | F54: {=+INDEX(TabIPW[],slownik!$H$9,Indeksy!B99)} -> 0.019303186
C55: iloczyn liczby mieszkańców i relacji przeciętnego miesięcznego wynagrodzenia brutto do średniej krajowej | E55: 1 | G55: {=+INDEX(TabIPW[],slownik!$H$9,Indeksy!B100)} -> 2934419.4
C56: Kultura i ochrona dziedzictwa narodowego | D56: 0.16 | F56: {=+INDEX(TabIPW[],slownik!$H$9,Indeksy!B101)} -> 0.012868791
C57: iloczyn liczby mieszkańców i relacji przeciętnego miesięcznego wynagrodzenia brutto do średniej krajowej | E57: 1 | G57: {=+INDEX(TabIPW[],slownik!$H$9,Indeksy!B102)} -> 2934419.4
C58: Polityka społeczna | D58: 0.08 | F58: {=+INDEX(TabIPW[],slownik!$H$9,Indeksy!B103)} -> 0.0062906811
C59: suma liczby bezrobotnych zarejestrowanych i liczby osób w wieku poprodukcyjnym | E59: 1 | G59: {=+INDEX(TabIPW[],slownik!$H$9,Indeksy!B104)} -> 782255
C60: Ochrona zdrowia | D60: 0.05 | F60: {=+INDEX(TabIPW[],slownik!$H$9,Indeksy!B105)} -> 0.0038267893
C61: liczba mieszkańców | E61: 1 | G61: {=+INDEX(TabIPW[],slownik!$H$9,Indeksy!B106)} -> 2857273
C62: Pozostałe | D62: 0.11 | F62: {=+INDEX(TabIPW[],slownik!$H$9,Indeksy!B107)} -> 0.0084189365
C63: liczba mieszkańców | E63: 1 | G63: {=+INDEX(TabIPW[],slownik!$H$9,Indeksy!B108)} -> 2857273
B66: 12. | C66: Wyliczenie potrzeb rozwojowych
B67: 12.1. | C67: część podstawowa proporcjonalna do liczby mieszkańców | D67: w zł | F67: {=+INDEX(Tabela1[],slownik!$H$8,Indeksy!B111)} -> 74923096
B68: 12.2. | C68: część inwestycyjna proporcjonalna do udziału przeliczeniowych wydatków mająt. jednostki w przeliczeniowych wydatkach mająt. danej kategorii JST | D68: w zł | F68: {=+INDEX(Tabela1[],slownik!$H$8,Indeksy!B112)} -> 49091431
B70: 12.1.1. | C70: Ludność | D70: os. | F70: {=+INDEX(Tabela1[],slownik!$H$8,Indeksy!B114)} -> 2857273
B72: 12.2.1. | C72: Wydatki majątkowe przeliczeniowe | D72: w zł | F72: {=+INDEX(Tabela1[],slownik!$H$8,Indeksy!B116)} -> 6.5719204e+08
C73: Średnie wydatki majątkowe budżetu JST w latach 2023-2025 | E73: waga | F73: Faktyczne | G73: Przeliczeniowe
B74: 12.2.1.1. | C74: Wydatki majątkowe własne | D74: w zł | E74: 1 | F74: {=+INDEX(Tabela1[],slownik!$H$8,Indeksy!B118)} -> 5.1252872e+08 | G74: =+E74*F74 -> 5.1252872e+08
B75: 12.2.1.2. | C75: Wydatki majątkowe na programy finansowane z udziałem środków UE | D75: w zł | E75: 0.5 | F75: {=+INDEX(Tabela1[],slownik!$H$8,Indeksy!B119)} -> 2.1326172e+08 | G75: =+E75*F75 -> 1.0663086e+08
B76: 12.2.1.3. | C76: Pozostałe wydatki majątkowe | D76: w zł | E76: 0.25 | F76: {=+INDEX(Tabela1[],slownik!$H$8,Indeksy!B120)} -> 1.5212983e+08 | G76: =+E76*F76 -> 38032458
B78: 13. | C78: Potrzeby oświatowe | D78: w zł | F78: {=+INDEX(Tabela1[],slownik!$H$8,Indeksy!B122)} -> 119330024
B80: 14. | C80: Rozliczenie potrzeb finansowych za 2025 r. z tego: | D80: w zł | F80: {=+INDEX(Tabela1[],slownik!$H$8,Indeksy!B124)} -> 0
B81: 14.1 | C81: Rozliczenie potrzeb wyrównawczych | D81: w zł | F81: {=+INDEX(Tabela1[],slownik!$H$8,Indeksy!B125)} -> 0
B82: 14.2 | C82: Rozliczenie potrzeb oświatowych* | D82: w zł | F82: {=+INDEX(Tabela1[],slownik!$H$8,Indeksy!B126)} -> -2195762
B83: 14.3 | C83: Rozliczenie potrzeb rozwojowych | D83: w zł | F83: {=+INDEX(Tabela1[],slownik!$H$8,Indeksy!B127)} -> 0
B84: 14.2 | C84: Rozliczenie potrzeb ekologicznych | D84: w zł | F84: {=+INDEX(Tabela1[],slownik!$H$8,Indeksy!B128)} -> 0
B85: 14.3 | C85: Rozliczenie potrzeb uzupełniających** | D85: w zł | F85: {=+INDEX(Tabela1[],slownik!$H$8,Indeksy!B129)} -> 2195762
B87: 15. | C87: Korekta z tytułu zamożnosci | D87: w zł | F87: {=+INDEX(Tabela1[],slownik!$H$8,Indeksy!B131)} -> 0
B89: 16. | C89: PIT NALEŻNY *** | D89: w zł | F89: {=+INDEX(Tabela1[],slownik!$H$8,Indeksy!B134)} -> 641249851
B90: 17. | C90: CIT NALEŻNY *** | D90: w zł | F90: {=+INDEX(Tabela1[],slownik!$H$8,Indeksy!B135)} -> 1140116668
B91: 18. | C91: SUBWENCJA OGÓLNA NALEŻNA *** | D91: w zł | F91: {=+INDEX(Tabela1[],slownik!$H$8,Indeksy!B136)} -> 129668631
C93: ŁĄCZNA KWOTA DOCHODÓW na 2027 r. (16.+17.+18.) | D93: w zł | F93: =SUM(F89:F92) -> 1911035150
B95: */ Kwota rozliczenia potrzeb oświatowych za 2025 r. wynika z ponownego przeliczenia potrzeb oświatowych zgodnie z algorytmem stanowiącym integralną część rozporządzenia Ministra Edukacji z dnia 18 grudnia 2024 r. w sprawie sposobu podziału łącznej kwoty potrzeb oświatowych między jednostki samorządu terytorialnego w roku 2025, w oparciu o dane zgromadzone w Systemie Informacji Oświatowej według stanu na ostatni dzień każdego miesiąca roku 2025, przy zachowaniu niezmienionego standardu finansowego A. Kwota rozliczenia uwzględnia także kwotę środków rezerwy na uzupełnienie dochodów jednostek samorządu terytorialnego, przeznaczonych w 2025 r. na finansowanie wzrostu zakresu zadań oświatowych - w przypadku przyznania danej jednostce takich środków w 2025 r.
B96: **/ Kwota rozliczenia potrzeb uzupełniających wynika z przeliczenia systemu dochodów 2025 r. przy uwzględnieniu zmienionych - na skutek rozliczenia - pozostałych potrzeb finasowych.
B97: ***/ kwoty uwzględniają korektę z tytułu zamożności.

Sheet Dane_baza
A1: =+COLUMN() -> 1 | B1: =+COLUMN() -> 2 | C1: =+COLUMN() -> 3 | D1: =+COLUMN() -> 4 | E1: =+COLUMN() -> 5 | F1: =+COLUMN() -> 6 | G1: =+COLUMN() -> 7 | H1: =+COLUMN() -> 8 | ... BX1: =+COLUMN() -> 76
BA2: Ekologiczna
BF3: 0.6 | BH3: 0.4 | BJ3: 1 | BK3: 0.5 | BL3: 0.25
A4: Typ JST | B4: WK | C4: PK | D4: GK | E4: GT | F4: Kod GUS | G4: Nazwa JST | H4: PIT dochody podatników 2025 | I4: Waloryzacja | J4: PIT dochody zwaloryzowane na 2027 | K4: Stawka udziału | L4: Dochód PIT naliczony na 2027 r. | M4: Kolumna1 | N4: Kolumna2 | O4: CIT dochody podatników 2025 | P4: Waloryzacja2 | Q4: CIT dochody zwaloryzowane na 2027 | R4: Stawka udziału3 | S4: Dochód CIT naliczony na 2027 r. | T4: Kolumna3 | U4: Kolumna4 | V4: Kwota kalkulacyjna 2027 | W4: Kolumna6 | X4: Potrzeby finansowe 2027 w tym: | Y4: Potrzeby wyrównawcze 2027 | Z4: Potrzeby ekologiczne 2027 | AA4: Potrzeby rozwojowe 2027 | AB4: Potrzeby oświatowe 2027 | AC4: Potrzeby uzupełniające 2027 | AD4: Subwencja 2027 | AE4: Korekta zamożności | AF4: Należny PIT 2027 | AG4: Należny CIT 2027 | AH4: Należna subwencja 2027 | AI4: Kwota kalkulacyjna 20272 | AJ4: Przyrost potrzeb finansowych | AK4: Przyrost potrzeb fin. z rozliczeniem | AL4: Przyrost kwoty kalkulacyjnej | AM4: Przyrost subwencji | AN4: Rozliczenie potrzeb oświatowych 2025 | AO4: Rozliczenie potrzeb ekologicznych 2025 | AP4: Rozliczenie potrzeb uzupełniających 2025 | AQ4: Rozliczenie 2025 potrz. fin. | AR4: Potrzeby finansowe 2027 (uwzgledniające rozliczenie potrzeb za 2025 r.) | AS4: Rozliczenie potrzeb wyrównawczych 2025 | AT4: Rozliczenie potrzeb rozwojowych 2025 | AU4: Kolumna10 | AV4: Kolumna11 | AW4: Kolumna12 | AX4: Kolumna13 | AY4: Kolumna14 | AZ4: Kolumna15 | BA4: Potrzeby ekologiczne 20272 | BB4: parki narodowe | BC4: rezerwaty | BD4: PK i OChK >5 zakazów | BE4: Natura2000 | BF4: PK i OChK >1 <5 zakazów | BG4: Potrzeby rozwojowe w części związanej z ludnością | BH4: Liczba mieszkańców 2025 | BI4: Potrzeby rozwojowe w części związanej wydatkami majątkowymi | BJ4: Wydatki majątkowe przeliczeniowe w tym: | BK4: 01_WmWlasne | BL4: 02_WmZagr | BM4: 03_WmPoz | BN4: Idywidualny wskaźnik zamożności (w %) | BO4: IPW | BP4: Ludność przeliczeniowa | BQ4: Kolumna16 | BR4: Kolumna17 | BS4: Kolumna18 | BT4: Kolumna19 | BU4: Należny PIT | BV4: Należny CIT | BW4: Należna subwencja | BX4: Dochody razem (PIT+CIT+sub)
A5: G | B5: 02 | C5: 01 | D5: 01 | E5: 1 | F5: =+Tabela1[[#This Row],[WK]]&Tabela1[[#This Row],[PK]]&Tabela1[[#This Row],[GK]] -> 020101 | G5: BOLESŁAWIEC | H5: 1.9319501e+09 | I5: 1.125 | J5: 2.1734438e+09 | K5: 0.07 | L5: 152141068 | O5: 3.0109718e+08 | P5: 1.125 | Q5: 3.3873433e+08 | R5: 0.016 | S5: 5419749 | V5: 84306094 | X5: 80506431 | Y5: 0 | Z5: 0 | AA5: 6763023 | AB5: 73743408 | AC5: 0 | AD5: 4482901 | AE5: 0 | AF5: 152141068 | AG5: 5419749 | AH5: 4482901 | AI5: 84306094 | AJ5: 1875128 | AK5: 1986099 | AL5: 4495230 | AM5: -2509131 | AN5: 110971 | AO5: 0 | AP5: 0 | AQ5: 110971 | AR5: =Tabela1[[#This Row],[Potrzeby finansowe 2027 w tym:]]+Tabela1[[#This Row],[Rozliczenie 2025 potrz. fin.]] -> 80617402 | AS5: 0 | AT5: 0 | BA5: 0 | BB5: 0 | BC5: 0 | BD5: 0 | BE5: 0 | BF5: 0 | BG5: 3899589 | BH5: 36642 | BI5: 2863434 | BJ5: 44001937 | BK5: 29722415 | BL5: 17593503 | BM5: 21931082 | BN5: 1.0322375 | BO5: 0.0014947641 | BP5: 37591 | BU5: 152141068 | BV5: 5419749 | BW5: 4482901 | BX5: 162043718
A6: G | B6: 02 | C6: 01 | D6: 02 | E6: 2 | F6: =+Tabela1[[#This Row],[WK]]&Tabela1[[#This Row],[PK]]&Tabela1[[#This Row],[GK]] -> 020102 | G6: BOLESŁAWIEC | H6: 7.3338796e+08 | I6: 1.125 | J6: 8.2506146e+08 | K6: 0.07 | L6: 57754302 | O6: 18491616 | P6: 1.125 | Q6: 20803068 | R6: 0.016 | S6: 332849 | V6: 31098676 | X6: 38059785 | Y6: 0 | Z6: 651901 | AA6: 2308567 | AB6: 30479355 | AC6: 4619962 | AD6: 7944588 | AE6: 0 | AF6: 57754302 | AG6: 332849 | AH6: 7944588 | AI6: 31098676 | AJ6: 3155682 | AK6: 3500312 | AL6: 2172170 | AM6: 1328142 | AN6: 1817571 | AO6: 0 | AP6: -1472941 | AQ6: 344630 | AR6: =Tabela1[[#This Row],[Potrzeby finansowe 2027 w tym:]]+Tabela1[[#This Row],[Rozliczenie 2025 potrz. fin.]] -> 38404415 | AS6: 0 | AT6: 0 | BA6: 651901 | BB6: 0 | BC6: 0 | BD6: 0 | BE6: 13062.83 | BF6: 0 | BG6: 1639568 | BH6: 15406 | BI6: 668999 | BJ6: 10280405 | BK6: 6144835.5 | BL6: 3842438.8 | BM6: 8857400 | BN6: 1.0942559 | BO6: 0.0005763623 | BP6: 14495 | BU6: 57754302 | BV6: 332849 | BW6: 7944588 | BX6: 66031739
A7: G | B7: 02 | C7: 01 | D7: 03 | E7: 2 | F7: =+Tabela1[[#This Row],[WK]]&Tabela1[[#This Row],[PK]]&Tabela1[[#This Row],[GK]] -> 020103 | G7: GROMADKA | H7: 2.4392251e+08 | I7: 1.125 | J7: 2.7441283e+08 | K7: 0.07 | L7: 19208898 | O7: 66298868 | P7: 1.125 | Q7: 74586227 | R7: 0.016 | S7: 1193380 | V7: 12785414 | X7: 14700797 | Y7: 0 | Z7: 1816794 | AA7: 1269714 | AB7: 8509520 | AC7: 3104769 | AD7: 3432090 | AE7: 8459815 | AF7: 14181173 | AG7: 1193380 | AH7: 0 | AI7: 12785414 | AJ7: 540011 | AK7: 651452 | AL7: 722775 | AM7: -71323 | AN7: 179681 | AO7: 0 | AP7: -68240 | AQ7: 111441 | AR7: =Tabela1[[#This Row],[Potrzeby finansowe 2027 w tym:]]+Tabela1[[#This Row],[Rozliczenie 2025 potrz. fin.]] -> 14812238 | AS7: 0 | AT7: 0 | BA7: 1816794 | BB7: 0 | BC7: 210.81 | BD7: 11763.53 | BE7: 11472.58 | BF7: 0 | BG7: 524032 | BH7: 4924 | BI7: 745682 | BJ7: 11458777 | BK7: 8509061.5 | BL7: 2269349.4 | BM7: 7260162.4 | BN7: 1.8126876 | BO7: 0.0001915619 | BP7: 4818 | BU7: 14181173 | BV7: 1193380 | BW7: 0 | BX7: 15374553
A8: G | B8: 02 | C8: 01 | D8: 04 | E8: 3 | F8: =+Tabela1[[#This Row],[WK]]&Tabela1[[#This Row],[PK]]&Tabela1[[#This Row],[GK]] -> 020104 | G8: NOWOGRODZIEC | H8: 5.3193574e+08 | I8: 1.125 | J8: 5.9842771e+08 | K8: 0.07 | L8: 41889940 | O8: 1.4222529e+08 | P8: 1.125 | Q8: 1.6000345e+08 | R8: 0.016 | S8: 2560055 | V8: 28894703 | X8: 37625644 | Y8: 0 | Z8: 134089 | AA8: 2247594 | AB8: 30429961 | AC8: 4814000 | AD8: 8730942 | AE8: 0 | AF8: 41889940 | AG8: 2560055 | AH8: 8730942 | AI8: 28894703 | AJ8: 2255512 | AK8: 2255512 | AL8: 2874666 | AM8: -619154 | AN8: -104774 | AO8: 0 | AP8: 104774 | AQ8: 0 | AR8: =Tabela1[[#This Row],[Potrzeby finansowe 2027 w tym:]]+Tabela1[[#This Row],[Rozliczenie 2025 potrz. fin.]] -> 37625644 | AS8: 0 | AT8: 0 | BA8: 134089 | BB8: 0 | BC8: 3.38 | BD8: 0 | BE8: 2664.36 | BF8: 0 | BG8: 1534101 | BH8: 14415 | BI8: 713493 | BJ8: 10964137 | BK8: 8416919.5 | BL8: 522124.15 | BM8: 9144623.4 | BN8: 1.1056135 | BO8: 0.0005342889 | BP8: 13436 | BU8: 41889940 | BV8: 2560055 | BW8: 8730942 | BX8: 53180937
A9: G | B9: 02 | C9: 01 | D9: 05 | E9: 2 | F9: =+Tabela1[[#This Row],[WK]]&Tabela1[[#This Row],[PK]]&Tabela1[[#This Row],[GK]] -> 020105 | G9: OSIECZNICA | H9: 3.087085e+08 | I9: 1.125 | J9: 3.4729707e+08 | K9: 0.07 | L9: 24310795 | O9: 23352268 | P9: 1.125 | Q9: 26271302 | R9: 0.016 | S9: 420341 | V9: 14661797 | X9: 22784041 | Y9: 0 | Z9: 2179521 | AA9: 1454373 | AB9: 17033028 | AC9: 2117119 | AD9: 8122244 | AE9: 0 | AF9: 24310795 | AG9: 420341 | AH9: 8122244 | AI9: 14661797 | AJ9: 1096861 | AK9: 1096861 | AL9: 796534 | AM9: 300327 | AN9: 76540 | AO9: 0 | AP9: -76540 | AQ9: 0 | AR9: =Tabela1[[#This Row],[Potrzeby finansowe 2027 w tym:]]+Tabela1[[#This Row],[Rozliczenie 2025 potrz. fin.]] -> 22784041 | AS9: 0 | AT9: 0 | BA9: 2179521 | BB9: 0 | BC9: 0 | BD9: 0 | BE9: 43673.4 | BF9: 0 | BG9: 760507 | BH9: 7146 | BI9: 693866 | BJ9: 10662532 | BK9: 8051383.1 | BL9: 168877.93 | BM9: 10106840 | BN9: 1.0090186 | BO9: 0.0003007311 | BP9: 7563 | BU9: 24310795 | BV9: 420341 | BW9: 8122244 | BX9: 32853380
A10: G | B10: 02 | C10: 01 | D10: 06 | E10: 2 | F10: =+Tabela1[[#This Row],[WK]]&Tabela1[[#This Row],[PK]]&Tabela1[[#This Row],[GK]] -> 020106 | G10: WARTA BOLESŁAWIECKA | H10: 3.7059185e+08 | I10: 1.125 | J10: 4.1691583e+08 | K10: 0.07 | L10: 29184108 | O10: 23061369 | P10: 1.125 | Q10: 25944040 | R10: 0.016 | S10: 415105 | V10: 19009658 | X10: 27919476 | Y10: 2203300 | Z10: 55794 | AA10: 1252214 | AB10: 18722022 | AC10: 5686146 | AD10: 8909818 | AE10: 0 | AF10: 29184108 | AG10: 415105 | AH10: 8909818 | AI10: 19009658 | AJ10: 2474028 | AK10: 2474028 | AL10: 1039363 | AM10: 1434665 | AN10: -873899 | AO10: 0 | AP10: 873899 | AQ10: 0 | AR10: =Tabela1[[#This Row],[Potrzeby finansowe 2027 w tym:]]+Tabela1[[#This Row],[Rozliczenie 2025 potrz. fin.]] -> 27919476 | AS10: 0 | AT10: 0 | BA10: 55794 | BB10: 0 | BC10: 0 | BD10: 559 | BE10: 0 | BF10: 0 | BG10: 888109 | BH10: 8345 | BI10: 364105 | BJ10: 5595141.8 | BK10: 3191687.4 | BL10: 804679.53 | BM10: 8004458.7 | BN10: 0.94166923 | BO10: 0.0003501915 | BP10: 8807 | BU10: 29184108 | BV10: 415105 | BW10: 8909818 | BX10: 38509031
A11: G | B11: 02 | C11: 02 | D11: 01 | E11: 1 | F11: =+Tabela1[[#This Row],[WK]]&Tabela1[[#This Row],[PK]]&Tabela1[[#This Row],[GK]] -> 020201 | G11: BIELAWA | H11: 1.1835972e+09 | I11: 1.125 | J11: 1.3315468e+09 | K11: 0.07 | L11: 93208277 | O11: 1.1963066e+08 | P11: 1.125 | Q11: 1.3458449e+08 | R11: 0.016 | S11: 2153352 | V11: 56222395 | X11: 77704056 | Y11: 13993801 | Z11: 133112 | AA11: 5059494 | AB11: 49228133 | AC11: 9289516 | AD11: 21481661 | AE11: 0 | AF11: 93208277 | AG11: 2153352 | AH11: 21481661 | AI11: 56222395 | AJ11: 937187 | AK11: 937187 | AL11: 3362367 | AM11: -2425180 | AN11: -289711 | AO11: 0 | AP11: 289711 | AQ11: 0 | AR11: =Tabela1[[#This Row],[Potrzeby finansowe 2027 w tym:]]+Tabela1[[#This Row],[Rozliczenie 2025 potrz. fin.]] -> 77704056 | AS11: 0 | AT11: 0 | BA11: 133112 | BB11: 0 | BC11: 28.21 | BD11: 1237.67 | BE11: 3.91 | BF11: 0 | BG11: 2924532 | BH11: 27480 | BI11: 2134962 | BJ11: 32807623 | BK11: 22147669 | BL11: 7840772.6 | BM11: 26958270 | BN11: 0.86946271 | BO11: 0.0009939102 | BP11: 24995 | BU11: 93208277 | BV11: 2153352 | BW11: 21481661 | BX11: 116843290
A12: G | B12: 02 | C12: 02 | D12: 02 | E12: 1 | F12: =+Tabela1[[#This Row],[WK]]&Tabela1[[#This Row],[PK]]&Tabela1[[#This Row],[GK]] -> 020202 | G12: DZIERŻONIÓW | H12: 1.442165e+09 | I12: 1.125 | J12: 1.6224357e+09 | K12: 0.07 | L12: 113570496 | O12: 3.1626088e+08 | P12: 1.125 | Q12: 3.5579349e+08 | R12: 0.016 | S12: 5692696 | V12: 66343031 | X12: 60708192 | Y12: 0 | Z12: 0 | AA12: 5035853 | AB12: 55672339 | AC12: 0 | AD12: 4283965 | AE12: 0 | AF12: 113570496 | AG12: 5692696 | AH12: 4283965 | AI12: 66343031 | AJ12: 3978965 | AK12: 4873772 | AL12: 3525563 | AM12: 1348209 | AN12: 894807 | AO12: 0 | AP12: 0 | AQ12: 894807 | AR12: =Tabela1[[#This Row],[Potrzeby finansowe 2027 w tym:]]+Tabela1[[#This Row],[Rozliczenie 2025 potrz. fin.]] -> 61602999 | AS12: 0 | AT12: 0 | BA12: 0 | BB12: 0 | BC12: 0 | BD12: 0 | BE12: 0 | BF12: 0 | BG12: 3194210 | BH12: 30014 | BI12: 1841643 | BJ12: 28300229 | BK12: 19842837 | BL12: 2998730.2 | BM12: 27832107 | BN12: 1.0411013 | BO12: 0.001125373 | BP12: 28301 | BU12: 113570496 | BV12: 5692696 | BW12: 4283965 | BX12: 123547157
A13: G | B13: 02 | C13: 02 | D13: 03 | E13: 3 | F13: =+Tabela1[[#This Row],[WK]]&Tabela1[[#This Row],[PK]]&Tabela1[[#This Row],[GK]] -> 020203 | G13: PIESZYCE | H13: 3.5750333e+08 | I13: 1.125 | J13: 4.0219125e+08 | K13: 0.07 | L13: 28153387 | O13: 31370170 | P13: 1.125 | Q13: 35291441 | R13: 0.016 | S13: 564663 | V13: 15634713 | X13: 23158101 | Y13: 6492965 | Z13: 316587 | AA13: 1454134 | AB13: 13636022 | AC13: 1258393 | AD13: 7523388 | AE13: 0 | AF13: 28153387 | AG13: 564663 | AH13: 7523388 | AI13: 15634713 | AJ13: 1733489 | AK13: 1733489 | AL13: 541031 | AM13: 1192458 | AN13: -1109299 | AO13: 0 | AP13: 1109299 | AQ13: 0 | AR13: =Tabela1[[#This Row],[Potrzeby finansowe 2027 w tym:]]+Tabela1[[#This Row],[Rozliczenie 2025 potrz. fin.]] -> 23158101 | AS13: 0 | AT13: 0 | BA13: 316587 | BB13: 0 | BC13: 0 | BD13: 3129.03 | BE13: 85.73 | BF13: 0 | BG13: 938553 | BH13: 8819 | BI13: 515581 | BJ13: 7922846.6 | BK13: 2872821.1 | BL13: 3572427.5 | BM13: 13055247 | BN13: 0.82206243 | BO13: 0.0003383466 | BP13: 8508 | BU13: 28153387 | BV13: 564663 | BW13: 7523388 | BX13: 36241438
A14: G | B14: 02 | C14: 02 | D14: 04 | E14: 1 | F14: =+Tabela1[[#This Row],[WK]]&Tabela1[[#This Row],[PK]]&Tabela1[[#This Row],[GK]] -> 020204 | G14: PIŁAWA GÓRNA | H14: 2.2622965e+08 | I14: 1.125 | J14: 2.5450836e+08 | K14: 0.07 | L14: 17815585 | O14: 11483134 | P14: 1.125 | Q14: 12918526 | R14: 0.016 | S14: 206696 | V14: 11765276 | X14: 17513898 | Y14: 6029012 | Z14: 1923 | AA14: 949403 | AB14: 8000215 | AC14: 2533345 | AD14: 5748622 | AE14: 0 | AF14: 17815585 | AG14: 206696 | AH14: 5748622 | AI14: 11765276 | AJ14: 1626869 | AK14: 1626869 | AL14: 358714 | AM14: 1268155 | AN14: 0 | AO14: 0 | AP14: 0 | AQ14: 0 | AR14: =Tabela1[[#This Row],[Potrzeby finansowe 2027 w tym:]]+Tabela1[[#This Row],[Rozliczenie 2025 potrz. fin.]] -> 17513898 | AS14: 0 | AT14: 0 | BA14: 1923 | BB14: 0 | BC14: 0 | BD14: 0 | BE14: 38.53 | BF14: 0 | BG14: 612257 | BH14: 5753 | BI14: 337146 | BJ14: 5180868.7 | BK14: 2767879.2 | BL14: 1724697.7 | BM14: 6202562.3 | BN14: 0.76573869 | BO14: 0.0002301825 | BP14: 5789 | BU14: 17815585 | BV14: 206696 | BW14: 5748622 | BX14: 23770903
A15: G | B15: 02 | C15: 02 | D15: 05 | E15: 2 | F15: =+Tabela1[[#This Row],[WK]]&Tabela1[[#This Row],[PK]]&Tabela1[[#This Row],[GK]] -> 020205 | G15: DZIERŻONIÓW | H15: 3.8821648e+08 | I15: 1.125 | J15: 4.3674354e+08 | K15: 0.07 | L15: 30572048 | O15: 29592541 | P15: 1.125 | Q15: 33291609 | R15: 0.016 | S15: 532666 | V15: 18404349 | X15: 23243727 | Y15: 0 | Z15: 103719 | AA15: 1607215 | AB15: 14222750 | AC15: 7310043 | AD15: 6027215 | AE15: 0 | AF15: 30572048 | AG15: 532666 | AH15: 6027215 | AI15: 18404349 | AJ15: 571637 | AK15: 464722 | AL15: 1639233 | AM15: -1174511 | AN15: -106915 | AO15: 0 | AP15: 0 | AQ15: -106915 | AR15: =Tabela1[[#This Row],[Potrzeby finansowe 2027 w tym:]]+Tabela1[[#This Row],[Rozliczenie 2025 potrz. fin.]] -> 23136812 | AS15: 0 | AT15: 0 | BA15: 103719 | BB15: 0 | BC15: 0 | BD15: 568.36 | BE15: 941.27 | BF15: 0.5 | BG15: 958880 | BH15: 9010 | BI15: 648335 | BJ15: 9962858.9 | BK15: 6856222.1 | BL15: 2624175.2 | BM15: 7178196.9 | BN15: 1.125169 | BO15: 0.0002968944 | BP15: 7466 | BU15: 30572048 | BV15: 532666 | BW15: 6027215 | BX15: 37131929
A16: G | B16: 02 | C16: 02 | D16: 06 | E16: 2 | F16: =+Tabela1[[#This Row],[WK]]&Tabela1[[#This Row],[PK]]&Tabela1[[#This Row],[GK]] -> 020206 | G16: ŁAGIEWNIKI | H16: 2.9923184e+08 | I16: 1.125 | J16: 3.3663582e+08 | K16: 0.07 | L16: 23564507 | O16: 18795163 | P16: 1.125 | Q16: 21144559 | R16: 0.016 | S16: 338313 | V16: 15231851 | X16: 26171550 | Y16: 0 | Z16: 179251 | AA16: 1423198 | AB16: 15820298 | AC16: 8748803 | AD16: 10939699 | AE16: 0 | AF16: 23564507 | AG16: 338313 | AH16: 10939699 | AI16: 15231851 | AJ16: 1005916 | AK16: 1005916 | AL16: 1045134 | AM16: -39218 | AN16: -157845 | AO16: 0 | AP16: 157845 | AQ16: 0 | AR16: =Tabela1[[#This Row],[Potrzeby finansowe 2027 w tym:]]+Tabela1[[#This Row],[Rozliczenie 2025 potrz. fin.]] -> 26171550 | AS16: 0 | AT16: 0 | BA16: 179251 | BB16: 0 | BC16: 44.2 | BD16: 0 | BE16: 3080.5 | BF16: 325.01 | BG16: 743585 | BH16: 6987 | BI16: 679613 | BJ16: 10443500 | BK16: 5879302.6 | BL16: 3881040.4 | BM16: 10494708 | BN16: 1.0233289 | BO16: 0.0002322001 | BP16: 5839 | BU16: 23564507 | BV16: 338313 | BW16: 10939699 | BX16: 34842519
... A2417: G | B2417: 32 | C2417: 18 | D2417: 05 | E2417: 3 | F2417: =+Tabela1[[#This Row],[WK]]&Tabela1[[#This Row],[PK]]&Tabela1[[#This Row],[GK]] -> 321805 | G2417: WĘGORZYNO | H2417: 2.2222616e+08 | I2417: 1.125 | J2417: 2.5000443e+08 | K2417: 0.07 | L2417: 17500310 | O2417: 25035699 | P2417: 1.125 | Q2417: 28165161 | R2417: 0.016 | S2417: 450643 | V2417: 11883354 | X2417: 17252779 | Y2417: 1849533 | Z2417: 1437363 | AA2417: 1009443 | AB2417: 9178042 | AC2417: 3778398 | AD2417: 5369425 | AE2417: 0 | AF2417: 17500310 | AG2417: 450643 | AH2417: 5369425 | AI2417: 11883354 | AJ2417: -79613 | AK2417: -79613 | AL2417: 749260 | AM2417: -828873 | AN2417: -594318 | AO2417: 0 | AP2417: 594318 | AQ2417: 0 | AR2417: =Tabela1[[#This Row],[Potrzeby finansowe 2027 w tym:]]+Tabela1[[#This Row],[Rozliczenie 2025 potrz. fin.]] -> 17252779 | AS2417: 0 | AT2417: 0 | BA2417: 1437363 | BB2417: 0 | BC2417: 102.63 | BD2417: 2604.41 | BE2417: 22908.96 | BF2417: 0 | BG2417: 658658 | BH2417: 6189 | BI2417: 350785 | BJ2417: 5390455.9 | BK2417: 3215156.2 | BL2417: 1044533.8 | BM2417: 6612130.9 | BN2417: 0.9266482 | BO2417: 0.0002337595 | BP2417: 5879 | BU2417: 17500310 | BV2417: 450643 | BW2417: 5369425 | BX2417: 23320378
A2418: Mnpp | B2418: 02 | C2418: 61 | F2418: =+Tabela1[[#This Row],[WK]]&Tabela1[[#This Row],[PK]]&Tabela1[[#This Row],[GK]] -> 0261 | G2418: Jelenia Góra | H2418: 3.9153342e+09 | I2418: 1.125 | J2418: 4.4047509e+09 | K2418: 0.086 | L2418: 378808582 | O2418: 9.3096291e+08 | P2418: 1.125 | Q2418: 1.0473333e+09 | R2418: 0.022 | S2418: 23041332 | V2418: 218724338 | X2418: 306727819 | Y2418: 0 | Z2418: 1235684 | AA2418: 15645201 | AB2418: 263323991 | AC2418: 26522943 | AD2418: 88003481 | AE2418: 0 | AF2418: 378808582 | AG2418: 23041332 | AH2418: 88003481 | AI2418: 218724338 | AJ2418: 13894236 | AK2418: 13894236 | AL2418: 12987893 | AM2418: 906343 | AN2418: -3015251 | AO2418: 0 | AP2418: 3015251 | AQ2418: 0 | AR2418: =Tabela1[[#This Row],[Potrzeby finansowe 2027 w tym:]]+Tabela1[[#This Row],[Rozliczenie 2025 potrz. fin.]] -> 306727819 | AS2418: 0 | AT2418: 0 | BA2418: 1235684 | BB2418: 1712.84 | BC2418: 0 | BD2418: 470.42 | BE2418: 982.02 | BF2418: 0 | BG2418: 10224684 | BH2418: 73470 | BI2418: 5420517 | BJ2418: 69657243 | BK2418: 43610167 | BL2418: 33503487 | BM2418: 37181330 | BN2418: 0.9070416 | BO2418: 0.0052908172 | BP2418: 64552 | BU2418: 378808582 | BV2418: 23041332 | BW2418: 88003481 | BX2418: 489853395
A2419: Mnpp | B2419: 02 | C2419: 62 | F2419: =+Tabela1[[#This Row],[WK]]&Tabela1[[#This Row],[PK]]&Tabela1[[#This Row],[GK]] -> 0262 | G2419: Legnica | H2419: 5.2765976e+09 | I2419: 1.125 | J2419: 5.9361723e+09 | K2419: 0.086 | L2419: 510510822 | O2419: 1.3547446e+09 | P2419: 1.125 | Q2419: 1.5240877e+09 | R2419: 0.022 | S2419: 33529929 | V2419: 283914834 | X2419: 338506302 | Y2419: 0 | Z2419: 0 | AA2419: 19521346 | AB2419: 307697830 | AC2419: 11287126 | AD2419: 54591469 | AE2419: 0 | AF2419: 510510822 | AG2419: 33529929 | AH2419: 54591469 | AI2419: 283914834 | AJ2419: 4389714 | AK2419: 4389714 | AL2419: 15197826 | AM2419: -10808112 | AN2419: -3514418 | AO2419: 0 | AP2419: 3514418 | AQ2419: 0 | AR2419: =Tabela1[[#This Row],[Potrzeby finansowe 2027 w tym:]]+Tabela1[[#This Row],[Rozliczenie 2025 potrz. fin.]] -> 338506302 | AS2419: 0 | AT2419: 0 | BA2419: 0 | BB2419: 0 | BC2419: 0 | BD2419: 0 | BE2419: 0 | BF2419: 0 | BG2419: 12513862 | BH2419: 89919 | BI2419: 7007484 | BJ2419: 90050812 | BK2419: 77000557 | BL2419: 3979656.6 | BM2419: 44241707 | BN2419: 0.91434678 | BO2419: 0.0071443161 | BP2419: 87166 | BU2419: 510510822 | BV2419: 33529929 | BW2419: 54591469 | BX2419: 598632220
A2420: Mnpp | B2420: 02 | C2420: 64 | F2420: =+Tabela1[[#This Row],[WK]]&Tabela1[[#This Row],[PK]]&Tabela1[[#This Row],[GK]] -> 0264 | G2420: Wrocław | H2420: 4.8876478e+10 | I2420: 1.125 | J2420: 5.4986038e+10 | K2420: 0.086 | L2420: 4728799265 | O2420: 2.1179859e+10 | P2420: 1.125 | Q2420: 2.3827341e+10 | R2420: 0.022 | S2420: 524201502 | V2420: 2211671063 | X2420: 2256219724 | Y2420: 0 | Z2420: 151131 | AA2420: 160349605 | AB2420: 2095718988 | AC2420: 0 | AD2420: 203383202 | AE2420: 0 | AF2420: 4728799265 | AG2420: 524201502 | AH2420: 203383202 | AI2420: 2211671063 | AJ2420: 167884272 | AK2420: 210944506 | AL2420: 131950497 | AM2420: 78994009 | AN2420: 43060234 | AO2420: 0 | AP2420: 0 | AQ2420: 43060234 | AR2420: =Tabela1[[#This Row],[Potrzeby finansowe 2027 w tym:]]+Tabela1[[#This Row],[Rozliczenie 2025 potrz. fin.]] -> 2299279958 | AS2420: 0 | AT2420: 0 | BA2420: 151131 | BB2420: 0 | BC2420: 0 | BD2420: 567.21 | BE2420: 1893.95 | BF2420: 0 | BG2420: 93604646 | BH2420: 672601 | BI2420: 66744959 | BJ2420: 8.57717e+08 | BK2420: 7.5863753e+08 | BL2420: 1.492463e+08 | BM2420: 97825270 | BN2420: 1.1348692 | BO2420: 0.052202922 | BP2420: 636914 | BU2420: 4728799265 | BV2420: 524201502 | BW2420: 203383202 | BX2420: 5456383969
A2421: Mnpp | B2421: 02 | C2421: 65 | F2421: =+Tabela1[[#This Row],[WK]]&Tabela1[[#This Row],[PK]]&Tabela1[[#This Row],[GK]] -> 0265 | G2421: Wałbrzych | H2421: 4.7922861e+09 | I2421: 1.125 | J2421: 5.3913218e+09 | K2421: 0.086 | L2421: 463653676 | O2421: 7.0262254e+08 | P2421: 1.125 | Q2421: 7.9045036e+08 | R2421: 0.022 | S2421: 17389908 | V2421: 281256180 | X2421: 400342844 | Y2421: 20376596 | Z2421: 217801 | AA2421: 22527590 | AB2421: 284599642 | AC2421: 72621215 | AD2421: 119086664 | AE2421: 0 | AF2421: 463653676 | AG2421: 17389908 | AH2421: 119086664 | AI2421: 281256180 | AJ2421: 32433242 | AK2421: 32433242 | AL2421: 12583259 | AM2421: 19849983 | AN2421: 10009589 | AO2421: 0 | AP2421: -10009589 | AQ2421: 0 | AR2421: =Tabela1[[#This Row],[Potrzeby finansowe 2027 w tym:]]+Tabela1[[#This Row],[Rozliczenie 2025 potrz. fin.]] -> 400342844 | AS2421: 0 | AT2421: 0 | BA2421: 217801 | BB2421: 0 | BC2421: 229.01 | BD2421: 1196.94 | BE2421: 437.15 | BF2421: 9.81 | BG2421: 13575297 | BH2421: 97546 | BI2421: 8952293 | BJ2421: 1.1504291e+08 | BK2421: 69542620 | BL2421: 53037106 | BM2421: 75926928 | BN2421: 0.77326616 | BO2421: 0.0072923589 | BP2421: 88973 | BU2421: 463653676 | BV2421: 17389908 | BW2421: 119086664 | BX2421: 600130248
A2422: Mnpp | B2422: 04 | C2422: 61 | F2422: =+Tabela1[[#This Row],[WK]]&Tabela1[[#This Row],[PK]]&Tabela1[[#This Row],[GK]] -> 0461 | G2422: Bydgoszcz | H2422: 1.8540141e+10 | I2422: 1.125 | J2422: 2.0857659e+10 | K2422: 0.086 | L2422: 1793758645 | O2422: 5.1384246e+09 | P2422: 1.125 | Q2422: 5.7807277e+09 | R2422: 0.022 | S2422: 127176008 | V2422: 990878369 | X2422: 1257587842 | Y2422: 0 | Z2422: 479789 | AA2422: 72314834 | AB2422: 1154052495 | AC2422: 30740724 | AD2422: 268468747 | AE2422: 0 | AF2422: 1793758645 | AG2422: 127176008 | AH2422: 268468747 | AI2422: 990878369 | AJ2422: 98428734 | AK2422: 100188008 | AL2422: 56261092 | AM2422: 43926916 | AN2422: 26284459 | AO2422: 0 | AP2422: -24525185 | AQ2422: 1759274 | AR2422: =Tabela1[[#This Row],[Potrzeby finansowe 2027 w tym:]]+Tabela1[[#This Row],[Rozliczenie 2025 potrz. fin.]] -> 1259347116 | AS2422: 0 | AT2422: 0 | BA2422: 479789 | BB2422: 0 | BC2422: 0 | BD2422: 4320.1 | BE2422: 973.84 | BF2422: 0 | BG2422: 44686897 | BH2422: 321100 | BI2422: 27627937 | BJ2422: 3.5503731e+08 | BK2422: 2.1205874e+08 | BL2422: 2.6140506e+08 | BM2422: 49104162 | BN2422: 0.96452585 | BO2422: 0.023291704 | BP2422: 284176 | BU2422: 1793758645 | BV2422: 127176008 | BW2422: 268468747 | BX2422: 2189403400
A2423: Mnpp | B2423: 04 | C2423: 62 | F2423: =+Tabela1[[#This Row],[WK]]&Tabela1[[#This Row],[PK]]&Tabela1[[#This Row],[GK]] -> 0462 | G2423: Grudziądz | H2423: 4.0376704e+09 | I2423: 1.125 | J2423: 4.5423792e+09 | K2423: 0.086 | L2423: 390644614 | O2423: 6.8874305e+08 | P2423: 1.125 | Q2423: 7.7483593e+08 | R2423: 0.022 | S2423: 17046390 | V2423: 235006021 | X2423: 516696964 | Y2423: 136132142 | Z2423: 138710 | AA2423: 19570318 | AB2423: 360855794 | AC2423: 0 | AD2423: 292680177 | AE2423: 0 | AF2423: 390644614 | AG2423: 17046390 | AH2423: 292680177 | AI2423: 235006021 | AJ2423: 28641894 | AK2423: 39631128 | AL2423: 12619137 | AM2423: 27011991 | AN2423: 10989234 | AO2423: 0 | AP2423: 0 | AQ2423: 10989234 | AR2423: =Tabela1[[#This Row],[Potrzeby finansowe 2027 w tym:]]+Tabela1[[#This Row],[Rozliczenie 2025 potrz. fin.]] -> 527686198 | AS2423: 0 | AT2423: 0 | BA2423: 138710 | BB2423: 0 | BC2423: 0 | BD2423: 1213.18 | BE2423: 353.13 | BF2423: 0 | BG2423: 12081328 | BH2423: 86811 | BI2423: 7488990 | BJ2423: 96238486 | BK2423: 72118667 | BL2423: 23981525 | BM2423: 48516226 | BN2423: 0.63234896 | BO2423: 0.0077689715 | BP2423: 94787 | BU2423: 390644614 | BV2423: 17046390 | BW2423: 292680177 | BX2423: 700371181
A2424: Mnpp | B2424: 04 | C2424: 63 | F2424: =+Tabela1[[#This Row],[WK]]&Tabela1[[#This Row],[PK]]&Tabela1[[#This Row],[GK]] -> 0463 | G2424: Toruń | H2424: 1.0647611e+10 | I2424: 1.125 | J2424: 1.1978563e+10 | K2424: 0.086 | L2424: 1030156398 | O2424: 3.2814089e+09 | P2424: 1.125 | Q2424: 3.691585e+09 | R2424: 0.022 | S2424: 81214871 | V2424: 540611606 | X2424: 750258548 | Y2424: 0 | Z2424: 156342 | AA2424: 45386966 | AB2424: 686191641 | AC2424: 18523599 | AD2424: 209646941 | AE2424: 0 | AF2424: 1030156398 | AG2424: 81214871 | AH2424: 209646941 | AI2424: 540611606 | AJ2424: 52226239 | AK2424: 52226239 | AL2424: 29241827 | AM2424: 22984412 | AN2424: 8400000 | AO2424: 0 | AP2424: -8400000 | AQ2424: 0 | AR2424: =Tabela1[[#This Row],[Potrzeby finansowe 2027 w tym:]]+Tabela1[[#This Row],[Rozliczenie 2025 potrz. fin.]] -> 750258548 | AS2424: 0 | AT2424: 0 | BA2424: 156342 | BB2424: 0 | BC2424: 46.69 | BD2424: 678.32 | BE2424: 1464.88 | BF2424: 0 | BG2424: 26829396 | BH2424: 192784 | BI2424: 18557570 | BJ2424: 2.3847708e+08 | BK2424: 1.9038221e+08 | BL2424: 22001493 | BM2424: 1.4837648e+08 | BN2424: 0.88779224 | BO2424: 0.014814368 | BP2424: 180747 | BU2424: 1030156398 | BV2424: 81214871 | BW2424: 209646941 | BX2424: 1321018210
A2425: Mnpp | B2425: 04 | C2425: 64 | F2425: =+Tabela1[[#This Row],[WK]]&Tabela1[[#This Row],[PK]]&Tabela1[[#This Row],[GK]] -> 0464 | G2425: Włocławek | H2425: 4.8478448e+09 | I2425: 1.125 | J2425: 5.4538254e+09 | K2425: 0.086 | L2425: 469028981 | O2425: 1.1151816e+09 | P2425: 1.125 | Q2425: 1.2545793e+09 | R2425: 0.022 | S2425: 27600745 | V2425: 270883788 | X2425: 363638481 | Y2425: 0 | Z2425: 83481 | AA2425: 22551923 | AB2425: 341003077 | AC2425: 0 | AD2425: 92551659 | AE2425: 0 | AF2425: 469028981 | AG2425: 27600745 | AH2425: 92551659 | AI2425: 270883788 | AJ2425: 20802190 | AK2425: 20599156 | AL2425: 9075379 | AM2425: 11523777 | AN2425: -203034 | AO2425: 0 | AP2425: 0 | AQ2425: -203034 | AR2425: =Tabela1[[#This Row],[Potrzeby finansowe 2027 w tym:]]+Tabela1[[#This Row],[Rozliczenie 2025 potrz. fin.]] -> 363435447 | AS2425: 0 | AT2425: 0 | BA2425: 83481 | BB2425: 0 | BC2425: 50.88 | BD2425: 16.06 | BE2425: 1301.47 | BF2425: 0 | BG2425: 13643768 | BH2425: 98038 | BI2425: 8908155 | BJ2425: 1.1447571e+08 | BK2425: 84482155 | BL2425: 32823194 | BM2425: 54327818 | BN2425: 0.83065119 | BO2425: 0.0082805693 | BP2425: 101029 | BU2425: 469028981 | BV2425: 27600745 | BW2425: 92551659 | BX2425: 589181385
A2426: Mnpp | B2426: 06 | C2426: 61 | F2426: =+Tabela1[[#This Row],[WK]]&Tabela1[[#This Row],[PK]]&Tabela1[[#This Row],[GK]] -> 0661 | G2426: Biała Podlaska | H2426: 2.7544577e+09 | I2426: 1.125 | J2426: 3.0987649e+09 | K2426: 0.086 | L2426: 266493782 | O2426: 4.4457261e+08 | P2426: 1.125 | Q2426: 5.0014418e+08 | R2426: 0.022 | S2426: 11003172 | V2426: 152287036 | X2426: 291718519 | Y2426: 37285092 | Z2426: 0 | AA2426: 11464361 | AB2426: 238684919 | AC2426: 4284147 | AD2426: 139431483 | AE2426: 0 | AF2426: 266493782 | AG2426: 11003172 | AH2426: 139431483 | AI2426: 152287036 | AJ2426: 23759743 | AK2426: 23759743 | AL2426: 7765308 | AM2426: 15994435 | AN2426: 71646 | AO2426: 0 | AP2426: -71646 | AQ2426: 0 | AR2426: =Tabela1[[#This Row],[Potrzeby finansowe 2027 w tym:]]+Tabela1[[#This Row],[Rozliczenie 2025 potrz. fin.]] -> 291718519 | AS2426: 0 | AT2426: 0 | BA2426: 0 | BB2426: 0 | BC2426: 0 | BD2426: 0 | BE2426: 0 | BF2426: 0 | BG2426: 7441321 | BH2426: 53470 | BI2426: 4023040 | BJ2426: 51698735 | BK2426: 33629889 | BL2426: 22659064 | BM2426: 26957256 | BN2426: 0.72364624 | BO2426: 0.0046720787 | BP2426: 57003 | BU2426: 266493782 | BV2426: 11003172 | BW2426: 139431483 | BX2426: 416928437
A2427: Mnpp | B2427: 06 | C2427: 62 | F2427: =+Tabela1[[#This Row],[WK]]&Tabela1[[#This Row],[PK]]&Tabela1[[#This Row],[GK]] -> 0662 | G2427: Chełm | H2427: 2.7110744e+09 | I2427: 1.125 | J2427: 3.0499587e+09 | K2427: 0.086 | L2427: 262296446 | O2427: 3.6987719e+08 | P2427: 1.125 | Q2427: 4.1611184e+08 | R2427: 0.022 | S2427: 9154461 | V2427: 153565130 | X2427: 301387164 | Y2427: 29242834 | Z2427: 374 | AA2427: 13210358 | AB2427: 253808057 | AC2427: 5125541 | AD2427: 150340182 | AE2427: 0 | AF2427: 262296446 | AG2427: 9154461 | AH2427: 150340182 | AI2427: 153565130 | AJ2427: 29352143 | AK2427: 31870290 | AL2427: 6035086 | AM2427: 25835204 | AN2427: 3647120 | AO2427: 0 | AP2427: -1128973 | AQ2427: 2518147 | AR2427: =Tabela1[[#This Row],[Potrzeby finansowe 2027 w tym:]]+Tabela1[[#This Row],[Rozliczenie 2025 potrz. fin.]] -> 303905311 | AS2427: 0 | AT2427: 0 | BA2427: 374 | BB2427: 0 | BC2427: 1.12 | BD2427: 0.01 | BE2427: 0 | BF2427: 0 | BG2427: 7746239 | BH2427: 55661 | BI2427: 5464119 | BJ2427: 70217553 | BK2427: 42772217 | BL2427: 17930869 | BM2427: 73919604 | BN2427: 0.73732041 | BO2427: 0.0044637574 | BP2427: 54461 | BU2427: 262296446 | BV2427: 9154461 | BW2427: 150340182 | BX2427: 421791089
A2428: Mnpp | B2428: 06 | C2428: 63 | F2428: =+Tabela1[[#This Row],[WK]]&Tabela1[[#This Row],[PK]]&Tabela1[[#This Row],[GK]] -> 0663 | G2428: Lublin | H2428: 1.9061091e+10 | I2428: 1.125 | J2428: 2.1443728e+10 | K2428: 0.086 | L2428: 1844160593 | O2428: 7.2100385e+09 | P2428: 1.125 | Q2428: 8.1112934e+09 | R2428: 0.022 | S2428: 178448454 | V2428: 974483537 | X2428: 1299981906 | Y2428: 0 | Z2428: 280550 | AA2428: 67722924 | AB2428: 1228382808 | AC2428: 3595624 | AD2428: 338792757 | AE2428: 0 | AF2428: 1844160593 | AG2428: 178448454 | AH2428: 338792757 | AI2428: 974483537 | AJ2428: 83520146 | AK2428: 96814533 | AL2428: 64512180 | AM2428: 32302353 | AN2428: 13294387 | AO2428: 0 | AP2428: 0 | AQ2428: 13294387 | AR2428: =Tabela1[[#This Row],[Potrzeby finansowe 2027 w tym:]]+Tabela1[[#This Row],[Rozliczenie 2025 potrz. fin.]] -> 1313276293 | AS2428: 0 | AT2428: 0 | BA2428: 280550 | BB2428: 0 | BC2428: 25.07 | BD2428: 2717.86 | BE2428: 18.83 | BF2428: 0 | BG2428: 45464151 | BH2428: 326685 | BI2428: 22258773 | BJ2428: 2.8603999e+08 | BK2428: 2.2961923e+08 | BL2428: 74121806 | BM2428: 77439432 | BN2428: 0.89215224 | BO2428: 0.026314206 | BP2428: 321053 | BU2428: 1844160593 | BV2428: 178448454 | BW2428: 338792757 | BX2428: 2361401804
A2429: Mnpp | B2429: 06 | C2429: 64 | F2429: =+Tabela1[[#This Row],[WK]]&Tabela1[[#This Row],[PK]]&Tabela1[[#This Row],[GK]] -> 0664 | G2429: Zamość | H2429: 2.7756783e+09 | I2429: 1.125 | J2429: 3.1226381e+09 | K2429: 0.086 | L2429: 268546878 | O2429: 5.6321239e+08 | P2429: 1.125 | Q2429: 6.3361394e+08 | R2429: 0.022 | S2429: 13939507 | V2429: 152364353 | X2429: 395426666 | Y2429: 101656251 | Z2429: 12060 | AA2429: 12107298 | AB2429: 281651057 | AC2429: 0 | AD2429: 238891426 | AE2429: 0 | AF2429: 268546878 | AG2429: 13939507 | AH2429: 238891426 | AI2429: 152364353 | AJ2429: 15690519 | AK2429: 11519632 | AL2429: 5159265 | AM2429: 6360367 | AN2429: -4170887 | AO2429: 0 | AP2429: 0 | AQ2429: -4170887 | AR2429: =Tabela1[[#This Row],[Potrzeby finansowe 2027 w tym:]]+Tabela1[[#This Row],[Rozliczenie 2025 potrz. fin.]] -> 391255779 | AS2429: 0 | AT2429: 0 | BA2429: 12060 | BB2429: 0 | BC2429: 0 | BD2429: 0 | BE2429: 241.65 | BF2429: 0 | BG2429: 7910875 | BH2429: 56844 | BI2429: 4196423 | BJ2429: 53926817 | BK2429: 26689299 | BL2429: 27226240 | BM2429: 54497594 | BN2429: 0.6189678 | BO2429: 0.0053726695 | BP2429: 65550 | BU2429: 268546878 | BV2429: 13939507 | BW2429: 238891426 | BX2429: 521377811
... A2797: Pow | B2797: 32 | C2797: 18 | F2797: =+Tabela1[[#This Row],[WK]]&Tabela1[[#This Row],[PK]]&Tabela1[[#This Row],[GK]] -> 3218 | G2797: łobeski | H2797: 1.2619006e+09 | I2797: 1.125 | J2797: 1.4196382e+09 | K2797: 0.02 | L2797: 28392764 | O2797: 1.2205006e+08 | P2797: 1.125 | Q2797: 1.3730631e+08 | R2797: 0.017 | S2797: 2334207 | V2797: 20931214 | X2797: 60916278 | Y2797: 15262251 | Z2797: 464511 | AA2797: 1601826 | AB2797: 29637985 | AC2797: 13949705 | AD2797: 39985063 | AE2797: 463429 | AF2797: 28392764 | AG2797: 2334207 | AH2797: 39521634 | AI2797: 20931214 | AJ2797: 2611891 | AK2797: 2611891 | AL2797: 974979 | AM2797: 1636912 | AN2797: 73983 | AO2797: 0 | AP2797: -73983 | AQ2797: 0 | AR2797: =Tabela1[[#This Row],[Potrzeby finansowe 2027 w tym:]]+Tabela1[[#This Row],[Rozliczenie 2025 potrz. fin.]] -> 60916278 | AS2797: 0 | AT2797: 0 | BA2797: 464511 | BB2797: 0 | BC2797: 168.98 | BD2797: 2604.41 | BE2797: 34883.07 | BF2797: 0 | BG2797: 694500 | BH2797: 32619 | BI2797: 907326 | BJ2797: 15765444 | BK2797: 10243414 | BL2797: 260501.25 | BM2797: 21567116 | BN2797: 0.64140651 | BO2797: 0.001559963 | BP2797: 39357 | BU2797: 28392764 | BV2797: 2334207 | BW2797: 39521634 | BX2797: 70248605
A2798: Woj. | B2798: 02 | F2798: =+Tabela1[[#This Row],[WK]]&Tabela1[[#This Row],[PK]]&Tabela1[[#This Row],[GK]] -> 02 | G2798: dolnośląskie | H2798: 1.628571e+11 | I2798: 1.125 | J2798: 1.8321424e+11 | K2798: 0.0035 | L2798: 641249851 | O2798: 4.406248e+10 | P2798: 1.125 | Q2798: 4.957029e+10 | R2798: 0.023 | S2798: 1140116668 | V2798: 294216051 | X2798: 297346594 | Y2798: 30608032 | Z2798: 6551642 | AA2798: 124014527 | AB2798: 119330024 | AC2798: 16842369 | AD2798: 129668631 | AE2798: 0 | AF2798: 641249851 | AG2798: 1140116668 | AH2798: 129668631 | AI2798: 294216051 | AJ2798: 65338417 | AK2798: 65338417 | AL2798: 11730138 | AM2798: 53608279 | AN2798: -2195762 | AO2798: 0 | AP2798: 2195762 | AQ2798: 0 | AR2798: =Tabela1[[#This Row],[Potrzeby finansowe 2027 w tym:]]+Tabela1[[#This Row],[Rozliczenie 2025 potrz. fin.]] -> 297346594 | AS2798: 0 | AT2798: 0 | BA2798: 6551642 | BB2798: 12287.47 | BC2798: 11453.53 | BD2798: 319232.89 | BE2798: 278814.87 | BF2798: 7643.74 | BG2798: 74923096 | BH2798: 2857273 | BI2798: 49091431 | BJ2798: 6.5719204e+08 | BK2798: 5.1252872e+08 | BL2798: 2.1326172e+08 | BM2798: 1.5212983e+08 | BN2798: 0.97897356 | BO2798: 0.081246361 | BP2798: 3038923 | BU2798: 641249851 | BV2798: 1140116668 | BW2798: 129668631 | BX2798: 1911035150
A2799: Woj. | B2799: 04 | F2799: =+Tabela1[[#This Row],[WK]]&Tabela1[[#This Row],[PK]]&Tabela1[[#This Row],[GK]] -> 04 | G2799: kujawsko-pomorskie | H2799: 9.3860494e+10 | I2799: 1.125 | J2799: 1.0559306e+11 | K2799: 0.0035 | L2799: 369575695 | O2799: 1.7493407e+10 | P2799: 1.125 | Q2799: 1.9680083e+10 | R2799: 0.023 | S2799: 452641918 | V2799: 144703722 | X2799: 796424245 | Y2799: 344788187 | Z2799: 7141537 | AA2799: 92004068 | AB2799: 144279940 | AC2799: 208210513 | AD2799: 651720522 | AE2799: 0 | AF2799: 369575695 | AG2799: 452641918 | AH2799: 651720522 | AI2799: 144703722 | AJ2799: 81957923 | AK2799: 81957923 | AL2799: 5729689 | AM2799: 76228234 | AN2799: -5155151 | AO2799: 0 | AP2799: 5155151 | AQ2799: 0 | AR2799: =Tabela1[[#This Row],[Potrzeby finansowe 2027 w tym:]]+Tabela1[[#This Row],[Rozliczenie 2025 potrz. fin.]] -> 796424245 | AS2799: 0 | AT2799: 0 | BA2799: 7141537 | BB2799: 0 | BC2799: 10148.91 | BD2799: 571301.32 | BE2799: 56978.95 | BF2799: 0 | BG2799: 51706707 | BH2799: 1971891 | BI2799: 40297361 | BJ2799: 5.3946492e+08 | BK2799: 4.2898827e+08 | BL2799: 2.0036403e+08 | BM2799: 41178548 | BN2799: 0.67636989 | BO2799: 0.054277802 | BP2799: 2030196 | BU2799: 369575695 | BV2799: 452641918 | BW2799: 651720522 | BX2799: 1473938135
A2800: Woj. | B2800: 06 | F2800: =+Tabela1[[#This Row],[WK]]&Tabela1[[#This Row],[PK]]&Tabela1[[#This Row],[GK]] -> 06 | G2800: lubelskie | H2800: 8.7715404e+10 | I2800: 1.125 | J2800: 9.8679829e+10 | K2800: 0.0035 | L2800: 345379402 | O2800: 1.373465e+10 | P2800: 1.125 | Q2800: 1.5451481e+10 | R2800: 0.023 | S2800: 355384064 | V2800: 200193527 | X2800: 770388481 | Y2800: 532551681 | Z2800: 8304087 | AA2800: 72050755 | AB2800: 64991500 | AC2800: 92490458 | AD2800: 570194953 | AE2800: 0 | AF2800: 345379402 | AG2800: 355384064 | AH2800: 570194953 | AI2800: 200193527 | AJ2800: 65749656 | AK2800: 65749656 | AL2800: 9876959 | AM2800: 55872697 | AN2800: 4301635 | AO2800: 0 | AP2800: -4301635 | AQ2800: 0 | AR2800: =Tabela1[[#This Row],[Potrzeby finansowe 2027 w tym:]]+Tabela1[[#This Row],[Rozliczenie 2025 potrz. fin.]] -> 770388481 | AS2800: 0 | AT2800: 0 | BA2800: 8304087 | BB2800: 18245.72 | BC2800: 12747.26 | BD2800: 433723.6 | BE2800: 213874.75 | BF2800: 95927.41 | BG2800: 51939584 | BH2800: 1980772 | BI2800: 20111171 | BJ2800: 2.6923031e+08 | BK2800: 1.9643309e+08 | BL2800: 66768321 | BM2800: 1.5765223e+08 | BN2800: 0.54546821 | BO2800: 0.057362348 | BP2800: 2145569 | BU2800: 345379402 | BV2800: 355384064 | BW2800: 570194953 | BX2800: 1270958419
A2801: Woj. | B2801: 08 | F2801: =+Tabela1[[#This Row],[WK]]&Tabela1[[#This Row],[PK]]&Tabela1[[#This Row],[GK]] -> 08 | G2801: lubuskie | H2801: 4.7088185e+10 | I2801: 1.125 | J2801: 5.2974209e+10 | K2801: 0.0035 | L2801: 185409730 | O2801: 9.0115225e+09 | P2801: 1.125 | Q2801: 1.0137963e+10 | R2801: 0.023 | S2801: 233173145 | V2801: 85195104 | X2801: 375697137 | Y2801: 273783077 | Z2801: 5900255 | AA2801: 61507823 | AB2801: 31546304 | AC2801: 2959678 | AD2801: 289715896 | AE2801: 0 | AF2801: 185409730 | AG2801: 233173145 | AH2801: 289715896 | AI2801: 85195104 | AJ2801: 19790429 | AK2801: 19004292 | AL2801: 7644486 | AM2801: 11359806 | AN2801: -706052 | AO2801: -80084.935 | AP2801: 0 | AQ2801: -786137 | AR2801: =Tabela1[[#This Row],[Potrzeby finansowe 2027 w tym:]]+Tabela1[[#This Row],[Rozliczenie 2025 potrz. fin.]] -> 374911000 | AS2801: 0 | AT2801: 0 | BA2801: 5900255 | BB2801: 13486.03 | BC2801: 5275 | BD2801: 284007.65 | BE2801: 188638.76 | BF2801: 113018.2 | BG2801: 41734631 | BH2801: 963601 | BI2801: 19773192 | BJ2801: 2.6470576e+08 | BK2801: 1.5945897e+08 | BL2801: 1.7254052e+08 | BM2801: 75906104 | BN2801: 0.5803898 | BO2801: 0.034108548 | BP2801: 1204501 | BU2801: 185409730 | BV2801: 233173145 | BW2801: 289715896 | BX2801: 708298771
A2802: Woj. | B2802: 10 | F2802: =+Tabela1[[#This Row],[WK]]&Tabela1[[#This Row],[PK]]&Tabela1[[#This Row],[GK]] -> 10 | G2802: łódzkie | H2802: 1.2595208e+11 | I2802: 1.125 | J2802: 1.4169609e+11 | K2802: 0.0035 | L2802: 495936323 | O2802: 2.8700906e+10 | P2802: 1.125 | Q2802: 3.2288519e+10 | R2802: 0.023 | S2802: 742635947 | V2802: 243300036 | X2802: 395750847 | Y2802: 33673834 | Z2802: 3310659 | AA2802: 95813405 | AB2802: 53231214 | AC2802: 209721735 | AD2802: 200696024 | AE2802: 0 | AF2802: 495936323 | AG2802: 742635947 | AH2802: 200696024 | AI2802: 243300036 | AJ2802: 31368280 | AK2802: 31368280 | AL2802: 16479228 | AM2802: 14889052 | AN2802: 1449331 | AO2802: 0 | AP2802: -1449331 | AQ2802: 0 | AR2802: =Tabela1[[#This Row],[Potrzeby finansowe 2027 w tym:]]+Tabela1[[#This Row],[Rozliczenie 2025 potrz. fin.]] -> 395750847 | AS2802: 0 | AT2802: 0 | BA2802: 3310659 | BB2802: 71.61 | BC2802: 7401.65 | BD2802: 259549.49 | BE2802: 17693.14 | BF2802: 560.53 | BG2802: 61066191 | BH2802: 2328825 | BI2802: 34747214 | BJ2802: 4.6516453e+08 | BK2802: 3.6668468e+08 | BL2802: 1.5496785e+08 | BM2802: 83983716 | BN2802: 0.96713262 | BO2802: 0.057182332 | BP2802: 2138836 | BU2802: 495936323 | BV2802: 742635947 | BW2802: 200696024 | BX2802: 1439268294
A2803: Woj. | B2803: 12 | F2803: =+Tabela1[[#This Row],[WK]]&Tabela1[[#This Row],[PK]]&Tabela1[[#This Row],[GK]] -> 12 | G2803: małopolskie | H2803: 1.8309161e+11 | I2803: 1.125 | J2803: 2.0597806e+11 | K2803: 0.0035 | L2803: 720923219 | O2803: 4.3404324e+10 | P2803: 1.125 | Q2803: 4.8829864e+10 | R2803: 0.023 | S2803: 1123086882 | V2803: 335523062 | X2803: 488705825 | Y2803: 0 | Z2803: 11664173 | AA2803: 134799489 | AB2803: 115261040 | AC2803: 226981123 | AD2803: 226235235 | AE2803: 0 | AF2803: 720923219 | AG2803: 1123086882 | AH2803: 226235235 | AI2803: 335523062 | AJ2803: 33452190 | AK2803: 33452190 | AL2803: 26682588 | AM2803: 6769602 | AN2803: 5422076 | AO2803: 0 | AP2803: -5422076 | AQ2803: 0 | AR2803: =Tabela1[[#This Row],[Potrzeby finansowe 2027 w tym:]]+Tabela1[[#This Row],[Rozliczenie 2025 potrz. fin.]] -> 488705825 | AS2803: 0 | AT2803: 0 | BA2803: 11664173 | BB2803: 37845.07 | BC2803: 3911.06 | BD2803: 752512.38 | BE2803: 34067.77 | BF2803: 0 | BG2803: 89923826 | BH2803: 3429342 | BI2803: 44875663 | BJ2803: 6.0075512e+08 | BK2803: 3.8517485e+08 | BL2803: 3.6179129e+08 | BM2803: 1.387385e+08 | BN2803: 1.0487666 | BO2803: 0.078507096 | BP2803: 2936464 | BU2803: 720923219 | BV2803: 1123086882 | BW2803: 226235235 | BX2803: 2070245336
A2804: Woj. | B2804: 14 | F2804: =+Tabela1[[#This Row],[WK]]&Tabela1[[#This Row],[PK]]&Tabela1[[#This Row],[GK]] -> 14 | G2804: mazowieckie | H2804: 3.6944287e+11 | I2804: 1.125 | J2804: 4.1562323e+11 | K2804: 0.0035 | L2804: 1454681301 | O2804: 1.9169492e+11 | P2804: 1.125 | Q2804: 2.1565678e+11 | R2804: 0.023 | S2804: 4960105947 | V2804: 477779760 | X2804: 517224312 | Y2804: 0 | Z2804: 16190628 | AA2804: 272524024 | AB2804: 228509660 | AC2804: 0 | AD2804: 83747349 | AE2804: 967595278 | AF2804: 1454681301 | AG2804: 4076258018 | AH2804: 0 | AI2804: 477779760 | AJ2804: 53980254 | AK2804: 59810656 | AL2804: 40778818 | AM2804: 19031838 | AN2804: 5830402 | AO2804: 0 | AP2804: 0 | AQ2804: 5830402 | AR2804: =Tabela1[[#This Row],[Potrzeby finansowe 2027 w tym:]]+Tabela1[[#This Row],[Rozliczenie 2025 potrz. fin.]] -> 523054714 | AS2804: 0 | AT2804: 0 | BA2804: 16190628 | BB2804: 38461.16 | BC2804: 20413.44 | BD2804: 984910.46 | BE2804: 254245.01 | BF2804: 0 | BG2804: 144373972 | BH2804: 5505857 | BI2804: 128150052 | BJ2804: 1.7155579e+09 | BK2804: 1.5854988e+09 | BL2804: 2.3250416e+08 | BM2804: 55228156 | BN2804: 2.051539 | BO2804: 0.13961382 | BP2804: 5222087 | BU2804: 1454681301 | BV2804: 4076258018 | BW2804: 0 | BX2804: 5530939319
A2805: Woj. | B2805: 16 | F2805: =+Tabela1[[#This Row],[WK]]&Tabela1[[#This Row],[PK]]&Tabela1[[#This Row],[GK]] -> 16 | G2805: opolskie | H2805: 4.422239e+10 | I2805: 1.125 | J2805: 4.9750189e+10 | K2805: 0.0035 | L2805: 174125660 | O2805: 7.5072357e+09 | P2805: 1.125 | Q2805: 8.4456401e+09 | R2805: 0.023 | S2805: 194249723 | V2805: 75436974 | X2805: 353284486 | Y2805: 245090058 | Z2805: 2618699 | AA2805: 54692811 | AB2805: 23996264 | AC2805: 26886654 | AD2805: 278000578 | AE2805: 0 | AF2805: 174125660 | AG2805: 194249723 | AH2805: 278000578 | AI2805: 75436974 | AJ2805: 35106382 | AK2805: 35259448 | AL2805: 3350366 | AM2805: 31909082 | AN2805: 153066 | AO2805: 0 | AP2805: 0 | AQ2805: 153066 | AR2805: =Tabela1[[#This Row],[Potrzeby finansowe 2027 w tym:]]+Tabela1[[#This Row],[Rozliczenie 2025 potrz. fin.]] -> 353437552 | AS2805: 0 | AT2805: 0 | BA2805: 2618699 | BB2805: 0 | BC2805: 1642.96 | BD2805: 195263.47 | BE2805: 25803.77 | BF2805: 56093.05 | BG2805: 41734631 | BH2805: 923536 | BI2805: 12958180 | BJ2805: 1.7347248e+08 | BK2805: 1.170934e+08 | BL2805: 80153930 | BM2805: 65208468 | BN2805: 0.57646509 | BO2805: 0.028532732 | BP2805: 1067233 | BU2805: 174125660 | BV2805: 194249723 | BW2805: 278000578 | BX2805: 646375961
A2806: Woj. | B2806: 18 | F2806: =+Tabela1[[#This Row],[WK]]&Tabela1[[#This Row],[PK]]&Tabela1[[#This Row],[GK]] -> 18 | G2806: podkarpackie | H2806: 8.9588429e+10 | I2806: 1.125 | J2806: 1.0078698e+11 | K2806: 0.0035 | L2806: 352754440 | O2806: 1.8750865e+10 | P2806: 1.125 | Q2806: 2.1094724e+10 | R2806: 0.023 | S2806: 485178642 | V2806: 219035312 | X2806: 757192401 | Y2806: 305150823 | Z2806: 12891070 | AA2806: 103842946 | AB2806: 58183351 | AC2806: 277124211 | AD2806: 538157090 | AE2806: 0 | AF2806: 352754440 | AG2806: 485178642 | AH2806: 538157090 | AI2806: 219035312 | AJ2806: 49865603 | AK2806: 49865603 | AL2806: 17141448 | AM2806: 32724155 | AN2806: 1217879 | AO2806: 0 | AP2806: -1217879 | AQ2806: 0 | AR2806: =Tabela1[[#This Row],[Potrzeby finansowe 2027 w tym:]]+Tabela1[[#This Row],[Rozliczenie 2025 potrz. fin.]] -> 757192401 | AS2806: 0 | AT2806: 0 | BA2806: 12891070 | BB2806: 45963.12 | BC2806: 12782.04 | BD2806: 717553.99 | BE2806: 139700.57 | BF2806: 21918.1 | BG2806: 53853467 | BH2806: 2053760 | BI2806: 49989479 | BJ2806: 6.692143e+08 | BK2806: 4.2102282e+08 | BL2806: 3.9740468e+08 | BM2806: 1.9795657e+08 | BN2806: 0.70372597 | BO2806: 0.05316576 | BP2806: 1988601 | BU2806: 352754440 | BV2806: 485178642 | BW2806: 538157090 | BX2806: 1376090172
A2807: Woj. | B2807: 20 | F2807: =+Tabela1[[#This Row],[WK]]&Tabela1[[#This Row],[PK]]&Tabela1[[#This Row],[GK]] -> 20 | G2807: podlaskie | H2807: 5.0484787e+10 | I2807: 1.125 | J2807: 5.6795385e+10 | K2807: 0.0035 | L2807: 198783848 | O2807: 7.8655761e+09 | P2807: 1.125 | Q2807: 8.8487731e+09 | R2807: 0.023 | S2807: 203521781 | V2807: 108698663 | X2807: 492870572 | Y2807: 351457306 | Z2807: 14304024 | AA2807: 68250566 | AB2807: 21253860 | AC2807: 37604816 | AD2807: 384171909 | AE2807: 0 | AF2807: 198783848 | AG2807: 203521781 | AH2807: 384171909 | AI2807: 108698663 | AJ2807: 54322961 | AK2807: 54322961 | AL2807: 5522445 | AM2807: 48800516 | AN2807: -721967 | AO2807: 0 | AP2807: 721967 | AQ2807: 0 | AR2807: =Tabela1[[#This Row],[Potrzeby finansowe 2027 w tym:]]+Tabela1[[#This Row],[Rozliczenie 2025 potrz. fin.]] -> 492870572 | AS2807: 0 | AT2807: 0 | BA2807: 14304024 | BB2807: 92168.89 | BC2807: 26320.17 | BD2807: 423986.67 | BE2807: 249686.11 | BF2807: 54230.67 | BG2807: 41734631 | BH2807: 1126679 | BI2807: 26515935 | BJ2807: 3.5497156e+08 | BK2807: 2.1192771e+08 | BL2807: 2.0784843e+08 | BM2807: 1.5647853e+08 | BN2807: 0.51238372 | BO2807: 0.035058215 | BP2807: 1311310 | BU2807: 198783848 | BV2807: 203521781 | BW2807: 384171909 | BX2807: 786477538
A2808: Woj. | B2808: 22 | F2808: =+Tabela1[[#This Row],[WK]]&Tabela1[[#This Row],[PK]]&Tabela1[[#This Row],[GK]] -> 22 | G2808: pomorskie | H2808: 1.2559016e+11 | I2808: 1.125 | J2808: 1.4128893e+11 | K2808: 0.0035 | L2808: 494511255 | O2808: 3.6829073e+10 | P2808: 1.125 | Q2808: 4.1432707e+10 | R2808: 0.023 | S2808: 952952268 | V2808: 318620142 | X2808: 202069825 | Y2808: 0 | Z2808: 9961492 | AA2808: 112526345 | AB2808: 79581988 | AC2808: 0 | AD2808: 80513218 | AE2808: 0 | AF2808: 494511255 | AG2808: 952952268 | AH2808: 80513218 | AI2808: 318620142 | AJ2808: 14219827 | AK2808: 16747836 | AL2808: 33707898 | AM2808: -16960062 | AN2808: 2528009 | AO2808: 0 | AP2808: 0 | AQ2808: 2528009 | AR2808: =Tabela1[[#This Row],[Potrzeby finansowe 2027 w tym:]]+Tabela1[[#This Row],[Rozliczenie 2025 potrz. fin.]] -> 204597834 | AS2808: 0 | AT2808: 0 | BA2808: 9961492 | BB2808: 26394.36 | BC2808: 10665.88 | BD2808: 579344.26 | BE2808: 185913.09 | BF2808: 0 | BG2808: 61841939 | BH2808: 2358409 | BI2808: 50684406 | BJ2808: 6.7851736e+08 | BK2808: 4.2489984e+08 | BL2808: 4.6155697e+08 | BM2808: 91356151 | BN2808: 1.0227299 | BO2808: 0.063193249 | BP2808: 2363668 | BU2808: 494511255 | BV2808: 952952268 | BW2808: 80513218 | BX2808: 1527976741
A2809: Woj. | B2809: 24 | F2809: =+Tabela1[[#This Row],[WK]]&Tabela1[[#This Row],[PK]]&Tabela1[[#This Row],[GK]] -> 24 | G2809: śląskie | H2809: 2.4510472e+11 | I2809: 1.125 | J2809: 2.7574281e+11 | K2809: 0.0035 | L2809: 965099849 | O2809: 5.7777957e+10 | P2809: 1.125 | Q2809: 6.5000202e+10 | R2809: 0.023 | S2809: 1495004635 | V2809: 571550017 | X2809: 370671578 | Y2809: 0 | Z2809: 1790761 | AA2809: 191587893 | AB2809: 177292924 | AC2809: 0 | AD2809: 120127826 | AE2809: 0 | AF2809: 965099849 | AG2809: 1495004635 | AH2809: 120127826 | AI2809: 571550017 | AJ2809: 46730467 | AK2809: 48399813 | AL2809: 64258270 | AM2809: -15858457 | AN2809: 1669346 | AO2809: 0 | AP2809: 0 | AQ2809: 1669346 | AR2809: =Tabela1[[#This Row],[Potrzeby finansowe 2027 w tym:]]+Tabela1[[#This Row],[Rozliczenie 2025 potrz. fin.]] -> 372340924 | AS2809: 0 | AT2809: 0 | BA2809: 1790761 | BB2809: 0 | BC2809: 4891.2 | BD2809: 90360.14 | BE2809: 104431.95 | BF2809: 6.22 | BG2809: 111752237 | BH2809: 4261792 | BI2809: 79835656 | BJ2809: 1.0687681e+09 | BK2809: 9.2074804e+08 | BL2809: 2.1938594e+08 | BM2809: 1.5330854e+08 | BN2809: 1.1099754 | BO2809: 0.098960697 | BP2809: 3701506 | BU2809: 965099849 | BV2809: 1495004635 | BW2809: 120127826 | BX2809: 2580232310
... A2813: Woj. | B2813: 32 | F2813: =+Tabela1[[#This Row],[WK]]&Tabela1[[#This Row],[PK]]&Tabela1[[#This Row],[GK]] -> 32 | G2813: zachodniopomorskie | H2813: 7.9850735e+10 | I2813: 1.125 | J2813: 8.9832077e+10 | K2813: 0.0035 | L2813: 314412269 | O2813: 1.4107185e+10 | P2813: 1.125 | Q2813: 1.5870583e+10 | R2813: 0.023 | S2813: 365023420 | V2813: 166657229 | X2813: 583796308 | Y2813: 444230573 | Z2813: 9560260 | AA2813: 76082077 | AB2813: 31293004 | AC2813: 22630394 | AD2813: 418038152 | AE2813: 0 | AF2813: 314412269 | AG2813: 365023420 | AH2813: 418038152 | AI2813: 166657229 | AJ2813: 51187503 | AK2813: 52086576 | AL2813: 10152778 | AM2813: 41933798 | AN2813: 899073 | AO2813: 0 | AP2813: 0 | AQ2813: 899073 | AR2813: =Tabela1[[#This Row],[Potrzeby finansowe 2027 w tym:]]+Tabela1[[#This Row],[Rozliczenie 2025 potrz. fin.]] -> 584695381 | AS2813: 0 | AT2813: 0 | BA2813: 9560260 | BB2813: 13813.11 | BC2813: 14859.34 | BD2813: 430099.81 | BE2813: 552998.34 | BF2813: 0 | BG2813: 42287516 | BH2813: 1612680 | BI2813: 33794561 | BJ2813: 4.5241127e+08 | BK2813: 2.9639059e+08 | BL2813: 2.8367704e+08 | BM2813: 56728649 | BN2813: 0.5804733 | BO2813: 0.052262343 | BP2813: 1954810 | BU2813: 314412269 | BV2813: 365023420 | BW2813: 418038152 | BX2813: 1097473841
A2814: x | F2814: =+Tabela1[[#This Row],[WK]]&Tabela1[[#This Row],[PK]]&Tabela1[[#This Row],[GK]] | G2814: Błędny TERYT | AR2814: =Tabela1[[#This Row],[Potrzeby finansowe 2027 w tym:]]+Tabela1[[#This Row],[Rozliczenie 2025 potrz. fin.]] -> 0 | AS2814: 0 | AT2814: 0
H2818: =SUM(H5:H2813) -> 5.2093994e+12 | I2818: =I2813 -> 1.125 | J2818: =SUM(J5:J2813) -> 5.8605744e+12 | L2818: =SUM(L5:L2813) -> 207056837683 | M2818: =SUM(M5:M2813) -> 0 | O2818: =SUM(O5:O2813) -> 1.3013474e+12 | P2818: =P2813 -> 1.125 | Q2818: =SUM(Q5:Q2813) -> 1.4640158e+12 | R2818: =SUM(R5:R2813) -> 47.766 | S2818: =SUM(S5:S2813) -> 30572464222 | T2818: =SUM(T5:T2813) -> 0 | U2818: =SUM(U5:U2813) -> 0 | V2818: =SUM(V5:V2813) -> 115381051678 | W2818: =SUM(W5:W2813) -> 0 | X2818: =SUM(X5:X2813) -> 163384919738 | ... BX2818: =SUM(BX5:BX2813) -> 288692784157

Sheet IPW
A1: 1 | B1: 2 | C1: 3 | D1: 4 | E1: 5 | F1: 6 | G1: 7 | H1: 8 | I1: =SUM(I5:I2417) -> 25134993 | J1: 10 | K1: =SUM(K5:K2417) -> 14877601 | L1: 12 | M1: =SUM(M5:M2417) -> 21818747 | N1: 14 | O1: =SUM(O5:O2417) -> 134160 | P1: 16 | Q1: =SUM(Q5:Q2417) -> 965610 | R1: 18 | S1: =SUM(S5:S2417) -> 438885 | T1: 20 | U1: =SUM(U5:U2417) -> 1715315.1 | V1: 22 | W1: =SUM(W5:W2417) -> 21818747 | X1: 24 | Y1: 25 | Z1: 26 | AA1: 27 | AB1: 28 | AC1: 29 | AD1: 30 | AE1: 31 | AF1: 32 | AG1: 33 | AH1: 34 | AI1: 35 | AJ1: 36 | AK1: 37 | AL1: 38 | AM1: 39 | AN1: 40 | AO1: 41 | AP1: 42 | AQ1: 43 | AR1: 44 | AS1: 45 | AT1: 46 | AU1: 47 | AV1: 48 | AW1: 49 | AX1: 50 | AY1: 51 | AZ1: 52 | BA1: 53 | BB1: 54 | BC1: 55 | BD1: 56 | BE1: 57 | BF1: 58 | BG1: 59 | BH1: 60 | BI1: 61 | BJ1: 62 | BK1: 63 | BL1: 64
G2: Udział obszaru wydatkowego | H2: 0.08 | J2: 0.06 | L2: 0.24 | N2: 0.17 | P2: 0.19 | R2: 0.12 | T2: 0.07 | V2: 0.07 | X2: 0.15 | Y2: =SUM(Y2418:Y2483) -> 100221 | Z2: 0.17 | AA2: =SUM(AA2418:AA2483) -> 486637 | AB2: 0.15 | AC2: =SUM(AC2418:AC2483) -> 278452 | AD2: =SUM(AD2418:AD2483) -> 252224 | AE2: 0.18 | AF2: =SUM(AF2418:AF2483) -> 7195770 | AG2: 0.15 | AH2: =SUM(AH2418:AH2483) -> 12818073 | AI2: 0.05 | AJ2: =SUM(AJ2418:AJ2483) -> 63994.63 | AK2: 0.06 | AL2: =SUM(AL2418:AL2483) -> 12818073 | AM2: 0.09 | AN2: =SUM(AN2418:AN2483) -> 12197517 | AO2: 0.4 | AP2: =SUM(AP2484:AP2797) -> 21818747 | AQ2: 0.25 | AR2: =SUM(AR2484:AR2797) -> 47245 | AS2: =SUM(AS2484:AS2797) -> 682052 | AT2: 0.12 | AU2: =SUM(AU2484:AU2797) -> 109879.1 | AV2: =SUM(AV2484:AV2797) -> 14877601 | AW2: 0.16 | AX2: =SUM(AX2484:AX2797) -> 43628 | AY2: 0.07 | AZ2: =SUM(AZ2484:AZ2797) -> 25134993 | BA2: 0.05 | BB2: =SUM(BB2798:BB2813) -> 37332510 | BC2: 0.36 | BD2: =SUM(BD2798:BD2813) -> 49200.9 | BE2: 0.16 | BF2: =SUM(BF2798:BF2813) -> 36484167 | BG2: 0.24 | BH2: =SUM(BH2798:BH2813) -> 36484167 | BI2: 0.08 | BJ2: =SUM(BJ2798:BJ2813) -> 9948112 | BK2: 0.11 | BL2: =SUM(BL2798:BL2813) -> 37332510
AC3: 0.8065 | AD3: 0.1935 | AR3: 0.3712 | AS3: 0.6288 | AU3: 0.1632 | AV3: 0.8368
A4: Typ JST | B4: WK | C4: PK | D4: GK | E4: GT | F4: Kod GUS | G4: Nazwa JST | H4: Gminy - obszar Pozostałe | I4: liczba mieszkańców | J4: Gminy - obszar Transport | K4: liczba mieszkańców w wieku 20-64 | L4: Gminy - obszar Administracja | M4: iloczyn liczby mieszkańców i relacji przeciętnego miesięcznego wynagrodzenia brutto w danym powiecie do średniej krajowej | N4: Gminy - obszar Oświata i wychowanie szkoły | O4: liczba oddziałów w szkołach podstawowych | P4: Gminy - obszar Oświata i wychowanie przedszkola | Q4: liczba dzieci uczęszczających do przedszkoli, oddziałów przedszkolnych w szkołach podstawowych i innych form wychowania przedszkolnego prowadzonych przez jednostki samorządu terytorialnego, osoby prawne niebędące jednostkami samorządu terytorialnego oraz | R4: Gminy - obszar Pomoc społeczna | S4: liczba gospodarstw domowych korzystających ze środowiskowej pomocy społecznej | T4: Gminy - obszar Gospodarka komunal | U4: ilość wody dostarczonej i ścieków bytowych odprowadzonych siecią kanalizacyjną [dam3] | V4: Gminy - obszar Kultura | W4: iloczyn liczby mieszkańców i relacji przeciętnego miesięcznego wynagrodzenia brutto w danym powiecie do średniej krajowej2 | X4: Mnpp - obszar Wydatki oświatowe szkoły | Y4: liczba oddziałów w szkołach podstawowych, ponadpodstawowych i policealnych | Z4: Mnpp - obszar Wydatki oświatowe przedszkola | AA4: liczba dzieci uczęszczających do przedszkoli, oddziałów przedszkolnych w szkołach podstawowych i innych form wychowania przedszkolnego prowadzonych przez jednostki samorządu terytorialnego, osoby prawne niebędące jednostkami samorządu terytorialnego or2 | AB4: Mnpp - obszar 852+853+855 - Pomoc społeczna, Pozostałe zadania w zakresie polityki społecznej oraz Rodzina | AC4: liczba osób korzystających ze środowiskowej pomocy społecznej (łącznie z filiami) | AD4: liczba bezrobotnych | AE4: Mnpp - obszar 600 Transport i łączność | AF4: liczba pracujących ogółem | AG4: Mnpp - obszar Admianistracja | AH4: iloczyn liczby mieszkańców i relacji przeciętnego miesięcznego wynagrodzenia brutto do średniej krajowej | AI4: Mnpp - obszar Gospodarka komunalna | AJ4: suma powierzchni parków spac.-wyp., zieleńców i terenów zieleni osiedlowej oraz średniej pow. objętej utrzymaniem czystości i porządku przez gminy w okresie letnim i w okresie zimowym – będąca w gestii miasta [w ha] | AK4: Mnpp - obszar Kultura | AL4: iloczyn liczby mieszkańców i relacji przeciętnego miesięcznego wynagrodzenia brutto do średniej krajowej | AM4: Mnpp - obszar Pozostałe | AN4: liczba mieszkańców | AO4: Pow - obszar Administracja | AP4: iloczyn liczby mieszkańców i relacji przeciętnego miesięcznego wynagrodzenia brutto do średniej krajowej2 | AQ4: Pow - obszar 852+853+855 - Pomoc społeczna, Pozostałe zadania w zakresie polityki społecznej oraz Rodzina | AR4: liczba mieszkańców zakładów stacjonarnych pomocy społecznej podleglych samorządowi powiatu (łącznie z filiami) | AS4: liczba bezrobotnych zarejestrowanych | AT4: Pow - obszar 600 Transport i łączność | AU4: długość dróg powiatowych o nawierzchni twardej [w km] | AV4: liczba mieszkańców w wieku 20-64 ' | AW4: Pow - obszar Wydatki oświatowe szkoły | AX4: liczba oddziałów w szkołach ponadpodstawowych i policealnych | AY4: Pow - obszar Pozostałe | AZ4: liczba mieszkańców' | BA4: Woj - obszar 851 Ochrona zdrowia | BB4: liczba mieszkańców'' | BC4: Woj - obszar 600 Transport | BD4: suma dł. linii kolejowych eksploatowanych i dł. dróg wojewódzkich o naw. twardej [w km] | BE4: Woj - obszar Kultura | BF4: iloczyn liczby mieszkańców i relacji przeciętnego miesięcznego wynagrodzenia brutto do średniej krajowej' | BG4: Woj - obszar Admianistracja | BH4: iloczyn liczby mieszkańców i relacji przeciętnego miesięcznego wynagrodzenia brutto do średniej krajowej''' | BI4: Woj - obszar 852+853+855 - Pomoc społeczna, Pozostałe zadania w zakresie polityki społecznej oraz Rodzina | BJ4: suma liczby bezrobotnych zarejestrowanych i liczby osób w wieku poprodukcyjnym | BK4: Woj - obszar Pozostałe | BL4: liczba mieszkańców'''
A5: G | B5: 02 | C5: 01 | D5: 01 | E5: 1 | F5: =+Tabela1[[#This Row],[WK]]&Tabela1[[#This Row],[PK]]&Tabela1[[#This Row],[GK]] -> 020101 | G5: BOLESŁAWIEC | H5: =TabIPW[[#This Row],[liczba mieszkańców ]]/$I$1*$H$2 -> 0.00011662466 | I5: 36642 | J5: =TabIPW[[#This Row],[liczba mieszkańców w wieku 20-64]]/$K$1*$J$2 -> 8.399338e-05 | K5: 20827 | L5: =TabIPW[[#This Row],[iloczyn liczby mieszkańców i relacji przeciętnego miesięcznego wynagrodzenia brutto w danym powiecie do średniej krajowej]]/$M$1*$L$2 -> 0.00036758302 | M5: 33417.504 | N5: =TabIPW[[#This Row],[liczba oddziałów w szkołach podstawowych]]/$O$1*$N$2 -> 0.0002318873 | O5: 183 | P5: =TabIPW[[#This Row],[liczba dzieci uczęszczających do przedszkoli, oddziałów przedszkolnych w szkołach podstawowych i innych form wychowania przedszkolnego prowadzonych przez jednostki samorządu terytorialnego, osoby prawne niebędące jednostkami samorządu terytorialnego oraz ]]/$Q$1*$P$2 -> 0.00032505877 | Q5: 1652 | R5: =TabIPW[[#This Row],[liczba gospodarstw domowych korzystających ze środowiskowej pomocy społecznej ]]/$S$1*$R$2 -> 0.00011702382 | S5: 428 | T5: =TabIPW[[#This Row],[ilość wody dostarczonej i ścieków bytowych odprowadzonych siecią kanalizacyjną '[dam3']]]/$U$1*$T$2 -> 0.00014538145 | U5: 3562.5 | V5: =TabIPW[[#This Row],[iloczyn liczby mieszkańców i relacji przeciętnego miesięcznego wynagrodzenia brutto w danym powiecie do średniej krajowej2]]/$W$1*$V$2 -> 0.00010721171 | W5: =TabIPW[[#This Row],[iloczyn liczby mieszkańców i relacji przeciętnego miesięcznego wynagrodzenia brutto w danym powiecie do średniej krajowej]] -> 33417.504
A6: G | B6: 02 | C6: 01 | D6: 02 | E6: 2 | F6: =+Tabela1[[#This Row],[WK]]&Tabela1[[#This Row],[PK]]&Tabela1[[#This Row],[GK]] -> 020102 | G6: BOLESŁAWIEC | H6: =TabIPW[[#This Row],[liczba mieszkańców ]]/$I$1*$H$2 -> 4.9034428e-05 | I6: 15406 | J6: =TabIPW[[#This Row],[liczba mieszkańców w wieku 20-64]]/$K$1*$J$2 -> 3.7780285e-05 | K6: 9368 | L6: =TabIPW[[#This Row],[iloczyn liczby mieszkańców i relacji przeciętnego miesięcznego wynagrodzenia brutto w danym powiecie do średniej krajowej]]/$M$1*$L$2 -> 0.00015454899 | M6: 14050.272 | N6: =TabIPW[[#This Row],[liczba oddziałów w szkołach podstawowych]]/$O$1*$N$2 -> 8.9967203e-05 | O6: 71 | P6: =TabIPW[[#This Row],[liczba dzieci uczęszczających do przedszkoli, oddziałów przedszkolnych w szkołach podstawowych i innych form wychowania przedszkolnego prowadzonych przez jednostki samorządu terytorialnego, osoby prawne niebędące jednostkami samorządu terytorialnego oraz ]]/$Q$1*$P$2 -> 8.9725666e-05 | Q6: 456 | R6: =TabIPW[[#This Row],[liczba gospodarstw domowych korzystających ze środowiskowej pomocy społecznej ]]/$S$1*$R$2 -> 5.1949827e-05 | S6: 190 | T6: =TabIPW[[#This Row],[ilość wody dostarczonej i ścieków bytowych odprowadzonych siecią kanalizacyjną '[dam3']]]/$U$1*$T$2 -> 5.8279088e-05 | U6: 1428.1 | V6: =TabIPW[[#This Row],[iloczyn liczby mieszkańców i relacji przeciętnego miesięcznego wynagrodzenia brutto w danym powiecie do średniej krajowej2]]/$W$1*$V$2 -> 4.5076788e-05 | W6: =TabIPW[[#This Row],[iloczyn liczby mieszkańców i relacji przeciętnego miesięcznego wynagrodzenia brutto w danym powiecie do średniej krajowej]] -> 14050.272
A7: G | B7: 02 | C7: 01 | D7: 03 | E7: 2 | F7: =+Tabela1[[#This Row],[WK]]&Tabela1[[#This Row],[PK]]&Tabela1[[#This Row],[GK]] -> 020103 | G7: GROMADKA | H7: =TabIPW[[#This Row],[liczba mieszkańców ]]/$I$1*$H$2 -> 1.5672175e-05 | I7: 4924 | J7: =TabIPW[[#This Row],[liczba mieszkańców w wieku 20-64]]/$K$1*$J$2 -> 1.1848684e-05 | K7: 2938 | L7: =TabIPW[[#This Row],[iloczyn liczby mieszkańców i relacji przeciętnego miesięcznego wynagrodzenia brutto w danym powiecie do średniej krajowej]]/$M$1*$L$2 -> 4.9396288e-05 | M7: 4490.688 | N7: =TabIPW[[#This Row],[liczba oddziałów w szkołach podstawowych]]/$O$1*$N$2 -> 2.2808587e-05 | O7: 18 | P7: =TabIPW[[#This Row],[liczba dzieci uczęszczających do przedszkoli, oddziałów przedszkolnych w szkołach podstawowych i innych form wychowania przedszkolnego prowadzonych przez jednostki samorządu terytorialnego, osoby prawne niebędące jednostkami samorządu terytorialnego oraz ]]/$Q$1*$P$2 -> 3.2269757e-05 | Q7: 164 | R7: =TabIPW[[#This Row],[liczba gospodarstw domowych korzystających ze środowiskowej pomocy społecznej ]]/$S$1*$R$2 -> 3.0896476e-05 | S7: 113 | T7: =TabIPW[[#This Row],[ilość wody dostarczonej i ścieków bytowych odprowadzonych siecią kanalizacyjną '[dam3']]]/$U$1*$T$2 -> 1.4262686e-05 | U7: 349.5 | V7: =TabIPW[[#This Row],[iloczyn liczby mieszkańców i relacji przeciętnego miesięcznego wynagrodzenia brutto w danym powiecie do średniej krajowej2]]/$W$1*$V$2 -> 1.4407251e-05 | W7: =TabIPW[[#This Row],[iloczyn liczby mieszkańców i relacji przeciętnego miesięcznego wynagrodzenia brutto w danym powiecie do średniej krajowej]] -> 4490.688
A8: G | B8: 02 | C8: 01 | D8: 04 | E8: 3 | F8: =+Tabela1[[#This Row],[WK]]&Tabela1[[#This Row],[PK]]&Tabela1[[#This Row],[GK]] -> 020104 | G8: NOWOGRODZIEC | H8: =TabIPW[[#This Row],[liczba mieszkańców ]]/$I$1*$H$2 -> 4.5880259e-05 | I8: 14415 | J8: =TabIPW[[#This Row],[liczba mieszkańców w wieku 20-64]]/$K$1*$J$2 -> 3.5469428e-05 | K8: 8795 | L8: =TabIPW[[#This Row],[iloczyn liczby mieszkańców i relacji przeciętnego miesięcznego wynagrodzenia brutto w danym powiecie do średniej krajowej]]/$M$1*$L$2 -> 0.00014460753 | M8: 13146.48 | N8: =TabIPW[[#This Row],[liczba oddziałów w szkołach podstawowych]]/$O$1*$N$2 -> 8.4898629e-05 | O8: 67 | P8: =TabIPW[[#This Row],[liczba dzieci uczęszczających do przedszkoli, oddziałów przedszkolnych w szkołach podstawowych i innych form wychowania przedszkolnego prowadzonych przez jednostki samorządu terytorialnego, osoby prawne niebędące jednostkami samorządu terytorialnego oraz ]]/$Q$1*$P$2 -> 9.8776939e-05 | Q8: 502 | R8: =TabIPW[[#This Row],[liczba gospodarstw domowych korzystających ze środowiskowej pomocy społecznej ]]/$S$1*$R$2 -> 4.7028265e-05 | S8: 172 | T8: =TabIPW[[#This Row],[ilość wody dostarczonej i ścieków bytowych odprowadzonych siecią kanalizacyjną '[dam3']]]/$U$1*$T$2 -> 3.5450629e-05 | U8: 868.7 | V8: =TabIPW[[#This Row],[iloczyn liczby mieszkańców i relacji przeciętnego miesięcznego wynagrodzenia brutto w danym powiecie do średniej krajowej2]]/$W$1*$V$2 -> 4.2177197e-05 | W8: =TabIPW[[#This Row],[iloczyn liczby mieszkańców i relacji przeciętnego miesięcznego wynagrodzenia brutto w danym powiecie do średniej krajowej]] -> 13146.48
A9: G | B9: 02 | C9: 01 | D9: 05 | E9: 2 | F9: =+Tabela1[[#This Row],[WK]]&Tabela1[[#This Row],[PK]]&Tabela1[[#This Row],[GK]] -> 020105 | G9: OSIECZNICA | H9: =TabIPW[[#This Row],[liczba mieszkańców ]]/$I$1*$H$2 -> 2.2744387e-05 | I9: 7146 | J9: =TabIPW[[#This Row],[liczba mieszkańców w wieku 20-64]]/$K$1*$J$2 -> 1.7889981e-05 | K9: 4436 | L9: =TabIPW[[#This Row],[iloczyn liczby mieszkańców i relacji przeciętnego miesięcznego wynagrodzenia brutto w danym powiecie do średniej krajowej]]/$M$1*$L$2 -> 7.1686815e-05 | M9: 6517.152 | N9: =TabIPW[[#This Row],[liczba oddziałów w szkołach podstawowych]]/$O$1*$N$2 -> 5.1952892e-05 | O9: 41 | P9: =TabIPW[[#This Row],[liczba dzieci uczęszczających do przedszkoli, oddziałów przedszkolnych w szkołach podstawowych i innych form wychowania przedszkolnego prowadzonych przez jednostki samorządu terytorialnego, osoby prawne niebędące jednostkami samorządu terytorialnego oraz ]]/$Q$1*$P$2 -> 5.3127039e-05 | Q9: 270 | R9: =TabIPW[[#This Row],[liczba gospodarstw domowych korzystających ze środowiskowej pomocy społecznej ]]/$S$1*$R$2 -> 3.2810417e-05 | S9: 120 | T9: =TabIPW[[#This Row],[ilość wody dostarczonej i ścieków bytowych odprowadzonych siecią kanalizacyjną '[dam3']]]/$U$1*$T$2 -> 2.9610886e-05 | U9: 725.6 | V9: =TabIPW[[#This Row],[iloczyn liczby mieszkańców i relacji przeciętnego miesięcznego wynagrodzenia brutto w danym powiecie do średniej krajowej2]]/$W$1*$V$2 -> 2.0908654e-05 | W9: =TabIPW[[#This Row],[iloczyn liczby mieszkańców i relacji przeciętnego miesięcznego wynagrodzenia brutto w danym powiecie do średniej krajowej]] -> 6517.152
A10: G | B10: 02 | C10: 01 | D10: 06 | E10: 2 | F10: =+Tabela1[[#This Row],[WK]]&Tabela1[[#This Row],[PK]]&Tabela1[[#This Row],[GK]] -> 020106 | G10: WARTA BOLESŁAWIECKA | H10: =TabIPW[[#This Row],[liczba mieszkańców ]]/$I$1*$H$2 -> 2.656058e-05 | I10: 8345 | J10: =TabIPW[[#This Row],[liczba mieszkańców w wieku 20-64]]/$K$1*$J$2 -> 2.0350055e-05 | K10: 5046 | L10: =TabIPW[[#This Row],[iloczyn liczby mieszkańców i relacji przeciętnego miesięcznego wynagrodzenia brutto w danym powiecie do średniej krajowej]]/$M$1*$L$2 -> 8.3714871e-05 | M10: 7610.64 | N10: =TabIPW[[#This Row],[liczba oddziałów w szkołach podstawowych]]/$O$1*$N$2 -> 5.8288611e-05 | O10: 46 | P10: =TabIPW[[#This Row],[liczba dzieci uczęszczających do przedszkoli, oddziałów przedszkolnych w szkołach podstawowych i innych form wychowania przedszkolnego prowadzonych przez jednostki samorządu terytorialnego, osoby prawne niebędące jednostkami samorządu terytorialnego oraz ]]/$Q$1*$P$2 -> 5.3520572e-05 | Q10: 272 | R10: =TabIPW[[#This Row],[liczba gospodarstw domowych korzystających ze środowiskowej pomocy społecznej ]]/$S$1*$R$2 -> 4.5387744e-05 | S10: 166 | T10: =TabIPW[[#This Row],[ilość wody dostarczonej i ścieków bytowych odprowadzonych siecią kanalizacyjną '[dam3']]]/$U$1*$T$2 -> 3.7952211e-05 | U10: 930 | V10: =TabIPW[[#This Row],[iloczyn liczby mieszkańców i relacji przeciętnego miesięcznego wynagrodzenia brutto w danym powiecie do średniej krajowej2]]/$W$1*$V$2 -> 2.4416838e-05 | W10: =TabIPW[[#This Row],[iloczyn liczby mieszkańców i relacji przeciętnego miesięcznego wynagrodzenia brutto w danym powiecie do średniej krajowej]] -> 7610.64
A11: G | B11: 02 | C11: 02 | D11: 01 | E11: 1 | F11: =+Tabela1[[#This Row],[WK]]&Tabela1[[#This Row],[PK]]&Tabela1[[#This Row],[GK]] -> 020201 | G11: BIELAWA | H11: =TabIPW[[#This Row],[liczba mieszkańców ]]/$I$1*$H$2 -> 8.746372e-05 | I11: 27480 | J11: =TabIPW[[#This Row],[liczba mieszkańców w wieku 20-64]]/$K$1*$J$2 -> 6.4082912e-05 | K11: 15890 | L11: =TabIPW[[#This Row],[iloczyn liczby mieszkańców i relacji przeciętnego miesięcznego wynagrodzenia brutto w danym powiecie do średniej krajowej]]/$M$1*$L$2 -> 0.00026025634 | M11: 23660.28 | N11: =TabIPW[[#This Row],[liczba oddziałów w szkołach podstawowych]]/$O$1*$N$2 -> 0.00013431723 | O11: 106 | P11: =TabIPW[[#This Row],[liczba dzieci uczęszczających do przedszkoli, oddziałów przedszkolnych w szkołach podstawowych i innych form wychowania przedszkolnego prowadzonych przez jednostki samorządu terytorialnego, osoby prawne niebędące jednostkami samorządu terytorialnego oraz ]]/$Q$1*$P$2 -> 0.00015859405 | Q11: 806 | R11: =TabIPW[[#This Row],[liczba gospodarstw domowych korzystających ze środowiskowej pomocy społecznej ]]/$S$1*$R$2 -> 0.00013971769 | S11: 511 | T11: =TabIPW[[#This Row],[ilość wody dostarczonej i ścieków bytowych odprowadzonych siecią kanalizacyjną '[dam3']]]/$U$1*$T$2 -> 7.3570156e-05 | U11: 1802.8 | V11: =TabIPW[[#This Row],[iloczyn liczby mieszkańców i relacji przeciętnego miesięcznego wynagrodzenia brutto w danym powiecie do średniej krajowej2]]/$W$1*$V$2 -> 7.5908099e-05 | W11: =TabIPW[[#This Row],[iloczyn liczby mieszkańców i relacji przeciętnego miesięcznego wynagrodzenia brutto w danym powiecie do średniej krajowej]] -> 23660.28
A12: G | B12: 02 | C12: 02 | D12: 02 | E12: 1 | F12: =+Tabela1[[#This Row],[WK]]&Tabela1[[#This Row],[PK]]&Tabela1[[#This Row],[GK]] -> 020202 | G12: DZIERŻONIÓW | H12: =TabIPW[[#This Row],[liczba mieszkańców ]]/$I$1*$H$2 -> 9.552897e-05 | I12: 30014 | J12: =TabIPW[[#This Row],[liczba mieszkańców w wieku 20-64]]/$K$1*$J$2 -> 6.8023064e-05 | K12: 16867 | L12: =TabIPW[[#This Row],[iloczyn liczby mieszkańców i relacji przeciętnego miesięcznego wynagrodzenia brutto w danym powiecie do średniej krajowej]]/$M$1*$L$2 -> 0.00028425523 | M12: 25842.054 | N12: =TabIPW[[#This Row],[liczba oddziałów w szkołach podstawowych]]/$O$1*$N$2 -> 0.00016853011 | O12: 133 | P12: =TabIPW[[#This Row],[liczba dzieci uczęszczających do przedszkoli, oddziałów przedszkolnych w szkołach podstawowych i innych form wychowania przedszkolnego prowadzonych przez jednostki samorządu terytorialnego, osoby prawne niebędące jednostkami samorządu terytorialnego oraz ]]/$Q$1*$P$2 -> 0.00021644349 | Q12: 1100 | R12: =TabIPW[[#This Row],[liczba gospodarstw domowych korzystających ze środowiskowej pomocy społecznej ]]/$S$1*$R$2 -> 0.00011702382 | S12: 428 | T12: =TabIPW[[#This Row],[ilość wody dostarczonej i ścieków bytowych odprowadzonych siecią kanalizacyjną '[dam3']]]/$U$1*$T$2 -> 9.2660526e-05 | U12: 2270.6 | V12: =TabIPW[[#This Row],[iloczyn liczby mieszkańców i relacji przeciętnego miesięcznego wynagrodzenia brutto w danym powiecie do średniej krajowej2]]/$W$1*$V$2 -> 8.2907776e-05 | W12: =TabIPW[[#This Row],[iloczyn liczby mieszkańców i relacji przeciętnego miesięcznego wynagrodzenia brutto w danym powiecie do średniej krajowej]] -> 25842.054
A13: G | B13: 02 | C13: 02 | D13: 03 | E13: 3 | F13: =+Tabela1[[#This Row],[WK]]&Tabela1[[#This Row],[PK]]&Tabela1[[#This Row],[GK]] -> 020203 | G13: PIESZYCE | H13: =TabIPW[[#This Row],[liczba mieszkańców ]]/$I$1*$H$2 -> 2.8069234e-05 | I13: 8819 | J13: =TabIPW[[#This Row],[liczba mieszkańców w wieku 20-64]]/$K$1*$J$2 -> 2.096709e-05 | K13: 5199 | L13: =TabIPW[[#This Row],[iloczyn liczby mieszkańców i relacji przeciętnego miesięcznego wynagrodzenia brutto w danym powiecie do średniej krajowej]]/$M$1*$L$2 -> 8.3522585e-05 | M13: 7593.159 | N13: =TabIPW[[#This Row],[liczba oddziałów w szkołach podstawowych]]/$O$1*$N$2 -> 5.0685748e-05 | O13: 40 | P13: =TabIPW[[#This Row],[liczba dzieci uczęszczających do przedszkoli, oddziałów przedszkolnych w szkołach podstawowych i innych form wychowania przedszkolnego prowadzonych przez jednostki samorządu terytorialnego, osoby prawne niebędące jednostkami samorządu terytorialnego oraz ]]/$Q$1*$P$2 -> 5.6668841e-05 | Q13: 288 | R13: =TabIPW[[#This Row],[liczba gospodarstw domowych korzystających ze środowiskowej pomocy społecznej ]]/$S$1*$R$2 -> 5.8785331e-05 | S13: 215 | T13: =TabIPW[[#This Row],[ilość wody dostarczonej i ścieków bytowych odprowadzonych siecią kanalizacyjną '[dam3']]]/$U$1*$T$2 -> 1.5286987e-05 | U13: 374.6 | V13: =TabIPW[[#This Row],[iloczyn liczby mieszkańców i relacji przeciętnego miesięcznego wynagrodzenia brutto w danym powiecie do średniej krajowej2]]/$W$1*$V$2 -> 2.4360754e-05 | W13: =TabIPW[[#This Row],[iloczyn liczby mieszkańców i relacji przeciętnego miesięcznego wynagrodzenia brutto w danym powiecie do średniej krajowej]] -> 7593.159
A14: G | B14: 02 | C14: 02 | D14: 04 | E14: 1 | F14: =+Tabela1[[#This Row],[WK]]&Tabela1[[#This Row],[PK]]&Tabela1[[#This Row],[GK]] -> 020204 | G14: PIŁAWA GÓRNA | H14: =TabIPW[[#This Row],[liczba mieszkańców ]]/$I$1*$H$2 -> 1.8310727e-05 | I14: 5753 | J14: =TabIPW[[#This Row],[liczba mieszkańców w wieku 20-64]]/$K$1*$J$2 -> 1.3760283e-05 | K14: 3412 | L14: =TabIPW[[#This Row],[iloczyn liczby mieszkańców i relacji przeciętnego miesięcznego wynagrodzenia brutto w danym powiecie do średniej krajowej]]/$M$1*$L$2 -> 5.4485252e-05 | M14: 4953.333 | N14: =TabIPW[[#This Row],[liczba oddziałów w szkołach podstawowych]]/$O$1*$N$2 -> 5.4487179e-05 | O14: 43 | P14: =TabIPW[[#This Row],[liczba dzieci uczęszczających do przedszkoli, oddziałów przedszkolnych w szkołach podstawowych i innych form wychowania przedszkolnego prowadzonych przez jednostki samorządu terytorialnego, osoby prawne niebędące jednostkami samorządu terytorialnego oraz ]]/$Q$1*$P$2 -> 3.4434192e-05 | Q14: 175 | R14: =TabIPW[[#This Row],[liczba gospodarstw domowych korzystających ze środowiskowej pomocy społecznej ]]/$S$1*$R$2 -> 2.5701494e-05 | S14: 94 | T14: =TabIPW[[#This Row],[ilość wody dostarczonej i ścieków bytowych odprowadzonych siecią kanalizacyjną '[dam3']]]/$U$1*$T$2 -> 1.3111877e-05 | U14: 321.3 | V14: =TabIPW[[#This Row],[iloczyn liczby mieszkańców i relacji przeciętnego miesięcznego wynagrodzenia brutto w danym powiecie do średniej krajowej2]]/$W$1*$V$2 -> 1.5891532e-05 | W14: =TabIPW[[#This Row],[iloczyn liczby mieszkańców i relacji przeciętnego miesięcznego wynagrodzenia brutto w danym powiecie do średniej krajowej]] -> 4953.333
A15: G | B15: 02 | C15: 02 | D15: 05 | E15: 2 | F15: =+Tabela1[[#This Row],[WK]]&Tabela1[[#This Row],[PK]]&Tabela1[[#This Row],[GK]] -> 020205 | G15: DZIERŻONIÓW | H15: =TabIPW[[#This Row],[liczba mieszkańców ]]/$I$1*$H$2 -> 2.8677151e-05 | I15: 9010 | J15: =TabIPW[[#This Row],[liczba mieszkańców w wieku 20-64]]/$K$1*$J$2 -> 2.1789803e-05 | K15: 5403 | L15: =TabIPW[[#This Row],[iloczyn liczby mieszkańców i relacji przeciętnego miesięcznego wynagrodzenia brutto w danym powiecie do średniej krajowej]]/$M$1*$L$2 -> 8.53315e-05 | M15: 7757.61 | N15: =TabIPW[[#This Row],[liczba oddziałów w szkołach podstawowych]]/$O$1*$N$2 -> 4.9418605e-05 | O15: 39 | P15: =TabIPW[[#This Row],[liczba dzieci uczęszczających do przedszkoli, oddziałów przedszkolnych w szkołach podstawowych i innych form wychowania przedszkolnego prowadzonych przez jednostki samorządu terytorialnego, osoby prawne niebędące jednostkami samorządu terytorialnego oraz ]]/$Q$1*$P$2 -> 3.7385694e-05 | Q15: 190 | R15: =TabIPW[[#This Row],[liczba gospodarstw domowych korzystających ze środowiskowej pomocy społecznej ]]/$S$1*$R$2 -> 3.3083837e-05 | S15: 121 | T15: =TabIPW[[#This Row],[ilość wody dostarczonej i ścieków bytowych odprowadzonych siecią kanalizacyjną '[dam3']]]/$U$1*$T$2 -> 1.6319451e-05 | U15: 399.9 | V15: =TabIPW[[#This Row],[iloczyn liczby mieszkańców i relacji przeciętnego miesięcznego wynagrodzenia brutto w danym powiecie do średniej krajowej2]]/$W$1*$V$2 -> 2.4888354e-05 | W15: =TabIPW[[#This Row],[iloczyn liczby mieszkańców i relacji przeciętnego miesięcznego wynagrodzenia brutto w danym powiecie do średniej krajowej]] -> 7757.61
A16: G | B16: 02 | C16: 02 | D16: 06 | E16: 2 | F16: =+Tabela1[[#This Row],[WK]]&Tabela1[[#This Row],[PK]]&Tabela1[[#This Row],[GK]] -> 020206 | G16: ŁAGIEWNIKI | H16: =TabIPW[[#This Row],[liczba mieszkańców ]]/$I$1*$H$2 -> 2.2238319e-05 | I16: 6987 | J16: =TabIPW[[#This Row],[liczba mieszkańców w wieku 20-64]]/$K$1*$J$2 -> 1.6728503e-05 | K16: 4148 | L16: =TabIPW[[#This Row],[iloczyn liczby mieszkańców i relacji przeciętnego miesięcznego wynagrodzenia brutto w danym powiecie do średniej krajowej]]/$M$1*$L$2 -> 6.6172163e-05 | M16: 6015.807 | N16: =TabIPW[[#This Row],[liczba oddziałów w szkołach podstawowych]]/$O$1*$N$2 -> 3.5480024e-05 | O16: 28 | P16: =TabIPW[[#This Row],[liczba dzieci uczęszczających do przedszkoli, oddziałów przedszkolnych w szkołach podstawowych i innych form wychowania przedszkolnego prowadzonych przez jednostki samorządu terytorialnego, osoby prawne niebędące jednostkami samorządu terytorialnego oraz ]]/$Q$1*$P$2 -> 4.5453133e-05 | Q16: 231 | R16: =TabIPW[[#This Row],[liczba gospodarstw domowych korzystających ze środowiskowej pomocy społecznej ]]/$S$1*$R$2 -> 1.4217847e-05 | S16: 52 | T16: =TabIPW[[#This Row],[ilość wody dostarczonej i ścieków bytowych odprowadzonych siecią kanalizacyjną '[dam3']]]/$U$1*$T$2 -> 1.2609928e-05 | U16: 309 | V16: =TabIPW[[#This Row],[iloczyn liczby mieszkańców i relacji przeciętnego miesięcznego wynagrodzenia brutto w danym powiecie do średniej krajowej2]]/$W$1*$V$2 -> 1.9300214e-05 | W16: =TabIPW[[#This Row],[iloczyn liczby mieszkańców i relacji przeciętnego miesięcznego wynagrodzenia brutto w danym powiecie do średniej krajowej]] -> 6015.807
... A2417: G | B2417: 32 | C2417: 18 | D2417: 05 | E2417: 3 | F2417: =+Tabela1[[#This Row],[WK]]&Tabela1[[#This Row],[PK]]&Tabela1[[#This Row],[GK]] -> 321805 | G2417: WĘGORZYNO | H2417: =TabIPW[[#This Row],[liczba mieszkańców ]]/$I$1*$H$2 -> 1.9698434e-05 | I2417: 6189 | J2417: =TabIPW[[#This Row],[liczba mieszkańców w wieku 20-64]]/$K$1*$J$2 -> 1.5075011e-05 | K2417: 3738 | L2417: =TabIPW[[#This Row],[iloczyn liczby mieszkańców i relacji przeciętnego miesięcznego wynagrodzenia brutto w danym powiecie do średniej krajowej]]/$M$1*$L$2 -> 5.8206037e-05 | M2417: 5291.595 | N2417: =TabIPW[[#This Row],[liczba oddziałów w szkołach podstawowych]]/$O$1*$N$2 -> 3.0411449e-05 | O2417: 24 | P2417: =TabIPW[[#This Row],[liczba dzieci uczęszczających do przedszkoli, oddziałów przedszkolnych w szkołach podstawowych i innych form wychowania przedszkolnego prowadzonych przez jednostki samorządu terytorialnego, osoby prawne niebędące jednostkami samorządu terytorialnego oraz ]]/$Q$1*$P$2 -> 3.0105322e-05 | Q2417: 153 | R2417: =TabIPW[[#This Row],[liczba gospodarstw domowych korzystających ze środowiskowej pomocy społecznej ]]/$S$1*$R$2 -> 5.4410609e-05 | S2417: 199 | T2417: =TabIPW[[#This Row],[ilość wody dostarczonej i ścieków bytowych odprowadzonych siecią kanalizacyjną '[dam3']]]/$U$1*$T$2 -> 8.8759202e-06 | U2417: 217.5 | V2417: =TabIPW[[#This Row],[iloczyn liczby mieszkańców i relacji przeciętnego miesięcznego wynagrodzenia brutto w danym powiecie do średniej krajowej2]]/$W$1*$V$2 -> 1.6976761e-05 | W2417: =TabIPW[[#This Row],[iloczyn liczby mieszkańców i relacji przeciętnego miesięcznego wynagrodzenia brutto w danym powiecie do średniej krajowej]] -> 5291.595
A2418: Mnpp | B2418: 02 | C2418: 61 | F2418: =+Tabela1[[#This Row],[WK]]&Tabela1[[#This Row],[PK]]&Tabela1[[#This Row],[GK]] -> 0261 | G2418: Jelenia Góra | I2418: 73470 | K2418: 0 | M2418: 70457.73 | O2418: 0 | Q2418: 2473 | S2418: 0 | U2418: 0 | X2418: =TabIPW[[#This Row],[liczba oddziałów w szkołach podstawowych, ponadpodstawowych i policealnych]]/$Y$2*$X$2 -> 0.00092345916 | Y2418: 617 | Z2418: =TabIPW[[#This Row],[liczba dzieci uczęszczających do przedszkoli, oddziałów przedszkolnych w szkołach podstawowych i innych form wychowania przedszkolnego prowadzonych przez jednostki samorządu terytorialnego, osoby prawne niebędące jednostkami samorządu terytorialnego or2]]/$AA$2*$Z$2 -> 0.00086390883 | AA2418: 2473 | AB2418: =(TabIPW[[#This Row],[liczba osób korzystających ze środowiskowej pomocy społecznej (łącznie z filiami)]]/$AC$2*$AC$3+TabIPW[[#This Row],[liczba bezrobotnych]]/$AD$2*$AD$3)*$AB$2 -> 0.00098377117 | AC2418: 1857 | AD2418: 1538 | AE2418: =TabIPW[[#This Row],[liczba pracujących ogółem ]]/$AF$2*$AE$2 -> 0.00066183883 | AF2418: 26458 | AG2418: =TabIPW[[#This Row],[iloczyn liczby mieszkańców i relacji przeciętnego miesięcznego wynagrodzenia brutto do średniej krajowej]]/$AH$2*$AG$2 -> 0.00082451237 | AH2418: 70457.73 | AI2418: =TabIPW[[#This Row],[suma powierzchni parków spac.-wyp., zieleńców i terenów zieleni osiedlowej oraz średniej pow. objętej utrzymaniem czystości i porządku przez gminy w okresie letnim i w okresie zimowym – będąca w gestii miasta '[w ha']]]/$AJ$2*$AI$2 -> 0.00016141979 | AJ2418: 206.6 | AK2418: =TabIPW[[#This Row],[iloczyn liczby mieszkańców i relacji przeciętnego miesięcznego wynagrodzenia brutto do średniej krajowej]]/$AL$2*$AK$2 -> 0.00032980495 | AL2418: =TabIPW[[#This Row],[iloczyn liczby mieszkańców i relacji przeciętnego miesięcznego wynagrodzenia brutto do średniej krajowej]] -> 70457.73 | AM2418: =TabIPW[[#This Row],[liczba mieszkańców]]/$AN$2*$AM$2 -> 0.00054210213 | AN2418: 73470
A2419: Mnpp | B2419: 02 | C2419: 62 | F2419: =+Tabela1[[#This Row],[WK]]&Tabela1[[#This Row],[PK]]&Tabela1[[#This Row],[GK]] -> 0262 | G2419: Legnica | I2419: 89919 | K2419: 0 | M2419: 82635.561 | O2419: 0 | Q2419: 3436 | S2419: 0 | U2419: 0 | X2419: =TabIPW[[#This Row],[liczba oddziałów w szkołach podstawowych, ponadpodstawowych i policealnych]]/$Y$2*$X$2 -> 0.0011464663 | Y2419: 766 | Z2419: =TabIPW[[#This Row],[liczba dzieci uczęszczających do przedszkoli, oddziałów przedszkolnych w szkołach podstawowych i innych form wychowania przedszkolnego prowadzonych przez jednostki samorządu terytorialnego, osoby prawne niebędące jednostkami samorządu terytorialnego or2]]/$AA$2*$Z$2 -> 0.0012003197 | AA2419: 3436 | AB2419: =(TabIPW[[#This Row],[liczba osób korzystających ze środowiskowej pomocy społecznej (łącznie z filiami)]]/$AC$2*$AC$3+TabIPW[[#This Row],[liczba bezrobotnych]]/$AD$2*$AD$3)*$AB$2 -> 0.001445834 | AC2419: 2666 | AD2419: 2499 | AE2419: =TabIPW[[#This Row],[liczba pracujących ogółem ]]/$AF$2*$AE$2 -> 0.00096123973 | AF2419: 38427 | AG2419: =TabIPW[[#This Row],[iloczyn liczby mieszkańców i relacji przeciętnego miesięcznego wynagrodzenia brutto do średniej krajowej]]/$AH$2*$AG$2 -> 0.00096702011 | AH2419: 82635.561 | AI2419: =TabIPW[[#This Row],[suma powierzchni parków spac.-wyp., zieleńców i terenów zieleni osiedlowej oraz średniej pow. objętej utrzymaniem czystości i porządku przez gminy w okresie letnim i w okresie zimowym – będąca w gestii miasta '[w ha']]]/$AJ$2*$AI$2 -> 0.00037315631 | AJ2419: 477.6 | AK2419: =TabIPW[[#This Row],[iloczyn liczby mieszkańców i relacji przeciętnego miesięcznego wynagrodzenia brutto do średniej krajowej]]/$AL$2*$AK$2 -> 0.00038680805 | AL2419: =TabIPW[[#This Row],[iloczyn liczby mieszkańców i relacji przeciętnego miesięcznego wynagrodzenia brutto do średniej krajowej]] -> 82635.561 | AM2419: =TabIPW[[#This Row],[liczba mieszkańców]]/$AN$2*$AM$2 -> 0.00066347192 | AN2419: 89919
A2420: Mnpp | B2420: 02 | C2420: 64 | F2420: =+Tabela1[[#This Row],[WK]]&Tabela1[[#This Row],[PK]]&Tabela1[[#This Row],[GK]] -> 0264 | G2420: Wrocław | I2420: 672601 | K2420: 0 | M2420: 734480.29 | O2420: 0 | Q2420: 28233 | S2420: 0 | U2420: 0 | X2420: =TabIPW[[#This Row],[liczba oddziałów w szkołach podstawowych, ponadpodstawowych i policealnych]]/$Y$2*$X$2 -> 0.0075253689 | Y2420: 5028 | Z2420: =TabIPW[[#This Row],[liczba dzieci uczęszczających do przedszkoli, oddziałów przedszkolnych w szkołach podstawowych i innych form wychowania przedszkolnego prowadzonych przez jednostki samorządu terytorialnego, osoby prawne niebędące jednostkami samorządu terytorialnego or2]]/$AA$2*$Z$2 -> 0.0098628136 | AA2420: 28233 | AB2420: =(TabIPW[[#This Row],[liczba osób korzystających ze środowiskowej pomocy społecznej (łącznie z filiami)]]/$AC$2*$AC$3+TabIPW[[#This Row],[liczba bezrobotnych]]/$AD$2*$AD$3)*$AB$2 -> 0.004230074 | AC2420: 7021 | AD2420: 10252 | AE2420: =TabIPW[[#This Row],[liczba pracujących ogółem ]]/$AF$2*$AE$2 -> 0.01091984 | AF2420: 436537 | AG2420: =TabIPW[[#This Row],[iloczyn liczby mieszkańców i relacji przeciętnego miesięcznego wynagrodzenia brutto do średniej krajowej]]/$AH$2*$AG$2 -> 0.0085950553 | AH2420: 734480.29 | AI2420: =TabIPW[[#This Row],[suma powierzchni parków spac.-wyp., zieleńców i terenów zieleni osiedlowej oraz średniej pow. objętej utrzymaniem czystości i porządku przez gminy w okresie letnim i w okresie zimowym – będąca w gestii miasta '[w ha']]]/$AJ$2*$AI$2 -> 0.0026689271 | AJ2420: 3415.94 | AK2420: =TabIPW[[#This Row],[iloczyn liczby mieszkańców i relacji przeciętnego miesięcznego wynagrodzenia brutto do średniej krajowej]]/$AL$2*$AK$2 -> 0.0034380221 | AL2420: =TabIPW[[#This Row],[iloczyn liczby mieszkańców i relacji przeciętnego miesięcznego wynagrodzenia brutto do średniej krajowej]] -> 734480.29 | AM2420: =TabIPW[[#This Row],[liczba mieszkańców]]/$AN$2*$AM$2 -> 0.0049628207 | AN2420: 672601
A2421: Mnpp | B2421: 02 | C2421: 65 | F2421: =+Tabela1[[#This Row],[WK]]&Tabela1[[#This Row],[PK]]&Tabela1[[#This Row],[GK]] -> 0265 | G2421: Wałbrzych | I2421: 97546 | K2421: 0 | M2421: 97838.638 | O2421: 0 | Q2421: 2773 | S2421: 0 | U2421: 0 | X2421: =TabIPW[[#This Row],[liczba oddziałów w szkołach podstawowych, ponadpodstawowych i policealnych]]/$Y$2*$X$2 -> 0.0010357111 | Y2421: 692 | Z2421: =TabIPW[[#This Row],[liczba dzieci uczęszczających do przedszkoli, oddziałów przedszkolnych w szkołach podstawowych i innych form wychowania przedszkolnego prowadzonych przez jednostki samorządu terytorialnego, osoby prawne niebędące jednostkami samorządu terytorialnego or2]]/$AA$2*$Z$2 -> 0.00096870974 | AA2421: 2773 | AB2421: =(TabIPW[[#This Row],[liczba osób korzystających ze środowiskowej pomocy społecznej (łącznie z filiami)]]/$AC$2*$AC$3+TabIPW[[#This Row],[liczba bezrobotnych]]/$AD$2*$AD$3)*$AB$2 -> 0.0020063758 | AC2421: 3939 | AD2421: 2564 | AE2421: =TabIPW[[#This Row],[liczba pracujących ogółem ]]/$AF$2*$AE$2 -> 0.00080157092 | AF2421: 32044 | AG2421: =TabIPW[[#This Row],[iloczyn liczby mieszkańców i relacji przeciętnego miesięcznego wynagrodzenia brutto do średniej krajowej]]/$AH$2*$AG$2 -> 0.00114493 | AH2421: 97838.638 | AI2421: =TabIPW[[#This Row],[suma powierzchni parków spac.-wyp., zieleńców i terenów zieleni osiedlowej oraz średniej pow. objętej utrzymaniem czystości i porządku przez gminy w okresie letnim i w okresie zimowym – będąca w gestii miasta '[w ha']]]/$AJ$2*$AI$2 -> 0.00015734133 | AJ2421: 201.38 | AK2421: =TabIPW[[#This Row],[iloczyn liczby mieszkańców i relacji przeciętnego miesięcznego wynagrodzenia brutto do średniej krajowej]]/$AL$2*$AK$2 -> 0.00045797199 | AL2421: =TabIPW[[#This Row],[iloczyn liczby mieszkańców i relacji przeciętnego miesięcznego wynagrodzenia brutto do średniej krajowej]] -> 97838.638 | AM2421: =TabIPW[[#This Row],[liczba mieszkańców]]/$AN$2*$AM$2 -> 0.00071974813 | AN2421: 97546
A2422: Mnpp | B2422: 04 | C2422: 61 | F2422: =+Tabela1[[#This Row],[WK]]&Tabela1[[#This Row],[PK]]&Tabela1[[#This Row],[GK]] -> 0461 | G2422: Bydgoszcz | I2422: 321100 | K2422: 0 | M2422: 314356.9 | O2422: 0 | Q2422: 11963 | S2422: 0 | U2422: 0 | X2422: =TabIPW[[#This Row],[liczba oddziałów w szkołach podstawowych, ponadpodstawowych i policealnych]]/$Y$2*$X$2 -> 0.0037507109 | Y2422: 2506 | Z2422: =TabIPW[[#This Row],[liczba dzieci uczęszczających do przedszkoli, oddziałów przedszkolnych w szkołach podstawowych i innych form wychowania przedszkolnego prowadzonych przez jednostki samorządu terytorialnego, osoby prawne niebędące jednostkami samorządu terytorialnego or2]]/$AA$2*$Z$2 -> 0.0041791109 | AA2422: 11963 | AB2422: =(TabIPW[[#This Row],[liczba osób korzystających ze środowiskowej pomocy społecznej (łącznie z filiami)]]/$AC$2*$AC$3+TabIPW[[#This Row],[liczba bezrobotnych]]/$AD$2*$AD$3)*$AB$2 -> 0.0031144612 | AC2422: 6004 | AD2422: 4397 | AE2422: =TabIPW[[#This Row],[liczba pracujących ogółem ]]/$AF$2*$AE$2 -> 0.0037612848 | AF2422: 150363 | AG2422: =TabIPW[[#This Row],[iloczyn liczby mieszkańców i relacji przeciętnego miesięcznego wynagrodzenia brutto do średniej krajowej]]/$AH$2*$AG$2 -> 0.0036786759 | AH2422: 314356.9 | AI2422: =TabIPW[[#This Row],[suma powierzchni parków spac.-wyp., zieleńców i terenów zieleni osiedlowej oraz średniej pow. objętej utrzymaniem czystości i porządku przez gminy w okresie letnim i w okresie zimowym – będąca w gestii miasta '[w ha']]]/$AJ$2*$AI$2 -> 0.00096673737 | AJ2422: 1237.32 | AK2422: =TabIPW[[#This Row],[iloczyn liczby mieszkańców i relacji przeciętnego miesięcznego wynagrodzenia brutto do średniej krajowej]]/$AL$2*$AK$2 -> 0.0014714704 | AL2422: =TabIPW[[#This Row],[iloczyn liczby mieszkańców i relacji przeciętnego miesięcznego wynagrodzenia brutto do średniej krajowej]] -> 314356.9 | AM2422: =TabIPW[[#This Row],[liczba mieszkańców]]/$AN$2*$AM$2 -> 0.0023692527 | AN2422: 321100
A2423: Mnpp | B2423: 04 | C2423: 62 | F2423: =+Tabela1[[#This Row],[WK]]&Tabela1[[#This Row],[PK]]&Tabela1[[#This Row],[GK]] -> 0462 | G2423: Grudziądz | I2423: 86811 | K2423: 0 | M2423: 72139.941 | O2423: 0 | Q2423: 3194 | S2423: 0 | U2423: 0 | X2423: =TabIPW[[#This Row],[liczba oddziałów w szkołach podstawowych, ponadpodstawowych i policealnych]]/$Y$2*$X$2 -> 0.0012632083 | Y2423: 844 | Z2423: =TabIPW[[#This Row],[liczba dzieci uczęszczających do przedszkoli, oddziałów przedszkolnych w szkołach podstawowych i innych form wychowania przedszkolnego prowadzonych przez jednostki samorządu terytorialnego, osoby prawne niebędące jednostkami samorządu terytorialnego or2]]/$AA$2*$Z$2 -> 0.0011157803 | AA2423: 3194 | AB2423: =(TabIPW[[#This Row],[liczba osób korzystających ze środowiskowej pomocy społecznej (łącznie z filiami)]]/$AC$2*$AC$3+TabIPW[[#This Row],[liczba bezrobotnych]]/$AD$2*$AD$3)*$AB$2 -> 0.0024443234 | AC2423: 4795 | AD2423: 3138 | AE2423: =TabIPW[[#This Row],[liczba pracujących ogółem ]]/$AF$2*$AE$2 -> 0.00078848824 | AF2423: 31521 | AG2423: =TabIPW[[#This Row],[iloczyn liczby mieszkańców i relacji przeciętnego miesięcznego wynagrodzenia brutto do średniej krajowej]]/$AH$2*$AG$2 -> 0.00084419798 | AH2423: 72139.941 | AI2423: =TabIPW[[#This Row],[suma powierzchni parków spac.-wyp., zieleńców i terenów zieleni osiedlowej oraz średniej pow. objętej utrzymaniem czystości i porządku przez gminy w okresie letnim i w okresie zimowym – będąca w gestii miasta '[w ha']]]/$AJ$2*$AI$2 -> 0.00033475465 | AJ2423: 428.45 | AK2423: =TabIPW[[#This Row],[iloczyn liczby mieszkańców i relacji przeciętnego miesięcznego wynagrodzenia brutto do średniej krajowej]]/$AL$2*$AK$2 -> 0.00033767919 | AL2423: =TabIPW[[#This Row],[iloczyn liczby mieszkańców i relacji przeciętnego miesięcznego wynagrodzenia brutto do średniej krajowej]] -> 72139.941 | AM2423: =TabIPW[[#This Row],[liczba mieszkańców]]/$AN$2*$AM$2 -> 0.00064053938 | AN2423: 86811
A2424: Mnpp | B2424: 04 | C2424: 63 | F2424: =+Tabela1[[#This Row],[WK]]&Tabela1[[#This Row],[PK]]&Tabela1[[#This Row],[GK]] -> 0463 | G2424: Toruń | I2424: 192784 | K2424: 0 | M2424: 186036.56 | O2424: 0 | Q2424: 7611 | S2424: 0 | U2424: 0 | X2424: =TabIPW[[#This Row],[liczba oddziałów w szkołach podstawowych, ponadpodstawowych i policealnych]]/$Y$2*$X$2 -> 0.0024860059 | Y2424: 1661 | Z2424: =TabIPW[[#This Row],[liczba dzieci uczęszczających do przedszkoli, oddziałów przedszkolnych w szkołach podstawowych i innych form wychowania przedszkolnego prowadzonych przez jednostki samorządu terytorialnego, osoby prawne niebędące jednostkami samorządu terytorialnego or2]]/$AA$2*$Z$2 -> 0.0026587991 | AA2424: 7611 | AB2424: =(TabIPW[[#This Row],[liczba osób korzystających ze środowiskowej pomocy społecznej (łącznie z filiami)]]/$AC$2*$AC$3+TabIPW[[#This Row],[liczba bezrobotnych]]/$AD$2*$AD$3)*$AB$2 -> 0.0026851968 | AC2424: 5235 | AD2424: 3570 | AE2424: =TabIPW[[#This Row],[liczba pracujących ogółem ]]/$AF$2*$AE$2 -> 0.00224687 | AF2424: 89822 | AG2424: =TabIPW[[#This Row],[iloczyn liczby mieszkańców i relacji przeciętnego miesięcznego wynagrodzenia brutto do średniej krajowej]]/$AH$2*$AG$2 -> 0.0021770421 | AH2424: 186036.56 | AI2424: =TabIPW[[#This Row],[suma powierzchni parków spac.-wyp., zieleńców i terenów zieleni osiedlowej oraz średniej pow. objętej utrzymaniem czystości i porządku przez gminy w okresie letnim i w okresie zimowym – będąca w gestii miasta '[w ha']]]/$AJ$2*$AI$2 -> 0.00026717085 | AJ2424: 341.95 | AK2424: =TabIPW[[#This Row],[iloczyn liczby mieszkańców i relacji przeciętnego miesięcznego wynagrodzenia brutto do średniej krajowej]]/$AL$2*$AK$2 -> 0.00087081684 | AL2424: =TabIPW[[#This Row],[iloczyn liczby mieszkańców i relacji przeciętnego miesięcznego wynagrodzenia brutto do średniej krajowej]] -> 186036.56 | AM2424: =TabIPW[[#This Row],[liczba mieszkańców]]/$AN$2*$AM$2 -> 0.0014224666 | AN2424: 192784
A2425: Mnpp | B2425: 04 | C2425: 64 | F2425: =+Tabela1[[#This Row],[WK]]&Tabela1[[#This Row],[PK]]&Tabela1[[#This Row],[GK]] -> 0464 | G2425: Włocławek | I2425: 98038 | K2425: 0 | M2425: 86665.592 | O2425: 0 | Q2425: 3008 | S2425: 0 | U2425: 0 | X2425: =TabIPW[[#This Row],[liczba oddziałów w szkołach podstawowych, ponadpodstawowych i policealnych]]/$Y$2*$X$2 -> 0.0013006256 | Y2425: 869 | Z2425: =TabIPW[[#This Row],[liczba dzieci uczęszczających do przedszkoli, oddziałów przedszkolnych w szkołach podstawowych i innych form wychowania przedszkolnego prowadzonych przez jednostki samorządu terytorialnego, osoby prawne niebędące jednostkami samorządu terytorialnego or2]]/$AA$2*$Z$2 -> 0.0010508038 | AA2425: 3008 | AB2425: =(TabIPW[[#This Row],[liczba osób korzystających ze środowiskowej pomocy społecznej (łącznie z filiami)]]/$AC$2*$AC$3+TabIPW[[#This Row],[liczba bezrobotnych]]/$AD$2*$AD$3)*$AB$2 -> 0.0027487589 | AC2425: 5229 | AD2425: 4145 | AE2425: =TabIPW[[#This Row],[liczba pracujących ogółem ]]/$AF$2*$AE$2 -> 0.00083539079 | AF2425: 33396 | AG2425: =TabIPW[[#This Row],[iloczyn liczby mieszkańców i relacji przeciętnego miesięcznego wynagrodzenia brutto do średniej krajowej]]/$AH$2*$AG$2 -> 0.0010141805 | AH2425: 86665.592 | AI2425: =TabIPW[[#This Row],[suma powierzchni parków spac.-wyp., zieleńców i terenów zieleni osiedlowej oraz średniej pow. objętej utrzymaniem czystości i porządku przez gminy w okresie letnim i w okresie zimowym – będąca w gestii miasta '[w ha']]]/$AJ$2*$AI$2 -> 0.00020175912 | AJ2425: 258.23 | AK2425: =TabIPW[[#This Row],[iloczyn liczby mieszkańców i relacji przeciętnego miesięcznego wynagrodzenia brutto do średniej krajowej]]/$AL$2*$AK$2 -> 0.00040567218 | AL2425: =TabIPW[[#This Row],[iloczyn liczby mieszkańców i relacji przeciętnego miesięcznego wynagrodzenia brutto do średniej krajowej]] -> 86665.592 | AM2425: =TabIPW[[#This Row],[liczba mieszkańców]]/$AN$2*$AM$2 -> 0.00072337837 | AN2425: 98038
A2426: Mnpp | B2426: 06 | C2426: 61 | F2426: =+Tabela1[[#This Row],[WK]]&Tabela1[[#This Row],[PK]]&Tabela1[[#This Row],[GK]] -> 0661 | G2426: Biała Podlaska | I2426: 53470 | K2426: 0 | M2426: 45984.2 | O2426: 0 | Q2426: 2597 | S2426: 0 | U2426: 0 | X2426: =TabIPW[[#This Row],[liczba oddziałów w szkołach podstawowych, ponadpodstawowych i policealnych]]/$Y$2*$X$2 -> 0.00093692939 | Y2426: 626 | Z2426: =TabIPW[[#This Row],[liczba dzieci uczęszczających do przedszkoli, oddziałów przedszkolnych w szkołach podstawowych i innych form wychowania przedszkolnego prowadzonych przez jednostki samorządu terytorialnego, osoby prawne niebędące jednostkami samorządu terytorialnego or2]]/$AA$2*$Z$2 -> 0.00090722654 | AA2426: 2597 | AB2426: =(TabIPW[[#This Row],[liczba osób korzystających ze środowiskowej pomocy społecznej (łącznie z filiami)]]/$AC$2*$AC$3+TabIPW[[#This Row],[liczba bezrobotnych]]/$AD$2*$AD$3)*$AB$2 -> 0.001088052 | AC2426: 1963 | AD2426: 2044 | AE2426: =TabIPW[[#This Row],[liczba pracujących ogółem ]]/$AF$2*$AE$2 -> 0.00049411529 | AF2426: 19753 | AG2426: =TabIPW[[#This Row],[iloczyn liczby mieszkańców i relacji przeciętnego miesięcznego wynagrodzenia brutto do średniej krajowej]]/$AH$2*$AG$2 -> 0.00053811756 | AH2426: 45984.2 | AI2426: =TabIPW[[#This Row],[suma powierzchni parków spac.-wyp., zieleńców i terenów zieleni osiedlowej oraz średniej pow. objętej utrzymaniem czystości i porządku przez gminy w okresie letnim i w okresie zimowym – będąca w gestii miasta '[w ha']]]/$AJ$2*$AI$2 -> 9.7859774e-05 | AJ2426: 125.25 | AK2426: =TabIPW[[#This Row],[iloczyn liczby mieszkańców i relacji przeciętnego miesięcznego wynagrodzenia brutto do średniej krajowej]]/$AL$2*$AK$2 -> 0.00021524702 | AL2426: =TabIPW[[#This Row],[iloczyn liczby mieszkańców i relacji przeciętnego miesięcznego wynagrodzenia brutto do średniej krajowej]] -> 45984.2 | AM2426: =TabIPW[[#This Row],[liczba mieszkańców]]/$AN$2*$AM$2 -> 0.00039453112 | AN2426: 53470
A2427: Mnpp | B2427: 06 | C2427: 62 | F2427: =+Tabela1[[#This Row],[WK]]&Tabela1[[#This Row],[PK]]&Tabela1[[#This Row],[GK]] -> 0662 | G2427: Chełm | I2427: 55661 | K2427: 0 | M2427: 47701.477 | O2427: 0 | Q2427: 2396 | S2427: 0 | U2427: 0 | X2427: =TabIPW[[#This Row],[liczba oddziałów w szkołach podstawowych, ponadpodstawowych i policealnych]]/$Y$2*$X$2 -> 0.000758823 | Y2427: 507 | Z2427: =TabIPW[[#This Row],[liczba dzieci uczęszczających do przedszkoli, oddziałów przedszkolnych w szkołach podstawowych i innych form wychowania przedszkolnego prowadzonych przez jednostki samorządu terytorialnego, osoby prawne niebędące jednostkami samorządu terytorialnego or2]]/$AA$2*$Z$2 -> 0.00083700993 | AA2427: 2396 | AB2427: =(TabIPW[[#This Row],[liczba osób korzystających ze środowiskowej pomocy społecznej (łącznie z filiami)]]/$AC$2*$AC$3+TabIPW[[#This Row],[liczba bezrobotnych]]/$AD$2*$AD$3)*$AB$2 -> 0.0010173742 | AC2427: 1808 | AD2427: 2015 | AE2427: =TabIPW[[#This Row],[liczba pracujących ogółem ]]/$AF$2*$AE$2 -> 0.00045946994 | AF2427: 18368 | AG2427: =TabIPW[[#This Row],[iloczyn liczby mieszkańców i relacji przeciętnego miesięcznego wynagrodzenia brutto do średniej krajowej]]/$AH$2*$AG$2 -> 0.00055821352 | AH2427: 47701.477 | AI2427: =TabIPW[[#This Row],[suma powierzchni parków spac.-wyp., zieleńców i terenów zieleni osiedlowej oraz średniej pow. objętej utrzymaniem czystości i porządku przez gminy w okresie letnim i w okresie zimowym – będąca w gestii miasta '[w ha']]]/$AJ$2*$AI$2 -> 0.00019888388 | AJ2427: 254.55 | AK2427: =TabIPW[[#This Row],[iloczyn liczby mieszkańców i relacji przeciętnego miesięcznego wynagrodzenia brutto do średniej krajowej]]/$AL$2*$AK$2 -> 0.00022328541 | AL2427: =TabIPW[[#This Row],[iloczyn liczby mieszkańców i relacji przeciętnego miesięcznego wynagrodzenia brutto do średniej krajowej]] -> 47701.477 | AM2427: =TabIPW[[#This Row],[liczba mieszkańców]]/$AN$2*$AM$2 -> 0.00041069752 | AN2427: 55661
A2428: Mnpp | B2428: 06 | C2428: 63 | F2428: =+Tabela1[[#This Row],[WK]]&Tabela1[[#This Row],[PK]]&Tabela1[[#This Row],[GK]] -> 0663 | G2428: Lublin | I2428: 326685 | K2428: 0 | M2428: 322111.41 | O2428: 0 | Q2428: 13990 | S2428: 0 | U2428: 0 | X2428: =TabIPW[[#This Row],[liczba oddziałów w szkołach podstawowych, ponadpodstawowych i policealnych]]/$Y$2*$X$2 -> 0.0043613614 | Y2428: 2914 | Z2428: =TabIPW[[#This Row],[liczba dzieci uczęszczających do przedszkoli, oddziałów przedszkolnych w szkołach podstawowych i innych form wychowania przedszkolnego prowadzonych przez jednostki samorządu terytorialnego, osoby prawne niebędące jednostkami samorządu terytorialnego or2]]/$AA$2*$Z$2 -> 0.0048872157 | AA2428: 13990 | AB2428: =(TabIPW[[#This Row],[liczba osób korzystających ze środowiskowej pomocy społecznej (łącznie z filiami)]]/$AC$2*$AC$3+TabIPW[[#This Row],[liczba bezrobotnych]]/$AD$2*$AD$3)*$AB$2 -> 0.0037368507 | AC2428: 6398 | AD2428: 8318 | AE2428: =TabIPW[[#This Row],[liczba pracujących ogółem ]]/$AF$2*$AE$2 -> 0.0044096407 | AF2428: 176282 | AG2428: =TabIPW[[#This Row],[iloczyn liczby mieszkańców i relacji przeciętnego miesięcznego wynagrodzenia brutto do średniej krajowej]]/$AH$2*$AG$2 -> 0.0037694209 | AH2428: 322111.41 | AI2428: =TabIPW[[#This Row],[suma powierzchni parków spac.-wyp., zieleńców i terenów zieleni osiedlowej oraz średniej pow. objętej utrzymaniem czystości i porządku przez gminy w okresie letnim i w okresie zimowym – będąca w gestii miasta '[w ha']]]/$AJ$2*$AI$2 -> 0.0012314861 | AJ2428: 1576.17 | AK2428: =TabIPW[[#This Row],[iloczyn liczby mieszkańców i relacji przeciętnego miesięcznego wynagrodzenia brutto do średniej krajowej]]/$AL$2*$AK$2 -> 0.0015077684 | AL2428: =TabIPW[[#This Row],[iloczyn liczby mieszkańców i relacji przeciętnego miesięcznego wynagrodzenia brutto do średniej krajowej]] -> 322111.41 | AM2428: =TabIPW[[#This Row],[liczba mieszkańców]]/$AN$2*$AM$2 -> 0.0024104619 | AN2428: 326685
A2429: Mnpp | B2429: 06 | C2429: 64 | F2429: =+Tabela1[[#This Row],[WK]]&Tabela1[[#This Row],[PK]]&Tabela1[[#This Row],[GK]] -> 0664 | G2429: Zamość | I2429: 56844 | K2429: 0 | M2429: 51557.508 | O2429: 0 | Q2429: 2359 | S2429: 0 | U2429: 0 | X2429: =TabIPW[[#This Row],[liczba oddziałów w szkołach podstawowych, ponadpodstawowych i policealnych]]/$Y$2*$X$2 -> 0.0010865986 | Y2429: 726 | Z2429: =TabIPW[[#This Row],[liczba dzieci uczęszczających do przedszkoli, oddziałów przedszkolnych w szkołach podstawowych i innych form wychowania przedszkolnego prowadzonych przez jednostki samorządu terytorialnego, osoby prawne niebędące jednostkami samorządu terytorialnego or2]]/$AA$2*$Z$2 -> 0.00082408448 | AA2429: 2359 | AB2429: =(TabIPW[[#This Row],[liczba osób korzystających ze środowiskowej pomocy społecznej (łącznie z filiami)]]/$AC$2*$AC$3+TabIPW[[#This Row],[liczba bezrobotnych]]/$AD$2*$AD$3)*$AB$2 -> 0.0011561122 | AC2429: 2059 | AD2429: 2273 | AE2429: =TabIPW[[#This Row],[liczba pracujących ogółem ]]/$AF$2*$AE$2 -> 0.00082260828 | AF2429: 32885 | AG2429: =TabIPW[[#This Row],[iloczyn liczby mieszkańców i relacji przeciętnego miesięcznego wynagrodzenia brutto do średniej krajowej]]/$AH$2*$AG$2 -> 0.00060333767 | AH2429: 51557.508 | AI2429: =TabIPW[[#This Row],[suma powierzchni parków spac.-wyp., zieleńców i terenów zieleni osiedlowej oraz średniej pow. objętej utrzymaniem czystości i porządku przez gminy w okresie letnim i w okresie zimowym – będąca w gestii miasta '[w ha']]]/$AJ$2*$AI$2 -> 0.00021916683 | AJ2429: 280.51 | AK2429: =TabIPW[[#This Row],[iloczyn liczby mieszkańców i relacji przeciętnego miesięcznego wynagrodzenia brutto do średniej krajowej]]/$AL$2*$AK$2 -> 0.00024133507 | AL2429: =TabIPW[[#This Row],[iloczyn liczby mieszkańców i relacji przeciętnego miesięcznego wynagrodzenia brutto do średniej krajowej]] -> 51557.508 | AM2429: =TabIPW[[#This Row],[liczba mieszkańców]]/$AN$2*$AM$2 -> 0.00041942635 | AN2429: 56844
... A2483: Mnpp | B2483: 32 | C2483: 63 | F2483: =+Tabela1[[#This Row],[WK]]&Tabela1[[#This Row],[PK]]&Tabela1[[#This Row],[GK]] -> 3263 | G2483: Świnoujście | I2483: 38188 | K2483: 0 | M2483: 34942.02 | O2483: 0 | Q2483: 1226 | S2483: 0 | U2483: 0 | X2483: =TabIPW[[#This Row],[liczba oddziałów w szkołach podstawowych, ponadpodstawowych i policealnych]]/$Y$2*$X$2 -> 0.00034573592 | Y2483: 231 | Z2483: =TabIPW[[#This Row],[liczba dzieci uczęszczających do przedszkoli, oddziałów przedszkolnych w szkołach podstawowych i innych form wychowania przedszkolnego prowadzonych przez jednostki samorządu terytorialnego, osoby prawne niebędące jednostkami samorządu terytorialnego or2]]/$AA$2*$Z$2 -> 0.00042828638 | AA2483: 1226 | AB2483: =(TabIPW[[#This Row],[liczba osób korzystających ze środowiskowej pomocy społecznej (łącznie z filiami)]]/$AC$2*$AC$3+TabIPW[[#This Row],[liczba bezrobotnych]]/$AD$2*$AD$3)*$AB$2 -> 0.00048127646 | AC2483: 916 | AD2483: 724 | AE2483: =TabIPW[[#This Row],[liczba pracujących ogółem ]]/$AF$2*$AE$2 -> 0.00028451715 | AF2483: 11374 | AG2483: =TabIPW[[#This Row],[iloczyn liczby mieszkańców i relacji przeciętnego miesięcznego wynagrodzenia brutto do średniej krajowej]]/$AH$2*$AG$2 -> 0.00040889946 | AH2483: 34942.02 | AI2483: =TabIPW[[#This Row],[suma powierzchni parków spac.-wyp., zieleńców i terenów zieleni osiedlowej oraz średniej pow. objętej utrzymaniem czystości i porządku przez gminy w okresie letnim i w okresie zimowym – będąca w gestii miasta '[w ha']]]/$AJ$2*$AI$2 -> 0.00017986665 | AJ2483: 230.21 | AK2483: =TabIPW[[#This Row],[iloczyn liczby mieszkańców i relacji przeciętnego miesięcznego wynagrodzenia brutto do średniej krajowej]]/$AL$2*$AK$2 -> 0.00016355978 | AL2483: =TabIPW[[#This Row],[iloczyn liczby mieszkańców i relacji przeciętnego miesięcznego wynagrodzenia brutto do średniej krajowej]] -> 34942.02 | AM2483: =TabIPW[[#This Row],[liczba mieszkańców]]/$AN$2*$AM$2 -> 0.0002817721 | AN2483: 38188
A2484: Pow | B2484: 02 | C2484: 01 | F2484: =+Tabela1[[#This Row],[WK]]&Tabela1[[#This Row],[PK]]&Tabela1[[#This Row],[GK]] -> 0201 | G2484: bolesławiecki | I2484: 86878 | K2484: 0 | M2484: 79232.736 | O2484: 0 | Q2484: 0 | S2484: 0 | U2484: 0 | AO2484: =TabIPW[[#This Row],[iloczyn liczby mieszkańców i relacji przeciętnego miesięcznego wynagrodzenia brutto do średniej krajowej2]]/$AP$2*$AO$2 -> 0.0014525625 | AP2484: 79232.736 | AQ2484: =((TabIPW[[#This Row],[liczba mieszkańców zakładów stacjonarnych pomocy społecznej podleglych samorządowi powiatu (łącznie z filiami)]]/$AR$2*$AR$3)+(TabIPW[[#This Row],[liczba bezrobotnych zarejestrowanych]]/$AS$2*$AS$3))*$AQ$2 -> 0.00032336479 | AR2484: 0 | AS2484: 1403 | AT2484: =((TabIPW[[#This Row],[długość dróg powiatowych o nawierzchni twardej '[w km']]]/$AU$2*$AU$3)+(TabIPW[[#This Row],[liczba mieszkańców w wieku 20-64 '']]/$AV$2*$AV$3))*$AT$2 -> 0.00040249205 | AU2484: 311.4 | AV2484: 51410 | AW2484: =TabIPW[[#This Row],[liczba oddziałów w szkołach ponadpodstawowych i policealnych]]/$AX$2*$AW$2 -> 0.00070413496 | AX2484: 192 | AY2484: =TabIPW[[#This Row],[liczba mieszkańców'']]/$AZ$2*$AY$2 -> 0.00024195193 | AZ2484: 86878
A2485: Pow | B2485: 02 | C2485: 02 | F2485: =+Tabela1[[#This Row],[WK]]&Tabela1[[#This Row],[PK]]&Tabela1[[#This Row],[GK]] -> 0202 | G2485: dzierżoniowski | I2485: 92968 | K2485: 0 | M2485: 80045.448 | O2485: 0 | Q2485: 0 | S2485: 0 | U2485: 0 | AO2485: =TabIPW[[#This Row],[iloczyn liczby mieszkańców i relacji przeciętnego miesięcznego wynagrodzenia brutto do średniej krajowej2]]/$AP$2*$AO$2 -> 0.0014674619 | AP2485: 80045.448 | AQ2485: =((TabIPW[[#This Row],[liczba mieszkańców zakładów stacjonarnych pomocy społecznej podleglych samorządowi powiatu (łącznie z filiami)]]/$AR$2*$AR$3)+(TabIPW[[#This Row],[liczba bezrobotnych zarejestrowanych]]/$AS$2*$AS$3))*$AQ$2 -> 0.00081642997 | AR2485: 125 | AS2485: 2477 | AT2485: =((TabIPW[[#This Row],[długość dróg powiatowych o nawierzchni twardej '[w km']]]/$AU$2*$AU$3)+(TabIPW[[#This Row],[liczba mieszkańców w wieku 20-64 '']]/$AV$2*$AV$3))*$AT$2 -> 0.00039941038 | AU2485: 203.3 | AV2485: 53808 | AW2485: =TabIPW[[#This Row],[liczba oddziałów w szkołach ponadpodstawowych i policealnych]]/$AX$2*$AW$2 -> 0.00063812231 | AX2485: 174 | AY2485: =TabIPW[[#This Row],[liczba mieszkańców'']]/$AZ$2*$AY$2 -> 0.00025891235 | AZ2485: 92968
A2486: Pow | B2486: 02 | C2486: 03 | F2486: =+Tabela1[[#This Row],[WK]]&Tabela1[[#This Row],[PK]]&Tabela1[[#This Row],[GK]] -> 0203 | G2486: głogowski | I2486: 83761 | K2486: 0 | M2486: 75384.9 | O2486: 0 | Q2486: 0 | S2486: 0 | U2486: 0 | AO2486: =TabIPW[[#This Row],[iloczyn liczby mieszkańców i relacji przeciętnego miesięcznego wynagrodzenia brutto do średniej krajowej2]]/$AP$2*$AO$2 -> 0.0013820207 | AP2486: 75384.9 | AQ2486: =((TabIPW[[#This Row],[liczba mieszkańców zakładów stacjonarnych pomocy społecznej podleglych samorządowi powiatu (łącznie z filiami)]]/$AR$2*$AR$3)+(TabIPW[[#This Row],[liczba bezrobotnych zarejestrowanych]]/$AS$2*$AS$3))*$AQ$2 -> 0.00073427893 | AR2486: 128 | AS2486: 2095 | AT2486: =((TabIPW[[#This Row],[długość dróg powiatowych o nawierzchni twardej '[w km']]]/$AU$2*$AU$3)+(TabIPW[[#This Row],[liczba mieszkańców w wieku 20-64 '']]/$AV$2*$AV$3))*$AT$2 -> 0.00034852076 | AU2486: 134.5 | AV2486: 48085 | AW2486: =TabIPW[[#This Row],[liczba oddziałów w szkołach ponadpodstawowych i policealnych]]/$AX$2*$AW$2 -> 0.0010745393 | AX2486: 293 | AY2486: =TabIPW[[#This Row],[liczba mieszkańców'']]/$AZ$2*$AY$2 -> 0.0002332712 | AZ2486: 83761
A2487: Pow | B2487: 02 | C2487: 04 | F2487: =+Tabela1[[#This Row],[WK]]&Tabela1[[#This Row],[PK]]&Tabela1[[#This Row],[GK]] -> 0204 | G2487: górowski | I2487: 31722 | K2487: 0 | M2487: 26995.422 | O2487: 0 | Q2487: 0 | S2487: 0 | U2487: 0 | AO2487: =TabIPW[[#This Row],[iloczyn liczby mieszkańców i relacji przeciętnego miesięcznego wynagrodzenia brutto do średniej krajowej2]]/$AP$2*$AO$2 -> 0.00049490325 | AP2487: 26995.422 | AQ2487: =((TabIPW[[#This Row],[liczba mieszkańców zakładów stacjonarnych pomocy społecznej podleglych samorządowi powiatu (łącznie z filiami)]]/$AR$2*$AR$3)+(TabIPW[[#This Row],[liczba bezrobotnych zarejestrowanych]]/$AS$2*$AS$3))*$AQ$2 -> 0.00049382988 | AR2487: 72 | AS2487: 1529 | AT2487: =((TabIPW[[#This Row],[długość dróg powiatowych o nawierzchni twardej '[w km']]]/$AU$2*$AU$3)+(TabIPW[[#This Row],[liczba mieszkańców w wieku 20-64 '']]/$AV$2*$AV$3))*$AT$2 -> 0.00017447604 | AU2487: 268.2 | AV2487: 18768 | AW2487: =TabIPW[[#This Row],[liczba oddziałów w szkołach ponadpodstawowych i policealnych]]/$AX$2*$AW$2 -> 0.00024571376 | AX2487: 67 | AY2487: =TabIPW[[#This Row],[liczba mieszkańców'']]/$AZ$2*$AY$2 -> 8.8344564e-05 | AZ2487: 31722
A2488: Pow | B2488: 02 | C2488: 05 | F2488: =+Tabela1[[#This Row],[WK]]&Tabela1[[#This Row],[PK]]&Tabela1[[#This Row],[GK]] -> 0205 | G2488: jaworski | I2488: 46284 | K2488: 0 | M2488: 43044.12 | O2488: 0 | Q2488: 0 | S2488: 0 | U2488: 0 | AO2488: =TabIPW[[#This Row],[iloczyn liczby mieszkańców i relacji przeciętnego miesięcznego wynagrodzenia brutto do średniej krajowej2]]/$AP$2*$AO$2 -> 0.00078912176 | AP2488: 43044.12 | AQ2488: =((TabIPW[[#This Row],[liczba mieszkańców zakładów stacjonarnych pomocy społecznej podleglych samorządowi powiatu (łącznie z filiami)]]/$AR$2*$AR$3)+(TabIPW[[#This Row],[liczba bezrobotnych zarejestrowanych]]/$AS$2*$AS$3))*$AQ$2 -> 0.00074699951 | AR2488: 159 | AS2488: 1886 | AT2488: =((TabIPW[[#This Row],[długość dróg powiatowych o nawierzchni twardej '[w km']]]/$AU$2*$AU$3)+(TabIPW[[#This Row],[liczba mieszkańców w wieku 20-64 '']]/$AV$2*$AV$3))*$AT$2 -> 0.00023599901 | AU2488: 300.7 | AV2488: 27025 | AW2488: =TabIPW[[#This Row],[liczba oddziałów w szkołach ponadpodstawowych i policealnych]]/$AX$2*$AW$2 -> 0.00026405061 | AX2488: 72 | AY2488: =TabIPW[[#This Row],[liczba mieszkańców'']]/$AZ$2*$AY$2 -> 0.00012889918 | AZ2488: 46284
A2489: Pow | B2489: 02 | C2489: 06 | F2489: =+Tabela1[[#This Row],[WK]]&Tabela1[[#This Row],[PK]]&Tabela1[[#This Row],[GK]] -> 0206 | G2489: jeleniogórski | I2489: 59279 | K2489: 0 | M2489: 49735.081 | O2489: 0 | Q2489: 0 | S2489: 0 | U2489: 0 | AO2489: =TabIPW[[#This Row],[iloczyn liczby mieszkańców i relacji przeciętnego miesięcznego wynagrodzenia brutto do średniej krajowej2]]/$AP$2*$AO$2 -> 0.0009117862 | AP2489: 49735.081 | AQ2489: =((TabIPW[[#This Row],[liczba mieszkańców zakładów stacjonarnych pomocy społecznej podleglych samorządowi powiatu (łącznie z filiami)]]/$AR$2*$AR$3)+(TabIPW[[#This Row],[liczba bezrobotnych zarejestrowanych]]/$AS$2*$AS$3))*$AQ$2 -> 0.0010297589 | AR2489: 308 | AS2489: 1843 | AT2489: =((TabIPW[[#This Row],[długość dróg powiatowych o nawierzchni twardej '[w km']]]/$AU$2*$AU$3)+(TabIPW[[#This Row],[liczba mieszkańców w wieku 20-64 '']]/$AV$2*$AV$3))*$AT$2 -> 0.00028355861 | AU2489: 261.9 | AV2489: 35096 | AW2489: =TabIPW[[#This Row],[liczba oddziałów w szkołach ponadpodstawowych i policealnych]]/$AX$2*$AW$2 -> 0.00023104428 | AX2489: 63 | AY2489: =TabIPW[[#This Row],[liczba mieszkańców'']]/$AZ$2*$AY$2 -> 0.00016508976 | AZ2489: 59279
A2490: Pow | B2490: 02 | C2490: 07 | F2490: =+Tabela1[[#This Row],[WK]]&Tabela1[[#This Row],[PK]]&Tabela1[[#This Row],[GK]] -> 0207 | G2490: kamiennogórski | I2490: 39466 | K2490: 0 | M2490: 32756.78 | O2490: 0 | Q2490: 0 | S2490: 0 | U2490: 0 | AO2490: =TabIPW[[#This Row],[iloczyn liczby mieszkańców i relacji przeciętnego miesięcznego wynagrodzenia brutto do średniej krajowej2]]/$AP$2*$AO$2 -> 0.00060052541 | AP2490: 32756.78 | AQ2490: =((TabIPW[[#This Row],[liczba mieszkańców zakładów stacjonarnych pomocy społecznej podleglych samorządowi powiatu (łącznie z filiami)]]/$AR$2*$AR$3)+(TabIPW[[#This Row],[liczba bezrobotnych zarejestrowanych]]/$AS$2*$AS$3))*$AQ$2 -> 0.00052148631 | AR2490: 139 | AS2490: 1078 | AT2490: =((TabIPW[[#This Row],[długość dróg powiatowych o nawierzchni twardej '[w km']]]/$AU$2*$AU$3)+(TabIPW[[#This Row],[liczba mieszkańców w wieku 20-64 '']]/$AV$2*$AV$3))*$AT$2 -> 0.00019218318 | AU2490: 186.8 | AV2490: 23541 | AW2490: =TabIPW[[#This Row],[liczba oddziałów w szkołach ponadpodstawowych i policealnych]]/$AX$2*$AW$2 -> 0.00023104428 | AX2490: 63 | AY2490: =TabIPW[[#This Row],[liczba mieszkańców'']]/$AZ$2*$AY$2 -> 0.00010991131 | AZ2490: 39466
A2491: Pow | B2491: 02 | C2491: 08 | F2491: =+Tabela1[[#This Row],[WK]]&Tabela1[[#This Row],[PK]]&Tabela1[[#This Row],[GK]] -> 0208 | G2491: kłodzki | I2491: 143484 | K2491: 0 | M2491: 126122.44 | O2491: 0 | Q2491: 0 | S2491: 0 | U2491: 0 | AO2491: =TabIPW[[#This Row],[iloczyn liczby mieszkańców i relacji przeciętnego miesięcznego wynagrodzenia brutto do średniej krajowej2]]/$AP$2*$AO$2 -> 0.0023121848 | AP2491: 126122.44 | AQ2491: =((TabIPW[[#This Row],[liczba mieszkańców zakładów stacjonarnych pomocy społecznej podleglych samorządowi powiatu (łącznie z filiami)]]/$AR$2*$AR$3)+(TabIPW[[#This Row],[liczba bezrobotnych zarejestrowanych]]/$AS$2*$AS$3))*$AQ$2 -> 0.0023587023 | AR2491: 463 | AS2491: 6288 | AT2491: =((TabIPW[[#This Row],[długość dróg powiatowych o nawierzchni twardej '[w km']]]/$AU$2*$AU$3)+(TabIPW[[#This Row],[liczba mieszkańców w wieku 20-64 '']]/$AV$2*$AV$3))*$AT$2 -> 0.00067807153 | AU2491: 657.4 | AV2491: 83103 | AW2491: =TabIPW[[#This Row],[liczba oddziałów w szkołach ponadpodstawowych i policealnych]]/$AX$2*$AW$2 -> 0.001151554 | AX2491: 314 | AY2491: =TabIPW[[#This Row],[liczba mieszkańców'']]/$AZ$2*$AY$2 -> 0.00039959749 | AZ2491: 143484
A2492: Pow | B2492: 02 | C2492: 09 | F2492: =+Tabela1[[#This Row],[WK]]&Tabela1[[#This Row],[PK]]&Tabela1[[#This Row],[GK]] -> 0209 | G2492: legnicki | I2492: 54773 | K2492: 0 | M2492: 48528.878 | O2492: 0 | Q2492: 0 | S2492: 0 | U2492: 0 | AO2492: =TabIPW[[#This Row],[iloczyn liczby mieszkańców i relacji przeciętnego miesięcznego wynagrodzenia brutto do średniej krajowej2]]/$AP$2*$AO$2 -> 0.00088967305 | AP2492: 48528.878 | AQ2492: =((TabIPW[[#This Row],[liczba mieszkańców zakładów stacjonarnych pomocy społecznej podleglych samorządowi powiatu (łącznie z filiami)]]/$AR$2*$AR$3)+(TabIPW[[#This Row],[liczba bezrobotnych zarejestrowanych]]/$AS$2*$AS$3))*$AQ$2 -> 0.0013784625 | AR2492: 507 | AS2492: 1660 | AT2492: =((TabIPW[[#This Row],[długość dróg powiatowych o nawierzchni twardej '[w km']]]/$AU$2*$AU$3)+(TabIPW[[#This Row],[liczba mieszkańców w wieku 20-64 '']]/$AV$2*$AV$3))*$AT$2 -> 0.00027641529 | AU2492: 327.4 | AV2492: 32308 | AW2492: =TabIPW[[#This Row],[liczba oddziałów w szkołach ponadpodstawowych i policealnych]]/$AX$2*$AW$2 -> 7.3347392e-05 | AX2492: 20 | AY2492: =TabIPW[[#This Row],[liczba mieszkańców'']]/$AZ$2*$AY$2 -> 0.00015254072 | AZ2492: 54773
A2493: Pow | B2493: 02 | C2493: 10 | F2493: =+Tabela1[[#This Row],[WK]]&Tabela1[[#This Row],[PK]]&Tabela1[[#This Row],[GK]] -> 0210 | G2493: lubański | I2493: 50392 | K2493: 0 | M2493: 42278.888 | O2493: 0 | Q2493: 0 | S2493: 0 | U2493: 0 | AO2493: =TabIPW[[#This Row],[iloczyn liczby mieszkańców i relacji przeciętnego miesięcznego wynagrodzenia brutto do średniej krajowej2]]/$AP$2*$AO$2 -> 0.00077509287 | AP2493: 42278.888 | AQ2493: =((TabIPW[[#This Row],[liczba mieszkańców zakładów stacjonarnych pomocy społecznej podleglych samorządowi powiatu (łącznie z filiami)]]/$AR$2*$AR$3)+(TabIPW[[#This Row],[liczba bezrobotnych zarejestrowanych]]/$AS$2*$AS$3))*$AQ$2 -> 0.00027588571 | AR2493: 0 | AS2493: 1197 | AT2493: =((TabIPW[[#This Row],[długość dróg powiatowych o nawierzchni twardej '[w km']]]/$AU$2*$AU$3)+(TabIPW[[#This Row],[liczba mieszkańców w wieku 20-64 '']]/$AV$2*$AV$3))*$AT$2 -> 0.00023252349 | AU2493: 176 | AV2493: 29803 | AW2493: =TabIPW[[#This Row],[liczba oddziałów w szkołach ponadpodstawowych i policealnych]]/$AX$2*$AW$2 -> 0.00044008435 | AX2493: 120 | AY2493: =TabIPW[[#This Row],[liczba mieszkańców'']]/$AZ$2*$AY$2 -> 0.0001403398 | AZ2493: 50392
A2494: Pow | B2494: 02 | C2494: 11 | F2494: =+Tabela1[[#This Row],[WK]]&Tabela1[[#This Row],[PK]]&Tabela1[[#This Row],[GK]] -> 0211 | G2494: lubiński | I2494: 101752 | K2494: 0 | M2494: 161175.17 | O2494: 0 | Q2494: 0 | S2494: 0 | U2494: 0 | AO2494: =TabIPW[[#This Row],[iloczyn liczby mieszkańców i relacji przeciętnego miesięcznego wynagrodzenia brutto do średniej krajowej2]]/$AP$2*$AO$2 -> 0.0029548015 | AP2494: 161175.17 | AQ2494: =((TabIPW[[#This Row],[liczba mieszkańców zakładów stacjonarnych pomocy społecznej podleglych samorządowi powiatu (łącznie z filiami)]]/$AR$2*$AR$3)+(TabIPW[[#This Row],[liczba bezrobotnych zarejestrowanych]]/$AS$2*$AS$3))*$AQ$2 -> 0.00039389196 | AR2494: 0 | AS2494: 1709 | AT2494: =((TabIPW[[#This Row],[długość dróg powiatowych o nawierzchni twardej '[w km']]]/$AU$2*$AU$3)+(TabIPW[[#This Row],[liczba mieszkańców w wieku 20-64 '']]/$AV$2*$AV$3))*$AT$2 -> 0.00043304657 | AU2494: 221.8 | AV2494: 58303 | AW2494: =TabIPW[[#This Row],[liczba oddziałów w szkołach ponadpodstawowych i policealnych]]/$AX$2*$AW$2 -> 0.0010231961 | AX2494: 279 | AY2494: =TabIPW[[#This Row],[liczba mieszkańców'']]/$AZ$2*$AY$2 -> 0.00028337545 | AZ2494: 101752
A2495: Pow | B2495: 02 | C2495: 12 | F2495: =+Tabela1[[#This Row],[WK]]&Tabela1[[#This Row],[PK]]&Tabela1[[#This Row],[GK]] -> 0212 | G2495: lwówecki | I2495: 41941 | K2495: 0 | M2495: 35188.499 | O2495: 0 | Q2495: 0 | S2495: 0 | U2495: 0 | AO2495: =TabIPW[[#This Row],[iloczyn liczby mieszkańców i relacji przeciętnego miesięcznego wynagrodzenia brutto do średniej krajowej2]]/$AP$2*$AO$2 -> 0.00064510577 | AP2495: 35188.499 | AQ2495: =((TabIPW[[#This Row],[liczba mieszkańców zakładów stacjonarnych pomocy społecznej podleglych samorządowi powiatu (łącznie z filiami)]]/$AR$2*$AR$3)+(TabIPW[[#This Row],[liczba bezrobotnych zarejestrowanych]]/$AS$2*$AS$3))*$AQ$2 -> 0.00060364035 | AR2495: 159 | AS2495: 1264 | AT2495: =((TabIPW[[#This Row],[długość dróg powiatowych o nawierzchni twardej '[w km']]]/$AU$2*$AU$3)+(TabIPW[[#This Row],[liczba mieszkańców w wieku 20-64 '']]/$AV$2*$AV$3))*$AT$2 -> 0.00022373783 | AU2495: 322.3 | AV2495: 24638 | AW2495: =TabIPW[[#This Row],[liczba oddziałów w szkołach ponadpodstawowych i policealnych]]/$AX$2*$AW$2 -> 0.00031539378 | AX2495: 86 | AY2495: =TabIPW[[#This Row],[liczba mieszkańców'']]/$AZ$2*$AY$2 -> 0.00011680409 | AZ2495: 41941
... A2797: Pow | B2797: 32 | C2797: 18 | F2797: =+Tabela1[[#This Row],[WK]]&Tabela1[[#This Row],[PK]]&Tabela1[[#This Row],[GK]] -> 3218 | G2797: łobeski | I2797: 32619 | K2797: 0 | M2797: 27889.245 | O2797: 0 | Q2797: 0 | S2797: 0 | U2797: 0 | AO2797: =TabIPW[[#This Row],[iloczyn liczby mieszkańców i relacji przeciętnego miesięcznego wynagrodzenia brutto do średniej krajowej2]]/$AP$2*$AO$2 -> 0.00051128958 | AP2797: 27889.245 | AQ2797: =((TabIPW[[#This Row],[liczba mieszkańców zakładów stacjonarnych pomocy społecznej podleglych samorządowi powiatu (łącznie z filiami)]]/$AR$2*$AR$3)+(TabIPW[[#This Row],[liczba bezrobotnych zarejestrowanych]]/$AS$2*$AS$3))*$AQ$2 -> 0.00062070322 | AR2797: 138 | AS2797: 1517 | AT2797: =((TabIPW[[#This Row],[długość dróg powiatowych o nawierzchni twardej '[w km']]]/$AU$2*$AU$3)+(TabIPW[[#This Row],[liczba mieszkańców w wieku 20-64 '']]/$AV$2*$AV$3))*$AT$2 -> 0.00019043275 | AU2797: 347.2 | AV2797: 19046 | AW2797: =TabIPW[[#This Row],[liczba oddziałów w szkołach ponadpodstawowych i policealnych]]/$AX$2*$AW$2 -> 0.00014669478 | AX2797: 40 | AY2797: =TabIPW[[#This Row],[liczba mieszkańców'']]/$AZ$2*$AY$2 -> 9.0842675e-05 | AZ2797: 32619
A2798: Woj. | B2798: 02 | F2798: =+Tabela1[[#This Row],[WK]]&Tabela1[[#This Row],[PK]]&Tabela1[[#This Row],[GK]] -> 02 | G2798: Dolnośląskie | I2798: 2857273 | K2798: 0 | M2798: 2934419.4 | O2798: 0 | Q2798: 0 | S2798: 0 | U2798: 0 | BA2798: =TabIPW[[#This Row],[liczba mieszkańców'''']]/$BB$2*$BA$2 -> 0.0038267893 | BB2798: 2857273 | BC2798: =TabIPW[[#This Row],[suma dł. linii kolejowych eksploatowanych i dł. dróg wojewódzkich o naw. twardej '[w km'] ]]/$BD$2*$BC$2 -> 0.030537978 | BD2798: 4173.6 | BE2798: =TabIPW[[#This Row],[iloczyn liczby mieszkańców i relacji przeciętnego miesięcznego wynagrodzenia brutto do średniej krajowej'']]/$BF$2*$BE$2 -> 0.012868791 | BF2798: 2934419.4 | BG2798: =TabIPW[[#This Row],[iloczyn liczby mieszkańców i relacji przeciętnego miesięcznego wynagrodzenia brutto do średniej krajowej'''''']]/$BH$2*$BG$2 -> 0.019303186 | BH2798: =TabIPW[[#This Row],[iloczyn liczby mieszkańców i relacji przeciętnego miesięcznego wynagrodzenia brutto do średniej krajowej'']] -> 2934419.4 | BI2798: =TabIPW[[#This Row],[suma liczby bezrobotnych zarejestrowanych i liczby osób w wieku poprodukcyjnym]]/$BJ$2*$BI$2 -> 0.0062906811 | BJ2798: 782255 | BK2798: =TabIPW[[#This Row],[liczba mieszkańców'''''']]/$BL$2*$BK$2 -> 0.0084189365 | BL2798: =TabIPW[[#This Row],[liczba mieszkańców'''']] -> 2857273
A2799: Woj. | B2799: 04 | F2799: =+Tabela1[[#This Row],[WK]]&Tabela1[[#This Row],[PK]]&Tabela1[[#This Row],[GK]] -> 04 | G2799: Kujawsko-pomorskie | I2799: 1971891 | K2799: 0 | M2799: 1760898.7 | O2799: 0 | Q2799: 0 | S2799: 0 | U2799: 0 | BA2799: =TabIPW[[#This Row],[liczba mieszkańców'''']]/$BB$2*$BA$2 -> 0.0026409837 | BB2799: 1971891 | BC2799: =TabIPW[[#This Row],[suma dł. linii kolejowych eksploatowanych i dł. dróg wojewódzkich o naw. twardej '[w km'] ]]/$BD$2*$BC$2 -> 0.022138132 | BD2799: 3025.6 | BE2799: =TabIPW[[#This Row],[iloczyn liczby mieszkańców i relacji przeciętnego miesięcznego wynagrodzenia brutto do średniej krajowej'']]/$BF$2*$BE$2 -> 0.0077223577 | BF2799: 1760898.7 | BG2799: =TabIPW[[#This Row],[iloczyn liczby mieszkańców i relacji przeciętnego miesięcznego wynagrodzenia brutto do średniej krajowej'''''']]/$BH$2*$BG$2 -> 0.011583537 | BH2799: =TabIPW[[#This Row],[iloczyn liczby mieszkańców i relacji przeciętnego miesięcznego wynagrodzenia brutto do średniej krajowej'']] -> 1760898.7 | BI2799: =TabIPW[[#This Row],[suma liczby bezrobotnych zarejestrowanych i liczby osób w wieku poprodukcyjnym]]/$BJ$2*$BI$2 -> 0.0043826286 | BJ2799: 544986 | BK2799: =TabIPW[[#This Row],[liczba mieszkańców'''''']]/$BL$2*$BK$2 -> 0.0058101641 | BL2799: =TabIPW[[#This Row],[liczba mieszkańców'''']] -> 1971891
A2800: Woj. | B2800: 06 | F2800: =+Tabela1[[#This Row],[WK]]&Tabela1[[#This Row],[PK]]&Tabela1[[#This Row],[GK]] -> 06 | G2800: Lubelskie | I2800: 1980772 | K2800: 0 | M2800: 1782694.8 | O2800: 0 | Q2800: 0 | S2800: 0 | U2800: 0 | BA2800: =TabIPW[[#This Row],[liczba mieszkańców'''']]/$BB$2*$BA$2 -> 0.0026528781 | BB2800: 1980772 | BC2800: =TabIPW[[#This Row],[suma dł. linii kolejowych eksploatowanych i dł. dróg wojewódzkich o naw. twardej '[w km'] ]]/$BD$2*$BC$2 -> 0.024770035 | BD2800: 3385.3 | BE2800: =TabIPW[[#This Row],[iloczyn liczby mieszkańców i relacji przeciętnego miesięcznego wynagrodzenia brutto do średniej krajowej'']]/$BF$2*$BE$2 -> 0.0078179439 | BF2800: 1782694.8 | BG2800: =TabIPW[[#This Row],[iloczyn liczby mieszkańców i relacji przeciętnego miesięcznego wynagrodzenia brutto do średniej krajowej'''''']]/$BH$2*$BG$2 -> 0.011726916 | BH2800: =TabIPW[[#This Row],[iloczyn liczby mieszkańców i relacji przeciętnego miesięcznego wynagrodzenia brutto do średniej krajowej'']] -> 1782694.8 | BI2800: =TabIPW[[#This Row],[suma liczby bezrobotnych zarejestrowanych i liczby osób w wieku poprodukcyjnym]]/$BJ$2*$BI$2 -> 0.0045582438 | BJ2800: 566824 | BK2800: =TabIPW[[#This Row],[liczba mieszkańców'''''']]/$BL$2*$BK$2 -> 0.0058363319 | BL2800: =TabIPW[[#This Row],[liczba mieszkańców'''']] -> 1980772
A2801: Woj. | B2801: 08 | F2801: =+Tabela1[[#This Row],[WK]]&Tabela1[[#This Row],[PK]]&Tabela1[[#This Row],[GK]] -> 08 | G2801: Lubuskie | I2801: 963601 | K2801: 0 | M2801: 880731.31 | O2801: 0 | Q2801: 0 | S2801: 0 | U2801: 0 | BA2801: =TabIPW[[#This Row],[liczba mieszkańców'''']]/$BB$2*$BA$2 -> 0.0012905655 | BB2801: 963601 | BC2801: =TabIPW[[#This Row],[suma dł. linii kolejowych eksploatowanych i dł. dróg wojewódzkich o naw. twardej '[w km'] ]]/$BD$2*$BC$2 -> 0.018230886 | BD2801: 2491.6 | BE2801: =TabIPW[[#This Row],[iloczyn liczby mieszkańców i relacji przeciętnego miesięcznego wynagrodzenia brutto do średniej krajowej'']]/$BF$2*$BE$2 -> 0.0038624155 | BF2801: 880731.31 | BG2801: =TabIPW[[#This Row],[iloczyn liczby mieszkańców i relacji przeciętnego miesięcznego wynagrodzenia brutto do średniej krajowej'''''']]/$BH$2*$BG$2 -> 0.0057936232 | BH2801: =TabIPW[[#This Row],[iloczyn liczby mieszkańców i relacji przeciętnego miesięcznego wynagrodzenia brutto do średniej krajowej'']] -> 880731.31 | BI2801: =TabIPW[[#This Row],[suma liczby bezrobotnych zarejestrowanych i liczby osób w wieku poprodukcyjnym]]/$BJ$2*$BI$2 -> 0.002091814 | BJ2801: 260120 | BK2801: =TabIPW[[#This Row],[liczba mieszkańców'''''']]/$BL$2*$BK$2 -> 0.0028392441 | BL2801: =TabIPW[[#This Row],[liczba mieszkańców'''']] -> 963601
A2802: Woj. | B2802: 10 | F2802: =+Tabela1[[#This Row],[WK]]&Tabela1[[#This Row],[PK]]&Tabela1[[#This Row],[GK]] -> 10 | G2802: Łódzkie | I2802: 2328825 | K2802: 0 | M2802: 2184437.9 | O2802: 0 | Q2802: 0 | S2802: 0 | U2802: 0 | BA2802: =TabIPW[[#This Row],[liczba mieszkańców'''']]/$BB$2*$BA$2 -> 0.0031190308 | BB2802: 2328825 | BC2802: =TabIPW[[#This Row],[suma dł. linii kolejowych eksploatowanych i dł. dróg wojewódzkich o naw. twardej '[w km'] ]]/$BD$2*$BC$2 -> 0.0177487 | BD2802: 2425.7 | BE2802: =TabIPW[[#This Row],[iloczyn liczby mieszkańców i relacji przeciętnego miesięcznego wynagrodzenia brutto do średniej krajowej'']]/$BF$2*$BE$2 -> 0.0095797736 | BF2802: 2184437.9 | BG2802: =TabIPW[[#This Row],[iloczyn liczby mieszkańców i relacji przeciętnego miesięcznego wynagrodzenia brutto do średniej krajowej'''''']]/$BH$2*$BG$2 -> 0.01436966 | BH2802: =TabIPW[[#This Row],[iloczyn liczby mieszkańców i relacji przeciętnego miesięcznego wynagrodzenia brutto do średniej krajowej'']] -> 2184437.9 | BI2802: =TabIPW[[#This Row],[suma liczby bezrobotnych zarejestrowanych i liczby osób w wieku poprodukcyjnym]]/$BJ$2*$BI$2 -> 0.0055032995 | BJ2802: 684343 | BK2802: =TabIPW[[#This Row],[liczba mieszkańców'''''']]/$BL$2*$BK$2 -> 0.0068618678 | BL2802: =TabIPW[[#This Row],[liczba mieszkańców'''']] -> 2328825
A2803: Woj. | B2803: 12 | F2803: =+Tabela1[[#This Row],[WK]]&Tabela1[[#This Row],[PK]]&Tabela1[[#This Row],[GK]] -> 12 | G2803: Małopolskie | I2803: 3429342 | K2803: 0 | M2803: 3504787.5 | O2803: 0 | Q2803: 0 | S2803: 0 | U2803: 0 | BA2803: =TabIPW[[#This Row],[liczba mieszkańców'''']]/$BB$2*$BA$2 -> 0.00459297 | BB2803: 3429342 | BC2803: =TabIPW[[#This Row],[suma dł. linii kolejowych eksploatowanych i dł. dróg wojewódzkich o naw. twardej '[w km'] ]]/$BD$2*$BC$2 -> 0.018678683 | BD2803: 2552.8 | BE2803: =TabIPW[[#This Row],[iloczyn liczby mieszkańców i relacji przeciętnego miesięcznego wynagrodzenia brutto do średniej krajowej'']]/$BF$2*$BE$2 -> 0.01537012 | BF2803: 3504787.5 | BG2803: =TabIPW[[#This Row],[iloczyn liczby mieszkańców i relacji przeciętnego miesięcznego wynagrodzenia brutto do średniej krajowej'''''']]/$BH$2*$BG$2 -> 0.023055179 | BH2803: =TabIPW[[#This Row],[iloczyn liczby mieszkańców i relacji przeciętnego miesięcznego wynagrodzenia brutto do średniej krajowej'']] -> 3504787.5 | BI2803: =TabIPW[[#This Row],[suma liczby bezrobotnych zarejestrowanych i liczby osób w wieku poprodukcyjnym]]/$BJ$2*$BI$2 -> 0.0067056101 | BJ2803: 833852 | BK2803: =TabIPW[[#This Row],[liczba mieszkańców'''''']]/$BL$2*$BK$2 -> 0.010104534 | BL2803: =TabIPW[[#This Row],[liczba mieszkańców'''']] -> 3429342
A2804: Woj. | B2804: 14 | F2804: =+Tabela1[[#This Row],[WK]]&Tabela1[[#This Row],[PK]]&Tabela1[[#This Row],[GK]] -> 14 | G2804: Mazowieckie | I2804: 5505857 | K2804: 0 | M2804: 6392300 | O2804: 0 | Q2804: 0 | S2804: 0 | U2804: 0 | BA2804: =TabIPW[[#This Row],[liczba mieszkańców'''']]/$BB$2*$BA$2 -> 0.0073740782 | BB2804: 5505857 | BC2804: =TabIPW[[#This Row],[suma dł. linii kolejowych eksploatowanych i dł. dróg wojewódzkich o naw. twardej '[w km'] ]]/$BD$2*$BC$2 -> 0.034938385 | BD2804: 4775 | BE2804: =TabIPW[[#This Row],[iloczyn liczby mieszkańców i relacji przeciętnego miesięcznego wynagrodzenia brutto do średniej krajowej'']]/$BF$2*$BE$2 -> 0.028033201 | BF2804: 6392300 | BG2804: =TabIPW[[#This Row],[iloczyn liczby mieszkańców i relacji przeciętnego miesięcznego wynagrodzenia brutto do średniej krajowej'''''']]/$BH$2*$BG$2 -> 0.042049802 | BH2804: =TabIPW[[#This Row],[iloczyn liczby mieszkańców i relacji przeciętnego miesięcznego wynagrodzenia brutto do średniej krajowej'']] -> 6392300 | BI2804: =TabIPW[[#This Row],[suma liczby bezrobotnych zarejestrowanych i liczby osób w wieku poprodukcyjnym]]/$BJ$2*$BI$2 -> 0.010995381 | BJ2804: 1367291 | BK2804: =TabIPW[[#This Row],[liczba mieszkańców'''''']]/$BL$2*$BK$2 -> 0.016222972 | BL2804: =TabIPW[[#This Row],[liczba mieszkańców'''']] -> 5505857
A2805: Woj. | B2805: 16 | F2805: =+Tabela1[[#This Row],[WK]]&Tabela1[[#This Row],[PK]]&Tabela1[[#This Row],[GK]] -> 16 | G2805: Opolskie | I2805: 923536 | K2805: 0 | M2805: 851500.19 | O2805: 0 | Q2805: 0 | S2805: 0 | U2805: 0 | BA2805: =TabIPW[[#This Row],[liczba mieszkańców'''']]/$BB$2*$BA$2 -> 0.0012369058 | BB2805: 923536 | BC2805: =TabIPW[[#This Row],[suma dł. linii kolejowych eksploatowanych i dł. dróg wojewódzkich o naw. twardej '[w km'] ]]/$BD$2*$BC$2 -> 0.013152198 | BD2805: 1797.5 | BE2805: =TabIPW[[#This Row],[iloczyn liczby mieszkańców i relacji przeciętnego miesięcznego wynagrodzenia brutto do średniej krajowej'']]/$BF$2*$BE$2 -> 0.0037342234 | BF2805: 851500.19 | BG2805: =TabIPW[[#This Row],[iloczyn liczby mieszkańców i relacji przeciętnego miesięcznego wynagrodzenia brutto do średniej krajowej'''''']]/$BH$2*$BG$2 -> 0.0056013352 | BH2805: =TabIPW[[#This Row],[iloczyn liczby mieszkańców i relacji przeciętnego miesięcznego wynagrodzenia brutto do średniej krajowej'']] -> 851500.19 | BI2805: =TabIPW[[#This Row],[suma liczby bezrobotnych zarejestrowanych i liczby osób w wieku poprodukcyjnym]]/$BJ$2*$BI$2 -> 0.0020868764 | BJ2805: 259506 | BK2805: =TabIPW[[#This Row],[liczba mieszkańców'''''']]/$BL$2*$BK$2 -> 0.0027211929 | BL2805: =TabIPW[[#This Row],[liczba mieszkańców'''']] -> 923536
A2806: Woj. | B2806: 18 | F2806: =+Tabela1[[#This Row],[WK]]&Tabela1[[#This Row],[PK]]&Tabela1[[#This Row],[GK]] -> 18 | G2806: Podkarpackie | I2806: 2053760 | K2806: 0 | M2806: 1788825 | O2806: 0 | Q2806: 0 | S2806: 0 | U2806: 0 | BA2806: =TabIPW[[#This Row],[liczba mieszkańców'''']]/$BB$2*$BA$2 -> 0.0027506321 | BB2806: 2053760 | BC2806: =TabIPW[[#This Row],[suma dł. linii kolejowych eksploatowanych i dł. dróg wojewódzkich o naw. twardej '[w km'] ]]/$BD$2*$BC$2 -> 0.020311092 | BD2806: 2775.9 | BE2806: =TabIPW[[#This Row],[iloczyn liczby mieszkańców i relacji przeciętnego miesięcznego wynagrodzenia brutto do średniej krajowej'']]/$BF$2*$BE$2 -> 0.0078448275 | BF2806: 1788825 | BG2806: =TabIPW[[#This Row],[iloczyn liczby mieszkańców i relacji przeciętnego miesięcznego wynagrodzenia brutto do średniej krajowej'''''']]/$BH$2*$BG$2 -> 0.011767241 | BH2806: =TabIPW[[#This Row],[iloczyn liczby mieszkańców i relacji przeciętnego miesięcznego wynagrodzenia brutto do średniej krajowej'']] -> 1788825 | BI2806: =TabIPW[[#This Row],[suma liczby bezrobotnych zarejestrowanych i liczby osób w wieku poprodukcyjnym]]/$BJ$2*$BI$2 -> 0.0044405773 | BJ2806: 552192 | BK2806: =TabIPW[[#This Row],[liczba mieszkańców'''''']]/$BL$2*$BK$2 -> 0.0060513906 | BL2806: =TabIPW[[#This Row],[liczba mieszkańców'''']] -> 2053760
A2807: Woj. | B2807: 20 | F2807: =+Tabela1[[#This Row],[WK]]&Tabela1[[#This Row],[PK]]&Tabela1[[#This Row],[GK]] -> 20 | G2807: Podlaskie | I2807: 1126679 | K2807: 0 | M2807: 1025277.9 | O2807: 0 | Q2807: 0 | S2807: 0 | U2807: 0 | BA2807: =TabIPW[[#This Row],[liczba mieszkańców'''']]/$BB$2*$BA$2 -> 0.0015089784 | BB2807: 1126679 | BC2807: =TabIPW[[#This Row],[suma dł. linii kolejowych eksploatowanych i dł. dróg wojewódzkich o naw. twardej '[w km'] ]]/$BD$2*$BC$2 -> 0.016493845 | BD2807: 2254.2 | BE2807: =TabIPW[[#This Row],[iloczyn liczby mieszkańców i relacji przeciętnego miesięcznego wynagrodzenia brutto do średniej krajowej'']]/$BF$2*$BE$2 -> 0.0044963193 | BF2807: 1025277.9 | BG2807: =TabIPW[[#This Row],[iloczyn liczby mieszkańców i relacji przeciętnego miesięcznego wynagrodzenia brutto do średniej krajowej'''''']]/$BH$2*$BG$2 -> 0.0067444789 | BH2807: =TabIPW[[#This Row],[iloczyn liczby mieszkańców i relacji przeciętnego miesięcznego wynagrodzenia brutto do średniej krajowej'']] -> 1025277.9 | BI2807: =TabIPW[[#This Row],[suma liczby bezrobotnych zarejestrowanych i liczby osób w wieku poprodukcyjnym]]/$BJ$2*$BI$2 -> 0.0024948412 | BJ2807: 310237 | BK2807: =TabIPW[[#This Row],[liczba mieszkańców'''''']]/$BL$2*$BK$2 -> 0.0033197524 | BL2807: =TabIPW[[#This Row],[liczba mieszkańców'''']] -> 1126679
A2808: Woj. | B2808: 22 | F2808: =+Tabela1[[#This Row],[WK]]&Tabela1[[#This Row],[PK]]&Tabela1[[#This Row],[GK]] -> 22 | G2808: Pomorskie | I2808: 2358409 | K2808: 0 | M2808: 2356050.6 | O2808: 0 | Q2808: 0 | S2808: 0 | U2808: 0 | BA2808: =TabIPW[[#This Row],[liczba mieszkańców'''']]/$BB$2*$BA$2 -> 0.0031586531 | BB2808: 2358409 | BC2808: =TabIPW[[#This Row],[suma dł. linii kolejowych eksploatowanych i dł. dróg wojewódzkich o naw. twardej '[w km'] ]]/$BD$2*$BC$2 -> 0.022615196 | BD2808: 3090.8 | BE2808: =TabIPW[[#This Row],[iloczyn liczby mieszkańców i relacji przeciętnego miesięcznego wynagrodzenia brutto do średniej krajowej'']]/$BF$2*$BE$2 -> 0.010332375 | BF2808: 2356050.6 | BG2808: =TabIPW[[#This Row],[iloczyn liczby mieszkańców i relacji przeciętnego miesięcznego wynagrodzenia brutto do średniej krajowej'''''']]/$BH$2*$BG$2 -> 0.015498563 | BH2808: =TabIPW[[#This Row],[iloczyn liczby mieszkańców i relacji przeciętnego miesięcznego wynagrodzenia brutto do średniej krajowej'']] -> 2356050.6 | BI2808: =TabIPW[[#This Row],[suma liczby bezrobotnych zarejestrowanych i liczby osób w wieku poprodukcyjnym]]/$BJ$2*$BI$2 -> 0.004639425 | BJ2808: 576919 | BK2808: =TabIPW[[#This Row],[liczba mieszkańców'''''']]/$BL$2*$BK$2 -> 0.0069490369 | BL2808: =TabIPW[[#This Row],[liczba mieszkańców'''']] -> 2358409
A2809: Woj. | B2809: 24 | F2809: =+Tabela1[[#This Row],[WK]]&Tabela1[[#This Row],[PK]]&Tabela1[[#This Row],[GK]] -> 24 | G2809: Śląskie | I2809: 4261792 | K2809: 0 | M2809: 4214912.3 | O2809: 0 | Q2809: 0 | S2809: 0 | U2809: 0 | BA2809: =TabIPW[[#This Row],[liczba mieszkańców'''']]/$BB$2*$BA$2 -> 0.005707883 | BB2809: 4261792 | BC2809: =TabIPW[[#This Row],[suma dł. linii kolejowych eksploatowanych i dł. dróg wojewódzkich o naw. twardej '[w km'] ]]/$BD$2*$BC$2 -> 0.024963934 | BD2809: 3411.8 | BE2809: =TabIPW[[#This Row],[iloczyn liczby mieszkańców i relacji przeciętnego miesięcznego wynagrodzenia brutto do średniej krajowej'']]/$BF$2*$BE$2 -> 0.018484346 | BF2809: 4214912.3 | BG2809: =TabIPW[[#This Row],[iloczyn liczby mieszkańców i relacji przeciętnego miesięcznego wynagrodzenia brutto do średniej krajowej'''''']]/$BH$2*$BG$2 -> 0.027726519 | BH2809: =TabIPW[[#This Row],[iloczyn liczby mieszkańców i relacji przeciętnego miesięcznego wynagrodzenia brutto do średniej krajowej'']] -> 4214912.3 | BI2809: =TabIPW[[#This Row],[suma liczby bezrobotnych zarejestrowanych i liczby osób w wieku poprodukcyjnym]]/$BJ$2*$BI$2 -> 0.0095206729 | BJ2809: 1183909 | BK2809: =TabIPW[[#This Row],[liczba mieszkańców'''''']]/$BL$2*$BK$2 -> 0.012557343 | BL2809: =TabIPW[[#This Row],[liczba mieszkańców'''']] -> 4261792
... A2813: Woj. | B2813: 32 | F2813: =+Tabela1[[#This Row],[WK]]&Tabela1[[#This Row],[PK]]&Tabela1[[#This Row],[GK]] -> 32 | G2813: Zachodniopomorskie | I2813: 1612680 | K2813: 0 | M2813: 1499792.4 | O2813: 0 | Q2813: 0 | S2813: 0 | U2813: 0 | BA2813: =TabIPW[[#This Row],[liczba mieszkańców'''']]/$BB$2*$BA$2 -> 0.0021598869 | BB2813: 1612680 | BC2813: =TabIPW[[#This Row],[suma dł. linii kolejowych eksploatowanych i dł. dróg wojewódzkich o naw. twardej '[w km'] ]]/$BD$2*$BC$2 -> 0.025196612 | BD2813: 3443.6 | BE2813: =TabIPW[[#This Row],[iloczyn liczby mieszkańców i relacji przeciętnego miesięcznego wynagrodzenia brutto do średniej krajowej'']]/$BF$2*$BE$2 -> 0.0065772856 | BF2813: 1499792.4 | BG2813: =TabIPW[[#This Row],[iloczyn liczby mieszkańców i relacji przeciętnego miesięcznego wynagrodzenia brutto do średniej krajowej'''''']]/$BH$2*$BG$2 -> 0.0098659284 | BH2813: =TabIPW[[#This Row],[iloczyn liczby mieszkańców i relacji przeciętnego miesięcznego wynagrodzenia brutto do średniej krajowej'']] -> 1499792.4 | BI2813: =TabIPW[[#This Row],[suma liczby bezrobotnych zarejestrowanych i liczby osób w wieku poprodukcyjnym]]/$BJ$2*$BI$2 -> 0.003710879 | BJ2813: 461453 | BK2813: =TabIPW[[#This Row],[liczba mieszkańców'''''']]/$BL$2*$BK$2 -> 0.0047517512 | BL2813: =TabIPW[[#This Row],[liczba mieszkańców'''']] -> 1612680
