Workbook
Name CIT98_MM_SUM: #REF!
Name CIT98_MM_SUM: #REF!
Name GK: 'MNPP jednostkowo'!$B$4
Name GK: 'Powiaty jednostkowo'!$B$4
Name GK: 'Woj. jednostkowo '!$B$4
Name GK: 'Gminy jednostkowo'!$B$4
Name mko: 'MNPP jednostkowo'!$B$5
Name PK: 'MNPP jednostkowo'!$B$3
Name PK: 'Powiaty jednostkowo'!$B$3
Name PK: 'Woj. jednostkowo '!$B$3
Name PK: 'Gminy jednostkowo'!$B$3
Name PozDaneG: slownik!$B$8
Name PozIPWG: slownik!$B$9
Name TableName: "Dummy"
Name TERYT: 'MNPP jednostkowo'!$B$5
Name TERYT: 'Powiaty jednostkowo'!$B$5
Name TERYT: 'Woj. jednostkowo '!$B$5
Name TERYT: 'Gminy jednostkowo'!$B$5
Name WK_: 'MNPP jednostkowo'!$B$2
Name WK_: 'Powiaty jednostkowo'!$B$2
Name WK_: 'Woj. jednostkowo '!$B$2
Name WK_: 'Gminy jednostkowo'!$B$2

Sheet slownik
B3: Gminy | D3: Powiaty | F3: MNPP | H3: Woj.
A4: WK | B4: =+TEXT(WK_,"00") -> 14 | C4: =+VLOOKUP(TEXT(B4,"00"),Tabela1[[Kod GUS]:[Nazwa JST]],2,FALSE) -> mazowieckie | D4: =+TEXT('Powiaty jednostkowo'!WK_,"00") -> 02 | E4: =+VLOOKUP(TEXT(D4,"00"),Tabela1[[Kod GUS]:[Nazwa JST]],2,FALSE) -> dolnośląskie | F4: =+TEXT('MNPP jednostkowo'!WK_,"00") -> 02 | G4: =+VLOOKUP(TEXT(F4,"00"),Tabela1[[Kod GUS]:[Nazwa JST]],2,FALSE) -> dolnośląskie | H4: =+TEXT('Woj. jednostkowo '!WK_,"00") -> 02 | I4: =+VLOOKUP(TEXT(H4,"00"),Tabela1[[Kod GUS]:[Nazwa JST]],2,FALSE) -> dolnośląskie
A5: WKPK | B5: =+TEXT(WK_,"00")&TEXT(PK,"00") -> 1428 | C5: =+VLOOKUP(TEXT(B5,"0000"),Tabela1[[Kod GUS]:[Nazwa JST]],2,FALSE) -> sochaczewski | D5: =+TEXT('Powiaty jednostkowo'!WK_,"00")&TEXT('Powiaty jednostkowo'!PK,"00") -> 0201 | E5: =+VLOOKUP(TEXT(D5,"0000"),Tabela1[[Kod GUS]:[Nazwa JST]],2,FALSE) -> bolesławiecki | F5: =+TEXT('MNPP jednostkowo'!WK_,"00")&TEXT('MNPP jednostkowo'!PK,"00") -> 0261 | G5: =+VLOOKUP(TEXT(F5,"0000"),Tabela1[[Kod GUS]:[Nazwa JST]],2,FALSE) -> Jelenia Góra
A6: WKPKGK | B6: =+TEXT(WK_,"00")&TEXT(PK,"00")&TEXT(GK,"00") -> 142807 | C6: =+VLOOKUP(TEXT(B6,"000000"),Tabela1[[Kod GUS]:[Nazwa JST]],2,FALSE) -> SOCHACZEW
A8: PozDaneG | B8: =+IF(ISERROR(MATCH('Gminy jednostkowo'!$B$5,Tabela1[Kod GUS],0)),2808,MATCH('Gminy jednostkowo'!$B$5,Tabela1[Kod GUS],0)) -> 1192 | C8: PozDaneP | D8: =+IF(ISERROR(MATCH('Powiaty jednostkowo'!$B$5,Tabela1[Kod GUS],0)),2808,MATCH('Powiaty jednostkowo'!$B$5,Tabela1[Kod GUS],0)) -> 2480 | E8: PozDaneM | F8: =+IF(ISERROR(MATCH('MNPP jednostkowo'!$B$5,Tabela1[Kod GUS],0)),2808,MATCH('MNPP jednostkowo'!$B$5,Tabela1[Kod GUS],0)) -> 2414 | G8: PozDaneW | H8: =+IF(ISERROR(MATCH('Woj. jednostkowo '!$B$5,Tabela1[Kod GUS],0)),2808,MATCH('Woj. jednostkowo '!$B$5,Tabela1[Kod GUS],0)) -> 2794
A9: PozIPWG | B9: =+IF(ISERROR(MATCH('Gminy jednostkowo'!$B$5,TabIPW[Kod GUS],0)),2808,MATCH('Gminy jednostkowo'!$B$5,TabIPW[Kod GUS],0)) -> 1192 | C9: PozIPWP | D9: =+IF(ISERROR(MATCH('Powiaty jednostkowo'!$B$5,TabIPW[Kod GUS],0)),2808,MATCH('Powiaty jednostkowo'!$B$5,TabIPW[Kod GUS],0)) -> 2480 | E9: PozIPWM | F9: =+IF(ISERROR(MATCH('MNPP jednostkowo'!$B$5,TabIPW[Kod GUS],0)),2808,MATCH('MNPP jednostkowo'!$B$5,TabIPW[Kod GUS],0)) -> 2414 | G9: PozIPWW | H9: =+IF(ISERROR(MATCH('Woj. jednostkowo '!$B$5,TabIPW[Kod GUS],0)),2808,MATCH('Woj. jednostkowo '!$B$5,TabIPW[Kod GUS],0)) -> 2794
A11: Gminy
A12: Powiaty
A13: Miasta na prawach powiatu
A14: Województwa
A17: 1 | B17: 332.7 | C17: g
A18: 2 | B18: 75.13 | C18: p
A19: 3 | B19: 332.7 | C19: m
A20: 4 | B20: 37.57 | C20: w

Sheet Indeksy
E1: WK | F1: 10 | G1: Łódzkie
E2: PK | F2: 10 | G2: piotrkowski
E3: GK | F3: 2
A4: X | E4: TERYT | F4: 1010 | G4: piotrkowski [1010]
A6: x | G6: piotrkowski [1010]
A7: x | B7: 8 | C7: 15 | F7: 1. | G7: Dochody podatników 2025 r. | H7: w zł
A8: x | B8: 9 | C8: =+C7+1 -> 16 | F8: 2. | G8: wskaźnik waloryzacji | H8: %
A9: x | B9: 10 | C9: =+C8+1 -> 17 | F9: 3. | G9: Zwaloryzowane dochody podatników na 2027 r. [1] * [2] | H9: w zł
A10: x | B10: 11 | C10: =+C9+1 -> 18 | F10: 4. | G10: stawka udziału | H10: %
A11: x | B11: 12 | C11: =+C10+1 -> 19 | F11: 5. | G11: Naliczony dochód JST na 2027 r. wg projektu ustawy [3] * (4] | H11: w zł
A13: x | B13: 22 | F13: 6. | G13: Kwota kalkulacyjna 2027 | H13: w zł
A14: x
B15: 38 | F15: 6a. | G15: Przyrost kwoty kalkulacyjnej r/r | H15: w zł
B17: 24 | F17: 7. | G17: Potrzeby finansowe 2027 | H17: w zł
B19: 36 | F19: 7a. | G19: Przyrost potrzeb finansowych r/r | H19: w zł
B21: 37 | F21: 7b. | G21: Przyrost potrzeb finansowych z uwzglednieniem roliczenia potrzeb finansowych za 2025 r. [7a] + (14] | H21: w zł
B23: 39 | F23: 7c. | G23: Przyrost subwencji [7b] - (6a] | H23: w zł
A25: x | B25: =+B32+1 -> 30 | F25: 8. | G25: Naliczona subwencja ogólna z budżetu państwa na 2027 r. [8] - [6] | H25: w zł
A26: x
A27: x | B27: 24 | F27: 9. | G27: Potrzeby finansowe, z tego: | H27: w zł
A28: x | B28: 25 | F28: 9.1. | G28: potrzeby wyrównawcze | H28: w zł
A29: x | B29: 28 | F29: 9.2. | G29: potrzeby oświatowe | H29: w zł
A30: x | B30: 27 | F30: 9.3. | G30: potrzeby rozwojowe | H30: w zł
A31: x | B31: 26 | F31: 9.4. | G31: potrzeby ekologiczne | H31: w zł
B32: 29 | F32: 9.5. | G32: potrzeby uzupełniające | H32: w zł
A34: x | B34: 53 | F34: 10. | G34: Wyliczenie potrzeb ekologicznych
A35: x | F35: 10.1. | G35: przeliczeniowa powierzchnia obszaru prawnie chronionego | H35: ha
A36: x | F36: 10.2. | G36: stawka bazowa za 1 ha obszaru prawnie chronionego | H36: w zł
A37: x
F38: 10.3. | G38: Obszary prawnie chronione:
A39: x | B39: 54 | F39: 10.3.1. | G39: Parki Narodowe | H39: ha
A40: x | B40: 55 | F40: 10.3.2. | G40: Rezerwaty | H40: ha
F41: 10.3.3. | G41: Strefy ochrony krajobrazu ustanowionych w granicach parków krajobrazowych lub obszarach chronionego krajobrazu | H41: ha
B42: 56 | F42: 10.3.4. | G42: Parki Krajobrazowe i Obszary chronionego krajobrazu, na których ustanowiono przynajmniej pięć zakazów wybranych spośród zakazów, o których mowa w art. 17 ust. 1 pkt 1 i 4-9 lub art. 24 ust. 1 pkt 2 i 4-9 ustawy o ochronie przyrody | H42: ha
A43: x | B43: 57 | F43: 10.3.5. | G43: Natura 2000 | H43: ha
A44: x | B44: 58 | F44: 10.3.6. | G44: Parki Krajobrazowe i Obszary chronionego krajobrazu, na których ustanowiono przynajmniej jeden z zakazów wybrany spośród zakazów, o których mowa w art. 17 ust. 1 pkt 1 i 4-9 lub art. 24 ust. 1 pkt 2 i 4-9 ustawy o ochronie przyrody | H44: ha
A46: x | B46: 25 | F46: 11. | G46: Wyliczenie potrzeb wyrównawczych
B47: 66 | F47: 11.1. | G47: relacja wsk. zamożności jednostki do wsk. zamożności danej kategorii JST | H47: %
B48: 68 | F48: 11.2. | G48: przeliczeniowa liczba ludności
B49: 67 | F49: 11.3. | G49: Indeks bieżących potrzeb wydatkowych jednostki IPW
...

Sheet Gminy jednostkowo
A1: TypJST | B1: 1
A2: WK | B2: 14 | C2: =+IF(ISBLANK(WK_),"Podaj WK",IF(ISERROR(slownik!C4),"Błędny WK",slownik!C4)) -> mazowieckie
A3: PK | B3: 28 | C3: =+IF(AND(ISBLANK(PK),'Gminy jednostkowo'!B1<>4),"Podaj PK",+IF('Gminy jednostkowo'!B1=4,"",IF(ISERROR(slownik!C5),"Błędny PK",slownik!C5))) -> sochaczewski
A4: GK | B4: 7 | C4: =+IF(AND(ISBLANK(GK),'Gminy jednostkowo'!B1=1),"Podaj GK",+IF(OR('Gminy jednostkowo'!B1=4,'Gminy jednostkowo'!B1=3),"",IF(ISERROR(slownik!C6),"Błędny GK","")))
A5: TERYT | B5: =+TEXT(WK_,"00")&TEXT(PK,"00")&TEXT(GK,"00") -> 142807 | C5: {=+IF(ISERROR(INDEX(Tabela1[Nazwa JST],slownik!B8)),"Popraw WK/PK/GK",+INDEX(Tabela1[Nazwa JST],slownik!B8)&" ["&B5&"]")} -> SOCHACZEW [142807]
C6: =+C5 -> SOCHACZEW [142807] | F6: PIT | G6: CIT
B7: 1. | C7: Dochody podatników 2025 r. | D7: w zł | F7: {=+INDEX(Tabela1[],slownik!$B$8,Indeksy!B7)} -> 6.9444464e+08 | G7: {=+INDEX(Tabela1[],slownik!$B$8,Indeksy!C7)} -> 2.9624669e+08
B8: 2. | C8: wskaźnik waloryzacji | D8: % | F8: {=+INDEX(Tabela1[],slownik!$B$8,Indeksy!B8)} -> 1.125 | G8: {=+INDEX(Tabela1[],slownik!$B$8,Indeksy!C8)} -> 1.125
B9: 3. | C9: Zwaloryzowane dochody podatników na 2027 r. [1] * [2] | D9: w zł | F9: {=+INDEX(Tabela1[],slownik!$B$8,Indeksy!B9)} -> 7.8125022e+08 | G9: {=+INDEX(Tabela1[],slownik!$B$8,Indeksy!C9)} -> 3.3327753e+08
B10: 4. | C10: stawka udziału | D10: % | F10: {=+INDEX(Tabela1[],slownik!$B$8,Indeksy!B10)} -> 0.07 | G10: {=+INDEX(Tabela1[],slownik!$B$8,Indeksy!C10)} -> 0.016
B11: 5. | C11: Naliczony dochód JST na 2027 r. [3] * (4] | D11: w zł | F11: {=+INDEX(Tabela1[],slownik!$B$8,Indeksy!B11)} -> 54687516 | G11: {=+INDEX(Tabela1[],slownik!$B$8,Indeksy!C11)} -> 5332441
B13: 6. | C13: Kwota kalkulacyjna 2027 | D13: w zł | F13: {=+INDEX(Tabela1[],slownik!$B$8,Indeksy!B13)} -> 26187590
B15: 6a. | C15: Przyrost kwoty kalkulacyjnej r/r | D15: w zł | F15: {=+INDEX(Tabela1[],slownik!$B$8,Indeksy!B15)} -> 1416945
B17: 7. | C17: Potrzeby finansowe 2027 | D17: w zł | F17: {=+INDEX(Tabela1[],slownik!$B$8,Indeksy!B17)} -> 43979161
B19: 7a. | C19: Przyrost potrzeb finansowych r/r | D19: w zł | F19: {=+INDEX(Tabela1[],slownik!$B$8,Indeksy!B19)} -> 4049651
B21: 7b. | C21: Przyrost potrzeb finansowych z uwzględnieniem rozliczenia potrzeb finansowych za 2025 r. [7a] + (14] | D21: w zł | F21: {=+INDEX(Tabela1[],slownik!$B$8,Indeksy!B21)} -> 4099996
B23: 7c. | C23: Przyrost subwencji [7b] - (6a] | D23: w zł | F23: {=+INDEX(Tabela1[],slownik!$B$8,Indeksy!B23)} -> 2683051
B25: 8. | C25: Naliczona subwencja ogólna z budżetu państwa na 2027 r. | D25: w zł | F25: {=+INDEX(Tabela1[],slownik!$B$8,Indeksy!B25)} -> 17841916
B27: 9. | C27: Potrzeby finansowe, z tego: | D27: w zł | F27: {=+INDEX(Tabela1[],slownik!$B$8,Indeksy!B27)} -> 43979161
B28: 9.1. | C28: potrzeby wyrównawcze | D28: w zł | F28: {=+INDEX(Tabela1[],slownik!$B$8,Indeksy!B28)} -> 0
B29: 9.2. | C29: potrzeby oświatowe | D29: w zł | F29: {=+INDEX(Tabela1[],slownik!$B$8,Indeksy!B29)} -> 35556051
B30: 9.3. | C30: potrzeby rozwojowe | D30: w zł | F30: {=+INDEX(Tabela1[],slownik!$B$8,Indeksy!B30)} -> 2104571
B31: 9.4. | C31: potrzeby ekologiczne | D31: w zł | F31: {=+INDEX(Tabela1[],slownik!$B$8,Indeksy!B31)} -> 5
B32: 9.5. | C32: potrzeby uzupełniające | D32: w zł | F32: {=+INDEX(Tabela1[],slownik!$B$8,Indeksy!B32)} -> 6318534
B34: 10. | C34: Wyliczenie potrzeb ekologicznych
B35: 10.1. | C35: przeliczeniowa powierzchnia obszaru prawnie chronionego | D35: ha | F35: =+SUM(G39:G44) -> 0.015
B36: 10.2. | C36: stawka bazowa za 1 ha obszaru prawnie chronionego | D36: w zł | F36: =+VLOOKUP('Gminy jednostkowo'!B1,slownik!$A$17:$B$20,2,FALSE) -> 332.7
B38: 10.3. | C38: Obszary prawnie chronione: | E38: waga | F38: Powierzchnia faktyczna | G38: Powierzchnia przeliczeniowa
B39: 10.3.1. | C39: Parki Narodowe | D39: ha | E39: 2 | F39: {=+INDEX(Tabela1[],slownik!$B$8,Indeksy!B39)} -> 0 | G39: =+E39*F39 -> 0
B40: 10.3.2. | C40: Rezerwaty | D40: ha | E40: 1 | F40: {=+INDEX(Tabela1[],slownik!$B$8,Indeksy!B40)} -> 0 | G40: =+E40*F40 -> 0
B41: 10.3.3. | C41: Strefy ochrony krajobrazu ustanowione w granicach parków krajobrazowych lub obszarach chronionego krajobrazu | D41: ha | E41: 0.6
B42: 10.3.4. | C42: Parki Krajobrazowe i Obszary chronionego krajobrazu, na których ustanowiono przynajmniej pięć zakazów wybranych spośród zakazów, o których mowa w art. 17 ust. 1 pkt 1 i 4-9 lub art. 24 ust. 1 pkt 2 i 4-9 ustawy o ochronie przyrody | D42: ha | E42: 0.3 | F42: {=+INDEX(Tabela1[],slownik!$B$8,Indeksy!B42)} -> 0.05 | G42: =+E42*F42 -> 0.015
B43: 10.3.5. | C43: Natura 2000 | D43: ha | E43: 0.15 | F43: {=+INDEX(Tabela1[],slownik!$B$8,Indeksy!B43)} -> 0 | G43: =+E43*F43 -> 0
B44: 10.3.6. | C44: Parki Krajobrazowe i Obszary chronionego krajobrazu, na których ustanowiono przynajmniej jeden z zakazów wybrany spośród zakazów, o których mowa w art. 17 ust. 1 pkt 1 i 4-9 lub art. 24 ust. 1 pkt 2 i 4-9 ustawy o ochronie przyrody | D44: ha | E44: 0.1 | F44: {=+INDEX(Tabela1[],slownik!$B$8,Indeksy!B44)} -> 0 | G44: =+F44*E44 -> 0
B46: 11. | C46: Wyliczenie potrzeb wyrównawczych
B47: 11.1. | C47: relacja wsk. zamożności jednostki do wsk. zamożności danej kategorii JST | D47: % | F47: {=+INDEX(Tabela1[],slownik!$B$8,Indeksy!B47)} -> 1.3666434
B48: 11.2. | C48: przeliczeniowa liczba ludności | F48: {=+INDEX(Tabela1[],slownik!$B$8,Indeksy!B48)} -> 12189
B49: 11.3. | C49: indeks bieżących potrzeb wydatkowych jednostki IPW | F49: {=+INDEX(Tabela1[],slownik!$B$8,Indeksy!B49)} -> 0.0004846984
C51: Obszar / Determinanta | D51: Waga obszaru | E51: Beta | F51: cząstkowy IPW | G51: wartość determinanty
C52: Administracja publiczna | D52: 0.24 | F52: {=+INDEX(TabIPW[],PozIPWG,Indeksy!B52)} -> 0.00014011015
...

Sheet Powiaty jednostkowo
A1: TypJST | B1: 2
A2: WK | B2: 2 | C2: =+IF(ISBLANK(WK_),"Podaj WK",IF(ISERROR(slownik!E4),"Błędny WK",slownik!E4)) -> dolnośląskie
A3: PK | B3: 1 | C3: =+IF(ISBLANK(PK),"Podaj PK",IF(VALUE(PK)>60,"Podaj PK dla powiatu lub przejdż na arkusz dla Miast na prawach powiatu",IF(ISERROR(slownik!E5),"Błędny PK",slownik!E5))) -> bolesławiecki
A5: TERYT | B5: =+TEXT(WK_,"00")&TEXT(PK,"00") -> 0201 | C5: {=+IF(ISERROR(INDEX(Tabela1[Nazwa JST],slownik!D8)),"Popraw WK/PK/GK",+INDEX(Tabela1[Nazwa JST],slownik!D8)&" ["&B5&"]")} -> bolesławiecki [0201]
C6: =+C5 -> bolesławiecki [0201] | F6: PIT | G6: CIT
B7: 1. | C7: Dochody podatników 2025 r. | D7: w zł | F7: {=+INDEX(Tabela1[],slownik!$D$8,Indeksy!B7)} -> 4.1204966e+09 | G7: {=+INDEX(Tabela1[],slownik!$D$8,Indeksy!C7)} -> 5.7452659e+08
B8: 2. | C8: wskaźnik waloryzacji | D8: % | F8: {=+INDEX(Tabela1[],slownik!$D$8,Indeksy!B8)} -> 1.125 | G8: {=+INDEX(Tabela1[],slownik!$D$8,Indeksy!C8)} -> 1.125
B9: 3. | C9: Zwaloryzowane dochody podatników na 2027 r. [1] * [2] | D9: w zł | F9: {=+INDEX(Tabela1[],slownik!$D$8,Indeksy!B9)} -> 4.6355587e+09 | G9: {=+INDEX(Tabela1[],slownik!$D$8,Indeksy!C9)} -> 6.4634241e+08
B10: 4. | C10: stawka udziału | D10: % | F10: {=+INDEX(Tabela1[],slownik!$D$8,Indeksy!B10)} -> 0.02 | G10: {=+INDEX(Tabela1[],slownik!$D$8,Indeksy!C10)} -> 0.017
B11: 5. | C11: Naliczony dochód JST na 2027 r. [3] * (4] | D11: w zł | F11: {=+INDEX(Tabela1[],slownik!$D$8,Indeksy!B11)} -> 92711174 | G11: {=+INDEX(Tabela1[],slownik!$D$8,Indeksy!C11)} -> 10987821
B13: 6. | C13: Kwota kalkulacyjna 2027 | D13: w zł | F13: {=+INDEX(Tabela1[],slownik!$D$8,Indeksy!B13)} -> 67009527
B15: 6a. | C15: Przyrost kwoty kalkulacyjnej r/r | D15: w zł | F15: {=+INDEX(Tabela1[],slownik!$D$8,Indeksy!B15)} -> 4720057
B17: 7. | C17: Potrzeby finansowe 2027 | D17: w zł | F17: {=+INDEX(Tabela1[],slownik!$D$8,Indeksy!B17)} -> 104098584
B19: 7a. | C19: Przyrost potrzeb finansowych r/r | D19: w zł | F19: {=+INDEX(Tabela1[],slownik!$D$8,Indeksy!B19)} -> 2849744
B21: 7b. | C21: Przyrost potrzeb finansowych z uwzględnieniem rozliczenia potrzeb finansowych za 2025 r. [7a] + (14] | D21: w zł | F21: {=+INDEX(Tabela1[],slownik!$D$8,Indeksy!B21)} -> 2849744
B23: 7c. | C23: Przyrost subwencji [7b] - (6a] | D23: w zł | F23: {=+INDEX(Tabela1[],slownik!$D$8,Indeksy!B23)} -> -1870313
B25: 8. | C25: Naliczona subwencja ogólna z budżetu państwa na 2027 r. [8] - [6] | D25: w zł | F25: {=+INDEX(Tabela1[],slownik!$D$8,Indeksy!B25)} -> 37089057
B27: 9. | C27: Potrzeby finansowe, z tego: | D27: w zł | F27: {=+INDEX(Tabela1[],slownik!$D$8,Indeksy!B27)} -> 104098584
B28: 9.1. | C28: potrzeby wyrównawcze | D28: w zł | F28: {=+INDEX(Tabela1[],slownik!$D$8,Indeksy!B28)} -> 0
B29: 9.2. | C29: potrzeby oświatowe | D29: w zł | F29: {=+INDEX(Tabela1[],slownik!$D$8,Indeksy!B29)} -> 85934069
B30: 9.3. | C30: potrzeby rozwojowe | D30: w zł | F30: {=+INDEX(Tabela1[],slownik!$D$8,Indeksy!B30)} -> 2268277
B31: 9.4. | C31: potrzeby ekologiczne | D31: w zł | F31: {=+INDEX(Tabela1[],slownik!$D$8,Indeksy!B31)} -> 1092536
B32: 9.5. | C32: potrzeby uzupełniające | D32: w zł | F32: {=+INDEX(Tabela1[],slownik!$D$8,Indeksy!B32)} -> 14803702
B34: 10. | C34: Wyliczenie potrzeb ekologicznych
B35: 10.1. | C35: przeliczeniowa powierzchnia obszaru prawnie chronionego | D35: ha | F35: =+SUM(G39:G44) -> 14541.934
B36: 10.2. | C36: stawka bazowa za 1 ha obszaru prawnie chronionego | D36: w zł | F36: =+VLOOKUP('Powiaty jednostkowo'!B1,slownik!$A$17:$B$20,2,FALSE) -> 75.13
B38: 10.3. | C38: Obszary prawnie chronione: | E38: waga | F38: Powierzchnia faktyczna | G38: Powierzchnia przeliczeniowa
B39: 10.3.1. | C39: Parki Narodowe | D39: ha | E39: 2 | F39: {=+INDEX(Tabela1[],slownik!$D$8,Indeksy!B39)} -> 0 | G39: =+E39*F39 -> 0
B40: 10.3.2. | C40: Rezerwaty | D40: ha | E40: 1 | F40: {=+INDEX(Tabela1[],slownik!$D$8,Indeksy!B40)} -> 214.2 | G40: =+E40*F40 -> 214.2
B41: 10.3.3. | C41: Strefy ochrony krajobrazu ustanowione w granicach parków krajobrazowych lub obszarach chronionego krajobrazu | D41: ha | E41: 0.6
B42: 10.3.4. | C42: Parki Krajobrazowe i Obszary chronionego krajobrazu, na których ustanowiono przynajmniej pięć zakazów wybranych spośród zakazów, o których mowa w art. 17 ust. 1 pkt 1 i 4-9 lub art. 24 ust. 1 pkt 2 i 4-9 ustawy o ochronie przyrody | D42: ha | E42: 0.3 | F42: {=+INDEX(Tabela1[],slownik!$D$8,Indeksy!B42)} -> 12322.53 | G42: =+E42*F42 -> 3696.759
B43: 10.3.5. | C43: Natura 2000 | D43: ha | E43: 0.15 | F43: {=+INDEX(Tabela1[],slownik!$D$8,Indeksy!B43)} -> 70873.17 | G43: =+E43*F43 -> 10630.975
B44: 10.3.6. | C44: Parki Krajobrazowe i Obszary chronionego krajobrazu, na których ustanowiono przynajmniej jeden z zakazów wybrany spośród zakazów, o których mowa w art. 17 ust. 1 pkt 1 i 4-9 lub art. 24 ust. 1 pkt 2 i 4-9 ustawy o ochronie przyrody | D44: ha | E44: 0.1 | F44: {=+INDEX(Tabela1[],slownik!$D$8,Indeksy!B44)} -> 0 | G44: =+F44*E44 -> 0
B46: 11. | C46: Wyliczenie potrzeb wyrównawczych
B47: 11.1. | C47: relacja wsk. zamożności jednostki do wsk. zamożności danej kategorii JST | D47: % | F47: {=+INDEX(Tabela1[],slownik!$D$8,Indeksy!B47)} -> 1.0807838
B48: 11.2. | C48: przeliczeniowa liczba ludności | F48: {=+INDEX(Tabela1[],slownik!$D$8,Indeksy!B48)} -> 78827
B49: 11.3. | C49: indeks bieżących potrzeb wydatkowych jednostki IPW | F49: {=+INDEX(Tabela1[],slownik!$D$8,Indeksy!B49)} -> 0.0031245063
C51: Obszar / Determinanta | D51: Waga obszaru | E51: Beta | F51: cząstkowy IPW | G51: wartość determinanty
C52: Administracja publiczna | D52: 0.4 | F52: {=+INDEX(TabIPW[],slownik!$D$9,Indeksy!B68)} -> 0.0014525625
C53: iloczyn liczby mieszkańców i relacji przeciętnego miesięcznego wynagrodzenia brutto do średniej krajowej | E53: 1 | G53: {=+INDEX(TabIPW[],slownik!$D$9,Indeksy!B69)} -> 79232.736
...

Sheet MNPP jednostkowo
A1: TypJST | B1: 3
A2: WK | B2: 2 | C2: =+IF(ISBLANK(WK_),"Podaj WK",IF(ISERROR(slownik!G4),"Błędny WK",slownik!G4)) -> dolnośląskie
A3: PK | B3: 61 | C3: =+IF(ISBLANK(PK),"Podaj PK",IF(VALUE(PK)<=60,"Podaj PK dla Miasta na prawach powiatu lub przejdź na arkusz Powiaty",IF(ISERROR(slownik!G5),"Błędny PK",slownik!G5))) -> Jelenia Góra
A5: TERYT | B5: =+TEXT(WK_,"00")&TEXT(PK,"00") -> 0261 | C5: {=+IF(ISERROR(INDEX(Tabela1[Nazwa JST],slownik!F8)),"Popraw WK/PK/GK",+INDEX(Tabela1[Nazwa JST],slownik!F8)&" ["&B5&"]")} -> Jelenia Góra [0261]
C6: =+C5 -> Jelenia Góra [0261] | F6: PIT | G6: CIT
B7: 1. | C7: Dochody podatników 2025 r. | D7: w zł | F7: {=+INDEX(Tabela1[],slownik!$F$8,Indeksy!B7)} -> 3.9153342e+09 | G7: {=+INDEX(Tabela1[],slownik!$F$8,Indeksy!C7)} -> 9.3096291e+08
B8: 2. | C8: wskaźnik waloryzacji | D8: % | F8: {=+INDEX(Tabela1[],slownik!$F$8,Indeksy!B8)} -> 1.125 | G8: {=+INDEX(Tabela1[],slownik!$F$8,Indeksy!C8)} -> 1.125
B9: 3. | C9: Zwaloryzowane dochody podatników na 2027 r. [1] * [2] | D9: w zł | F9: {=+INDEX(Tabela1[],slownik!$F$8,Indeksy!B9)} -> 4.4047509e+09 | G9: {=+INDEX(Tabela1[],slownik!$F$8,Indeksy!C9)} -> 1.0473333e+09
B10: 4. | C10: stawka udziału | D10: % | F10: {=+INDEX(Tabela1[],slownik!$F$8,Indeksy!B10)} -> 0.086 | G10: {=+INDEX(Tabela1[],slownik!$F$8,Indeksy!C10)} -> 0.022
B11: 5. | C11: Naliczony dochód JST na 2027 r. [3] * (4] | D11: w zł | F11: {=+INDEX(Tabela1[],slownik!$F$8,Indeksy!B11)} -> 378808582 | G11: {=+INDEX(Tabela1[],slownik!$F$8,Indeksy!C11)} -> 23041332
B13: 6. | C13: Kwota kalkulacyjna 2027 | D13: w zł | F13: {=+INDEX(Tabela1[],slownik!$F$8,Indeksy!B13)} -> 218724338
B15: 6a. | C15: Przyrost kwoty kalkulacyjnej r/r | D15: w zł | F15: {=+INDEX(Tabela1[],slownik!$F$8,Indeksy!B15)} -> 12987893
B17: 7. | C17: Potrzeby finansowe 2027 | D17: w zł | F17: {=+INDEX(Tabela1[],slownik!$F$8,Indeksy!B17)} -> 306727819
B19: 7a. | C19: Przyrost potrzeb finansowych r/r | D19: w zł | F19: {=+INDEX(Tabela1[],slownik!$F$8,Indeksy!B19)} -> 13894236
B21: 7b. | C21: Przyrost potrzeb finansowych z uwzględnieniem rozliczenia potrzeb finansowych za 2025 r. [7a] + (14] | D21: w zł | F21: {=+INDEX(Tabela1[],slownik!$F$8,Indeksy!B21)} -> 13894236
B23: 7c. | C23: Przyrost subwencji [7b] - (6a] | D23: w zł | F23: {=+INDEX(Tabela1[],slownik!$F$8,Indeksy!B23)} -> 906343
B25: 8. | C25: Naliczona subwencja ogólna z budżetu państwa na 2027 r. [8] - [6] | D25: w zł | F25: {=+INDEX(Tabela1[],slownik!$F$8,Indeksy!B25)} -> 88003481
B27: 9. | C27: Potrzeby finansowe, z tego: | D27: w zł | F27: {=+INDEX(Tabela1[],slownik!$F$8,Indeksy!B27)} -> 306727819
B28: 9.1. | C28: potrzeby wyrównawcze | D28: w zł | F28: {=+INDEX(Tabela1[],slownik!$F$8,Indeksy!B28)} -> 0
B29: 9.2. | C29: potrzeby oświatowe | D29: w zł | F29: {=+INDEX(Tabela1[],slownik!$F$8,Indeksy!B29)} -> 263323991
B30: 9.3. | C30: potrzeby rozwojowe | D30: w zł | F30: {=+INDEX(Tabela1[],slownik!$F$8,Indeksy!B30)} -> 15645201
B31: 9.4. | C31: potrzeby ekologiczne | D31: w zł | F31: {=+INDEX(Tabela1[],slownik!$F$8,Indeksy!B31)} -> 1235684
B32: 9.5. | C32: potrzeby uzupełniające | D32: w zł | F32: {=+INDEX(Tabela1[],slownik!$F$8,Indeksy!B32)} -> 26522943
B34: 10. | C34: Wyliczenie potrzeb ekologicznych
B35: 10.1. | C35: przeliczeniowa powierzchnia obszaru prawnie chronionego | D35: ha | E35: x | F35: =+SUM(G39:G44) -> 3714.109
B36: 10.2. | C36: stawka bazowa za 1 ha obszaru prawnie chronionego | D36: w zł | E36: x | F36: =+VLOOKUP('MNPP jednostkowo'!B1,slownik!$A$17:$B$20,2,FALSE) -> 332.7
B38: 10.3. | C38: Obszary prawnie chronione: | E38: waga | F38: Powierzchnia faktyczna | G38: Powierzchnia przeliczeniowa
B39: 10.3.1. | C39: Parki Narodowe | D39: ha | E39: 2 | F39: {=+INDEX(Tabela1[],slownik!$F$8,Indeksy!B39)} -> 1712.84 | G39: =+E39*F39 -> 3425.68
B40: 10.3.2. | C40: Rezerwaty | D40: ha | E40: 1 | F40: {=+INDEX(Tabela1[],slownik!$F$8,Indeksy!B40)} -> 0 | G40: =+E40*F40 -> 0
B41: 10.3.3. | C41: Strefy ochrony krajobrazu ustanowione w granicach parków krajobrazowych lub obszarach chronionego krajobrazu | D41: ha | E41: 0.6
B42: 10.3.4. | C42: Parki Krajobrazowe i Obszary chronionego krajobrazu, na których ustanowiono przynajmniej pięć zakazów wybranych spośród zakazów, o których mowa w art. 17 ust. 1 pkt 1 i 4-9 lub art. 24 ust. 1 pkt 2 i 4-9 ustawy o ochronie przyrody | D42: ha | E42: 0.3 | F42: {=+INDEX(Tabela1[],slownik!$F$8,Indeksy!B42)} -> 470.42 | G42: =+E42*F42 -> 141.126
B43: 10.3.5. | C43: Natura 2000 | D43: ha | E43: 0.15 | F43: {=+INDEX(Tabela1[],slownik!$F$8,Indeksy!B43)} -> 982.02 | G43: =+E43*F43 -> 147.303
B44: 10.3.6. | C44: Parki Krajobrazowe i Obszary chronionego krajobrazu, na których ustanowiono przynajmniej jeden z zakazów wybrany spośród zakazów, o których mowa w art. 17 ust. 1 pkt 1 i 4-9 lub art. 24 ust. 1 pkt 2 i 4-9 ustawy o ochronie przyrody | D44: ha | E44: 0.1 | F44: {=+INDEX(Tabela1[],slownik!$F$8,Indeksy!B44)} -> 0 | G44: =+F44*E44 -> 0
B46: 11. | C46: Wyliczenie potrzeb wyrównawczych
B47: 11.1. | C47: relacja wsk. zamożności jednostki do wsk. zamożności danej kategorii JST | D47: % | F47: {=+INDEX(Tabela1[],slownik!$F$8,Indeksy!B47)} -> 0.9070416
B48: 11.2. | C48: przeliczeniowa liczba ludności | F48: {=+INDEX(Tabela1[],slownik!$F$8,Indeksy!B48)} -> 64552
B49: 11.3. | C49: Indeks bieżących potrzeb wydatkowych jednostki IPW | F49: {=+INDEX(Tabela1[],slownik!$F$8,Indeksy!B49)} -> 0.0052908172
C51: Obszar / Determinanta | D51: Waga obszaru | E51: Beta | F51: cząstkowy IPW | G51: wartość determinanty
C52: Transport i łączność | D52: 0.18 | F52: {=+INDEX(TabIPW[],slownik!$F$9,Indeksy!B80)} -> 0.00066183883
C53: liczba pracujących ogółem | E53: 1 | G53: {=+INDEX(TabIPW[],slownik!$F$9,Indeksy!B81)} -> 26458
...

Sheet Woj. jednostkowo 
A1: TypJST | B1: 4
A2: WK | B2: 2 | C2: =+IF(ISBLANK(WK_),"Podaj WK",IF(ISERROR(slownik!I4),"Błędny WK",slownik!I4)) -> dolnośląskie
A5: TERYT | B5: =+TEXT(WK_,"00") -> 02 | C5: {=+IF(ISERROR(INDEX(Tabela1[Nazwa JST],slownik!H8)),"Popraw WK/PK/GK",+INDEX(Tabela1[Nazwa JST],slownik!H8)&" ["&B5&"]")} -> dolnośląskie [02]
C6: =+C5 -> dolnośląskie [02] | F6: PIT | G6: CIT
B7: 1. | C7: Dochody podatników 2025 r. | D7: w zł | F7: {=+INDEX(Tabela1[],slownik!$H$8,Indeksy!B7)} -> 1.628571e+11 | G7: {=+INDEX(Tabela1[],slownik!$H$8,Indeksy!C7)} -> 4.406248e+10
B8: 2. | C8: wskaźnik waloryzacji | D8: % | F8: {=+INDEX(Tabela1[],slownik!$H$8,Indeksy!B8)} -> 1.125 | G8: {=+INDEX(Tabela1[],slownik!$H$8,Indeksy!C8)} -> 1.125
B9: 3. | C9: Zwaloryzowane dochody podatników na 2027 r. [1] * [2] | D9: w zł | F9: {=+INDEX(Tabela1[],slownik!$H$8,Indeksy!B9)} -> 1.8321424e+11 | G9: {=+INDEX(Tabela1[],slownik!$H$8,Indeksy!C9)} -> 4.957029e+10
B10: 4. | C10: stawka udziału | D10: % | F10: {=+INDEX(Tabela1[],slownik!$H$8,Indeksy!B10)} -> 0.0035 | G10: {=+INDEX(Tabela1[],slownik!$H$8,Indeksy!C10)} -> 0.023
B11: 5. | C11: Naliczony dochód JST na 2027 r. [3] * (4] | D11: w zł | F11: {=+INDEX(Tabela1[],slownik!$H$8,Indeksy!B11)} -> 641249851 | G11: {=+INDEX(Tabela1[],slownik!$H$8,Indeksy!C11)} -> 1140116668
B13: 6. | C13: Kwota kalkulacyjna 2027 | D13: w zł | F13: {=+INDEX(Tabela1[],slownik!$H$8,Indeksy!B13)} -> 294216051
B15: 6a. | C15: Przyrost kwoty kalkulacyjnej r/r | D15: w zł | F15: {=+INDEX(Tabela1[],slownik!$H$8,Indeksy!B15)} -> 11730138
B17: 7. | C17: Potrzeby finansowe 2027 | D17: w zł | F17: {=+INDEX(Tabela1[],slownik!$H$8,Indeksy!B17)} -> 297346594
B19: 7a. | C19: Przyrost potrzeb finansowych r/r | D19: w zł | F19: {=+INDEX(Tabela1[],slownik!$H$8,Indeksy!B19)} -> 65338417
B21: 7b. | C21: Przyrost potrzeb finansowych z uwzględnieniem rozliczenia potrzeb finansowych za 2025 r. [7a] + (14] | D21: w zł | F21: {=+INDEX(Tabela1[],slownik!$H$8,Indeksy!B21)} -> 65338417
B23: 7c. | C23: Przyrost subwencji [7b] - (6a] | D23: w zł | F23: {=+INDEX(Tabela1[],slownik!$H$8,Indeksy!B23)} -> 53608279
B25: 8. | C25: Naliczona subwencja ogólna z budżetu państwa na 2027 r. [8] - [6] | D25: w zł | F25: {=+INDEX(Tabela1[],slownik!$H$8,Indeksy!B25)} -> 129668631
B27: 9. | C27: Potrzeby finansowe, z tego: | D27: w zł | F27: {=+INDEX(Tabela1[],slownik!$H$8,Indeksy!B27)} -> 297346594
B28: 9.1. | C28: potrzeby wyrównawcze | D28: w zł | F28: {=+INDEX(Tabela1[],slownik!$H$8,Indeksy!B28)} -> 30608032
B29: 9.2. | C29: potrzeby oświatowe | D29: w zł | F29: {=+INDEX(Tabela1[],slownik!$H$8,Indeksy!B29)} -> 119330024
B30: 9.3. | C30: potrzeby rozwojowe | D30: w zł | F30: {=+INDEX(Tabela1[],slownik!$H$8,Indeksy!B30)} -> 124014527
B31: 9.4. | C31: potrzeby ekologiczne | D31: w zł | F31: {=+INDEX(Tabela1[],slownik!$H$8,Indeksy!B31)} -> 6551642
B32: 9.5. | C32: potrzeby uzupełniające | D32: w zł | F32: {=+INDEX(Tabela1[],slownik!$H$8,Indeksy!B32)} -> 16842369
B34: 10. | C34: Wyliczenie potrzeb ekologicznych
B35: 10.1. | C35: przeliczeniowa powierzchnia obszaru prawnie chronionego | D35: ha | F35: =+SUM(G39:G44) -> 174384.94
B36: 10.2. | C36: stawka bazowa za 1 ha obszaru prawnie chronionego | D36: w zł | F36: =+VLOOKUP('Woj. jednostkowo '!B1,slownik!$A$17:$B$20,2,FALSE) -> 37.57
B38: 10.3. | C38: Obszary prawnie chronione: | E38: waga | F38: Powierzchnia faktyczna | G38: Powierzchnia przeliczeniowa
B39: 10.3.1. | C39: Parki Narodowe | D39: ha | E39: 2 | F39: {=+INDEX(Tabela1[],slownik!$H$8,Indeksy!B39)} -> 12287.47 | G39: =+E39*F39 -> 24574.94
B40: 10.3.2. | C40: Rezerwaty | D40: ha | E40: 1 | F40: {=+INDEX(Tabela1[],slownik!$H$8,Indeksy!B40)} -> 11453.53 | G40: =+E40*F40 -> 11453.53
B41: 10.3.3. | C41: Strefy ochrony krajobrazu ustanowione w granicach parków krajobrazowych lub obszarach chronionego krajobrazu | D41: ha | E41: 0.6
B42: 10.3.4. | C42: Parki Krajobrazowe i Obszary chronionego krajobrazu, na których ustanowiono przynajmniej pięć zakazów wybranych spośród zakazów, o których mowa w art. 17 ust. 1 pkt 1 i 4-9 lub art. 24 ust. 1 pkt 2 i 4-9 ustawy o ochronie przyrody | D42: ha | E42: 0.3 | F42: {=+INDEX(Tabela1[],slownik!$H$8,Indeksy!B42)} -> 319232.89 | G42: =+E42*F42 -> 95769.867
B43: 10.3.5. | C43: Natura 2000 | D43: ha | E43: 0.15 | F43: {=+INDEX(Tabela1[],slownik!$H$8,Indeksy!B43)} -> 278814.87 | G43: =+E43*F43 -> 41822.23
B44: 10.3.6. | C44: Parki Krajobrazowe i Obszary chronionego krajobrazu, na których ustanowiono przynajmniej jeden z zakazów wybrany spośród zakazów, o których mowa w art. 17 ust. 1 pkt 1 i 4-9 lub art. 24 ust. 1 pkt 2 i 4-9 ustawy o ochronie przyrody | D44: ha | E44: 0.1 | F44: {=+INDEX(Tabela1[],slownik!$H$8,Indeksy!B44)} -> 7643.74 | G44: =+F44*E44 -> 764.374
B46: 11. | C46: Wyliczenie potrzeb wyrównawczych
B47: 11.1. | C47: relacja wsk. zamożności jednostki do wsk. zamożności danej kategorii JST | D47: % | F47: {=+INDEX(Tabela1[],slownik!$H$8,Indeksy!B47)} -> 0.97897356
B48: 11.2. | C48: przeliczeniowa liczba ludności | F48: {=+INDEX(Tabela1[],slownik!$H$8,Indeksy!B48)} -> 3038923
B49: 11.3. | C49: Indeks bieżących potrzeb wydatkowych jednostki IPW | F49: {=+INDEX(Tabela1[],slownik!$H$8,Indeksy!B49)} -> 0.081246361
C51: Obszar / Determinanta | D51: Waga obszaru | E51: Beta | F51: cząstkowy IPW | G51: wartość determinanty
C52: Transport i łączność | D52: 0.36 | F52: {=+INDEX(TabIPW[],slownik!$H$9,Indeksy!B97)} -> 0.030537978
C53: suma dł. linii kolejowych eksploatowanych i dł. dróg wojewódzkich o naw. twardej [w km] | E53: 1 | G53: {=+INDEX(TabIPW[],slownik!$H$9,Indeksy!B98)} -> 4173.6
C54: Administracja publiczna | D54: 0.24 | F54: {=+INDEX(TabIPW[],slownik!$H$9,Indeksy!B99)} -> 0.019303186
...

Sheet Dane_baza
A1: =+COLUMN() -> 1 | B1: =+COLUMN() -> 2 | C1: =+COLUMN() -> 3 | D1: =+COLUMN() -> 4 | E1: =+COLUMN() -> 5 | F1: =+COLUMN() -> 6 | G1: =+COLUMN() -> 7 | H1: =+COLUMN() -> 8 | ... BX1: =+COLUMN() -> 76
BA2: Ekologiczna
BF3: 0.6 | BH3: 0.4 | BJ3: 1 | BK3: 0.5 | BL3: 0.25
A4: Typ JST | B4: WK | C4: PK | D4: GK | E4: GT | F4: Kod GUS | G4: Nazwa JST | H4: PIT dochody podatników 2025 | I4: Waloryzacja | J4: PIT dochody zwaloryzowane na 2027 | K4: Stawka udziału | L4: Dochód PIT naliczony na 2027 r. | M4: Kolumna1 | N4: Kolumna2 | O4: CIT dochody podatników 2025 | P4: Waloryzacja2 | Q4: CIT dochody zwaloryzowane na 2027 | R4: Stawka udziału3 | S4: Dochód CIT naliczony na 2027 r. | T4: Kolumna3 | U4: Kolumna4 | V4: Kwota kalkulacyjna 2027 | W4: Kolumna6 | X4: Potrzeby finansowe 2027 w tym: | Y4: Potrzeby wyrównawcze 2027 | Z4: Potrzeby ekologiczne 2027 | AA4: Potrzeby rozwojowe 2027 | AB4: Potrzeby oświatowe 2027 | AC4: Potrzeby uzupełniające 2027 | AD4: Subwencja 2027 | AE4: Korekta zamożności | AF4: Należny PIT 2027 | AG4: Należny CIT 2027 | AH4: Należna subwencja 2027 | AI4: Kwota kalkulacyjna 20272 | AJ4: Przyrost potrzeb finansowych | AK4: Przyrost potrzeb fin. z rozliczeniem | AL4: Przyrost kwoty kalkulacyjnej | AM4: Przyrost subwencji | AN4: Rozliczenie potrzeb oświatowych 2025 | AO4: Rozliczenie potrzeb ekologicznych 2025 | AP4: Rozliczenie potrzeb uzupełniających 2025 | AQ4: Rozliczenie 2025 potrz. fin. | AR4: Potrzeby finansowe 2027 (uwzgledniające rozliczenie potrzeb za 2025 r.) | AS4: Rozliczenie potrzeb wyrównawczych 2025 | AT4: Rozliczenie potrzeb rozwojowych 2025 | AU4: Kolumna10 | AV4: Kolumna11 | AW4: Kolumna12 | AX4: Kolumna13 | AY4: Kolumna14 | AZ4: Kolumna15 | BA4: Potrzeby ekologiczne 20272 | BB4: parki narodowe | BC4: rezerwaty | BD4: PK i OChK >5 zakazów | BE4: Natura2000 | BF4: PK i OChK >1 <5 zakazów | BG4: Potrzeby rozwojowe w części związanej z ludnością | BH4: Liczba mieszkańców 2025 | BI4: Potrzeby rozwojowe w części związanej wydatkami majątkowymi | BJ4: Wydatki majątkowe przeliczeniowe w tym: | BK4: 01_WmWlasne | BL4: 02_WmZagr | BM4: 03_WmPoz | BN4: Idywidualny wskaźnik zamożności (w %) | BO4: IPW | BP4: Ludność przeliczeniowa | BQ4: Kolumna16 | BR4: Kolumna17 | BS4: Kolumna18 | BT4: Kolumna19 | BU4: Należny PIT | BV4: Należny CIT | BW4: Należna subwencja | BX4: Dochody razem (PIT+CIT+sub)
A5: G | B5: 02 | C5: 01 | D5: 01 | E5: 1 | F5: =+Tabela1[[#This Row],[WK]]&Tabela1[[#This Row],[PK]]&Tabela1[[#This Row],[GK]] -> 020101 | G5: BOLESŁAWIEC | H5: 1.9319501e+09 | I5: 1.125 | J5: 2.1734438e+09 | K5: 0.07 | L5: 152141068 | O5: 3.0109718e+08 | P5: 1.125 | Q5: 3.3873433e+08 | R5: 0.016 | S5: 5419749 | V5: 84306094 | X5: 80506431 | Y5: 0 | Z5: 0 | AA5: 6763023 | AB5: 73743408 | AC5: 0 | AD5: 4482901 | AE5: 0 | AF5: 152141068 | AG5: 5419749 | AH5: 4482901 | AI5: 84306094 | AJ5: 1875128 | AK5: 1986099 | AL5: 4495230 | AM5: -2509131 | AN5: 110971 | AO5: 0 | AP5: 0 | AQ5: 110971 | AR5: =Tabela1[[#This Row],[Potrzeby finansowe 2027 w tym:]]+Tabela1[[#This Row],[Rozliczenie 2025 potrz. fin.]] -> 80617402 | AS5: 0 | AT5: 0 | BA5: 0 | BB5: 0 | BC5: 0 | BD5: 0 | BE5: 0 | BF5: 0 | BG5: 3899589 | BH5: 36642 | BI5: 2863434 | BJ5: 44001937 | BK5: 29722415 | BL5: 17593503 | BM5: 21931082 | BN5: 1.0322375 | BO5: 0.0014947641 | BP5: 37591 | BU5: 152141068 | BV5: 5419749 | BW5: 4482901 | BX5: 162043718
A6: G | B6: 02 | C6: 01 | D6: 02 | E6: 2 | F6: =+Tabela1[[#This Row],[WK]]&Tabela1[[#This Row],[PK]]&Tabela1[[#This Row],[GK]] -> 020102 | G6: BOLESŁAWIEC | H6: 7.3338796e+08 | I6: 1.125 | J6: 8.2506146e+08 | K6: 0.07 | L6: 57754302 | O6: 18491616 | P6: 1.125 | Q6: 20803068 | R6: 0.016 | S6: 332849 | V6: 31098676 | X6: 38059785 | Y6: 0 | Z6: 651901 | AA6: 2308567 | AB6: 30479355 | AC6: 4619962 | AD6: 7944588 | AE6: 0 | AF6: 57754302 | AG6: 332849 | AH6: 7944588 | AI6: 31098676 | AJ6: 3155682 | AK6: 3500312 | AL6: 2172170 | AM6: 1328142 | AN6: 1817571 | AO6: 0 | AP6: -1472941 | AQ6: 344630 | AR6: =Tabela1[[#This Row],[Potrzeby finansowe 2027 w tym:]]+Tabela1[[#This Row],[Rozliczenie 2025 potrz. fin.]] -> 38404415 | AS6: 0 | AT6: 0 | BA6: 651901 | BB6: 0 | BC6: 0 | BD6: 0 | BE6: 13062.83 | BF6: 0 | BG6: 1639568 | BH6: 15406 | BI6: 668999 | BJ6: 10280405 | BK6: 6144835.5 | BL6: 3842438.8 | BM6: 8857400 | BN6: 1.0942559 | BO6: 0.0005763623 | BP6: 14495 | BU6: 57754302 | BV6: 332849 | BW6: 7944588 | BX6: 66031739
A7: G | B7: 02 | C7: 01 | D7: 03 | E7: 2 | F7: =+Tabela1[[#This Row],[WK]]&Tabela1[[#This Row],[PK]]&Tabela1[[#This Row],[GK]] -> 020103 | G7: GROMADKA | H7: 2.4392251e+08 | I7: 1.125 | J7: 2.7441283e+08 | K7: 0.07 | L7: 19208898 | O7: 66298868 | P7: 1.125 | Q7: 74586227 | R7: 0.016 | S7: 1193380 | V7: 12785414 | X7: 14700797 | Y7: 0 | Z7: 1816794 | AA7: 1269714 | AB7: 8509520 | AC7: 3104769 | AD7: 3432090 | AE7: 8459815 | AF7: 14181173 | AG7: 1193380 | AH7: 0 | AI7: 12785414 | AJ7: 540011 | AK7: 651452 | AL7: 722775 | AM7: -71323 | AN7: 179681 | AO7: 0 | AP7: -68240 | AQ7: 111441 | AR7: =Tabela1[[#This Row],[Potrzeby finansowe 2027 w tym:]]+Tabela1[[#This Row],[Rozliczenie 2025 potrz. fin.]] -> 14812238 | AS7: 0 | AT7: 0 | BA7: 1816794 | BB7: 0 | BC7: 210.81 | BD7: 11763.53 | BE7: 11472.58 | BF7: 0 | BG7: 524032 | BH7: 4924 | BI7: 745682 | BJ7: 11458777 | BK7: 8509061.5 | BL7: 2269349.4 | BM7: 7260162.4 | BN7: 1.8126876 | BO7: 0.0001915619 | BP7: 4818 | BU7: 14181173 | BV7: 1193380 | BW7: 0 | BX7: 15374553
A8: G | B8: 02 | C8: 01 | D8: 04 | E8: 3 | F8: =+Tabela1[[#This Row],[WK]]&Tabela1[[#This Row],[PK]]&Tabela1[[#This Row],[GK]] -> 020104 | G8: NOWOGRODZIEC | H8: 5.3193574e+08 | I8: 1.125 | J8: 5.9842771e+08 | K8: 0.07 | L8: 41889940 | O8: 1.4222529e+08 | P8: 1.125 | Q8: 1.6000345e+08 | R8: 0.016 | S8: 2560055 | V8: 28894703 | X8: 37625644 | Y8: 0 | Z8: 134089 | AA8: 2247594 | AB8: 30429961 | AC8: 4814000 | AD8: 8730942 | AE8: 0 | AF8: 41889940 | AG8: 2560055 | AH8: 8730942 | AI8: 28894703 | AJ8: 2255512 | AK8: 2255512 | AL8: 2874666 | AM8: -619154 | AN8: -104774 | AO8: 0 | AP8: 104774 | AQ8: 0 | AR8: =Tabela1[[#This Row],[Potrzeby finansowe 2027 w tym:]]+Tabela1[[#This Row],[Rozliczenie 2025 potrz. fin.]] -> 37625644 | AS8: 0 | AT8: 0 | BA8: 134089 | BB8: 0 | BC8: 3.38 | BD8: 0 | BE8: 2664.36 | BF8: 0 | BG8: 1534101 | BH8: 14415 | BI8: 713493 | BJ8: 10964137 | BK8: 8416919.5 | BL8: 522124.15 | BM8: 9144623.4 | BN8: 1.1056135 | BO8: 0.0005342889 | BP8: 13436 | BU8: 41889940 | BV8: 2560055 | BW8: 8730942 | BX8: 53180937
A9: G | B9: 02 | C9: 01 | D9: 05 | E9: 2 | F9: =+Tabela1[[#This Row],[WK]]&Tabela1[[#This Row],[PK]]&Tabela1[[#This Row],[GK]] -> 020105 | G9: OSIECZNICA | H9: 3.087085e+08 | I9: 1.125 | J9: 3.4729707e+08 | K9: 0.07 | L9: 24310795 | O9: 23352268 | P9: 1.125 | Q9: 26271302 | R9: 0.016 | S9: 420341 | V9: 14661797 | X9: 22784041 | Y9: 0 | Z9: 2179521 | AA9: 1454373 | AB9: 17033028 | AC9: 2117119 | AD9: 8122244 | AE9: 0 | AF9: 24310795 | AG9: 420341 | AH9: 8122244 | AI9: 14661797 | AJ9: 1096861 | AK9: 1096861 | AL9: 796534 | AM9: 300327 | AN9: 76540 | AO9: 0 | AP9: -76540 | AQ9: 0 | AR9: =Tabela1[[#This Row],[Potrzeby finansowe 2027 w tym:]]+Tabela1[[#This Row],[Rozliczenie 2025 potrz. fin.]] -> 22784041 | AS9: 0 | AT9: 0 | BA9: 2179521 | BB9: 0 | BC9: 0 | BD9: 0 | BE9: 43673.4 | BF9: 0 | BG9: 760507 | BH9: 7146 | BI9: 693866 | BJ9: 10662532 | BK9: 8051383.1 | BL9: 168877.93 | BM9: 10106840 | BN9: 1.0090186 | BO9: 0.0003007311 | BP9: 7563 | BU9: 24310795 | BV9: 420341 | BW9: 8122244 | BX9: 32853380
A10: G | B10: 02 | C10: 01 | D10: 06 | E10: 2 | F10: =+Tabela1[[#This Row],[WK]]&Tabela1[[#This Row],[PK]]&Tabela1[[#This Row],[GK]] -> 020106 | G10: WARTA BOLESŁAWIECKA | H10: 3.7059185e+08 | I10: 1.125 | J10: 4.1691583e+08 | K10: 0.07 | L10: 29184108 | O10: 23061369 | P10: 1.125 | Q10: 25944040 | R10: 0.016 | S10: 415105 | V10: 19009658 | X10: 27919476 | Y10: 2203300 | Z10: 55794 | AA10: 1252214 | AB10: 18722022 | AC10: 5686146 | AD10: 8909818 | AE10: 0 | AF10: 29184108 | AG10: 415105 | AH10: 8909818 | AI10: 19009658 | AJ10: 2474028 | AK10: 2474028 | AL10: 1039363 | AM10: 1434665 | AN10: -873899 | AO10: 0 | AP10: 873899 | AQ10: 0 | AR10: =Tabela1[[#This Row],[Potrzeby finansowe 2027 w tym:]]+Tabela1[[#This Row],[Rozliczenie 2025 potrz. fin.]] -> 27919476 | AS10: 0 | AT10: 0 | BA10: 55794 | BB10: 0 | BC10: 0 | BD10: 559 | BE10: 0 | BF10: 0 | BG10: 888109 | BH10: 8345 | BI10: 364105 | BJ10: 5595141.8 | BK10: 3191687.4 | BL10: 804679.53 | BM10: 8004458.7 | BN10: 0.94166923 | BO10: 0.0003501915 | BP10: 8807 | BU10: 29184108 | BV10: 415105 | BW10: 8909818 | BX10: 38509031
A11: G | B11: 02 | C11: 02 | D11: 01 | E11: 1 | F11: =+Tabela1[[#This Row],[WK]]&Tabela1[[#This Row],[PK]]&Tabela1[[#This Row],[GK]] -> 020201 | G11: BIELAWA | H11: 1.1835972e+09 | I11: 1.125 | J11: 1.3315468e+09 | K11: 0.07 | L11: 93208277 | O11: 1.1963066e+08 | P11: 1.125 | Q11: 1.3458449e+08 | R11: 0.016 | S11: 2153352 | V11: 56222395 | X11: 77704056 | Y11: 13993801 | Z11: 133112 | AA11: 5059494 | AB11: 49228133 | AC11: 9289516 | AD11: 21481661 | AE11: 0 | AF11: 93208277 | AG11: 2153352 | AH11: 21481661 | AI11: 56222395 | AJ11: 937187 | AK11: 937187 | AL11: 3362367 | AM11: -2425180 | AN11: -289711 | AO11: 0 | AP11: 289711 | AQ11: 0 | AR11: =Tabela1[[#This Row],[Potrzeby finansowe 2027 w tym:]]+Tabela1[[#This Row],[Rozliczenie 2025 potrz. fin.]] -> 77704056 | AS11: 0 | AT11: 0 | BA11: 133112 | BB11: 0 | BC11: 28.21 | BD11: 1237.67 | BE11: 3.91 | BF11: 0 | BG11: 2924532 | BH11: 27480 | BI11: 2134962 | BJ11: 32807623 | BK11: 22147669 | BL11: 7840772.6 | BM11: 26958270 | BN11: 0.86946271 | BO11: 0.0009939102 | BP11: 24995 | BU11: 93208277 | BV11: 2153352 | BW11: 21481661 | BX11: 116843290
A12: G | B12: 02 | C12: 02 | D12: 02 | E12: 1 | F12: =+Tabela1[[#This Row],[WK]]&Tabela1[[#This Row],[PK]]&Tabela1[[#This Row],[GK]] -> 020202 | G12: DZIERŻONIÓW | H12: 1.442165e+09 | I12: 1.125 | J12: 1.6224357e+09 | K12: 0.07 | L12: 113570496 | O12: 3.1626088e+08 | P12: 1.125 | Q12: 3.5579349e+08 | R12: 0.016 | S12: 5692696 | V12: 66343031 | X12: 60708192 | Y12: 0 | Z12: 0 | AA12: 5035853 | AB12: 55672339 | AC12: 0 | AD12: 4283965 | AE12: 0 | AF12: 113570496 | AG12: 5692696 | AH12: 4283965 | AI12: 66343031 | AJ12: 3978965 | AK12: 4873772 | AL12: 3525563 | AM12: 1348209 | AN12: 894807 | AO12: 0 | AP12: 0 | AQ12: 894807 | AR12: =Tabela1[[#This Row],[Potrzeby finansowe 2027 w tym:]]+Tabela1[[#This Row],[Rozliczenie 2025 potrz. fin.]] -> 61602999 | AS12: 0 | AT12: 0 | BA12: 0 | BB12: 0 | BC12: 0 | BD12: 0 | BE12: 0 | BF12: 0 | BG12: 3194210 | BH12: 30014 | BI12: 1841643 | BJ12: 28300229 | BK12: 19842837 | BL12: 2998730.2 | BM12: 27832107 | BN12: 1.0411013 | BO12: 0.001125373 | BP12: 28301 | BU12: 113570496 | BV12: 5692696 | BW12: 4283965 | BX12: 123547157
A13: G | B13: 02 | C13: 02 | D13: 03 | E13: 3 | F13: =+Tabela1[[#This Row],[WK]]&Tabela1[[#This Row],[PK]]&Tabela1[[#This Row],[GK]] -> 020203 | G13: PIESZYCE | H13: 3.5750333e+08 | I13: 1.125 | J13: 4.0219125e+08 | K13: 0.07 | L13: 28153387 | O13: 31370170 | P13: 1.125 | Q13: 35291441 | R13: 0.016 | S13: 564663 | V13: 15634713 | X13: 23158101 | Y13: 6492965 | Z13: 316587 | AA13: 1454134 | AB13: 13636022 | AC13: 1258393 | AD13: 7523388 | AE13: 0 | AF13: 28153387 | AG13: 564663 | AH13: 7523388 | AI13: 15634713 | AJ13: 1733489 | AK13: 1733489 | AL13: 541031 | AM13: 1192458 | AN13: -1109299 | AO13: 0 | AP13: 1109299 | AQ13: 0 | AR13: =Tabela1[[#This Row],[Potrzeby finansowe 2027 w tym:]]+Tabela1[[#This Row],[Rozliczenie 2025 potrz. fin.]] -> 23158101 | AS13: 0 | AT13: 0 | BA13: 316587 | BB13: 0 | BC13: 0 | BD13: 3129.03 | BE13: 85.73 | BF13: 0 | BG13: 938553 | BH13: 8819 | BI13: 515581 | BJ13: 7922846.6 | BK13: 2872821.1 | BL13: 3572427.5 | BM13: 13055247 | BN13: 0.82206243 | BO13: 0.0003383466 | BP13: 8508 | BU13: 28153387 | BV13: 564663 | BW13: 7523388 | BX13: 36241438
A14: G | B14: 02 | C14: 02 | D14: 04 | E14: 1 | F14: =+Tabela1[[#This Row],[WK]]&Tabela1[[#This Row],[PK]]&Tabela1[[#This Row],[GK]] -> 020204 | G14: PIŁAWA GÓRNA | H14: 2.2622965e+08 | I14: 1.125 | J14: 2.5450836e+08 | K14: 0.07 | L14: 17815585 | O14: 11483134 | P14: 1.125 | Q14: 12918526 | R14: 0.016 | S14: 206696 | V14: 11765276 | X14: 17513898 | Y14: 6029012 | Z14: 1923 | AA14: 949403 | AB14: 8000215 | AC14: 2533345 | AD14: 5748622 | AE14: 0 | AF14: 17815585 | AG14: 206696 | AH14: 5748622 | AI14: 11765276 | AJ14: 1626869 | AK14: 1626869 | AL14: 358714 | AM14: 1268155 | AN14: 0 | AO14: 0 | AP14: 0 | AQ14: 0 | AR14: =Tabela1[[#This Row],[Potrzeby finansowe 2027 w tym:]]+Tabela1[[#This Row],[Rozliczenie 2025 potrz. fin.]] -> 17513898 | AS14: 0 | AT14: 0 | BA14: 1923 | BB14: 0 | BC14: 0 | BD14: 0 | BE14: 38.53 | BF14: 0 | BG14: 612257 | BH14: 5753 | BI14: 337146 | BJ14: 5180868.7 | BK14: 2767879.2 | BL14: 1724697.7 | BM14: 6202562.3 | BN14: 0.76573869 | BO14: 0.0002301825 | BP14: 5789 | BU14: 17815585 | BV14: 206696 | BW14: 5748622 | BX14: 23770903
A15: G | B15: 02 | C15: 02 | D15: 05 | E15: 2 | F15: =+Tabela1[[#This Row],[WK]]&Tabela1[[#This Row],[PK]]&Tabela1[[#This Row],[GK]] -> 020205 | G15: DZIERŻONIÓW | H15: 3.8821648e+08 | I15: 1.125 | J15: 4.3674354e+08 | K15: 0.07 | L15: 30572048 | O15: 29592541 | P15: 1.125 | Q15: 33291609 | R15: 0.016 | S15: 532666 | V15: 18404349 | X15: 23243727 | Y15: 0 | Z15: 103719 | AA15: 1607215 | AB15: 14222750 | AC15: 7310043 | AD15: 6027215 | AE15: 0 | AF15: 30572048 | AG15: 532666 | AH15: 6027215 | AI15: 18404349 | AJ15: 571637 | AK15: 464722 | AL15: 1639233 | AM15: -1174511 | AN15: -106915 | AO15: 0 | AP15: 0 | AQ15: -106915 | AR15: =Tabela1[[#This Row],[Potrzeby finansowe 2027 w tym:]]+Tabela1[[#This Row],[Rozliczenie 2025 potrz. fin.]] -> 23136812 | AS15: 0 | AT15: 0 | BA15: 103719 | BB15: 0 | BC15: 0 | BD15: 568.36 | BE15: 941.27 | BF15: 0.5 | BG15: 958880 | BH15: 9010 | BI15: 648335 | BJ15: 9962858.9 | BK15: 6856222.1 | BL15: 2624175.2 | BM15: 7178196.9 | BN15: 1.125169 | BO15: 0.0002968944 | BP15: 7466 | BU15: 30572048 | BV15: 532666 | BW15: 6027215 | BX15: 37131929
A16: G | B16: 02 | C16: 02 | D16: 06 | E16: 2 | F16: =+Tabela1[[#This Row],[WK]]&Tabela1[[#This Row],[PK]]&Tabela1[[#This Row],[GK]] -> 020206 | G16: ŁAGIEWNIKI | H16: 2.9923184e+08 | I16: 1.125 | J16: 3.3663582e+08 | K16: 0.07 | L16: 23564507 | O16: 18795163 | P16: 1.125 | Q16: 21144559 | R16: 0.016 | S16: 338313 | V16: 15231851 | X16: 26171550 | Y16: 0 | Z16: 179251 | AA16: 1423198 | AB16: 15820298 | AC16: 8748803 | AD16: 10939699 | AE16: 0 | AF16: 23564507 | AG16: 338313 | AH16: 10939699 | AI16: 15231851 | AJ16: 1005916 | AK16: 1005916 | AL16: 1045134 | AM16: -39218 | AN16: -157845 | AO16: 0 | AP16: 157845 | AQ16: 0 | AR16: =Tabela1[[#This Row],[Potrzeby finansowe 2027 w tym:]]+Tabela1[[#This Row],[Rozliczenie 2025 potrz. fin.]] -> 26171550 | AS16: 0 | AT16: 0 | BA16: 179251 | BB16: 0 | BC16: 44.2 | BD16: 0 | BE16: 3080.5 | BF16: 325.01 | BG16: 743585 | BH16: 6987 | BI16: 679613 | BJ16: 10443500 | BK16: 5879302.6 | BL16: 3881040.4 | BM16: 10494708 | BN16: 1.0233289 | BO16: 0.0002322001 | BP16: 5839 | BU16: 23564507 | BV16: 338313 | BW16: 10939699 | BX16: 34842519
... A2417: G | B2417: 32 | C2417: 18 | D2417: 05 | E2417: 3 | F2417: =+Tabela1[[#This Row],[WK]]&Tabela1[[#This Row],[PK]]&Tabela1[[#This Row],[GK]] -> 321805 | G2417: WĘGORZYNO | H2417: 2.2222616e+08 | I2417: 1.125 | J2417: 2.5000443e+08 | K2417: 0.07 | L2417: 17500310 | O2417: 25035699 | P2417: 1.125 | Q2417: 28165161 | R2417: 0.016 | S2417: 450643 | V2417: 11883354 | X2417: 17252779 | Y2417: 1849533 | Z2417: 1437363 | AA2417: 1009443 | AB2417: 9178042 | AC2417: 3778398 | AD2417: 5369425 | AE2417: 0 | AF2417: 17500310 | AG2417: 450643 | AH2417: 5369425 | AI2417: 11883354 | AJ2417: -79613 | AK2417: -79613 | AL2417: 749260 | AM2417: -828873 | AN2417: -594318 | AO2417: 0 | AP2417: 594318 | AQ2417: 0 | AR2417: =Tabela1[[#This Row],[Potrzeby finansowe 2027 w tym:]]+Tabela1[[#This Row],[Rozliczenie 2025 potrz. fin.]] -> 17252779 | AS2417: 0 | AT2417: 0 | BA2417: 1437363 | BB2417: 0 | BC2417: 102.63 | BD2417: 2604.41 | BE2417: 22908.96 | BF2417: 0 | BG2417: 658658 | BH2417: 6189 | BI2417: 350785 | BJ2417: 5390455.9 | BK2417: 3215156.2 | BL2417: 1044533.8 | BM2417: 6612130.9 | BN2417: 0.9266482 | BO2417: 0.0002337595 | BP2417: 5879 | BU2417: 17500310 | BV2417: 450643 | BW2417: 5369425 | BX2417: 23320378
A2418: Mnpp | B2418: 02 | C2418: 61 | F2418: =+Tabela1[[#This Row],[WK]]&Tabela1[[#This Row],[PK]]&Tabela1[[#This Row],[GK]] -> 0261 | G2418: Jelenia Góra | H2418: 3.9153342e+09 | I2418: 1.125 | J2418: 4.4047509e+09 | K2418: 0.086 | L2418: 378808582 | O2418: 9.3096291e+08 | P2418: 1.125 | Q2418: 1.0473333e+09 | R2418: 0.022 | S2418: 23041332 | V2418: 218724338 | X2418: 306727819 | Y2418: 0 | Z2418: 1235684 | AA2418: 15645201 | AB2418: 263323991 | AC2418: 26522943 | AD2418: 88003481 | AE2418: 0 | AF2418: 378808582 | AG2418: 23041332 | AH2418: 88003481 | AI2418: 218724338 | AJ2418: 13894236 | AK2418: 13894236 | AL2418: 12987893 | AM2418: 906343 | AN2418: -3015251 | AO2418: 0 | AP2418: 3015251 | AQ2418: 0 | AR2418: =Tabela1[[#This Row],[Potrzeby finansowe 2027 w tym:]]+Tabela1[[#This Row],[Rozliczenie 2025 potrz. fin.]] -> 306727819 | AS2418: 0 | AT2418: 0 | BA2418: 1235684 | BB2418: 1712.84 | BC2418: 0 | BD2418: 470.42 | BE2418: 982.02 | BF2418: 0 | BG2418: 10224684 | BH2418: 73470 | BI2418: 5420517 | BJ2418: 69657243 | BK2418: 43610167 | BL2418: 33503487 | BM2418: 37181330 | BN2418: 0.9070416 | BO2418: 0.0052908172 | BP2418: 64552 | BU2418: 378808582 | BV2418: 23041332 | BW2418: 88003481 | BX2418: 489853395
A2419: Mnpp | B2419: 02 | C2419: 62 | F2419: =+Tabela1[[#This Row],[WK]]&Tabela1[[#This Row],[PK]]&Tabela1[[#This Row],[GK]] -> 0262 | G2419: Legnica | H2419: 5.2765976e+09 | I2419: 1.125 | J2419: 5.9361723e+09 | K2419: 0.086 | L2419: 510510822 | O2419: 1.3547446e+09 | P2419: 1.125 | Q2419: 1.5240877e+09 | R2419: 0.022 | S2419: 33529929 | V2419: 283914834 | X2419: 338506302 | Y2419: 0 | Z2419: 0 | AA2419: 19521346 | AB2419: 307697830 | AC2419: 11287126 | AD2419: 54591469 | AE2419: 0 | AF2419: 510510822 | AG2419: 33529929 | AH2419: 54591469 | AI2419: 283914834 | AJ2419: 4389714 | AK2419: 4389714 | AL2419: 15197826 | AM2419: -10808112 | AN2419: -3514418 | AO2419: 0 | AP2419: 3514418 | AQ2419: 0 | AR2419: =Tabela1[[#This Row],[Potrzeby finansowe 2027 w tym:]]+Tabela1[[#This Row],[Rozliczenie 2025 potrz. fin.]] -> 338506302 | AS2419: 0 | AT2419: 0 | BA2419: 0 | BB2419: 0 | BC2419: 0 | BD2419: 0 | BE2419: 0 | BF2419: 0 | BG2419: 12513862 | BH2419: 89919 | BI2419: 7007484 | BJ2419: 90050812 | BK2419: 77000557 | BL2419: 3979656.6 | BM2419: 44241707 | BN2419: 0.91434678 | BO2419: 0.0071443161 | BP2419: 87166 | BU2419: 510510822 | BV2419: 33529929 | BW2419: 54591469 | BX2419: 598632220
A2420: Mnpp | B2420: 02 | C2420: 64 | F2420: =+Tabela1[[#This Row],[WK]]&Tabela1[[#This Row],[PK]]&Tabela1[[#This Row],[GK]] -> 0264 | G2420: Wrocław | H2420: 4.8876478e+10 | I2420: 1.125 | J2420: 5.4986038e+10 | K2420: 0.086 | L2420: 4728799265 | O2420: 2.1179859e+10 | P2420: 1.125 | Q2420: 2.3827341e+10 | R2420: 0.022 | S2420: 524201502 | V2420: 2211671063 | X2420: 2256219724 | Y2420: 0 | Z2420: 151131 | AA2420: 160349605 | AB2420: 2095718988 | AC2420: 0 | AD2420: 203383202 | AE2420: 0 | AF2420: 4728799265 | AG2420: 524201502 | AH2420: 203383202 | AI2420: 2211671063 | AJ2420: 167884272 | AK2420: 210944506 | AL2420: 131950497 | AM2420: 78994009 | AN2420: 43060234 | AO2420: 0 | AP2420: 0 | AQ2420: 43060234 | AR2420: =Tabela1[[#This Row],[Potrzeby finansowe 2027 w tym:]]+Tabela1[[#This Row],[Rozliczenie 2025 potrz. fin.]] -> 2299279958 | AS2420: 0 | AT2420: 0 | BA2420: 151131 | BB2420: 0 | BC2420: 0 | BD2420: 567.21 | BE2420: 1893.95 | BF2420: 0 | BG2420: 93604646 | BH2420: 672601 | BI2420: 66744959 | BJ2420: 8.57717e+08 | BK2420: 7.5863753e+08 | BL2420: 1.492463e+08 | BM2420: 97825270 | BN2420: 1.1348692 | BO2420: 0.052202922 | BP2420: 636914 | BU2420: 4728799265 | BV2420: 524201502 | BW2420: 203383202 | BX2420: 5456383969
A2421: Mnpp | B2421: 02 | C2421: 65 | F2421: =+Tabela1[[#This Row],[WK]]&Tabela1[[#This Row],[PK]]&Tabela1[[#This Row],[GK]] -> 0265 | G2421: Wałbrzych | H2421: 4.7922861e+09 | I2421: 1.125 | J2421: 5.3913218e+09 | K2421: 0.086 | L2421: 463653676 | O2421: 7.0262254e+08 | P2421: 1.125 | Q2421: 7.9045036e+08 | R2421: 0.022 | S2421: 17389908 | V2421: 281256180 | X2421: 400342844 | Y2421: 20376596 | Z2421: 217801 | AA2421: 22527590 | AB2421: 284599642 | AC2421: 72621215 | AD2421: 119086664 | AE2421: 0 | AF2421: 463653676 | AG2421: 17389908 | AH2421: 119086664 | AI2421: 281256180 | AJ2421: 32433242 | AK2421: 32433242 | AL2421: 12583259 | AM2421: 19849983 | AN2421: 10009589 | AO2421: 0 | AP2421: -10009589 | AQ2421: 0 | AR2421: =Tabela1[[#This Row],[Potrzeby finansowe 2027 w tym:]]+Tabela1[[#This Row],[Rozliczenie 2025 potrz. fin.]] -> 400342844 | AS2421: 0 | AT2421: 0 | BA2421: 217801 | BB2421: 0 | BC2421: 229.01 | BD2421: 1196.94 | BE2421: 437.15 | BF2421: 9.81 | BG2421: 13575297 | BH2421: 97546 | BI2421: 8952293 | BJ2421: 1.1504291e+08 | BK2421: 69542620 | BL2421: 53037106 | BM2421: 75926928 | BN2421: 0.77326616 | BO2421: 0.0072923589 | BP2421: 88973 | BU2421: 463653676 | BV2421: 17389908 | BW2421: 119086664 | BX2421: 600130248
A2422: Mnpp | B2422: 04 | C2422: 61 | F2422: =+Tabela1[[#This Row],[WK]]&Tabela1[[#This Row],[PK]]&Tabela1[[#This Row],[GK]] -> 0461 | G2422: Bydgoszcz | H2422: 1.8540141e+10 | I2422: 1.125 | J2422: 2.0857659e+10 | K2422: 0.086 | L2422: 1793758645 | O2422: 5.1384246e+09 | P2422: 1.125 | Q2422: 5.7807277e+09 | R2422: 0.022 | S2422: 127176008 | V2422: 990878369 | X2422: 1257587842 | Y2422: 0 | Z2422: 479789 | AA2422: 72314834 | AB2422: 1154052495 | AC2422: 30740724 | AD2422: 268468747 | AE2422: 0 | AF2422: 1793758645 | AG2422: 127176008 | AH2422: 268468747 | AI2422: 990878369 | AJ2422: 98428734 | AK2422: 100188008 | AL2422: 56261092 | AM2422: 43926916 | AN2422: 26284459 | AO2422: 0 | AP2422: -24525185 | AQ2422: 1759274 | AR2422: =Tabela1[[#This Row],[Potrzeby finansowe 2027 w tym:]]+Tabela1[[#This Row],[Rozliczenie 2025 potrz. fin.]] -> 1259347116 | AS2422: 0 | AT2422: 0 | BA2422: 479789 | BB2422: 0 | BC2422: 0 | BD2422: 4320.1 | BE2422: 973.84 | BF2422: 0 | BG2422: 44686897 | BH2422: 321100 | BI2422: 27627937 | BJ2422: 3.5503731e+08 | BK2422: 2.1205874e+08 | BL2422: 2.6140506e+08 | BM2422: 49104162 | BN2422: 0.96452585 | BO2422: 0.023291704 | BP2422: 284176 | BU2422: 1793758645 | BV2422: 127176008 | BW2422: 268468747 | BX2422: 2189403400
A2423: Mnpp | B2423: 04 | C2423: 62 | F2423: =+Tabela1[[#This Row],[WK]]&Tabela1[[#This Row],[PK]]&Tabela1[[#This Row],[GK]] -> 0462 | G2423: Grudziądz | H2423: 4.0376704e+09 | I2423: 1.125 | J2423: 4.5423792e+09 | K2423: 0.086 | L2423: 390644614 | O2423: 6.8874305e+08 | P2423: 1.125 | Q2423: 7.7483593e+08 | R2423: 0.022 | S2423: 17046390 | V2423: 235006021 | X2423: 516696964 | Y2423: 136132142 | Z2423: 138710 | AA2423: 19570318 | AB2423: 360855794 | AC2423: 0 | AD2423: 292680177 | AE2423: 0 | AF2423: 390644614 | AG2423: 17046390 | AH2423: 292680177 | AI2423: 235006021 | AJ2423: 28641894 | AK2423: 39631128 | AL2423: 12619137 | AM2423: 27011991 | AN2423: 10989234 | AO2423: 0 | AP2423: 0 | AQ2423: 10989234 | AR2423: =Tabela1[[#This Row],[Potrzeby finansowe 2027 w tym:]]+Tabela1[[#This Row],[Rozliczenie 2025 potrz. fin.]] -> 527686198 | AS2423: 0 | AT2423: 0 | BA2423: 138710 | BB2423: 0 | BC2423: 0 | BD2423: 1213.18 | BE2423: 353.13 | BF2423: 0 | BG2423: 12081328 | BH2423: 86811 | BI2423: 7488990 | BJ2423: 96238486 | BK2423: 72118667 | BL2423: 23981525 | BM2423: 48516226 | BN2423: 0.63234896 | BO2423: 0.0077689715 | BP2423: 94787 | BU2423: 390644614 | BV2423: 17046390 | BW2423: 292680177 | BX2423: 700371181
A2424: Mnpp | B2424: 04 | C2424: 63 | F2424: =+Tabela1[[#This Row],[WK]]&Tabela1[[#This Row],[PK]]&Tabela1[[#This Row],[GK]] -> 0463 | G2424: Toruń | H2424: 1.0647611e+10 | I2424: 1.125 | J2424: 1.1978563e+10 | K2424: 0.086 | L2424: 1030156398 | O2424: 3.2814089e+09 | P2424: 1.125 | Q2424: 3.691585e+09 | R2424: 0.022 | S2424: 81214871 | V2424: 540611606 | X2424: 750258548 | Y2424: 0 | Z2424: 156342 | AA2424: 45386966 | AB2424: 686191641 | AC2424: 18523599 | AD2424: 209646941 | AE2424: 0 | AF2424: 1030156398 | AG2424: 81214871 | AH2424: 209646941 | AI2424: 540611606 | AJ2424: 52226239 | AK2424: 52226239 | AL2424: 29241827 | AM2424: 22984412 | AN2424: 8400000 | AO2424: 0 | AP2424: -8400000 | AQ2424: 0 | AR2424: =Tabela1[[#This Row],[Potrzeby finansowe 2027 w tym:]]+Tabela1[[#This Row],[Rozliczenie 2025 potrz. fin.]] -> 750258548 | AS2424: 0 | AT2424: 0 | BA2424: 156342 | BB2424: 0 | BC2424: 46.69 | BD2424: 678.32 | BE2424: 1464.88 | BF2424: 0 | BG2424: 26829396 | BH2424: 192784 | BI2424: 18557570 | BJ2424: 2.3847708e+08 | BK2424: 1.9038221e+08 | BL2424: 22001493 | BM2424: 1.4837648e+08 | BN2424: 0.88779224 | BO2424: 0.014814368 | BP2424: 180747 | BU2424: 1030156398 | BV2424: 81214871 | BW2424: 209646941 | BX2424: 1321018210
A2425: Mnpp | B2425: 04 | C2425: 64 | F2425: =+Tabela1[[#This Row],[WK]]&Tabela1[[#This Row],[PK]]&Tabela1[[#This Row],[GK]] -> 0464 | G2425: Włocławek | H2425: 4.8478448e+09 | I2425: 1.125 | J2425: 5.4538254e+09 | K2425: 0.086 | L2425: 469028981 | O2425: 1.1151816e+09 | P2425: 1.125 | Q2425: 1.2545793e+09 | R2425: 0.022 | S2425: 27600745 | V2425: 270883788 | X2425: 363638481 | Y2425: 0 | Z2425: 83481 | AA2425: 22551923 | AB2425: 341003077 | AC2425: 0 | AD2425: 92551659 | AE2425: 0 | AF2425: 469028981 | AG2425: 27600745 | AH2425: 92551659 | AI2425: 270883788 | AJ2425: 20802190 | AK2425: 20599156 | AL2425: 9075379 | AM2425: 11523777 | AN2425: -203034 | AO2425: 0 | AP2425: 0 | AQ2425: -203034 | AR2425: =Tabela1[[#This Row],[Potrzeby finansowe 2027 w tym:]]+Tabela1[[#This Row],[Rozliczenie 2025 potrz. fin.]] -> 363435447 | AS2425: 0 | AT2425: 0 | BA2425: 83481 | BB2425: 0 | BC2425: 50.88 | BD2425: 16.06 | BE2425: 1301.47 | BF2425: 0 | BG2425: 13643768 | BH2425: 98038 | BI2425: 8908155 | BJ2425: 1.1447571e+08 | BK2425: 84482155 | BL2425: 32823194 | BM2425: 54327818 | BN2425: 0.83065119 | BO2425: 0.0082805693 | BP2425: 101029 | BU2425: 469028981 | BV2425: 27600745 | BW2425: 92551659 | BX2425: 589181385
A2426: Mnpp | B2426: 06 | C2426: 61 | F2426: =+Tabela1[[#This Row],[WK]]&Tabela1[[#This Row],[PK]]&Tabela1[[#This Row],[GK]] -> 0661 | G2426: Biała Podlaska | H2426: 2.7544577e+09 | I2426: 1.125 | J2426: 3.0987649e+09 | K2426: 0.086 | L2426: 266493782 | O2426: 4.4457261e+08 | P2426: 1.125 | Q2426: 5.0014418e+08 | R2426: 0.022 | S2426: 11003172 | V2426: 152287036 | X2426: 291718519 | Y2426: 37285092 | Z2426: 0 | AA2426: 11464361 | AB2426: 238684919 | AC2426: 4284147 | AD2426: 139431483 | AE2426: 0 | AF2426: 266493782 | AG2426: 11003172 | AH2426: 139431483 | AI2426: 152287036 | AJ2426: 23759743 | AK2426: 23759743 | AL2426: 7765308 | AM2426: 15994435 | AN2426: 71646 | AO2426: 0 | AP2426: -71646 | AQ2426: 0 | AR2426: =Tabela1[[#This Row],[Potrzeby finansowe 2027 w tym:]]+Tabela1[[#This Row],[Rozliczenie 2025 potrz. fin.]] -> 291718519 | AS2426: 0 | AT2426: 0 | BA2426: 0 | BB2426: 0 | BC2426: 0 | BD2426: 0 | BE2426: 0 | BF2426: 0 | BG2426: 7441321 | BH2426: 53470 | BI2426: 4023040 | BJ2426: 51698735 | BK2426: 33629889 | BL2426: 22659064 | BM2426: 26957256 | BN2426: 0.72364624 | BO2426: 0.0046720787 | BP2426: 57003 | BU2426: 266493782 | BV2426: 11003172 | BW2426: 139431483 | BX2426: 416928437
A2427: Mnpp | B2427: 06 | C2427: 62 | F2427: =+Tabela1[[#This Row],[WK]]&Tabela1[[#This Row],[PK]]&Tabela1[[#This Row],[GK]] -> 0662 | G2427: Chełm | H2427: 2.7110744e+09 | I2427: 1.125 | J2427: 3.0499587e+09 | K2427: 0.086 | L2427: 262296446 | O2427: 3.6987719e+08 | P2427: 1.125 | Q2427: 4.1611184e+08 | R2427: 0.022 | S2427: 9154461 | V2427: 153565130 | X2427: 301387164 | Y2427: 29242834 | Z2427: 374 | AA2427: 13210358 | AB2427: 253808057 | AC2427: 5125541 | AD2427: 150340182 | AE2427: 0 | AF2427: 262296446 | AG2427: 9154461 | AH2427: 150340182 | AI2427: 153565130 | AJ2427: 29352143 | AK2427: 31870290 | AL2427: 6035086 | AM2427: 25835204 | AN2427: 3647120 | AO2427: 0 | AP2427: -1128973 | AQ2427: 2518147 | AR2427: =Tabela1[[#This Row],[Potrzeby finansowe 2027 w tym:]]+Tabela1[[#This Row],[Rozliczenie 2025 potrz. fin.]] -> 303905311 | AS2427: 0 | AT2427: 0 | BA2427: 374 | BB2427: 0 | BC2427: 1.12 | BD2427: 0.01 | BE2427: 0 | BF2427: 0 | BG2427: 7746239 | BH2427: 55661 | BI2427: 5464119 | BJ2427: 70217553 | BK2427: 42772217 | BL2427: 17930869 | BM2427: 73919604 | BN2427: 0.73732041 | BO2427: 0.0044637574 | BP2427: 54461 | BU2427: 262296446 | BV2427: 9154461 | BW2427: 150340182 | BX2427: 421791089
A2428: Mnpp | B2428: 06 | C2428: 63 | F2428: =+Tabela1[[#This Row],[WK]]&Tabela1[[#This Row],[PK]]&Tabela1[[#This Row],[GK]] -> 0663 | G2428: Lublin | H2428: 1.9061091e+10 | I2428: 1.125 | J2428: 2.1443728e+10 | K2428: 0.086 | L2428: 1844160593 | O2428: 7.2100385e+09 | P2428: 1.125 | Q2428: 8.1112934e+09 | R2428: 0.022 | S2428: 178448454 | V2428: 974483537 | X2428: 1299981906 | Y2428: 0 | Z2428: 280550 | AA2428: 67722924 | AB2428: 1228382808 | AC2428: 3595624 | AD2428: 338792757 | AE2428: 0 | AF2428: 1844160593 | AG2428: 178448454 | AH2428: 338792757 | AI2428: 974483537 | AJ2428: 83520146 | AK2428: 96814533 | AL2428: 64512180 | AM2428: 32302353 | AN2428: 13294387 | AO2428: 0 | AP2428: 0 | AQ2428: 13294387 | AR2428: =Tabela1[[#This Row],[Potrzeby finansowe 2027 w tym:]]+Tabela1[[#This Row],[Rozliczenie 2025 potrz. fin.]] -> 1313276293 | AS2428: 0 | AT2428: 0 | BA2428: 280550 | BB2428: 0 | BC2428: 25.07 | BD2428: 2717.86 | BE2428: 18.83 | BF2428: 0 | BG2428: 45464151 | BH2428: 326685 | BI2428: 22258773 | BJ2428: 2.8603999e+08 | BK2428: 2.2961923e+08 | BL2428: 74121806 | BM2428: 77439432 | BN2428: 0.89215224 | BO2428: 0.026314206 | BP2428: 321053 | BU2428: 1844160593 | BV2428: 178448454 | BW2428: 338792757 | BX2428: 2361401804
