{"text_format":"1","workbook":"xlsx","n_sheets":5,"sheets":["Arkusz1","1a. Zdarzenia wg rodzaju % ","C. Informacja o działaniach SP","1a. Zdarzenia wg rodzaju ","SKKW"],"not_rendered":{"charts":0,"images":1,"macros":1,"external_links":0,"defined_names":2,"comments":0,"pivot_tables":0},"unopened":[],"bounds":{"document_bytes":16777216,"sheet_cells":100000,"rows_first":2000,"rows_last":500,"rows_between":2000,"halvings":0,"cell_chars":16384,"cell_head_chars":4096},"cells_cut":0,"cells_raw":0,"read":"whole","date_system":"1900"}

{"sheet":"Arkusz1","index":0,"n_rows":28,"n_cols":10,"rows_kept":28,"cut":false,"hidden":false,"merged":[]}
[null,null,"Rodzaj zdarzenia"]
[null,null,"Ogółem zdarzeń",null,"Pożary",null,"Miejscowe zagrożenia",null,"Alarmy fałszywe"]
[null,null,"rok",null,"rok",null,"rok",null,"rok"]
["LP.","Podział administracyjny",2022,2023,2022,2023,2022,2023,2022,2023]
[1,"KUJAWSKO-POMORSKIE",37660,28780,6478,5593,28605,20893,2577,2294]
[2,"aleksandrowski",1193,730,173,189,899,474,121,67]
[12,"brodnicki",1534,1065,250,176,1205,816,79,73]
[23,"bydgoski",2216,1574,426,353,1732,1153,58,68]
[32,"Bydgoszcz",3495,2664,663,597,2386,1655,446,412]
[34,"chełmiński",1212,801,181,132,1000,630,31,39]
[42,"golubsko-dobrzyński",1059,788,155,131,877,626,27,31]
[49,"Grudziądz",1403,1271,227,212,1027,907,149,152]
[51,"grudziądzki",1415,1036,191,138,1200,878,24,20]
[58,"inowrocławski",2606,1822,451,390,1982,1269,173,163]
[68,"lipnowski",1301,1137,309,245,956,857,36,35]
[78,"mogileński",1114,832,118,141,960,646,36,45]
[83,"nakielski",1608,1347,273,233,1276,1049,59,65]
[89,"radziejowski",1015,908,133,129,834,725,48,54]
[97,"rypiński",940,853,151,125,752,684,37,44]
[104,"sępoleński",937,729,117,101,803,604,17,24]
[109,"świecki",1869,1403,423,366,1369,961,77,76]
[121,"Toruń",2701,2019,607,479,1571,1112,523,428]
[123,"toruński",2558,1986,423,435,1991,1455,144,96]
[133,"tucholski",1247,991,156,130,1028,832,63,29]
[140,"wąbrzeski",947,683,123,101,797,552,27,30]
[146,"Włocławek",1377,1189,318,268,889,741,170,180]
[148,"włocławski",2098,1578,379,342,1622,1168,97,68]
[162,"żniński",1815,1374,231,180,1449,1099,135,95]

{"sheet":"1a. Zdarzenia wg rodzaju % ","index":1,"n_rows":25,"n_cols":11,"rows_kept":25,"cut":false,"hidden":false,"merged":[[24,3,24,4],[24,5,24,6],[23,3,23,7],[0,2,1,2],[0,1,1,1],[0,3,0,4],[0,5,0,6],[0,7,0,8],[0,9,0,10]]}
[null,"LP.","Podział administracyjny","Ogółem zdarzeń",null,"Pożary",null,"Miejscowe zagrożenia",null,"Alarmy fałszywe"]
[null,null,null,"interwencji","%","interwencji","%","interwencji","%","interwencji","%"]
[null,"1.","KUIAWSKO-POMORSKIE",{"$f":"SUM(D4:D22)","v":0},1,{"$f":"SUM(F4:F22)","v":67300},1,{"$f":"SUM(H4:H22)","v":37962},1,{"$f":"SUM(J4:J22)","v":0},1]
[null,"2.","aleksandrowski",{"$f":"Arkusz1!R5","v":0},{"$f":"SUM(D4/$D$3)","v":{"$error":"#DIV/0!"}},{"$f":"Arkusz1!C5","v":37660},{"$f":"SUM(F4/$F$3)","v":0.55958395245170878},{"$f":"Arkusz1!H5","v":20893},{"$f":"SUM(H4/$H$3)","v":0.55036615562931357},{"$f":"Arkusz1!N5","v":0},{"$f":"SUM(J4/$J$3)","v":{"$error":"#DIV/0!"}}]
[null,"3.","brodnicki",{"$f":"Arkusz1!R6","v":0},{"$f":"SUM(D5/$D$3)","v":{"$error":"#DIV/0!"}},{"$f":"Arkusz1!C6","v":1193},{"$f":"SUM(F5/$F$3)","v":1.7726597325408617E-2},{"$f":"Arkusz1!H6","v":474},{"$f":"SUM(H5/$H$3)","v":1.2486170380907224E-2},{"$f":"Arkusz1!N6","v":0},{"$f":"SUM(J5/$J$3)","v":{"$error":"#DIV/0!"}}]
[null,"4.","bydgoski",{"$f":"Arkusz1!R7","v":0},{"$f":"SUM(D6/$D$3)","v":{"$error":"#DIV/0!"}},{"$f":"Arkusz1!C7","v":1534},2.2793462109955424E-2,{"$f":"Arkusz1!H7","v":816},2.1495179389916231E-2,{"$f":"Arkusz1!N7","v":0},{"$error":"#DIV/0!"}]
[null,"5.","chełmiński",{"$f":"Arkusz1!R8","v":0},{"$error":"#DIV/0!"},{"$f":"Arkusz1!C8","v":2216},3.2927191679049034E-2,{"$f":"Arkusz1!H8","v":1153},3.0372477740898792E-2,{"$f":"Arkusz1!N8","v":0},{"$error":"#DIV/0!"}]
[null,"6.","golubsko-dobrzyński",{"$f":"Arkusz1!R9","v":0},{"$error":"#DIV/0!"},{"$f":"Arkusz1!C9","v":3495},5.1931649331352157E-2,{"$f":"Arkusz1!H9","v":1655},4.3596227806754123E-2,{"$f":"Arkusz1!N9","v":0},{"$error":"#DIV/0!"}]
[null,"7.","grudziądzki",{"$f":"Arkusz1!R10","v":0},{"$error":"#DIV/0!"},{"$f":"Arkusz1!C10","v":1212},1.800891530460624E-2,{"$f":"Arkusz1!H10","v":630},1.6595542911332386E-2,{"$f":"Arkusz1!N10","v":0},{"$error":"#DIV/0!"}]
[null,"8.","inowrocławski",{"$f":"Arkusz1!R11","v":0},{"$error":"#DIV/0!"},{"$f":"Arkusz1!C11","v":1059},1.573551263001486E-2,{"$f":"Arkusz1!H11","v":626},1.6490174384911228E-2,{"$f":"Arkusz1!N11","v":0},{"$error":"#DIV/0!"}]
[null,"9.","lipnowski",{"$f":"Arkusz1!R12","v":0},{"$error":"#DIV/0!"},{"$f":"Arkusz1!C12","v":1403},2.0846953937592869E-2,{"$f":"Arkusz1!H12","v":907},2.3892313365997578E-2,{"$f":"Arkusz1!N12","v":0},{"$error":"#DIV/0!"}]
[null,"10.","mogileński",{"$f":"Arkusz1!R13","v":0},{"$error":"#DIV/0!"},{"$f":"Arkusz1!C13","v":1415},2.1025260029717684E-2,{"$f":"Arkusz1!H13","v":878},2.3128391549444183E-2,{"$f":"Arkusz1!N13","v":0},{"$error":"#DIV/0!"}]
[null,"11.","nakielski",{"$f":"Arkusz1!R14","v":0},{"$error":"#DIV/0!"},{"$f":"Arkusz1!C14","v":2606},3.8722139673105498E-2,{"$f":"Arkusz1!H14","v":1269},3.3428165007112376E-2,{"$f":"Arkusz1!N14","v":0},{"$error":"#DIV/0!"}]
[null,"12.","radziejowski",{"$f":"Arkusz1!R15","v":0},{"$error":"#DIV/0!"},{"$f":"Arkusz1!C15","v":1301},1.9331352154531946E-2,{"$f":"Arkusz1!H15","v":857},2.2575206785733101E-2,{"$f":"Arkusz1!N15","v":0},{"$error":"#DIV/0!"}]
[null,"13.","rypiński",{"$f":"Arkusz1!R16","v":0},{"$error":"#DIV/0!"},{"$f":"Arkusz1!C16","v":1114},1.6552748885586926E-2,{"$f":"Arkusz1!H16","v":646},1.7017017017017019E-2,{"$f":"Arkusz1!N16","v":0},{"$error":"#DIV/0!"}]
[null,"14.","sępoleński",{"$f":"Arkusz1!R17","v":0},{"$error":"#DIV/0!"},{"$f":"Arkusz1!C17","v":1608},2.3893016344725113E-2,{"$f":"Arkusz1!H17","v":1049},2.7632896053948686E-2,{"$f":"Arkusz1!N17","v":0},{"$error":"#DIV/0!"}]
[null,"15.","świecki",{"$f":"Arkusz1!R18","v":0},{"$error":"#DIV/0!"},{"$f":"Arkusz1!C18","v":1015},1.5081723625557207E-2,{"$f":"Arkusz1!H18","v":725},1.9098045413834887E-2,{"$f":"Arkusz1!N18","v":0},{"$error":"#DIV/0!"}]
[null,"16.","toruński",{"$f":"Arkusz1!R4","v":0},{"$error":"#DIV/0!"},{"$f":"Arkusz1!C4","v":2022},3.0044576523031205E-2,{"$f":"Arkusz1!H4","v":2023},5.3290132237500662E-2,{"$f":"Arkusz1!N4","v":0},{"$error":"#DIV/0!"}]
[null,"17.","tucholski",{"$f":"Arkusz1!R$19","v":0},{"$error":"#DIV/0!"},{"$f":"Arkusz1!C19","v":940},1.3967310549777118E-2,{"$f":"Arkusz1!H19","v":684},1.8018018018018018E-2,{"$f":"Arkusz1!N19","v":0},{"$error":"#DIV/0!"}]
[null,"18.","wąbrzeski",{"$f":"Arkusz1!R20","v":0},{"$error":"#DIV/0!"},{"$f":"Arkusz1!C20","v":937},1.3922734026745914E-2,{"$f":"Arkusz1!H20","v":604},1.5910647489594858E-2,{"$f":"Arkusz1!N20","v":0},{"$error":"#DIV/0!"}]
[null,"19.","włocławski",{"$f":"Arkusz1!R21","v":0},{"$error":"#DIV/0!"},{"$f":"Arkusz1!C21","v":1869},2.7771173848439822E-2,{"$f":"Arkusz1!H21","v":961},2.531478847268321E-2,{"$f":"Arkusz1!N21","v":0},{"$error":"#DIV/0!"}]
[null,"20.","żniński",{"$f":"Arkusz1!R22","v":0},{"$f":"SUM(D22/D3)","v":{"$error":"#DIV/0!"}},{"$f":"Arkusz1!C22","v":2701},{"$f":"SUM(F22/F3)","v":4.0133729569093612E-2},{"$f":"Arkusz1!H22","v":1112},{"$f":"SUM(H22/H3)","v":2.9292450345081922E-2},{"$f":"Arkusz1!N22","v":0},{"$f":"SUM(J22/J3)","v":{"$error":"#DIV/0!"}}]
[]
[null,null,"Sporządził:",{"$f":"INDEX(SKKW!A1:A9,SKKW!B1,1)","v":"st. kpt. Krzysztof Kuczborski "}]
[null,null,"Za okres:","2023-01-01T11:03:00"]

{"sheet":"C. Informacja o działaniach SP","index":2,"n_rows":42,"n_cols":18,"rows_kept":42,"cut":false,"hidden":false,"merged":[[20,1,21,1],[20,0,21,0],[20,14,20,17],[20,6,20,9],[20,2,20,5],[20,10,20,13],[17,0,17,17]]}
[]
[]
[]
[]
[]
[]
[]
[]
[]
[]
[]
[]
[]
[]
[]
[]
[]
["Liczba interwencji straży pożarnych w woj. kujawsko-pomorskim w 2023 r. - podział na powiaty"]
[]
[]
["LP.","Podział administracyjny","Ogółem zdarzeń",null,null,null,"Pożary",null,null,null,"Miejscowe zagrożenia",null,null,null,"Alarmy fałszywe"]
[null,null,{"$f":"Arkusz1!$I$4","v":2022},{"$f":"Arkusz1!$J$4","v":2023},"Różnica","%",{"$f":"Arkusz1!$I$4","v":2022},{"$f":"Arkusz1!$J$4","v":2023},"Różnica ","%",{"$f":"Arkusz1!$I$4","v":2022},{"$f":"Arkusz1!$J$4","v":2023},"Różnica ","%",{"$f":"Arkusz1!$I$4","v":2022},{"$f":"Arkusz1!$J$4","v":2023},"Różnica ","%"]
["1.","KUJAWSKO-POMORSKIE",{"$f":"SUM(C24:C42)","v":37660},{"$f":"SUM(D24:D42)","v":28780},{"$f":"SUM(D23-C23)","v":-8880},{"$f":"SUM(D23-C23)/C23","v":-0.23579394583112057},{"$f":"SUM(G24:G42)","v":6478},{"$f":"SUM(H24:H42)","v":5593},{"$f":"SUM(H23-G23)","v":-885},{"$f":"SUM(H23-G23)/G23","v":-0.13661623958011732},{"$f":"SUM(K24:K42)","v":28605},{"$f":"SUM(L24:L42)","v":20893},{"$f":"SUM(L23-K23)","v":-7712},{"$f":"SUM(L23-K23)/K23","v":-0.26960321622094041},{"$f":"SUM(O24:O42)","v":2577},{"$f":"SUM(P24:P42)","v":2294},{"$f":"SUM(P23-O23)","v":-283},{"$f":"SUM(P23-O23)/O23","v":-0.10981761738455569}]
["2.","aleksandrowski",{"$f":"Arkusz1!C6","v":1193},{"$f":"Arkusz1!D6","v":730},{"$f":"SUM(D24-C24)","v":-463},{"$f":"SUM(D24-C24)/C24","v":-0.38809723386420786},{"$f":"Arkusz1!E6","v":173},{"$f":"Arkusz1!F6","v":189},{"$f":"SUM(H24-G24)","v":16},{"$f":"SUM(H24-G24)/G24","v":9.2485549132947972E-2},{"$f":"Arkusz1!G6","v":899},{"$f":"Arkusz1!H6","v":474},{"$f":"SUM(L24-K24)","v":-425},{"$f":"SUM(L24-K24)/K24","v":-0.4727474972191324},{"$f":"Arkusz1!I6","v":121},{"$f":"Arkusz1!J6","v":67},{"$f":"SUM(P24-O24)","v":-54},{"$f":"SUM(P24-O24)/O24","v":-0.4462809917355372}]
["3.","brodnicki",{"$f":"Arkusz1!C7","v":1534},{"$f":"Arkusz1!D7","v":1065},-469,-0.30573663624511083,{"$f":"Arkusz1!E7","v":250},{"$f":"Arkusz1!F7","v":176},-74,-0.29599999999999999,{"$f":"Arkusz1!G7","v":1205},{"$f":"Arkusz1!H7","v":816},-389,-0.3228215767634855,{"$f":"Arkusz1!I7","v":79},{"$f":"Arkusz1!J7","v":73},-6,-7.5949367088607597E-2]
["4.","bydgoski",{"$f":"Arkusz1!C8+Arkusz1!C9","v":5711},{"$f":"Arkusz1!D8+Arkusz1!D9","v":4238},-1473,-0.25792330590089302,{"$f":"Arkusz1!E8+Arkusz1!E9","v":1089},{"$f":"Arkusz1!F8+Arkusz1!F9","v":950},-139,-0.12764003673094582,{"$f":"Arkusz1!G8+Arkusz1!G9","v":4118},{"$f":"Arkusz1!H8+Arkusz1!H9","v":2808},-1310,-0.3181155900922778,{"$f":"Arkusz1!I8+Arkusz1!I9","v":504},{"$f":"Arkusz1!J8+Arkusz1!J9","v":480},-24,-4.7619047619047616E-2]
["5.","chełmiński",{"$f":"Arkusz1!C10","v":1212},{"$f":"Arkusz1!D10","v":801},-411,-0.33910891089108913,{"$f":"Arkusz1!E10","v":181},{"$f":"Arkusz1!F10","v":132},-49,-0.27071823204419887,{"$f":"Arkusz1!G10","v":1000},{"$f":"Arkusz1!H10","v":630},-370,-0.37,{"$f":"Arkusz1!I10","v":31},{"$f":"Arkusz1!J10","v":39},8,0.25806451612903225]
["6.","golubsko-dobrzyński",{"$f":"Arkusz1!C11","v":1059},{"$f":"Arkusz1!D11","v":788},-271,-0.25590179414542019,{"$f":"Arkusz1!E11","v":155},{"$f":"Arkusz1!F11","v":131},-24,-0.15483870967741936,{"$f":"Arkusz1!G11","v":877},{"$f":"Arkusz1!H11","v":626},-251,-0.2862029646522235,{"$f":"Arkusz1!I11","v":27},{"$f":"Arkusz1!J11","v":31},4,0.14814814814814814]
["7.","grudziądzki",{"$f":"Arkusz1!C12+Arkusz1!C13","v":2818},{"$f":"Arkusz1!D12+Arkusz1!D13","v":2307},-511,-0.18133427963094392,{"$f":"Arkusz1!E12+Arkusz1!E13","v":418},{"$f":"Arkusz1!F12+Arkusz1!F13","v":350},-68,-0.16267942583732056,{"$f":"Arkusz1!G12+Arkusz1!G13","v":2227},{"$f":"Arkusz1!H12+Arkusz1!H13","v":1785},-442,-0.19847328244274809,{"$f":"Arkusz1!I12+Arkusz1!I13","v":173},{"$f":"Arkusz1!J12+Arkusz1!J13","v":172},-1,-5.7803468208092483E-3]
["8.","inowrocławski",{"$f":"Arkusz1!C14","v":2606},{"$f":"Arkusz1!D14","v":1822},-784,-0.30084420567920184,{"$f":"Arkusz1!E14","v":451},{"$f":"Arkusz1!F14","v":390},-61,-0.1352549889135255,{"$f":"Arkusz1!G14","v":1982},{"$f":"Arkusz1!H14","v":1269},-713,-0.35973763874873865,{"$f":"Arkusz1!I14","v":173},{"$f":"Arkusz1!J14","v":163},-10,-5.7803468208092484E-2]
["9.","lipnowski",{"$f":"Arkusz1!C15","v":1301},{"$f":"Arkusz1!D15","v":1137},-164,-0.12605687932359724,{"$f":"Arkusz1!E15","v":309},{"$f":"Arkusz1!F15","v":245},-64,-0.20711974110032363,{"$f":"Arkusz1!G15","v":956},{"$f":"Arkusz1!H15","v":857},-99,-0.10355648535564854,{"$f":"Arkusz1!I15","v":36},{"$f":"Arkusz1!J15","v":35},-1,-2.7777777777777776E-2]
["10.","mogileński",{"$f":"Arkusz1!C16","v":1114},{"$f":"Arkusz1!D16","v":832},-282,-0.25314183123877915,{"$f":"Arkusz1!E16","v":118},{"$f":"Arkusz1!F16","v":141},23,0.19491525423728814,{"$f":"Arkusz1!G16","v":960},{"$f":"Arkusz1!H16","v":646},-314,-0.32708333333333334,{"$f":"Arkusz1!I16","v":36},{"$f":"Arkusz1!J16","v":45},9,0.25]
["11.","nakielski",{"$f":"Arkusz1!C17","v":1608},{"$f":"Arkusz1!D17","v":1347},-261,-0.16231343283582089,{"$f":"Arkusz1!E17","v":273},{"$f":"Arkusz1!F17","v":233},-40,-0.14652014652014653,{"$f":"Arkusz1!G17","v":1276},{"$f":"Arkusz1!H17","v":1049},-227,-0.17789968652037619,{"$f":"Arkusz1!I17","v":59},{"$f":"Arkusz1!J17","v":65},6,0.10169491525423729]
["12.","radziejowski",{"$f":"Arkusz1!C18","v":1015},{"$f":"Arkusz1!D18","v":908},-107,-0.10541871921182266,{"$f":"Arkusz1!E18","v":133},{"$f":"Arkusz1!F18","v":129},-4,-3.007518796992481E-2,{"$f":"Arkusz1!G18","v":834},{"$f":"Arkusz1!H18","v":725},-109,-0.13069544364508393,{"$f":"Arkusz1!I18","v":48},{"$f":"Arkusz1!J18","v":54},6,0.125]
["13.","rypiński",{"$f":"Arkusz1!C19","v":940},{"$f":"Arkusz1!D19","v":853},-87,-9.2553191489361697E-2,{"$f":"Arkusz1!E19","v":151},{"$f":"Arkusz1!F19","v":125},-26,-0.17218543046357615,{"$f":"Arkusz1!G19","v":752},{"$f":"Arkusz1!H19","v":684},-68,-9.0425531914893623E-2,{"$f":"Arkusz1!I19","v":37},{"$f":"Arkusz1!J19","v":44},7,0.1891891891891892]
["14.","sępoleński",{"$f":"Arkusz1!C20","v":937},{"$f":"Arkusz1!D20","v":729},-208,-0.22198505869797225,{"$f":"Arkusz1!E20","v":117},{"$f":"Arkusz1!F20","v":101},-16,-0.13675213675213677,{"$f":"Arkusz1!G20","v":803},{"$f":"Arkusz1!H20","v":604},-199,-0.24782067247820672,{"$f":"Arkusz1!I20","v":17},{"$f":"Arkusz1!J20","v":24},7,0.41176470588235292]
["15.","świecki",{"$f":"Arkusz1!C21","v":1869},{"$f":"Arkusz1!D21","v":1403},-466,-0.24933119315141786,{"$f":"Arkusz1!E21","v":423},{"$f":"Arkusz1!F21","v":366},-57,-0.13475177304964539,{"$f":"Arkusz1!G21","v":1369},{"$f":"Arkusz1!H21","v":961},-408,-0.29802775748721694,{"$f":"Arkusz1!I21","v":77},{"$f":"Arkusz1!J21","v":76},-1,-1.2987012987012988E-2]
["16.","toruński",{"$f":"Arkusz1!C22+Arkusz1!C23","v":5259},{"$f":"Arkusz1!D22+Arkusz1!D23","v":4005},-1254,-0.23844837421563034,{"$f":"Arkusz1!E22+Arkusz1!E23","v":1030},{"$f":"Arkusz1!F22+Arkusz1!F23","v":914},-116,-0.11262135922330097,{"$f":"Arkusz1!G22+Arkusz1!G23","v":3562},{"$f":"Arkusz1!H22+Arkusz1!H23","v":2567},-995,-0.2793374508702976,{"$f":"Arkusz1!I22+Arkusz1!I23","v":667},{"$f":"Arkusz1!J22+Arkusz1!J23","v":524},-143,-0.2143928035982009]
["17.","tucholski",{"$f":"Arkusz1!C24","v":1247},{"$f":"Arkusz1!D24","v":991},-256,-0.20529270248596632,{"$f":"Arkusz1!E24","v":156},{"$f":"Arkusz1!F24","v":130},-26,-0.16666666666666666,{"$f":"Arkusz1!G24","v":1028},{"$f":"Arkusz1!H24","v":832},-196,-0.19066147859922178,{"$f":"Arkusz1!I24","v":63},{"$f":"Arkusz1!J24","v":29},-34,-0.53968253968253965]
["18.","wąbrzeski",{"$f":"Arkusz1!C25","v":947},{"$f":"Arkusz1!D25","v":683},-264,-0.27877507919746569,{"$f":"Arkusz1!E25","v":123},{"$f":"Arkusz1!F25","v":101},-22,-0.17886178861788618,{"$f":"Arkusz1!G25","v":797},{"$f":"Arkusz1!H25","v":552},-245,-0.30740276035131742,{"$f":"Arkusz1!I25","v":27},{"$f":"Arkusz1!J25","v":30},3,0.1111111111111111]
["19.","włocławski",{"$f":"Arkusz1!C26+Arkusz1!C27","v":3475},{"$f":"Arkusz1!D26+Arkusz1!D27","v":2767},-708,-0.20374100719424459,{"$f":"Arkusz1!E26+Arkusz1!E27","v":697},{"$f":"Arkusz1!F26+Arkusz1!F27","v":610},-87,-0.12482065997130559,{"$f":"Arkusz1!G26+Arkusz1!G27","v":2511},{"$f":"Arkusz1!H26+Arkusz1!H27","v":1909},-602,-0.23974512146555157,{"$f":"Arkusz1!I26+Arkusz1!I27","v":267},{"$f":"Arkusz1!J26+Arkusz1!J27","v":248},-19,-7.116104868913857E-2]
["20.","żniński",{"$f":"Arkusz1!C28","v":1815},{"$f":"Arkusz1!D28","v":1374},-441,-0.24297520661157024,{"$f":"Arkusz1!E28","v":231},{"$f":"Arkusz1!F28","v":180},-51,-0.22077922077922077,{"$f":"Arkusz1!G28","v":1449},{"$f":"Arkusz1!H28","v":1099},-350,-0.24154589371980675,{"$f":"Arkusz1!I28","v":135},{"$f":"Arkusz1!J28","v":95},-40,-0.29629629629629628]

{"sheet":"1a. Zdarzenia wg rodzaju ","index":3,"n_rows":25,"n_cols":9,"rows_kept":25,"cut":false,"hidden":true,"merged":[[23,2,23,5],[0,2,1,2],[0,1,1,1],[0,0,1,0],[24,2,24,8],[0,3,0,4],[0,5,0,6],[0,7,0,8]]}
["LP.","Podział administracyjny","Ogółem zdarzeń","Pożary",null,"Miejscowe zagrożenia",null,"Alarmy fałszywe"]
[null,null,null,"interwencji","%","interwencji","%","interwencji","%"]
["1.","KUIAWSKO-POMORSKIE",{"$f":"SUM(C4:C22)","v":0},{"$f":"SUM(D4:D22)","v":67300},{"$f":"SUM(D3/C3)","v":{"$error":"#DIV/0!"}},{"$f":"SUM(F4:F22)","v":37962},{"$f":"SUM(F3/C3)","v":{"$error":"#DIV/0!"}},{"$f":"SUM(H4:H22)","v":0},{"$f":"SUM(H3/C3)","v":{"$error":"#DIV/0!"}}]
["2.","aleksandrowski",{"$f":"Arkusz1!R5","v":0},{"$f":"Arkusz1!C5","v":37660},{"$f":"SUM(D4/C4)","v":{"$error":"#DIV/0!"}},{"$f":"Arkusz1!H5","v":20893},{"$f":"SUM(F4/C4)","v":{"$error":"#DIV/0!"}},{"$f":"Arkusz1!N5","v":0},{"$f":"SUM(H4/C4)","v":{"$error":"#DIV/0!"}}]
["3.","brodnicki",{"$f":"Arkusz1!R6","v":0},{"$f":"Arkusz1!C6","v":1193},{"$f":"SUM(D5/C5)","v":{"$error":"#DIV/0!"}},{"$f":"Arkusz1!H6","v":474},{"$f":"SUM(F5/C5)","v":{"$error":"#DIV/0!"}},{"$f":"Arkusz1!N6","v":0},{"$f":"SUM(H5/C5)","v":{"$error":"#DIV/0!"}}]
["4.","bydgoski",{"$f":"Arkusz1!R7","v":0},{"$f":"Arkusz1!C7","v":1534},{"$error":"#DIV/0!"},{"$f":"Arkusz1!H7","v":816},{"$error":"#DIV/0!"},{"$f":"Arkusz1!N7","v":0},{"$error":"#DIV/0!"}]
["5.","chełmiński",{"$f":"Arkusz1!R8","v":0},{"$f":"Arkusz1!C8","v":2216},{"$error":"#DIV/0!"},{"$f":"Arkusz1!H8","v":1153},{"$error":"#DIV/0!"},{"$f":"Arkusz1!N8","v":0},{"$error":"#DIV/0!"}]
["6.","golubsko-dobrzyński",{"$f":"Arkusz1!R9","v":0},{"$f":"Arkusz1!C9","v":3495},{"$error":"#DIV/0!"},{"$f":"Arkusz1!H9","v":1655},{"$error":"#DIV/0!"},{"$f":"Arkusz1!N9","v":0},{"$error":"#DIV/0!"}]
["7.","grudziądzki",{"$f":"Arkusz1!R10","v":0},{"$f":"Arkusz1!C10","v":1212},{"$error":"#DIV/0!"},{"$f":"Arkusz1!H10","v":630},{"$error":"#DIV/0!"},{"$f":"Arkusz1!N10","v":0},{"$error":"#DIV/0!"}]
["8.","inowrocławski",{"$f":"Arkusz1!R11","v":0},{"$f":"Arkusz1!C11","v":1059},{"$error":"#DIV/0!"},{"$f":"Arkusz1!H11","v":626},{"$error":"#DIV/0!"},{"$f":"Arkusz1!N11","v":0},{"$error":"#DIV/0!"}]
["9.","lipnowski",{"$f":"Arkusz1!R12","v":0},{"$f":"Arkusz1!C12","v":1403},{"$error":"#DIV/0!"},{"$f":"Arkusz1!H12","v":907},{"$error":"#DIV/0!"},{"$f":"Arkusz1!N12","v":0},{"$error":"#DIV/0!"}]
["10.","mogileński",{"$f":"Arkusz1!R13","v":0},{"$f":"Arkusz1!C13","v":1415},{"$error":"#DIV/0!"},{"$f":"Arkusz1!H13","v":878},{"$error":"#DIV/0!"},{"$f":"Arkusz1!N13","v":0},{"$error":"#DIV/0!"}]
["11.","nakielski",{"$f":"Arkusz1!R14","v":0},{"$f":"Arkusz1!C14","v":2606},{"$error":"#DIV/0!"},{"$f":"Arkusz1!H14","v":1269},{"$error":"#DIV/0!"},{"$f":"Arkusz1!N14","v":0},{"$error":"#DIV/0!"}]
["12.","radziejowski",{"$f":"Arkusz1!R15","v":0},{"$f":"Arkusz1!C15","v":1301},{"$error":"#DIV/0!"},{"$f":"Arkusz1!H15","v":857},{"$error":"#DIV/0!"},{"$f":"Arkusz1!N15","v":0},{"$error":"#DIV/0!"}]
["13.","rypiński",{"$f":"Arkusz1!R16","v":0},{"$f":"Arkusz1!C16","v":1114},{"$error":"#DIV/0!"},{"$f":"Arkusz1!H16","v":646},{"$error":"#DIV/0!"},{"$f":"Arkusz1!N16","v":0},{"$error":"#DIV/0!"}]
["14.","sępoleński",{"$f":"Arkusz1!R17","v":0},{"$f":"Arkusz1!C17","v":1608},{"$error":"#DIV/0!"},{"$f":"Arkusz1!H17","v":1049},{"$error":"#DIV/0!"},{"$f":"Arkusz1!N17","v":0},{"$error":"#DIV/0!"}]
["15.","świecki",{"$f":"Arkusz1!R18","v":0},{"$f":"Arkusz1!C18","v":1015},{"$error":"#DIV/0!"},{"$f":"Arkusz1!H18","v":725},{"$error":"#DIV/0!"},{"$f":"Arkusz1!N18","v":0},{"$error":"#DIV/0!"}]
["16.","toruński",{"$f":"Arkusz1!R4","v":0},{"$f":"Arkusz1!C4","v":2022},{"$error":"#DIV/0!"},{"$f":"Arkusz1!H4","v":2023},{"$error":"#DIV/0!"},{"$f":"Arkusz1!N4","v":0},{"$error":"#DIV/0!"}]
["17.","tucholski",{"$f":"Arkusz1!R$19","v":0},{"$f":"Arkusz1!C19","v":940},{"$error":"#DIV/0!"},{"$f":"Arkusz1!H19","v":684},{"$error":"#DIV/0!"},{"$f":"Arkusz1!N19","v":0},{"$error":"#DIV/0!"}]
["18.","wąbrzeski",{"$f":"Arkusz1!R20","v":0},{"$f":"Arkusz1!C20","v":937},{"$error":"#DIV/0!"},{"$f":"Arkusz1!H20","v":604},{"$error":"#DIV/0!"},{"$f":"Arkusz1!N20","v":0},{"$error":"#DIV/0!"}]
["19.","włocławski",{"$f":"Arkusz1!R21","v":0},{"$f":"Arkusz1!C21","v":1869},{"$error":"#DIV/0!"},{"$f":"Arkusz1!H21","v":961},{"$error":"#DIV/0!"},{"$f":"Arkusz1!N21","v":0},{"$error":"#DIV/0!"}]
["20.","żniński",{"$f":"Arkusz1!R22","v":0},{"$f":"Arkusz1!C22","v":2701},{"$f":"SUM(D22/C22)","v":{"$error":"#DIV/0!"}},{"$f":"Arkusz1!H22","v":1112},{"$f":"SUM(F22/C22)","v":{"$error":"#DIV/0!"}},{"$f":"Arkusz1!N22","v":0},{"$f":"SUM(H22/C22)","v":{"$error":"#DIV/0!"}}]
[]
[null,"Sporządził:",{"$f":"INDEX(SKKW!A1:A9,SKKW!B1,1)","v":"st. kpt. Krzysztof Kuczborski "}]
[null,"Za okres:"]

{"sheet":"SKKW","index":4,"n_rows":12,"n_cols":2,"rows_kept":12,"cut":false,"hidden":true,"merged":[]}
["bryg. Piotr Bełcikowski ",7]
["bryg. Mariusz Kwiatkowski"]
["mł. bryg. Krzysztof Rutkowski "]
["mł. bryg. Krzysztof Arent"]
["mł. bryg. Jarosław Rębowski "]
["st. kpt. Leszek Baniecki"]
["st. kpt. Krzysztof Kuczborski "]
["st. kpt. Marcin Świtała"]
["mł. kpt. Jarosław Cechowski "]
["st. asp. Rafał Kułakowski"]
["mł. asp. Lucjan Nowosielski "]
["ogn. Marcin Guranowski "]